{"text_format":"1","workbook":"xlsx","n_sheets":36,"sheets":["GENERAL","Wizard","Tute cabrò","Buti","Cribbage","King","Skull King","Kul","Podrida","Cors","7 i mig","Black Jack","Texas","Pumba","Mus","Tarot","4 Duros","Guinyot","Tute","Julepe","Omaha","Pocha","Buti3","Truc","Escombra","Canasta","1000km","Portugués","Copo","Chinchón","9 19 29","Remigio","Whist","Manilla","Poker D","2110-2111 Wizard"],"not_rendered":{"charts":0,"images":0,"macros":1,"external_links":0,"defined_names":11,"comments":0,"pivot_tables":0},"unopened":[],"bounds":{"document_bytes":16777216,"sheet_cells":100000,"rows_first":2000,"rows_last":500,"rows_between":2000,"halvings":0,"cell_chars":16384,"cell_head_chars":4096},"cells_cut":0,"cells_raw":0,"read":"whole","date_system":"1900"}

{"sheet":"GENERAL","index":0,"n_rows":810,"n_cols":71,"rows_kept":810,"cut":false,"hidden":false,"merged":[[608,40,610,40],[575,40,577,40],[578,40,580,40],[581,40,583,40],[584,40,586,40],[599,40,601,40],[602,40,604,40],[587,40,589,40],[605,40,607,40],[590,40,592,40],[593,40,595,40],[596,40,598,40],[555,52,555,54],[566,40,568,40],[555,40,555,42],[555,43,555,45],[569,40,571,40],[555,49,555,51],[555,46,555,48],[0,0,0,2],[555,28,555,30],[572,40,574,40],[555,37,555,39],[555,10,555,12],[555,13,555,15],[53,0,53,11],[555,4,555,6],[555,22,555,24],[555,25,555,27],[555,7,555,9],[555,16,555,18],[555,19,555,21],[0,10,0,21]]}
["CLUB CONSERVADOR DE CARTES I JOCS",null,null,null,null,null,null,null,null,null,"ORDRE DARRER MES"]
[null,"Temporada 2021-22",null,null,null,null,null,null,null,null,1,"Jeff",5,"Mario",9,"Sebas",13,"Grau",17,"Mariajo",21,"Núria"]
[null,null,null,null,null,null,null,null,null,null,2,"Carles",6,"Sergi",10,"Òscar",14,"Josep",18,"Tim"]
[null,"Classificació general",null,null,null,null,null,null,null,null,3,"Ana",7,"Tito",11,"Marina",15,"Rosa Mª",19,"Gemma"]
[null,"OCTUBRE",null,null,null,null,null,null,null,null,4,"Jordi",8,"Sebas",12,"Alfred",16,"Debi",20,"Montse"]
[null,12,"Mesos"]
[{"$f":"MAX(D7:AL7)","v":110},"Timbes",null,{"$f":"+King!AO43","v":108},{"$f":"+Buti!BH42","v":110},{"$f":"+Pocha!AK40","v":0},{"$f":"+Julepe!AK39","v":0},{"$f":"+Pumba!BB40","v":83},{"$f":"+Cors!AK37","v":99},{"$f":"+Podrida!AK37","v":99},{"$f":"+Buti3!AS38","v":0},{"$f":"+Remigio!AY40","v":0},{"$f":"+Truc!AY39","v":0},{"$f":"+Texas!AM41","v":76},{"$f":"+Omaha!AG38","v":0},{"$f":"+'Black Jack'!AE35","v":76},{"$f":"+Chinchón!AP38","v":0},{"$f":"+Mus!AE38","v":76},{"$f":"+Kul!AI39","v":106},{"$f":"+Manilla!BH42","v":0},{"$f":"+Tute!BH42","v":0},{"$f":"+'4 Duros'!AM41","v":0},{"$f":"+'Skull King'!AE38","v":95},{"$f":"+Whist!BH42","v":0},{"$f":"+Wizard!BI51","v":110},{"$f":"+'Tute cabrò'!AG38","v":108},{"$f":"+Copo!AE38","v":0},{"$f":"+Escombra!AO43","v":0},{"$f":"+'1000km'!BB40","v":0},{"$f":"+Cribbage!BK45","v":109},{"$f":"+Canasta!BB40","v":0},{"$f":"+Portugués!AO43","v":0},{"$f":"+Tarot!BH42","v":0},{"$f":"+Guinyot!BB40","v":0},{"$f":"+'7 i mig'!AE35","v":76}]
[{"$f":"SUM(D8:AL8)","v":297},"Partides",null,{"$f":"+King!AO44","v":23},{"$f":"+Buti!BH43","v":45},{"$f":"+Pocha!AK41","v":0},{"$f":"+Julepe!AK40","v":0},{"$f":"+Pumba!BB41","v":4},{"$f":"+Cors!AK41","v":5},{"$f":"+Podrida!AK41","v":5},{"$f":"+Buti3!AS39","v":0},{"$f":"+Remigio!AY41","v":0},{"$f":"+Truc!AY40","v":0},{"$f":"+Texas!AM42","v":1},{"$f":"+Omaha!AG39","v":0},{"$f":"+'Black Jack'!AE39","v":1},{"$f":"+Chinchón!AP39","v":0},{"$f":"+Mus!AE39","v":1},{"$f":"+Kul!AI40","v":12},{"$f":"+Manilla!BH43","v":0},{"$f":"+Tute!BH43","v":0},{"$f":"+'4 Duros'!AM42","v":0},{"$f":"+'Skull King'!AE39","v":13},{"$f":"+Whist!BH43","v":0},{"$f":"+Wizard!BI52","v":90},{"$f":"+'Tute cabrò'!AG39","v":59},{"$f":"+Copo!AE39","v":0},{"$f":"+Escombra!AO44","v":0},{"$f":"+'1000km'!BB41","v":0},{"$f":"+Cribbage!BK46","v":37},{"$f":"+Canasta!BB41","v":0},{"$f":"+Portugués!AO44","v":0},{"$f":"+Tarot!BH43","v":0},{"$f":"+Guinyot!BB41","v":0},{"$f":"+'7 i mig'!AE39","v":1}]
[null,null,null,{"$f":"IF(SUM(D11:D582)>0,1,0)","v":{"$error":"#REF!"}},{"$f":"IF(SUM(E11:E582)>0,1,0)","v":{"$error":"#REF!"}},{"$f":"IF(SUM(F11:F582)>0,1,0)","v":{"$error":"#REF!"}},{"$f":"IF(SUM(G11:G592)>0,1,0)","v":{"$error":"#REF!"}},{"$f":"IF(SUM(H11:H400)>0,1,0)","v":{"$error":"#REF!"}},{"$f":"IF(SUM(I11:I402)>0,1,0)","v":1},null,null,{"$f":"IF(SUM(O11:O478)>0,1,0)","v":{"$error":"#REF!"}},null,null,null,null,null,null,null,null,null,null,null,null,null,null,null,null,null,null,null,null,null,null,null,null,null,{"$f":"IF(SUM(AL11:AL490)>0,1,0)","v":0}]
[null,null,"GENERAL","KING","BOTIFARRA","POCHA","JULEPE","PUMBA","CORS","PODRIDA","BUTI 3","REMIGIO","TRUC","TEXAS","OMAHA","BLACK JACK","CHINCHÓN","MUS","CUL","MANILLA","TUTE","4 DUROS","SKULL KING","WHIST","WIZARD","TUTE CABRÒ","COPO","ESCOMBRA","1000 Km","CRIBBAGE","CANASTA","PORTUGUÈS","TAROT","GUINYOT","7 i mig",null,null,"Joc 8","PARTIDES","KING","BOTIFARRA","POCHA","JULEPE","PUMBA","CORS","PODRIDA","REMIGIO","BUTI 3","TRUC","TEXAS","OMAHA","BLACK JACK","CHINCHÓN","MUS","CUL","MANILLA","TUTE","4 DUROS","SKULL KING","WHIST","WIZARD","TUTE CABRÒ","COPO","ESCOMBRA","1000 Km","CRIBBAGE","CANASTA","PORTUGUÈS","TAROT","GUINYOT","7 i mig"]
[{"$f":"RANK(C11,C$11:C$43)","v":1},"Jordi",{"$f":"SUM(D11:AL11)+AM11/10000","v":360.02833333333331},{"$f":"+King!G27","v":80},{"$f":"+Buti!I26","v":40},{"$f":"+Pocha!G24","v":0},{"$f":"+Julepe!G23","v":0},{"$f":"+Pumba!I24","v":0},{"$f":"+Cors!G24","v":0},{"$f":"+Podrida!G$24","v":0},{"$f":"+Buti3!I22","v":0},{"$f":"+Remigio!I24","v":0},{"$f":"+Truc!I23","v":0},{"$f":"+Texas!G25","v":0},{"$f":"+Omaha!G22","v":0},{"$f":"+'Black Jack'!G22","v":0},{"$f":"+Chinchón!I22","v":0},{"$f":"+Mus!G22","v":0},{"$f":"+Kul!G23","v":80},{"$f":"+Manilla!I26","v":0},{"$f":"+Tute!I26","v":0},{"$f":"+'4 Duros'!G25","v":0},{"$f":"+'Skull King'!G22","v":0},{"$f":"+Whist!I26","v":0},{"$f":"+Wizard!G35","v":0},{"$f":"+'Tute cabrò'!G22","v":80},{"$f":"+Copo!G22","v":0},{"$f":"+Escombra!G27","v":0},{"$f":"+'1000km'!I24","v":0},{"$f":"+Cribbage!C29","v":80},{"$f":"+Canasta!I24","v":0},{"$f":"+Portugués!G27","v":0},{"$f":"+Tarot!I26","v":0},{"$f":"+Guinyot!I24","v":0},{"$f":"+'7 i mig'!G22","v":0},null,null,null,{"$f":"SUM(AN11:BS11)","v":283.33333333333331},{"$f":"+King!H27","v":20.333333333333332},{"$f":"+Buti!J26","v":43},{"$f":"+Pocha!H24","v":0},{"$f":"+Julepe!H23","v":0},{"$f":"+Pumba!J24","v":0},{"$f":"+Cors!H24","v":0},{"$f":"+Podrida!H$24","v":0},{"$f":"+Remigio!J24","v":0},{"$f":"+Buti3!J22","v":0},{"$f":"+Truc!J23","v":0},{"$f":"+Texas!H25","v":0},{"$f":"+Omaha!H22","v":0},{"$f":"+'Black Jack'!H22","v":0},{"$f":"+Chinchón!J22","v":0},{"$f":"+Mus!H22","v":0},{"$f":"+Kul!H23","v":12},{"$f":"+Manilla!J26","v":0},{"$f":"+Tute!J26","v":0},{"$f":"+'4 Duros'!H25","v":0},{"$f":"+'Skull King'!H22","v":1},{"$f":"+Whist!J26","v":0},{"$f":"+Wizard!H35","v":89},{"$f":"+'Tute cabrò'!H22","v":58},{"$f":"+Copo!H22","v":0},{"$f":"+Escombra!H27","v":0},{"$f":"+'1000km'!V24","v":0},{"$f":"+Cribbage!E44","v":60},{"$f":"+Canasta!V24","v":0},{"$f":"+Portugués!D27","v":0},{"$f":"+Tarot!V26","v":0},{"$f":"+Guinyot!V24","v":0},{"$f":"+'7 i mig'!H22","v":0}]
[2,"Carles",120.06976666666667,{"$f":"+King!C27","v":0},{"$f":"+Buti!U26","v":0},{"$f":"+Pocha!O24","v":0},{"$f":"+Julepe!O23","v":0},{"$f":"+Pumba!U24","v":0},{"$f":"+Cors!O24","v":0},{"$f":"+Podrida!O$24","v":0},{"$f":"+Buti3!U22","v":0},{"$f":"+Remigio!U24","v":0},{"$f":"+Truc!U23","v":0},{"$f":"+Texas!O25","v":0},{"$f":"+Omaha!O22","v":0},{"$f":"+'Black Jack'!O22","v":0},{"$f":"+Chinchón!U22","v":0},{"$f":"+Mus!O22","v":0},{"$f":"+Kul!O23","v":0},{"$f":"+Manilla!U26","v":0},{"$f":"+Tute!U26","v":0},{"$f":"+'4 Duros'!O25","v":0},{"$f":"+'Skull King'!O22","v":40},{"$f":"+Whist!U26","v":0},{"$f":"+Wizard!Q35","v":80},{"$f":"+'Tute cabrò'!O22","v":0},{"$f":"+Copo!O22","v":0},{"$f":"+Escombra!C27","v":0},{"$f":"+'1000km'!U24","v":0},{"$f":"+Cribbage!U29","v":0},{"$f":"+Canasta!U24","v":0},{"$f":"+Portugués!C27","v":0},{"$f":"+Tarot!U26","v":0},{"$f":"+Guinyot!U24","v":0},{"$f":"+'7 i mig'!O22","v":0},null,null,null,697.66666666666663,{"$f":"+King!D27","v":2.6666666666666665},{"$f":"+Buti!V26","v":1},{"$f":"+Pocha!P24","v":0},{"$f":"+Julepe!P23","v":0},{"$f":"+Pumba!V24","v":0},{"$f":"+Cors!P24","v":0},{"$f":"+Podrida!P$24","v":0},{"$f":"+Remigio!V24","v":0},{"$f":"+Buti3!V22","v":0},{"$f":"+Truc!V23","v":0},{"$f":"+Texas!P25","v":0},{"$f":"+Omaha!P22","v":0},{"$f":"+'Black Jack'!P22","v":0},{"$f":"+Chinchón!V22","v":0},{"$f":"+Mus!P22","v":0},{"$f":"+Kul!P23","v":2},{"$f":"+Manilla!V26","v":0},{"$f":"+Tute!V26","v":0},{"$f":"+'4 Duros'!P25","v":0},{"$f":"+'Skull King'!P22","v":13},{"$f":"+Whist!V26","v":0},{"$f":"+Wizard!R35","v":677},{"$f":"+'Tute cabrò'!P22","v":2},{"$f":"+Copo!P22","v":0},{"$f":"+Escombra!D27","v":0},{"$f":"+'1000km'!Y24","v":0},{"$f":"+Cribbage!W44","v":0},{"$f":"+Canasta!Y24","v":0},{"$f":"+Portugués!AN27","v":0},{"$f":"+Tarot!Y26","v":0},{"$f":"+Guinyot!Y24","v":0},{"$f":"+'7 i mig'!P22","v":0}]
[3,"Grau",90.103733333333338,{"$f":"+King!AG27","v":0},{"$f":"+Buti!AV26","v":80},{"$f":"+Pocha!AC24","v":0},{"$f":"+Julepe!AI23","v":0},{"$f":"+Pumba!AY24","v":0},{"$f":"+Cors!AG24","v":0},{"$f":"+Podrida!AG$24","v":0},{"$f":"+Buti3!AM22","v":0},null,{"$f":"+Truc!AV23","v":0},{"$f":"+Texas!K25","v":0},{"$f":"+Omaha!S22","v":0},null,null,{"$f":"+Mus!AC22","v":0},{"$f":"+Kul!K23","v":0},{"$f":"+Manilla!AV26","v":0},{"$f":"+Tute!C26","v":0},{"$f":"+'4 Duros'!C25","v":0},{"$f":"+'Skull King'!S22","v":0},null,{"$f":"+Wizard!U35","v":0},{"$f":"+'Tute cabrò'!E22","v":10},null,{"$f":"+Escombra!AG27","v":0},{"$f":"+'1000km'!AY24","v":0},{"$f":"+Cribbage!AV29","v":0},{"$f":"+Canasta!AY24","v":0},{"$f":"+Portugués!AG27","v":0},{"$f":"+Tarot!AV26","v":0},{"$f":"+Guinyot!AY24","v":0},null,null,null,null,1037.3333333333333,{"$f":"+King!AH27","v":2.3333333333333335},{"$f":"+Buti!AW26","v":13},{"$f":"+Pocha!AD24","v":0},{"$f":"+Julepe!AJ23","v":0},{"$f":"+Pumba!AZ24","v":0},{"$f":"+Cors!AH24","v":0},{"$f":"+Podrida!AH$24","v":0},null,{"$f":"+Buti3!AN22","v":0},{"$f":"+Truc!AW23","v":0},{"$f":"+Texas!L25","v":0},{"$f":"+Omaha!T22","v":0},null,null,{"$f":"+Mus!AD22","v":0},{"$f":"+Kul!L23","v":3},{"$f":"+Manilla!AW26","v":0},{"$f":"+Tute!D26","v":0},{"$f":"+'4 Duros'!D25","v":0},{"$f":"+'Skull King'!T22","v":0},null,{"$f":"+Wizard!V35","v":1007},{"$f":"+'Tute cabrò'!F22","v":10},null,{"$f":"+Escombra!AH27","v":0},{"$f":"+'1000km'!J24","v":0},{"$f":"+Cribbage!AX44","v":2},{"$f":"+Canasta!J24","v":0},{"$f":"+Portugués!H27","v":0},{"$f":"+Tarot!J26","v":0},{"$f":"+Guinyot!J24","v":0}]
[4,"Núria",90.01273333333333,{"$f":"+King!AK27","v":10},{"$f":"+Buti!AA26","v":0},{"$f":"+Pocha!S24","v":0},{"$f":"+Julepe!S23","v":0},{"$f":"+Pumba!AA24","v":0},{"$f":"+Cors!W24","v":0},{"$f":"+Podrida!W$24","v":0},{"$f":"+Buti3!AA22","v":0},{"$f":"+Remigio!AA24","v":0},{"$f":"+Truc!AA23","v":0},{"$f":"+Texas!S25","v":0},null,{"$f":"+'Black Jack'!S22","v":0},{"$f":"+Chinchón!AA22","v":0},{"$f":"+Mus!S22","v":0},{"$f":"+Kul!E23","v":40},{"$f":"+Manilla!AA26","v":0},{"$f":"+Tute!AA26","v":0},{"$f":"+'4 Duros'!S25","v":0},null,{"$f":"+Whist!AA26","v":0},{"$f":"+Wizard!AK35","v":0},{"$f":"+'Tute cabrò'!S22","v":0},{"$f":"+Copo!S22","v":0},null,{"$f":"+'1000km'!AA24","v":0},{"$f":"+Cribbage!I29","v":40},null,null,null,null,{"$f":"+'7 i mig'!S22","v":0},null,null,null,127.33333333333334,{"$f":"+King!AL27","v":15.333333333333334},{"$f":"+Buti!AB26","v":28},{"$f":"+Pocha!T24","v":0},{"$f":"+Julepe!T23","v":0},{"$f":"+Pumba!AB24","v":0},{"$f":"+Cors!X24","v":0},{"$f":"+Podrida!X$24","v":0},{"$f":"+Remigio!AB24","v":0},{"$f":"+Buti3!AB22","v":0},{"$f":"+Truc!AB23","v":0},{"$f":"+Texas!T25","v":0},null,null,{"$f":"+Chinchón!AB22","v":0},{"$f":"+Mus!T22","v":0},{"$f":"+Kul!F23","v":9},{"$f":"+Manilla!AB26","v":0},{"$f":"+Tute!AB26","v":0},{"$f":"+'4 Duros'!T25","v":0},null,{"$f":"+Whist!AB26","v":0},{"$f":"+Wizard!AL35","v":28},{"$f":"+'Tute cabrò'!T22","v":29},{"$f":"+Copo!T22","v":0},null,{"$f":"+'1000km'!AB24","v":0},{"$f":"+Cribbage!K44","v":18},null,null,null,null,{"$f":"+'7 i mig'!T22","v":0}]
[5,"Sergi",80.015666666666661,{"$f":"+King!M27","v":0},{"$f":"+Buti!R26","v":0},{"$f":"+Pocha!M24","v":0},{"$f":"+Julepe!M23","v":0},{"$f":"+Pumba!R24","v":0},{"$f":"+Cors!M24","v":0},{"$f":"+Podrida!M$24","v":0},{"$f":"+Buti3!R22","v":0},{"$f":"+Remigio!R24","v":0},{"$f":"+Truc!R23","v":0},{"$f":"+Texas!M25","v":0},{"$f":"+Omaha!M22","v":0},{"$f":"+'Black Jack'!M22","v":0},{"$f":"+Chinchón!R22","v":0},{"$f":"+Mus!M22","v":0},{"$f":"+Kul!M23","v":0},{"$f":"+Manilla!R26","v":0},{"$f":"+Tute!R26","v":0},{"$f":"+'4 Duros'!M25","v":0},{"$f":"+'Skull King'!M22","v":80},{"$f":"+Whist!R26","v":0},{"$f":"+Wizard!O35","v":0},{"$f":"+'Tute cabrò'!M22","v":0},{"$f":"+Copo!M22","v":0},{"$f":"+Escombra!M27","v":0},{"$f":"+'1000km'!R24","v":0},{"$f":"+Cribbage!F29","v":0},{"$f":"+Canasta!R24","v":0},{"$f":"+Portugués!M27","v":0},{"$f":"+Tarot!R26","v":0},{"$f":"+Guinyot!R24","v":0},{"$f":"+'7 i mig'!M22","v":0},null,null,null,156.66666666666666,{"$f":"+King!N27","v":2.6666666666666665},{"$f":"+Buti!S26","v":1},{"$f":"+Pocha!N24","v":0},{"$f":"+Julepe!N23","v":0},{"$f":"+Pumba!S24","v":0},{"$f":"+Cors!N24","v":0},{"$f":"+Podrida!N$24","v":0},{"$f":"+Remigio!S24","v":0},{"$f":"+Buti3!S22","v":0},{"$f":"+Truc!S23","v":0},{"$f":"+Texas!N25","v":0},{"$f":"+Omaha!N22","v":0},{"$f":"+'Black Jack'!N22","v":0},{"$f":"+Chinchón!S22","v":0},{"$f":"+Mus!N22","v":0},{"$f":"+Kul!N23","v":3},{"$f":"+Manilla!S26","v":0},{"$f":"+Tute!S26","v":0},{"$f":"+'4 Duros'!N25","v":0},{"$f":"+'Skull King'!N22","v":9},{"$f":"+Whist!S26","v":0},{"$f":"+Wizard!P35","v":140},{"$f":"+'Tute cabrò'!N22","v":1},{"$f":"+Copo!N22","v":0},{"$f":"+Escombra!N27","v":0},null,{"$f":"+Cribbage!H44","v":0},{"$f":"+Canasta!S24","v":0},{"$f":"+Portugués!N27","v":0},{"$f":"+Tarot!S26","v":0},{"$f":"+Guinyot!AK24","v":0},{"$f":"+'7 i mig'!N22","v":0}]
[6,"Òscar",65.003933333333336,{"$f":"+King!W27","v":20},{"$f":"+Buti!AG26","v":5},{"$f":"+Pocha!W24","v":0},{"$f":"+Julepe!W23","v":0},{"$f":"+Pumba!AG24","v":0},null,null,{"$f":"+Buti3!AG22","v":0},{"$f":"+Remigio!AG24","v":0},{"$f":"+Truc!AG23","v":0},{"$f":"+Texas!W25","v":0},{"$f":"+Omaha!W22","v":0},{"$f":"+'Black Jack'!W22","v":0},{"$f":"+Chinchón!AG22","v":0},{"$f":"+Mus!W22","v":0},{"$f":"+Kul!AG23","v":20},{"$f":"+Manilla!AG26","v":0},{"$f":"+Tute!AG26","v":0},{"$f":"+'4 Duros'!W25","v":0},{"$f":"+'Skull King'!W22","v":0},{"$f":"+Whist!AG26","v":0},{"$f":"+Wizard!BC35","v":0},{"$f":"+'Tute cabrò'!W22","v":20},{"$f":"+Copo!W22","v":0},{"$f":"+Escombra!W27","v":0},{"$f":"+'1000km'!AG24","v":0},{"$f":"+Cribbage!O29","v":0},null,null,null,null,{"$f":"+'7 i mig'!W22","v":0},null,null,null,39.333333333333336,{"$f":"+King!X27","v":8.3333333333333339},{"$f":"+Buti!AH26","v":13},{"$f":"+Pocha!X24","v":0},{"$f":"+Julepe!X23","v":0},{"$f":"+Pumba!AH24","v":0},null,null,{"$f":"+Remigio!AH24","v":0},{"$f":"+Buti3!AH22","v":0},{"$f":"+Truc!AH23","v":0},{"$f":"+Texas!X25","v":0},{"$f":"+Omaha!X22","v":0},{"$f":"+'Black Jack'!X22","v":0},{"$f":"+Chinchón!AH22","v":0},{"$f":"+Mus!X22","v":0},{"$f":"+Kul!AH23","v":8},{"$f":"+Manilla!AH26","v":0},{"$f":"+Tute!AH26","v":0},{"$f":"+'4 Duros'!X25","v":0},{"$f":"+'Skull King'!X22","v":0},{"$f":"+Whist!AH26","v":0},{"$f":"+Wizard!BD35","v":1},{"$f":"+'Tute cabrò'!X22","v":6},{"$f":"+Copo!X22","v":0},{"$f":"+Escombra!X27","v":0},null,{"$f":"+Cribbage!Q44","v":3},null,null,null,null,{"$f":"+'7 i mig'!X22","v":0}]
[7,"Nogué",50.013666666666666,{"$f":"+King!Y27","v":40},{"$f":"+Buti!AP26","v":10},null,null,{"$f":"+Pumba!AM24","v":0},{"$f":"+Cors!AE24","v":0},{"$f":"+Podrida!AE24","v":0},null,{"$f":"+Remigio!AP24","v":0},null,{"$f":"+Texas!AC25","v":0},{"$f":"+Omaha!K22","v":0},null,{"$f":"+Chinchón!F22","v":0},{"$f":"+Mus!U22","v":0},{"$f":"+Kul!AE23","v":0},{"$f":"+Manilla!AP26","v":0},{"$f":"+Tute!AP26","v":0},{"$f":"+'4 Duros'!AC25","v":0},null,{"$f":"+Whist!AP26","v":0},{"$f":"+Wizard!BG35","v":0},{"$f":"+'Tute cabrò'!AE22","v":0},null,{"$f":"+Escombra!AC27","v":0},null,{"$f":"+Cribbage!R29","v":0},null,null,null,null,null,null,null,null,136.66666666666666,{"$f":"+King!Z27","v":14.666666666666666},{"$f":"+Buti!AQ26","v":25},null,null,{"$f":"+Pumba!AN24","v":0},{"$f":"+Cors!AF24","v":0},{"$f":"+Podrida!AF24","v":0},{"$f":"+Remigio!AQ24","v":0},null,null,{"$f":"+Texas!AD25","v":0},{"$f":"+Omaha!L22","v":0},null,{"$f":"+Chinchón!G22","v":0},{"$f":"+Mus!V22","v":0},{"$f":"+Kul!AF23","v":6},{"$f":"+Manilla!AQ26","v":0},{"$f":"+Tute!AQ26","v":0},{"$f":"+'4 Duros'!AD25","v":0},null,{"$f":"+Whist!AQ26","v":0},{"$f":"+Wizard!BH35","v":12},{"$f":"+'Tute cabrò'!AF22","v":33},null,{"$f":"+Escombra!AD27","v":0},{"$f":"+'1000km'!AE24","v":0},{"$f":"+Cribbage!T44","v":46}]
[8,"Sebas",50.010833333333331,{"$f":"+King!U27","v":0},{"$f":"+Buti!F26","v":0},null,null,{"$f":"+Pumba!AJ24","v":0},{"$f":"+Cors!AC24","v":0},{"$f":"+Podrida!AC24","v":0},null,null,null,null,{"$f":"+Omaha!AE22","v":0},{"$f":"+'Black Jack'!AA22","v":0},null,null,{"$f":"+Kul!AC23","v":5},null,{"$f":"+Tute!F26","v":0},null,null,{"$f":"+Whist!F26","v":0},{"$f":"+Wizard!AO35","v":0},{"$f":"+'Tute cabrò'!C22","v":40},null,null,null,{"$f":"+Cribbage!AP29","v":5},null,null,null,null,{"$f":"+'7 i mig'!AA22","v":0},null,null,null,108.33333333333334,{"$f":"+King!V27","v":13.333333333333334},{"$f":"+Buti!G26","v":13},null,null,{"$f":"+Pumba!AK24","v":0},{"$f":"+Cors!AD24","v":0},{"$f":"+Podrida!AD24","v":0},null,null,null,null,{"$f":"+Omaha!AF22","v":0},{"$f":"+'Black Jack'!AB22","v":0},null,null,{"$f":"+Kul!AD23","v":8},null,{"$f":"+Tute!G26","v":0},null,null,{"$f":"+Whist!G26","v":0},{"$f":"+Wizard!AP35","v":31},{"$f":"+'Tute cabrò'!D22","v":33},null,null,null,{"$f":"+Cribbage!AR44","v":10},null,null,null,null,{"$f":"+'7 i mig'!AB22","v":0}]
[9,"Alfred",40.183700000000002,null,null,null,null,null,null,null,null,null,null,null,null,null,null,null,null,null,null,null,{"$f":"+'Skull King'!AC22","v":0},null,{"$f":"+Wizard!AE35","v":40},null,null,null,null,null,null,null,null,null,null,null,null,null,1837,null,null,null,null,null,null,null,null,null,null,null,null,null,null,null,null,null,null,null,{"$f":"+'Skull King'!AD22","v":1},null,{"$f":"+Wizard!AF35","v":1836}]
[10,"Manolo",20.102366666666665,{"$f":"+King!AA27","v":0},{"$f":"+Buti!AM26","v":0},{"$f":"+Pocha!C24","v":0},{"$f":"+Julepe!C23","v":0},{"$f":"+Pumba!O24","v":0},{"$f":"+Cors!Y24","v":0},{"$f":"+Podrida!Y$24","v":0},null,null,{"$f":"+Truc!F23","v":0},{"$f":"+Texas!U25","v":0},{"$f":"+Omaha!AA22","v":0},{"$f":"+'Black Jack'!E22","v":0},null,{"$f":"+Mus!E22","v":0},{"$f":"+Kul!I23","v":0},{"$f":"+Manilla!AM26","v":0},{"$f":"+Tute!AM26","v":0},null,{"$f":"+'Skull King'!E22","v":20},{"$f":"+Whist!AM26","v":0},{"$f":"+Wizard!C35","v":0},{"$f":"+'Tute cabrò'!U22","v":0},null,{"$f":"+Escombra!S27","v":0},null,{"$f":"+Cribbage!AM29","v":0},null,{"$f":"+Portugués!E27","v":0},{"$f":"+Tarot!AM26","v":0},{"$f":"+Guinyot!O24","v":0},{"$f":"+'7 i mig'!E22","v":0},null,null,null,1023.6666666666666,{"$f":"+King!AB27","v":3.6666666666666665},{"$f":"+Buti!AN26","v":9},{"$f":"+Pocha!D24","v":0},{"$f":"+Julepe!D23","v":0},{"$f":"+Pumba!P24","v":0},{"$f":"+Cors!Z24","v":0},{"$f":"+Podrida!Z$24","v":0},null,null,{"$f":"+Truc!G23","v":0},{"$f":"+Texas!V25","v":0},{"$f":"+Omaha!AB22","v":0},{"$f":"+'Black Jack'!F22","v":0},null,{"$f":"+Mus!F22","v":0},{"$f":"+Kul!J23","v":3},{"$f":"+Manilla!AN26","v":0},{"$f":"+Tute!AN26","v":0},{"$f":"+'4 Duros'!AF25","v":0},{"$f":"+'Skull King'!F22","v":11},{"$f":"+Whist!AN26","v":0},{"$f":"+Wizard!D35","v":995},{"$f":"+'Tute cabrò'!V22","v":2},null,{"$f":"+Escombra!T27","v":0},null,{"$f":"+Cribbage!AO44","v":0},null,{"$f":"+Portugués!F27","v":0},{"$f":"+Tarot!AN26","v":0},{"$f":"+Guinyot!G24","v":0},{"$f":"+'7 i mig'!F22","v":0}]
[11,"Tim",20.055800000000001,null,null,{"$f":"+Pocha!Y24","v":0},{"$f":"+Julepe!AA23","v":0},null,null,null,null,{"$f":"+Remigio!AS24","v":0},{"$f":"+Truc!O23","v":0},null,null,null,null,null,null,{"$f":"+Manilla!BE26","v":0},null,{"$f":"+'4 Duros'!AE25","v":0},{"$f":"+'Skull King'!K22","v":0},null,{"$f":"+Wizard!AW35","v":20},null,null,null,null,null,null,null,null,null,null,null,null,null,558,null,null,{"$f":"+Pocha!Z24","v":0},{"$f":"+Julepe!AB23","v":0},null,null,null,{"$f":"+Remigio!AT24","v":0},null,{"$f":"+Truc!P23","v":0},null,null,null,null,null,null,{"$f":"+Manilla!BF26","v":0},null,null,{"$f":"+'Skull King'!L22","v":0},null,{"$f":"+Wizard!AX35","v":558}]
[12,"Ana B.",20.029166666666665,{"$f":"+King!S27","v":0},{"$f":"+Buti!C26","v":20},null,null,{"$f":"+Pumba!F24","v":0},{"$f":"+Cors!Q24","v":0},{"$f":"+Podrida!Q24","v":0},{"$f":"+Buti3!F22","v":0},null,{"$f":"+Truc!AJ23","v":0},null,null,{"$f":"+'Black Jack'!C22","v":0},null,null,{"$f":"+Kul!C23","v":0},{"$f":"+Manilla!C26","v":0},null,null,null,{"$f":"+Whist!C26","v":0},{"$f":"+Wizard!E35","v":0},{"$f":"+'Tute cabrò'!AA22","v":0},null,null,null,{"$f":"+Cribbage!AG29","v":0},null,null,null,{"$f":"+Guinyot!F24","v":0},{"$f":"+'7 i mig'!C22","v":0},null,null,null,291.66666666666669,{"$f":"+King!T27","v":2.6666666666666665},{"$f":"+Buti!D26","v":12},null,null,{"$f":"+Pumba!G24","v":0},{"$f":"+Cors!R24","v":0},{"$f":"+Podrida!R24","v":0},null,{"$f":"+Buti3!G22","v":0},{"$f":"+Truc!AK23","v":0},null,null,{"$f":"+'Black Jack'!D22","v":0},null,null,{"$f":"+Kul!D23","v":3},{"$f":"+Manilla!D26","v":0},null,null,null,{"$f":"+Whist!D26","v":0},{"$f":"+Wizard!F35","v":269},{"$f":"+'Tute cabrò'!AB22","v":4},null,null,null,{"$f":"+Cribbage!AI44","v":1},null,null,null,null,{"$f":"+'7 i mig'!D22","v":0}]
[13,"Lluïsa",20.006900000000002,null,null,{"$f":"+Pocha!I24","v":0},{"$f":"+Julepe!I23","v":0},null,null,null,{"$f":"+Buti3!L22","v":0},null,{"$f":"+Truc!L23","v":0},{"$f":"+Texas!I25","v":0},{"$f":"+Omaha!I22","v":0},{"$f":"+'Black Jack'!I22","v":0},{"$f":"+Chinchón!L22","v":0},{"$f":"+Mus!I22","v":0},null,{"$f":"+Manilla!L26","v":0},{"$f":"+Tute!L26","v":0},{"$f":"+'4 Duros'!I25","v":0},null,{"$f":"+Whist!L26","v":0},{"$f":"+Wizard!AQ35","v":0},null,null,null,null,{"$f":"+Cribbage!BH29","v":20},null,null,null,null,{"$f":"+'7 i mig'!I22","v":0},null,null,null,69,null,null,{"$f":"+Pocha!J24","v":0},{"$f":"+Julepe!J23","v":0},null,null,null,null,{"$f":"+Buti3!M22","v":0},{"$f":"+Truc!M23","v":0},{"$f":"+Texas!J25","v":0},{"$f":"+Omaha!J22","v":0},{"$f":"+'Black Jack'!J22","v":0},{"$f":"+Chinchón!M22","v":0},{"$f":"+Mus!J22","v":0},null,{"$f":"+Manilla!M26","v":0},{"$f":"+Tute!M26","v":0},{"$f":"+'4 Duros'!J25","v":0},null,{"$f":"+Whist!M26","v":0},{"$f":"+Wizard!AR35","v":61},null,null,null,{"$f":"+'1000km'!S24","v":0},{"$f":"+Cribbage!BJ44","v":8},{"$f":"+Canasta!AQ24","v":0},{"$f":"+Portugués!Z27","v":0},{"$f":"+Tarot!AZ26","v":0},{"$f":"+Guinyot!S24","v":0},{"$f":"+'7 i mig'!J22","v":0}]
[14,"Gemma",15.080066666666667,{"$f":"+King!AC27","v":5},{"$f":"+Buti!AJ26","v":0},{"$f":"+Pocha!AG24","v":0},null,{"$f":"+Pumba!C24","v":0},{"$f":"+Cors!AA24","v":0},{"$f":"+Podrida!AA$24","v":0},{"$f":"+Buti3!AP22","v":0},{"$f":"+Remigio!AM24","v":0},null,{"$f":"+Texas!AA25","v":0},null,null,{"$f":"+Chinchón!O22","v":0},{"$f":"+Mus!AA22","v":0},{"$f":"+Kul!Y23","v":10},{"$f":"+Manilla!AJ26","v":0},{"$f":"+Tute!AJ26","v":0},{"$f":"+'4 Duros'!AA25","v":0},null,{"$f":"+Whist!AJ26","v":0},{"$f":"+Wizard!AM35","v":0},{"$f":"+'Tute cabrò'!Y22","v":0},null,null,{"$f":"+'1000km'!C24","v":0},{"$f":"+Cribbage!L29","v":0},{"$f":"+Canasta!C24","v":0},null,null,null,null,null,null,null,800.66666666666663,{"$f":"+King!AD27","v":9.6666666666666661},{"$f":"+Buti!AK26","v":5},{"$f":"+Pocha!AH24","v":0},null,{"$f":"+Pumba!D24","v":0},{"$f":"+Cors!AB24","v":0},{"$f":"+Podrida!AB$24","v":0},{"$f":"+Remigio!AN24","v":0},{"$f":"+Buti3!AQ22","v":0},null,{"$f":"+Texas!AB25","v":0},null,null,{"$f":"+Chinchón!P22","v":0},{"$f":"+Mus!AB22","v":0},{"$f":"+Kul!Z23","v":7},{"$f":"+Manilla!AK26","v":0},{"$f":"+Tute!AK26","v":0},{"$f":"+'4 Duros'!AB25","v":0},null,{"$f":"+Whist!AK26","v":0},{"$f":"+Wizard!AN35","v":768},{"$f":"+'Tute cabrò'!Z22","v":9},null,null,{"$f":"+'1000km'!D24","v":0},{"$f":"+Cribbage!O44","v":2},{"$f":"+Canasta!D24","v":0}]
[15,"Goretti",15.041333333333334,{"$f":"+King!AI27","v":0},{"$f":"+Buti!AS26","v":0},{"$f":"+Pocha!K24","v":0},{"$f":"+Julepe!AC23","v":0},{"$f":"+Pumba!AS24","v":0},null,null,{"$f":"+Buti3!C22","v":0},{"$f":"+Remigio!O24","v":0},{"$f":"+Truc!AP23","v":0},{"$f":"+Texas!AG25","v":0},{"$f":"+Omaha!AC22","v":0},{"$f":"+'Black Jack'!K22","v":0},{"$f":"+Chinchón!X22","v":0},{"$f":"+Mus!C22","v":0},{"$f":"+Kul!U23","v":0},{"$f":"+Manilla!AS26","v":0},{"$f":"+Tute!AV26","v":0},{"$f":"+'4 Duros'!AG25","v":0},{"$f":"+'Skull King'!C22","v":0},{"$f":"+Whist!AV26","v":0},{"$f":"+Wizard!M35","v":0},{"$f":"+'Tute cabrò'!K22","v":5},{"$f":"+Copo!C22","v":0},{"$f":"+Escombra!AI27","v":0},{"$f":"+'1000km'!AS24","v":0},{"$f":"+Cribbage!AS29","v":10},{"$f":"+Canasta!AS24","v":0},{"$f":"+Portugués!AI27","v":0},{"$f":"+Tarot!AS26","v":0},{"$f":"+Guinyot!AS24","v":0},{"$f":"+'7 i mig'!K22","v":0},null,null,null,413.33333333333331,{"$f":"+King!AJ27","v":2.3333333333333335},{"$f":"+Buti!AT26","v":11},{"$f":"+Pocha!L24","v":0},{"$f":"+Julepe!AD23","v":0},{"$f":"+Pumba!AT24","v":0},null,null,{"$f":"+Remigio!P24","v":0},{"$f":"+Buti3!D22","v":0},{"$f":"+Truc!AQ23","v":0},{"$f":"+Texas!AH25","v":0},{"$f":"+Omaha!AD22","v":0},{"$f":"+'Black Jack'!L22","v":0},{"$f":"+Chinchón!Y22","v":0},{"$f":"+Mus!D22","v":0},{"$f":"+Kul!V23","v":5},{"$f":"+Manilla!AT26","v":0},{"$f":"+Tute!AW26","v":0},{"$f":"+'4 Duros'!AH25","v":0},{"$f":"+'Skull King'!D22","v":0},{"$f":"+Whist!AW26","v":0},{"$f":"+Wizard!N35","v":369},{"$f":"+'Tute cabrò'!L22","v":12},{"$f":"+Copo!D22","v":0},{"$f":"+Escombra!AJ27","v":0},{"$f":"+'1000km'!AT24","v":0},{"$f":"+Cribbage!AU44","v":14},{"$f":"+Canasta!M24","v":0},{"$f":"+Portugués!L27","v":0},{"$f":"+Portugués!AR27","v":0},{"$f":"+Guinyot!AT24","v":0},{"$f":"+'7 i mig'!L22","v":0}]
[16,"Mario",10.0387,null,null,null,null,null,null,null,null,null,null,null,null,null,null,null,null,null,null,null,null,null,{"$f":"+Wizard!BA35","v":10},null,null,null,null,null,null,null,null,null,null,null,null,null,387,null,null,null,null,null,null,null,null,null,null,null,null,null,null,null,null,null,null,null,null,null,{"$f":"+Wizard!BB35","v":387}]
[17,"Nin",10.006566666666666,{"$f":"+King!AE27","v":0},{"$f":"+Buti!AD26","v":0},null,null,{"$f":"+Pumba!L24","v":0},{"$f":"+Cors!U24","v":0},{"$f":"+Podrida!U$24","v":0},null,null,null,{"$f":"+Texas!AE25","v":0},null,{"$f":"+'Black Jack'!U22","v":0},null,{"$f":"+Mus!Y22","v":0},{"$f":"+Kul!AA23","v":0},null,null,null,{"$f":"+'Skull King'!Y22","v":10},null,{"$f":"+Wizard!AC35","v":0},{"$f":"+'Tute cabrò'!I22","v":0},null,null,null,{"$f":"+Cribbage!BE29","v":0},null,null,{"$f":"+Tarot!AY26","v":0},null,{"$f":"+'7 i mig'!Y22","v":0},null,null,null,65.666666666666657,{"$f":"+King!AF27","v":2.6666666666666665},{"$f":"+Buti!AE26","v":1},null,null,{"$f":"+Pumba!M24","v":0},{"$f":"+Cors!V24","v":0},{"$f":"+Podrida!V$24","v":0},null,null,null,{"$f":"+Texas!AF25","v":0},null,{"$f":"+'Black Jack'!V22","v":0},null,{"$f":"+Mus!Z22","v":0},{"$f":"+Kul!AB23","v":2},null,null,null,{"$f":"+'Skull King'!Z22","v":9},null,{"$f":"+Wizard!AD35","v":49},{"$f":"+'Tute cabrò'!J22","v":2},null,null,null,{"$f":"+Cribbage!BG44","v":0},null,null,null,null,{"$f":"+'7 i mig'!Z22","v":0}]
[18,"Jeff",5.0448000000000004,null,null,{"$f":"+Pocha!AE24","v":0},{"$f":"+Julepe!Y23","v":0},{"$f":"+Pumba!AP24","v":0},{"$f":"+Cors!I24","v":0},{"$f":"+Podrida!S$24","v":0},{"$f":"+Buti3!AJ22","v":0},{"$f":"+Remigio!AJ24","v":0},{"$f":"+Truc!C23","v":0},{"$f":"+Texas!Y25","v":0},{"$f":"+Omaha!Y22","v":0},{"$f":"+'Black Jack'!Y22","v":0},{"$f":"+Chinchón!AJ22","v":0},null,null,{"$f":"+Manilla!AY26","v":0},{"$f":"+Tute!AY26","v":0},{"$f":"+'4 Duros'!Y25","v":0},{"$f":"+'Skull King'!I22","v":0},{"$f":"+Whist!AY26","v":0},{"$f":"+Wizard!AI35","v":5},null,{"$f":"+Copo!Y22","v":0},{"$f":"+Escombra!Y27","v":0},{"$f":"+'1000km'!AP24","v":0},null,{"$f":"+Canasta!AP24","v":0},{"$f":"+Portugués!Y27","v":0},null,null,null,null,null,null,448,null,null,{"$f":"+Pocha!AF24","v":0},{"$f":"+Julepe!Z23","v":0},{"$f":"+Pumba!AQ24","v":0},{"$f":"+Cors!J24","v":0},{"$f":"+Podrida!T$24","v":0},{"$f":"+Remigio!AK24","v":0},{"$f":"+Buti3!AK22","v":0},{"$f":"+Truc!D23","v":0},{"$f":"+Texas!Z25","v":0},{"$f":"+Omaha!Z22","v":0},{"$f":"+'Black Jack'!Z22","v":0},{"$f":"+Chinchón!AK22","v":0},null,null,{"$f":"+Manilla!AZ26","v":0},{"$f":"+Tute!AZ26","v":0},{"$f":"+'4 Duros'!Z25","v":0},{"$f":"+'Skull King'!J22","v":2},{"$f":"+Whist!AZ26","v":0},{"$f":"+Wizard!AJ35","v":446},null,{"$f":"+Copo!Z22","v":0},{"$f":"+Escombra!Z27","v":0},{"$f":"+'1000km'!G24","v":0}]
[19,"Tito",5.1499999999999997E-2,{"$f":"+King!K27","v":0},{"$f":"+Buti!BB26","v":0},null,{"$f":"+Julepe!AG23","v":0},{"$f":"+Pumba!AV24","v":0},{"$f":"+Cors!K24","v":0},{"$f":"+Podrida!K$24","v":0},null,null,{"$f":"+Truc!AM23","v":0},{"$f":"+Texas!AI25","v":0},{"$f":"+Omaha!C22","v":0},null,null,null,null,{"$f":"+Manilla!BB26","v":0},null,{"$f":"+'4 Duros'!AI25","v":0},{"$f":"+'Skull King'!U22","v":0},null,{"$f":"+Wizard!AA35","v":0},null,{"$f":"+Copo!E22","v":0},null,{"$f":"+'1000km'!AV24","v":0},{"$f":"+Cribbage!BB29","v":0},{"$f":"+Canasta!AV24","v":0},null,null,null,null,null,null,null,515,{"$f":"+King!L27","v":0},{"$f":"+Buti!BC26","v":0},null,{"$f":"+Julepe!AH23","v":0},{"$f":"+Pumba!AW24","v":0},{"$f":"+Cors!L24","v":0},{"$f":"+Podrida!L$24","v":0},null,null,{"$f":"+Truc!AN23","v":0},{"$f":"+Texas!AJ25","v":0},{"$f":"+Omaha!D22","v":0},null,null,null,null,{"$f":"+Manilla!BC26","v":0},null,null,{"$f":"+'Skull King'!V22","v":5},null,{"$f":"+Wizard!AB35","v":510},null,{"$f":"+Copo!F22","v":0},null,null,{"$f":"+Cribbage!BD44","v":0}]
[20,"Marina",3.9199999999999999E-2,null,null,null,{"$f":"+Julepe!E23","v":0},null,{"$f":"+Cors!S24","v":0},{"$f":"+Podrida!I$24","v":0},null,null,null,null,{"$f":"+Omaha!E22","v":0},{"$f":"+'Black Jack'!S22","v":0},null,null,null,null,null,{"$f":"+'4 Duros'!AK25","v":0},{"$f":"+'Skull King'!AA22","v":0},null,{"$f":"+Wizard!Y35","v":0},null,{"$f":"+Copo!K22","v":0},{"$f":"+Escombra!AE27","v":0},null,null,null,null,null,{"$f":"+Guinyot!AJ24","v":0},null,null,null,null,392,null,null,null,{"$f":"+Julepe!F23","v":0},null,{"$f":"+Cors!T24","v":0},{"$f":"+Podrida!J$24","v":0},null,null,null,null,{"$f":"+Omaha!F22","v":0},{"$f":"+'Black Jack'!T22","v":0},null,null,null,null,null,{"$f":"+'4 Duros'!AL25","v":0},{"$f":"+'Skull King'!AB22","v":2},null,{"$f":"+Wizard!Z35","v":390},null,{"$f":"+Copo!L22","v":0},{"$f":"+Escombra!AF27","v":0},{"$f":"+'1000km'!M24","v":0},null,null,null,null,{"$f":"+Guinyot!M24","v":0}]
[21,"Nancy",2.24E-2,null,null,null,{"$f":"+Julepe!K23","v":0},null,null,null,null,{"$f":"+Remigio!X24","v":0},null,null,null,null,null,null,null,null,null,null,null,null,{"$f":"+Wizard!AG35","v":0},null,null,null,{"$f":"+'1000km'!AM24","v":0},null,null,null,null,null,null,null,null,null,224,null,null,null,{"$f":"+Julepe!L23","v":0},null,null,null,{"$f":"+Remigio!Y24","v":0},null,null,null,null,null,null,null,null,null,null,null,null,null,{"$f":"+Wizard!AH35","v":224}]
[22,"Debi",1.9199999999999998E-2,null,null,null,null,null,null,null,null,null,null,null,null,null,null,null,null,null,null,null,null,null,{"$f":"+Wizard!AY35","v":0},null,null,null,null,null,null,null,null,null,null,null,null,null,192,null,null,null,null,null,null,null,null,null,null,null,null,null,null,null,null,null,null,null,null,null,{"$f":"+Wizard!AZ35","v":192}]
[23,"Xavier",7.1000000000000004E-3,null,null,null,null,null,null,null,null,null,null,null,null,null,null,null,null,null,null,null,null,null,{"$f":"+Wizard!AS35","v":0},null,null,null,null,{"$f":"+Cribbage!AJ29","v":0},null,null,null,null,null,null,null,null,71,null,null,null,null,null,null,null,null,null,null,null,null,null,null,null,null,null,null,null,null,null,{"$f":"+Wizard!AT35","v":61},null,null,null,null,{"$f":"+Cribbage!AL44","v":10}]
[24,"Lleixà",4.1999999999999997E-3,null,null,{"$f":"+Pocha!U24","v":0},{"$f":"+Julepe!U23","v":0},{"$f":"+Pumba!AD24","v":0},null,null,{"$f":"+Buti3!AD22","v":0},{"$f":"+Remigio!AD24","v":0},{"$f":"+Truc!AD23","v":0},null,null,null,{"$f":"+Chinchón!AD22","v":0},null,null,{"$f":"+Manilla!AD26","v":0},{"$f":"+Tute!AD26","v":0},{"$f":"+'4 Duros'!U25","v":0},null,{"$f":"+Whist!AD26","v":0},{"$f":"+Wizard!I35","v":0},null,{"$f":"+Copo!U22","v":0},{"$f":"+Escombra!U27","v":0},{"$f":"+'1000km'!AD24","v":0},{"$f":"+Cribbage!AD29","v":0},null,null,null,null,{"$f":"+'7 i mig'!U22","v":0},null,null,null,42,null,null,{"$f":"+Pocha!V24","v":0},{"$f":"+Julepe!V23","v":0},{"$f":"+Pumba!AE24","v":0},null,null,{"$f":"+Remigio!AE24","v":0},{"$f":"+Buti3!AE22","v":0},{"$f":"+Truc!AE23","v":0},null,null,null,{"$f":"+Chinchón!AE22","v":0},null,null,{"$f":"+Manilla!AE26","v":0},{"$f":"+Tute!AE26","v":0},null,null,{"$f":"+Whist!AE26","v":0},{"$f":"+Wizard!J35","v":41},null,{"$f":"+Copo!V22","v":0},{"$f":"+Escombra!V27","v":0},{"$f":"+'1000km'!AH24","v":0},{"$f":"+Cribbage!AF44","v":1},{"$f":"+Canasta!G24","v":0},null,null,null,{"$f":"+'7 i mig'!V22","v":0}]
[25,"Eito",2.5999999999999999E-3,{"$f":"+King!E27","v":0},null,null,null,null,null,{"$f":"+Podrida!C$24","v":0},null,{"$f":"+Remigio!F24","v":0},{"$f":"+Truc!AS23","v":0},null,null,{"$f":"+'Black Jack'!AC22","v":0},{"$f":"+Chinchón!AM22","v":0},null,null,null,null,{"$f":"+'4 Duros'!E25","v":0},null,null,{"$f":"+Wizard!AU35","v":0},null,{"$f":"+Copo!AC22","v":0},null,null,{"$f":"+Cribbage!AA29","v":0},null,null,null,null,{"$f":"+'7 i mig'!AC22","v":0},null,null,null,26,{"$f":"+King!F27","v":0},null,null,null,null,null,{"$f":"+Podrida!D$24","v":0},{"$f":"+Remigio!G24","v":0},null,{"$f":"+Truc!AT23","v":0},null,null,{"$f":"+'Black Jack'!AD22","v":0},{"$f":"+Chinchón!AN22","v":0},null,null,null,null,{"$f":"+'4 Duros'!F25","v":0},null,null,{"$f":"+Wizard!AV35","v":23},null,{"$f":"+Copo!AD22","v":0},null,{"$f":"+'1000km'!AZ24","v":0},{"$f":"+Cribbage!AC44","v":3},{"$f":"+Canasta!AT24","v":0},{"$f":"+Portugués!AJ27","v":0},{"$f":"+Tarot!AT26","v":0},{"$f":"+Guinyot!AZ24","v":0},{"$f":"+'7 i mig'!AD22","v":0}]
[26,"Mariajo",1.8666666666666664E-3,{"$f":"+King!AM27","v":0},{"$f":"+Buti!X26","v":0},{"$f":"+Pocha!Q24","v":0},{"$f":"+Julepe!Q23","v":0},{"$f":"+Pumba!X24","v":0},{"$f":"+Cors!AI24","v":0},{"$f":"+Podrida!AI$24","v":0},{"$f":"+Buti3!X22","v":0},{"$f":"+Remigio!C24","v":0},{"$f":"+Truc!X23","v":0},{"$f":"+Texas!Q25","v":0},{"$f":"+Omaha!Q22","v":0},{"$f":"+'Black Jack'!Q22","v":0},{"$f":"+Chinchón!C22","v":0},{"$f":"+Mus!Q22","v":0},{"$f":"+Kul!Q23","v":0},{"$f":"+Manilla!X26","v":0},{"$f":"+Tute!X26","v":0},{"$f":"+'4 Duros'!Q25","v":0},{"$f":"+'Skull King'!Q22","v":0},{"$f":"+Whist!X26","v":0},{"$f":"+Wizard!S35","v":0},{"$f":"+'Tute cabrò'!Q22","v":0},{"$f":"+Copo!Q22","v":0},{"$f":"+Escombra!AM27","v":0},{"$f":"+'1000km'!X24","v":0},{"$f":"+Cribbage!X29","v":0},{"$f":"+Canasta!X24","v":0},{"$f":"+Portugués!AM27","v":0},{"$f":"+Tarot!X26","v":0},{"$f":"+Guinyot!X24","v":0},{"$f":"+'7 i mig'!Q22","v":0},null,null,null,18.666666666666664,{"$f":"+King!AN27","v":2.6666666666666665},{"$f":"+Buti!Y26","v":1},{"$f":"+Pocha!R24","v":0},{"$f":"+Julepe!R23","v":0},{"$f":"+Pumba!Y24","v":0},{"$f":"+Cors!AJ24","v":0},{"$f":"+Podrida!AJ$24","v":0},{"$f":"+Remigio!D24","v":0},{"$f":"+Buti3!Y22","v":0},{"$f":"+Truc!Y23","v":0},{"$f":"+Texas!R25","v":0},{"$f":"+Omaha!R22","v":0},{"$f":"+'Black Jack'!R22","v":0},{"$f":"+Chinchón!D22","v":0},{"$f":"+Mus!R22","v":0},{"$f":"+Kul!R23","v":5},{"$f":"+Manilla!Y26","v":0},{"$f":"+Tute!Y26","v":0},{"$f":"+'4 Duros'!R25","v":0},{"$f":"+'Skull King'!R22","v":2},{"$f":"+Whist!Y26","v":0},{"$f":"+Wizard!T35","v":3},{"$f":"+'Tute cabrò'!R22","v":5},{"$f":"+Copo!R22","v":0},{"$f":"+Escombra!AN27","v":0},null,{"$f":"+Cribbage!Z44","v":0},{"$f":"+Canasta!AZ24","v":0},{"$f":"+Portugués!AH27","v":0},{"$f":"+Tarot!AW26","v":0},{"$f":"+Guinyot!P24","v":0},{"$f":"+'7 i mig'!R22","v":0}]
[27,"Caty",5.3333333333333325E-4,{"$f":"+King!I27","v":0},null,null,null,null,null,null,null,null,null,null,null,null,null,null,{"$f":"+Kul!W23","v":0},null,null,null,null,null,{"$f":"+Wizard!W35","v":0},{"$f":"+'Tute cabrò'!AC22","v":0},null,null,null,null,null,null,null,null,null,null,null,null,5.333333333333333,{"$f":"+King!J27","v":1.3333333333333333},null,null,null,null,null,null,null,null,null,null,null,null,null,null,{"$f":"+Kul!X23","v":2},null,null,null,null,null,{"$f":"+Wizard!X35","v":1},{"$f":"+'Tute cabrò'!AD22","v":1}]
[28,"Isabel",4.0000000000000002E-4,null,{"$f":"+Buti!AY26","v":0},null,null,null,null,null,null,null,null,null,null,null,null,null,null,null,null,null,null,null,null,null,null,null,null,{"$f":"+Cribbage!AY29","v":0},null,null,null,null,null,null,null,null,4,null,{"$f":"+Buti!AZ26","v":3},null,null,null,null,null,null,null,null,null,null,null,null,null,null,null,null,null,null,null,null,null,null,null,null,{"$f":"+Cribbage!BA44","v":1}]
[29,"Rosa M.",2.9999999999999997E-4,{"$f":"+King!Q27","v":0},{"$f":"+Buti!L26","v":0},{"$f":"+Pocha!E24","v":0},null,null,{"$f":"+Cors!C24","v":0},{"$f":"+Podrida!E$24","v":0},null,{"$f":"+Remigio!L24","v":0},null,{"$f":"+Texas!E25","v":0},null,null,null,null,null,{"$f":"+Manilla!F26","v":0},null,null,null,null,null,null,null,{"$f":"+Escombra!E27","v":0},{"$f":"+'1000km'!F24","v":0},null,{"$f":"+Canasta!F24","v":0},null,null,null,null,null,null,null,3,{"$f":"+King!R27","v":0},{"$f":"+Buti!M26","v":3},{"$f":"+Pocha!F24","v":0},null,null,{"$f":"+Cors!D24","v":0},{"$f":"+Podrida!F$24","v":0},{"$f":"+Remigio!M24","v":0},null,null,{"$f":"+Texas!F25","v":0},null,null,null,null,null,{"$f":"+Manilla!G26","v":0},null,null,null,null,null,null,null,{"$f":"+Escombra!F27","v":0},{"$f":"+'1000km'!AW24","v":0},null,{"$f":"+Canasta!AW24","v":0}]
[30,"Carme",2.333333333333333E-4,{"$f":"+King!O27","v":0},null,{"$f":"+Pocha!AI24","v":0},{"$f":"+Julepe!AE23","v":0},null,null,null,null,{"$f":"+Remigio!AV24","v":0},null,{"$f":"+Texas!AK25","v":0},null,null,null,null,{"$f":"+Kul!S23","v":0},null,null,{"$f":"+'4 Duros'!K25","v":0},null,null,null,null,null,null,null,null,null,null,null,null,null,null,null,null,2.333333333333333,{"$f":"+King!P27","v":1.3333333333333333},null,{"$f":"+Pocha!AJ24","v":0},{"$f":"+Julepe!AF23","v":0},null,null,null,{"$f":"+Remigio!AW24","v":0},null,null,{"$f":"+Texas!AL25","v":0},null,null,null,null,{"$f":"+Kul!T23","v":1},null,null,{"$f":"+'4 Duros'!L25","v":0},null,null,null,null,null,null,{"$f":"+'1000km'!AQ24","v":0}]
[31,"Christophe",2.0000000000000001E-4,null,null,null,null,null,null,null,null,null,null,null,null,null,null,null,null,null,null,null,null,null,{"$f":"+Wizard!BE35","v":0},null,null,null,null,{"$f":"+Cribbage!AD29","v":0},null,null,null,null,null,null,null,null,2,null,null,null,null,null,null,null,null,null,null,null,null,null,null,null,null,null,null,null,null,null,{"$f":"+Wizard!BF35","v":1},null,null,null,null,{"$f":"+Cribbage!AF44","v":1}]
[32,"Jaume A",1E-4,null,{"$f":"+Buti!O26","v":0},{"$f":"+Pocha!AA24","v":0},null,null,null,null,{"$f":"+Buti3!O22","v":0},null,null,{"$f":"+Texas!C25","v":0},{"$f":"+Omaha!U22","v":0},null,null,{"$f":"+Mus!K22","v":0},null,{"$f":"+Manilla!O26","v":0},{"$f":"+Tute!O26","v":0},null,null,{"$f":"+Whist!O26","v":0},null,null,null,{"$f":"+Escombra!AA27","v":0},{"$f":"+'1000km'!L24","v":0},null,null,{"$f":"+Portugués!K27","v":0},null,{"$f":"+Guinyot!L24","v":0},null,null,null,null,1,null,{"$f":"+Buti!P26","v":1},{"$f":"+Pocha!AB24","v":0},null,null,null,null,null,{"$f":"+Buti3!P22","v":0},null,{"$f":"+Texas!D25","v":0},{"$f":"+Omaha!V22","v":0},null,null,{"$f":"+Mus!L22","v":0},null,{"$f":"+Manilla!P26","v":0},{"$f":"+Tute!P26","v":0},{"$f":"+'4 Duros'!AJ25","v":0},null,{"$f":"+Whist!P26","v":0},null,null,null,{"$f":"+Escombra!AB27","v":0},{"$f":"+'1000km'!AN24","v":0}]
[{"$f":"RANK(C43,C$11:C$43)","v":33},"Cyber X",-1,null,null,null,null,null,{"$f":"+Cors!E24","v":0},null,null,null,null,null,null,null,null,null,null,null,null,null,null,null,{"$f":"+Wizard!K35","v":0},null,null,null,null,null,null,null,null,null,null,null,null,null,{"$f":"SUM(AN43:BS43)","v":69},null,null,null,null,null,{"$f":"+Cors!F24","v":0},null,null,null,null,null,null,null,null,null,null,null,null,null,null,null,{"$f":"+Wizard!L35","v":69}]
[{"$f":"RANK(C44,C$11:C$43)","v":{"$error":"#N/A"}},10,-10]
[{"$error":"#N/A"},10,0,-10]
[{"$error":"#N/A"},10,4,-4,-10]
[{"$error":"#N/A"},10,5,0,-5,-10]
[{"$error":"#N/A"},10,6,2,-2,-6,-10]
[{"$error":"#N/A"},10,6,2,0,-2,-6,-10]
[{"$error":"#N/A"},10,6,4,2,-2,-4,-6,-10]
[{"$error":"#N/A"},10,6,4,2,0,-2,-4,-6,-10]
[{"$error":"#N/A"},10,8,6,4,2,-2,-4,-6,-8,-10]
[]
["Classificació per \"mosques\""]
[null,null,{"$f":"+C10","v":"GENERAL"},"KING","BOTIFARRA","POCHA","JULEPE","PUMBA","CORS","PODRIDA","BUTI 3","REMIGIO","TRUC","TEXAS","OMAHA","BLACK JACK","CHINCHÓN","MUS","CUL","MANILLA","TUTE","4 DUROS","SKULL KING","WHIST","WIZARD","TUTE CABRÒ","COPO","ESCOMBRA","1000 Km","CRIBBAGE","CANASTA","PORTUGUÈS","TAROT","GUINYOT",null,null,null,{"$f":"+AL10","v":"Joc 8"}]
[{"$f":"RANK(C56,C$56:C$73)","v":1},"Jordi",{"$f":"SUM(D56:AL56)","v":0}]
[1,"Carles",0]
[1,"Mariajo",0]
[1,"Grau",0]
[1,"Joan",0]
[1,"Manolo",0]
[1,"Angie",0]
[1,"Rosa M.",0]
[1,"Sergi",0]
[1,"Núria",0]
[1,"Katy",0]
[1,"Anna P.",0]
[1,"Lucía",0]
[1,"Lucía",0]
[1,"Palafox",0]
[1,"Goretti",0]
[{"$f":"RANK(C72,C$56:C$73)","v":1},"Celes",0]
[1,"Pol C.",0]
[null,"Total",{"$f":"SUM(C56:C73)","v":0}]
[null,"Anomalies",{"$f":"SUM(D75:AL75)","v":0}]
[]
[null,null,null,{"$f":"+Wizard!A1","v":"WIZARD"},null,null,null,null,null,null,{"$f":"+King!A1","v":"KING"},null,null,null,null,null,null,null,{"$f":"+Cribbage!A1","v":"CRIBBAGE"},null,null,null,null,null,null,null,{"$f":"+Buti!A1","v":"BOTIFARRA"}]
[]
[null,null,null,null,null,{"$f":"+Wizard!C4","v":"Premi"},{"$f":"+Wizard!D4","v":"Punts"},{"$f":"+Wizard!E4","v":"Partides"},{"$f":"+Wizard!F4","v":"General"},null,null,null,{"$f":"+King!C4","v":"Premi"},{"$f":"+King!D4","v":"Reptes"},{"$f":"+King!E4","v":"Punts"},{"$f":"+King!F4","v":"Partides"},{"$f":"+King!G4","v":"General"},null,null,null,{"$f":"+Cribbage!C4","v":"Premi"},{"$f":"+Cribbage!D4","v":"Reptes"},{"$f":"+Cribbage!E4","v":"Punts"},{"$f":"+Cribbage!F4","v":"Partides"},{"$f":"+Cribbage!G4","v":"General"},null,null,null,{"$f":"+Buti!C4","v":"Premi"},{"$f":"+Buti!D4","v":"Punts"},{"$f":"+Buti!E4","v":"Partides"},{"$f":"+Buti!F4","v":"General"}]
[null,null,null,{"$f":"+Wizard!A5","v":1},{"$f":"+Wizard!B5","v":"Carles"},{"$f":"+Wizard!C5","v":1514},{"$f":"+Wizard!D5","v":282.14285714285717},{"$f":"+Wizard!E5","v":677},{"$f":"+Wizard!F5","v":80},null,{"$f":"+King!A5","v":1},{"$f":"+King!B5","v":"Jordi"},{"$f":"+King!C5","v":8.5},{"$f":"+King!D5","v":11},{"$f":"+King!E5","v":27},{"$f":"+King!F5","v":20.333333333333332},{"$f":"+King!G5","v":80},null,{"$f":"+Cribbage!A5","v":1},{"$f":"+Cribbage!B5","v":"Jordi"},{"$f":"+Cribbage!C5","v":9.5},{"$f":"+Cribbage!D5","v":11},{"$f":"+Cribbage!E5","v":33},{"$f":"+Cribbage!F5","v":60},{"$f":"+Cribbage!G5","v":80},null,{"$f":"+Buti!A5","v":1},{"$f":"+Buti!B5","v":"Grau"},{"$f":"+Buti!C5","v":70},{"$f":"+Buti!D5","v":406},{"$f":"+Buti!E5","v":13},{"$f":"+Buti!F5","v":80}]
[null,null,null,{"$f":"+Wizard!A6","v":2},{"$f":"+Wizard!B6","v":"Alfred"},{"$f":"+Wizard!C6","v":273},{"$f":"+Wizard!D6","v":223.23529411764707},{"$f":"+Wizard!E6","v":1836},{"$f":"+Wizard!F6","v":40},null,{"$f":"+King!A6","v":2},{"$f":"+King!B6","v":"Montse"},{"$f":"+King!C6","v":4.5},{"$f":"+King!D6","v":8},{"$f":"+King!E6","v":0},{"$f":"+King!F6","v":14.666666666666666},{"$f":"+King!G6","v":40},null,{"$f":"+Cribbage!A6","v":2},{"$f":"+Cribbage!B6","v":"Núria"},{"$f":"+Cribbage!C6","v":4},{"$f":"+Cribbage!D6","v":6},{"$f":"+Cribbage!E6","v":5},{"$f":"+Cribbage!F6","v":18},{"$f":"+Cribbage!G6","v":40},null,{"$f":"+Buti!A6","v":2},{"$f":"+Buti!B6","v":"Jordi"},{"$f":"+Buti!C6","v":60},{"$f":"+Buti!D6","v":391},{"$f":"+Buti!E6","v":43},{"$f":"+Buti!F6","v":40}]
[null,null,null,{"$f":"+Wizard!A7","v":3},{"$f":"+Wizard!B7","v":"Tim"},{"$f":"+Wizard!C7","v":267},{"$f":"+Wizard!D7","v":229},{"$f":"+Wizard!E7","v":558},{"$f":"+Wizard!F7","v":20},null,{"$f":"+King!A7","v":3},{"$f":"+King!B7","v":"Òscar"},{"$f":"+King!C7","v":4},{"$f":"+King!D7","v":8},{"$f":"+King!E7","v":-2},{"$f":"+King!F7","v":8.3333333333333339},{"$f":"+King!G7","v":20},null,{"$f":"+Cribbage!A7","v":3},{"$f":"+Cribbage!B7","v":"Lluisa"},{"$f":"+Cribbage!C7","v":1.5},{"$f":"+Cribbage!D7","v":3},{"$f":"+Cribbage!E7","v":-2},{"$f":"+Cribbage!F7","v":8},{"$f":"+Cribbage!G7","v":20},null,{"$f":"+Buti!A7","v":3},{"$f":"+Buti!B7","v":"Ana B."},{"$f":"+Buti!C7","v":20},{"$f":"+Buti!D7","v":-72},{"$f":"+Buti!E7","v":12},{"$f":"+Buti!F7","v":20}]
[null,null,null,{"$f":"+Wizard!A8","v":4},{"$f":"+Wizard!B8","v":"Mario"},{"$f":"+Wizard!C8","v":207},{"$f":"+Wizard!D8","v":1},{"$f":"+Wizard!E8","v":387},{"$f":"+Wizard!F8","v":10},null,{"$f":"+King!A8","v":4},{"$f":"+King!B8","v":"Núria"},{"$f":"+King!C8","v":4},{"$f":"+King!D8","v":10},{"$f":"+King!E8","v":-6},{"$f":"+King!F8","v":15.333333333333334},{"$f":"+King!G8","v":10},null,{"$f":"+Cribbage!A8","v":4},{"$f":"+Cribbage!B8","v":"Goretti"},{"$f":"+Cribbage!C8","v":1.5},{"$f":"+Cribbage!D8","v":3},{"$f":"+Cribbage!E8","v":-5},{"$f":"+Cribbage!F8","v":14},{"$f":"+Cribbage!G8","v":10},null,{"$f":"+Buti!A8","v":4},{"$f":"+Buti!B8","v":"Nogué"},{"$f":"+Buti!C8","v":0},{"$f":"+Buti!D8","v":375},{"$f":"+Buti!E8","v":25},{"$f":"+Buti!F8","v":10}]
[null,null,null,{"$f":"+Wizard!A9","v":5},{"$f":"+Wizard!B9","v":"Jeff"},{"$f":"+Wizard!C9","v":156},{"$f":"+Wizard!D9","v":198.5625},{"$f":"+Wizard!E9","v":446},{"$f":"+Wizard!F9","v":5},null,{"$f":"+King!A9","v":5},{"$f":"+King!B9","v":"Gemma"},{"$f":"+King!C9","v":3.5},{"$f":"+King!D9","v":8},{"$f":"+King!E9","v":-11},{"$f":"+King!F9","v":9.6666666666666661},{"$f":"+King!G9","v":5},null,{"$f":"+Cribbage!A9","v":5},{"$f":"+Cribbage!B9","v":"Sebas"},{"$f":"+Cribbage!C9","v":1},{"$f":"+Cribbage!D9","v":3},{"$f":"+Cribbage!E9","v":-3},{"$f":"+Cribbage!F9","v":10},{"$f":"+Cribbage!G9","v":5},null,{"$f":"+Buti!A9","v":5},{"$f":"+Buti!B9","v":"Òscar"},{"$f":"+Buti!C9","v":0},{"$f":"+Buti!D9","v":-118},{"$f":"+Buti!E9","v":13},{"$f":"+Buti!F9","v":5}]
[null,null,null,{"$f":"+Wizard!A10","v":6},{"$f":"+Wizard!B10","v":"Debi"},{"$f":"+Wizard!C10","v":154},{"$f":"+Wizard!D10","v":1},{"$f":"+Wizard!E10","v":192},{"$f":"+Wizard!F10","v":0},null,{"$f":"+King!A10","v":6},{"$f":"+King!B10","v":"Sebas"},{"$f":"+King!C10","v":1.5},{"$f":"+King!D10","v":8},{"$f":"+King!E10","v":-10},{"$f":"+King!F10","v":13.333333333333334},{"$f":"+King!G10","v":0},null,{"$f":"+Cribbage!A10","v":6},{"$f":"+Cribbage!B10","v":"Nogué"},{"$f":"+Cribbage!C10","v":1},{"$f":"+Cribbage!D10","v":6},{"$f":"+Cribbage!E10","v":-20},{"$f":"+Cribbage!F10","v":46},{"$f":"+Cribbage!G10","v":0},null,{"$f":"+Buti!A10","v":6},{"$f":"+Buti!B10","v":"Núria"},{"$f":"+Buti!C10","v":-10},{"$f":"+Buti!D10","v":115},{"$f":"+Buti!E10","v":28},{"$f":"+Buti!F10","v":0}]
[null,null,null,{"$f":"+Wizard!A11","v":7},{"$f":"+Wizard!B11","v":"Marina"},{"$f":"+Wizard!C11","v":145},{"$f":"+Wizard!D11","v":181.53846153846155},{"$f":"+Wizard!E11","v":390},{"$f":"+Wizard!F11","v":0},null,{"$f":"+King!A11","v":7},{"$f":"+King!B11","v":"Mariajo"},{"$f":"+King!C11","v":6},{"$f":"+King!D11","v":7},{"$f":"+King!E11","v":6},{"$f":"+King!F11","v":2.6666666666666665},{"$f":"+King!G11","v":0},null,{"$f":"+Cribbage!A11","v":7},{"$f":"+Cribbage!B11","v":"Xavier"},{"$f":"+Cribbage!C11","v":0.5},{"$f":"+Cribbage!D11","v":3},{"$f":"+Cribbage!E11","v":-4},{"$f":"+Cribbage!F11","v":10},{"$f":"+Cribbage!G11","v":0},null,{"$f":"+Buti!A11","v":7},{"$f":"+Buti!B11","v":"Manolo"},{"$f":"+Buti!C11","v":-10},{"$f":"+Buti!D11","v":-135},{"$f":"+Buti!E11","v":9},{"$f":"+Buti!F11","v":0}]
[null,null,null,{"$f":"+Wizard!A12","v":8},{"$f":"+Wizard!B12","v":"Jordi"},{"$f":"+Wizard!C12","v":114},{"$f":"+Wizard!D12","v":232.85714285714286},{"$f":"+Wizard!E12","v":89},{"$f":"+Wizard!F12","v":0},null,{"$f":"+King!A12","v":8},{"$f":"+King!B12","v":"Manolo"},{"$f":"+King!C12","v":5.5},{"$f":"+King!D12","v":8},{"$f":"+King!E12","v":3},{"$f":"+King!F12","v":3.6666666666666665},{"$f":"+King!G12","v":0},null,{"$f":"+Cribbage!A12","v":8},{"$f":"+Cribbage!B12","v":"Christophe"},{"$f":"+Cribbage!C12","v":2.5},{"$f":"+Cribbage!D12","v":3},{"$f":"+Cribbage!E12","v":2},{"$f":"+Cribbage!F12","v":1},{"$f":"+Cribbage!G12","v":0},null,{"$f":"+Buti!A12","v":8},{"$f":"+Buti!B12","v":"Goretti"},{"$f":"+Buti!C12","v":-30},{"$f":"+Buti!D12","v":-208},{"$f":"+Buti!E12","v":11},{"$f":"+Buti!F12","v":0}]
[null,null,null,{"$f":"+Wizard!A13","v":9},{"$f":"+Wizard!B13","v":"Sergi"},{"$f":"+Wizard!C13","v":96},{"$f":"+Wizard!D13","v":230.95238095238096},{"$f":"+Wizard!E13","v":140},{"$f":"+Wizard!F13","v":0},null,{"$f":"+King!A13","v":9},{"$f":"+King!B13","v":"Carles"},{"$f":"+King!C13","v":5},{"$f":"+King!D13","v":6},{"$f":"+King!E13","v":6},{"$f":"+King!F13","v":2.6666666666666665},{"$f":"+King!G13","v":0},null,{"$f":"+Cribbage!A13","v":9},{"$f":"+Cribbage!B13","v":"Òscar"},{"$f":"+Cribbage!C13","v":1.5},{"$f":"+Cribbage!D13","v":2},{"$f":"+Cribbage!E13","v":1},{"$f":"+Cribbage!F13","v":3},{"$f":"+Cribbage!G13","v":0},null,{"$f":"+Buti!A13","v":9},{"$f":"+Buti!B13","v":"Sebas"},{"$f":"+Buti!C13","v":-50},{"$f":"+Buti!D13","v":-478},{"$f":"+Buti!E13","v":13},{"$f":"+Buti!F13","v":0}]
[null,null,null,{"$f":"+Wizard!A14","v":10},{"$f":"+Wizard!B14","v":"Xavier"},{"$f":"+Wizard!C14","v":42},{"$f":"+Wizard!D14","v":1},{"$f":"+Wizard!E14","v":61},{"$f":"+Wizard!F14","v":0},null,{"$f":"+King!A14","v":10},{"$f":"+King!B14","v":"Caty"},{"$f":"+King!C14","v":4},{"$f":"+King!D14","v":4},{"$f":"+King!E14","v":4},{"$f":"+King!F14","v":1.3333333333333333},{"$f":"+King!G14","v":0},null,{"$f":"+Cribbage!A14","v":10},{"$f":"+Cribbage!B14","v":"Grau"},{"$f":"+Cribbage!C14","v":1.5},{"$f":"+Cribbage!D14","v":2},{"$f":"+Cribbage!E14","v":1},{"$f":"+Cribbage!F14","v":2},{"$f":"+Cribbage!G14","v":0},null,{"$f":"+Buti!A14","v":10},{"$f":"+Buti!B14","v":"Mariajo"},{"$f":"+Buti!C14","v":10},{"$f":"+Buti!D14","v":24},{"$f":"+Buti!E14","v":1},{"$f":"+Buti!F14","v":0}]
[null,null,null,{"$f":"+Wizard!A15","v":11},{"$f":"+Wizard!B15","v":"Núria"},{"$f":"+Wizard!C15","v":11},{"$f":"+Wizard!D15","v":245.41666666666666},{"$f":"+Wizard!E15","v":28},{"$f":"+Wizard!F15","v":0},null,{"$f":"+King!A15","v":10},{"$f":"+King!B15","v":"Sergi"},{"$f":"+King!C15","v":4},{"$f":"+King!D15","v":7},{"$f":"+King!E15","v":1},{"$f":"+King!F15","v":2.6666666666666665},{"$f":"+King!G15","v":0},null,{"$f":"+Cribbage!A15","v":11},{"$f":"+Cribbage!B15","v":"Eito"},{"$f":"+Cribbage!C15","v":1},{"$f":"+Cribbage!D15","v":3},{"$f":"+Cribbage!E15","v":-2},{"$f":"+Cribbage!F15","v":3},{"$f":"+Cribbage!G15","v":0},null,{"$f":"+Buti!A15","v":11},{"$f":"+Buti!B15","v":"Jaume A"},{"$f":"+Buti!C15","v":10},{"$f":"+Buti!D15","v":5},{"$f":"+Buti!E15","v":1},{"$f":"+Buti!F15","v":0}]
[null,null,null,{"$f":"+Wizard!A16","v":12},{"$f":"+Wizard!B16","v":"Sebas"},{"$f":"+Wizard!C16","v":10},{"$f":"+Wizard!D16","v":153.4},{"$f":"+Wizard!E16","v":31},{"$f":"+Wizard!F16","v":0},null,{"$f":"+King!A16","v":12},{"$f":"+King!B16","v":"Grau"},{"$f":"+King!C16","v":2.5},{"$f":"+King!D16","v":6},{"$f":"+King!E16","v":-1},{"$f":"+King!F16","v":2.3333333333333335},{"$f":"+King!G16","v":0},null,{"$f":"+Cribbage!A16","v":12},{"$f":"+Cribbage!B16","v":"Gemma"},{"$f":"+Cribbage!C16","v":1},{"$f":"+Cribbage!D16","v":4},{"$f":"+Cribbage!E16","v":-2},{"$f":"+Cribbage!F16","v":3},{"$f":"+Cribbage!G16","v":0},null,{"$f":"+Buti!A16","v":12},{"$f":"+Buti!B16","v":"Carles"},{"$f":"+Buti!C16","v":-10},{"$f":"+Buti!D16","v":-20},{"$f":"+Buti!E16","v":1},{"$f":"+Buti!F16","v":0}]
[null,null,null,{"$f":"+Wizard!A17","v":13},{"$f":"+Wizard!B17","v":"Lluïsa"},{"$f":"+Wizard!C17","v":-1},{"$f":"+Wizard!D17","v":1},{"$f":"+Wizard!E17","v":61},{"$f":"+Wizard!F17","v":0},null,{"$f":"+King!A17","v":13},{"$f":"+King!B17","v":"Goretti"},{"$f":"+King!C17","v":2.5},{"$f":"+King!D17","v":7},{"$f":"+King!E17","v":-2},{"$f":"+King!F17","v":2.3333333333333335},{"$f":"+King!G17","v":0},null,{"$f":"+Cribbage!A17","v":13},{"$f":"+Cribbage!B17","v":"Isabel"},{"$f":"+Cribbage!C17","v":0.5},{"$f":"+Cribbage!D17","v":3},{"$f":"+Cribbage!E17","v":-2},{"$f":"+Cribbage!F17","v":1},{"$f":"+Cribbage!G17","v":0},null,{"$f":"+Buti!A17","v":13},{"$f":"+Buti!B17","v":"Nin"},{"$f":"+Buti!C17","v":-10},{"$f":"+Buti!D17","v":-24},{"$f":"+Buti!E17","v":1},{"$f":"+Buti!F17","v":0}]
[null,null,null,{"$f":"+Wizard!A18","v":14},{"$f":"+Wizard!B18","v":"Nogué"},{"$f":"+Wizard!C18","v":-13},{"$f":"+Wizard!D18","v":169.1},{"$f":"+Wizard!E18","v":12},{"$f":"+Wizard!F18","v":0},null,{"$f":"+King!A18","v":14},{"$f":"+King!B18","v":"Ana B"},{"$f":"+King!C18","v":2.5},{"$f":"+King!D18","v":8},{"$f":"+King!E18","v":-3},{"$f":"+King!F18","v":2.6666666666666665},{"$f":"+King!G18","v":0},null,{"$f":"+Cribbage!A18","v":14},{"$f":"+Cribbage!B18","v":"Ana B."},{"$f":"+Cribbage!C18","v":0},{"$f":"+Cribbage!D18","v":2},{"$f":"+Cribbage!E18","v":-2},{"$f":"+Cribbage!F18","v":1},{"$f":"+Cribbage!G18","v":0},null,{"$f":"+Buti!A18","v":14},{"$f":"+Buti!B18","v":"Gemma"},{"$f":"+Buti!C18","v":10},{"$f":"+Buti!D18","v":2},{"$f":"+Buti!E18","v":5},{"$f":"+Buti!F18","v":0}]
[null,null,null,{"$f":"+Wizard!A19","v":15},{"$f":"+Wizard!B19","v":"Eito"},{"$f":"+Wizard!C19","v":-36},{"$f":"+Wizard!D19","v":1},{"$f":"+Wizard!E19","v":23},{"$f":"+Wizard!F19","v":0},null,{"$f":"+King!A19","v":15},{"$f":"+King!B19","v":"Carme"},{"$f":"+King!C19","v":0},{"$f":"+King!D19","v":4},{"$f":"+King!E19","v":-4},{"$f":"+King!F19","v":1.3333333333333333},{"$f":"+King!G19","v":0},null,null,null,null,null,null,null,null,null,{"$f":"+Buti!A19","v":15},{"$f":"+Buti!B19","v":"Isabel"},{"$f":"+Buti!C19","v":-10},{"$f":"+Buti!D19","v":-45},{"$f":"+Buti!E19","v":3},{"$f":"+Buti!F19","v":0}]
[null,null,null,{"$f":"+Wizard!A20","v":16},{"$f":"+Wizard!B20","v":"Lleixà"},{"$f":"+Wizard!C20","v":-50},{"$f":"+Wizard!D20","v":1},{"$f":"+Wizard!E20","v":41},{"$f":"+Wizard!F20","v":0},null,{"$f":"+King!A20","v":16},{"$f":"+King!B20","v":"Nin"},{"$f":"+King!C20","v":0},{"$f":"+King!D20","v":6},{"$f":"+King!E20","v":-8},{"$f":"+King!F20","v":2.6666666666666665},{"$f":"+King!G20","v":0},null,null,null,null,null,null,null,null,null,{"$f":"+Buti!A20","v":16},{"$f":"+Buti!B20","v":"Sergi"},{"$f":"+Buti!C20","v":-10},{"$f":"+Buti!D20","v":-57},{"$f":"+Buti!E20","v":1},{"$f":"+Buti!F20","v":0}]
[null,null,null,{"$f":"+Wizard!A21","v":17},{"$f":"+Wizard!B21","v":"Nin"},{"$f":"+Wizard!C21","v":-92},{"$f":"+Wizard!D21","v":124.54545454545455},{"$f":"+Wizard!E21","v":49},{"$f":"+Wizard!F21","v":0},null,null,null,null,null,null,null,null,null,null,null,null,null,null,null,null,null,{"$f":"+Buti!A21","v":17},{"$f":"+Buti!B21","v":"Caty"},{"$f":"+Buti!C21","v":-10},{"$f":"+Buti!D21","v":-95},{"$f":"+Buti!E21","v":1},{"$f":"+Buti!F21","v":0}]
[null,null,null,{"$f":"+Wizard!A22","v":18},{"$f":"+Wizard!B22","v":"Manolo"},{"$f":"+Wizard!C22","v":-173},{"$f":"+Wizard!D22","v":187.5},{"$f":"+Wizard!E22","v":995},{"$f":"+Wizard!F22","v":0},null,null,null,null,null,null,null,null,null,null,null,null,null,null,null,null,null,{"$f":"+Buti!A22","v":18},{"$f":"+Buti!B22","v":"Rosa M."},{"$f":"+Buti!C22","v":-30},{"$f":"+Buti!D22","v":-58},{"$f":"+Buti!E22","v":3},{"$f":"+Buti!F22","v":0}]
[null,null,null,{"$f":"+Wizard!A23","v":19},{"$f":"+Wizard!B23","v":"Tito"},{"$f":"+Wizard!C23","v":-176},{"$f":"+Wizard!D23","v":189.23076923076923},{"$f":"+Wizard!E23","v":510},{"$f":"+Wizard!F23","v":0}]
[null,null,null,{"$f":"+Wizard!A24","v":20},{"$f":"+Wizard!B24","v":"Ana B"},{"$f":"+Wizard!C24","v":-235},{"$f":"+Wizard!D24","v":195.94117647058823},{"$f":"+Wizard!E24","v":269},{"$f":"+Wizard!F24","v":0}]
[null,null,null,{"$f":"+Wizard!A25","v":21},{"$f":"+Wizard!B25","v":"Goretti"},{"$f":"+Wizard!C25","v":-260},{"$f":"+Wizard!D25","v":215.26315789473685},{"$f":"+Wizard!E25","v":369},{"$f":"+Wizard!F25","v":0}]
[null,null,null,{"$f":"+Wizard!A26","v":22},{"$f":"+Wizard!B26","v":"Grau"},{"$f":"+Wizard!C26","v":-348},{"$f":"+Wizard!D26","v":226.42857142857142},{"$f":"+Wizard!E26","v":1007},{"$f":"+Wizard!F26","v":0}]
[null,null,null,{"$f":"+Wizard!A27","v":23},{"$f":"+Wizard!B27","v":"Nancy"},{"$f":"+Wizard!C27","v":-399},{"$f":"+Wizard!D27","v":170},{"$f":"+Wizard!E27","v":224},{"$f":"+Wizard!F27","v":0}]
[null,null,null,{"$f":"+Wizard!A28","v":24},{"$f":"+Wizard!B28","v":"Gemma"},{"$f":"+Wizard!C28","v":-420},{"$f":"+Wizard!D28","v":158},{"$f":"+Wizard!E28","v":768},{"$f":"+Wizard!F28","v":0}]
[null,null,null,{"$f":"+Wizard!A29","v":25},{"$f":"+Wizard!B29","v":"Òscar"},{"$f":"+Wizard!C29","v":1},{"$f":"+Wizard!D29","v":125.5},{"$f":"+Wizard!E29","v":1},{"$f":"+Wizard!F29","v":0}]
[null,null,null,{"$f":"+Wizard!A30","v":26},{"$f":"+Wizard!B30","v":"Caty"},{"$f":"+Wizard!C30","v":-1},{"$f":"+Wizard!D30","v":340},{"$f":"+Wizard!E30","v":1},{"$f":"+Wizard!F30","v":0}]
[null,null,null,{"$f":"+Wizard!A31","v":27},{"$f":"+Wizard!B31","v":"Christophe"},{"$f":"+Wizard!C31","v":-3},{"$f":"+Wizard!D31","v":30.5},{"$f":"+Wizard!E31","v":1},{"$f":"+Wizard!F31","v":0}]
[null,null,null,{"$f":"+Wizard!A32","v":28},{"$f":"+Wizard!B32","v":"Mariajo"},{"$f":"+Wizard!C32","v":-6},{"$f":"+Wizard!D32","v":170},{"$f":"+Wizard!E32","v":3},{"$f":"+Wizard!F32","v":0}]
[]
[null,null,null,{"$f":"+Kul!A1","v":"KUL"},null,null,null,null,null,null,{"$f":"+Podrida!A1","v":"PODRIDA"},null,null,null,null,null,null,null,"TUTE CABRÒ",null,null,null,null,null,null,null,{"$f":"+'Skull King'!A1","v":"SKULL KING"}]
[]
[null,null,null,null,null,{"$f":"+Kul!C4","v":"Premi"},{"$f":"+Kul!D4","v":"Punts"},{"$f":"+Kul!E4","v":"Partides"},{"$f":"+Kul!F4","v":"General"},null,null,null,{"$f":"+Podrida!C4","v":"Premi"},{"$f":"+Podrida!D4","v":"Reptes"},{"$f":"+Podrida!E4","v":"Punts"},{"$f":"+Podrida!F4","v":"Partides"},{"$f":"+Podrida!G4","v":"General"},null,null,null,"Premi","Punts","Partides","General",null,null,null,null,{"$f":"+'Skull King'!C4","v":"Premi"},{"$f":"+'Skull King'!D4","v":"Punts"},{"$f":"+'Skull King'!E4","v":"Partides"},{"$f":"+'Skull King'!F4","v":"General"}]
[null,null,null,{"$f":"+Kul!A5","v":1},{"$f":"+Kul!B5","v":"Jordi"},{"$f":"+Kul!C5","v":34},{"$f":"+Kul!D5","v":24},{"$f":"+Kul!E5","v":12},{"$f":"+Kul!F5","v":80},null,{"$f":"+Podrida!A5","v":1},{"$f":"+Podrida!B5","v":"Sebas"},{"$f":"+Podrida!C5","v":2.5},{"$f":"+Podrida!D5","v":3},{"$f":"+Podrida!E5","v":4},{"$f":"+Podrida!F5","v":4},{"$f":"+Podrida!G5","v":0},null,1,{"$f":"+'Tute cabrò'!B5","v":"Jordi"},{"$f":"+'Tute cabrò'!C5","v":179.33333333333334},{"$f":"+'Tute cabrò'!D5","v":1.6206896551724137},{"$f":"+'Tute cabrò'!E5","v":58},{"$f":"+'Tute cabrò'!F5","v":80},null,null,{"$f":"+'Skull King'!A5","v":1},{"$f":"+'Skull King'!B5","v":"Sergi"},{"$f":"+'Skull King'!C5","v":41},{"$f":"+'Skull King'!D5","v":247.77777777777777},{"$f":"+'Skull King'!E5","v":9},{"$f":"+'Skull King'!F5","v":80}]
[null,null,null,{"$f":"+Kul!A6","v":2},{"$f":"+Kul!B6","v":"Núria"},{"$f":"+Kul!C6","v":22},{"$f":"+Kul!D6","v":-5},{"$f":"+Kul!E6","v":9},{"$f":"+Kul!F6","v":40},null,{"$f":"+Podrida!A6","v":2},{"$f":"+Podrida!B6","v":"Carles"},{"$f":"+Podrida!C6","v":2},{"$f":"+Podrida!D6","v":2},{"$f":"+Podrida!E6","v":2},{"$f":"+Podrida!F6","v":0.66666666666666663},{"$f":"+Podrida!G6","v":0},null,2,{"$f":"+'Tute cabrò'!B6","v":"Sebas"},{"$f":"+'Tute cabrò'!C6","v":30},{"$f":"+'Tute cabrò'!D6","v":2.0303030303030303},{"$f":"+'Tute cabrò'!E6","v":33},{"$f":"+'Tute cabrò'!F6","v":40},null,null,{"$f":"+'Skull King'!A6","v":2},{"$f":"+'Skull King'!B6","v":"Carles"},{"$f":"+'Skull King'!C6","v":35.5},{"$f":"+'Skull King'!D6","v":205.38461538461539},{"$f":"+'Skull King'!E6","v":13},{"$f":"+'Skull King'!F6","v":40}]
[null,null,null,{"$f":"+Kul!A7","v":3},{"$f":"+Kul!B7","v":"Òscar"},{"$f":"+Kul!C7","v":-1},{"$f":"+Kul!D7","v":19},{"$f":"+Kul!E7","v":8},{"$f":"+Kul!F7","v":20},null,{"$f":"+Podrida!A7","v":3},{"$f":"+Podrida!B7","v":"Jordi"},{"$f":"+Podrida!C7","v":2},{"$f":"+Podrida!D7","v":3},{"$f":"+Podrida!E7","v":2},{"$f":"+Podrida!F7","v":4},{"$f":"+Podrida!G7","v":0},null,3,{"$f":"+'Tute cabrò'!B7","v":"Òscar"},{"$f":"+'Tute cabrò'!C7","v":20},{"$f":"+'Tute cabrò'!D7","v":1.8333333333333333},{"$f":"+'Tute cabrò'!E7","v":6},{"$f":"+'Tute cabrò'!F7","v":20},null,null,{"$f":"+'Skull King'!A7","v":3},{"$f":"+'Skull King'!B7","v":"Manel"},{"$f":"+'Skull King'!C7","v":-27.5},{"$f":"+'Skull King'!D7","v":157.27272727272728},{"$f":"+'Skull King'!E7","v":11},{"$f":"+'Skull King'!F7","v":20}]
[null,null,null,{"$f":"+Kul!A8","v":4},{"$f":"+Kul!B8","v":"Gemma"},{"$f":"+Kul!C8","v":-4},{"$f":"+Kul!D8","v":-14},{"$f":"+Kul!E8","v":7},{"$f":"+Kul!F8","v":10},null,{"$f":"+Podrida!A8","v":4},{"$f":"+Podrida!B8","v":"Nogué"},{"$f":"+Podrida!C8","v":1.5},{"$f":"+Podrida!D8","v":3},{"$f":"+Podrida!E8","v":0},{"$f":"+Podrida!F8","v":4},{"$f":"+Podrida!G8","v":0},null,4,{"$f":"+'Tute cabrò'!B8","v":"Grau"},{"$f":"+'Tute cabrò'!C8","v":-10},{"$f":"+'Tute cabrò'!D8","v":2.2000000000000002},{"$f":"+'Tute cabrò'!E8","v":10},{"$f":"+'Tute cabrò'!F8","v":10},null,null,{"$f":"+'Skull King'!A8","v":4},{"$f":"+'Skull King'!B8","v":"Nin"},{"$f":"+'Skull King'!C8","v":-30},{"$f":"+'Skull King'!D8","v":160},{"$f":"+'Skull King'!E8","v":9},{"$f":"+'Skull King'!F8","v":10}]
[null,null,null,{"$f":"+Kul!A9","v":5},{"$f":"+Kul!B9","v":"Sebas"},{"$f":"+Kul!C9","v":-9},{"$f":"+Kul!D9","v":1},{"$f":"+Kul!E9","v":8},{"$f":"+Kul!F9","v":5},null,{"$f":"+Podrida!A9","v":5},{"$f":"+Podrida!B9","v":"Marina"},{"$f":"+Podrida!C9","v":1},{"$f":"+Podrida!D9","v":2},{"$f":"+Podrida!E9","v":0},{"$f":"+Podrida!F9","v":0.66666666666666663},{"$f":"+Podrida!G9","v":0},null,5,{"$f":"+'Tute cabrò'!B9","v":"Goretti"},{"$f":"+'Tute cabrò'!C9","v":-20},{"$f":"+'Tute cabrò'!D9","v":2},{"$f":"+'Tute cabrò'!E9","v":12},{"$f":"+'Tute cabrò'!F9","v":5},null,null,{"$f":"+'Skull King'!A9","v":5},{"$f":"+'Skull King'!B9","v":"Tito"},{"$f":"+'Skull King'!C9","v":9},{"$f":"+'Skull King'!D9","v":236},{"$f":"+'Skull King'!E9","v":5},{"$f":"+'Skull King'!F9","v":0}]
[null,null,null,{"$f":"+Kul!A10","v":6},{"$f":"+Kul!B10","v":"Nogué"},{"$f":"+Kul!C10","v":-29},{"$f":"+Kul!D10","v":-20},{"$f":"+Kul!E10","v":6},{"$f":"+Kul!F10","v":0},null,{"$f":"+Podrida!A10","v":6},{"$f":"+Podrida!B10","v":"Jeff"},{"$f":"+Podrida!C10","v":0},{"$f":"+Podrida!D10","v":2},{"$f":"+Podrida!E10","v":-2},{"$f":"+Podrida!F10","v":0.66666666666666663},{"$f":"+Podrida!G10","v":0},null,6,{"$f":"+'Tute cabrò'!B10","v":"Núria"},{"$f":"+'Tute cabrò'!C10","v":-40.666666666666664},{"$f":"+'Tute cabrò'!D10","v":2.5517241379310347},{"$f":"+'Tute cabrò'!E10","v":29},{"$f":"+'Tute cabrò'!F10","v":0},null,null,{"$f":"+'Skull King'!A10","v":6},{"$f":"+'Skull King'!B10","v":"Jeff"},{"$f":"+'Skull King'!C10","v":0},{"$f":"+'Skull King'!D10","v":170},{"$f":"+'Skull King'!E10","v":2},{"$f":"+'Skull King'!F10","v":0}]
[null,null,null,{"$f":"+Kul!A11","v":7},{"$f":"+Kul!B11","v":"Goretti"},{"$f":"+Kul!C11","v":16},{"$f":"+Kul!D11","v":8},{"$f":"+Kul!E11","v":5},{"$f":"+Kul!F11","v":0},null,{"$f":"+Podrida!A11","v":7},{"$f":"+Podrida!B11","v":"Núria"},{"$f":"+Podrida!C11","v":0},{"$f":"+Podrida!D11","v":3},{"$f":"+Podrida!E11","v":-6},{"$f":"+Podrida!F11","v":4},{"$f":"+Podrida!G11","v":0},null,7,{"$f":"+'Tute cabrò'!B11","v":"Gemma"},{"$f":"+'Tute cabrò'!C11","v":-48},{"$f":"+'Tute cabrò'!D11","v":2.6666666666666665},{"$f":"+'Tute cabrò'!E11","v":9},{"$f":"+'Tute cabrò'!F11","v":0},null,null,{"$f":"+'Skull King'!A11","v":7},{"$f":"+'Skull King'!B11","v":"Jordi"},{"$f":"+'Skull King'!C11","v":0},{"$f":"+'Skull King'!D11","v":130},{"$f":"+'Skull King'!E11","v":1},{"$f":"+'Skull King'!F11","v":0}]
[null,null,null,{"$f":"+Kul!A12","v":8},{"$f":"+Kul!B12","v":"Sergi"},{"$f":"+Kul!C12","v":8},{"$f":"+Kul!D12","v":0},{"$f":"+Kul!E12","v":3},{"$f":"+Kul!F12","v":0},null,null,null,null,null,null,null,null,null,8,{"$f":"+'Tute cabrò'!B12","v":"Montse"},{"$f":"+'Tute cabrò'!C12","v":-109.66666666666666},{"$f":"+'Tute cabrò'!D12","v":2.7272727272727271},{"$f":"+'Tute cabrò'!E12","v":33},{"$f":"+'Tute cabrò'!F12","v":0},null,null,{"$f":"+'Skull King'!A12","v":8},{"$f":"+'Skull King'!B12","v":"Marina"},{"$f":"+'Skull King'!C12","v":-4},{"$f":"+'Skull King'!D12","v":90},{"$f":"+'Skull King'!E12","v":2},{"$f":"+'Skull King'!F12","v":0}]
[null,null,null,{"$f":"+Kul!A13","v":9},{"$f":"+Kul!B13","v":"Carles"},{"$f":"+Kul!C13","v":4},{"$f":"+Kul!D13","v":15},{"$f":"+Kul!E13","v":2},{"$f":"+Kul!F13","v":0},null,null,null,null,null,null,null,null,null,9,{"$f":"+'Tute cabrò'!B13","v":"Ana"},{"$f":"+'Tute cabrò'!C13","v":10},{"$f":"+'Tute cabrò'!D13","v":1.5},{"$f":"+'Tute cabrò'!E13","v":4},{"$f":"+'Tute cabrò'!F13","v":0},null,null,{"$f":"+'Skull King'!A13","v":9},{"$f":"+'Skull King'!B13","v":"Alfred"},{"$f":"+'Skull King'!C13","v":-10},{"$f":"+'Skull King'!D13","v":100},{"$f":"+'Skull King'!E13","v":1},{"$f":"+'Skull King'!F13","v":0}]
[null,null,null,{"$f":"+Kul!A14","v":10},{"$f":"+Kul!B14","v":"Grau"},{"$f":"+Kul!C14","v":3},{"$f":"+Kul!D14","v":-3},{"$f":"+Kul!E14","v":3},{"$f":"+Kul!F14","v":0},null,null,null,null,null,null,null,null,null,10,{"$f":"+'Tute cabrò'!B14","v":"Sergi"},{"$f":"+'Tute cabrò'!C14","v":7},{"$f":"+'Tute cabrò'!D14","v":0},{"$f":"+'Tute cabrò'!E14","v":1},{"$f":"+'Tute cabrò'!F14","v":0}]
[null,null,null,{"$f":"+Kul!A15","v":11},{"$f":"+Kul!B15","v":"Caty"},{"$f":"+Kul!C15","v":2},{"$f":"+Kul!D15","v":3},{"$f":"+Kul!E15","v":2},{"$f":"+Kul!F15","v":0},null,null,null,null,null,null,null,null,null,11,{"$f":"+'Tute cabrò'!B15","v":"Caty"},{"$f":"+'Tute cabrò'!C15","v":0},{"$f":"+'Tute cabrò'!D15","v":2},{"$f":"+'Tute cabrò'!E15","v":1},{"$f":"+'Tute cabrò'!F15","v":0}]
[null,null,null,{"$f":"+Kul!A16","v":12},{"$f":"+Kul!B16","v":"Manolo"},{"$f":"+Kul!C16","v":-2},{"$f":"+Kul!D16","v":3},{"$f":"+Kul!E16","v":3},{"$f":"+Kul!F16","v":0},null,null,null,null,null,null,null,null,null,12,{"$f":"+'Tute cabrò'!B16","v":"Nin"},{"$f":"+'Tute cabrò'!C16","v":0},{"$f":"+'Tute cabrò'!D16","v":2},{"$f":"+'Tute cabrò'!E16","v":2},{"$f":"+'Tute cabrò'!F16","v":0}]
[null,null,null,{"$f":"+Kul!A17","v":13},{"$f":"+Kul!B17","v":"Mariajo"},{"$f":"+Kul!C17","v":-5},{"$f":"+Kul!D17","v":-5},{"$f":"+Kul!E17","v":5},{"$f":"+Kul!F17","v":0},null,null,null,null,null,null,null,null,null,13,{"$f":"+'Tute cabrò'!B17","v":"Manolo"},{"$f":"+'Tute cabrò'!C17","v":0},{"$f":"+'Tute cabrò'!D17","v":3},{"$f":"+'Tute cabrò'!E17","v":2},{"$f":"+'Tute cabrò'!F17","v":0}]
[null,null,null,{"$f":"+Kul!A18","v":14},{"$f":"+Kul!B18","v":"Carme"},{"$f":"+Kul!C18","v":-10},{"$f":"+Kul!D18","v":-2},{"$f":"+Kul!E18","v":1},{"$f":"+Kul!F18","v":0},null,null,null,null,null,null,null,null,null,14,{"$f":"+'Tute cabrò'!B18","v":"Carles"},{"$f":"+'Tute cabrò'!C18","v":-3},{"$f":"+'Tute cabrò'!D18","v":1.5},{"$f":"+'Tute cabrò'!E18","v":2},{"$f":"+'Tute cabrò'!F18","v":0}]
[null,null,null,{"$f":"+Kul!A19","v":15},{"$f":"+Kul!B19","v":"Ana B"},{"$f":"+Kul!C19","v":-13},{"$f":"+Kul!D19","v":-12},{"$f":"+Kul!E19","v":3},{"$f":"+Kul!F19","v":0},null,null,null,null,null,null,null,null,null,15,{"$f":"+'Tute cabrò'!B19","v":"Mariajo"},{"$f":"+'Tute cabrò'!C19","v":-15},{"$f":"+'Tute cabrò'!D19","v":3},{"$f":"+'Tute cabrò'!E19","v":5},{"$f":"+'Tute cabrò'!F19","v":0}]
[null,null,null,{"$f":"+Kul!A20","v":16},{"$f":"+Kul!B20","v":"Nin"},{"$f":"+Kul!C20","v":-22},{"$f":"+Kul!D20","v":-12},{"$f":"+Kul!E20","v":2},{"$f":"+Kul!F20","v":0}]
[]
[null,null,null,{"$f":"+Pumba!A1","v":"PUMBA"},null,null,null,null,null,null,{"$f":"+Texas!A1","v":"POKER TEXAS"},null,null,null,null,null,null,null,{"$f":"+Mus!A1","v":"MUS"},null,null,null,null,null,null,null,{"$f":"+'Black Jack'!A1","v":"BLACK JACK"}]
[]
[null,null,null,null,null,{"$f":"+Pumba!C4","v":"Premi"},{"$f":"+Pumba!D4","v":"Punts"},{"$f":"+Pumba!E4","v":"Partides"},{"$f":"+Pumba!F4","v":"General"},null,null,null,{"$f":"+Texas!C4","v":"Premi"},{"$f":"+Texas!D4","v":"Punts"},{"$f":"+Texas!E4","v":"Partides"},{"$f":"+Texas!F4","v":"General"},null,null,null,null,{"$f":"+Mus!C4","v":"Premi"},{"$f":"+Mus!D4","v":"Punts"},{"$f":"+Mus!E4","v":"Partides"},{"$f":"+Mus!F4","v":"General"},null,null,null,null,{"$f":"+'Black Jack'!C4","v":"Premi"},{"$f":"+'Black Jack'!D4","v":"Punts"},{"$f":"+'Black Jack'!E4","v":"Partides"},{"$f":"+'Black Jack'!F4","v":"General"}]
[null,null,null,{"$f":"+Pumba!A5","v":1},{"$f":"+Pumba!B5","v":"Carles"},{"$f":"+Pumba!C5","v":20},{"$f":"+Pumba!D5","v":8.9499999999999993},{"$f":"+Pumba!E5","v":4},{"$f":"+Pumba!F5","v":0},null,{"$f":"+Texas!A5","v":1},{"$f":"+Texas!B5","v":"Carles"},{"$f":"+Texas!C5","v":10},{"$f":"+Texas!D5","v":30.5},{"$f":"+Texas!E5","v":1},{"$f":"+Texas!F5","v":0},null,null,{"$f":"+Mus!A5","v":1},{"$f":"+Mus!B5","v":"Carles"},{"$f":"+Mus!C5","v":7},{"$f":"+Mus!D5","v":2},{"$f":"+Mus!E5","v":1},{"$f":"+Mus!F5","v":0},null,null,{"$f":"+'Black Jack'!A5","v":1},{"$f":"+'Black Jack'!B5","v":"Manel"},{"$f":"+'Black Jack'!C5","v":10},{"$f":"+'Black Jack'!D5","v":10.5},{"$f":"+'Black Jack'!E5","v":1},{"$f":"+'Black Jack'!F5","v":0}]
[null,null,null,{"$f":"+Pumba!A6","v":2},{"$f":"+Pumba!B6","v":"Manolo"},{"$f":"+Pumba!C6","v":0},{"$f":"+Pumba!D6","v":10.4},{"$f":"+Pumba!E6","v":4},{"$f":"+Pumba!F6","v":0},null,{"$f":"+Texas!A6","v":2},{"$f":"+Texas!B6","v":"Nin"},{"$f":"+Texas!C6","v":4},{"$f":"+Texas!D6","v":25.5},{"$f":"+Texas!E6","v":1},{"$f":"+Texas!F6","v":0},null,null,{"$f":"+Mus!A6","v":2},{"$f":"+Mus!B6","v":"Sergi"},{"$f":"+Mus!C6","v":7},{"$f":"+Mus!D6","v":2},{"$f":"+Mus!E6","v":1},{"$f":"+Mus!F6","v":0},null,null,{"$f":"+'Black Jack'!A6","v":2},{"$f":"+'Black Jack'!B6","v":"Nin"},{"$f":"+'Black Jack'!C6","v":4},{"$f":"+'Black Jack'!D6","v":-3},{"$f":"+'Black Jack'!E6","v":1},{"$f":"+'Black Jack'!F6","v":0}]
[null,null,null,{"$f":"+Pumba!A7","v":3},{"$f":"+Pumba!B7","v":"Mariajo"},{"$f":"+Pumba!C7","v":0},{"$f":"+Pumba!D7","v":12.25},{"$f":"+Pumba!E7","v":2},{"$f":"+Pumba!F7","v":0},null,{"$f":"+Texas!A7","v":3},{"$f":"+Texas!B7","v":"Manolo"},{"$f":"+Texas!C7","v":-4},{"$f":"+Texas!D7","v":-28},{"$f":"+Texas!E7","v":1},{"$f":"+Texas!F7","v":0},null,null,{"$f":"+Mus!A7","v":3},{"$f":"+Mus!B7","v":"Lucía"},{"$f":"+Mus!C7","v":-7},{"$f":"+Mus!D7","v":-2},{"$f":"+Mus!E7","v":1},{"$f":"+Mus!F7","v":0},null,null,{"$f":"+'Black Jack'!A7","v":3},{"$f":"+'Black Jack'!B7","v":"Carles"},{"$f":"+'Black Jack'!C7","v":-4},{"$f":"+'Black Jack'!D7","v":-8.5},{"$f":"+'Black Jack'!E7","v":1},{"$f":"+'Black Jack'!F7","v":0}]
[null,null,null,{"$f":"+Pumba!A8","v":4},{"$f":"+Pumba!B8","v":"Sergi"},{"$f":"+Pumba!C8","v":-6},{"$f":"+Pumba!D8","v":14.5},{"$f":"+Pumba!E8","v":2},{"$f":"+Pumba!F8","v":0},null,{"$f":"+Texas!A8","v":4},{"$f":"+Texas!B8","v":"Sergi"},{"$f":"+Texas!C8","v":-10},{"$f":"+Texas!D8","v":-28},{"$f":"+Texas!E8","v":1},{"$f":"+Texas!F8","v":0},null,null,{"$f":"+Mus!A8","v":4},{"$f":"+Mus!B8","v":"Manolo"},{"$f":"+Mus!C8","v":-7},{"$f":"+Mus!D8","v":-2},{"$f":"+Mus!E8","v":1},{"$f":"+Mus!F8","v":0},null,null,{"$f":"+'Black Jack'!A8","v":4},{"$f":"+'Black Jack'!B8","v":"Sergi"},{"$f":"+'Black Jack'!C8","v":-10},{"$f":"+'Black Jack'!D8","v":-32},{"$f":"+'Black Jack'!E8","v":1},{"$f":"+'Black Jack'!F8","v":0}]
[]
[null,null,null,{"$f":"+'7 i mig'!A1","v":"7 i mig"},null,null,null,null,null,null,{"$f":"+Cors!A1","v":"CORS"}]
[]
[null,null,null,null,null,{"$f":"+'7 i mig'!C4","v":"Premi"},{"$f":"+'7 i mig'!D4","v":"Punts"},{"$f":"+'7 i mig'!E4","v":"Partides"},{"$f":"+'7 i mig'!F4","v":"General"},null,null,null,{"$f":"+Cors!C4","v":"Premi"},{"$f":"+Cors!D4","v":"Reptes"},{"$f":"+Cors!E4","v":"Punts"},{"$f":"+Cors!F4","v":"Partides"},{"$f":"+Cors!G4","v":"General"}]
[null,null,null,{"$f":"+'7 i mig'!A5","v":1},{"$f":"+'7 i mig'!B5","v":"Carles"},{"$f":"+'7 i mig'!C5","v":10},{"$f":"+'7 i mig'!D5","v":7},{"$f":"+'7 i mig'!E5","v":1},{"$f":"+'7 i mig'!F5","v":0},null,{"$f":"+Cors!A5","v":1},{"$f":"+Cors!B5","v":"Manolo"},{"$f":"+Cors!C5","v":3.5},{"$f":"+Cors!D5","v":4},{"$f":"+Cors!E5","v":4},{"$f":"+Cors!F5","v":2},{"$f":"+Cors!G5","v":0}]
[null,null,null,{"$f":"+'7 i mig'!A6","v":2},{"$f":"+'7 i mig'!B6","v":"Manel"},{"$f":"+'7 i mig'!C6","v":0},{"$f":"+'7 i mig'!D6","v":-1},{"$f":"+'7 i mig'!E6","v":1},{"$f":"+'7 i mig'!F6","v":0},null,{"$f":"+Cors!A6","v":2},{"$f":"+Cors!B6","v":"Carles"},{"$f":"+Cors!C6","v":2},{"$f":"+Cors!D6","v":4},{"$f":"+Cors!E6","v":0},{"$f":"+Cors!F6","v":2},{"$f":"+Cors!G6","v":0}]
[null,null,null,{"$f":"+'7 i mig'!A7","v":3},{"$f":"+'7 i mig'!B7","v":"Nin"},{"$f":"+'7 i mig'!C7","v":-10},{"$f":"+'7 i mig'!D7","v":-6},{"$f":"+'7 i mig'!E7","v":1},{"$f":"+'7 i mig'!F7","v":0},null,{"$f":"+Cors!A7","v":3},{"$f":"+Cors!B7","v":"Nin"},{"$f":"+Cors!C7","v":1.5},{"$f":"+Cors!D7","v":4},{"$f":"+Cors!E7","v":-2},{"$f":"+Cors!F7","v":2},{"$f":"+Cors!G7","v":0}]
[null,null,null,null,null,null,null,null,null,null,{"$f":"+Cors!A8","v":4},{"$f":"+Cors!B8","v":"Tito"},{"$f":"+Cors!C8","v":1},{"$f":"+Cors!D8","v":3},{"$f":"+Cors!E8","v":0},{"$f":"+Cors!F8","v":1},{"$f":"+Cors!G8","v":0}]
[null,null,null,null,null,null,null,null,null,null,{"$f":"+Cors!A9","v":5},{"$f":"+Cors!B9","v":"Cyber X"},{"$f":"+Cors!C9","v":1},{"$f":"+Cors!D9","v":3},{"$f":"+Cors!E9","v":-1},{"$f":"+Cors!F9","v":1},{"$f":"+Cors!G9","v":0}]
[]
[]
[]
[]
[]
[]
[]
[]
[]
[]
[]
[]
[]
[]
[]
[]
[]
[]
[]
[]
[]
[]
[]
[null,null,null,null,null,null,null,null,null,null,{"$f":"+Pumba!A9","v":5},{"$f":"+Pumba!B9","v":"Nin"},{"$f":"+Pumba!C9","v":-14},{"$f":"+Pumba!D9","v":20.875},{"$f":"+Pumba!E9","v":2},{"$f":"+Pumba!F9","v":0},null,{"$f":"+Tarot!A1","v":"TAROT"}]
[null,null,null,null,null,null,null,null,null,null,{"$f":"+Pumba!A10","v":6},{"$f":"+Pumba!B10","v":"Sebas"},{"$f":"+Pumba!C10","v":-100000000},{"$f":"+Pumba!D10","v":0},{"$f":"+Pumba!E10","v":0},{"$f":"+Pumba!F10","v":0}]
[null,null,null,null,null,null,null,null,null,null,{"$f":"+Pumba!A11","v":7},{"$f":"+Pumba!B11","v":"Jordi"},{"$f":"+Pumba!C11","v":-100000000},{"$f":"+Pumba!D11","v":0},{"$f":"+Pumba!E11","v":0},{"$f":"+Pumba!F11","v":0},null,null,null,{"$f":"+Tarot!C4","v":"Premi"},{"$f":"+Tarot!D4","v":"Punts"},{"$f":"+Tarot!E4","v":"Partides"},{"$f":"+Tarot!F4","v":"General"}]
[null,null,null,null,null,null,null,null,null,null,{"$f":"+Pumba!A12","v":8},{"$f":"+Pumba!B12","v":"Gemma"},{"$f":"+Pumba!C12","v":-100000000},{"$f":"+Pumba!D12","v":0},{"$f":"+Pumba!E12","v":0},{"$f":"+Pumba!F12","v":0},null,{"$f":"+Tarot!A5","v":1},{"$f":"+Tarot!B5","v":"Nin"},{"$f":"+Tarot!C5","v":-100000000},{"$f":"+Tarot!D5","v":1},{"$f":"+Tarot!E5","v":0},{"$f":"+Tarot!F5","v":0}]
[null,null,null,null,null,null,null,null,null,null,null,null,null,null,null,null,null,{"$f":"+Tarot!A6","v":2},{"$f":"+Tarot!B6","v":"Jordi"},{"$f":"+Tarot!C6","v":-100000000},{"$f":"+Tarot!D6","v":1},{"$f":"+Tarot!E6","v":0},{"$f":"+Tarot!F6","v":0}]
[null,null,null,null,null,null,null,null,null,null,null,null,null,null,null,null,null,{"$f":"+Tarot!A7","v":3},{"$f":"+Tarot!B7","v":"Sergi"},{"$f":"+Tarot!C7","v":-100000000},{"$f":"+Tarot!D7","v":1},{"$f":"+Tarot!E7","v":0},{"$f":"+Tarot!F7","v":0}]
[null,null,null,null,null,null,null,null,null,null,{"$f":"+Wizard!A10","v":6},{"$f":"+Wizard!B10","v":"Debi"},{"$f":"+Wizard!C10","v":154},{"$f":"+Wizard!D10","v":1},{"$f":"+Wizard!E10","v":192},{"$f":"+Wizard!F10","v":0},null,{"$f":"+Tarot!A8","v":4},{"$f":"+Tarot!B8","v":"Carles"},{"$f":"+Tarot!C8","v":-100000000},{"$f":"+Tarot!D8","v":1},{"$f":"+Tarot!E8","v":0},{"$f":"+Tarot!F8","v":0}]
[null,null,null,null,null,null,null,null,null,null,{"$f":"+Wizard!A11","v":7},{"$f":"+Wizard!B11","v":"Marina"},{"$f":"+Wizard!C11","v":145},{"$f":"+Wizard!D11","v":181.53846153846155},{"$f":"+Wizard!E11","v":390},{"$f":"+Wizard!F11","v":0},null,{"$f":"+Tarot!A9","v":5},{"$f":"+Tarot!B9","v":"Mariajo"},{"$f":"+Tarot!C9","v":-100000000},{"$f":"+Tarot!D9","v":1},{"$f":"+Tarot!E9","v":0},{"$f":"+Tarot!F9","v":0}]
[null,null,null,null,null,null,null,null,null,null,{"$f":"+Wizard!A12","v":8},{"$f":"+Wizard!B12","v":"Jordi"},{"$f":"+Wizard!C12","v":114},{"$f":"+Wizard!D12","v":232.85714285714286},{"$f":"+Wizard!E12","v":89},{"$f":"+Wizard!F12","v":0}]
[null,null,null,null,null,null,null,null,null,null,{"$f":"+Wizard!A13","v":9},{"$f":"+Wizard!B13","v":"Sergi"},{"$f":"+Wizard!C13","v":96},{"$f":"+Wizard!D13","v":230.95238095238096},{"$f":"+Wizard!E13","v":140},{"$f":"+Wizard!F13","v":0}]
[null,null,null,null,null,null,null,null,null,null,{"$f":"+Wizard!A14","v":10},{"$f":"+Wizard!B14","v":"Xavier"},{"$f":"+Wizard!C14","v":42},{"$f":"+Wizard!D14","v":1},{"$f":"+Wizard!E14","v":61},{"$f":"+Wizard!F14","v":0}]
[null,null,null,null,null,null,null,null,null,null,{"$f":"+Wizard!A15","v":11},{"$f":"+Wizard!B15","v":"Núria"},{"$f":"+Wizard!C15","v":11},{"$f":"+Wizard!D15","v":245.41666666666666},{"$f":"+Wizard!E15","v":28},{"$f":"+Wizard!F15","v":0}]
[null,null,null,null,null,null,null,null,null,null,{"$f":"+Wizard!A16","v":12},{"$f":"+Wizard!B16","v":"Sebas"},{"$f":"+Wizard!C16","v":10},{"$f":"+Wizard!D16","v":153.4},{"$f":"+Wizard!E16","v":31},{"$f":"+Wizard!F16","v":0}]
[null,null,null,null,null,null,null,null,null,null,{"$f":"+Wizard!A17","v":13},{"$f":"+Wizard!B17","v":"Lluïsa"},{"$f":"+Wizard!C17","v":-1},{"$f":"+Wizard!D17","v":1},{"$f":"+Wizard!E17","v":61},{"$f":"+Wizard!F17","v":0},null,{"$f":"+Buti!A9","v":5},{"$f":"+Buti!B9","v":"Òscar"},{"$f":"+Buti!C9","v":0},{"$f":"+Buti!D9","v":-118},{"$f":"+Buti!E9","v":13},{"$f":"+Buti!F9","v":5}]
[null,null,null,null,null,null,null,null,null,null,{"$f":"+Wizard!A18","v":14},{"$f":"+Wizard!B18","v":"Nogué"},{"$f":"+Wizard!C18","v":-13},{"$f":"+Wizard!D18","v":169.1},{"$f":"+Wizard!E18","v":12},{"$f":"+Wizard!F18","v":0},null,{"$f":"+Buti!A10","v":6},{"$f":"+Buti!B10","v":"Núria"},{"$f":"+Buti!C10","v":-10},{"$f":"+Buti!D10","v":115},{"$f":"+Buti!E10","v":28},{"$f":"+Buti!F10","v":0}]
[null,null,null,null,null,null,null,null,null,null,{"$f":"+Wizard!A19","v":15},{"$f":"+Wizard!B19","v":"Eito"},{"$f":"+Wizard!C19","v":-36},{"$f":"+Wizard!D19","v":1},{"$f":"+Wizard!E19","v":23},{"$f":"+Wizard!F19","v":0},null,{"$f":"+Buti!A11","v":7},{"$f":"+Buti!B11","v":"Manolo"},{"$f":"+Buti!C11","v":-10},{"$f":"+Buti!D11","v":-135},{"$f":"+Buti!E11","v":9},{"$f":"+Buti!F11","v":0}]
[null,null,null,null,null,null,null,null,null,null,{"$f":"+Wizard!A22","v":18},{"$f":"+Wizard!B22","v":"Manolo"},{"$f":"+Wizard!C22","v":-173},{"$f":"+Wizard!D22","v":187.5},{"$f":"+Wizard!E22","v":995},{"$f":"+Wizard!F22","v":0},null,{"$f":"+Buti!A12","v":8},{"$f":"+Buti!B12","v":"Goretti"},{"$f":"+Buti!C12","v":-30},{"$f":"+Buti!D12","v":-208},{"$f":"+Buti!E12","v":11},{"$f":"+Buti!F12","v":0}]
[null,null,null,null,null,null,null,null,null,null,{"$f":"+Wizard!A23","v":19},{"$f":"+Wizard!B23","v":"Tito"},{"$f":"+Wizard!C23","v":-176},{"$f":"+Wizard!D23","v":189.23076923076923},{"$f":"+Wizard!E23","v":510},{"$f":"+Wizard!F23","v":0},null,{"$f":"+Buti!A13","v":9},{"$f":"+Buti!B13","v":"Sebas"},{"$f":"+Buti!C13","v":-50},{"$f":"+Buti!D13","v":-478},{"$f":"+Buti!E13","v":13},{"$f":"+Buti!F13","v":0},null,{"$f":"+Pumba!A13","v":9},{"$f":"+Pumba!B13","v":"Montse"},{"$f":"+Pumba!C13","v":-100000000},{"$f":"+Pumba!D13","v":0},{"$f":"+Pumba!E13","v":0},{"$f":"+Pumba!F13","v":0}]
[null,null,null,null,null,null,null,null,null,null,{"$f":"+Wizard!A24","v":20},{"$f":"+Wizard!B24","v":"Ana B"},{"$f":"+Wizard!C24","v":-235},{"$f":"+Wizard!D24","v":195.94117647058823},{"$f":"+Wizard!E24","v":269},{"$f":"+Wizard!F24","v":0},null,{"$f":"+Buti!A14","v":10},{"$f":"+Buti!B14","v":"Mariajo"},{"$f":"+Buti!C14","v":10},{"$f":"+Buti!D14","v":24},{"$f":"+Buti!E14","v":1},{"$f":"+Buti!F14","v":0},null,{"$f":"+Pumba!A14","v":10},{"$f":"+Pumba!B14","v":"Tito"},{"$f":"+Pumba!C14","v":-100000000},{"$f":"+Pumba!D14","v":0},{"$f":"+Pumba!E14","v":0},{"$f":"+Pumba!F14","v":0}]
[null,null,null,null,null,null,null,null,null,null,{"$f":"+Wizard!A25","v":21},{"$f":"+Wizard!B25","v":"Goretti"},{"$f":"+Wizard!C25","v":-260},{"$f":"+Wizard!D25","v":215.26315789473685},{"$f":"+Wizard!E25","v":369},{"$f":"+Wizard!F25","v":0},null,{"$f":"+Buti!A15","v":11},{"$f":"+Buti!B15","v":"Jaume A"},{"$f":"+Buti!C15","v":10},{"$f":"+Buti!D15","v":5},{"$f":"+Buti!E15","v":1},{"$f":"+Buti!F15","v":0}]
[]
[]
[null,null,null,{"$f":"+Guinyot!A1","v":"GUINYOT"}]
[]
[null,null,null,null,null,{"$f":"+Guinyot!C4","v":"Premi"},{"$f":"+Guinyot!D4","v":"Punts"},{"$f":"+Guinyot!E4","v":"Partides"},{"$f":"+Guinyot!F4","v":"General"}]
[null,null,null,{"$f":"+Guinyot!A5","v":1},{"$f":"+Guinyot!B5","v":"Carles"},{"$f":"+Guinyot!C5","v":-100000000},{"$f":"+Guinyot!D5","v":0},{"$f":"+Guinyot!E5","v":0},{"$f":"+Guinyot!F5","v":0}]
[null,null,null,{"$f":"+Guinyot!A6","v":2},{"$f":"+Guinyot!B6","v":"Mariajo"},{"$f":"+Guinyot!C6","v":-100000000},{"$f":"+Guinyot!D6","v":0},{"$f":"+Guinyot!E6","v":0},{"$f":"+Guinyot!F6","v":0}]
[null,null,null,{"$f":"+Guinyot!A7","v":3},{"$f":"+Guinyot!B7","v":"Sergi"},{"$f":"+Guinyot!C7","v":-100000000},{"$f":"+Guinyot!D7","v":0},{"$f":"+Guinyot!E7","v":0},{"$f":"+Guinyot!F7","v":0}]
[null,null,null,{"$f":"+Guinyot!A8","v":4},{"$f":"+Guinyot!B8","v":"Manolo"},{"$f":"+Guinyot!C8","v":-100000000},{"$f":"+Guinyot!D8","v":0},{"$f":"+Guinyot!E8","v":0},{"$f":"+Guinyot!F8","v":0}]
[null,null,null,{"$f":"+Guinyot!A9","v":5},{"$f":"+Guinyot!B9","v":"Jordi"},{"$f":"+Guinyot!C9","v":-100000000},{"$f":"+Guinyot!D9","v":0},{"$f":"+Guinyot!E9","v":0},{"$f":"+Guinyot!F9","v":0}]
[null,null,null,null,null,null,null,null,null,null,{"$f":"+Cribbage!A10","v":6},{"$f":"+Cribbage!B10","v":"Nogué"},{"$f":"+Cribbage!C10","v":1},{"$f":"+Cribbage!D10","v":6},{"$f":"+Cribbage!E10","v":-20},{"$f":"+Cribbage!G10","v":0},null,null,null,null,null,null,null,null,{"$f":"+King!A10","v":6},{"$f":"+King!B10","v":"Sebas"},{"$f":"+King!C10","v":1.5},{"$f":"+King!D10","v":8},{"$f":"+King!E10","v":-10},{"$f":"+King!G10","v":0}]
[null,null,null,null,null,null,null,null,null,null,{"$f":"+Cribbage!A11","v":7},{"$f":"+Cribbage!B11","v":"Xavier"},{"$f":"+Cribbage!C11","v":0.5},{"$f":"+Cribbage!D11","v":3},{"$f":"+Cribbage!E11","v":-4},{"$f":"+Cribbage!G11","v":0},null,{"$f":"+Podrida!A11","v":7},{"$f":"+Podrida!B11","v":"Núria"},{"$f":"+Podrida!C11","v":0},{"$f":"+Podrida!D11","v":3},{"$f":"+Podrida!E11","v":-6},{"$f":"+Podrida!G11","v":0},null,{"$f":"+King!A11","v":7},{"$f":"+King!B11","v":"Mariajo"},{"$f":"+King!C11","v":6},{"$f":"+King!D11","v":7},{"$f":"+King!E11","v":6},{"$f":"+King!G11","v":0}]
[null,null,null,null,null,null,null,null,null,null,{"$f":"+Cribbage!A12","v":8},{"$f":"+Cribbage!B12","v":"Christophe"},{"$f":"+Cribbage!C12","v":2.5},{"$f":"+Cribbage!D12","v":3},{"$f":"+Cribbage!E12","v":2},{"$f":"+Cribbage!G12","v":0},null,{"$f":"+Podrida!A12","v":8},{"$f":"+Podrida!B12","v":"Tito"},{"$f":"+Podrida!C12","v":-100000000},{"$f":"+Podrida!D12","v":1},{"$f":"+Podrida!E12","v":1},{"$f":"+Podrida!G12","v":0},null,{"$f":"+King!A12","v":8},{"$f":"+King!B12","v":"Manolo"},{"$f":"+King!C12","v":5.5},{"$f":"+King!D12","v":8},{"$f":"+King!E12","v":3},{"$f":"+King!G12","v":0}]
[null,null,null,null,null,null,null,null,null,null,{"$f":"+Cribbage!A13","v":9},{"$f":"+Cribbage!B13","v":"Òscar"},{"$f":"+Cribbage!C13","v":1.5},{"$f":"+Cribbage!D13","v":2},{"$f":"+Cribbage!E13","v":1},{"$f":"+Cribbage!G13","v":0},null,{"$f":"+Podrida!A13","v":9},{"$f":"+Podrida!B13","v":"Grau"},{"$f":"+Podrida!C13","v":-100000000},{"$f":"+Podrida!D13","v":1},{"$f":"+Podrida!E13","v":0},{"$f":"+Podrida!G13","v":0},null,{"$f":"+King!A13","v":9},{"$f":"+King!B13","v":"Carles"},{"$f":"+King!C13","v":5},{"$f":"+King!D13","v":6},{"$f":"+King!E13","v":6},{"$f":"+King!G13","v":0}]
[null,null,null,null,null,null,null,null,null,null,{"$f":"+Cribbage!A14","v":10},{"$f":"+Cribbage!B14","v":"Grau"},{"$f":"+Cribbage!C14","v":1.5},{"$f":"+Cribbage!D14","v":2},{"$f":"+Cribbage!E14","v":1},{"$f":"+Cribbage!G14","v":0},null,{"$f":"+Podrida!A14","v":10},{"$f":"+Podrida!B14","v":"Ana B"},{"$f":"+Podrida!C14","v":-100000000},{"$f":"+Podrida!D14","v":1},{"$f":"+Podrida!E14","v":0},{"$f":"+Podrida!G14","v":0},null,{"$f":"+King!A14","v":10},{"$f":"+King!B14","v":"Caty"},{"$f":"+King!C14","v":4},{"$f":"+King!D14","v":4},{"$f":"+King!E14","v":4},{"$f":"+King!G14","v":0}]
[null,null,null,null,null,null,null,null,null,null,{"$f":"+Cribbage!A15","v":11},{"$f":"+Cribbage!B15","v":"Eito"},{"$f":"+Cribbage!C15","v":1},{"$f":"+Cribbage!D15","v":3},{"$f":"+Cribbage!E15","v":-2},{"$f":"+Cribbage!G15","v":0},null,{"$f":"+Podrida!A15","v":11},{"$f":"+Podrida!B15","v":"Gemma"},{"$f":"+Podrida!C15","v":-100000000},{"$f":"+Podrida!D15","v":1},{"$f":"+Podrida!E15","v":0},{"$f":"+Podrida!G15","v":0},null,{"$f":"+King!A15","v":10},{"$f":"+King!B15","v":"Sergi"},{"$f":"+King!C15","v":4},{"$f":"+King!D15","v":7},{"$f":"+King!E15","v":1},{"$f":"+King!G15","v":0}]
[null,null,null,null,null,null,null,null,null,null,{"$f":"+Cribbage!A16","v":12},{"$f":"+Cribbage!B16","v":"Gemma"},{"$f":"+Cribbage!C16","v":1},{"$f":"+Cribbage!D16","v":4},{"$f":"+Cribbage!E16","v":-2},{"$f":"+Cribbage!G16","v":0},null,{"$f":"+Podrida!A16","v":12},{"$f":"+Podrida!B16","v":"Rosa M"},{"$f":"+Podrida!C16","v":-100000000},{"$f":"+Podrida!D16","v":1},{"$f":"+Podrida!E16","v":0},{"$f":"+Podrida!G16","v":0},null,{"$f":"+King!A16","v":12},{"$f":"+King!B16","v":"Grau"},{"$f":"+King!C16","v":2.5},{"$f":"+King!D16","v":6},{"$f":"+King!E16","v":-1},{"$f":"+King!G16","v":0}]
[null,null,null,null,null,null,null,null,null,null,{"$f":"+Cribbage!A17","v":13},{"$f":"+Cribbage!B17","v":"Isabel"},{"$f":"+Cribbage!C17","v":0.5},{"$f":"+Cribbage!D17","v":3},{"$f":"+Cribbage!E17","v":-2},{"$f":"+Cribbage!G17","v":0},null,{"$f":"+Podrida!A17","v":13},{"$f":"+Podrida!B17","v":"Mariajo"},{"$f":"+Podrida!C17","v":-100000000},{"$f":"+Podrida!D17","v":1},{"$f":"+Podrida!E17","v":0},{"$f":"+Podrida!G17","v":0},null,{"$f":"+King!A17","v":13},{"$f":"+King!B17","v":"Goretti"},{"$f":"+King!C17","v":2.5},{"$f":"+King!D17","v":7},{"$f":"+King!E17","v":-2},{"$f":"+King!G17","v":0}]
[null,null,null,null,null,null,null,null,null,null,{"$f":"+Cribbage!A18","v":14},{"$f":"+Cribbage!B18","v":"Ana B."},{"$f":"+Cribbage!C18","v":0},{"$f":"+Cribbage!D18","v":2},{"$f":"+Cribbage!E18","v":-2},{"$f":"+Cribbage!G18","v":0},null,{"$f":"+Podrida!A18","v":14},{"$f":"+Podrida!B18","v":"Sergi"},{"$f":"+Podrida!C18","v":-100000000},{"$f":"+Podrida!D18","v":1},{"$f":"+Podrida!E18","v":0},{"$f":"+Podrida!G18","v":0},null,{"$f":"+King!A18","v":14},{"$f":"+King!B18","v":"Ana B"},{"$f":"+King!C18","v":2.5},{"$f":"+King!D18","v":8},{"$f":"+King!E18","v":-3},{"$f":"+King!G18","v":0}]
[null,null,null,null,null,null,null,null,null,null,{"$f":"+Cribbage!A19","v":15},{"$f":"+Cribbage!B19","v":"Carles"},{"$f":"+Cribbage!C19","v":-100000000},{"$f":"+Cribbage!D19","v":1},{"$f":"+Cribbage!E19","v":0},{"$f":"+Cribbage!G19","v":0},null,null,null,null,null,null,null,null,{"$f":"+King!A19","v":15},{"$f":"+King!B19","v":"Carme"},{"$f":"+King!C19","v":0},{"$f":"+King!D19","v":4},{"$f":"+King!E19","v":-4},{"$f":"+King!G19","v":0}]
[null,null,null,null,null,null,null,null,null,null,{"$f":"+Cribbage!A20","v":16},{"$f":"+Cribbage!B20","v":"Sergi"},{"$f":"+Cribbage!C20","v":-100000000},{"$f":"+Cribbage!D20","v":1},{"$f":"+Cribbage!E20","v":0},{"$f":"+Cribbage!G20","v":0},null,null,null,null,null,null,null,null,{"$f":"+King!A20","v":16},{"$f":"+King!B20","v":"Nin"},{"$f":"+King!C20","v":0},{"$f":"+King!D20","v":6},{"$f":"+King!E20","v":-8},{"$f":"+King!G20","v":0}]
[null,null,null,null,null,null,null,null,null,null,{"$f":"+Cribbage!A21","v":17},{"$f":"+Cribbage!B21","v":"Manolo"},{"$f":"+Cribbage!C21","v":-100000000},{"$f":"+Cribbage!D21","v":1},{"$f":"+Cribbage!E21","v":0},{"$f":"+Cribbage!G21","v":0},null,null,null,null,null,null,null,null,{"$f":"+King!A21","v":17},{"$f":"+King!B21","v":"Cyber X"},{"$f":"+King!C21","v":-100000000},{"$f":"+King!D21","v":1},{"$f":"+King!E21","v":0},{"$f":"+King!G21","v":0}]
[null,null,null,null,null,null,null,null,null,null,{"$f":"+Cribbage!A22","v":18},{"$f":"+Cribbage!B22","v":"Mariajo"},{"$f":"+Cribbage!C22","v":-100000000},{"$f":"+Cribbage!D22","v":1},{"$f":"+Cribbage!E22","v":0},{"$f":"+Cribbage!G22","v":0}]
[null,null,null,null,null,null,null,null,null,null,{"$f":"+Cribbage!A23","v":19},{"$f":"+Cribbage!B23","v":"Nin"},{"$f":"+Cribbage!C23","v":-100000000},{"$f":"+Cribbage!D23","v":1},{"$f":"+Cribbage!E23","v":0},{"$f":"+Cribbage!G23","v":0}]
[null,null,null,null,null,null,null,null,null,null,{"$f":"+Cribbage!A24","v":20},{"$f":"+Cribbage!B24","v":"Tito"},{"$f":"+Cribbage!C24","v":-100000000},{"$f":"+Cribbage!D24","v":1},{"$f":"+Cribbage!E24","v":0},{"$f":"+Cribbage!G24","v":0}]
[]
[]
[]
[]
[]
[]
[]
[]
[null,null,null,null,null,null,null,null,null,null,null,null,null,null,null,null,null,{"$f":"+Mus!A9","v":5},{"$f":"+Mus!B9","v":"Mariajo"},{"$f":"+Mus!C9","v":-100000000},{"$f":"+Mus!D9","v":0},{"$f":"+Mus!E9","v":0},{"$f":"+Mus!F9","v":0}]
[null,null,null,null,null,null,null,null,null,null,{"$f":"+Tarot!A10","v":6},{"$f":"+Tarot!B10","v":"Grau"},{"$f":"+Tarot!C10","v":-100000000},{"$f":"+Tarot!D10","v":1},{"$f":"+Tarot!E10","v":0},{"$f":"+Tarot!F10","v":0},null,{"$f":"+Mus!A10","v":6},{"$f":"+Mus!B10","v":"Grau"},{"$f":"+Mus!C10","v":-100000000},{"$f":"+Mus!D10","v":0},{"$f":"+Mus!E10","v":0},{"$f":"+Mus!F10","v":0},null,{"$f":"+#REF!","v":{"$error":"#REF!"}},{"$f":"+#REF!","v":{"$error":"#REF!"}},{"$f":"+#REF!","v":{"$error":"#REF!"}},{"$f":"+#REF!","v":{"$error":"#REF!"}},{"$f":"+#REF!","v":{"$error":"#REF!"}},{"$f":"+#REF!","v":{"$error":"#REF!"}}]
[null,null,null,null,null,null,null,null,null,null,null,null,null,null,null,null,null,null,null,null,null,null,null,null,{"$f":"+#REF!","v":{"$error":"#REF!"}},{"$f":"+#REF!","v":{"$error":"#REF!"}},{"$f":"+#REF!","v":{"$error":"#REF!"}},{"$f":"+#REF!","v":{"$error":"#REF!"}},{"$f":"+#REF!","v":{"$error":"#REF!"}},{"$f":"+#REF!","v":{"$error":"#REF!"}}]
[null,null,null,null,null,null,null,null,null,null,null,null,null,null,null,null,null,null,null,null,null,null,null,null,{"$f":"+#REF!","v":{"$error":"#REF!"}},{"$f":"+#REF!","v":{"$error":"#REF!"}},{"$f":"+#REF!","v":{"$error":"#REF!"}},{"$f":"+#REF!","v":{"$error":"#REF!"}},{"$f":"+#REF!","v":{"$error":"#REF!"}},{"$f":"+#REF!","v":{"$error":"#REF!"}}]
[null,null,null,null,null,null,null,null,null,null,null,null,null,null,null,null,null,null,null,null,null,null,null,null,{"$f":"+#REF!","v":{"$error":"#REF!"}},{"$f":"+#REF!","v":{"$error":"#REF!"}},{"$f":"+#REF!","v":{"$error":"#REF!"}},{"$f":"+#REF!","v":{"$error":"#REF!"}},{"$f":"+#REF!","v":{"$error":"#REF!"}},{"$f":"+#REF!","v":{"$error":"#REF!"}}]
[null,null,null,null,null,null,null,null,null,null,null,null,null,null,null,null,null,null,null,null,null,null,null,null,{"$f":"+#REF!","v":{"$error":"#REF!"}},{"$f":"+#REF!","v":{"$error":"#REF!"}},{"$f":"+#REF!","v":{"$error":"#REF!"}},{"$f":"+#REF!","v":{"$error":"#REF!"}},{"$f":"+#REF!","v":{"$error":"#REF!"}},{"$f":"+#REF!","v":{"$error":"#REF!"}}]
[]
[null,null,null,{"$f":"+'4 Duros'!A1","v":"4 DUROS"}]
[]
[null,null,null,null,null,{"$f":"+'4 Duros'!C4","v":"Premi"},{"$f":"+'4 Duros'!D4","v":"Punts"},{"$f":"+'4 Duros'!E4","v":"Partides"},{"$f":"+'4 Duros'!F4","v":"General"}]
[null,null,null,{"$f":"+'4 Duros'!A5","v":1},{"$f":"+'4 Duros'!B5","v":"Joan"},{"$f":"+'4 Duros'!C5","v":-100000000},{"$f":"+'4 Duros'!D5","v":0},{"$f":"+'4 Duros'!E5","v":0},{"$f":"+'4 Duros'!F5","v":0}]
[null,null,null,{"$f":"+'4 Duros'!A6","v":2},{"$f":"+'4 Duros'!B6","v":"Rosa"},{"$f":"+'4 Duros'!C6","v":-100000000},{"$f":"+'4 Duros'!D6","v":0},{"$f":"+'4 Duros'!E6","v":0},{"$f":"+'4 Duros'!F6","v":0}]
[null,null,null,{"$f":"+'4 Duros'!A7","v":3},{"$f":"+'4 Duros'!B7","v":"Jordi"},{"$f":"+'4 Duros'!C7","v":-100000000},{"$f":"+'4 Duros'!D7","v":0},{"$f":"+'4 Duros'!E7","v":0},{"$f":"+'4 Duros'!F7","v":0}]
[null,null,null,{"$f":"+'4 Duros'!A8","v":4},{"$f":"+'4 Duros'!B8","v":"Anna P."},{"$f":"+'4 Duros'!C8","v":-100000000},{"$f":"+'4 Duros'!D8","v":0},{"$f":"+'4 Duros'!E8","v":0},{"$f":"+'4 Duros'!F8","v":0}]
[null,null,null,{"$f":"+'4 Duros'!A9","v":5},{"$f":"+'4 Duros'!B9","v":"Manel"},{"$f":"+'4 Duros'!C9","v":-100000000},{"$f":"+'4 Duros'!D9","v":0},{"$f":"+'4 Duros'!E9","v":0},{"$f":"+'4 Duros'!F9","v":0}]
[null,null,null,{"$f":"+'4 Duros'!A10","v":6},{"$f":"+'4 Duros'!B10","v":"Carles"},{"$f":"+'4 Duros'!C10","v":-100000000},{"$f":"+'4 Duros'!D10","v":0},{"$f":"+'4 Duros'!E10","v":0},{"$f":"+'4 Duros'!F10","v":0}]
[]
[]
[]
[]
[]
[]
[]
[]
[]
[]
[]
[]
[]
[null,null,null,null,null,null,null,null,null,null,null,null,null,null,null,null,{"$f":"+Buti!A9","v":5},{"$f":"+Buti!B9","v":"Òscar"},{"$f":"+Buti!C9","v":0},{"$f":"+Buti!D9","v":-118},{"$f":"+Buti!E9","v":13},{"$f":"+Buti!F9","v":5},null,{"$f":"+Wizard!A9","v":5},{"$f":"+Wizard!B9","v":"Jeff"},{"$f":"+Wizard!C9","v":156},{"$f":"+Wizard!D9","v":198.5625},{"$f":"+Wizard!E9","v":446},{"$f":"+Wizard!F9","v":5}]
[null,null,null,null,null,null,null,null,null,null,null,null,null,null,null,null,{"$f":"+Buti!A10","v":6},{"$f":"+Buti!B10","v":"Núria"},{"$f":"+Buti!C10","v":-10},{"$f":"+Buti!D10","v":115},{"$f":"+Buti!E10","v":28},{"$f":"+Buti!F10","v":0},null,{"$f":"+Wizard!A10","v":6},{"$f":"+Wizard!B10","v":"Debi"},{"$f":"+Wizard!C10","v":154},{"$f":"+Wizard!D10","v":1},{"$f":"+Wizard!E10","v":192},{"$f":"+Wizard!F10","v":0}]
[null,null,null,null,null,null,null,null,null,{"$f":"+Mus!A11","v":7},{"$f":"+Mus!B11","v":"Jordi"},{"$f":"+Mus!C11","v":-100000000},{"$f":"+Mus!D11","v":0},{"$f":"+Mus!E11","v":0},{"$f":"+Mus!F11","v":0},null,{"$f":"+Buti!A11","v":7},{"$f":"+Buti!B11","v":"Manolo"},{"$f":"+Buti!C11","v":-10},{"$f":"+Buti!D11","v":-135},{"$f":"+Buti!E11","v":9},{"$f":"+Buti!F11","v":0},null,{"$f":"+Wizard!A11","v":7},{"$f":"+Wizard!B11","v":"Marina"},{"$f":"+Wizard!C11","v":145},{"$f":"+Wizard!D11","v":181.53846153846155},{"$f":"+Wizard!E11","v":390},{"$f":"+Wizard!F11","v":0}]
[null,null,null,null,null,null,null,null,null,null,null,null,null,null,null,null,{"$f":"+Buti!A12","v":8},{"$f":"+Buti!B12","v":"Goretti"},{"$f":"+Buti!C12","v":-30},{"$f":"+Buti!D12","v":-208},{"$f":"+Buti!E12","v":11},{"$f":"+Buti!F12","v":0},null,{"$f":"+Wizard!A12","v":8},{"$f":"+Wizard!B12","v":"Jordi"},{"$f":"+Wizard!C12","v":114},{"$f":"+Wizard!D12","v":232.85714285714286},{"$f":"+Wizard!E12","v":89},{"$f":"+Wizard!F12","v":0}]
[null,null,{"$f":"+Kul!A13","v":9},{"$f":"+Kul!B13","v":"Carles"},{"$f":"+Kul!C13","v":4},{"$f":"+Kul!D13","v":15},{"$f":"+Kul!E13","v":2},{"$f":"+Kul!F13","v":0},null,null,null,null,null,null,null,null,{"$f":"+Buti!A13","v":9},{"$f":"+Buti!B13","v":"Sebas"},{"$f":"+Buti!C13","v":-50},{"$f":"+Buti!D13","v":-478},{"$f":"+Buti!E13","v":13},{"$f":"+Buti!F13","v":0},null,{"$f":"+Wizard!A13","v":9},{"$f":"+Wizard!B13","v":"Sergi"},{"$f":"+Wizard!C13","v":96},{"$f":"+Wizard!D13","v":230.95238095238096},{"$f":"+Wizard!E13","v":140},{"$f":"+Wizard!F13","v":0}]
[null,null,{"$f":"+Kul!A14","v":10},{"$f":"+Kul!B14","v":"Grau"},{"$f":"+Kul!C14","v":3},{"$f":"+Kul!D14","v":-3},{"$f":"+Kul!E14","v":3},{"$f":"+Kul!F14","v":0},null,null,null,null,null,null,null,null,{"$f":"+Buti!A14","v":10},{"$f":"+Buti!B14","v":"Mariajo"},{"$f":"+Buti!C14","v":10},{"$f":"+Buti!D14","v":24},{"$f":"+Buti!E14","v":1},{"$f":"+Buti!F14","v":0},null,{"$f":"+Wizard!A14","v":10},{"$f":"+Wizard!B14","v":"Xavier"},{"$f":"+Wizard!C14","v":42},{"$f":"+Wizard!D14","v":1},{"$f":"+Wizard!E14","v":61},{"$f":"+Wizard!F14","v":0}]
[null,null,{"$f":"+Kul!A15","v":11},{"$f":"+Kul!B15","v":"Caty"},{"$f":"+Kul!C15","v":2},{"$f":"+Kul!D15","v":3},{"$f":"+Kul!E15","v":2},{"$f":"+Kul!F15","v":0},null,null,null,null,null,null,null,null,{"$f":"+Buti!A15","v":11},{"$f":"+Buti!B15","v":"Jaume A"},{"$f":"+Buti!C15","v":10},{"$f":"+Buti!D15","v":5},{"$f":"+Buti!E15","v":1},{"$f":"+Buti!F15","v":0},null,{"$f":"+Wizard!A15","v":11},{"$f":"+Wizard!B15","v":"Núria"},{"$f":"+Wizard!C15","v":11},{"$f":"+Wizard!D15","v":245.41666666666666},{"$f":"+Wizard!E15","v":28},{"$f":"+Wizard!F15","v":0}]
[]
[]
[]
[null,null,null,null,null,null,null,null,null,null,null,null,null,null,null,null,null,null,null,null,null,null,null,{"$f":"+Omaha!A1","v":"POKER OMAHA"}]
[]
[null,null,null,null,null,null,null,null,null,null,null,null,null,null,null,null,null,null,null,null,null,null,null,null,null,{"$f":"+Omaha!C4","v":"Premi"},{"$f":"+Omaha!D4","v":"Punts"},{"$f":"+Omaha!E4","v":"Partides"},{"$f":"+Omaha!F4","v":"General"}]
[null,null,null,null,null,null,null,null,null,null,null,null,null,null,null,null,null,null,null,null,null,null,null,{"$f":"+Omaha!A5","v":1},{"$f":"+Omaha!B5","v":"Carles"},{"$f":"+Omaha!C5","v":-100000000},{"$f":"+Omaha!D5","v":0},{"$f":"+Omaha!E5","v":0},{"$f":"+Omaha!F5","v":0}]
[null,null,null,null,null,null,null,null,null,null,null,null,null,null,null,null,null,null,null,null,null,null,null,{"$f":"+Omaha!A6","v":2},{"$f":"+Omaha!B6","v":"Goretti"},{"$f":"+Omaha!C6","v":-100000000},{"$f":"+Omaha!D6","v":0},{"$f":"+Omaha!E6","v":0},{"$f":"+Omaha!F6","v":0}]
[null,null,null,null,null,null,null,null,null,null,null,null,null,null,null,null,null,null,null,null,null,null,null,{"$f":"+Omaha!A7","v":3},{"$f":"+Omaha!B7","v":"Grau"},{"$f":"+Omaha!C7","v":-100000000},{"$f":"+Omaha!D7","v":0},{"$f":"+Omaha!E7","v":0},{"$f":"+Omaha!F7","v":0}]
[null,null,null,null,null,null,null,null,null,null,null,null,null,null,null,null,null,null,null,null,null,null,null,{"$f":"+Omaha!A8","v":4},{"$f":"+Omaha!B8","v":"Mercè"},{"$f":"+Omaha!C8","v":-100000000},{"$f":"+Omaha!D8","v":0},{"$f":"+Omaha!E8","v":0},{"$f":"+Omaha!F8","v":0}]
[null,null,{"$f":"+King!A9","v":5},{"$f":"+King!B9","v":"Gemma"},{"$f":"+King!C9","v":3.5},{"$f":"+King!D9","v":8},{"$f":"+King!E9","v":-11},{"$f":"+King!G9","v":5},null,{"$f":"+Texas!A9","v":5},{"$f":"+Texas!B9","v":"David"},{"$f":"+Texas!C9","v":-100000000},{"$f":"+Texas!D9","v":0},{"$f":"+Texas!E9","v":0},{"$f":"+Texas!F9","v":0},null,{"$f":"+Pumba!A9","v":5},{"$f":"+Pumba!B9","v":"Nin"},{"$f":"+Pumba!C9","v":-14},{"$f":"+Pumba!D9","v":20.875},{"$f":"+Pumba!E9","v":2},{"$f":"+Pumba!F9","v":0},null,{"$f":"+Omaha!A9","v":5},{"$f":"+Omaha!B9","v":"Sergi"},{"$f":"+Omaha!C9","v":-100000000},{"$f":"+Omaha!D9","v":0},{"$f":"+Omaha!E9","v":0},{"$f":"+Omaha!F9","v":0}]
[null,null,{"$f":"+King!A10","v":6},{"$f":"+King!B10","v":"Sebas"},{"$f":"+King!C10","v":1.5},{"$f":"+King!D10","v":8},{"$f":"+King!E10","v":-10},{"$f":"+King!G10","v":0},null,{"$f":"+Texas!A10","v":6},{"$f":"+Texas!B10","v":"Gerard"},{"$f":"+Texas!C10","v":-100000000},{"$f":"+Texas!D10","v":0},{"$f":"+Texas!E10","v":0},{"$f":"+Texas!F10","v":0},null,{"$f":"+Pumba!A10","v":6},{"$f":"+Pumba!B10","v":"Sebas"},{"$f":"+Pumba!C10","v":-100000000},{"$f":"+Pumba!D10","v":0},{"$f":"+Pumba!E10","v":0},{"$f":"+Pumba!F10","v":0},null,{"$f":"+Omaha!A10","v":6},{"$f":"+Omaha!B10","v":"Jordi"},{"$f":"+Omaha!C10","v":-100000000},{"$f":"+Omaha!D10","v":0},{"$f":"+Omaha!E10","v":0},{"$f":"+Omaha!F10","v":0}]
[null,null,{"$f":"+King!A11","v":7},{"$f":"+King!B11","v":"Mariajo"},{"$f":"+King!C11","v":6},{"$f":"+King!D11","v":7},{"$f":"+King!E11","v":6},{"$f":"+King!G11","v":0},null,null,null,null,null,null,null,null,{"$f":"+Pumba!A11","v":7},{"$f":"+Pumba!B11","v":"Jordi"},{"$f":"+Pumba!C11","v":-100000000},{"$f":"+Pumba!D11","v":0},{"$f":"+Pumba!E11","v":0},{"$f":"+Pumba!F11","v":0},null,{"$f":"+Omaha!A11","v":7},{"$f":"+Omaha!B11","v":"Katy"},{"$f":"+Omaha!C11","v":-100000000},{"$f":"+Omaha!D11","v":0},{"$f":"+Omaha!E11","v":0},{"$f":"+Omaha!F11","v":0}]
[null,null,null,null,null,null,null,null,null,null,null,null,null,null,null,null,{"$f":"+Pumba!A12","v":8},{"$f":"+Pumba!B12","v":"Gemma"},{"$f":"+Pumba!C12","v":-100000000},{"$f":"+Pumba!D12","v":0},{"$f":"+Pumba!E12","v":0},{"$f":"+Pumba!F12","v":0},null,{"$f":"+Omaha!A12","v":8},{"$f":"+Omaha!B12","v":"Mariajo"},{"$f":"+Omaha!C12","v":-100000000},{"$f":"+Omaha!D12","v":0},{"$f":"+Omaha!E12","v":0},{"$f":"+Omaha!F12","v":0}]
[null,null,null,null,null,null,null,null,null,null,null,null,null,null,null,null,{"$f":"+Pumba!A13","v":9},{"$f":"+Pumba!B13","v":"Montse"},{"$f":"+Pumba!C13","v":-100000000},{"$f":"+Pumba!D13","v":0},{"$f":"+Pumba!E13","v":0},{"$f":"+Pumba!F13","v":0},null,{"$f":"+Omaha!A13","v":9},{"$f":"+Omaha!B13","v":"Manolo"},{"$f":"+Omaha!C13","v":-100000000},{"$f":"+Omaha!D13","v":0},{"$f":"+Omaha!E13","v":0},{"$f":"+Omaha!F13","v":0}]
[null,null,null,null,null,null,null,null,null,null,null,null,null,null,null,null,{"$f":"+Pumba!A14","v":10},{"$f":"+Pumba!B14","v":"Tito"},{"$f":"+Pumba!C14","v":-100000000},{"$f":"+Pumba!D14","v":0},{"$f":"+Pumba!E14","v":0},{"$f":"+Pumba!F14","v":0}]
[null,null,null,null,null,null,null,null,null,null,null,null,null,null,null,null,{"$f":"+Pumba!A15","v":11},{"$f":"+Pumba!B15","v":"Goretti"},{"$f":"+Pumba!C15","v":-100000000},{"$f":"+Pumba!D15","v":0},{"$f":"+Pumba!E15","v":0},{"$f":"+Pumba!F15","v":0}]
[]
[null,null,null,null,null,null,null,null,null,null,null,null,null,null,null,null,{"$f":"+Pocha!A1","v":"POCHA"},null,null,null,null,null,null,{"$f":"+Julepe!A1","v":"JULEPE"}]
[]
[null,null,null,null,null,null,null,null,null,null,null,null,null,null,null,null,null,null,{"$f":"+Pocha!C4","v":"Premi"},{"$f":"+Pocha!D4","v":"Punts"},{"$f":"+Pocha!E4","v":"Partides"},{"$f":"+Pocha!F4","v":"General"},null,null,null,{"$f":"+Julepe!C4","v":"Premi"},{"$f":"+Julepe!D4","v":"Punts"},{"$f":"+Julepe!E4","v":"Partides"},{"$f":"+Julepe!F4","v":"General"}]
[null,null,null,null,null,null,null,null,null,null,null,null,null,null,null,null,{"$f":"+Pocha!A5","v":1},{"$f":"+Pocha!B5","v":"alaf"},{"$f":"+Pocha!C5","v":-100000000},{"$f":"+Pocha!D5","v":1E-4},{"$f":"+Pocha!E5","v":0},{"$f":"+Pocha!F5","v":0},null,{"$f":"+Julepe!A5","v":1},{"$f":"+Julepe!B5","v":"Carles"},{"$f":"+Julepe!C5","v":-100000000},{"$f":"+Julepe!D5","v":0},{"$f":"+Julepe!E5","v":0},{"$f":"+Julepe!F5","v":0}]
[null,null,null,null,null,null,null,null,null,null,null,null,null,null,null,null,{"$f":"+Pocha!A6","v":2},{"$f":"+Pocha!B6","v":"Jordi"},{"$f":"+Pocha!C6","v":-100000000},{"$f":"+Pocha!D6","v":1E-4},{"$f":"+Pocha!E6","v":0},{"$f":"+Pocha!F6","v":0},null,{"$f":"+Julepe!A6","v":2},{"$f":"+Julepe!B6","v":"Sergi"},{"$f":"+Julepe!C6","v":-100000000},{"$f":"+Julepe!D6","v":0},{"$f":"+Julepe!E6","v":0},{"$f":"+Julepe!F6","v":0}]
[null,null,null,null,null,null,null,null,null,null,null,null,null,null,null,null,{"$f":"+Pocha!A7","v":3},{"$f":"+Pocha!B7","v":"Grau"},{"$f":"+Pocha!C7","v":-100000000},{"$f":"+Pocha!D7","v":1E-4},{"$f":"+Pocha!E7","v":0},{"$f":"+Pocha!F7","v":0},null,{"$f":"+Julepe!A7","v":3},{"$f":"+Julepe!B7","v":"Manel"},{"$f":"+Julepe!C7","v":-100000000},{"$f":"+Julepe!D7","v":0},{"$f":"+Julepe!E7","v":0},{"$f":"+Julepe!F7","v":0}]
[null,null,null,null,null,null,null,null,null,null,null,null,null,null,null,null,{"$f":"+Pocha!A8","v":4},{"$f":"+Pocha!B8","v":"Manel"},{"$f":"+Pocha!C8","v":-100000000},{"$f":"+Pocha!D8","v":1E-4},{"$f":"+Pocha!E8","v":0},{"$f":"+Pocha!F8","v":0},null,{"$f":"+Julepe!A8","v":4},{"$f":"+Julepe!B8","v":"Jordi"},{"$f":"+Julepe!C8","v":-100000000},{"$f":"+Julepe!D8","v":0},{"$f":"+Julepe!E8","v":0},{"$f":"+Julepe!F8","v":0}]
[null,null,{"$f":"+Cribbage!A9","v":5},{"$f":"+Cribbage!B9","v":"Sebas"},{"$f":"+Cribbage!C9","v":1},{"$f":"+Cribbage!D9","v":3},{"$f":"+Cribbage!E9","v":-3},{"$f":"+Cribbage!G9","v":5},null,{"$f":"+#REF!","v":{"$error":"#REF!"}},{"$f":"+#REF!","v":{"$error":"#REF!"}},{"$f":"+#REF!","v":{"$error":"#REF!"}},{"$f":"+#REF!","v":{"$error":"#REF!"}},{"$f":"+#REF!","v":{"$error":"#REF!"}},{"$f":"+#REF!","v":{"$error":"#REF!"}},null,{"$f":"+Pocha!A9","v":5},{"$f":"+Pocha!B9","v":"Mariajo"},{"$f":"+Pocha!C9","v":-100000000},{"$f":"+Pocha!D9","v":1E-4},{"$f":"+Pocha!E9","v":0},{"$f":"+Pocha!F9","v":0},null,{"$f":"+Julepe!A9","v":5},{"$f":"+Julepe!B9","v":"Mariajo"},{"$f":"+Julepe!C9","v":-100000000},{"$f":"+Julepe!D9","v":0},{"$f":"+Julepe!E9","v":0},{"$f":"+Julepe!F9","v":0}]
[null,null,null,null,null,null,null,null,null,null,null,null,null,null,null,null,null,null,null,null,null,null,null,{"$f":"+Julepe!A10","v":6},{"$f":"+Julepe!B10","v":"Katy"},{"$f":"+Julepe!C10","v":-100000000},{"$f":"+Julepe!D10","v":0},{"$f":"+Julepe!E10","v":0},{"$f":"+Julepe!F10","v":0}]
[null,null,null,null,null,null,null,null,null,null,null,null,null,null,null,null,null,null,null,null,null,null,null,{"$f":"+Julepe!A11","v":7},{"$f":"+Julepe!B11","v":"Grau"},{"$f":"+Julepe!C11","v":-100000000},{"$f":"+Julepe!D11","v":0},{"$f":"+Julepe!E11","v":0},{"$f":"+Julepe!F11","v":0}]
[]
[]
[]
[]
[]
[]
[]
[]
[]
[]
[]
[]
[]
[]
[]
[null,null,{"$f":"+King!A11","v":7},{"$f":"+King!B11","v":"Mariajo"},{"$f":"+King!C11","v":6},{"$f":"+King!D11","v":7},{"$f":"+King!E11","v":6},{"$f":"+King!G11","v":0}]
[null,null,{"$f":"+King!A12","v":8},{"$f":"+King!B12","v":"Manolo"},{"$f":"+King!C12","v":5.5},{"$f":"+King!D12","v":8},{"$f":"+King!E12","v":3},{"$f":"+King!G12","v":0}]
[null,null,{"$f":"+King!A13","v":9},{"$f":"+King!B13","v":"Carles"},{"$f":"+King!C13","v":5},{"$f":"+King!D13","v":6},{"$f":"+King!E13","v":6},{"$f":"+King!G13","v":0}]
[]
[]
[null,null,null,null,null,null,null,null,null,null,null,null,null,null,null,null,{"$f":"+Canasta!A1","v":"CANASTA"}]
[]
[null,null,null,null,null,null,null,null,null,null,null,null,null,null,null,null,null,null,{"$f":"+Canasta!C4","v":"Premi"},{"$f":"+Canasta!D4","v":"Punts"},{"$f":"+Canasta!E4","v":"Partides"},{"$f":"+Canasta!F4","v":"General"}]
[null,null,null,null,null,null,null,null,null,null,null,null,null,null,null,null,{"$f":"+Canasta!A5","v":1},{"$f":"+Canasta!B5","v":"Sergi"},{"$f":"+Canasta!C5","v":-100000000},{"$f":"+Canasta!D5","v":0},{"$f":"+Canasta!E5","v":0},{"$f":"+Canasta!F5","v":0}]
[null,null,null,null,null,null,null,null,null,null,null,null,null,null,null,null,{"$f":"+Canasta!A6","v":2},{"$f":"+Canasta!B6","v":"Jordi"},{"$f":"+Canasta!C6","v":-100000000},{"$f":"+Canasta!D6","v":0},{"$f":"+Canasta!E6","v":0},{"$f":"+Canasta!F6","v":0}]
[null,null,null,null,null,null,null,null,null,null,null,null,null,null,null,null,{"$f":"+Canasta!A7","v":3},{"$f":"+Canasta!B7","v":"Carles"},{"$f":"+Canasta!C7","v":-100000000},{"$f":"+Canasta!D7","v":0},{"$f":"+Canasta!E7","v":0},{"$f":"+Canasta!F7","v":0}]
[null,null,null,null,null,null,null,null,null,null,null,null,null,null,null,null,{"$f":"+Canasta!A8","v":4},{"$f":"+Canasta!B8","v":"Grau"},{"$f":"+Canasta!C8","v":-100000000},{"$f":"+Canasta!D8","v":0},{"$f":"+Canasta!E8","v":0},{"$f":"+Canasta!F8","v":0}]
[null,null,null,null,null,null,null,null,null,null,null,null,null,null,null,null,{"$f":"+Canasta!A9","v":5},{"$f":"+Canasta!B9","v":"Mercè"},{"$f":"+Canasta!C9","v":-100000000},{"$f":"+Canasta!D9","v":0},{"$f":"+Canasta!E9","v":0},{"$f":"+Canasta!F9","v":0}]
[null,null,null,null,null,null,null,null,null,null,null,null,null,null,null,null,{"$f":"+Canasta!A10","v":6},{"$f":"+Canasta!B10","v":"Goretti"},{"$f":"+Canasta!C10","v":-100000000},{"$f":"+Canasta!D10","v":0},{"$f":"+Canasta!E10","v":0},{"$f":"+Canasta!F10","v":0}]
[]
[]
[null,null,null,null,null,null,null,null,null,{"$f":"+Escombra!A1","v":"ESCOMBRA"}]
[]
[null,null,null,null,null,null,null,null,null,{"$f":"+Escombra!A4","v":0},{"$f":"+Escombra!B4","v":0},{"$f":"+Escombra!C4","v":"Premi"},{"$f":"+Escombra!D4","v":"Punts"},{"$f":"+Escombra!E4","v":"Partides"},{"$f":"+Escombra!F4","v":"General"}]
[null,null,null,null,null,null,null,null,null,{"$f":"+Escombra!A5","v":1},{"$f":"+Escombra!B5","v":"Carles"},{"$f":"+Escombra!C5","v":-100000000},{"$f":"+Escombra!D5","v":1E-4},{"$f":"+Escombra!E5","v":0},{"$f":"+Escombra!F5","v":0}]
[null,null,null,null,null,null,null,null,null,{"$f":"+Escombra!A6","v":2},{"$f":"+Escombra!B6","v":"Mercè"},{"$f":"+Escombra!C6","v":-100000000},{"$f":"+Escombra!D6","v":1E-4},{"$f":"+Escombra!E6","v":0},{"$f":"+Escombra!F6","v":0}]
[null,null,null,null,null,null,null,null,null,{"$f":"+Escombra!A7","v":3},{"$f":"+Escombra!B7","v":"Jordi"},{"$f":"+Escombra!C7","v":-100000000},{"$f":"+Escombra!D7","v":1E-4},{"$f":"+Escombra!E7","v":0},{"$f":"+Escombra!F7","v":0}]
[null,null,null,null,null,null,null,null,null,{"$f":"+Escombra!A8","v":4},{"$f":"+Escombra!B8","v":"Manolo"},{"$f":"+Escombra!C8","v":-100000000},{"$f":"+Escombra!D8","v":1E-4},{"$f":"+Escombra!E8","v":0},{"$f":"+Escombra!F8","v":0}]
[]
[]
[]
[]
[]
[]
[]
[]
[null,null,{"$f":"+Portugués!A1","v":"PORTUGUÉS"},null,null,null,null,null,null,null,null,null,null,null,null,null,null,null,null,null,null,null,null,{"$f":"+Tute!A1","v":"TUTE"}]
[]
[null,null,null,null,{"$f":"+Portugués!C4","v":"Premi"},{"$f":"+Portugués!D4","v":"Punts"},{"$f":"+Portugués!E4","v":"Partides"},{"$f":"+Portugués!F4","v":"General"},null,null,null,null,null,null,null,null,null,null,null,null,null,null,null,null,null,{"$f":"+Tute!C4","v":"Premi"},{"$f":"+Tute!D4","v":"Punts"},{"$f":"+Tute!E4","v":"Partides"},{"$f":"+Tute!F4","v":"General"}]
[null,null,{"$f":"+Portugués!A5","v":1},{"$f":"+Portugués!B5","v":"Manolo"},{"$f":"+Portugués!C5","v":-100000000},{"$f":"+Portugués!D5","v":1E-4},{"$f":"+Portugués!E5","v":0},{"$f":"+Portugués!F5","v":0},null,null,null,null,null,null,null,null,null,null,null,null,null,null,null,{"$f":"+Tute!A5","v":1},{"$f":"+Tute!B5","v":"Grau"},{"$f":"+Tute!C5","v":-100000000},{"$f":"+Tute!D5","v":1},{"$f":"+Tute!E5","v":0},{"$f":"+Tute!F5","v":0}]
[null,null,{"$f":"+Portugués!A6","v":2},{"$f":"+Portugués!B6","v":"Goretti"},{"$f":"+Portugués!C6","v":-100000000},{"$f":"+Portugués!D6","v":1E-4},{"$f":"+Portugués!E6","v":0},{"$f":"+Portugués!F6","v":0},null,null,null,null,null,null,null,null,null,null,null,null,null,null,null,{"$f":"+Tute!A6","v":2},{"$f":"+Tute!B6","v":"Manolo"},{"$f":"+Tute!C6","v":-100000000},{"$f":"+Tute!D6","v":1},{"$f":"+Tute!E6","v":0},{"$f":"+Tute!F6","v":0}]
[null,null,{"$f":"+Portugués!A7","v":3},{"$f":"+Portugués!B7","v":"Grau"},{"$f":"+Portugués!C7","v":-100000000},{"$f":"+Portugués!D7","v":1E-4},{"$f":"+Portugués!E7","v":0},{"$f":"+Portugués!F7","v":0},null,null,null,null,null,null,null,null,null,null,null,null,null,null,null,{"$f":"+Tute!A7","v":3},{"$f":"+Tute!B7","v":"Carles"},{"$f":"+Tute!C7","v":-100000000},{"$f":"+Tute!D7","v":1},{"$f":"+Tute!E7","v":0},{"$f":"+Tute!F7","v":0}]
[null,null,{"$f":"+Portugués!A8","v":4},{"$f":"+Portugués!B8","v":"Mercè"},{"$f":"+Portugués!C8","v":-100000000},{"$f":"+Portugués!D8","v":1E-4},{"$f":"+Portugués!E8","v":0},{"$f":"+Portugués!F8","v":0}]
[null,null,{"$f":"+Portugués!A9","v":5},{"$f":"+Portugués!B9","v":"Jordi"},{"$f":"+Portugués!C9","v":-100000000},{"$f":"+Portugués!D9","v":1E-4},{"$f":"+Portugués!E9","v":0},{"$f":"+Portugués!F9","v":0}]
[null,null,{"$f":"+Portugués!A10","v":6},{"$f":"+Portugués!B10","v":"Joan Carles"},{"$f":"+Portugués!C10","v":-100000000},{"$f":"+Portugués!D10","v":1E-4},{"$f":"+Portugués!E10","v":0},{"$f":"+Portugués!F10","v":0}]
[null,null,{"$f":"+Portugués!A11","v":7},{"$f":"+Portugués!B11","v":"Mariajo"},{"$f":"+Portugués!C11","v":-100000000},{"$f":"+Portugués!D11","v":1E-4},{"$f":"+Portugués!E11","v":0},{"$f":"+Portugués!F11","v":0}]
[]
[]
[]
[]
[]
[]
[]
[]
[]
[]
[]
[]
[]
[null,null,null,null,null,null,null,null,null,null,null,null,null,null,null,null,{"$f":"+Texas!A12","v":8},{"$f":"+Texas!B12","v":"Grau"},{"$f":"+Texas!C12","v":-100000000},{"$f":"+Texas!D12","v":0},{"$f":"+Texas!E12","v":0},{"$f":"+Texas!F12","v":0}]
[null,null,null,null,null,null,null,null,null,null,null,null,null,null,null,null,{"$f":"+Texas!A13","v":9},{"$f":"+Texas!B13","v":"Iglesias"},{"$f":"+Texas!C13","v":-100000000},{"$f":"+Texas!D13","v":0},{"$f":"+Texas!E13","v":0},{"$f":"+Texas!F13","v":0}]
[]
[]
[]
[]
[]
[]
[]
[]
[]
[]
[]
[]
[]
[]
[]
[]
[]
[]
[]
[]
[]
[]
[]
[null,null,{"$f":"+#REF!","v":{"$error":"#REF!"}},{"$f":"+#REF!","v":{"$error":"#REF!"}},{"$f":"+#REF!","v":{"$error":"#REF!"}},{"$f":"+#REF!","v":{"$error":"#REF!"}},{"$f":"+#REF!","v":{"$error":"#REF!"}},{"$f":"+#REF!","v":{"$error":"#REF!"}}]
[null,null,{"$f":"+#REF!","v":{"$error":"#REF!"}},{"$f":"+#REF!","v":{"$error":"#REF!"}},{"$f":"+#REF!","v":{"$error":"#REF!"}},{"$f":"+#REF!","v":{"$error":"#REF!"}},{"$f":"+#REF!","v":{"$error":"#REF!"}},{"$f":"+#REF!","v":{"$error":"#REF!"}}]
[]
[]
[null,null,null,null,null,null,null,null,null,null,null,null,null,null,null,null,{"$f":"+King!A1","v":"KING"}]
[]
[null,null,null,null,null,null,null,null,null,null,null,null,null,null,null,null,null,null,{"$f":"+King!C4","v":"Premi"},{"$f":"+King!D4","v":"Reptes"},{"$f":"+King!E4","v":"Punts"},{"$f":"+King!G4","v":"General"}]
[null,null,null,null,null,null,null,null,null,null,null,null,null,null,null,null,{"$f":"+King!A5","v":1},{"$f":"+King!B5","v":"Jordi"},{"$f":"+King!C5","v":8.5},{"$f":"+King!D5","v":11},{"$f":"+King!E5","v":27},{"$f":"+King!G5","v":80}]
[null,null,null,null,null,null,null,null,null,null,null,null,null,null,null,null,{"$f":"+King!A6","v":2},{"$f":"+King!B6","v":"Montse"},{"$f":"+King!C6","v":4.5},{"$f":"+King!D6","v":8},{"$f":"+King!E6","v":0},{"$f":"+King!G6","v":40}]
[null,null,null,null,null,null,null,null,null,null,null,null,null,null,null,null,{"$f":"+King!A7","v":3},{"$f":"+King!B7","v":"Òscar"},{"$f":"+King!C7","v":4},{"$f":"+King!D7","v":8},{"$f":"+King!E7","v":-2},{"$f":"+King!G7","v":20}]
[null,null,null,null,null,null,null,null,null,null,null,null,null,null,null,null,{"$f":"+King!A8","v":4},{"$f":"+King!B8","v":"Núria"},{"$f":"+King!C8","v":4},{"$f":"+King!D8","v":10},{"$f":"+King!E8","v":-6},{"$f":"+King!G8","v":10}]
[]
[]
[]
[]
[null,null,{"$f":"+Texas!A12","v":8},{"$f":"+Texas!B12","v":"Grau"},{"$f":"+Texas!C12","v":-100000000},{"$f":"+Texas!D12","v":0},{"$f":"+Texas!E12","v":0},{"$f":"+Texas!F12","v":0}]
[]
[]
[]
[]
[]
[]
[null,null,{"$f":"+'1000km'!A1","v":"1000km"},null,null,null,null,null,null,null,null,null,null,null,null,null,null,null,null,null,null,null,null,"POCHA"]
[]
[]
[null,null,null,null,{"$f":"+'1000km'!C4","v":"Premi"},{"$f":"+'1000km'!D4","v":"Punts"},{"$f":"+'1000km'!E4","v":"Partides"},{"$f":"+'1000km'!F4","v":"General"},null,null,null,null,null,null,null,null,null,null,null,null,null,null,null,{"$f":"+Pocha!A4","v":0},{"$f":"+Pocha!B4","v":0},{"$f":"+Pocha!C4","v":"Premi"},{"$f":"+Pocha!D4","v":"Punts"},{"$f":"+Pocha!E4","v":"Partides"},{"$f":"+Pocha!F4","v":"General"}]
[null,null,{"$f":"+'1000km'!A5","v":1},{"$f":"+'1000km'!B5","v":"Mercè"},{"$f":"+'1000km'!C5","v":-100000000},{"$f":"+'1000km'!D5","v":0},{"$f":"+'1000km'!E5","v":0},{"$f":"+'1000km'!F5","v":0},null,null,null,null,null,null,null,null,null,null,null,null,null,null,null,{"$f":"+Pocha!A5","v":1},{"$f":"+Pocha!B5","v":"alaf"},{"$f":"+Pocha!C5","v":-100000000},{"$f":"+Pocha!D5","v":1E-4},{"$f":"+Pocha!E5","v":0},{"$f":"+Pocha!F5","v":0}]
[null,null,{"$f":"+'1000km'!A6","v":2},{"$f":"+'1000km'!B6","v":"Sergi"},{"$f":"+'1000km'!C6","v":-100000000},{"$f":"+'1000km'!D6","v":0},{"$f":"+'1000km'!E6","v":0},{"$f":"+'1000km'!F6","v":0},null,null,null,null,null,null,null,null,null,null,null,null,null,null,null,{"$f":"+Pocha!A6","v":2},{"$f":"+Pocha!B6","v":"Jordi"},{"$f":"+Pocha!C6","v":-100000000},{"$f":"+Pocha!D6","v":1E-4},{"$f":"+Pocha!E6","v":0},{"$f":"+Pocha!F6","v":0}]
[null,null,{"$f":"+'1000km'!A7","v":3},{"$f":"+'1000km'!B7","v":"Mariajo"},{"$f":"+'1000km'!C7","v":-100000000},{"$f":"+'1000km'!D7","v":0},{"$f":"+'1000km'!E7","v":0},{"$f":"+'1000km'!F7","v":0},null,null,null,null,null,null,null,null,null,null,null,null,null,null,null,{"$f":"+Pocha!A7","v":3},{"$f":"+Pocha!B7","v":"Grau"},{"$f":"+Pocha!C7","v":-100000000},{"$f":"+Pocha!D7","v":1E-4},{"$f":"+Pocha!E7","v":0},{"$f":"+Pocha!F7","v":0}]
[null,null,{"$f":"+'1000km'!A8","v":4},{"$f":"+'1000km'!B8","v":"Carles"},{"$f":"+'1000km'!C8","v":-100000000},{"$f":"+'1000km'!D8","v":0},{"$f":"+'1000km'!E8","v":0},{"$f":"+'1000km'!F8","v":0},null,null,null,null,null,null,null,null,null,null,null,null,null,null,null,{"$f":"+Pocha!A8","v":4},{"$f":"+Pocha!B8","v":"Manel"},{"$f":"+Pocha!C8","v":-100000000},{"$f":"+Pocha!D8","v":1E-4},{"$f":"+Pocha!E8","v":0},{"$f":"+Pocha!F8","v":0}]
[null,null,{"$f":"+'1000km'!A9","v":5},{"$f":"+'1000km'!B9","v":"Joan Carles"},{"$f":"+'1000km'!C9","v":-100000000},{"$f":"+'1000km'!D9","v":0},{"$f":"+'1000km'!E9","v":0},{"$f":"+'1000km'!F9","v":0}]
[null,null,{"$f":"+'1000km'!A10","v":6},{"$f":"+'1000km'!B10","v":"Grau"},{"$f":"+'1000km'!C10","v":-100000000},{"$f":"+'1000km'!D10","v":0},{"$f":"+'1000km'!E10","v":0},{"$f":"+'1000km'!F10","v":0}]
[null,null,{"$f":"+'1000km'!A11","v":7},{"$f":"+'1000km'!B11","v":"Jordi"},{"$f":"+'1000km'!C11","v":-100000000},{"$f":"+'1000km'!D11","v":0},{"$f":"+'1000km'!E11","v":0},{"$f":"+'1000km'!F11","v":0},null,4,{"$f":"+'Tute cabrò'!B8","v":"Grau"},{"$f":"+'Tute cabrò'!C8","v":-10},{"$f":"+'Tute cabrò'!D8","v":2.2000000000000002},{"$f":"+'Tute cabrò'!E8","v":10},{"$f":"+'Tute cabrò'!F8","v":10}]
[null,null,{"$f":"+'1000km'!A12","v":8},{"$f":"+'1000km'!B12","v":"Goretti"},{"$f":"+'1000km'!C12","v":-100000000},{"$f":"+'1000km'!D12","v":0},{"$f":"+'1000km'!E12","v":0},{"$f":"+'1000km'!F12","v":0}]
[]
[]
[null,null,{"$f":"+Pocha!A1","v":"POCHA"},null,null,null,null,null,null,{"$f":"+Cribbage!A1","v":"CRIBBAGE"}]
[]
[]
[null,null,null,null,{"$f":"+Pocha!C4","v":"Premi"},{"$f":"+Pocha!D4","v":"Punts"},{"$f":"+Pocha!E4","v":"Partides"},{"$f":"+Pocha!F4","v":"General"},null,null,null,{"$f":"+Cribbage!C4","v":"Premi"},{"$f":"+Cribbage!D4","v":"Reptes"},{"$f":"+Cribbage!E4","v":"Punts"},{"$f":"+Cribbage!G4","v":"General"}]
[null,null,{"$f":"+Pocha!A5","v":1},{"$f":"+Pocha!B5","v":"alaf"},{"$f":"+Pocha!C5","v":-100000000},{"$f":"+Pocha!D5","v":1E-4},{"$f":"+Pocha!E5","v":0},{"$f":"+Pocha!F5","v":0},null,{"$f":"+Cribbage!A5","v":1},{"$f":"+Cribbage!B5","v":"Jordi"},{"$f":"+Cribbage!C5","v":9.5},{"$f":"+Cribbage!D5","v":11},{"$f":"+Cribbage!E5","v":33},{"$f":"+Cribbage!G5","v":80}]
[null,null,{"$f":"+Pocha!A6","v":2},{"$f":"+Pocha!B6","v":"Jordi"},{"$f":"+Pocha!C6","v":-100000000},{"$f":"+Pocha!D6","v":1E-4},{"$f":"+Pocha!E6","v":0},{"$f":"+Pocha!F6","v":0},null,{"$f":"+Cribbage!A6","v":2},{"$f":"+Cribbage!B6","v":"Núria"},{"$f":"+Cribbage!C6","v":4},{"$f":"+Cribbage!D6","v":6},{"$f":"+Cribbage!E6","v":5},{"$f":"+Cribbage!G6","v":40}]
[null,null,{"$f":"+Pocha!A7","v":3},{"$f":"+Pocha!B7","v":"Grau"},{"$f":"+Pocha!C7","v":-100000000},{"$f":"+Pocha!D7","v":1E-4},{"$f":"+Pocha!E7","v":0},{"$f":"+Pocha!F7","v":0},null,{"$f":"+Cribbage!A7","v":3},{"$f":"+Cribbage!B7","v":"Lluisa"},{"$f":"+Cribbage!C7","v":1.5},{"$f":"+Cribbage!D7","v":3},{"$f":"+Cribbage!E7","v":-2},{"$f":"+Cribbage!G7","v":20}]
[null,null,{"$f":"+Pocha!A8","v":4},{"$f":"+Pocha!B8","v":"Manel"},{"$f":"+Pocha!C8","v":-100000000},{"$f":"+Pocha!D8","v":1E-4},{"$f":"+Pocha!E8","v":0},{"$f":"+Pocha!F8","v":0},null,{"$f":"+Cribbage!A8","v":4},{"$f":"+Cribbage!B8","v":"Goretti"},{"$f":"+Cribbage!C8","v":1.5},{"$f":"+Cribbage!D8","v":3},{"$f":"+Cribbage!E8","v":-5},{"$f":"+Cribbage!G8","v":10},null,{"$f":"+Tute!A8","v":4},{"$f":"+Tute!B8","v":"Tito"},{"$f":"+Tute!C8","v":-100000000},{"$f":"+Tute!D8","v":1},{"$f":"+Tute!E8","v":0},{"$f":"+Tute!F8","v":0},null,{"$f":"+'4 Duros'!A8","v":4},{"$f":"+'4 Duros'!B8","v":"Anna P."},{"$f":"+'4 Duros'!C8","v":-100000000},{"$f":"+'4 Duros'!D8","v":0},{"$f":"+'4 Duros'!E8","v":0},{"$f":"+'4 Duros'!F8","v":0}]
[null,null,null,null,null,null,null,null,null,{"$f":"+Cribbage!A9","v":5},{"$f":"+Cribbage!B9","v":"Sebas"},{"$f":"+Cribbage!C9","v":1},{"$f":"+Cribbage!D9","v":3},{"$f":"+Cribbage!E9","v":-3},{"$f":"+Cribbage!G9","v":5},null,{"$f":"+Tute!A9","v":5},{"$f":"+Tute!B9","v":"Goretti"},{"$f":"+Tute!C9","v":-100000000},{"$f":"+Tute!D9","v":1},{"$f":"+Tute!E9","v":0},{"$f":"+Tute!F9","v":0},null,{"$f":"+'4 Duros'!A9","v":5},{"$f":"+'4 Duros'!B9","v":"Manel"},{"$f":"+'4 Duros'!C9","v":-100000000},{"$f":"+'4 Duros'!D9","v":0},{"$f":"+'4 Duros'!E9","v":0},{"$f":"+'4 Duros'!F9","v":0}]
[null,null,null,null,null,null,null,null,null,null,null,null,null,null,null,null,{"$f":"+Tute!A10","v":6},{"$f":"+Tute!B10","v":"Mariajo"},{"$f":"+Tute!C10","v":-100000000},{"$f":"+Tute!D10","v":1},{"$f":"+Tute!E10","v":0},{"$f":"+Tute!F10","v":0},null,{"$f":"+'4 Duros'!A10","v":6},{"$f":"+'4 Duros'!B10","v":"Carles"},{"$f":"+'4 Duros'!C10","v":-100000000},{"$f":"+'4 Duros'!D10","v":0},{"$f":"+'4 Duros'!E10","v":0},{"$f":"+'4 Duros'!F10","v":0}]
[null,null,null,null,null,null,null,null,null,null,null,null,null,null,null,null,{"$f":"+Tute!A11","v":7},{"$f":"+Tute!B11","v":"Jordi"},{"$f":"+Tute!C11","v":-100000000},{"$f":"+Tute!D11","v":1},{"$f":"+Tute!E11","v":0},{"$f":"+Tute!F11","v":0},null,{"$f":"+'4 Duros'!A11","v":7},{"$f":"+'4 Duros'!B11","v":"Goretti"},{"$f":"+'4 Duros'!C11","v":-100000000},{"$f":"+'4 Duros'!D11","v":0},{"$f":"+'4 Duros'!E11","v":0},{"$f":"+'4 Duros'!F11","v":0}]
[]
[]
[{"$f":"+Chinchón!A1","v":"CHINCHÓN"},null,null,null,null,null,null,null,{"$f":"+Escombra!A1","v":"ESCOMBRA"}]
[]
[]
[null,null,{"$f":"+Chinchón!C4","v":"Premio"},{"$f":"+Chinchón!D4","v":"Punts"},{"$f":"+Chinchón!E4","v":"Partides"},{"$f":"+Chinchón!F4","v":"General"},null,null,null,null,{"$f":"+Escombra!C4","v":"Premi"},{"$f":"+Escombra!D4","v":"Punts"},{"$f":"+Escombra!E4","v":"Partides"},{"$f":"+Escombra!F4","v":"General"}]
[{"$f":"+Chinchón!A5","v":1},{"$f":"+Chinchón!B5","v":"Mercé"},{"$f":"+Chinchón!C5","v":-100000000},{"$f":"+Chinchón!D5","v":0},{"$f":"+Chinchón!E5","v":0},{"$f":"+Chinchón!F5","v":0},null,null,{"$f":"+Escombra!A5","v":1},{"$f":"+Escombra!B5","v":"Carles"},{"$f":"+Escombra!C5","v":-100000000},{"$f":"+Escombra!D5","v":1E-4},{"$f":"+Escombra!E5","v":0},{"$f":"+Escombra!F5","v":0}]
[{"$f":"+Chinchón!A6","v":2},{"$f":"+Chinchón!B6","v":"Carles"},{"$f":"+Chinchón!C6","v":-100000000},{"$f":"+Chinchón!D6","v":0},{"$f":"+Chinchón!E6","v":0},{"$f":"+Chinchón!F6","v":0},null,null,{"$f":"+Escombra!A6","v":2},{"$f":"+Escombra!B6","v":"Mercè"},{"$f":"+Escombra!C6","v":-100000000},{"$f":"+Escombra!D6","v":1E-4},{"$f":"+Escombra!E6","v":0},{"$f":"+Escombra!F6","v":0}]
[{"$f":"+Chinchón!A7","v":3},{"$f":"+Chinchón!B7","v":"Jordi"},{"$f":"+Chinchón!C7","v":-100000000},{"$f":"+Chinchón!D7","v":0},{"$f":"+Chinchón!E7","v":0},{"$f":"+Chinchón!F7","v":0},null,null,{"$f":"+Escombra!A7","v":3},{"$f":"+Escombra!B7","v":"Jordi"},{"$f":"+Escombra!C7","v":-100000000},{"$f":"+Escombra!D7","v":1E-4},{"$f":"+Escombra!E7","v":0},{"$f":"+Escombra!F7","v":0}]
[]
[]
[null,null,null,null,null,null,null,null,null,null,null,null,null,null,null,null,{"$f":"+'Tute cabrò'!A1","v":"TUTE CABRÒ"},null,null,null,null,null,null,{"$f":"+Buti3!A1","v":"BUTI3"}]
[]
[]
[null,null,null,null,null,null,null,null,null,null,null,null,null,null,null,null,null,null,{"$f":"+'Tute cabrò'!C4","v":"Premi"},{"$f":"+'Tute cabrò'!D4","v":"Punts"},{"$f":"+'Tute cabrò'!E4","v":"Partides"},{"$f":"+'Tute cabrò'!F4","v":"General"},null,null,null,{"$f":"+Buti3!C4","v":"Premi"},{"$f":"+Buti3!D4","v":"Punts"},{"$f":"+Buti3!E4","v":"Partides"},{"$f":"+Buti3!F4","v":"General"}]
[null,null,null,null,null,null,null,null,null,null,null,null,null,null,null,null,{"$f":"+'Tute cabrò'!A5","v":1},{"$f":"+'Tute cabrò'!B5","v":"Jordi"},{"$f":"+'Tute cabrò'!C5","v":179.33333333333334},{"$f":"+'Tute cabrò'!D5","v":1.6206896551724137},{"$f":"+'Tute cabrò'!E5","v":58},{"$f":"+'Tute cabrò'!F5","v":80},null,{"$f":"+Buti3!A5","v":1},{"$f":"+Buti3!B5","v":"Mariajo"},{"$f":"+Buti3!C5","v":-100000000},{"$f":"+Buti3!D5","v":0},{"$f":"+Buti3!E5","v":0},{"$f":"+Buti3!F5","v":0}]
[null,null,null,null,null,null,null,null,null,null,null,null,null,null,null,null,{"$f":"+'Tute cabrò'!A6","v":2},{"$f":"+'Tute cabrò'!B6","v":"Sebas"},{"$f":"+'Tute cabrò'!C6","v":30},{"$f":"+'Tute cabrò'!D6","v":2.0303030303030303},{"$f":"+'Tute cabrò'!E6","v":33},{"$f":"+'Tute cabrò'!F6","v":40},null,{"$f":"+Buti3!A6","v":2},{"$f":"+Buti3!B6","v":"Goretti"},{"$f":"+Buti3!C6","v":-100000000},{"$f":"+Buti3!D6","v":0},{"$f":"+Buti3!E6","v":0},{"$f":"+Buti3!F6","v":0}]
[null,null,null,null,null,null,null,null,null,null,null,null,null,null,null,null,{"$f":"+'Tute cabrò'!A7","v":3},{"$f":"+'Tute cabrò'!B7","v":"Òscar"},{"$f":"+'Tute cabrò'!C7","v":20},{"$f":"+'Tute cabrò'!D7","v":1.8333333333333333},{"$f":"+'Tute cabrò'!E7","v":6},{"$f":"+'Tute cabrò'!F7","v":20},null,{"$f":"+Buti3!A7","v":3},{"$f":"+Buti3!B7","v":"Grau"},{"$f":"+Buti3!C7","v":-100000000},{"$f":"+Buti3!D7","v":0},{"$f":"+Buti3!E7","v":0},{"$f":"+Buti3!F7","v":0}]
[null,null,null,null,null,null,null,null,null,null,null,null,null,null,null,null,{"$f":"+'Tute cabrò'!A8","v":4},{"$f":"+'Tute cabrò'!B8","v":"Grau"},{"$f":"+'Tute cabrò'!C8","v":-10},{"$f":"+'Tute cabrò'!D8","v":2.2000000000000002},{"$f":"+'Tute cabrò'!E8","v":10},{"$f":"+'Tute cabrò'!F8","v":10},null,{"$f":"+Buti3!A8","v":4},{"$f":"+Buti3!B8","v":"Jordi"},{"$f":"+Buti3!C8","v":-100000000},{"$f":"+Buti3!D8","v":0},{"$f":"+Buti3!E8","v":0},{"$f":"+Buti3!F8","v":0}]
[null,null,null,null,null,null,null,null,null,{"$f":"+King!A9","v":5},{"$f":"+King!B9","v":"Gemma"},{"$f":"+King!C9","v":3.5},{"$f":"+King!D9","v":8},{"$f":"+King!E9","v":-11},{"$f":"+King!G9","v":5},null,{"$f":"+'Tute cabrò'!A9","v":5},{"$f":"+'Tute cabrò'!B9","v":"Goretti"},{"$f":"+'Tute cabrò'!C9","v":-20},{"$f":"+'Tute cabrò'!D9","v":2},{"$f":"+'Tute cabrò'!E9","v":12},{"$f":"+'Tute cabrò'!F9","v":5}]
[null,null,null,null,null,null,null,null,null,{"$f":"+King!A10","v":6},{"$f":"+King!B10","v":"Sebas"},{"$f":"+King!C10","v":1.5},{"$f":"+King!D10","v":8},{"$f":"+King!E10","v":-10},{"$f":"+King!G10","v":0},null,{"$f":"+'Tute cabrò'!A10","v":6},{"$f":"+'Tute cabrò'!B10","v":"Núria"},{"$f":"+'Tute cabrò'!C10","v":-40.666666666666664},{"$f":"+'Tute cabrò'!D10","v":2.5517241379310347},{"$f":"+'Tute cabrò'!E10","v":29},{"$f":"+'Tute cabrò'!F10","v":0}]
[null,null,null,null,null,null,null,null,null,{"$f":"+King!A11","v":7},{"$f":"+King!B11","v":"Mariajo"},{"$f":"+King!C11","v":6},{"$f":"+King!D11","v":7},{"$f":"+King!E11","v":6},{"$f":"+King!G11","v":0},null,{"$f":"+'Tute cabrò'!A11","v":7},{"$f":"+'Tute cabrò'!B11","v":"Gemma"},{"$f":"+'Tute cabrò'!C11","v":-48},{"$f":"+'Tute cabrò'!D11","v":2.6666666666666665},{"$f":"+'Tute cabrò'!E11","v":9},{"$f":"+'Tute cabrò'!F11","v":0}]
[null,null,null,null,null,null,null,null,null,{"$f":"+King!A12","v":8},{"$f":"+King!B12","v":"Manolo"},{"$f":"+King!C12","v":5.5},{"$f":"+King!D12","v":8},{"$f":"+King!E12","v":3},{"$f":"+King!G12","v":0}]
[]
[]
[]
[]
[]
[]
[]
[]
[]
[]
[]
[null,null,{"$f":"+Texas!A10","v":6},{"$f":"+Texas!B10","v":"Gerard"},{"$f":"+Texas!C10","v":-100000000},{"$f":"+Texas!D10","v":0},{"$f":"+Texas!E10","v":0},{"$f":"+Texas!F10","v":0}]
[null,null,{"$f":"+Texas!A11","v":7},{"$f":"+Texas!B11","v":"Goretti"},{"$f":"+Texas!C11","v":-100000000},{"$f":"+Texas!D11","v":0},{"$f":"+Texas!E11","v":0},{"$f":"+Texas!F11","v":0}]
[]
[]
[]
[]
[]
[]
[]
[]
[]
[]
[]
[]
[]
[]
[]
[]
[]
[]
[{"$f":"+'Poker D'!A1","v":"POKER D"}]
[]
[]
[]
[{"$f":"+'Poker D'!A5","v":1},{"$f":"+'Poker D'!B5","v":"Mercè"},{"$f":"+'Poker D'!C5","v":-100000000},{"$f":"+'Poker D'!D5","v":1E-4},{"$f":"+'Poker D'!E5","v":0},{"$f":"+'Poker D'!F5","v":0}]
[{"$f":"+'Poker D'!A6","v":2},{"$f":"+'Poker D'!B6","v":"Carles"},{"$f":"+'Poker D'!C6","v":-100000000},{"$f":"+'Poker D'!D6","v":1E-4},{"$f":"+'Poker D'!E6","v":0},{"$f":"+'Poker D'!F6","v":0}]
[{"$f":"+'Poker D'!A7","v":3},{"$f":"+'Poker D'!B7","v":"Jordi"},{"$f":"+'Poker D'!C7","v":-100000000},{"$f":"+'Poker D'!D7","v":1E-4},{"$f":"+'Poker D'!E7","v":0},{"$f":"+'Poker D'!F7","v":0}]
[]
[]
[]
[]
[]
[]
[]
[]
[]
[null,null,null,null,null,null,null,{"$f":"+Copo!A1","v":"COPO"}]
[]
[]
[null,null,null,null,null,null,null,null,null,{"$f":"+Copo!C4","v":"Premi"},{"$f":"+Copo!D4","v":"Punts"},{"$f":"+Copo!E4","v":"Partides"},{"$f":"+Copo!F4","v":"General"}]
[null,null,null,null,null,null,null,{"$f":"+Copo!A5","v":1},{"$f":"+Copo!B5","v":"Jorge"},{"$f":"+Copo!C5","v":-100000000},{"$f":"+Copo!D5","v":1E-4},{"$f":"+Copo!E5","v":0},{"$f":"+Copo!F5","v":0}]
[null,null,null,null,null,null,null,{"$f":"+Copo!A6","v":2},{"$f":"+Copo!B6","v":"Aurora"},{"$f":"+Copo!C6","v":-100000000},{"$f":"+Copo!D6","v":1E-4},{"$f":"+Copo!E6","v":0},{"$f":"+Copo!F6","v":0}]
[null,null,null,null,null,null,null,{"$f":"+Copo!A7","v":3},{"$f":"+Copo!B7","v":"Sergi"},{"$f":"+Copo!C7","v":-100000000},{"$f":"+Copo!D7","v":1E-4},{"$f":"+Copo!E7","v":0},{"$f":"+Copo!F7","v":0}]
[null,null,null,null,null,null,null,{"$f":"+Copo!A8","v":4},{"$f":"+Copo!B8","v":"Carles"},{"$f":"+Copo!C8","v":-100000000},{"$f":"+Copo!D8","v":1E-4},{"$f":"+Copo!E8","v":0},{"$f":"+Copo!F8","v":0}]
[null,null,null,null,null,null,null,{"$f":"+Copo!A9","v":5},{"$f":"+Copo!B9","v":"Mariajo"},{"$f":"+Copo!C9","v":-100000000},{"$f":"+Copo!D9","v":1E-4},{"$f":"+Copo!E9","v":0},{"$f":"+Copo!F9","v":0}]
[null,null,null,null,null,null,null,{"$f":"+Copo!A10","v":6},{"$f":"+Copo!B10","v":"Mercè"},{"$f":"+Copo!C10","v":-100000000},{"$f":"+Copo!D10","v":1E-4},{"$f":"+Copo!E10","v":0},{"$f":"+Copo!F10","v":0}]
[null,null,null,null,null,null,null,{"$f":"+Copo!A11","v":7},{"$f":"+Copo!B11","v":"Jordi"},{"$f":"+Copo!C11","v":-100000000},{"$f":"+Copo!D11","v":1E-4},{"$f":"+Copo!E11","v":0},{"$f":"+Copo!F11","v":0}]
[]
[]
[]
[]
[]
[]
[]
[]
[]
[]
[{"$f":"+Podrida!A1","v":"PODRIDA"},null,null,null,null,null,null,null,null,null,null,null,null,null,{"$f":"+Remigio!A1","v":"REMIGIO"}]
[]
[]
[null,null,{"$f":"+Podrida!C4","v":"Premi"},{"$f":"+Podrida!D4","v":"Reptes"},{"$f":"+Podrida!E4","v":"Punts"},{"$f":"+Podrida!G4","v":"General"},null,null,null,null,null,null,null,null,null,null,{"$f":"+Remigio!C4","v":"Premio"},{"$f":"+Remigio!D4","v":"Punts"},{"$f":"+Remigio!E4","v":"Partides"},{"$f":"+Remigio!F4","v":"General"}]
[{"$f":"+Podrida!A5","v":1},{"$f":"+Podrida!B5","v":"Sebas"},{"$f":"+Podrida!C5","v":2.5},{"$f":"+Podrida!D5","v":3},{"$f":"+Podrida!E5","v":4},{"$f":"+Podrida!G5","v":0},null,null,null,null,null,null,null,null,{"$f":"+Remigio!A5","v":1},{"$f":"+Remigio!B5","v":"Mariajo"},{"$f":"+Remigio!C5","v":-100000000},{"$f":"+Remigio!D5","v":0},{"$f":"+Remigio!E5","v":0},{"$f":"+Remigio!F5","v":0}]
[{"$f":"+Podrida!A6","v":2},{"$f":"+Podrida!B6","v":"Carles"},{"$f":"+Podrida!C6","v":2},{"$f":"+Podrida!D6","v":2},{"$f":"+Podrida!E6","v":2},{"$f":"+Podrida!G6","v":0},null,null,null,null,null,null,null,null,{"$f":"+Remigio!A6","v":2},{"$f":"+Remigio!B6","v":"Mercé"},{"$f":"+Remigio!C6","v":-100000000},{"$f":"+Remigio!D6","v":0},{"$f":"+Remigio!E6","v":0},{"$f":"+Remigio!F6","v":0}]
[{"$f":"+Podrida!A7","v":3},{"$f":"+Podrida!B7","v":"Jordi"},{"$f":"+Podrida!C7","v":2},{"$f":"+Podrida!D7","v":3},{"$f":"+Podrida!E7","v":2},{"$f":"+Podrida!G7","v":0},null,null,null,null,null,null,null,null,{"$f":"+Remigio!A7","v":3},{"$f":"+Remigio!B7","v":"Jordi"},{"$f":"+Remigio!C7","v":-100000000},{"$f":"+Remigio!D7","v":0},{"$f":"+Remigio!E7","v":0},{"$f":"+Remigio!F7","v":0}]
[{"$f":"+Podrida!A8","v":4},{"$f":"+Podrida!B8","v":"Nogué"},{"$f":"+Podrida!C8","v":1.5},{"$f":"+Podrida!D8","v":3},{"$f":"+Podrida!E8","v":0},{"$f":"+Podrida!G8","v":0}]
[null,null,null,null,null,null,null,{"$f":"+Escombra!A9","v":5},{"$f":"+Escombra!B9","v":"Mariajo"},{"$f":"+Escombra!C9","v":-100000000},{"$f":"+Escombra!D9","v":1E-4},{"$f":"+Escombra!E9","v":0},{"$f":"+Escombra!F9","v":0}]
[null,null,null,null,null,null,null,{"$f":"+Escombra!A10","v":6},{"$f":"+Escombra!B10","v":"Grau"},{"$f":"+Escombra!C10","v":-100000000},{"$f":"+Escombra!D10","v":1E-4},{"$f":"+Escombra!E10","v":0},{"$f":"+Escombra!F10","v":0}]
[]
[]
[]
[]
[]
[]
[]
[]
[]
[]
[]
[]
[]
[]
[]
[]
[]
[null,null,null,null,null,null,null,{"$f":"+Pocha!A8","v":4}]
[null,null,null,null,null,null,null,{"$f":"+Pocha!A9","v":5}]
[null,null,null,null,null,null,null,{"$f":"+Pocha!A10","v":6}]
[null,null,null,null,null,null,null,{"$f":"+Pocha!A11","v":7}]
[null,null,null,null,null,null,null,{"$f":"+Pocha!A12","v":8}]
[null,null,null,null,null,null,null,{"$f":"+Pocha!A13","v":9}]
[null,null,null,null,null,null,null,{"$f":"+Pocha!A14","v":10}]
[]
[]
[]
[]
[null,null,null,null,{"$f":"SUM(E557:E572)","v":10},null,null,null,null,null,null,null,null,{"$f":"SUM(N557:N572)","v":2},null,null,{"$f":"SUM(Q557:Q572)","v":6},null,null,{"$f":"SUM(T557:T572)","v":2},null,null,null,null,null,null,null,null,null,null,null,null,null,null,null,null,null,null,null,null,null,null,null,null,null,null,{"$f":"SUM(AR557:AR572)","v":0},null,null,{"$f":"SUM(AX557:AX572)","v":3},null,null,{"$f":"SUM(BA557:BA572)","v":7}]
[null,null,null,null,"Jordi",null,null,"Josep Mª",null,null,"Joan Carles",null,null,"Sergi",null,null,"Carles",null,null,"Mariajo",null,null,"Iglesias",null,null,"David",null,null,"Xavi",null,null,null,null,null,null,null,null,"Salvadó",null,null,"Rubén",null,null,"Tina",null,null,"Goretti",null,null,"Grau",null,null,"Mercè"]
[null,null,"Buti",null,4,null,null,null,null,null,null,null,null,1,null,null,1,null,null,0,null,null,null,null,null,null,null,null,null,null,null,null,null,null,null,null,null,null,null,null,null,null,null,null,null,null,0,null,null,1,null,null,4]
[null,null,"Pumba",null,1,null,null,null,null,null,null,null,null,0,null,null,1,null,null,1,null,null,null,null,null,null,null,null,null,null,null,null,null,null,null,null,null,null,null,null,null,null,null,null,null,null,null,null,null,null,null,null,1]
[null,null,"Texs",null,null,null,null,null,null,null,null,null,null,null,null,null,1]
[null,null,"Omaha",null,null,null,null,null,null,null,null,null,null,1]
[null,null,"Kul",null,1,null,null,null,null,null,null,null,null,null,null,null,null,null,null,null,null,null,null,null,null,null,null,null,null,null,null,null,null,null,null,null,null,null,null,null,null,null,null,null,null,null,null,null,null,1]
[null,null,"Tute",null,null,null,null,null,null,null,null,null,null,null,null,null,null,null,null,null,null,null,null,null,null,null,null,null,null,null,null,null,null,null,null,null,null,null,null,null,null,null,null,null,null,null,1]
[null,null,"Wizard",null,1,null,null,null,null,null,null,null,null,null,null,null,null,null,null,null,null,null,null,null,null,null,null,null,null,null,null,null,null,null,null,null,null,null,null,null,null,null,null,null,null,null,1,null,null,null,null,null,1]
[null,null,"Tute cabró",null,null,null,null,null,null,null,null,null,null,null,null,null,null,null,null,1,null,null,null,null,null,null,null,null,null,null,null,null,null,null,null,null,null,null,null,null,null,null,null,null,null,null,null,null,null,1]
[null,null,"Escombra",null,1]
[null,null,"1000km",null,2,null,null,null,null,null,null,null,null,null,null,null,3,null,null,null,null,null,null,null,null,null,null,null,null,null,null,null,null,null,null,null,null,null,null,null,null,null,null,null,null,null,null,null,null,null,null,null,1]
[null,null,null,null,null,null,null,null,null,null,null,null,null,null,null,null,null,null,null,null,null,null,null,null,null,null,null,null,null,null,null,null,null,null,null,null,null,null,null,null,"Jordi"]
[]
[]
[null,null,null,null,null,null,null,null,null,null,null,null,null,null,null,null,null,null,null,null,null,null,null,null,null,null,null,null,null,null,null,null,null,null,null,null,null,null,null,null,"Josep Mª"]
[]
[]
[null,null,null,null,null,null,null,null,null,null,null,null,null,null,null,null,null,null,null,null,null,null,null,null,null,null,null,null,null,null,null,null,null,null,null,null,null,null,null,null,"Joan Carles"]
[]
[]
[null,null,8,"David",{"$f":"SUM(F576:O576)","v":0},null,null,null,null,null,null,null,null,null,null,null,null,null,null,null,null,null,null,null,null,null,null,null,null,null,null,null,null,null,null,null,null,null,null,null,"Sergi"]
[null,null,9,"Iglesias",0]
[null,null,10,"Joan Carles",0]
[null,null,11,"Josep Mª",0,null,null,null,null,null,null,null,null,null,null,null,null,null,null,null,null,null,null,null,null,null,null,null,null,null,null,null,null,null,null,null,null,null,null,null,"Carles"]
[null,null,12,"Rubén",0]
[null,null,13,"Salvadó",0]
[null,null,14,"Tina",0,null,null,null,null,null,null,null,null,null,null,null,null,null,null,null,null,null,null,null,null,null,null,null,null,null,null,null,null,null,null,null,null,null,null,null,"Mariajo"]
[null,null,15,"Xavi",0]
[]
[null,null,null,null,null,null,null,null,null,null,null,null,null,null,null,null,null,null,null,null,null,null,null,null,null,null,null,null,null,null,null,null,null,null,null,null,null,null,null,null,"Iglesias"]
[]
[]
[null,null,null,null,null,null,null,null,null,null,null,null,null,null,null,null,null,null,null,null,null,null,null,null,null,null,null,null,null,null,null,null,null,null,null,null,null,null,null,null,"David"]
[]
[]
[null,null,null,null,null,null,null,null,null,null,null,null,null,null,null,null,null,null,null,null,null,null,null,null,null,null,null,null,null,null,null,null,null,null,null,null,null,null,null,null,"Xavi"]
[]
[]
[null,null,null,null,null,null,null,null,null,null,null,null,null,null,null,null,null,null,null,null,null,null,null,null,null,null,null,null,null,null,null,null,null,null,null,null,null,null,null,null,"Salvadó"]
[]
[]
[null,null,null,null,null,null,null,null,null,null,null,null,null,null,null,null,null,null,null,null,null,null,null,null,null,null,null,null,null,null,null,null,null,null,null,null,null,null,null,null,"Rubén"]
[]
[]
[null,null,null,null,null,null,null,null,null,null,null,null,null,null,null,null,null,null,null,null,null,null,null,null,null,null,null,null,null,null,null,null,null,null,null,null,null,null,null,null,"Tina"]
[{"$f":"+Mus!A1","v":"MUS"},null,null,null,null,null,null,{"$f":"+Truc!A1","v":"TRUC"}]
[]
[null,null,null,null,null,null,null,null,null,null,null,null,null,null,null,null,null,null,null,null,null,null,null,null,null,null,null,null,null,null,null,null,null,null,null,null,null,null,null,null,"Goretti"]
[null,null,null,null,{"$f":"+Mus!E4","v":"Partides"},{"$f":"+Mus!F4","v":"General"},null,null,null,{"$f":"+Truc!C4","v":"Diferencia"},{"$f":"+Truc!D4","v":"Punts"},{"$f":"+Truc!E4","v":"Partides"},{"$f":"+Truc!F4","v":"General"}]
[{"$f":"+Mus!A5","v":1},{"$f":"+Mus!B5","v":"Carles"},null,null,{"$f":"+Mus!E5","v":1},{"$f":"+Mus!F5","v":0},null,{"$f":"+Truc!A5","v":1},{"$f":"+Truc!B5","v":"Carles"},{"$f":"+Truc!C5","v":-100000000},{"$f":"+Truc!D5","v":1},{"$f":"+Truc!E5","v":0},{"$f":"+Truc!F5","v":-33.333333333333336}]
[{"$f":"+Mus!A6","v":2},{"$f":"+Mus!B6","v":"Sergi"},null,null,{"$f":"+Mus!E6","v":1},{"$f":"+Mus!F6","v":0},null,{"$f":"+Truc!A6","v":2},{"$f":"+Truc!B6","v":"Mariajo"},{"$f":"+Truc!C6","v":-100000000},{"$f":"+Truc!D6","v":1},{"$f":"+Truc!E6","v":0},{"$f":"+Truc!F6","v":-33.333333333333336},null,null,null,null,null,null,null,null,null,null,null,null,null,null,null,null,null,null,null,null,null,null,null,null,null,null,null,"Grau"]
[{"$f":"+Mus!A7","v":3},{"$f":"+Mus!B7","v":"Lucía"},null,null,{"$f":"+Mus!E7","v":1},{"$f":"+Mus!F7","v":0},null,{"$f":"+Truc!A7","v":2},{"$f":"+Truc!B7","v":"Manolo"},{"$f":"+Truc!C7","v":-100000000},{"$f":"+Truc!D7","v":1},{"$f":"+Truc!E7","v":0},{"$f":"+Truc!F7","v":-33.333333333333336}]
[{"$f":"+Mus!A8","v":4},{"$f":"+Mus!B8","v":"Manolo"},null,null,{"$f":"+Mus!E8","v":1},{"$f":"+Mus!F8","v":0},null,{"$f":"+Truc!A8","v":4},{"$f":"+Truc!B8","v":"Jordi"},{"$f":"+Truc!C8","v":-100000000},{"$f":"+Truc!D8","v":1},{"$f":"+Truc!E8","v":0},{"$f":"+Truc!F8","v":-5}]
[{"$f":"+Mus!A9","v":5},{"$f":"+Mus!B9","v":"Mariajo"},null,null,{"$f":"+Mus!E9","v":0},{"$f":"+Mus!F9","v":0},null,{"$f":"+Truc!A9","v":4},{"$f":"+Truc!B9","v":"Mercè"},{"$f":"+Truc!C9","v":-100000000},{"$f":"+Truc!D9","v":1},{"$f":"+Truc!E9","v":0},{"$f":"+Truc!F9","v":-5},null,null,null,null,null,null,null,null,null,null,null,null,null,null,null,null,null,null,null,null,null,null,null,null,null,null,null,"Mercè"]
[{"$f":"+Mus!A10","v":6},{"$f":"+Mus!B10","v":"Grau"},null,null,{"$f":"+Mus!E10","v":0},{"$f":"+Mus!F10","v":0},null,{"$f":"+Truc!A10","v":6},{"$f":"+Truc!B10","v":"Sergi"},{"$f":"+Truc!C10","v":-100000000},{"$f":"+Truc!D10","v":1},{"$f":"+Truc!E10","v":0},{"$f":"+Truc!F10","v":-5}]
[{"$f":"+Mus!A11","v":7},{"$f":"+Mus!B11","v":"Jordi"},null,null,{"$f":"+Mus!E11","v":0},{"$f":"+Mus!F11","v":0}]
[null,null,null,null,null,null,null,{"$f":"+Truc!A12","v":8},{"$f":"+Truc!B12","v":"Iglesias"},{"$f":"+Truc!C12","v":-100000000},{"$f":"+Truc!D12","v":1},{"$f":"+Truc!E12","v":0},{"$f":"+Truc!F12","v":0}]
[null,null,null,null,null,null,null,{"$f":"+Truc!A13","v":9},{"$f":"+Truc!B13","v":"Martín"},{"$f":"+Truc!C13","v":-100000000},{"$f":"+Truc!D13","v":1},{"$f":"+Truc!E13","v":0},{"$f":"+Truc!F13","v":0}]
[null,null,null,null,null,null,null,{"$f":"+Truc!A14","v":10},{"$f":"+Truc!B14","v":"Xavi"},{"$f":"+Truc!C14","v":-100000000},{"$f":"+Truc!D14","v":1},{"$f":"+Truc!E14","v":0},{"$f":"+Truc!F14","v":0}]
[]
[]
[]
[]
[]
[]
[]
[]
[]
[]
[]
[]
[]
[{"$f":"+Omaha!A12","v":8},{"$f":"+Omaha!B12","v":"Mariajo"},{"$f":"+Omaha!C12","v":-100000000},{"$f":"+Omaha!D12","v":0},{"$f":"+Omaha!E12","v":0},{"$f":"+Omaha!F12","v":0}]
[{"$f":"+Omaha!A13","v":9},{"$f":"+Omaha!B13","v":"Manolo"},{"$f":"+Omaha!C13","v":-100000000},{"$f":"+Omaha!D13","v":0},{"$f":"+Omaha!E13","v":0},{"$f":"+Omaha!F13","v":0}]
[{"$f":"+Omaha!A14","v":10},{"$f":"+Omaha!B14","v":"Joan Carles"},{"$f":"+Omaha!C14","v":-100000000},{"$f":"+Omaha!D14","v":0},{"$f":"+Omaha!E14","v":0},{"$f":"+Omaha!F14","v":0}]
[{"$f":"+Omaha!A15","v":11},{"$f":"+Omaha!B15","v":"Jorge"},{"$f":"+Omaha!C15","v":-100000000},{"$f":"+Omaha!D15","v":0},{"$f":"+Omaha!E15","v":0},{"$f":"+Omaha!F15","v":0}]
[]
[]
[null,null,null,null,null,null,null,{"$f":"+'4 Duros'!A1","v":"4 DUROS"}]
[]
[]
[null,null,null,null,null,null,null,null,null,{"$f":"+'4 Duros'!C4","v":"Premi"},{"$f":"+'4 Duros'!D4","v":"Punts"},{"$f":"+'4 Duros'!E4","v":"Partides"},{"$f":"+'4 Duros'!F4","v":"General"}]
[]
[]
[]
[]
[]
[]
[]
[]
[]
[]
[]
[]
[]
[]
[]
[]
[]
[]
[]
[]
[]
[]
[]
[]
[]
[]
[]
[]
[]
[]
[]
[]
[]
[]
[]
[]
[{"$f":"+Podrida!A18","v":14},{"$f":"+Podrida!B18","v":"Sergi"},{"$f":"+Podrida!C18","v":-100000000},{"$f":"+Podrida!D18","v":1},{"$f":"+Podrida!E18","v":0},{"$f":"+Podrida!G18","v":0},null,{"$f":"+Pumba!A18","v":14},{"$f":"+Pumba!B18","v":"Angie"},{"$f":"+Pumba!C18","v":-100000000},{"$f":"+Pumba!D18","v":0},{"$f":"+Pumba!E18","v":0},{"$f":"+Pumba!F18","v":0}]
[{"$f":"+Podrida!A19","v":15},{"$f":"+Podrida!B19","v":"Cyber X"},{"$f":"+Podrida!C19","v":-100000000},{"$f":"+Podrida!D19","v":1},{"$f":"+Podrida!E19","v":0},{"$f":"+Podrida!G19","v":0},null,{"$f":"+Pumba!A19","v":15},{"$f":"+Pumba!B19","v":"Xavi"},{"$f":"+Pumba!C19","v":-100000000},{"$f":"+Pumba!D19","v":0},{"$f":"+Pumba!E19","v":0},{"$f":"+Pumba!F19","v":0}]
[{"$f":"+Podrida!A20","v":16},{"$f":"+Podrida!B20","v":"Nin"},{"$f":"+Podrida!C20","v":-100000000},{"$f":"+Podrida!D20","v":1},{"$f":"+Podrida!E20","v":0},{"$f":"+Podrida!#REF!","v":{"$error":"#REF!"}},null,{"$f":"+Pumba!A20","v":16},{"$f":"+Pumba!B20","v":"Martín"},{"$f":"+Pumba!C20","v":-100000000},{"$f":"+Pumba!D20","v":0},{"$f":"+Pumba!E20","v":0},{"$f":"+Pumba!F20","v":0}]
[null,null,null,null,null,null,null,{"$f":"+Pumba!A21","v":17},{"$f":"+Pumba!B21","v":"Iglesias"},{"$f":"+Pumba!C21","v":-100000000},{"$f":"+Pumba!D21","v":0},{"$f":"+Pumba!E21","v":0},{"$f":"+Pumba!F21","v":0}]
[]
[]
[null,null,null,null,null,null,null,null,null,null,null,null,null,null,null,null,null,null,null,null,null,null,null,null,null,null,null,null,null,null,null,null,null,null,null,null,null,{"$f":"+Truc!J1","v":0}]
[]
[]
[]
[]
[]
[]
[]
[]
[]
[]
[]
[]
[]
[{"$f":"+Remigio!A15","v":11},{"$f":"+Remigio!B15","v":"Martín"},{"$f":"+Remigio!C15","v":-100000000},{"$f":"+Remigio!D15","v":0},{"$f":"+Remigio!E15","v":0},{"$f":"+Remigio!F15","v":0},null,{"$f":"+Truc!A15","v":11},{"$f":"+Truc!B15","v":"MªJosé"},{"$f":"+Truc!C15","v":-100000000},{"$f":"+Truc!D15","v":1},{"$f":"+Truc!E15","v":0},{"$f":"+Truc!F15","v":0}]
[null,null,null,null,null,null,null,{"$f":"+Truc!A16","v":12},{"$f":"+Truc!B16","v":"Goretti"},{"$f":"+Truc!C16","v":-100000000},{"$f":"+Truc!D16","v":1},{"$f":"+Truc!E16","v":0},{"$f":"+Truc!F16","v":0}]
[null,null,null,null,null,null,null,{"$f":"+Truc!A17","v":13},{"$f":"+Truc!B17","v":"Ester"},{"$f":"+Truc!C17","v":-100000000},{"$f":"+Truc!D17","v":1},{"$f":"+Truc!E17","v":0},{"$f":"+Truc!F17","v":0}]
[null,null,null,null,null,null,null,{"$f":"+Truc!A18","v":14},{"$f":"+Truc!B18","v":"Marga"},{"$f":"+Truc!C18","v":-100000000},{"$f":"+Truc!D18","v":1},{"$f":"+Truc!E18","v":0},{"$f":"+Truc!F18","v":0}]
[null,null,null,null,null,null,null,{"$f":"+Truc!A19","v":15},{"$f":"+Truc!B19","v":"Jorge"},{"$f":"+Truc!C19","v":-100000000},{"$f":"+Truc!D19","v":1},{"$f":"+Truc!E19","v":0},{"$f":"+Truc!F19","v":0}]
[null,null,null,null,null,null,null,{"$f":"+Truc!A20","v":16},{"$f":"+Truc!B20","v":"Allan"},{"$f":"+Truc!C20","v":-100000000},{"$f":"+Truc!D20","v":1},{"$f":"+Truc!E20","v":0},{"$f":"+Truc!F20","v":0}]
[]
[]
[]
[]
[]
[]
[]
[]
[]
[]
[]
[]
[]
[]
[]
[]
[]
[]
[]
[]
[]
[]
[]
[]
[]
[]
[{"$f":"+'Black Jack'!A1","v":"BLACK JACK"},null,null,null,null,null,null,{"$f":"+Julepe!A1","v":"JULEPE"}]
[]
[]
[null,null,{"$f":"+'Black Jack'!C4","v":"Premi"},{"$f":"+'Black Jack'!D4","v":"Punts"},{"$f":"+'Black Jack'!E4","v":"Partides"},{"$f":"+'Black Jack'!F4","v":"General"},null,null,null,{"$f":"+Julepe!C4","v":"Premi"},{"$f":"+Julepe!D4","v":"Punts"},{"$f":"+Julepe!E4","v":"Partides"},{"$f":"+Julepe!F4","v":"General"}]
[{"$f":"+'Black Jack'!A5","v":1},{"$f":"+'Black Jack'!B5","v":"Manel"},{"$f":"+'Black Jack'!C5","v":10},{"$f":"+'Black Jack'!D5","v":10.5},{"$f":"+'Black Jack'!E5","v":1},{"$f":"+'Black Jack'!F5","v":0},null,{"$f":"+Julepe!A5","v":1},{"$f":"+Julepe!B5","v":"Carles"},{"$f":"+Julepe!C5","v":-100000000},{"$f":"+Julepe!D5","v":0},{"$f":"+Julepe!E5","v":0},{"$f":"+Julepe!F5","v":0}]
[{"$f":"+'Black Jack'!A6","v":2},{"$f":"+'Black Jack'!B6","v":"Nin"},{"$f":"+'Black Jack'!C6","v":4},{"$f":"+'Black Jack'!D6","v":-3},{"$f":"+'Black Jack'!E6","v":1},{"$f":"+'Black Jack'!F6","v":0},null,{"$f":"+Julepe!A6","v":2},{"$f":"+Julepe!B6","v":"Sergi"},{"$f":"+Julepe!C6","v":-100000000},{"$f":"+Julepe!D6","v":0},{"$f":"+Julepe!E6","v":0},{"$f":"+Julepe!F6","v":0}]
[{"$f":"+'Black Jack'!A7","v":3},{"$f":"+'Black Jack'!B7","v":"Carles"},{"$f":"+'Black Jack'!C7","v":-4},{"$f":"+'Black Jack'!D7","v":-8.5},{"$f":"+'Black Jack'!E7","v":1},{"$f":"+'Black Jack'!F7","v":0},null,{"$f":"+Julepe!A7","v":3},{"$f":"+Julepe!B7","v":"Manel"},{"$f":"+Julepe!C7","v":-100000000},{"$f":"+Julepe!D7","v":0},{"$f":"+Julepe!E7","v":0},{"$f":"+Julepe!F7","v":0}]
[{"$f":"+'Black Jack'!A8","v":4},{"$f":"+'Black Jack'!B8","v":"Sergi"},{"$f":"+'Black Jack'!C8","v":-10},{"$f":"+'Black Jack'!D8","v":-32},{"$f":"+'Black Jack'!E8","v":1},{"$f":"+'Black Jack'!F8","v":0},null,{"$f":"+Julepe!A8","v":4},{"$f":"+Julepe!B8","v":"Jordi"},{"$f":"+Julepe!C8","v":-100000000},{"$f":"+Julepe!D8","v":0},{"$f":"+Julepe!E8","v":0},{"$f":"+Julepe!F8","v":0}]
[{"$f":"+'Black Jack'!A9","v":5},{"$f":"+'Black Jack'!B9","v":"Jordi"},{"$f":"+'Black Jack'!C9","v":-100000000},{"$f":"+'Black Jack'!D9","v":0},{"$f":"+'Black Jack'!E9","v":0},{"$f":"+'Black Jack'!F9","v":0}]
[]
[null,null,null,null,null,null,null,{"$f":"+Chinchón!A11","v":7},{"$f":"+Chinchón!B11","v":"Iglesias"},{"$f":"+Chinchón!C11","v":-100000000},{"$f":"+Chinchón!D11","v":0},{"$f":"+Chinchón!E11","v":0},{"$f":"+Chinchón!F11","v":0}]
[null,null,null,null,null,null,null,{"$f":"+Chinchón!A12","v":8},{"$f":"+Chinchón!B12","v":"Xavi"},{"$f":"+Chinchón!C12","v":-100000000},{"$f":"+Chinchón!D12","v":0},{"$f":"+Chinchón!E12","v":0},{"$f":"+Chinchón!F12","v":0}]
[null,null,null,null,null,null,null,{"$f":"+Chinchón!A13","v":9},{"$f":"+Chinchón!B13","v":"MªJosé"},{"$f":"+Chinchón!C13","v":-100000000},{"$f":"+Chinchón!D13","v":0},{"$f":"+Chinchón!E13","v":0},{"$f":"+Chinchón!F13","v":0}]
[null,null,null,null,null,null,null,{"$f":"+Chinchón!A14","v":10},{"$f":"+Chinchón!B14","v":"Marga"},{"$f":"+Chinchón!C14","v":-100000000},{"$f":"+Chinchón!D14","v":0},{"$f":"+Chinchón!E14","v":0},{"$f":"+Chinchón!F14","v":0}]
[]
[]
[]
[null,null,null,null,null,null,null,{"$f":"+Tute!A1","v":"TUTE"}]
[]
[]
[null,null,null,null,null,null,null,null,null,{"$f":"+Tute!C4","v":"Premi"},{"$f":"+Tute!D4","v":"Punts"},{"$f":"+Tute!E4","v":"Partides"},{"$f":"+Tute!F4","v":"General"}]
[null,null,null,null,null,null,null,{"$f":"+Tute!A5","v":1},{"$f":"+Tute!B5","v":"Grau"},{"$f":"+Tute!C5","v":-100000000},{"$f":"+Tute!D5","v":1},{"$f":"+Tute!E5","v":0},{"$f":"+Tute!F5","v":0}]
[null,null,null,null,null,null,null,{"$f":"+Tute!A6","v":2},{"$f":"+Tute!B6","v":"Manolo"},{"$f":"+Tute!C6","v":-100000000},{"$f":"+Tute!D6","v":1},{"$f":"+Tute!E6","v":0},{"$f":"+Tute!F6","v":0}]
[null,null,null,null,null,null,null,{"$f":"+Tute!A7","v":3},{"$f":"+Tute!B7","v":"Carles"},{"$f":"+Tute!C7","v":-100000000},{"$f":"+Tute!D7","v":1},{"$f":"+Tute!E7","v":0},{"$f":"+Tute!F7","v":0}]
[null,null,null,null,null,null,null,{"$f":"+Tute!A8","v":4},{"$f":"+Tute!B8","v":"Tito"},{"$f":"+Tute!C8","v":-100000000},{"$f":"+Tute!D8","v":1},{"$f":"+Tute!E8","v":0},{"$f":"+Tute!F8","v":0}]
[]
[]
[]
[]
[]
[]
[]
[]
[]
[]
[]
[]
[]
[]
[]
[]
[]
[]
[]
[]
[]
[]
[]
[]
[]
[]
[]
[{"$f":"+'Skull King'!A1","v":"SKULL KING"},null,null,null,null,null,null,{"$f":"+Manilla!A1","v":"MANILLA"}]
[]
[]
[null,null,{"$f":"+'Skull King'!C4","v":"Premi"},{"$f":"+'Skull King'!D4","v":"Punts"},{"$f":"+'Skull King'!E4","v":"Partides"},{"$f":"+'Skull King'!F4","v":"General"},null,null,null,{"$f":"+Manilla!C4","v":"Premi"},{"$f":"+Manilla!D4","v":"Punts"},{"$f":"+Manilla!E4","v":"Partides"},{"$f":"+Manilla!F4","v":"General"}]
[{"$f":"+'Skull King'!A5","v":1},{"$f":"+'Skull King'!B5","v":"Sergi"},{"$f":"+'Skull King'!C5","v":41},{"$f":"+'Skull King'!D5","v":247.77777777777777},{"$f":"+'Skull King'!E5","v":9},{"$f":"+'Skull King'!F5","v":80},null,{"$f":"+Manilla!A5","v":1},{"$f":"+Manilla!B5","v":"Mercè"},{"$f":"+Manilla!C5","v":-100000000},{"$f":"+Manilla!D5","v":1},{"$f":"+Manilla!E5","v":0},{"$f":"+Manilla!F5","v":0}]
[{"$f":"+'Skull King'!A6","v":2},{"$f":"+'Skull King'!B6","v":"Carles"},{"$f":"+'Skull King'!C6","v":35.5},{"$f":"+'Skull King'!D6","v":205.38461538461539},{"$f":"+'Skull King'!E6","v":13},{"$f":"+'Skull King'!F6","v":40},null,{"$f":"+Manilla!A6","v":2},{"$f":"+Manilla!B6","v":"Iglesias"},{"$f":"+Manilla!C6","v":-100000000},{"$f":"+Manilla!D6","v":1},{"$f":"+Manilla!E6","v":0},{"$f":"+Manilla!F6","v":0}]
[{"$f":"+'Skull King'!A7","v":3},{"$f":"+'Skull King'!B7","v":"Manel"},{"$f":"+'Skull King'!C7","v":-27.5},{"$f":"+'Skull King'!D7","v":157.27272727272728},{"$f":"+'Skull King'!E7","v":11},{"$f":"+'Skull King'!F7","v":20},null,{"$f":"+Manilla!A7","v":3},{"$f":"+Manilla!B7","v":"Xavi"},{"$f":"+Manilla!C7","v":-100000000},{"$f":"+Manilla!D7","v":1},{"$f":"+Manilla!E7","v":0},{"$f":"+Manilla!F7","v":0}]
[{"$f":"+'Skull King'!A8","v":4},{"$f":"+'Skull King'!B8","v":"Nin"},{"$f":"+'Skull King'!C8","v":-30},{"$f":"+'Skull King'!D8","v":160},{"$f":"+'Skull King'!E8","v":9},{"$f":"+'Skull King'!F8","v":10},null,{"$f":"+Manilla!A8","v":4},{"$f":"+Manilla!B8","v":"Jordi"},{"$f":"+Manilla!C8","v":-100000000},{"$f":"+Manilla!D8","v":1},{"$f":"+Manilla!E8","v":0},{"$f":"+Manilla!F8","v":0}]
[{"$f":"+'Skull King'!A9","v":5},{"$f":"+'Skull King'!B9","v":"Tito"},{"$f":"+'Skull King'!C9","v":9},{"$f":"+'Skull King'!D9","v":236},{"$f":"+'Skull King'!E9","v":5},{"$f":"+'Skull King'!F9","v":0},null,{"$f":"+Manilla!A9","v":5},{"$f":"+Manilla!B9","v":"Carles"},{"$f":"+Manilla!C9","v":-100000000},{"$f":"+Manilla!D9","v":1},{"$f":"+Manilla!E9","v":0},{"$f":"+Manilla!F9","v":0}]
[{"$f":"+'Skull King'!A10","v":6},{"$f":"+'Skull King'!B10","v":"Jeff"},{"$f":"+'Skull King'!C10","v":0},{"$f":"+'Skull King'!D10","v":170},{"$f":"+'Skull King'!E10","v":2},{"$f":"+'Skull King'!F10","v":0},null,{"$f":"+Manilla!A10","v":6},{"$f":"+Manilla!B10","v":"Sergi"},{"$f":"+Manilla!C10","v":-100000000},{"$f":"+Manilla!D10","v":1},{"$f":"+Manilla!E10","v":0},{"$f":"+Manilla!F10","v":0}]
[{"$f":"+'Skull King'!A11","v":7},{"$f":"+'Skull King'!B11","v":"Jordi"},{"$f":"+'Skull King'!C11","v":0},{"$f":"+'Skull King'!D11","v":130},{"$f":"+'Skull King'!E11","v":1},{"$f":"+'Skull King'!F11","v":0}]
[{"$f":"+'Skull King'!A12","v":8},{"$f":"+'Skull King'!B12","v":"Marina"},{"$f":"+'Skull King'!C12","v":-4},{"$f":"+'Skull King'!D12","v":90},{"$f":"+'Skull King'!E12","v":2},{"$f":"+'Skull King'!F12","v":0},null,{"$f":"+Manilla!A12","v":8},{"$f":"+Manilla!B12","v":"MªJosé"},{"$f":"+Manilla!C12","v":-100000000},{"$f":"+Manilla!D12","v":1},{"$f":"+Manilla!E12","v":0},{"$f":"+Manilla!F12","v":0}]
[{"$f":"+'Skull King'!A13","v":9},{"$f":"+'Skull King'!B13","v":"Alfred"},{"$f":"+'Skull King'!C13","v":-10},{"$f":"+'Skull King'!D13","v":100},{"$f":"+'Skull King'!E13","v":1},{"$f":"+'Skull King'!F13","v":0},null,{"$f":"+Manilla!A13","v":9},{"$f":"+Manilla!B13","v":"Jimmy"},{"$f":"+Manilla!C13","v":-100000000},{"$f":"+Manilla!D13","v":1},{"$f":"+Manilla!E13","v":0},{"$f":"+Manilla!F13","v":0}]
[{"$f":"+'Skull King'!A14","v":10},{"$f":"+'Skull King'!B14","v":"Mariajo"},{"$f":"+'Skull King'!C14","v":-14},{"$f":"+'Skull King'!D14","v":10},{"$f":"+'Skull King'!E14","v":2},{"$f":"+'Skull King'!F14","v":0},null,{"$f":"+Manilla!A14","v":10},{"$f":"+Manilla!B14","v":"Sylvain"},{"$f":"+Manilla!C14","v":-100000000},{"$f":"+Manilla!D14","v":1},{"$f":"+Manilla!E14","v":0},{"$f":"+Manilla!F14","v":0}]
[{"$f":"+'Skull King'!A15","v":11},{"$f":"+'Skull King'!B15","v":"Grau"},{"$f":"+'Skull King'!C15","v":-100000000},{"$f":"+'Skull King'!D15","v":1E-4},{"$f":"+'Skull King'!E15","v":0},{"$f":"+'Skull King'!F15","v":0},null,{"$f":"+Manilla!A15","v":11},{"$f":"+Manilla!B15","v":"Ester"},{"$f":"+Manilla!C15","v":-100000000},{"$f":"+Manilla!D15","v":1},{"$f":"+Manilla!E15","v":0},{"$f":"+Manilla!F15","v":0}]
[{"$f":"+'Skull King'!A16","v":12},{"$f":"+'Skull King'!B16","v":"Ester"},{"$f":"+'Skull King'!C16","v":-100000000},{"$f":"+'Skull King'!D16","v":1E-4},{"$f":"+'Skull King'!E16","v":0},{"$f":"+'Skull King'!F16","v":0},null,{"$f":"+Manilla!A16","v":12},{"$f":"+Manilla!B16","v":"Pol"},{"$f":"+Manilla!C16","v":-100000000},{"$f":"+Manilla!D16","v":1},{"$f":"+Manilla!E16","v":0},{"$f":"+Manilla!F16","v":0}]
[{"$f":"+'Skull King'!A17","v":13},{"$f":"+'Skull King'!B17","v":"Goretti"},{"$f":"+'Skull King'!C17","v":-100000000},{"$f":"+'Skull King'!D17","v":1E-4},{"$f":"+'Skull King'!E17","v":0},{"$f":"+'Skull King'!F17","v":0},null,{"$f":"+Manilla!A17","v":13},{"$f":"+Manilla!B17","v":"Goretti"},{"$f":"+Manilla!C17","v":-100000000},{"$f":"+Manilla!D17","v":1},{"$f":"+Manilla!E17","v":0},{"$f":"+Manilla!F17","v":0}]
[{"$f":"+'Skull King'!A18","v":14},{"$f":"+'Skull King'!B18","v":"Xavi"},{"$f":"+'Skull King'!C18","v":-100000000},{"$f":"+'Skull King'!D18","v":1E-4},{"$f":"+'Skull King'!E18","v":0},{"$f":"+'Skull King'!F18","v":0},null,{"$f":"+Manilla!A18","v":14},{"$f":"+Manilla!B18","v":"Taberner"},{"$f":"+Manilla!C18","v":-100000000},{"$f":"+Manilla!D18","v":1},{"$f":"+Manilla!E18","v":0},{"$f":"+Manilla!F18","v":0}]
[{"$f":"+'Skull King'!A19","v":0},{"$f":"+'Skull King'!B19","v":0},{"$f":"+'Skull King'!C19","v":0},{"$f":"+'Skull King'!D19","v":0},{"$f":"+'Skull King'!E19","v":0},{"$f":"+'Skull King'!F19","v":0},null,{"$f":"+Manilla!A19","v":15},{"$f":"+Manilla!B19","v":"Jorge"},{"$f":"+Manilla!C19","v":-100000000},{"$f":"+Manilla!D19","v":1},{"$f":"+Manilla!E19","v":0},{"$f":"+Manilla!F19","v":0}]
[]
[]
[{"$f":"+Whist!A1","v":"WHIST"},null,null,null,null,null,null,{"$f":"+Wizard!A1","v":"WIZARD"}]
[]
[]
[null,null,{"$f":"+Whist!C4","v":"Premi"},{"$f":"+Whist!D4","v":"Punts"},{"$f":"+Whist!E4","v":"Partides"},{"$f":"+Whist!F4","v":"General"},null,null,null,{"$f":"+Wizard!C4","v":"Premi"},{"$f":"+Wizard!D4","v":"Punts"},{"$f":"+Wizard!E4","v":"Partides"},{"$f":"+Wizard!F4","v":"General"}]
[{"$f":"+Whist!A5","v":1},{"$f":"+Whist!B5","v":"Iglesias"},{"$f":"+Whist!C5","v":-100000000},{"$f":"+Whist!D5","v":1},{"$f":"+Whist!E5","v":0},{"$f":"+Whist!F5","v":0},null,{"$f":"+Wizard!A5","v":1},{"$f":"+Wizard!B5","v":"Carles"},{"$f":"+Wizard!C5","v":1514},{"$f":"+Wizard!D5","v":282.14285714285717},{"$f":"+Wizard!E5","v":677},{"$f":"+Wizard!F5","v":80}]
[{"$f":"+Whist!A6","v":1},{"$f":"+Whist!B6","v":"Mercè"},{"$f":"+Whist!C6","v":-100000000},{"$f":"+Whist!D6","v":1},{"$f":"+Whist!E6","v":0},{"$f":"+Whist!F6","v":0},null,{"$f":"+Wizard!A6","v":2},{"$f":"+Wizard!B6","v":"Alfred"},{"$f":"+Wizard!C6","v":273},{"$f":"+Wizard!D6","v":223.23529411764707},{"$f":"+Wizard!E6","v":1836},{"$f":"+Wizard!F6","v":40}]
[{"$f":"+Whist!A7","v":3},{"$f":"+Whist!B7","v":"Jordi"},{"$f":"+Whist!C7","v":-100000000},{"$f":"+Whist!D7","v":1},{"$f":"+Whist!E7","v":0},{"$f":"+Whist!F7","v":0},null,{"$f":"+Wizard!A7","v":3},{"$f":"+Wizard!B7","v":"Tim"},{"$f":"+Wizard!C7","v":267},{"$f":"+Wizard!D7","v":229},{"$f":"+Wizard!E7","v":558},{"$f":"+Wizard!F7","v":20}]
[{"$f":"+Whist!A8","v":3},{"$f":"+Whist!B8","v":"Sergi"},{"$f":"+Whist!C8","v":-100000000},{"$f":"+Whist!D8","v":1},{"$f":"+Whist!E8","v":0},{"$f":"+Whist!F8","v":0},null,{"$f":"+Wizard!A8","v":4},{"$f":"+Wizard!B8","v":"Mario"},{"$f":"+Wizard!C8","v":207},{"$f":"+Wizard!D8","v":1},{"$f":"+Wizard!E8","v":387},{"$f":"+Wizard!F8","v":10}]
[{"$f":"+Whist!A9","v":5},{"$f":"+Whist!B9","v":"Xavi"},{"$f":"+Whist!C9","v":-100000000},{"$f":"+Whist!D9","v":1},{"$f":"+Whist!E9","v":0},{"$f":"+Whist!F9","v":0},null,{"$f":"+Wizard!A9","v":5},{"$f":"+Wizard!B9","v":"Jeff"},{"$f":"+Wizard!C9","v":156},{"$f":"+Wizard!D9","v":198.5625},{"$f":"+Wizard!E9","v":446},{"$f":"+Wizard!F9","v":5}]
[{"$f":"+Whist!A10","v":6},{"$f":"+Whist!B10","v":"Goretti"},{"$f":"+Whist!C10","v":-100000000},{"$f":"+Whist!D10","v":1},{"$f":"+Whist!E10","v":0},{"$f":"+Whist!F10","v":0},null,{"$f":"+Wizard!A10","v":6},{"$f":"+Wizard!B10","v":"Debi"},{"$f":"+Wizard!C10","v":154},{"$f":"+Wizard!D10","v":1},{"$f":"+Wizard!E10","v":192},{"$f":"+Wizard!F10","v":0}]
[{"$f":"+Whist!A11","v":7},{"$f":"+Whist!B11","v":"Carles"},{"$f":"+Whist!C11","v":-100000000},{"$f":"+Whist!D11","v":1},{"$f":"+Whist!E11","v":0},{"$f":"+Whist!F11","v":0},null,{"$f":"+Wizard!A11","v":7},{"$f":"+Wizard!B11","v":"Marina"},{"$f":"+Wizard!C11","v":145},{"$f":"+Wizard!D11","v":181.53846153846155},{"$f":"+Wizard!E11","v":390},{"$f":"+Wizard!F11","v":0}]
[{"$f":"+Whist!A12","v":8},{"$f":"+Whist!B12","v":"Mariajo"},{"$f":"+Whist!C12","v":-100000000},{"$f":"+Whist!D12","v":1},{"$f":"+Whist!E12","v":0},{"$f":"+Whist!F12","v":0}]

{"sheet":"Wizard","index":1,"n_rows":909,"n_cols":67,"rows_kept":909,"cut":false,"hidden":false,"merged":[[51,36,51,37],[51,38,51,39],[51,40,51,41],[51,58,51,59],[51,30,51,31],[51,32,51,33],[51,34,51,35],[51,48,51,49],[51,42,51,43],[51,44,51,45],[51,46,51,47],[51,50,51,51],[51,52,51,53],[51,56,51,57],[51,54,51,55],[51,28,51,29],[51,8,51,9],[51,12,51,13],[51,14,51,15],[51,16,51,17],[51,18,51,19],[51,20,51,21],[51,22,51,23],[51,24,51,25],[51,26,51,27],[51,1,52,1],[51,2,51,3],[51,4,51,5],[51,6,51,7],[51,10,51,11]]}
["WIZARD"]
["Mes"]
[{"$f":"+GENERAL!B6","v":12},null,{"$f":"SUM(C5:C29)+BN52-4.33333","v":790.00000333333332}]
[null,null,"Premi","Punts","Partides","General"]
[1,"Carles",{"$f":"+Q$49","v":1514},{"$f":"+R$50","v":282.14285714285717},{"$f":"+R$49","v":677},{"$f":"+Q$35","v":80},{"$f":"IF(E5<A$3/2,-1,1)*800000+C5*1000+D5*0+E5/1000","v":2314000.6770000001},null,{"$f":"+C5/E5","v":2.2363367799113738}]
[2,"Alfred",{"$f":"+AE$49","v":273},{"$f":"+AF$50","v":223.23529411764707},{"$f":"+AF$49","v":1836},{"$f":"+AE$35","v":40},1073001.8359999999,null,{"$f":"+C6/E6","v":0.14869281045751634}]
[3,"Tim",{"$f":"+AW$49","v":267},{"$f":"+AX$50","v":229},{"$f":"+AX$49","v":558},{"$f":"+AW$35","v":20},1067000.558,null,0.478494623655914]
[4,"Mario",{"$f":"+BA$49","v":207},{"$f":"+BB$50","v":1},{"$f":"+BB$49","v":387},{"$f":"+BA$35","v":10},1007000.387,null,0.53488372093023251]
[5,"Jeff",{"$f":"+AI$49","v":156},{"$f":"+AJ$50","v":198.5625},{"$f":"+AJ$49","v":446},{"$f":"+AI$35","v":5},956000.446,null,0.34977578475336324]
[6,"Debi",{"$f":"+AY$49","v":154},{"$f":"+AZ$50","v":1},{"$f":"+AZ$49","v":192},{"$f":"+AY$35","v":0},954000.19200000004,null,0.80208333333333337]
[7,"Marina",{"$f":"+Y$49","v":145},{"$f":"+Z$50","v":181.53846153846155},{"$f":"+Z$49","v":390},{"$f":"+Y$35","v":0},945000.39,null,0.37179487179487181]
[8,"Jordi",{"$f":"+G$49","v":114},{"$f":"+H$50","v":232.85714285714286},{"$f":"+H$49","v":89},{"$f":"+G$35","v":0},914000.08900000004,null,1.2808988764044944]
[9,"Sergi",{"$f":"+O$49","v":96},{"$f":"+P$50","v":230.95238095238096},{"$f":"+P$49","v":140},{"$f":"+O$35","v":0},896000.14,null,0.68571428571428572]
[10,"Xavier",{"$f":"+AS$49","v":42},{"$f":"+AT$50","v":1},{"$f":"+AT$49","v":61},{"$f":"+AS$35","v":0},842000.06099999999,null,0.68852459016393441]
[11,"Núria",{"$f":"+AK$49","v":11},{"$f":"+AL$50","v":245.41666666666666},{"$f":"+AL$49","v":28},{"$f":"+AK$35","v":0},811000.02800000005,null,0.39285714285714285]
[12,"Sebas",{"$f":"+AO$49","v":10},{"$f":"+AP$50","v":153.4},{"$f":"+AP$49","v":31},{"$f":"+AO$35","v":0},810000.03099999996,null,0.32258064516129031]
[13,"Lluïsa",{"$f":"+AQ$49","v":-1},{"$f":"+AR$50","v":1},{"$f":"+AR$49","v":61},{"$f":"+AQ$35","v":0},799000.06099999999,null,-1.6393442622950821E-2]
[14,"Nogué",{"$f":"+BG$49","v":-13},{"$f":"+BH$50","v":169.1},{"$f":"+BH$49","v":12},{"$f":"+BG$35","v":0},787000.01199999999,null,-1.0833333333333333]
[15,"Eito",{"$f":"+AU$49","v":-36},{"$f":"+AV$50","v":1},{"$f":"+AV$49","v":23},{"$f":"+AU$35","v":0},764000.02300000004,null,-1.5652173913043479]
[16,"Lleixà",{"$f":"+I$49","v":-50},{"$f":"+J$50","v":1},{"$f":"+J$49","v":41},{"$f":"+I$35","v":0},750000.04099999997,null,-1.2195121951219512]
[17,"Nin",{"$f":"+AC$49","v":-92},{"$f":"+AD$50","v":124.54545454545455},{"$f":"+AD$49","v":49},{"$f":"+AC$35","v":0},708000.049,null,-1.8775510204081634]
[18,"Manolo",{"$f":"+C$49","v":-173},{"$f":"+D$50","v":187.5},{"$f":"+D$49","v":995},{"$f":"+C$35","v":0},627000.995,null,-0.17386934673366833]
[19,"Tito",{"$f":"+AA$49","v":-176},{"$f":"+AB$50","v":189.23076923076923},{"$f":"+AB$49","v":510},{"$f":"+AA$35","v":0},624000.51,null,-0.34509803921568627]
[20,"Ana B",{"$f":"+E$49","v":-235},{"$f":"+F$50","v":195.94117647058823},{"$f":"+F$49","v":269},{"$f":"+E$35","v":0},565000.26899999997,null,-0.87360594795539037]
[21,"Goretti",{"$f":"+M$49","v":-260},{"$f":"+N$50","v":215.26315789473685},{"$f":"+N$49","v":369},{"$f":"+M$35","v":0},540000.36899999995,null,-0.70460704607046065]
[22,"Grau",{"$f":"+U$49","v":-348},{"$f":"+V$50","v":226.42857142857142},{"$f":"+V$49","v":1007},{"$f":"+U$35","v":0},452001.00699999998,null,-0.34558093346573981]
[23,"Nancy",{"$f":"+AG$49","v":-399},{"$f":"+AH$50","v":170},{"$f":"+AH$49","v":224},{"$f":"+AG$35","v":0},401000.22399999999]
[24,"Gemma",{"$f":"+AM$49","v":-420},{"$f":"+AN$50","v":158},{"$f":"+AN$49","v":768},{"$f":"+AM$35","v":0},380000.76799999998]
[25,"Òscar",{"$f":"+BC$49","v":1},{"$f":"+BD$50","v":125.5},{"$f":"+BD$49","v":1},{"$f":"+BC$35","v":0},-798999.99899999995]
[26,"Caty",{"$f":"+W$49","v":-1},{"$f":"+X$50","v":340},{"$f":"+X$49","v":1},{"$f":"+W$35","v":0},-800999.99899999995]
[27,"Christophe",{"$f":"+BE$49","v":-3},{"$f":"+BF$50","v":30.5},{"$f":"+BF$49","v":1},{"$f":"+BE$35","v":0},-802999.99899999995]
[28,"Mariajo",{"$f":"+S$49","v":-6},{"$f":"+T$50","v":170},{"$f":"+T$49","v":3},{"$f":"+S$35","v":0},-805999.99699999997]
[29,"CyberX",{"$f":"+K$49","v":-100000000},{"$f":"+L$50","v":194.80917874396138},{"$f":"+L$49","v":69},{"$f":"+K$35","v":0},-99999199999.931]
[]
[null,"General",{"$f":"+C36*C37","v":0},{"$f":"+D36*D37","v":995},0,269,{"$f":"+G36*G37","v":0},89,0,41,{"$f":"+K36*K37","v":0},{"$f":"+L36*L37","v":69},0,369,0,140,80,677,0,3,{"$f":"+U36*U37","v":0},1007,0,1,0,390,{"$f":"+AA36*AA37","v":0},{"$f":"+AB36*AB37","v":510},{"$f":"+AC36*AC37","v":0},{"$f":"+AD36*AD37","v":49},{"$f":"+AE36*AE37","v":40},1836,{"$f":"+AG36*AG37","v":0},{"$f":"+AH36*AH37","v":224},5,446,{"$f":"+AK36*AK37","v":0},28,0,768,0,31,{"$f":"+AQ36*AQ37","v":0},61,0,61,{"$f":"+AU36*AU37","v":0},23,{"$f":"+AW36*AW37","v":20},558,0,192,10,387,{"$f":"+BC36*BC37","v":0},1,{"$f":"+BE36*BE37","v":0},1,0,12]
[null,null,{"$f":"IF($B48>3,1,0)","v":1},{"$f":"IF($B48>3,1,0)","v":1},1,1,{"$f":"IF($B48>3,1,0)","v":1},1,1,1,{"$f":"IF($B48>3,1,0)","v":1},{"$f":"IF($B48>3,1,0)","v":1},1,1,1,1,1,1,1,1,1,1,1,1,1,1,{"$f":"IF($B48>3,1,0)","v":1},{"$f":"IF($B48>3,1,0)","v":1},{"$f":"IF($B48>3,1,0)","v":1},{"$f":"IF($B48>3,1,0)","v":1},1,1,{"$f":"IF($B48>3,1,0)","v":1},{"$f":"IF($B48>3,1,0)","v":1},1,1,{"$f":"IF($B48>3,1,0)","v":1},1,1,1,1,1,{"$f":"IF($B48>3,1,0)","v":1},1,1,1,{"$f":"IF($B48>3,1,0)","v":1},1,{"$f":"IF($B48>3,1,0)","v":1},1,1,1,1,1,{"$f":"IF($B48>3,1,0)","v":1},1,{"$f":"IF($B48>3,1,0)","v":1},1,1,1]
[null,null,{"$f":"MAX(C38:C42)","v":0},{"$f":"+D49","v":995},{"$f":"MAX(E38:E42)","v":0},{"$f":"+F49","v":269},{"$f":"MAX(G38:G42)","v":0},{"$f":"+H49","v":89},{"$f":"MAX(I38:I42)","v":0},{"$f":"+J49","v":41},{"$f":"MAX(K38:K42)","v":0},{"$f":"+L49","v":69},{"$f":"MAX(M38:M42)","v":0},{"$f":"+N49","v":369},{"$f":"MAX(O38:O42)","v":0},{"$f":"+P49","v":140},{"$f":"MAX(Q38:Q42)","v":80},{"$f":"+R49","v":677},{"$f":"MAX(S38:S42)","v":0},{"$f":"+T49","v":3},{"$f":"MAX(U38:U42)","v":0},{"$f":"+V49","v":1007},{"$f":"MAX(W38:W42)","v":0},{"$f":"+X49","v":1},{"$f":"MAX(Y38:Y42)","v":0},{"$f":"+Z49","v":390},{"$f":"MAX(AA38:AA42)","v":0},{"$f":"+AB49","v":510},{"$f":"MAX(AC38:AC42)","v":0},{"$f":"+AD49","v":49},{"$f":"MAX(AE38:AE42)","v":40},{"$f":"+AF49","v":1836},{"$f":"MAX(AG38:AG42)","v":0},{"$f":"+AH49","v":224},{"$f":"MAX(AI38:AI42)","v":5},{"$f":"+AJ49","v":446},{"$f":"MAX(AK38:AK42)","v":0},{"$f":"+AL49","v":28},{"$f":"MAX(AM38:AM42)","v":0},{"$f":"+AN49","v":768},{"$f":"MAX(AO38:AO42)","v":0},{"$f":"+AP49","v":31},{"$f":"MAX(AQ38:AQ42)","v":0},{"$f":"+AR49","v":61},{"$f":"MAX(AS38:AS42)","v":0},{"$f":"+AT49","v":61},{"$f":"MAX(AU38:AU42)","v":0},{"$f":"+AV49","v":23},{"$f":"MAX(AW38:AW42)","v":20},{"$f":"+AX49","v":558},{"$f":"MAX(AY38:AY42)","v":0},{"$f":"+AZ49","v":192},{"$f":"MAX(BA38:BA42)","v":10},{"$f":"+BB49","v":387},{"$f":"MAX(BC38:BC42)","v":0},{"$f":"+BD49","v":1},{"$f":"MAX(BE38:BE42)","v":0},{"$f":"+BF49","v":1},{"$f":"MAX(BG38:BG42)","v":0},{"$f":"+BH49","v":12}]
[null,null,{"$f":"IF(C$43=5,5,0)","v":0},null,{"$f":"IF(E$43=5,5,0)","v":0},null,{"$f":"IF(G$43=5,5,0)","v":0},null,{"$f":"IF(I$43=5,5,0)","v":0},null,{"$f":"IF(K$43=5,5,0)","v":0},null,{"$f":"IF(M$43=5,5,0)","v":0},null,{"$f":"IF(O$43=5,5,0)","v":0},null,{"$f":"IF(Q$43=5,5,0)","v":0},null,{"$f":"IF(S$43=5,5,0)","v":0},null,{"$f":"IF(U$43=5,5,0)","v":0},null,{"$f":"IF(W$43=5,5,0)","v":0},null,{"$f":"IF(Y$43=5,5,0)","v":0},null,{"$f":"IF(AA$43=5,5,0)","v":0},null,{"$f":"IF(AC$43=5,5,0)","v":0},null,{"$f":"IF(AE$43=5,5,0)","v":0},null,{"$f":"IF(AG$43=5,5,0)","v":0},null,{"$f":"IF(AI$43=5,5,0)","v":5},null,{"$f":"IF(AK$43=5,5,0)","v":0},null,{"$f":"IF(AM$43=5,5,0)","v":0},null,{"$f":"IF(AO$43=5,5,0)","v":0},null,{"$f":"IF(AQ$43=5,5,0)","v":0},null,{"$f":"IF(AS$43=5,5,0)","v":0},null,{"$f":"IF(AU$43=5,5,0)","v":0},null,{"$f":"IF(AW$43=5,5,0)","v":0},null,{"$f":"IF(AY$43=5,5,0)","v":0},null,{"$f":"IF(BA$43=5,5,0)","v":0},null,{"$f":"IF(BC$43=5,5,0)","v":0},null,{"$f":"IF(BE$43=5,5,0)","v":0},null,{"$f":"IF(BG$43=5,5,0)","v":0}]
[null,null,{"$f":"IF(C$43=4,10,0)","v":0},null,{"$f":"IF(E$43=4,10,0)","v":0},null,{"$f":"IF(G$43=4,10,0)","v":0},null,{"$f":"IF(I$43=4,10,0)","v":0},null,{"$f":"IF(K$43=4,10,0)","v":0},null,{"$f":"IF(M$43=4,10,0)","v":0},null,{"$f":"IF(O$43=4,10,0)","v":0},null,{"$f":"IF(Q$43=4,10,0)","v":0},null,{"$f":"IF(S$43=4,10,0)","v":0},null,{"$f":"IF(U$43=4,10,0)","v":0},null,{"$f":"IF(W$43=4,10,0)","v":0},null,{"$f":"IF(Y$43=4,10,0)","v":0},null,{"$f":"IF(AA$43=4,10,0)","v":0},null,{"$f":"IF(AC$43=4,10,0)","v":0},null,{"$f":"IF(AE$43=4,10,0)","v":0},null,{"$f":"IF(AG$43=4,10,0)","v":0},null,{"$f":"IF(AI$43=4,10,0)","v":0},null,{"$f":"IF(AK$43=4,10,0)","v":0},null,{"$f":"IF(AM$43=4,10,0)","v":0},null,{"$f":"IF(AO$43=4,10,0)","v":0},null,{"$f":"IF(AQ$43=4,10,0)","v":0},null,{"$f":"IF(AS$43=4,10,0)","v":0},null,{"$f":"IF(AU$43=4,10,0)","v":0},null,{"$f":"IF(AW$43=4,10,0)","v":0},null,{"$f":"IF(AY$43=4,10,0)","v":0},null,{"$f":"IF(BA$43=4,10,0)","v":10},null,{"$f":"IF(BC$43=4,10,0)","v":0},null,{"$f":"IF(BE$43=4,10,0)","v":0},null,{"$f":"IF(BG$43=4,10,0)","v":0}]
[null,null,{"$f":"IF(C$43=3,20,0)","v":0},null,{"$f":"IF(E$43=3,20,0)","v":0},null,{"$f":"IF(G$43=3,20,0)","v":0},null,{"$f":"IF(I$43=3,20,0)","v":0},null,{"$f":"IF(K$43=3,20,0)","v":0},null,{"$f":"IF(M$43=3,20,0)","v":0},null,{"$f":"IF(O$43=3,20,0)","v":0},null,{"$f":"IF(Q$43=3,20,0)","v":0},null,{"$f":"IF(S$43=3,20,0)","v":0},null,{"$f":"IF(U$43=3,20,0)","v":0},null,{"$f":"IF(W$43=3,20,0)","v":0},null,{"$f":"IF(Y$43=3,20,0)","v":0},null,{"$f":"IF(AA$43=3,20,0)","v":0},null,{"$f":"IF(AC$43=3,20,0)","v":0},null,{"$f":"IF(AE$43=3,20,0)","v":0},null,{"$f":"IF(AG$43=3,20,0)","v":0},null,{"$f":"IF(AI$43=3,20,0)","v":0},null,{"$f":"IF(AK$43=3,20,0)","v":0},null,{"$f":"IF(AM$43=3,20,0)","v":0},null,{"$f":"IF(AO$43=3,20,0)","v":0},null,{"$f":"IF(AQ$43=3,20,0)","v":0},null,{"$f":"IF(AS$43=3,20,0)","v":0},null,{"$f":"IF(AU$43=3,20,0)","v":0},null,{"$f":"IF(AW$43=3,20,0)","v":20},null,{"$f":"IF(AY$43=3,20,0)","v":0},null,{"$f":"IF(BA$43=3,20,0)","v":0},null,{"$f":"IF(BC$43=3,20,0)","v":0},null,{"$f":"IF(BE$43=3,20,0)","v":0},null,{"$f":"IF(BG$43=3,20,0)","v":0}]
[null,null,{"$f":"IF(C$43=2,40,0)","v":0},null,{"$f":"IF(E$43=2,40,0)","v":0},null,{"$f":"IF(G$43=2,40,0)","v":0},null,{"$f":"IF(I$43=2,40,0)","v":0},null,{"$f":"IF(K$43=2,40,0)","v":0},null,{"$f":"IF(M$43=2,40,0)","v":0},null,{"$f":"IF(O$43=2,40,0)","v":0},null,{"$f":"IF(Q$43=2,40,0)","v":0},null,{"$f":"IF(S$43=2,40,0)","v":0},null,{"$f":"IF(U$43=2,40,0)","v":0},null,{"$f":"IF(W$43=2,40,0)","v":0},null,{"$f":"IF(Y$43=2,40,0)","v":0},null,{"$f":"IF(AA$43=2,40,0)","v":0},null,{"$f":"IF(AC$43=2,40,0)","v":0},null,{"$f":"IF(AE$43=2,40,0)","v":40},null,{"$f":"IF(AG$43=2,40,0)","v":0},null,{"$f":"IF(AI$43=2,40,0)","v":0},null,{"$f":"IF(AK$43=2,40,0)","v":0},null,{"$f":"IF(AM$43=2,40,0)","v":0},null,{"$f":"IF(AO$43=2,40,0)","v":0},null,{"$f":"IF(AQ$43=2,40,0)","v":0},null,{"$f":"IF(AS$43=2,40,0)","v":0},null,{"$f":"IF(AU$43=2,40,0)","v":0},null,{"$f":"IF(AW$43=2,40,0)","v":0},null,{"$f":"IF(AY$43=2,40,0)","v":0},null,{"$f":"IF(BA$43=2,40,0)","v":0},null,{"$f":"IF(BC$43=2,40,0)","v":0},null,{"$f":"IF(BE$43=2,40,0)","v":0},null,{"$f":"IF(BG$43=2,40,0)","v":0}]
[null,null,{"$f":"IF(C$43=1,80,0)","v":0},null,{"$f":"IF(E$43=1,80,0)","v":0},null,{"$f":"IF(G$43=1,80,0)","v":0},null,{"$f":"IF(I$43=1,80,0)","v":0},null,{"$f":"IF(K$43=1,80,0)","v":0},null,{"$f":"IF(M$43=1,80,0)","v":0},null,{"$f":"IF(O$43=1,80,0)","v":0},null,{"$f":"IF(Q$43=1,80,0)","v":80},null,{"$f":"IF(S$43=1,80,0)","v":0},null,{"$f":"IF(U$43=1,80,0)","v":0},null,{"$f":"IF(W$43=1,80,0)","v":0},null,{"$f":"IF(Y$43=1,80,0)","v":0},null,{"$f":"IF(AA$43=1,80,0)","v":0},null,{"$f":"IF(AC$43=1,80,0)","v":0},null,{"$f":"IF(AE$43=1,80,0)","v":0},null,{"$f":"IF(AG$43=1,80,0)","v":0},null,{"$f":"IF(AI$43=1,80,0)","v":0},null,{"$f":"IF(AK$43=1,80,0)","v":0},null,{"$f":"IF(AM$43=1,80,0)","v":0},null,{"$f":"IF(AO$43=1,80,0)","v":0},null,{"$f":"IF(AQ$43=1,80,0)","v":0},null,{"$f":"IF(AS$43=1,80,0)","v":0},null,{"$f":"IF(AU$43=1,80,0)","v":0},null,{"$f":"IF(AW$43=1,80,0)","v":0},null,{"$f":"IF(AY$43=1,80,0)","v":0},null,{"$f":"IF(BA$43=1,80,0)","v":0},null,{"$f":"IF(BC$43=1,80,0)","v":0},null,{"$f":"IF(BE$43=1,80,0)","v":0},null,{"$f":"IF(BG$43=1,80,0)","v":0}]
[null,null,{"$f":"RANK(C44,$C44:$CJ44)*C48","v":18},null,{"$f":"RANK(E44,$C44:$CJ44)*E48","v":20},null,{"$f":"RANK(G44,$C44:$CJ44)*G48","v":8},null,{"$f":"RANK(I44,$C44:$CJ44)*I48","v":16},null,{"$f":"RANK(K44,$C44:$CJ44)*K48","v":29},null,{"$f":"RANK(M44,$C44:$CJ44)*M48","v":21},null,{"$f":"RANK(O44,$C44:$CJ44)*O48","v":9},null,{"$f":"RANK(Q44,$C44:$CJ44)*Q48","v":1},null,{"$f":"RANK(S44,$C44:$CJ44)*S48","v":0},null,{"$f":"RANK(U44,$C44:$CJ44)*U48","v":22},null,{"$f":"RANK(W44,$C44:$CJ44)*W48","v":0},null,{"$f":"RANK(Y44,$C44:$CJ44)*Y48","v":7},null,{"$f":"RANK(AA44,$C44:$CJ44)*AA48","v":19},null,{"$f":"RANK(AC44,$C44:$CJ44)*AC48","v":17},null,{"$f":"RANK(AE44,$C44:$CJ44)*AE48","v":2},null,{"$f":"RANK(AG44,$C44:$CJ44)*AG48","v":23},null,{"$f":"RANK(AI44,$C44:$CJ44)*AI48","v":5},null,{"$f":"RANK(AK44,$C44:$CJ44)*AK48","v":11},null,{"$f":"RANK(AM44,$C44:$CJ44)*AM48","v":24},null,{"$f":"RANK(AO44,$C44:$CJ44)*AO48","v":12},null,{"$f":"RANK(AQ44,$C44:$CJ44)*AQ48","v":13},null,{"$f":"RANK(AS44,$C44:$CJ44)*AS48","v":10},null,{"$f":"RANK(AU44,$C44:$CJ44)*AU48","v":15},null,{"$f":"RANK(AW44,$C44:$CJ44)*AW48","v":3},null,{"$f":"RANK(AY44,$C44:$CJ44)*AY48","v":6},null,{"$f":"RANK(BA44,$C44:$CJ44)*BA48","v":4},null,{"$f":"RANK(BC44,$C44:$CJ44)*BC48","v":0},null,{"$f":"RANK(BE44,$C44:$CJ44)*BE48","v":0},null,{"$f":"RANK(BG44,$C44:$CJ44)*BG48","v":14}]
[null,null,{"$f":"SUM(C45:C47)","v":-173163.05},null,{"$f":"SUM(E45:E47)","v":-235232.31},null,{"$f":"SUM(G45:G47)","v":114114.89},null,{"$f":"SUM(I45:I47)","v":-50049.59},null,{"$f":"SUM(K45:K47)","v":-100099999999.31},null,{"$f":"SUM(M45:M47)","v":-260256.31},null,{"$f":"SUM(O45:O47)","v":96097.4},null,{"$f":"SUM(Q45:Q47)","v":1515520.77},null,{"$f":"SUM(S45:S47)","v":-1000005.97},null,{"$f":"SUM(U45:U47)","v":-348337.93},null,{"$f":"SUM(W45:W47)","v":-1000000.99},null,{"$f":"SUM(Y45:Y47)","v":145148.9},null,{"$f":"SUM(AA45:AA47)","v":-176170.9},null,{"$f":"SUM(AC45:AC47)","v":-92091.51},null,{"$f":"SUM(AE45:AE47)","v":273291.36},null,{"$f":"SUM(AG45:AG47)","v":-399396.76},null,{"$f":"SUM(AI45:AI47)","v":156160.46},null,{"$f":"SUM(AK45:AK47)","v":11011.28},null,{"$f":"SUM(AM45:AM47)","v":-420412.32},null,{"$f":"SUM(AO45:AO47)","v":10010.31},null,{"$f":"SUM(AQ45:AQ47)","v":-1000.39},null,{"$f":"SUM(AS45:AS47)","v":42042.61},null,{"$f":"SUM(AU45:AU47)","v":-36035.769999999997},null,{"$f":"SUM(AW45:AW47)","v":267272.58},null,{"$f":"SUM(AY45:AY47)","v":154155.92000000001},null,{"$f":"SUM(BA45:BA47)","v":207210.87},null,{"$f":"SUM(BC45:BC47)","v":-999998.99},null,{"$f":"SUM(BE45:BE47)","v":-1000002.99},null,{"$f":"SUM(BG45:BG47)","v":-13012.88}]
[null,null,{"$f":"+D49/100","v":9.9499999999999993},null,{"$f":"+F49/100","v":2.69},null,{"$f":"+H49/100","v":0.89},null,{"$f":"+J49/100","v":0.41},null,{"$f":"+L49/100","v":0.69},null,{"$f":"+N49/100","v":3.69},null,{"$f":"+P49/100","v":1.4},null,{"$f":"+R49/100","v":6.77},null,{"$f":"+T49/100","v":0.03},null,{"$f":"+V49/100","v":10.07},null,{"$f":"+X49/100","v":0.01},null,{"$f":"+Z49/100","v":3.9},null,{"$f":"+AB49/100","v":5.0999999999999996},null,{"$f":"+AD49/100","v":0.49},null,{"$f":"+AF49/100","v":18.36},null,{"$f":"+AH49/100","v":2.2400000000000002},null,{"$f":"+AJ49/100","v":4.46},null,{"$f":"+AL49/100","v":0.28000000000000003},null,{"$f":"+AN49/100","v":7.68},null,{"$f":"+AP49/100","v":0.31},null,{"$f":"+AR49/100","v":0.61},null,{"$f":"+AT49/100","v":0.61},null,{"$f":"+AV49/100","v":0.23},null,{"$f":"+AX49/100","v":5.58},null,{"$f":"+AZ49/100","v":1.92},null,{"$f":"+BB49/100","v":3.87},null,{"$f":"+BD49/100","v":0.01},null,{"$f":"+BF49/100","v":0.01},null,{"$f":"+BH49/100","v":0.12}]
[null,null,{"$f":"D50*0","v":0},null,{"$f":"F50*0","v":0},null,{"$f":"H50*0","v":0},null,{"$f":"J50*0","v":0},null,{"$f":"L50*0","v":0},null,{"$f":"N50*0","v":0},null,{"$f":"P50*0","v":0},null,{"$f":"R50*0","v":0},null,{"$f":"T50*0","v":0},null,{"$f":"V50*0","v":0},null,{"$f":"X50*0","v":0},null,{"$f":"Z50*0","v":0},null,{"$f":"AB50*0","v":0},null,{"$f":"AD50*0","v":0},null,{"$f":"AF50*0","v":0},null,{"$f":"AH50*0","v":0},null,{"$f":"AJ50*0","v":0},null,{"$f":"AL50*0","v":0},null,{"$f":"AN50*0","v":0},null,{"$f":"AP50*0","v":0},null,{"$f":"AR50*0","v":0},null,{"$f":"AT50*0","v":0},null,{"$f":"AV50*0","v":0},null,{"$f":"AX50*0","v":0},null,{"$f":"AZ50*0","v":0},null,{"$f":"BB50*0","v":0},null,{"$f":"BD50*0","v":0},null,{"$f":"BF50*0","v":0},null,{"$f":"BH50*0","v":0}]
[null,null,{"$f":"IF(C48=1,C49*C48*1000+C49,-1000000+C49)","v":-173173},null,{"$f":"IF(E48=1,E49*E48*1000+E49,-1000000+E49)","v":-235235},null,{"$f":"IF(G48=1,G49*G48*1000+G49,-1000000+G49)","v":114114},null,{"$f":"IF(I48=1,I49*I48*1000+I49,-1000000+I49)","v":-50050},null,{"$f":"IF(K48=1,K49*K48*1000+K49,-1000000+K49)","v":-100100000000},null,{"$f":"IF(M48=1,M49*M48*1000+M49,-1000000+M49)","v":-260260},null,{"$f":"IF(O48=1,O49*O48*1000+O49,-1000000+O49)","v":96096},null,{"$f":"IF(Q48=1,Q49*Q48*1000+Q49,-1000000+Q49)","v":1515514},null,{"$f":"IF(S48=1,S49*S48*1000+S49,-1000000+S49)","v":-1000006},null,{"$f":"IF(U48=1,U49*U48*1000+U49,-1000000+U49)","v":-348348},null,{"$f":"IF(W48=1,W49*W48*1000+W49,-1000000+W49)","v":-1000001},null,{"$f":"IF(Y48=1,Y49*Y48*1000+Y49,-1000000+Y49)","v":145145},null,{"$f":"IF(AA48=1,AA49*AA48*1000+AA49,-1000000+AA49)","v":-176176},null,{"$f":"IF(AC48=1,AC49*AC48*1000+AC49,-1000000+AC49)","v":-92092},null,{"$f":"IF(AE48=1,AE49*AE48*1000+AE49,-1000000+AE49)","v":273273},null,{"$f":"IF(AG48=1,AG49*AG48*1000+AG49,-1000000+AG49)","v":-399399},null,{"$f":"IF(AI48=1,AI49*AI48*1000+AI49,-1000000+AI49)","v":156156},null,{"$f":"IF(AK48=1,AK49*AK48*1000+AK49,-1000000+AK49)","v":11011},null,{"$f":"IF(AM48=1,AM49*AM48*1000+AM49,-1000000+AM49)","v":-420420},null,{"$f":"IF(AO48=1,AO49*AO48*1000+AO49,-1000000+AO49)","v":10010},null,{"$f":"IF(AQ48=1,AQ49*AQ48*1000+AQ49,-1000000+AQ49)","v":-1001},null,{"$f":"IF(AS48=1,AS49*AS48*1000+AS49,-1000000+AS49)","v":42042},null,{"$f":"IF(AU48=1,AU49*AU48*1000+AU49,-1000000+AU49)","v":-36036},null,{"$f":"IF(AW48=1,AW49*AW48*1000+AW49,-1000000+AW49)","v":267267},null,{"$f":"IF(AY48=1,AY49*AY48*1000+AY49,-1000000+AY49)","v":154154},null,{"$f":"IF(BA48=1,BA49*BA48*1000+BA49,-1000000+BA49)","v":207207},null,{"$f":"IF(BC48=1,BC49*BC48*1000+BC49,-1000000+BC49)","v":-999999},null,{"$f":"IF(BE48=1,BE49*BE48*1000+BE49,-1000000+BE49)","v":-1000003},null,{"$f":"IF(BG48=1,BG49*BG48*1000+BG49,-1000000+BG49)","v":-13013}]
["Classificats",{"$f":"SUM(C48:AI48)","v":15},{"$f":"IF(D49>=$A3/2,1,0)","v":1},null,{"$f":"IF(F49>=$A3/2,1,0)","v":1},null,{"$f":"IF(H49>=$A3/2,1,0)","v":1},null,{"$f":"IF(J49>=$A3/2,1,0)","v":1},null,{"$f":"IF(L49>=$A3/2,1,0)","v":1},null,{"$f":"IF(N49>=$A3/2,1,0)","v":1},null,{"$f":"IF(P49>=$A3/2,1,0)","v":1},null,{"$f":"IF(R49>=$A3/2,1,0)","v":1},null,{"$f":"IF(T49>=$A3/2,1,0)","v":0},null,{"$f":"IF(V49>=$A3/2,1,0)","v":1},null,{"$f":"IF(X49>=$A3/2,1,0)","v":0},null,{"$f":"IF(Z49>=$A3/2,1,0)","v":1},null,{"$f":"IF(AB49>=$A3/2,1,0)","v":1},null,{"$f":"IF(AD49>=$A3/2,1,0)","v":1},null,{"$f":"IF(AF49>=$A3/2,1,0)","v":1},null,{"$f":"IF(AH49>=$A3/2,1,0)","v":1},null,{"$f":"IF(AJ49>=$A3/2,1,0)","v":1},null,{"$f":"IF(AL49>=$A3/2,1,0)","v":1},null,{"$f":"IF(AN49>=$A3/2,1,0)","v":1},null,{"$f":"IF(AP49>=$A3/2,1,0)","v":1},null,{"$f":"IF(AR49>=$A3/2,1,0)","v":1},null,{"$f":"IF(AT49>=$A3/2,1,0)","v":1},null,{"$f":"IF(AV49>=$A3/2,1,0)","v":1},null,{"$f":"IF(AX49>=$A3/2,1,0)","v":1},null,{"$f":"IF(AZ49>=$A3/2,1,0)","v":1},null,{"$f":"IF(BB49>=$A3/2,1,0)","v":1},null,{"$f":"IF(BD49>=$A3/2,1,0)","v":0},null,{"$f":"IF(BF49>=$A3/2,1,0)","v":0},null,{"$f":"IF(BH49>=$A3/2,1,0)","v":1}]
[null,null,{"$f":"IF(SUM(C54:C994)<-1000,-100000000,SUM(C54:C994))","v":-173},{"$f":"COUNT(C65:C994)+SUM(D54:D64)","v":995},{"$f":"IF(SUM(E54:E994)<-1000,-100000000,SUM(E54:E994))","v":-235},{"$f":"COUNT(E65:E994)+SUM(F54:F64)","v":269},{"$f":"IF(SUM(G54:G994)<-1000,-100000000,SUM(G54:G994))","v":114},{"$f":"COUNT(G65:G994)+SUM(H54:H64)","v":89},{"$f":"IF(SUM(I54:I994)<-1000,-100000000,SUM(I54:I994))","v":-50},{"$f":"COUNT(I65:I994)+SUM(J54:J64)","v":41},{"$f":"IF(SUM(K54:K994)<-1000,-100000000,SUM(K54:K994))","v":-100000000},{"$f":"COUNT(K65:K994)+SUM(L54:L64)","v":69},{"$f":"IF(SUM(M54:M994)<-1000,-100000000,SUM(M54:M994))","v":-260},{"$f":"COUNT(M65:M994)+SUM(N54:N64)","v":369},{"$f":"IF(SUM(O54:O994)<-1000,-100000000,SUM(O54:O994))","v":96},{"$f":"COUNT(O65:O994)+SUM(P54:P64)","v":140},{"$f":"IF(SUM(Q54:Q994)<-1000,-100000000,SUM(Q54:Q994))","v":1514},{"$f":"COUNT(Q65:Q994)+SUM(R54:R64)","v":677},{"$f":"IF(SUM(S54:S994)<-1000,-100000000,SUM(S54:S994))","v":-6},{"$f":"COUNT(S65:S994)+SUM(T54:T64)","v":3},{"$f":"IF(SUM(U54:U994)<-1000,-100000000,SUM(U54:U994))","v":-348},{"$f":"COUNT(U65:U994)+SUM(V54:V64)","v":1007},{"$f":"IF(SUM(W54:W994)<-1000,-100000000,SUM(W54:W994))","v":-1},{"$f":"COUNT(W65:W994)+SUM(X54:X64)","v":1},{"$f":"IF(SUM(Y54:Y994)<-1000,-100000000,SUM(Y54:Y994))","v":145},{"$f":"COUNT(Y65:Y994)+SUM(Z54:Z64)","v":390},{"$f":"IF(SUM(AA54:AA994)<-1000,-100000000,SUM(AA54:AA994))","v":-176},{"$f":"COUNT(AA65:AA994)+SUM(AB54:AB64)","v":510},{"$f":"IF(SUM(AC54:AC994)<-1000,-100000000,SUM(AC54:AC994))","v":-92},{"$f":"COUNT(AC65:AC994)+SUM(AD54:AD64)","v":49},{"$f":"IF(SUM(AE54:AE994)<-1000,-100000000,SUM(AE54:AE994))","v":273},{"$f":"COUNT(AE65:AE994)+SUM(AF54:AF64)","v":1836},{"$f":"IF(SUM(AG54:AG994)<-1000,-100000000,SUM(AG54:AG994))","v":-399},{"$f":"COUNT(AG65:AG994)+SUM(AH54:AH64)","v":224},{"$f":"IF(SUM(AI54:AI994)<-1000,-100000000,SUM(AI54:AI994))","v":156},{"$f":"COUNT(AI65:AI994)+SUM(AJ54:AJ64)","v":446},{"$f":"IF(SUM(AK54:AK994)<-1000,-100000000,SUM(AK54:AK994))","v":11},{"$f":"COUNT(AK65:AK994)+SUM(AL54:AL64)","v":28},{"$f":"IF(SUM(AM54:AM994)<-1000,-100000000,SUM(AM54:AM994))","v":-420},{"$f":"COUNT(AM65:AM994)+SUM(AN54:AN64)","v":768},{"$f":"IF(SUM(AO54:AO994)<-1000,-100000000,SUM(AO54:AO994))","v":10},{"$f":"COUNT(AO65:AO994)+SUM(AP54:AP64)","v":31},{"$f":"IF(SUM(AQ54:AQ994)<-1000,-100000000,SUM(AQ54:AQ994))","v":-1},{"$f":"COUNT(AQ65:AQ994)+SUM(AR54:AR64)","v":61},{"$f":"IF(SUM(AS54:AS994)<-1000,-100000000,SUM(AS54:AS994))","v":42},{"$f":"COUNT(AS65:AS994)+SUM(AT54:AT64)","v":61},{"$f":"IF(SUM(AU54:AU994)<-1000,-100000000,SUM(AU54:AU994))","v":-36},{"$f":"COUNT(AU65:AU994)+SUM(AV54:AV64)","v":23},{"$f":"IF(SUM(AW54:AW994)<-1000,-100000000,SUM(AW54:AW994))","v":267},{"$f":"COUNT(AW65:AW994)+SUM(AX54:AX64)","v":558},{"$f":"IF(SUM(AY54:AY994)<-1000,-100000000,SUM(AY54:AY994))","v":154},{"$f":"COUNT(AY65:AY994)+SUM(AZ54:AZ64)","v":192},{"$f":"IF(SUM(BA54:BA994)<-1000,-100000000,SUM(BA54:BA994))","v":207},{"$f":"COUNT(BA65:BA994)+SUM(BB54:BB64)","v":387},{"$f":"IF(SUM(BC54:BC994)<-1000,-100000000,SUM(BC54:BC994))","v":1},{"$f":"COUNT(BC65:BC994)+SUM(BD54:BD64)","v":1},{"$f":"IF(SUM(BE54:BE994)<-1000,-100000000,SUM(BE54:BE994))","v":-3},{"$f":"COUNT(BE65:BE994)+SUM(BF54:BF64)","v":1},{"$f":"IF(SUM(BG54:BG994)<-1000,-100000000,SUM(BG54:BG994))","v":-13},{"$f":"COUNT(BG65:BG994)+SUM(BH54:BH64)","v":12}]
[null,null,null,{"$f":"IF(D49=0,0.0001,AVERAGE(D65:D909))","v":187.5},null,{"$f":"IF(F49=0,0.0001,AVERAGE(F65:F909))","v":195.94117647058823},null,{"$f":"IF(H49=0,0.0001,AVERAGE(H65:H909))","v":232.85714285714286},null,{"$f":"IF(J49=0,0.0001,AVERAGE(J65:J909))","v":1},null,{"$f":"IF(L49=0,0.0001,AVERAGE(L65:L909))","v":194.80917874396138},null,{"$f":"IF(N49=0,0.0001,AVERAGE(N65:N909))","v":215.26315789473685},null,{"$f":"IF(P49=0,0.0001,AVERAGE(P65:P909))","v":230.95238095238096},null,{"$f":"IF(R49=0,0.0001,AVERAGE(R65:R909))","v":282.14285714285717},null,{"$f":"IF(T49=0,0.0001,AVERAGE(T65:T909))","v":170},null,{"$f":"IF(V49=0,0.0001,AVERAGE(V65:V909))","v":226.42857142857142},null,{"$f":"IF(X49=0,0.0001,AVERAGE(X65:X909))","v":340},null,{"$f":"IF(Z49=0,0.0001,AVERAGE(Z65:Z909))","v":181.53846153846155},null,{"$f":"IF(AB49=0,0.0001,AVERAGE(AB65:AB909))","v":189.23076923076923},null,{"$f":"IF(AD49=0,0.0001,AVERAGE(AD65:AD909))","v":124.54545454545455},null,{"$f":"IF(AF49=0,0.0001,AVERAGE(AF65:AF909))","v":223.23529411764707},null,{"$f":"IF(AH49=0,0.0001,AVERAGE(AH65:AH909))","v":170},null,{"$f":"IF(AJ49=0,0.0001,AVERAGE(AJ65:AJ909))","v":198.5625},null,{"$f":"IF(AL49=0,0.0001,AVERAGE(AL65:AL909))","v":245.41666666666666},null,{"$f":"IF(AN49=0,0.0001,AVERAGE(AN65:AN909))","v":158},null,{"$f":"IF(AP49=0,0.0001,AVERAGE(AP65:AP909))","v":153.4},null,{"$f":"IF(AR49=0,0.0001,AVERAGE(AR65:AR909))","v":1},null,{"$f":"IF(AT49=0,0.0001,AVERAGE(AT65:AT909))","v":1},null,{"$f":"IF(AV49=0,0.0001,AVERAGE(AV65:AV909))","v":1},null,{"$f":"IF(AX49=0,0.0001,AVERAGE(AX65:AX909))","v":229},null,{"$f":"IF(AZ49=0,0.0001,AVERAGE(AZ65:AZ909))","v":1},null,{"$f":"IF(BB49=0,0.0001,AVERAGE(BB65:BB909))","v":1},null,{"$f":"IF(BD49=0,0.0001,AVERAGE(BD65:BD909))","v":125.5},null,{"$f":"IF(BF49=0,0.0001,AVERAGE(BF65:BF909))","v":30.5},null,{"$f":"IF(BH49=0,0.0001,AVERAGE(BH65:BH909))","v":169.1}]
[null,null,null,null,null,null,null,null,null,null,null,null,null,null,null,null,null,null,null,null,null,null,null,null,null,null,null,null,null,null,null,null,null,null,null,null,null,null,null,null,null,null,null,null,null,null,null,null,null,null,null,null,null,null,null,null,null,null,null,null,{"$f":"MAX(BJ54:BJ1075)","v":110}]
[null,"Comentaris","Manolo",null,"Ana B",null,"Jordi",null,"Lleixà",null,"Cyber X",null,"Goretti",null,"Sergi",null,"Carles",null,"Mariajo",null,"Grau",null,"Caty",null,"Marina",null,"Tito",null,"Nin",null,"Alfred",null,"Nancy",null,"Jeff",null,"Núria",null,"Gemma",null,"Sebas",null,"Lluïsa",null,"Xavier",null,"Eito",null,"Tim",null,"Debi",null,"Mario",null,"Òscar",null,"Christophe",null,"Nogué",null,{"$f":"COUNT(BI54:BI909)","v":90},"A","B","C","cyberX2",{"$f":"SUM(BN54:BN909)","v":7.3333333333333339}]
[null,null,"Premi","Punts","Premi","Punts","Premi","Punts","Premi","Punts","Premi","Punts","Premi","Punts","Premi","Punts","Premi","Punts","Premi","Punts","Premi","Punts","Premi","Punts","Premi","Punts","Premi","Punts","Premi","Punts","Premi","Punts","Premi","Punts","Premi","Punts","Premi","Punts","Premi","Punts","Premi","Punts","Premi","Punts","Premi","Punts","Premi","Punts","Premi","Punts","Premi","Punts","Premi","Punts","Premi","Punts","Premi","Punts","Premi","Punts","Data","Timba",null,null,null,"Excés cyber"]
[1,"2021-12-01",-41,76,-13,14,14,7,null,null,null,null,-45,66,89,102,245,103,null,null,-101,111,null,null,95,74,-44,76,-8,8,26,166,9,3,-1,61,null,null,-30,17,0,3,null,null,null,null,null,null,66,124]
[{"$f":"+A54+1","v":2},"2022-01-01",50,242,-12,14,17,12,1,6,null,null,-12,19,5,8,219,87,null,null,-77,71,null,null,-14,62,-56,41,-7,3,38,235,1,5,23,55,-7,8,-91,136,-8,9,-4,9,14,9,null,null,11,43,null,null,null,null,null,null,null,null,-8,3]
[{"$f":"+A55+1","v":3},"2022-02-01",-67,112,-15,23,17,10,-5,7,null,null,-24,24,-8,8,133,65,null,null,-23,142,null,null,2,22,1,46,-10,4,111,212,null,null,18,29,6,4,-123,173,null,null,-1,10,-7,10,null,null,11,41]
[4,"2022-03-01",-28,94,-77,48,13,11,-22,6,null,null,6,22,null,null,144,63,null,null,14,173,null,null,-2,33,-28,55,null,null,71,154,null,null,-14,28,null,null,-6,94,null,null,1,11,21,10,-4,5,36,40]
[5,"2022-04-01",-3,65,-35,47,7,4,-7,4,null,null,-43,42,null,null,186,74,null,null,-55,111,null,null,18,45,-22,63,-25,14,15,181,-11,10,51,52,null,null,-39,51,9,4,-5,1,8,2,-8,4,16,40]
[6,"2022-05-01",-12,102,-42,39,-3,5,5,4,null,null,-29,30,null,null,147,50,null,null,-42,94,null,null,8,27,29,70,-6,2,36,195,-65,33,17,50,null,null,-14,76,null,null,10,4,0,4,-6,3,35,40]
[7,"2022-06-01",-21,104,-9,27,14,9,-2,2,null,null,-32,22,null,null,100,47,null,null,13,113,null,null,13,10,10,31,null,null,-19,162,-39,16,19,25,null,null,9,41,null,null,-18,9,11,9,2,2,33,42]
[8,"2022-07-01",-5,101,-7,11,5,4,-8,4,null,null,-17,41,null,null,115,75,null,null,-60,83,null,null,4,39,-28,37,null,null,-24,179,-110,37,37,64,null,null,-79,80,null,null,3,4,6,4,-5,1,39,84]
[9,"2022-08-01",1,56,0,2,16,7,-5,2,null,null,-24,44,5,1,38,35,null,null,-18,29,null,null,24,45,12,35,null,null,7,169,-66,47,-2,30,null,null,-2,24,15,5,-8,7,-13,7,-7,3,10,40,73,115,48,176]
[{"$f":"+A62+1","v":10},"2022-09-01",-19,19,-1,10,2,6,-7,6,null,null,-30,40,null,null,105,43,null,null,-1,38,null,null,-12,20,-37,43,-1,7,4,166,-119,72,-2,36,4,4,-34,66,null,null,21,6,2,6,-8,5,11,54,81,77,159,211]
[11,"2022-10-01",null,null,null,null,null,null,null,null,-10000]
[12,null,null,null,0,230,null,null,null,1,-2,155,null,null,null,null,null,null,null,null,null,null,null,null,null,null,-4,80,null,null,2,245,null,null,null,null,null,null,null,null,null,null,null,1,null,1,null,1,4,315,null,1,null,1,null,1,null,1,null,1,"2021-10-01",1,{"$f":"+AI65+AE65+Y65+W65+U65+S65+Q65+O65+M65+I65+G65+E65+C65+AG65+K65+BG65+BN65+AA65+AC65+AK65+AM65+AO65+AW65+BE65+BC65","v":0},{"$f":"COUNT(C65:BH65)/2","v":9.5}]
[13,null,null,null,-1,150,null,null,null,null,1,195,1,170,null,null,null,null,null,null,-5,90,null,null,null,null,null,null,null,null,3,210,null,null,null,null,null,null,null,null,null,null,null,null,null,null,null,null,null,null,null,null,null,null,null,null,null,null,null,null,"2021-10-01",1,0,5,{"$f":"+BK66/BL66","v":0},{"$f":"+K66","v":1}]
[14,null,null,null,-2,180,null,null,null,null,-0.5,195,3,230,null,null,null,null,null,null,5,290,null,null,null,null,null,null,null,null,null,null,null,null,null,null,null,null,-5,120,null,null,null,null,null,null,null,null,null,null,null,null,null,null,null,null,null,null,null,null,"2021-10-01",1,0,5,0,{"$f":"+K67","v":-0.5}]
[15,null,null,null,-2,280,null,null,null,null,-2,265,4,320,null,null,null,null,null,null,2,300,null,null,null,null,null,null,null,null,null,null,null,null,null,null,null,null,null,null,null,null,null,null,null,null,null,null,null,null,null,null,null,null,null,null,null,null,null,null,"2021-10-01",1,0,4,0,{"$f":"+K68","v":-2}]
[16,null,null,null,null,null,null,null,null,null,-1,240,-3,140,null,null,null,null,null,null,1,330,null,null,null,null,null,null,null,null,3,400,null,null,null,null,null,null,null,null,null,null,null,null,null,null,null,null,null,null,null,null,null,null,null,null,null,null,null,null,"2021-10-03",2,0,4]
[17,null,null,null,null,null,null,null,null,null,{"$f":"4/3","v":1.3333333333333333},210,-1,190,null,null,null,null,null,null,-4,140,null,null,null,null,null,null,null,null,1,200,null,null,null,null,null,null,null,null,null,null,null,null,null,null,null,null,null,null,null,null,null,null,null,null,null,null,null,null,"2021-10-03",2,-4.4408920985006262E-16,4,{"$f":"+BK70/BL70","v":-1.1102230246251565E-16},{"$f":"+K70*2","v":2.6666666666666665}]
[18,null,null,null,-5,120,null,null,null,null,-1,172.5,null,null,3,195,5,285,null,null,-1,165,null,null,null,null,null,null,null,null,null,null,null,null,null,null,null,null,null,null,null,null,null,null,null,null,null,null,null,null,null,null,null,null,null,null,null,null,null,null,"2021-10-03",2,0,5,0,{"$f":"+K71","v":-1}]
[19,null,-3,125,-1,160,null,null,null,null,-1,175,null,null,null,null,5,330,null,null,1,250,null,null,null,null,null,null,null,null,null,null,null,null,null,null,null,null,null,null,null,null,null,null,null,null,null,null,null,null,null,null,null,null,null,null,null,null,null,null,"2021-10-03",2,0,5,0,{"$f":"+K72","v":-1}]
[20,null,null,null,-1,190,null,null,null,null,-2.5,175,null,null,null,null,4,280,null,null,2,270,null,null,null,null,null,null,null,null,null,null,null,null,null,null,null,null,null,null,null,null,null,null,null,null,null,null,null,null,null,null,null,null,null,null,null,null,null,null,"2021-10-03",2,0,4,0,{"$f":"+K73","v":-2.5}]
[21,"Valor deduit",null,null,-1,155,null,null,null,null,1,195,null,null,null,null,null,null,null,null,-3,150,null,null,null,null,null,null,null,null,null,null,1,170,null,null,null,null,null,null,null,null,null,null,null,null,null,null,null,null,null,null,null,null,null,null,null,null,null,null,"2021-10-05",3,0,4,0,{"$f":"+K74*2","v":2},"Criteri cyber fa 2, associo al anterior=195; Anna per mitjana; Nancy interpolant Ana i Cy i Cata interpolant els seu -2 i el -8"]
[22,null,null,null,-2,170,null,null,null,null,null,null,0,460,null,null,null,null,null,null,2,510,null,null,null,null,null,null,null,null,null,null,null,null,null,null,null,null,null,null,null,null,null,null,null,null,null,null,null,null,null,null,null,null,null,null,null,null,null,null,"2021-10-16",6,0,3]
[23,null,null,null,5,230,null,null,null,null,0,175,1,190,-1,150,null,null,null,null,-5,70,null,null,null,null,null,null,null,null,null,null,null,null,null,null,null,null,null,null,null,null,null,null,null,null,null,null,null,null,null,null,null,null,null,null,null,null,null,null,"2021-10-17",7,0,5,{"$f":"+BK76/BL76","v":0},{"$f":"+K76","v":0}]
[24,null,null,null,3,250,null,null,null,null,"1900-01-01",200,-3,140,null,null,-3,140,null,null,1,210,null,null,null,null,null,null,null,null,null,null,null,null,null,null,null,null,null,null,null,null,null,null,null,null,null,null,null,null,null,null,null,null,null,null,null,null,null,null,"2021-10-17",7,0,5,0,{"$f":"+K77","v":1}]
[25,null,null,null,-2,150,null,null,null,null,{"$f":"-5/3","v":-1.6666666666666667},165,null,null,null,null,5,285,null,null,2,215,null,null,null,null,null,null,null,null,null,null,null,null,null,null,null,null,null,null,null,null,null,null,null,null,null,null,null,null,null,null,null,null,null,null,null,null,null,null,"2021-10-17",7,-4.4408920985006262E-16,4,-1.1102230246251565E-16,{"$f":"+K78*2","v":-3.3333333333333335}]
[26,null,null,null,-5,160,null,null,null,null,3,283.33333333333331,null,null,-3,205,null,null,null,null,-1,235,null,null,null,null,null,null,null,null,null,null,null,null,null,null,null,null,null,null,null,null,null,null,null,null,null,null,null,null,null,null,null,null,null,null,null,null,null,null,"2021-10-17",7,0,4,0,{"$f":"+K79*2","v":6}]
[27,null,null,null,null,null,null,null,null,null,{"$f":"7/3","v":2.3333333333333335},210,1,190,-5,130,null,null,null,null,null,null,null,null,null,null,null,null,null,null,null,null,null,null,null,null,null,null,null,null,-3,14,null,null,null,null,null,null,null,null,null,null,null,null,null,null,null,null,null,null,"2021-10-17",7,4.4408920985006262E-16,4,1.1102230246251565E-16,4.666666666666667]
[28,null,null,null,null,null,null,null,null,null,{"$f":"2/3","v":0.66666666666666663},193.33333333333334,null,null,-3,75,null,null,null,null,null,null,null,null,-1,160,null,null,null,null,2,230,null,null,null,null,null,null,null,null,null,null,null,null,null,null,null,null,null,null,null,null,null,null,null,null,null,null,null,null,"2021-10-19",8,-2.2204460492503131E-16,4,-5.5511151231257827E-17,1.3333333333333333]
[29,null,null,null,-5,225,null,null,null,null,1,233.33333333333334,null,null,3,245,null,null,null,null,-1,225,null,null,null,null,null,null,null,null,null,null,null,null,null,null,null,null,null,null,null,null,null,null,null,null,null,null,null,null,null,null,null,null,null,null,null,null,null,null,"2021-10-21",9,0,4,0,2]
[30,null,null,null,-5,80,null,null,null,null,{"$f":"5/3","v":1.6666666666666667},195,null,null,1,170,null,null,null,null,-1,150,null,null,null,null,null,null,null,null,null,null,null,null,null,null,null,null,null,null,null,null,null,null,null,null,null,null,null,null,null,null,null,null,null,null,null,null,null,null,"2021-10-22",10,4.4408920985006262E-16,4,1.1102230246251565E-16,3.3333333333333335]
[31,null,null,null,1,200,null,null,null,null,-3,140,null,null,null,null,null,null,null,null,5,300,null,null,null,null,null,null,null,null,null,null,null,null,3,225,null,null,null,null,null,null,null,null,null,null,null,null,null,null,null,null,null,null,null,null,null,null,null,null,"2021-10-22",10,0,4,0,-6]
[32,null,null,null,null,null,null,null,null,null,-3,170,null,null,null,null,null,null,null,null,null,null,null,null,0,220,null,null,null,null,4,320,null,null,2,250,null,null,null,null,null,null,null,null,null,null,null,null,null,null,null,null,null,null,null,null,null,null,null,null,"2021-10-24",11,0,4,0,{"$f":"+K85","v":-3}]
[33,null,null,null,null,null,null,null,null,null,0,180,null,null,4,220,null,null,null,null,-3,170,null,null,null,null,null,null,null,null,null,null,null,null,-1,175,null,null,null,null,null,null,null,null,null,null,null,null,null,null,null,null,null,null,null,null,null,null,null,null,"2021-10-24",11,0,4,{"$f":"+BK86/BL86","v":0},{"$f":"+K86*2","v":0}]
[34,null,null,null,null,null,null,null,null,null,{"$f":"5/3","v":1.6666666666666667},211.66666666666666,null,null,null,null,null,null,null,null,-5,100,null,null,1,195,null,null,null,null,null,null,null,null,-1,190,null,null,null,null,null,null,null,null,null,null,null,null,null,null,null,null,null,null,null,null,null,null,null,null,"2021-10-30",13,4.4408920985006262E-16,4,{"$f":"+BK87/BL87","v":1.1102230246251565E-16},{"$f":"+K87*2","v":3.3333333333333335}]
[35,null,null,null,-1,230,null,null,null,null,1,1,3,520,null,null,null,null,null,null,-3,210,null,null,null,null,null,null,null,null,null,null,null,null,null,null,null,null,null,null,null,null,null,null,null,null,null,null,null,null,null,null,null,null,null,null,null,null,null,null,"2021-10-31",14,0,4]
[36,null,null,null,null,null,null,null,null,null,-1,211.66666666666666,null,null,null,null,5,245,null,null,null,null,null,null,3,235,null,null,null,null,null,null,null,null,-5,145,null,null,null,null,null,null,null,null,null,null,null,null,null,null,null,null,null,null,null,null,null,null,null,null,"2021-10-31",14,0,4,{"$f":"+BK89/BL89","v":0},{"$f":"+K89*2","v":-2}]
[37,null,null,null,-5,75,null,null,null,null,0,170,null,null,null,null,-2,90,null,null,null,null,null,null,5,190,null,null,null,null,null,null,null,null,2,180,null,null,null,null,null,null,null,null,null,null,null,null,null,null,null,null,null,null,null,null,null,null,null,null,"2021-10-31",14,0,5,{"$f":"+BK90/BL90","v":0},{"$f":"+K90","v":0}]
[38,null,null,null,null,null,null,null,null,null,-1,170,null,null,-2,220,4,410,null,null,0,230,null,null,null,null,null,null,null,null,null,null,null,null,null,null,null,null,null,null,null,null,null,null,null,null,null,null,null,null,null,null,null,null,null,null,null,null,null,null,"2021-10-31",14,0,4,0,-1]
[39,null,null,null,-1,222,null,null,null,null,{"$f":"-3/2","v":-1.5},170,null,null,5,255,-3,155,null,null,null,null,null,null,null,null,null,null,null,null,null,null,null,null,2,225,null,null,null,null,null,null,null,null,null,null,null,null,null,null,null,null,null,null,null,null,null,null,null,null,"2021-10-31",14,0,5,0,-1.5]
[40,null,null,null,3,250,null,null,null,null,-3,{"$f":"+(120+100+150)/3","v":123.33333333333333},null,null,null,null,null,null,null,null,1,200,null,null,null,null,5,260,null,null,null,null,null,null,null,null,null,null,null,null,null,null,null,null,null,null,null,null,null,null,null,null,null,null,null,null,null,null,null,null,"2021-11-01",15,0,4,{"$f":"+BK93/BL93","v":0},{"$f":"+K93*2","v":-6}]
[41,null,null,null,null,null,null,null,null,null,-1,{"$f":"+(170+170)/2","v":170},null,null,2,360,4,425,null,null,-4,180,null,null,null,null,null,null,null,null,null,null,null,null,null,null,null,null,null,null,null,null,null,null,null,null,null,null,null,null,null,null,null,null,null,null,null,null,null,null,"2021-11-01",15,0,4,{"$f":"+BK94/BL94","v":0},{"$f":"+K94","v":-1}]
[42,null,null,null,1,145,null,null,null,null,{"$f":"+(6-6)/2","v":0},170,null,null,5,260,null,null,null,null,-5,105,null,null,null,null,null,null,null,null,null,null,null,null,null,null,null,null,null,null,null,null,null,null,null,null,null,null,-1,135,null,null,null,null,null,null,null,null,null,null,"2021-11-01",15,0,{"$f":"COUNT(C95:BH95)/2","v":5},0,0]
[43,null,null,null,null,null,null,null,null,null,{"$f":"4/3","v":1.3333333333333333},{"$f":"+(250+280+105)/3","v":211.66666666666666},null,null,null,null,-1,200,null,null,null,null,null,null,null,null,1,240,null,null,-4,160,null,null,null,null,null,null,null,null,null,null,null,null,null,null,null,null,null,null,null,null,null,null,null,null,null,null,null,null,"2021-11-01",15,-4.4408920985006262E-16,{"$f":"COUNT(C96:BH96)/2","v":4},{"$f":"+BK96/BL96","v":-1.1102230246251565E-16},{"$f":"+K96*2","v":2.6666666666666665}]
[44,null,-4,110,null,null,null,null,null,null,1,{"$f":"+(210+220+250)/3","v":226.66666666666666},null,null,null,null,5,310,null,null,null,null,null,null,null,null,null,null,-4,110,null,null,null,null,null,null,null,null,null,null,null,null,null,null,null,null,null,null,null,null,null,null,null,null,null,null,null,null,null,null,"2021-11-04",16,0,{"$f":"COUNT(C97:BH97)/2","v":4},{"$f":"+BK97/BL97","v":0},{"$f":"+K97*2","v":2}]
[45,null,3,200,null,null,null,null,null,null,-1,{"$f":"+(160+140)/2","v":150},null,null,null,null,5,230,null,null,null,null,null,null,null,null,-1,150,-5,100,null,null,null,null,null,null,null,null,null,null,null,null,null,null,null,null,null,null,null,null,null,null,null,null,null,null,null,null,null,null,"2021-11-04",16,0,5,0,{"$f":"+K98","v":-1}]
[{"$f":"+A98+1","v":46},null,null,null,null,null,null,null,null,null,{"$f":"-1/3","v":-0.33333333333333331},{"$f":"+(160+160+220)/3","v":180},null,null,null,null,5,310,null,null,null,null,null,null,null,null,-5,120,1,170,null,null,null,null,null,null,null,null,null,null,null,null,null,null,null,null,null,null,null,null,null,null,null,null,null,null,null,null,null,null,"2021-11-04",16,0,4,0,{"$f":"+K99*2","v":-0.66666666666666663}]
[47,null,2,290,null,null,null,null,null,null,-2,{"$f":"+(260+60)/2","v":160},null,null,null,null,4,300,null,null,null,null,null,null,null,null,null,null,-2,170,null,null,null,null,null,null,null,null,null,null,null,null,null,null,null,null,null,null,null,null,null,null,null,null,null,null,null,null,null,null,"2021-11-06",17,0,4,0,{"$f":"+K100","v":-2}]
[48,null,-1,140,null,null,null,null,null,null,{"$f":"1/3","v":0.33333333333333331},{"$f":"+(110+220+170)/3","v":166.66666666666666},null,null,null,null,5,270,null,null,null,null,null,null,null,null,null,null,-5,30,null,null,null,null,null,null,null,null,null,null,null,null,null,null,null,null,null,null,null,null,null,null,null,null,null,null,null,null,null,null,"2021-11-06",17,0,4,0,{"$f":"+K101*2","v":0.66666666666666663}]
[49,null,-1,200,null,null,null,null,null,null,{"$f":"-7/3","v":-2.3333333333333335},{"$f":"+(130+210+100)/3","v":146.66666666666666},3,240,null,null,null,null,null,null,5,280,null,null,null,null,null,null,null,null,null,null,null,null,null,null,null,null,null,null,null,null,null,null,null,null,null,null,null,null,null,null,null,null,null,null,null,null,null,null,"2021-11-07",18,-8.8817841970012523E-16,4,-2.2204460492503131E-16,-4.666666666666667]
[50,null,null,null,3,230,null,null,null,null,{"$f":"1/3","v":0.33333333333333331},{"$f":"+(230+130+230)/3","v":196.66666666666666},null,null,-1,210,null,null,null,null,null,null,null,null,null,null,-3,190,null,null,null,null,null,null,null,null,null,null,null,null,null,null,null,null,null,null,null,null,null,null,null,null,null,null,null,null,null,null,null,null,"2021-11-08",19,0,4,0,0.66666666666666663]
[51,null,null,null,null,null,null,null,null,null,{"$f":"1/3","v":0.33333333333333331},{"$f":"+(245+185+165)/3","v":198.33333333333334},null,null,-3,170,3,210,null,null,null,null,null,null,null,null,null,null,null,null,-1,180,null,null,null,null,null,null,null,null,null,null,null,null,null,null,null,null,null,null,null,null,null,null,null,null,null,null,null,null,"2021-11-10",20,-1.1102230246251565E-16,4,-2.7755575615628914E-17,0.66666666666666663]
[52,null,1,180,null,null,null,null,null,null,-1,{"$f":"+(280+100+140)/3","v":173.33333333333334},null,null,null,null,3,200,null,null,null,null,null,null,null,null,null,null,null,null,null,null,null,null,null,null,null,null,null,null,null,null,null,null,null,null,null,null,-1,160,null,null,null,null,null,null,null,null,null,null,"2021-11-12",21,0,4,0,-2]
[53,null,null,null,null,null,null,null,null,null,{"$f":"4/3","v":1.3333333333333333},{"$f":"+(260+310+180)/3","v":250},null,null,null,null,1,240,null,null,null,null,null,null,null,null,-1,200,-4,180,null,null,null,null,null,null,null,null,null,null,null,null,null,null,null,null,null,null,null,null,null,null,null,null,null,null,null,null,null,null,"2021-11-12",21,0,4,0,2.6666666666666665]
[54,null,-1,265,null,null,null,null,null,null,null,null,null,null,null,null,3,470,null,null,null,null,null,null,null,null,-3,170,1,270,null,null,null,null,null,null,null,null,null,null,null,null,null,null,null,null,null,null,null,null,null,null,null,null,null,null,null,null,null,null,"2021-11-13",22,0,4]
[55,null,2,265,null,null,null,null,null,null,{"$f":"5/2","v":2.5},{"$f":"+(315+245)/2","v":280},null,null,null,null,1,250,null,null,null,null,null,null,null,null,null,null,-5,100,-3,185,null,null,null,null,null,null,null,null,null,null,null,null,null,null,null,null,null,null,null,null,null,null,null,null,null,null,null,null,"2021-11-13",22,0,5,{"$f":"+BK108/BL108","v":0},{"$f":"+K108","v":2.5}]
[56,null,1,210,-3,130,null,null,null,null,-1,170,null,null,null,null,null,null,null,null,3,310,null,null,null,null,null,null,null,null,null,null,null,null,null,null,null,null,null,null,null,null,null,null,null,null,null,null,null,null,null,null,null,null,null,null,null,null,null,null,"2021-11-14",23,0,4]
[57,null,-3,110,null,null,null,null,null,null,0,{"$f":"+(260+80)/2","v":170},1,220,null,null,null,null,null,null,-1,140,null,null,null,null,3,230,null,null,null,null,null,null,null,null,null,null,null,null,null,null,null,null,null,null,null,null,null,null,null,null,null,null,null,null,null,null,null,null,"2021-11-15",24,0,5,{"$f":"+BK110/BL110","v":0},{"$f":"+K110","v":0}]
[58,null,-1,125,null,null,null,null,null,null,1,250,null,null,null,null,3,370,null,null,null,null,null,null,null,null,null,null,-3,90,null,null,null,null,null,null,null,null,null,null,null,null,null,null,null,null,null,null,null,null,null,null,null,null,null,null,null,null,null,null,"2021-11-15",24,0,4]
[59,null,null,null,null,null,null,null,null,null,{"$f":"-1/2","v":-0.5},{"$f":"+(305+320)/2","v":312.5},null,null,null,null,null,null,null,null,4,330,null,null,null,null,null,null,null,null,1,320,null,null,null,null,null,null,null,null,null,null,null,null,null,null,null,null,-4,255,null,null,null,null,null,null,null,null,null,null,"2021-11-16",25,0,4,{"$f":"+BK112/BL112","v":0},{"$f":"+K112","v":-0.5}]
[60,null,-3,200,null,null,null,null,null,null,{"$f":"1/3","v":0.33333333333333331},{"$f":"+(220+200+210)/3","v":210},-3,200,null,null,null,null,null,null,5,250,null,null,null,null,null,null,null,null,null,null,null,null,null,null,null,null,null,null,null,null,null,null,null,null,null,null,null,null,null,null,null,null,null,null,null,null,null,null,"2021-11-16",25,-1.1102230246251565E-16,4,-2.7755575615628914E-17,{"$f":"+K113*2","v":0.66666666666666663}]
[61,null,0,200,4,285,null,null,null,null,{"$f":"-6/2","v":-3},{"$f":"+(260+80)/2","v":170},null,null,null,null,null,null,null,null,2,260,null,null,null,null,null,null,null,null,null,null,null,null,null,null,null,null,null,null,null,null,null,null,null,null,null,null,null,null,null,null,null,null,null,null,null,null,null,null,"2021-11-16",25,0,4,0,{"$f":"+K114","v":-3}]
[62,null,-5,160,null,null,null,null,null,null,{"$f":"5/3","v":1.6666666666666667},236.66666670000001,null,null,null,null,null,null,null,null,0,220,null,null,null,null,null,null,null,null,null,null,null,null,null,null,null,null,null,null,null,null,null,null,null,null,null,null,0,220,null,null,null,null,null,null,null,null,null,null,"2021-11-18",26,4.4408920985006262E-16,4,2.2204499999999999E-16,{"$f":"+K115*2","v":3.3333333333333335}]
[63,null,null,null,null,null,null,null,null,null,{"$f":"-5/3","v":-1.6666666666666667},143.33333329999999,null,null,null,null,-1,230,null,null,null,null,null,null,3,250,null,null,null,null,null,null,null,null,3,250,null,null,null,null,null,null,null,null,null,null,null,null,null,null,null,null,null,null,null,null,null,null,null,null,"2021-11-19",27,-4.4408920985006262E-16,4,-2.2204499999999999E-16,{"$f":"+K116*2","v":-3.3333333333333335}]
[64,null,-1,230,-2,150,1,350,null,null,null,null,0,170,3,570,null,null,-4,0,2,310,null,null,null,null,null,null,null,null,null,null,null,null,null,null,4,320,null,null,-3,160,null,null,null,null,null,null,null,null,null,null,null,null,null,null,null,null,null,null,"2021-11-20",28,0,{"$f":"COUNT(C117:BH117)/2","v":9}]
[65,null,-1,150,null,null,null,null,null,null,{"$f":"1/3","v":0.33333333333333331},{"$f":"+(190+130+200)/3","v":173.33333333333334},null,null,null,null,5,230,null,null,null,null,null,null,null,null,null,null,null,null,-5,120,null,null,null,null,null,null,null,null,null,null,null,null,null,null,null,null,null,null,null,null,null,null,null,null,null,null,null,null,"2021-11-20",29,-1.1102230246251565E-16,4,{"$f":"+BK118/BL118","v":-2.7755575615628914E-17},{"$f":"+K118*2","v":0.66666666666666663}]
[66,null,null,null,null,null,null,null,null,null,{"$f":"1/3","v":0.33333333333333331},{"$f":"+(160+130+270)/3","v":186.66666666666666},null,null,null,null,3,260,null,null,null,null,null,null,null,null,null,null,-5,40,1,250,null,null,null,null,null,null,null,null,null,null,null,null,null,null,null,null,null,null,null,null,null,null,null,null,null,null,null,null,"2021-11-21",30,0,4,0,{"$f":"+K119*2","v":0.66666666666666663}]
[67,null,null,null,null,null,null,null,null,null,{"$f":"9/3","v":3},{"$f":"+(260+240+280)/3","v":260},-5,150,-2,200,null,null,null,null,null,null,null,null,null,null,-2,200,null,null,null,null,null,null,null,null,null,null,null,null,null,null,null,null,null,null,null,null,null,null,null,null,null,null,null,null,null,null,null,null,"2021-11-22",31,0,4,0,{"$f":"+K120*2","v":6}]
[68,null,-2,240,null,null,null,null,null,null,{"$f":"2/3","v":0.66666666666666663},{"$f":"+(240+250+250)/3","v":246.66666666666666},-5,110,5,290,null,null,null,null,null,null,null,null,null,null,null,null,null,null,null,null,null,null,null,null,null,null,null,null,null,null,null,null,null,null,null,null,null,null,null,null,null,null,null,null,null,null,null,null,"2021-11-22",31,-2.2204460492503131E-16,4,-5.5511151231257827E-17,{"$f":"+K121*2","v":1.3333333333333333}]
[69,null,4,230,null,null,null,null,null,null,{"$f":"-1/3","v":-0.33333333333333331},{"$f":"+(110+140+230)/3","v":160},-4,60,null,null,null,null,null,null,null,null,null,null,null,null,null,null,null,null,null,null,null,null,null,null,null,null,null,null,null,null,null,null,null,null,null,null,1,210,null,null,null,null,null,null,null,null,null,null,"2021-11-22",31,0,4,0,{"$f":"+K122*2","v":-0.66666666666666663}]
[70,null,null,null,null,null,null,null,null,null,{"$f":"4/2","v":2},{"$f":"+(260+315)/2","v":287.5},null,null,null,null,null,null,null,null,null,null,null,null,-2,230,null,null,null,null,null,null,null,null,2,312,null,null,null,null,null,null,null,null,null,null,null,null,-4,220,null,null,null,null,null,null,null,null,null,null,"2021-11-22",32,0,4,0,{"$f":"+K123","v":2}]
[71,null,null,null,null,null,null,null,null,null,{"$f":"-4/2","v":-2},{"$f":"+(170+165)/2","v":167.5},null,null,null,null,5,290,null,null,null,null,null,null,3,200,null,null,null,null,-5,120,null,null,1,190,null,null,null,null,null,null,null,null,null,null,null,null,null,null,null,null,null,null,null,null,null,null,null,null,"2021-11-22",32,0,5,0,{"$f":"+K124","v":-2}]
[72,null,null,null,null,null,null,null,null,null,{"$f":"-5/3","v":-1.6666666666666667},{"$f":"+(115+235+90)/3","v":146.66666666666666},null,null,null,null,1,220,null,null,null,null,null,null,null,null,null,null,null,null,-1,195,null,null,5,255,null,null,null,null,null,null,null,null,null,null,null,null,null,null,null,null,null,null,null,null,null,null,null,null,"2021-11-22",32,-4.4408920985006262E-16,4,-1.1102230246251565E-16,{"$f":"+K125*2","v":-3.3333333333333335}]
[{"$f":"+A125+1","v":73},null,null,null,-1,365,null,null,null,null,3,415,null,null,null,null,null,null,null,null,1,410,null,null,null,null,null,null,null,null,null,null,null,null,null,null,null,null,null,null,null,null,null,null,null,null,null,null,-3,350,null,null,null,null,null,null,null,null,null,null,"2021-11-24",33,0,4]
[74,null,-3,150,1,190,null,null,null,null,{"$f":"-1/3","v":-0.33333333333333331},{"$f":"+(170+140+260)/3","v":190},null,null,null,null,null,null,null,null,3,240,null,null,null,null,null,null,null,null,null,null,null,null,null,null,null,null,null,null,null,null,null,null,null,null,null,null,null,null,null,null,null,null,null,null,null,null,null,null,"2021-11-24",33,1.1102230246251565E-16,4,{"$f":"+BK127/BL127","v":2.7755575615628914E-17},{"$f":"+K127*2","v":-0.66666666666666663}]
[75,null,null,null,2,240,null,null,null,null,{"$f":"-9/3","v":-3},{"$f":"+(165+210+85)/3","v":153.33333333333334},null,null,null,null,null,null,null,null,2,240,null,null,null,null,null,null,null,null,5,250,null,null,null,null,null,null,null,null,null,null,null,null,null,null,null,null,null,null,null,null,null,null,null,null,null,null,null,null,"2021-11-24",33,0,{"$f":"COUNT(C128:BH128)/2","v":4},0,-6]
[76,null,-5,80,null,null,null,null,null,null,{"$f":"7/3","v":2.3333333333333335},{"$f":"+(160+200+220)/3","v":193.33333333333334},-3,130,null,null,null,null,null,null,1,170,null,null,null,null,null,null,null,null,null,null,null,null,null,null,null,null,null,null,null,null,null,null,null,null,null,null,null,null,null,null,null,null,null,null,null,null,null,null,"2021-11-25",34,{"$f":"+AI129+AE129+Y129+W129+U129+S129+Q129+O129+M129+I129+G129+E129+C129+AG129+K129+BG129+BN129+AA129+AC129+AK129+AM129+AO129+AW129+BE129+BC129","v":8.8817841970012523E-16},{"$f":"COUNT(C129:BH129)/2","v":4},2.2204460492503131E-16,4.666666666666667]
[77,null,-3,170,1,220,null,null,null,null,{"$f":"3/3","v":1},{"$f":"+(320+270+40)/3","v":210},null,null,null,null,null,null,null,null,-1,190,null,null,null,null,null,null,null,null,null,null,null,null,null,null,null,null,null,null,null,null,null,null,null,null,null,null,null,null,null,null,null,null,null,null,null,null,null,null,"2021-11-25",34,0,{"$f":"COUNT(C130:BH130)/2","v":4},0,2]
[78,null,null,null,-1,185,null,null,null,null,{"$f":"-3/2","v":-1.5},{"$f":"+(205+115)/2","v":160},null,null,-3,160,null,null,null,null,2,205,null,null,null,null,null,null,null,null,null,null,null,null,null,null,null,null,null,null,null,null,null,null,null,null,null,null,5,265,null,null,null,null,null,null,null,null,null,null,"2021-11-29",36,0,5,0,{"$f":"+K131","v":-1.5}]
[79,null,null,null,0,140,null,null,null,null,4,165,null,null,null,null,null,null,null,null,-4,125,null,null,null,null,null,null,null,null,null,null,null,null,null,null,-2,135,null,null,null,null,null,null,null,null,null,null,2,160,null,null,null,null,null,null,null,null,null,null,"2021-11-29",36,0,5]
[80,null,null,null,null,null,null,null,null,null,{"$f":"4/3","v":1.3333333333333333},{"$f":"+(190+220+200)/3","v":203.33333333333334},null,null,null,null,-3,170,null,null,null,null,null,null,null,null,-5,120,null,null,4,220,null,null,null,null,null,null,null,null,null,null,null,null,null,null,null,null,null,null,null,null,null,null,null,null,null,null,null,null,"2021-11-29",37,0,4,{"$f":"+BK133/BL133","v":0},{"$f":"+K133*2","v":2.6666666666666665}]
[81,null,null,null,null,null,null,null,null,null,-5,80,null,null,null,null,3,220,null,null,null,null,null,null,-1,160,5,230,null,null,1,190,null,null,-3,120,null,null,null,null,null,null,null,null,null,null,null,null,null,null,null,null,null,null,null,null,null,null,null,null,"2021-11-29",37,0,6]
[82,null,null,null,4,340,null,null,null,null,{"$f":"2/2","v":1},{"$f":"+(225+260)/2","v":242.5},null,null,-2,195,null,null,null,null,-4,170,null,null,null,null,null,null,null,null,null,null,null,null,null,null,null,null,null,null,null,null,null,null,null,null,null,null,null,null,null,null,null,null,null,null,null,null,null,null,"2021-11-30",38,0,4,{"$f":"+BK135/BL135","v":0},{"$f":"+K135","v":1}]
[83,null,null,null,-5,145,null,null,null,null,{"$f":"8/3","v":2.6666666666666665},{"$f":"+(285+280+270)/3","v":278.33333333333331},null,null,-2,220,null,null,null,null,-1,245,null,null,null,null,null,null,null,null,null,null,null,null,null,null,null,null,null,null,null,null,null,null,null,null,null,null,null,null,null,null,null,null,null,null,null,null,null,null,"2021-11-30",38,-8.8817841970012523E-16,4,-2.2204460492503131E-16,{"$f":"+K136*2","v":5.333333333333333}]
[84,"Camelot",null,null,null,null,-2,100,null,null,null,null,null,null,null,null,null,null,null,null,null,null,null,null,null,null,null,null,null,null,null,null,null,null,null,null,null,null,2,250,0,140,null,null,null,null,null,null,null,null,null,null,null,null,null,null,null,null,null,null,"2022-07-07",79,0,3]
[85,"Camelot",null,null,null,null,2,250,null,null,null,null,null,null,null,null,null,null,null,null,null,null,null,null,null,null,null,null,null,null,null,null,null,null,null,null,null,null,-1,170,-1,170,null,null,null,null,null,null,null,null,null,null,null,null,null,null,null,null,null,null,"2022-07-07",79,0,3]
[86,"Camelot",null,null,null,null,-2,40,null,null,null,null,null,null,null,null,null,null,null,null,null,null,null,null,null,null,null,null,null,null,null,null,null,null,null,null,null,null,2,90,0,60,null,null,null,null,null,null,null,null,null,null,null,null,null,null,null,null,null,null,"2022-07-07",79,0,3]
[87,"Camelot",null,null,null,null,-3,110,null,null,null,null,null,null,null,null,null,null,null,null,null,null,null,null,null,null,null,null,null,null,null,null,null,null,null,null,3,220,null,null,1,190,null,null,null,null,null,null,null,null,null,null,null,null,null,null,null,null,-1,170,"2022-07-08",80,0,4]
[88,"Camelot",null,null,null,null,3,270,null,null,null,null,null,null,null,null,null,null,null,null,null,null,null,null,null,null,null,null,null,null,null,null,null,null,null,null,-3,110,null,null,1,240,null,null,null,null,null,null,null,null,null,null,null,null,null,null,null,null,-1,120,"2022-07-08",80,0,{"$f":"COUNT(C141:BH141)/2","v":4}]
[89,"Magic",null,null,null,null,-3,120,null,null,null,null,null,null,null,null,null,null,null,null,null,null,null,null,null,null,null,null,null,null,null,null,null,null,null,null,1,350,1,230,null,null,null,null,null,null,null,null,null,null,null,null,null,null,null,null,null,null,-1,120,"2022-07-14",81,-2,4]
[90,"Magic",null,null,null,null,3,280,null,null,null,null,null,null,null,null,null,null,null,null,null,null,null,null,null,null,null,null,null,null,null,null,null,null,null,null,1,190,-1,110,null,null,null,null,null,null,null,null,null,null,null,null,null,null,null,null,null,null,-3,40,"2022-07-14",81,0,4]
[91,"Magic",null,null,null,null,3,310,null,null,null,null,null,null,null,null,null,null,null,null,null,null,null,null,null,null,null,null,null,null,null,null,null,null,null,null,1,200,-1,170,null,null,null,null,null,null,null,null,null,null,null,null,null,null,null,null,null,null,-3,160,"2022-07-14",81,0,4]
[92,null,-1,300,null,null,null,null,null,null,null,null,null,null,null,null,3,590,1,390,null,null,null,null,null,null,-3,270,null,null,null,null,null,null,null,null,null,null,null,null,null,null,null,null,null,null,null,null,null,null,null,null,null,null,null,null,null,null,null,null,"2022-07-16",83,0,4]
[93,null,null,null,null,null,null,null,null,null,null,null,null,null,null,null,0,230,null,null,null,null,null,null,-1,80,null,null,null,null,null,null,null,null,1,240,null,null,null,null,null,null,null,null,null,null,null,null,null,null,null,null,null,null,null,null,null,null,null,null,"2022-08-21",92,0,3]
[94,null,null,null,null,null,null,null,null,null,null,null,null,null,null,null,0,150,null,null,null,null,null,null,-1,130,null,null,null,null,null,null,null,null,1,270,null,null,null,null,null,null,null,null,null,null,null,null,null,null,null,null,null,null,null,null,null,null,null,null,"2022-08-22",93,0,3]
[95,null,null,null,null,null,null,null,null,null,null,null,null,null,null,null,1,430,null,null,null,null,null,null,0,150,null,null,null,null,null,null,null,null,-1,90,null,null,null,null,null,null,null,null,null,null,null,null,null,null,null,null,null,null,null,null,null,null,null,null,"2022-08-22",93,0,3]
[96,null,null,null,null,null,null,null,null,null,null,null,null,null,null,null,1,420,null,null,null,null,null,null,0,160,null,null,null,null,null,null,null,null,-1,60,null,null,null,null,null,null,null,null,null,null,null,null,null,null,null,null,null,null,null,null,null,null,null,null,"2022-08-27",99,0,3]
[97,null,-3,170,-1,190,4,340,null,null,null,null,0,260,1,350,3,430,-3,120,2,320,-1,340,null,null,null,null,-4,110,null,null,null,null,null,null,3,540,-2,210,null,null,null,null,null,null,null,null,null,null,null,null,null,null,null,null,null,null,1,300,"2022-09-17",106,0,13]
[98,null,null,null,null,null,-4,120,null,null,null,null,null,null,null,null,null,null,null,null,null,null,null,null,null,null,null,null,null,null,null,null,null,null,null,null,2,220,-2,180,4,250,null,null,null,null,null,null,null,null,null,null,null,null,null,null,null,null,0,210,"2022-09-22",107,0,5]
[99,null,null,null,null,null,4,360,null,null,null,null,null,null,null,null,null,null,null,null,null,null,null,null,null,null,null,null,null,null,null,null,null,null,null,null,0,280,-4,50,-2,210,null,null,null,null,null,null,null,null,null,null,null,null,null,null,null,null,2,320,"2022-09-22",107,0,5]
[100,null,null,null,null,null,3,290,null,null,null,null,null,null,null,null,null,null,null,null,null,null,null,null,null,null,null,null,null,null,null,null,null,null,null,null,-1,240,null,null,null,null,null,null,null,null,null,null,null,null,null,null,null,null,null,null,-3,60,1,250,"2022-09-29",109,0,4]
[101,null,null,null,null,null,3,320,null,null,null,null,null,null,null,null,null,null,null,null,null,null,null,null,null,null,null,null,null,null,null,null,null,null,null,null,-1,140,null,null,-3,100,null,null,null,null,null,null,null,null,null,null,null,null,1,250,null,null,null,null,"2022-09-30",110,{"$f":"+AI154+AE154+Y154+W154+U154+S154+Q154+O154+M154+I154+G154+E154+C154+AG154+K154+BG154+BN154+AA154+AC154+AK154+AM154+AO154+AW154+BE154+BC154","v":0},4]
[102,null,null,null,null,null,null,null,null,null,null,null,null,null,null,null,null,null,null,null,null,null,null,null,null,null,null,null,null,null,null,null,null,null,null,null,null,null,null,null,null,null,null,null,null,null,null,null,null,null,null,null,null,null,null,null,null,null,null,null,null,null,{"$f":"+AI155+AE155+Y155+W155+U155+S155+Q155+O155+M155+I155+G155+E155+C155+AG155+K155+BG155+BN155+AA155+AC155+AK155+AM155+AO155+AW155","v":0},0]
[103,null,null,null,null,null,null,null,null,null,null,null,null,null,null,null,null,null,null,null,null,null,null,null,null,null,null,null,null,null,null,null,null,null,null,null,null,null,null,null,null,null,null,null,null,null,null,null,null,null,null,null,null,null,null,null,null,null,null,null,null,null,0,0]
[104,null,null,null,null,null,null,null,null,null,null,null,null,null,null,null,null,null,null,null,null,null,null,null,null,null,null,null,null,null,null,null,null,null,null,null,null,null,null,null,null,null,null,null,null,null,null,null,null,null,null,null,null,null,null,null,null,null,null,null,null,null,0,0]
[{"$f":"+A157+1","v":105},null,null,null,null,null,null,null,null,null,null,null,null,null,null,null,null,null,null,null,null,null,null,null,null,null,null,null,null,null,null,null,null,null,null,null,null,null,null,null,null,null,null,null,null,null,null,null,null,null,null,null,null,null,null,null,null,null,null,null,null,null,0,0]
[106,null,null,null,null,null,null,null,null,null,null,null,null,null,null,null,null,null,null,null,null,null,null,null,null,null,null,null,null,null,null,null,null,null,null,null,null,null,null,null,null,null,null,null,null,null,null,null,null,null,null,null,null,null,null,null,null,null,null,null,null,null,0,0]
[107,null,null,null,null,null,null,null,null,null,null,null,null,null,null,null,null,null,null,null,null,null,null,null,null,null,null,null,null,null,null,null,null,null,null,null,null,null,null,null,null,null,null,null,null,null,null,null,null,null,null,null,null,null,null,null,null,null,null,null,null,null,0,{"$f":"COUNT(C160:BH160)/2","v":0}]
[108,null,null,null,null,null,null,null,null,null,null,null,null,null,null,null,null,null,null,null,null,null,null,null,null,null,null,null,null,null,null,null,null,null,null,null,null,null,null,null,null,null,null,null,null,null,null,null,null,null,null,null,null,null,null,null,null,null,null,null,null,null,0,0]
[109,null,null,null,null,null,null,null,null,null,null,null,null,null,null,null,null,null,null,null,null,null,null,null,null,null,null,null,null,null,null,null,null,null,null,null,null,null,null,null,null,null,null,null,null,null,null,null,null,null,null,null,null,null,null,null,null,null,null,null,null,null,0,0]
[110,null,null,null,null,null,null,null,null,null,null,null,null,null,null,null,null,null,null,null,null,null,null,null,null,null,null,null,null,null,null,null,null,null,null,null,null,null,null,null,null,null,null,null,null,null,null,null,null,null,null,null,null,null,null,null,null,null,null,null,null,null,0,0]
[111,null,null,null,null,null,null,null,null,null,null,null,null,null,null,null,null,null,null,null,null,null,null,null,null,null,null,null,null,null,null,null,null,null,null,null,null,null,null,null,null,null,null,null,null,null,null,null,null,null,null,null,null,null,null,null,null,null,null,null,null,null,0,0]
[112,null,null,null,null,null,null,null,null,null,null,null,null,null,null,null,null,null,null,null,null,null,null,null,null,null,null,null,null,null,null,null,null,null,null,null,null,null,null,null,null,null,null,null,null,null,null,null,null,null,null,null,null,null,null,null,null,null,null,null,null,null,0,0]
[113,null,null,null,null,null,null,null,null,null,null,null,null,null,null,null,null,null,null,null,null,null,null,null,null,null,null,null,null,null,null,null,null,null,null,null,null,null,null,null,null,null,null,null,null,null,null,null,null,null,null,null,null,null,null,null,null,null,null,null,null,null,0,0]
[114,null,null,null,null,null,null,null,null,null,null,null,null,null,null,null,null,null,null,null,null,null,null,null,null,null,null,null,null,null,null,null,null,null,null,null,null,null,null,null,null,null,null,null,null,null,null,null,null,null,null,null,null,null,null,null,null,null,null,null,null,null,0,0]
[115,null,null,null,null,null,null,null,null,null,null,null,null,null,null,null,null,null,null,null,null,null,null,null,null,null,null,null,null,null,null,null,null,null,null,null,null,null,null,null,null,null,null,null,null,null,null,null,null,null,null,null,null,null,null,null,null,null,null,null,null,null,0,0]
[116,null,null,null,null,null,null,null,null,null,null,null,null,null,null,null,null,null,null,null,null,null,null,null,null,null,null,null,null,null,null,null,null,null,null,null,null,null,null,null,null,null,null,null,null,null,null,null,null,null,null,null,null,null,null,null,null,null,null,null,null,null,0,0]
[117,null,null,null,null,null,null,null,null,null,null,null,null,null,null,null,null,null,null,null,null,null,null,null,null,null,null,null,null,null,null,null,null,null,null,null,null,null,null,null,null,null,null,null,null,null,null,null,null,null,null,null,null,null,null,null,null,null,null,null,null,null,0,0]
[118,null,null,null,null,null,null,null,null,null,null,null,null,null,null,null,null,null,null,null,null,null,null,null,null,null,null,null,null,null,null,null,null,null,null,null,null,null,null,null,null,null,null,null,null,null,null,null,null,null,null,null,null,null,null,null,null,null,null,null,null,null,0,0]
[119,null,null,null,null,null,null,null,null,null,null,null,null,null,null,null,null,null,null,null,null,null,null,null,null,null,null,null,null,null,null,null,null,null,null,null,null,null,null,null,null,null,null,null,null,null,null,null,null,null,null,null,null,null,null,null,null,null,null,null,null,null,0,{"$f":"COUNT(C172:BH172)/2","v":0}]
[120,null,null,null,null,null,null,null,null,null,null,null,null,null,null,null,null,null,null,null,null,null,null,null,null,null,null,null,null,null,null,null,null,null,null,null,null,null,null,null,null,null,null,null,null,null,null,null,null,null,null,null,null,null,null,null,null,null,null,null,null,null,0,0]
[121,null,null,null,null,null,null,null,null,null,null,null,null,null,null,null,null,null,null,null,null,null,null,null,null,null,null,null,null,null,null,null,null,null,null,null,null,null,null,null,null,null,null,null,null,null,null,null,null,null,null,null,null,null,null,null,null,null,null,null,null,null,0,0]
[122,null,null,null,null,null,null,null,null,null,null,null,null,null,null,null,null,null,null,null,null,null,null,null,null,null,null,null,null,null,null,null,null,null,null,null,null,null,null,null,null,null,null,null,null,null,null,null,null,null,null,null,null,null,null,null,null,null,null,null,null,null,0,0]
[123,null,null,null,null,null,null,null,null,null,null,null,null,null,null,null,null,null,null,null,null,null,null,null,null,null,null,null,null,null,null,null,null,null,null,null,null,null,null,null,null,null,null,null,null,null,null,null,null,null,null,null,null,null,null,null,null,null,null,null,null,null,0,0]
[124,null,null,null,null,null,null,null,null,null,null,null,null,null,null,null,null,null,null,null,null,null,null,null,null,null,null,null,null,null,null,null,null,null,null,null,null,null,null,null,null,null,null,null,null,null,null,null,null,null,null,null,null,null,null,null,null,null,null,null,null,null,0,0]
[125,null,null,null,null,null,null,null,null,null,null,null,null,null,null,null,null,null,null,null,null,null,null,null,null,null,null,null,null,null,null,null,null,null,null,null,null,null,null,null,null,null,null,null,null,null,null,null,null,null,null,null,null,null,null,null,null,null,null,null,null,null,0,0]
[126,null,null,null,null,null,null,null,null,null,null,null,null,null,null,null,null,null,null,null,null,null,null,null,null,null,null,null,null,null,null,null,null,null,null,null,null,null,null,null,null,null,null,null,null,null,null,null,null,null,null,null,null,null,null,null,null,null,null,null,null,null,0,0]
[127,null,null,null,null,null,null,null,null,null,null,null,null,null,null,null,null,null,null,null,null,null,null,null,null,null,null,null,null,null,null,null,null,null,null,null,null,null,null,null,null,null,null,null,null,null,null,null,null,null,null,null,null,null,null,null,null,null,null,null,null,null,0,0]
[128,null,null,null,null,null,null,null,null,null,null,null,null,null,null,null,null,null,null,null,null,null,null,null,null,null,null,null,null,null,null,null,null,null,null,null,null,null,null,null,null,null,null,null,null,null,null,null,null,null,null,null,null,null,null,null,null,null,null,null,null,null,0,0]
[129,null,null,null,null,null,null,null,null,null,null,null,null,null,null,null,null,null,null,null,null,null,null,null,null,null,null,null,null,null,null,null,null,null,null,null,null,null,null,null,null,null,null,null,null,null,null,null,null,null,null,null,null,null,null,null,null,null,null,null,null,null,{"$f":"+AI182+AE182+Y182+W182+U182+S182+Q182+O182+M182+I182+G182+E182+C182+AG182+K182+BG182+BN182+AA182+AC182+AK182+AM182+AO182+AW182","v":0},{"$f":"COUNT(C182:BH182)/2","v":0}]
[130,null,null,null,null,null,null,null,null,null,null,null,null,null,null,null,null,null,null,null,null,null,null,null,null,null,null,null,null,null,null,null,null,null,null,null,null,null,null,null,null,null,null,null,null,null,null,null,null,null,null,null,null,null,null,null,null,null,null,null,null,null,0,0]
[131,null,null,null,null,null,null,null,null,null,null,null,null,null,null,null,null,null,null,null,null,null,null,null,null,null,null,null,null,null,null,null,null,null,null,null,null,null,null,null,null,null,null,null,null,null,null,null,null,null,null,null,null,null,null,null,null,null,null,null,null,null,0,0]
[132,null,null,null,null,null,null,null,null,null,null,null,null,null,null,null,null,null,null,null,null,null,null,null,null,null,null,null,null,null,null,null,null,null,null,null,null,null,null,null,null,null,null,null,null,null,null,null,null,null,null,null,null,null,null,null,null,null,null,null,null,null,0,0]
[133,null,null,null,null,null,null,null,null,null,null,null,null,null,null,null,null,null,null,null,null,null,null,null,null,null,null,null,null,null,null,null,null,null,null,null,null,null,null,null,null,null,null,null,null,null,null,null,null,null,null,null,null,null,null,null,null,null,null,null,null,null,0,0]
[134,null,null,null,null,null,null,null,null,null,null,null,null,null,null,null,null,null,null,null,null,null,null,null,null,null,null,null,null,null,null,null,null,null,null,null,null,null,null,null,null,null,null,null,null,null,null,null,null,null,null,null,null,null,null,null,null,null,null,null,null,null,0,0]
[135,null,null,null,null,null,null,null,null,null,null,null,null,null,null,null,null,null,null,null,null,null,null,null,null,null,null,null,null,null,null,null,null,null,null,null,null,null,null,null,null,null,null,null,null,null,null,null,null,null,null,null,null,null,null,null,null,null,null,null,null,null,0,0]
[136,null,null,null,null,null,null,null,null,null,null,null,null,null,null,null,null,null,null,null,null,null,null,null,null,null,null,null,null,null,null,null,null,null,null,null,null,null,null,null,null,null,null,null,null,null,null,null,null,null,null,null,null,null,null,null,null,null,null,null,null,null,0,0]
[137,null,null,null,null,null,null,null,null,null,null,null,null,null,null,null,null,null,null,null,null,null,null,null,null,null,null,null,null,null,null,null,null,null,null,null,null,null,null,null,null,null,null,null,null,null,null,null,null,null,null,null,null,null,null,null,null,null,null,null,null,null,0,0]
[138,null,null,null,null,null,null,null,null,null,null,null,null,null,null,null,null,null,null,null,null,null,null,null,null,null,null,null,null,null,null,null,null,null,null,null,null,null,null,null,null,null,null,null,null,null,null,null,null,null,null,null,null,null,null,null,null,null,null,null,null,null,0,0]
[139,null,null,null,null,null,null,null,null,null,null,null,null,null,null,null,null,null,null,null,null,null,null,null,null,null,null,null,null,null,null,null,null,null,null,null,null,null,null,null,null,null,null,null,null,null,null,null,null,null,null,null,null,null,null,null,null,null,null,null,null,null,0,0]
[140,null,null,null,null,null,null,null,null,null,null,null,null,null,null,null,null,null,null,null,null,null,null,null,null,null,null,null,null,null,null,null,null,null,null,null,null,null,null,null,null,null,null,null,null,null,null,null,null,null,null,null,null,null,null,null,null,null,null,null,null,null,0,0]
[141,null,null,null,null,null,null,null,null,null,null,null,null,null,null,null,null,null,null,null,null,null,null,null,null,null,null,null,null,null,null,null,null,null,null,null,null,null,null,null,null,null,null,null,null,null,null,null,null,null,null,null,null,null,null,null,null,null,null,null,null,null,0,0]
[142,null,null,null,null,null,null,null,null,null,null,null,null,null,null,null,null,null,null,null,null,null,null,null,null,null,null,null,null,null,null,null,null,null,null,null,null,null,null,null,null,null,null,null,null,null,null,null,null,null,null,null,null,null,null,null,null,null,null,null,null,null,0,0]
[143,null,null,null,null,null,null,null,null,null,null,null,null,null,null,null,null,null,null,null,null,null,null,null,null,null,null,null,null,null,null,null,null,null,null,null,null,null,null,null,null,null,null,null,null,null,null,null,null,null,null,null,null,null,null,null,null,null,null,null,null,null,0,0]
[144,null,null,null,null,null,null,null,null,null,null,null,null,null,null,null,null,null,null,null,null,null,null,null,null,null,null,null,null,null,null,null,null,null,null,null,null,null,null,null,null,null,null,null,null,null,null,null,null,null,null,null,null,null,null,null,null,null,null,null,null,null,0,0]
[145,null,null,null,null,null,null,null,null,null,null,null,null,null,null,null,null,null,null,null,null,null,null,null,null,null,null,null,null,null,null,null,null,null,null,null,null,null,null,null,null,null,null,null,null,null,null,null,null,null,null,null,null,null,null,null,null,null,null,null,null,null,0,0]
[146,null,null,null,null,null,null,null,null,null,null,null,null,null,null,null,null,null,null,null,null,null,null,null,null,null,null,null,null,null,null,null,null,null,null,null,null,null,null,null,null,null,null,null,null,null,null,null,null,null,null,null,null,null,null,null,null,null,null,null,null,null,0,0]
[147,null,null,null,null,null,null,null,null,null,null,null,null,null,null,null,null,null,null,null,null,null,null,null,null,null,null,null,null,null,null,null,null,null,null,null,null,null,null,null,null,null,null,null,null,null,null,null,null,null,null,null,null,null,null,null,null,null,null,null,null,null,0,0]
[148,null,null,null,null,null,null,null,null,null,null,null,null,null,null,null,null,null,null,null,null,null,null,null,null,null,null,null,null,null,null,null,null,null,null,null,null,null,null,null,null,null,null,null,null,null,null,null,null,null,null,null,null,null,null,null,null,null,null,null,null,null,0,0]
[149,null,null,null,null,null,null,null,null,null,null,null,null,null,null,null,null,null,null,null,null,null,null,null,null,null,null,null,null,null,null,null,null,null,null,null,null,null,null,null,null,null,null,null,null,null,null,null,null,null,null,null,null,null,null,null,null,null,null,null,null,null,0,0]
[150,null,null,null,null,null,null,null,null,null,null,null,null,null,null,null,null,null,null,null,null,null,null,null,null,null,null,null,null,null,null,null,null,null,null,null,null,null,null,null,null,null,null,null,null,null,null,null,null,null,null,null,null,null,null,null,null,null,null,null,null,null,0,0]
[151,null,null,null,null,null,null,null,null,null,null,null,null,null,null,null,null,null,null,null,null,null,null,null,null,null,null,null,null,null,null,null,null,null,null,null,null,null,null,null,null,null,null,null,null,null,null,null,null,null,null,null,null,null,null,null,null,null,null,null,null,null,0,0]
[152,null,null,null,null,null,null,null,null,null,null,null,null,null,null,null,null,null,null,null,null,null,null,null,null,null,null,null,null,null,null,null,null,null,null,null,null,null,null,null,null,null,null,null,null,null,null,null,null,null,null,null,null,null,null,null,null,null,null,null,null,null,0,0]
[153,null,null,null,null,null,null,null,null,null,null,null,null,null,null,null,null,null,null,null,null,null,null,null,null,null,null,null,null,null,null,null,null,null,null,null,null,null,null,null,null,null,null,null,null,null,null,null,null,null,null,null,null,null,null,null,null,null,null,null,null,null,0,0]
[154,null,null,null,null,null,null,null,null,null,null,null,null,null,null,null,null,null,null,null,null,null,null,null,null,null,null,null,null,null,null,null,null,null,null,null,null,null,null,null,null,null,null,null,null,null,null,null,null,null,null,null,null,null,null,null,null,null,null,null,null,null,0,0]
[155,null,null,null,null,null,null,null,null,null,null,null,null,null,null,null,null,null,null,null,null,null,null,null,null,null,null,null,null,null,null,null,null,null,null,null,null,null,null,null,null,null,null,null,null,null,null,null,null,null,null,null,null,null,null,null,null,null,null,null,null,null,0,0]
[156,null,null,null,null,null,null,null,null,null,null,null,null,null,null,null,null,null,null,null,null,null,null,null,null,null,null,null,null,null,null,null,null,null,null,null,null,null,null,null,null,null,null,null,null,null,null,null,null,null,null,null,null,null,null,null,null,null,null,null,null,null,0,0]
[157,null,null,null,null,null,null,null,null,null,null,null,null,null,null,null,null,null,null,null,null,null,null,null,null,null,null,null,null,null,null,null,null,null,null,null,null,null,null,null,null,null,null,null,null,null,null,null,null,null,null,null,null,null,null,null,null,null,null,null,null,null,0,0]
[158,null,null,null,null,null,null,null,null,null,null,null,null,null,null,null,null,null,null,null,null,null,null,null,null,null,null,null,null,null,null,null,null,null,null,null,null,null,null,null,null,null,null,null,null,null,null,null,null,null,null,null,null,null,null,null,null,null,null,null,null,null,0,0]
[159,null,null,null,null,null,null,null,null,null,null,null,null,null,null,null,null,null,null,null,null,null,null,null,null,null,null,null,null,null,null,null,null,null,null,null,null,null,null,null,null,null,null,null,null,null,null,null,null,null,null,null,null,null,null,null,null,null,null,null,null,null,0,0]
[160,null,null,null,null,null,null,null,null,null,null,null,null,null,null,null,null,null,null,null,null,null,null,null,null,null,null,null,null,null,null,null,null,null,null,null,null,null,null,null,null,null,null,null,null,null,null,null,null,null,null,null,null,null,null,null,null,null,null,null,null,null,0,0]
[161,null,null,null,null,null,null,null,null,null,null,null,null,null,null,null,null,null,null,null,null,null,null,null,null,null,null,null,null,null,null,null,null,null,null,null,null,null,null,null,null,null,null,null,null,null,null,null,null,null,null,null,null,null,null,null,null,null,null,null,null,null,0,0]
[162,null,null,null,null,null,null,null,null,null,null,null,null,null,null,null,null,null,null,null,null,null,null,null,null,null,null,null,null,null,null,null,null,null,null,null,null,null,null,null,null,null,null,null,null,null,null,null,null,null,null,null,null,null,null,null,null,null,null,null,null,null,0,0]
[163,null,null,null,null,null,null,null,null,null,null,null,null,null,null,null,null,null,null,null,null,null,null,null,null,null,null,null,null,null,null,null,null,null,null,null,null,null,null,null,null,null,null,null,null,null,null,null,null,null,null,null,null,null,null,null,null,null,null,null,null,null,0,0]
[164,null,null,null,null,null,null,null,null,null,null,null,null,null,null,null,null,null,null,null,null,null,null,null,null,null,null,null,null,null,null,null,null,null,null,null,null,null,null,null,null,null,null,null,null,null,null,null,null,null,null,null,null,null,null,null,null,null,null,null,null,null,0,0]
[165,null,null,null,null,null,null,null,null,null,null,null,null,null,null,null,null,null,null,null,null,null,null,null,null,null,null,null,null,null,null,null,null,null,null,null,null,null,null,null,null,null,null,null,null,null,null,null,null,null,null,null,null,null,null,null,null,null,null,null,null,null,0,0]
[166,null,null,null,null,null,null,null,null,null,null,null,null,null,null,null,null,null,null,null,null,null,null,null,null,null,null,null,null,null,null,null,null,null,null,null,null,null,null,null,null,null,null,null,null,null,null,null,null,null,null,null,null,null,null,null,null,null,null,null,null,null,0,0]
[167,null,null,null,null,null,null,null,null,null,null,null,null,null,null,null,null,null,null,null,null,null,null,null,null,null,null,null,null,null,null,null,null,null,null,null,null,null,null,null,null,null,null,null,null,null,null,null,null,null,null,null,null,null,null,null,null,null,null,null,null,null,0,{"$f":"COUNT(C220:BH220)/2","v":0}]
[168,null,null,null,null,null,null,null,null,null,null,null,null,null,null,null,null,null,null,null,null,null,null,null,null,null,null,null,null,null,null,null,null,null,null,null,null,null,null,null,null,null,null,null,null,null,null,null,null,null,null,null,null,null,null,null,null,null,null,null,null,null,0,{"$f":"COUNT(C221:BH221)/2","v":0}]
[{"$f":"+A221+1","v":169},null,null,null,null,null,null,null,null,null,null,null,null,null,null,null,null,null,null,null,null,null,null,null,null,null,null,null,null,null,null,null,null,null,null,null,null,null,null,null,null,null,null,null,null,null,null,null,null,null,null,null,null,null,null,null,null,null,null,null,null,null,0,{"$f":"COUNT(C222:BH222)/2","v":0}]
[170,null,null,null,null,null,null,null,null,null,null,null,null,null,null,null,null,null,null,null,null,null,null,null,null,null,null,null,null,null,null,null,null,null,null,null,null,null,null,null,null,null,null,null,null,null,null,null,null,null,null,null,null,null,null,null,null,null,null,null,null,null,0,{"$f":"COUNT(C223:BH223)/2","v":0}]
[171,null,null,null,null,null,null,null,null,null,null,null,null,null,null,null,null,null,null,null,null,null,null,null,null,null,null,null,null,null,null,null,null,null,null,null,null,null,null,null,null,null,null,null,null,null,null,null,null,null,null,null,null,null,null,null,null,null,null,null,null,null,0,0]
[172,null,null,null,null,null,null,null,null,null,null,null,null,null,null,null,null,null,null,null,null,null,null,null,null,null,null,null,null,null,null,null,null,null,null,null,null,null,null,null,null,null,null,null,null,null,null,null,null,null,null,null,null,null,null,null,null,null,null,null,null,null,0,{"$f":"COUNT(C225:BH225)/2","v":0}]
[173,null,null,null,null,null,null,null,null,null,null,null,null,null,null,null,null,null,null,null,null,null,null,null,null,null,null,null,null,null,null,null,null,null,null,null,null,null,null,null,null,null,null,null,null,null,null,null,null,null,null,null,null,null,null,null,null,null,null,null,null,null,0,0]
[174,null,null,null,null,null,null,null,null,null,null,null,null,null,null,null,null,null,null,null,null,null,null,null,null,null,null,null,null,null,null,null,null,null,null,null,null,null,null,null,null,null,null,null,null,null,null,null,null,null,null,null,null,null,null,null,null,null,null,null,null,null,0,0]
[175,null,null,null,null,null,null,null,null,null,null,null,null,null,null,null,null,null,null,null,null,null,null,null,null,null,null,null,null,null,null,null,null,null,null,null,null,null,null,null,null,null,null,null,null,null,null,null,null,null,null,null,null,null,null,null,null,null,null,null,null,null,0,0]
[176,null,null,null,null,null,null,null,null,null,null,null,null,null,null,null,null,null,null,null,null,null,null,null,null,null,null,null,null,null,null,null,null,null,null,null,null,null,null,null,null,null,null,null,null,null,null,null,null,null,null,null,null,null,null,null,null,null,null,null,null,null,0,0]
[177,null,null,null,null,null,null,null,null,null,null,null,null,null,null,null,null,null,null,null,null,null,null,null,null,null,null,null,null,null,null,null,null,null,null,null,null,null,null,null,null,null,null,null,null,null,null,null,null,null,null,null,null,null,null,null,null,null,null,null,null,null,0,0]
[178,null,null,null,null,null,null,null,null,null,null,null,null,null,null,null,null,null,null,null,null,null,null,null,null,null,null,null,null,null,null,null,null,null,null,null,null,null,null,null,null,null,null,null,null,null,null,null,null,null,null,null,null,null,null,null,null,null,null,null,null,null,0,0]
[179,null,null,null,null,null,null,null,null,null,null,null,null,null,null,null,null,null,null,null,null,null,null,null,null,null,null,null,null,null,null,null,null,null,null,null,null,null,null,null,null,null,null,null,null,null,null,null,null,null,null,null,null,null,null,null,null,null,null,null,null,null,0,0]
[180,null,null,null,null,null,null,null,null,null,null,null,null,null,null,null,null,null,null,null,null,null,null,null,null,null,null,null,null,null,null,null,null,null,null,null,null,null,null,null,null,null,null,null,null,null,null,null,null,null,null,null,null,null,null,null,null,null,null,null,null,null,0,0]
[181,null,null,null,null,null,null,null,null,null,null,null,null,null,null,null,null,null,null,null,null,null,null,null,null,null,null,null,null,null,null,null,null,null,null,null,null,null,null,null,null,null,null,null,null,null,null,null,null,null,null,null,null,null,null,null,null,null,null,null,null,null,0,0]
[182,null,null,null,null,null,null,null,null,null,null,null,null,null,null,null,null,null,null,null,null,null,null,null,null,null,null,null,null,null,null,null,null,null,null,null,null,null,null,null,null,null,null,null,null,null,null,null,null,null,null,null,null,null,null,null,null,null,null,null,null,null,0,0]
[183,null,null,null,null,null,null,null,null,null,null,null,null,null,null,null,null,null,null,null,null,null,null,null,null,null,null,null,null,null,null,null,null,null,null,null,null,null,null,null,null,null,null,null,null,null,null,null,null,null,null,null,null,null,null,null,null,null,null,null,null,null,0,0]
[184,null,null,null,null,null,null,null,null,null,null,null,null,null,null,null,null,null,null,null,null,null,null,null,null,null,null,null,null,null,null,null,null,null,null,null,null,null,null,null,null,null,null,null,null,null,null,null,null,null,null,null,null,null,null,null,null,null,null,null,null,null,0,0]
[185,null,null,null,null,null,null,null,null,null,null,null,null,null,null,null,null,null,null,null,null,null,null,null,null,null,null,null,null,null,null,null,null,null,null,null,null,null,null,null,null,null,null,null,null,null,null,null,null,null,null,null,null,null,null,null,null,null,null,null,null,null,0,0]
[186,null,null,null,null,null,null,null,null,null,null,null,null,null,null,null,null,null,null,null,null,null,null,null,null,null,null,null,null,null,null,null,null,null,null,null,null,null,null,null,null,null,null,null,null,null,null,null,null,null,null,null,null,null,null,null,null,null,null,null,null,null,0,0]
[187,null,null,null,null,null,null,null,null,null,null,null,null,null,null,null,null,null,null,null,null,null,null,null,null,null,null,null,null,null,null,null,null,null,null,null,null,null,null,null,null,null,null,null,null,null,null,null,null,null,null,null,null,null,null,null,null,null,null,null,null,null,0,0]
[188,null,null,null,null,null,null,null,null,null,null,null,null,null,null,null,null,null,null,null,null,null,null,null,null,null,null,null,null,null,null,null,null,null,null,null,null,null,null,null,null,null,null,null,null,null,null,null,null,null,null,null,null,null,null,null,null,null,null,null,null,null,0,0]
[189,null,null,null,null,null,null,null,null,null,null,null,null,null,null,null,null,null,null,null,null,null,null,null,null,null,null,null,null,null,null,null,null,null,null,null,null,null,null,null,null,null,null,null,null,null,null,null,null,null,null,null,null,null,null,null,null,null,null,null,null,null,0,0]
[190,null,null,null,null,null,null,null,null,null,null,null,null,null,null,null,null,null,null,null,null,null,null,null,null,null,null,null,null,null,null,null,null,null,null,null,null,null,null,null,null,null,null,null,null,null,null,null,null,null,null,null,null,null,null,null,null,null,null,null,null,null,0,0]
[191,null,null,null,null,null,null,null,null,null,null,null,null,null,null,null,null,null,null,null,null,null,null,null,null,null,null,null,null,null,null,null,null,null,null,null,null,null,null,null,null,null,null,null,null,null,null,null,null,null,null,null,null,null,null,null,null,null,null,null,null,null,0,0]
[192,null,null,null,null,null,null,null,null,null,null,null,null,null,null,null,null,null,null,null,null,null,null,null,null,null,null,null,null,null,null,null,null,null,null,null,null,null,null,null,null,null,null,null,null,null,null,null,null,null,null,null,null,null,null,null,null,null,null,null,null,null,0,0]
[193,null,null,null,null,null,null,null,null,null,null,null,null,null,null,null,null,null,null,null,null,null,null,null,null,null,null,null,null,null,null,null,null,null,null,null,null,null,null,null,null,null,null,null,null,null,null,null,null,null,null,null,null,null,null,null,null,null,null,null,null,null,{"$f":"+AI246+AE246+Y246+W246+U246+S246+Q246+O246+M246+I246+G246+E246+C246+AG246+K246+BG246+BN246+AA246+AC246+AK246+AM246+AO246+AW246","v":0},0]
[194,null,null,null,null,null,null,null,null,null,null,null,null,null,null,null,null,null,null,null,null,null,null,null,null,null,null,null,null,null,null,null,null,null,null,null,null,null,null,null,null,null,null,null,null,null,null,null,null,null,null,null,null,null,null,null,null,null,null,null,null,null,0,0]
[195,null,null,null,null,null,null,null,null,null,null,null,null,null,null,null,null,null,null,null,null,null,null,null,null,null,null,null,null,null,null,null,null,null,null,null,null,null,null,null,null,null,null,null,null,null,null,null,null,null,null,null,null,null,null,null,null,null,null,null,null,null,0,0]
[196,null,null,null,null,null,null,null,null,null,null,null,null,null,null,null,null,null,null,null,null,null,null,null,null,null,null,null,null,null,null,null,null,null,null,null,null,null,null,null,null,null,null,null,null,null,null,null,null,null,null,null,null,null,null,null,null,null,null,null,null,null,0,0]
[197,null,null,null,null,null,null,null,null,null,null,null,null,null,null,null,null,null,null,null,null,null,null,null,null,null,null,null,null,null,null,null,null,null,null,null,null,null,null,null,null,null,null,null,null,null,null,null,null,null,null,null,null,null,null,null,null,null,null,null,null,null,0,0]
[198,null,null,null,null,null,null,null,null,null,null,null,null,null,null,null,null,null,null,null,null,null,null,null,null,null,null,null,null,null,null,null,null,null,null,null,null,null,null,null,null,null,null,null,null,null,null,null,null,null,null,null,null,null,null,null,null,null,null,null,null,null,0,0]
[199,null,null,null,null,null,null,null,null,null,null,null,null,null,null,null,null,null,null,null,null,null,null,null,null,null,null,null,null,null,null,null,null,null,null,null,null,null,null,null,null,null,null,null,null,null,null,null,null,null,null,null,null,null,null,null,null,null,null,null,null,null,0,0]
[200,null,null,null,null,null,null,null,null,null,null,null,null,null,null,null,null,null,null,null,null,null,null,null,null,null,null,null,null,null,null,null,null,null,null,null,null,null,null,null,null,null,null,null,null,null,null,null,null,null,null,null,null,null,null,null,null,null,null,null,null,null,0,0]
[201,null,null,null,null,null,null,null,null,null,null,null,null,null,null,null,null,null,null,null,null,null,null,null,null,null,null,null,null,null,null,null,null,null,null,null,null,null,null,null,null,null,null,null,null,null,null,null,null,null,null,null,null,null,null,null,null,null,null,null,null,null,0,0]
[202,null,null,null,null,null,null,null,null,null,null,null,null,null,null,null,null,null,null,null,null,null,null,null,null,null,null,null,null,null,null,null,null,null,null,null,null,null,null,null,null,null,null,null,null,null,null,null,null,null,null,null,null,null,null,null,null,null,null,null,null,null,0,0]
[203,null,null,null,null,null,null,null,null,null,null,null,null,null,null,null,null,null,null,null,null,null,null,null,null,null,null,null,null,null,null,null,null,null,null,null,null,null,null,null,null,null,null,null,null,null,null,null,null,null,null,null,null,null,null,null,null,null,null,null,null,null,0,0]
[204,null,null,null,null,null,null,null,null,null,null,null,null,null,null,null,null,null,null,null,null,null,null,null,null,null,null,null,null,null,null,null,null,null,null,null,null,null,null,null,null,null,null,null,null,null,null,null,null,null,null,null,null,null,null,null,null,null,null,null,null,null,0,0]
[205,null,null,null,null,null,null,null,null,null,null,null,null,null,null,null,null,null,null,null,null,null,null,null,null,null,null,null,null,null,null,null,null,null,null,null,null,null,null,null,null,null,null,null,null,null,null,null,null,null,null,null,null,null,null,null,null,null,null,null,null,null,0,0]
[206,null,null,null,null,null,null,null,null,null,null,null,null,null,null,null,null,null,null,null,null,null,null,null,null,null,null,null,null,null,null,null,null,null,null,null,null,null,null,null,null,null,null,null,null,null,null,null,null,null,null,null,null,null,null,null,null,null,null,null,null,null,0,0]
[207,null,null,null,null,null,null,null,null,null,null,null,null,null,null,null,null,null,null,null,null,null,null,null,null,null,null,null,null,null,null,null,null,null,null,null,null,null,null,null,null,null,null,null,null,null,null,null,null,null,null,null,null,null,null,null,null,null,null,null,null,null,0,0]
[208,null,null,null,null,null,null,null,null,null,null,null,null,null,null,null,null,null,null,null,null,null,null,null,null,null,null,null,null,null,null,null,null,null,null,null,null,null,null,null,null,null,null,null,null,null,null,null,null,null,null,null,null,null,null,null,null,null,null,null,null,null,0,0]
[209,null,null,null,null,null,null,null,null,null,null,null,null,null,null,null,null,null,null,null,null,null,null,null,null,null,null,null,null,null,null,null,null,null,null,null,null,null,null,null,null,null,null,null,null,null,null,null,null,null,null,null,null,null,null,null,null,null,null,null,null,null,0,0]
[210,null,null,null,null,null,null,null,null,null,null,null,null,null,null,null,null,null,null,null,null,null,null,null,null,null,null,null,null,null,null,null,null,null,null,null,null,null,null,null,null,null,null,null,null,null,null,null,null,null,null,null,null,null,null,null,null,null,null,null,null,null,0,0]
[211,null,null,null,null,null,null,null,null,null,null,null,null,null,null,null,null,null,null,null,null,null,null,null,null,null,null,null,null,null,null,null,null,null,null,null,null,null,null,null,null,null,null,null,null,null,null,null,null,null,null,null,null,null,null,null,null,null,null,null,null,null,0,0]
[212,null,null,null,null,null,null,null,null,null,null,null,null,null,null,null,null,null,null,null,null,null,null,null,null,null,null,null,null,null,null,null,null,null,null,null,null,null,null,null,null,null,null,null,null,null,null,null,null,null,null,null,null,null,null,null,null,null,null,null,null,null,0,0]
[213,null,null,null,null,null,null,null,null,null,null,null,null,null,null,null,null,null,null,null,null,null,null,null,null,null,null,null,null,null,null,null,null,null,null,null,null,null,null,null,null,null,null,null,null,null,null,null,null,null,null,null,null,null,null,null,null,null,null,null,null,null,0,0]
[214,null,null,null,null,null,null,null,null,null,null,null,null,null,null,null,null,null,null,null,null,null,null,null,null,null,null,null,null,null,null,null,null,null,null,null,null,null,null,null,null,null,null,null,null,null,null,null,null,null,null,null,null,null,null,null,null,null,null,null,null,null,0,0]
[215,null,null,null,null,null,null,null,null,null,null,null,null,null,null,null,null,null,null,null,null,null,null,null,null,null,null,null,null,null,null,null,null,null,null,null,null,null,null,null,null,null,null,null,null,null,null,null,null,null,null,null,null,null,null,null,null,null,null,null,null,null,0,0]
[216,null,null,null,null,null,null,null,null,null,null,null,null,null,null,null,null,null,null,null,null,null,null,null,null,null,null,null,null,null,null,null,null,null,null,null,null,null,null,null,null,null,null,null,null,null,null,null,null,null,null,null,null,null,null,null,null,null,null,null,null,null,0,0]
[217,null,null,null,null,null,null,null,null,null,null,null,null,null,null,null,null,null,null,null,null,null,null,null,null,null,null,null,null,null,null,null,null,null,null,null,null,null,null,null,null,null,null,null,null,null,null,null,null,null,null,null,null,null,null,null,null,null,null,null,null,null,0,0]
[218,null,null,null,null,null,null,null,null,null,null,null,null,null,null,null,null,null,null,null,null,null,null,null,null,null,null,null,null,null,null,null,null,null,null,null,null,null,null,null,null,null,null,null,null,null,null,null,null,null,null,null,null,null,null,null,null,null,null,null,null,null,0,0]
[219,null,null,null,null,null,null,null,null,null,null,null,null,null,null,null,null,null,null,null,null,null,null,null,null,null,null,null,null,null,null,null,null,null,null,null,null,null,null,null,null,null,null,null,null,null,null,null,null,null,null,null,null,null,null,null,null,null,null,null,null,null,0,0]
[220,null,null,null,null,null,null,null,null,null,null,null,null,null,null,null,null,null,null,null,null,null,null,null,null,null,null,null,null,null,null,null,null,null,null,null,null,null,null,null,null,null,null,null,null,null,null,null,null,null,null,null,null,null,null,null,null,null,null,null,null,null,0,0]
[221,null,null,null,null,null,null,null,null,null,null,null,null,null,null,null,null,null,null,null,null,null,null,null,null,null,null,null,null,null,null,null,null,null,null,null,null,null,null,null,null,null,null,null,null,null,null,null,null,null,null,null,null,null,null,null,null,null,null,null,null,null,0,0]
[222,null,null,null,null,null,null,null,null,null,null,null,null,null,null,null,null,null,null,null,null,null,null,null,null,null,null,null,null,null,null,null,null,null,null,null,null,null,null,null,null,null,null,null,null,null,null,null,null,null,null,null,null,null,null,null,null,null,null,null,null,null,0,0]
[223,null,null,null,null,null,null,null,null,null,null,null,null,null,null,null,null,null,null,null,null,null,null,null,null,null,null,null,null,null,null,null,null,null,null,null,null,null,null,null,null,null,null,null,null,null,null,null,null,null,null,null,null,null,null,null,null,null,null,null,null,null,0,0]
[224,null,null,null,null,null,null,null,null,null,null,null,null,null,null,null,null,null,null,null,null,null,null,null,null,null,null,null,null,null,null,null,null,null,null,null,null,null,null,null,null,null,null,null,null,null,null,null,null,null,null,null,null,null,null,null,null,null,null,null,null,null,0,0]
[225,null,null,null,null,null,null,null,null,null,null,null,null,null,null,null,null,null,null,null,null,null,null,null,null,null,null,null,null,null,null,null,null,null,null,null,null,null,null,null,null,null,null,null,null,null,null,null,null,null,null,null,null,null,null,null,null,null,null,null,null,null,0,0]
[226,null,null,null,null,null,null,null,null,null,null,null,null,null,null,null,null,null,null,null,null,null,null,null,null,null,null,null,null,null,null,null,null,null,null,null,null,null,null,null,null,null,null,null,null,null,null,null,null,null,null,null,null,null,null,null,null,null,null,null,null,null,0,0]
[227,null,null,null,null,null,null,null,null,null,null,null,null,null,null,null,null,null,null,null,null,null,null,null,null,null,null,null,null,null,null,null,null,null,null,null,null,null,null,null,null,null,null,null,null,null,null,null,null,null,null,null,null,null,null,null,null,null,null,null,null,null,0,0]
[228,null,null,null,null,null,null,null,null,null,null,null,null,null,null,null,null,null,null,null,null,null,null,null,null,null,null,null,null,null,null,null,null,null,null,null,null,null,null,null,null,null,null,null,null,null,null,null,null,null,null,null,null,null,null,null,null,null,null,null,null,null,0,0]
[229,null,null,null,null,null,null,null,null,null,null,null,null,null,null,null,null,null,null,null,null,null,null,null,null,null,null,null,null,null,null,null,null,null,null,null,null,null,null,null,null,null,null,null,null,null,null,null,null,null,null,null,null,null,null,null,null,null,null,null,null,null,0,0]
[230,null,null,null,null,null,null,null,null,null,null,null,null,null,null,null,null,null,null,null,null,null,null,null,null,null,null,null,null,null,null,null,null,null,null,null,null,null,null,null,null,null,null,null,null,null,null,null,null,null,null,null,null,null,null,null,null,null,null,null,null,null,0,0]
[231,null,null,null,null,null,null,null,null,null,null,null,null,null,null,null,null,null,null,null,null,null,null,null,null,null,null,null,null,null,null,null,null,null,null,null,null,null,null,null,null,null,null,null,null,null,null,null,null,null,null,null,null,null,null,null,null,null,null,null,null,null,0,0]
[232,null,null,null,null,null,null,null,null,null,null,null,null,null,null,null,null,null,null,null,null,null,null,null,null,null,null,null,null,null,null,null,null,null,null,null,null,null,null,null,null,null,null,null,null,null,null,null,null,null,null,null,null,null,null,null,null,null,null,null,null,null,0,0]
[{"$f":"+A285+1","v":233},null,null,null,null,null,null,null,null,null,null,null,null,null,null,null,null,null,null,null,null,null,null,null,null,null,null,null,null,null,null,null,null,null,null,null,null,null,null,null,null,null,null,null,null,null,null,null,null,null,null,null,null,null,null,null,null,null,null,null,null,null,0,0]
[234,null,null,null,null,null,null,null,null,null,null,null,null,null,null,null,null,null,null,null,null,null,null,null,null,null,null,null,null,null,null,null,null,null,null,null,null,null,null,null,null,null,null,null,null,null,null,null,null,null,null,null,null,null,null,null,null,null,null,null,null,null,0,0]
[235,null,null,null,null,null,null,null,null,null,null,null,null,null,null,null,null,null,null,null,null,null,null,null,null,null,null,null,null,null,null,null,null,null,null,null,null,null,null,null,null,null,null,null,null,null,null,null,null,null,null,null,null,null,null,null,null,null,null,null,null,null,0,0]
[236,null,null,null,null,null,null,null,null,null,null,null,null,null,null,null,null,null,null,null,null,null,null,null,null,null,null,null,null,null,null,null,null,null,null,null,null,null,null,null,null,null,null,null,null,null,null,null,null,null,null,null,null,null,null,null,null,null,null,null,null,null,0,{"$f":"COUNT(C289:BH289)/2","v":0}]
[237,null,null,null,null,null,null,null,null,null,null,null,null,null,null,null,null,null,null,null,null,null,null,null,null,null,null,null,null,null,null,null,null,null,null,null,null,null,null,null,null,null,null,null,null,null,null,null,null,null,null,null,null,null,null,null,null,null,null,null,null,null,0,0]
[238,null,null,null,null,null,null,null,null,null,null,null,null,null,null,null,null,null,null,null,null,null,null,null,null,null,null,null,null,null,null,null,null,null,null,null,null,null,null,null,null,null,null,null,null,null,null,null,null,null,null,null,null,null,null,null,null,null,null,null,null,null,0,0]
[239,null,null,null,null,null,null,null,null,null,null,null,null,null,null,null,null,null,null,null,null,null,null,null,null,null,null,null,null,null,null,null,null,null,null,null,null,null,null,null,null,null,null,null,null,null,null,null,null,null,null,null,null,null,null,null,null,null,null,null,null,null,0,0]
[240,null,null,null,null,null,null,null,null,null,null,null,null,null,null,null,null,null,null,null,null,null,null,null,null,null,null,null,null,null,null,null,null,null,null,null,null,null,null,null,null,null,null,null,null,null,null,null,null,null,null,null,null,null,null,null,null,null,null,null,null,null,0,0]
[241,null,null,null,null,null,null,null,null,null,null,null,null,null,null,null,null,null,null,null,null,null,null,null,null,null,null,null,null,null,null,null,null,null,null,null,null,null,null,null,null,null,null,null,null,null,null,null,null,null,null,null,null,null,null,null,null,null,null,null,null,null,0,0]
[242,null,null,null,null,null,null,null,null,null,null,null,null,null,null,null,null,null,null,null,null,null,null,null,null,null,null,null,null,null,null,null,null,null,null,null,null,null,null,null,null,null,null,null,null,null,null,null,null,null,null,null,null,null,null,null,null,null,null,null,null,null,0,0]
[243,null,null,null,null,null,null,null,null,null,null,null,null,null,null,null,null,null,null,null,null,null,null,null,null,null,null,null,null,null,null,null,null,null,null,null,null,null,null,null,null,null,null,null,null,null,null,null,null,null,null,null,null,null,null,null,null,null,null,null,null,null,0,0]
[244,null,null,null,null,null,null,null,null,null,null,null,null,null,null,null,null,null,null,null,null,null,null,null,null,null,null,null,null,null,null,null,null,null,null,null,null,null,null,null,null,null,null,null,null,null,null,null,null,null,null,null,null,null,null,null,null,null,null,null,null,null,0,0]
[245,null,null,null,null,null,null,null,null,null,null,null,null,null,null,null,null,null,null,null,null,null,null,null,null,null,null,null,null,null,null,null,null,null,null,null,null,null,null,null,null,null,null,null,null,null,null,null,null,null,null,null,null,null,null,null,null,null,null,null,null,null,0,0]
[246,null,null,null,null,null,null,null,null,null,null,null,null,null,null,null,null,null,null,null,null,null,null,null,null,null,null,null,null,null,null,null,null,null,null,null,null,null,null,null,null,null,null,null,null,null,null,null,null,null,null,null,null,null,null,null,null,null,null,null,null,null,0,0]
[247,null,null,null,null,null,null,null,null,null,null,null,null,null,null,null,null,null,null,null,null,null,null,null,null,null,null,null,null,null,null,null,null,null,null,null,null,null,null,null,null,null,null,null,null,null,null,null,null,null,null,null,null,null,null,null,null,null,null,null,null,null,0,0]
[248,null,null,null,null,null,null,null,null,null,null,null,null,null,null,null,null,null,null,null,null,null,null,null,null,null,null,null,null,null,null,null,null,null,null,null,null,null,null,null,null,null,null,null,null,null,null,null,null,null,null,null,null,null,null,null,null,null,null,null,null,null,0,0]
[249,null,null,null,null,null,null,null,null,null,null,null,null,null,null,null,null,null,null,null,null,null,null,null,null,null,null,null,null,null,null,null,null,null,null,null,null,null,null,null,null,null,null,null,null,null,null,null,null,null,null,null,null,null,null,null,null,null,null,null,null,null,0,0]
[250,null,null,null,null,null,null,null,null,null,null,null,null,null,null,null,null,null,null,null,null,null,null,null,null,null,null,null,null,null,null,null,null,null,null,null,null,null,null,null,null,null,null,null,null,null,null,null,null,null,null,null,null,null,null,null,null,null,null,null,null,null,0,0]
[251,null,null,null,null,null,null,null,null,null,null,null,null,null,null,null,null,null,null,null,null,null,null,null,null,null,null,null,null,null,null,null,null,null,null,null,null,null,null,null,null,null,null,null,null,null,null,null,null,null,null,null,null,null,null,null,null,null,null,null,null,null,0,0]
[252,null,null,null,null,null,null,null,null,null,null,null,null,null,null,null,null,null,null,null,null,null,null,null,null,null,null,null,null,null,null,null,null,null,null,null,null,null,null,null,null,null,null,null,null,null,null,null,null,null,null,null,null,null,null,null,null,null,null,null,null,null,0,0]
[253,null,null,null,null,null,null,null,null,null,null,null,null,null,null,null,null,null,null,null,null,null,null,null,null,null,null,null,null,null,null,null,null,null,null,null,null,null,null,null,null,null,null,null,null,null,null,null,null,null,null,null,null,null,null,null,null,null,null,null,null,null,0,0]
[254,null,null,null,null,null,null,null,null,null,null,null,null,null,null,null,null,null,null,null,null,null,null,null,null,null,null,null,null,null,null,null,null,null,null,null,null,null,null,null,null,null,null,null,null,null,null,null,null,null,null,null,null,null,null,null,null,null,null,null,null,null,0,0]
[255,null,null,null,null,null,null,null,null,null,null,null,null,null,null,null,null,null,null,null,null,null,null,null,null,null,null,null,null,null,null,null,null,null,null,null,null,null,null,null,null,null,null,null,null,null,null,null,null,null,null,null,null,null,null,null,null,null,null,null,null,null,0,0]
[256,null,null,null,null,null,null,null,null,null,null,null,null,null,null,null,null,null,null,null,null,null,null,null,null,null,null,null,null,null,null,null,null,null,null,null,null,null,null,null,null,null,null,null,null,null,null,null,null,null,null,null,null,null,null,null,null,null,null,null,null,null,0,0]
[257,null,null,null,null,null,null,null,null,null,null,null,null,null,null,null,null,null,null,null,null,null,null,null,null,null,null,null,null,null,null,null,null,null,null,null,null,null,null,null,null,null,null,null,null,null,null,null,null,null,null,null,null,null,null,null,null,null,null,null,null,null,{"$f":"+AI310+AE310+Y310+W310+U310+S310+Q310+O310+M310+I310+G310+E310+C310+AG310+K310+BG310+BN310+AA310+AC310+AK310+AM310+AO310+AW310","v":0},0]
[258,null,null,null,null,null,null,null,null,null,null,null,null,null,null,null,null,null,null,null,null,null,null,null,null,null,null,null,null,null,null,null,null,null,null,null,null,null,null,null,null,null,null,null,null,null,null,null,null,null,null,null,null,null,null,null,null,null,null,null,null,null,0,0]
[259,null,null,null,null,null,null,null,null,null,null,null,null,null,null,null,null,null,null,null,null,null,null,null,null,null,null,null,null,null,null,null,null,null,null,null,null,null,null,null,null,null,null,null,null,null,null,null,null,null,null,null,null,null,null,null,null,null,null,null,null,null,0,0]
[260,null,null,null,null,null,null,null,null,null,null,null,null,null,null,null,null,null,null,null,null,null,null,null,null,null,null,null,null,null,null,null,null,null,null,null,null,null,null,null,null,null,null,null,null,null,null,null,null,null,null,null,null,null,null,null,null,null,null,null,null,null,0,0]
[261,null,null,null,null,null,null,null,null,null,null,null,null,null,null,null,null,null,null,null,null,null,null,null,null,null,null,null,null,null,null,null,null,null,null,null,null,null,null,null,null,null,null,null,null,null,null,null,null,null,null,null,null,null,null,null,null,null,null,null,null,null,0,0]
[262,null,null,null,null,null,null,null,null,null,null,null,null,null,null,null,null,null,null,null,null,null,null,null,null,null,null,null,null,null,null,null,null,null,null,null,null,null,null,null,null,null,null,null,null,null,null,null,null,null,null,null,null,null,null,null,null,null,null,null,null,null,0,0]
[263,null,null,null,null,null,null,null,null,null,null,null,null,null,null,null,null,null,null,null,null,null,null,null,null,null,null,null,null,null,null,null,null,null,null,null,null,null,null,null,null,null,null,null,null,null,null,null,null,null,null,null,null,null,null,null,null,null,null,null,null,null,0,0]
[264,null,null,null,null,null,null,null,null,null,null,null,null,null,null,null,null,null,null,null,null,null,null,null,null,null,null,null,null,null,null,null,null,null,null,null,null,null,null,null,null,null,null,null,null,null,null,null,null,null,null,null,null,null,null,null,null,null,null,null,null,null,0,0]
[265,null,null,null,null,null,null,null,null,null,null,null,null,null,null,null,null,null,null,null,null,null,null,null,null,null,null,null,null,null,null,null,null,null,null,null,null,null,null,null,null,null,null,null,null,null,null,null,null,null,null,null,null,null,null,null,null,null,null,null,null,null,0,0]
[266,null,null,null,null,null,null,null,null,null,null,null,null,null,null,null,null,null,null,null,null,null,null,null,null,null,null,null,null,null,null,null,null,null,null,null,null,null,null,null,null,null,null,null,null,null,null,null,null,null,null,null,null,null,null,null,null,null,null,null,null,null,0,0]
[267,null,null,null,null,null,null,null,null,null,null,null,null,null,null,null,null,null,null,null,null,null,null,null,null,null,null,null,null,null,null,null,null,null,null,null,null,null,null,null,null,null,null,null,null,null,null,null,null,null,null,null,null,null,null,null,null,null,null,null,null,null,0,0]
[268,null,null,null,null,null,null,null,null,null,null,null,null,null,null,null,null,null,null,null,null,null,null,null,null,null,null,null,null,null,null,null,null,null,null,null,null,null,null,null,null,null,null,null,null,null,null,null,null,null,null,null,null,null,null,null,null,null,null,null,null,null,0,0]
[269,null,null,null,null,null,null,null,null,null,null,null,null,null,null,null,null,null,null,null,null,null,null,null,null,null,null,null,null,null,null,null,null,null,null,null,null,null,null,null,null,null,null,null,null,null,null,null,null,null,null,null,null,null,null,null,null,null,null,null,null,null,0,0]
[270,null,null,null,null,null,null,null,null,null,null,null,null,null,null,null,null,null,null,null,null,null,null,null,null,null,null,null,null,null,null,null,null,null,null,null,null,null,null,null,null,null,null,null,null,null,null,null,null,null,null,null,null,null,null,null,null,null,null,null,null,null,0,0]
[271,null,null,null,null,null,null,null,null,null,null,null,null,null,null,null,null,null,null,null,null,null,null,null,null,null,null,null,null,null,null,null,null,null,null,null,null,null,null,null,null,null,null,null,null,null,null,null,null,null,null,null,null,null,null,null,null,null,null,null,null,null,0,0]
[272,null,null,null,null,null,null,null,null,null,null,null,null,null,null,null,null,null,null,null,null,null,null,null,null,null,null,null,null,null,null,null,null,null,null,null,null,null,null,null,null,null,null,null,null,null,null,null,null,null,null,null,null,null,null,null,null,null,null,null,null,null,0,0]
[273,null,null,null,null,null,null,null,null,null,null,null,null,null,null,null,null,null,null,null,null,null,null,null,null,null,null,null,null,null,null,null,null,null,null,null,null,null,null,null,null,null,null,null,null,null,null,null,null,null,null,null,null,null,null,null,null,null,null,null,null,null,0,0]
[274,null,null,null,null,null,null,null,null,null,null,null,null,null,null,null,null,null,null,null,null,null,null,null,null,null,null,null,null,null,null,null,null,null,null,null,null,null,null,null,null,null,null,null,null,null,null,null,null,null,null,null,null,null,null,null,null,null,null,null,null,null,0,0]
[275,null,null,null,null,null,null,null,null,null,null,null,null,null,null,null,null,null,null,null,null,null,null,null,null,null,null,null,null,null,null,null,null,null,null,null,null,null,null,null,null,null,null,null,null,null,null,null,null,null,null,null,null,null,null,null,null,null,null,null,null,null,0,0]
[276,null,null,null,null,null,null,null,null,null,null,null,null,null,null,null,null,null,null,null,null,null,null,null,null,null,null,null,null,null,null,null,null,null,null,null,null,null,null,null,null,null,null,null,null,null,null,null,null,null,null,null,null,null,null,null,null,null,null,null,null,null,0,0]
[277,null,null,null,null,null,null,null,null,null,null,null,null,null,null,null,null,null,null,null,null,null,null,null,null,null,null,null,null,null,null,null,null,null,null,null,null,null,null,null,null,null,null,null,null,null,null,null,null,null,null,null,null,null,null,null,null,null,null,null,null,null,0,0]
[278,null,null,null,null,null,null,null,null,null,null,null,null,null,null,null,null,null,null,null,null,null,null,null,null,null,null,null,null,null,null,null,null,null,null,null,null,null,null,null,null,null,null,null,null,null,null,null,null,null,null,null,null,null,null,null,null,null,null,null,null,null,0,0]
[279,null,null,null,null,null,null,null,null,null,null,null,null,null,null,null,null,null,null,null,null,null,null,null,null,null,null,null,null,null,null,null,null,null,null,null,null,null,null,null,null,null,null,null,null,null,null,null,null,null,null,null,null,null,null,null,null,null,null,null,null,null,0,0]
[280,null,null,null,null,null,null,null,null,null,null,null,null,null,null,null,null,null,null,null,null,null,null,null,null,null,null,null,null,null,null,null,null,null,null,null,null,null,null,null,null,null,null,null,null,null,null,null,null,null,null,null,null,null,null,null,null,null,null,null,null,null,0,0]
[281,null,null,null,null,null,null,null,null,null,null,null,null,null,null,null,null,null,null,null,null,null,null,null,null,null,null,null,null,null,null,null,null,null,null,null,null,null,null,null,null,null,null,null,null,null,null,null,null,null,null,null,null,null,null,null,null,null,null,null,null,null,0,0]
[282,null,null,null,null,null,null,null,null,null,null,null,null,null,null,null,null,null,null,null,null,null,null,null,null,null,null,null,null,null,null,null,null,null,null,null,null,null,null,null,null,null,null,null,null,null,null,null,null,null,null,null,null,null,null,null,null,null,null,null,null,null,0,0]
[283,null,null,null,null,null,null,null,null,null,null,null,null,null,null,null,null,null,null,null,null,null,null,null,null,null,null,null,null,null,null,null,null,null,null,null,null,null,null,null,null,null,null,null,null,null,null,null,null,null,null,null,null,null,null,null,null,null,null,null,null,null,0,0]
[284,null,null,null,null,null,null,null,null,null,null,null,null,null,null,null,null,null,null,null,null,null,null,null,null,null,null,null,null,null,null,null,null,null,null,null,null,null,null,null,null,null,null,null,null,null,null,null,null,null,null,null,null,null,null,null,null,null,null,null,null,null,0,0]
[285,null,null,null,null,null,null,null,null,null,null,null,null,null,null,null,null,null,null,null,null,null,null,null,null,null,null,null,null,null,null,null,null,null,null,null,null,null,null,null,null,null,null,null,null,null,null,null,null,null,null,null,null,null,null,null,null,null,null,null,null,null,0,0]
[286,null,null,null,null,null,null,null,null,null,null,null,null,null,null,null,null,null,null,null,null,null,null,null,null,null,null,null,null,null,null,null,null,null,null,null,null,null,null,null,null,null,null,null,null,null,null,null,null,null,null,null,null,null,null,null,null,null,null,null,null,null,0,0]
[287,null,null,null,null,null,null,null,null,null,null,null,null,null,null,null,null,null,null,null,null,null,null,null,null,null,null,null,null,null,null,null,null,null,null,null,null,null,null,null,null,null,null,null,null,null,null,null,null,null,null,null,null,null,null,null,null,null,null,null,null,null,0,0]
[288,null,null,null,null,null,null,null,null,null,null,null,null,null,null,null,null,null,null,null,null,null,null,null,null,null,null,null,null,null,null,null,null,null,null,null,null,null,null,null,null,null,null,null,null,null,null,null,null,null,null,null,null,null,null,null,null,null,null,null,null,null,0,0]
[289,null,null,null,null,null,null,null,null,null,null,null,null,null,null,null,null,null,null,null,null,null,null,null,null,null,null,null,null,null,null,null,null,null,null,null,null,null,null,null,null,null,null,null,null,null,null,null,null,null,null,null,null,null,null,null,null,null,null,null,null,null,0,0]
[290,null,null,null,null,null,null,null,null,null,null,null,null,null,null,null,null,null,null,null,null,null,null,null,null,null,null,null,null,null,null,null,null,null,null,null,null,null,null,null,null,null,null,null,null,null,null,null,null,null,null,null,null,null,null,null,null,null,null,null,null,null,0,0]
[291,null,null,null,null,null,null,null,null,null,null,null,null,null,null,null,null,null,null,null,null,null,null,null,null,null,null,null,null,null,null,null,null,null,null,null,null,null,null,null,null,null,null,null,null,null,null,null,null,null,null,null,null,null,null,null,null,null,null,null,null,null,0,0]
[292,null,null,null,null,null,null,null,null,null,null,null,null,null,null,null,null,null,null,null,null,null,null,null,null,null,null,null,null,null,null,null,null,null,null,null,null,null,null,null,null,null,null,null,null,null,null,null,null,null,null,null,null,null,null,null,null,null,null,null,null,null,0,0]
[293,null,null,null,null,null,null,null,null,null,null,null,null,null,null,null,null,null,null,null,null,null,null,null,null,null,null,null,null,null,null,null,null,null,null,null,null,null,null,null,null,null,null,null,null,null,null,null,null,null,null,null,null,null,null,null,null,null,null,null,null,null,0,0]
[294,null,null,null,null,null,null,null,null,null,null,null,null,null,null,null,null,null,null,null,null,null,null,null,null,null,null,null,null,null,null,null,null,null,null,null,null,null,null,null,null,null,null,null,null,null,null,null,null,null,null,null,null,null,null,null,null,null,null,null,null,null,0,0]
[295,null,null,null,null,null,null,null,null,null,null,null,null,null,null,null,null,null,null,null,null,null,null,null,null,null,null,null,null,null,null,null,null,null,null,null,null,null,null,null,null,null,null,null,null,null,null,null,null,null,null,null,null,null,null,null,null,null,null,null,null,null,0,0]
[296,null,null,null,null,null,null,null,null,null,null,null,null,null,null,null,null,null,null,null,null,null,null,null,null,null,null,null,null,null,null,null,null,null,null,null,null,null,null,null,null,null,null,null,null,null,null,null,null,null,null,null,null,null,null,null,null,null,null,null,null,null,0,0]
[{"$f":"+A349+1","v":297},null,null,null,null,null,null,null,null,null,null,null,null,null,null,null,null,null,null,null,null,null,null,null,null,null,null,null,null,null,null,null,null,null,null,null,null,null,null,null,null,null,null,null,null,null,null,null,null,null,null,null,null,null,null,null,null,null,null,null,null,null,0,0]
[298,null,null,null,null,null,null,null,null,null,null,null,null,null,null,null,null,null,null,null,null,null,null,null,null,null,null,null,null,null,null,null,null,null,null,null,null,null,null,null,null,null,null,null,null,null,null,null,null,null,null,null,null,null,null,null,null,null,null,null,null,null,0,0]
[299,null,null,null,null,null,null,null,null,null,null,null,null,null,null,null,null,null,null,null,null,null,null,null,null,null,null,null,null,null,null,null,null,null,null,null,null,null,null,null,null,null,null,null,null,null,null,null,null,null,null,null,null,null,null,null,null,null,null,null,null,null,0,0]
[300,null,null,null,null,null,null,null,null,null,null,null,null,null,null,null,null,null,null,null,null,null,null,null,null,null,null,null,null,null,null,null,null,null,null,null,null,null,null,null,null,null,null,null,null,null,null,null,null,null,null,null,null,null,null,null,null,null,null,null,null,null,0,{"$f":"COUNT(C353:BH353)/2","v":0}]
[301,null,null,null,null,null,null,null,null,null,null,null,null,null,null,null,null,null,null,null,null,null,null,null,null,null,null,null,null,null,null,null,null,null,null,null,null,null,null,null,null,null,null,null,null,null,null,null,null,null,null,null,null,null,null,null,null,null,null,null,null,null,0,0]
[302,null,null,null,null,null,null,null,null,null,null,null,null,null,null,null,null,null,null,null,null,null,null,null,null,null,null,null,null,null,null,null,null,null,null,null,null,null,null,null,null,null,null,null,null,null,null,null,null,null,null,null,null,null,null,null,null,null,null,null,null,null,0,0]
[303,null,null,null,null,null,null,null,null,null,null,null,null,null,null,null,null,null,null,null,null,null,null,null,null,null,null,null,null,null,null,null,null,null,null,null,null,null,null,null,null,null,null,null,null,null,null,null,null,null,null,null,null,null,null,null,null,null,null,null,null,null,0,0]
[304,null,null,null,null,null,null,null,null,null,null,null,null,null,null,null,null,null,null,null,null,null,null,null,null,null,null,null,null,null,null,null,null,null,null,null,null,null,null,null,null,null,null,null,null,null,null,null,null,null,null,null,null,null,null,null,null,null,null,null,null,null,0,0]
[305,null,null,null,null,null,null,null,null,null,null,null,null,null,null,null,null,null,null,null,null,null,null,null,null,null,null,null,null,null,null,null,null,null,null,null,null,null,null,null,null,null,null,null,null,null,null,null,null,null,null,null,null,null,null,null,null,null,null,null,null,null,0,0]
[306,null,null,null,null,null,null,null,null,null,null,null,null,null,null,null,null,null,null,null,null,null,null,null,null,null,null,null,null,null,null,null,null,null,null,null,null,null,null,null,null,null,null,null,null,null,null,null,null,null,null,null,null,null,null,null,null,null,null,null,null,null,0,0]
[307,null,null,null,null,null,null,null,null,null,null,null,null,null,null,null,null,null,null,null,null,null,null,null,null,null,null,null,null,null,null,null,null,null,null,null,null,null,null,null,null,null,null,null,null,null,null,null,null,null,null,null,null,null,null,null,null,null,null,null,null,null,0,0]
[308,null,null,null,null,null,null,null,null,null,null,null,null,null,null,null,null,null,null,null,null,null,null,null,null,null,null,null,null,null,null,null,null,null,null,null,null,null,null,null,null,null,null,null,null,null,null,null,null,null,null,null,null,null,null,null,null,null,null,null,null,null,0,0]
[309,null,null,null,null,null,null,null,null,null,null,null,null,null,null,null,null,null,null,null,null,null,null,null,null,null,null,null,null,null,null,null,null,null,null,null,null,null,null,null,null,null,null,null,null,null,null,null,null,null,null,null,null,null,null,null,null,null,null,null,null,null,0,0]
[310,null,null,null,null,null,null,null,null,null,null,null,null,null,null,null,null,null,null,null,null,null,null,null,null,null,null,null,null,null,null,null,null,null,null,null,null,null,null,null,null,null,null,null,null,null,null,null,null,null,null,null,null,null,null,null,null,null,null,null,null,null,0,0]
[311,null,null,null,null,null,null,null,null,null,null,null,null,null,null,null,null,null,null,null,null,null,null,null,null,null,null,null,null,null,null,null,null,null,null,null,null,null,null,null,null,null,null,null,null,null,null,null,null,null,null,null,null,null,null,null,null,null,null,null,null,null,0,0]
[312,null,null,null,null,null,null,null,null,null,null,null,null,null,null,null,null,null,null,null,null,null,null,null,null,null,null,null,null,null,null,null,null,null,null,null,null,null,null,null,null,null,null,null,null,null,null,null,null,null,null,null,null,null,null,null,null,null,null,null,null,null,0,0]
[313,null,null,null,null,null,null,null,null,null,null,null,null,null,null,null,null,null,null,null,null,null,null,null,null,null,null,null,null,null,null,null,null,null,null,null,null,null,null,null,null,null,null,null,null,null,null,null,null,null,null,null,null,null,null,null,null,null,null,null,null,null,0,0]
[314,null,null,null,null,null,null,null,null,null,null,null,null,null,null,null,null,null,null,null,null,null,null,null,null,null,null,null,null,null,null,null,null,null,null,null,null,null,null,null,null,null,null,null,null,null,null,null,null,null,null,null,null,null,null,null,null,null,null,null,null,null,0,0]
[315,null,null,null,null,null,null,null,null,null,null,null,null,null,null,null,null,null,null,null,null,null,null,null,null,null,null,null,null,null,null,null,null,null,null,null,null,null,null,null,null,null,null,null,null,null,null,null,null,null,null,null,null,null,null,null,null,null,null,null,null,null,0,0]
[316,null,null,null,null,null,null,null,null,null,null,null,null,null,null,null,null,null,null,null,null,null,null,null,null,null,null,null,null,null,null,null,null,null,null,null,null,null,null,null,null,null,null,null,null,null,null,null,null,null,null,null,null,null,null,null,null,null,null,null,null,null,0,0]
[317,null,null,null,null,null,null,null,null,null,null,null,null,null,null,null,null,null,null,null,null,null,null,null,null,null,null,null,null,null,null,null,null,null,null,null,null,null,null,null,null,null,null,null,null,null,null,null,null,null,null,null,null,null,null,null,null,null,null,null,null,null,0,0]
[318,null,null,null,null,null,null,null,null,null,null,null,null,null,null,null,null,null,null,null,null,null,null,null,null,null,null,null,null,null,null,null,null,null,null,null,null,null,null,null,null,null,null,null,null,null,null,null,null,null,null,null,null,null,null,null,null,null,null,null,null,null,0,0]
[319,null,null,null,null,null,null,null,null,null,null,null,null,null,null,null,null,null,null,null,null,null,null,null,null,null,null,null,null,null,null,null,null,null,null,null,null,null,null,null,null,null,null,null,null,null,null,null,null,null,null,null,null,null,null,null,null,null,null,null,null,null,0,0]
[320,null,null,null,null,null,null,null,null,null,null,null,null,null,null,null,null,null,null,null,null,null,null,null,null,null,null,null,null,null,null,null,null,null,null,null,null,null,null,null,null,null,null,null,null,null,null,null,null,null,null,null,null,null,null,null,null,null,null,null,null,null,0,0]
[321,null,null,null,null,null,null,null,null,null,null,null,null,null,null,null,null,null,null,null,null,null,null,null,null,null,null,null,null,null,null,null,null,null,null,null,null,null,null,null,null,null,null,null,null,null,null,null,null,null,null,null,null,null,null,null,null,null,null,null,null,null,{"$f":"+AI374+AE374+Y374+W374+U374+S374+Q374+O374+M374+I374+G374+E374+C374+AG374+K374+BG374+BN374+AA374+AC374+AK374+AM374+AO374+AW374","v":0},0]
[322,null,null,null,null,null,null,null,null,null,null,null,null,null,null,null,null,null,null,null,null,null,null,null,null,null,null,null,null,null,null,null,null,null,null,null,null,null,null,null,null,null,null,null,null,null,null,null,null,null,null,null,null,null,null,null,null,null,null,null,null,null,0,0]
[323,null,null,null,null,null,null,null,null,null,null,null,null,null,null,null,null,null,null,null,null,null,null,null,null,null,null,null,null,null,null,null,null,null,null,null,null,null,null,null,null,null,null,null,null,null,null,null,null,null,null,null,null,null,null,null,null,null,null,null,null,null,0,0]
[324,null,null,null,null,null,null,null,null,null,null,null,null,null,null,null,null,null,null,null,null,null,null,null,null,null,null,null,null,null,null,null,null,null,null,null,null,null,null,null,null,null,null,null,null,null,null,null,null,null,null,null,null,null,null,null,null,null,null,null,null,null,0,0]
[325,null,null,null,null,null,null,null,null,null,null,null,null,null,null,null,null,null,null,null,null,null,null,null,null,null,null,null,null,null,null,null,null,null,null,null,null,null,null,null,null,null,null,null,null,null,null,null,null,null,null,null,null,null,null,null,null,null,null,null,null,null,0,0]
[326,null,null,null,null,null,null,null,null,null,null,null,null,null,null,null,null,null,null,null,null,null,null,null,null,null,null,null,null,null,null,null,null,null,null,null,null,null,null,null,null,null,null,null,null,null,null,null,null,null,null,null,null,null,null,null,null,null,null,null,null,null,0,0]
[327,null,null,null,null,null,null,null,null,null,null,null,null,null,null,null,null,null,null,null,null,null,null,null,null,null,null,null,null,null,null,null,null,null,null,null,null,null,null,null,null,null,null,null,null,null,null,null,null,null,null,null,null,null,null,null,null,null,null,null,null,null,0,0]
[328,null,null,null,null,null,null,null,null,null,null,null,null,null,null,null,null,null,null,null,null,null,null,null,null,null,null,null,null,null,null,null,null,null,null,null,null,null,null,null,null,null,null,null,null,null,null,null,null,null,null,null,null,null,null,null,null,null,null,null,null,null,0,0]
[329,null,null,null,null,null,null,null,null,null,null,null,null,null,null,null,null,null,null,null,null,null,null,null,null,null,null,null,null,null,null,null,null,null,null,null,null,null,null,null,null,null,null,null,null,null,null,null,null,null,null,null,null,null,null,null,null,null,null,null,null,null,0,0]
[330,null,null,null,null,null,null,null,null,null,null,null,null,null,null,null,null,null,null,null,null,null,null,null,null,null,null,null,null,null,null,null,null,null,null,null,null,null,null,null,null,null,null,null,null,null,null,null,null,null,null,null,null,null,null,null,null,null,null,null,null,null,0,0]
[331,null,null,null,null,null,null,null,null,null,null,null,null,null,null,null,null,null,null,null,null,null,null,null,null,null,null,null,null,null,null,null,null,null,null,null,null,null,null,null,null,null,null,null,null,null,null,null,null,null,null,null,null,null,null,null,null,null,null,null,null,null,0,0]
[332,null,null,null,null,null,null,null,null,null,null,null,null,null,null,null,null,null,null,null,null,null,null,null,null,null,null,null,null,null,null,null,null,null,null,null,null,null,null,null,null,null,null,null,null,null,null,null,null,null,null,null,null,null,null,null,null,null,null,null,null,null,0,0]
[333,null,null,null,null,null,null,null,null,null,null,null,null,null,null,null,null,null,null,null,null,null,null,null,null,null,null,null,null,null,null,null,null,null,null,null,null,null,null,null,null,null,null,null,null,null,null,null,null,null,null,null,null,null,null,null,null,null,null,null,null,null,0,0]
[334,null,null,null,null,null,null,null,null,null,null,null,null,null,null,null,null,null,null,null,null,null,null,null,null,null,null,null,null,null,null,null,null,null,null,null,null,null,null,null,null,null,null,null,null,null,null,null,null,null,null,null,null,null,null,null,null,null,null,null,null,null,0,0]
[335,null,null,null,null,null,null,null,null,null,null,null,null,null,null,null,null,null,null,null,null,null,null,null,null,null,null,null,null,null,null,null,null,null,null,null,null,null,null,null,null,null,null,null,null,null,null,null,null,null,null,null,null,null,null,null,null,null,null,null,null,null,0,0]
[336,null,null,null,null,null,null,null,null,null,null,null,null,null,null,null,null,null,null,null,null,null,null,null,null,null,null,null,null,null,null,null,null,null,null,null,null,null,null,null,null,null,null,null,null,null,null,null,null,null,null,null,null,null,null,null,null,null,null,null,null,null,0,0]
[337,null,null,null,null,null,null,null,null,null,null,null,null,null,null,null,null,null,null,null,null,null,null,null,null,null,null,null,null,null,null,null,null,null,null,null,null,null,null,null,null,null,null,null,null,null,null,null,null,null,null,null,null,null,null,null,null,null,null,null,null,null,0,0]
[338,null,null,null,null,null,null,null,null,null,null,null,null,null,null,null,null,null,null,null,null,null,null,null,null,null,null,null,null,null,null,null,null,null,null,null,null,null,null,null,null,null,null,null,null,null,null,null,null,null,null,null,null,null,null,null,null,null,null,null,null,null,0,0]
[339,null,null,null,null,null,null,null,null,null,null,null,null,null,null,null,null,null,null,null,null,null,null,null,null,null,null,null,null,null,null,null,null,null,null,null,null,null,null,null,null,null,null,null,null,null,null,null,null,null,null,null,null,null,null,null,null,null,null,null,null,null,0,0]
[340,null,null,null,null,null,null,null,null,null,null,null,null,null,null,null,null,null,null,null,null,null,null,null,null,null,null,null,null,null,null,null,null,null,null,null,null,null,null,null,null,null,null,null,null,null,null,null,null,null,null,null,null,null,null,null,null,null,null,null,null,null,0,0]
[341,null,null,null,null,null,null,null,null,null,null,null,null,null,null,null,null,null,null,null,null,null,null,null,null,null,null,null,null,null,null,null,null,null,null,null,null,null,null,null,null,null,null,null,null,null,null,null,null,null,null,null,null,null,null,null,null,null,null,null,null,null,0,0]
[342,null,null,null,null,null,null,null,null,null,null,null,null,null,null,null,null,null,null,null,null,null,null,null,null,null,null,null,null,null,null,null,null,null,null,null,null,null,null,null,null,null,null,null,null,null,null,null,null,null,null,null,null,null,null,null,null,null,null,null,null,null,0,0]
[343,null,null,null,null,null,null,null,null,null,null,null,null,null,null,null,null,null,null,null,null,null,null,null,null,null,null,null,null,null,null,null,null,null,null,null,null,null,null,null,null,null,null,null,null,null,null,null,null,null,null,null,null,null,null,null,null,null,null,null,null,null,0,0]
[344,null,null,null,null,null,null,null,null,null,null,null,null,null,null,null,null,null,null,null,null,null,null,null,null,null,null,null,null,null,null,null,null,null,null,null,null,null,null,null,null,null,null,null,null,null,null,null,null,null,null,null,null,null,null,null,null,null,null,null,null,null,0,0]
[345,null,null,null,null,null,null,null,null,null,null,null,null,null,null,null,null,null,null,null,null,null,null,null,null,null,null,null,null,null,null,null,null,null,null,null,null,null,null,null,null,null,null,null,null,null,null,null,null,null,null,null,null,null,null,null,null,null,null,null,null,null,0,0]
[346,null,null,null,null,null,null,null,null,null,null,null,null,null,null,null,null,null,null,null,null,null,null,null,null,null,null,null,null,null,null,null,null,null,null,null,null,null,null,null,null,null,null,null,null,null,null,null,null,null,null,null,null,null,null,null,null,null,null,null,null,null,0,0]
[347,null,null,null,null,null,null,null,null,null,null,null,null,null,null,null,null,null,null,null,null,null,null,null,null,null,null,null,null,null,null,null,null,null,null,null,null,null,null,null,null,null,null,null,null,null,null,null,null,null,null,null,null,null,null,null,null,null,null,null,null,null,0,0]
[348,null,null,null,null,null,null,null,null,null,null,null,null,null,null,null,null,null,null,null,null,null,null,null,null,null,null,null,null,null,null,null,null,null,null,null,null,null,null,null,null,null,null,null,null,null,null,null,null,null,null,null,null,null,null,null,null,null,null,null,null,null,0,0]
[349,null,null,null,null,null,null,null,null,null,null,null,null,null,null,null,null,null,null,null,null,null,null,null,null,null,null,null,null,null,null,null,null,null,null,null,null,null,null,null,null,null,null,null,null,null,null,null,null,null,null,null,null,null,null,null,null,null,null,null,null,null,0,0]
[350,null,null,null,null,null,null,null,null,null,null,null,null,null,null,null,null,null,null,null,null,null,null,null,null,null,null,null,null,null,null,null,null,null,null,null,null,null,null,null,null,null,null,null,null,null,null,null,null,null,null,null,null,null,null,null,null,null,null,null,null,null,0,0]
[351,null,null,null,null,null,null,null,null,null,null,null,null,null,null,null,null,null,null,null,null,null,null,null,null,null,null,null,null,null,null,null,null,null,null,null,null,null,null,null,null,null,null,null,null,null,null,null,null,null,null,null,null,null,null,null,null,null,null,null,null,null,0,0]
[352,null,null,null,null,null,null,null,null,null,null,null,null,null,null,null,null,null,null,null,null,null,null,null,null,null,null,null,null,null,null,null,null,null,null,null,null,null,null,null,null,null,null,null,null,null,null,null,null,null,null,null,null,null,null,null,null,null,null,null,null,null,0,0]
[353,null,null,null,null,null,null,null,null,null,null,null,null,null,null,null,null,null,null,null,null,null,null,null,null,null,null,null,null,null,null,null,null,null,null,null,null,null,null,null,null,null,null,null,null,null,null,null,null,null,null,null,null,null,null,null,null,null,null,null,null,null,0,0]
[354,null,null,null,null,null,null,null,null,null,null,null,null,null,null,null,null,null,null,null,null,null,null,null,null,null,null,null,null,null,null,null,null,null,null,null,null,null,null,null,null,null,null,null,null,null,null,null,null,null,null,null,null,null,null,null,null,null,null,null,null,null,0,0]
[355,null,null,null,null,null,null,null,null,null,null,null,null,null,null,null,null,null,null,null,null,null,null,null,null,null,null,null,null,null,null,null,null,null,null,null,null,null,null,null,null,null,null,null,null,null,null,null,null,null,null,null,null,null,null,null,null,null,null,null,null,null,0,0]
[356,null,null,null,null,null,null,null,null,null,null,null,null,null,null,null,null,null,null,null,null,null,null,null,null,null,null,null,null,null,null,null,null,null,null,null,null,null,null,null,null,null,null,null,null,null,null,null,null,null,null,null,null,null,null,null,null,null,null,null,null,null,0,0]
[357,null,null,null,null,null,null,null,null,null,null,null,null,null,null,null,null,null,null,null,null,null,null,null,null,null,null,null,null,null,null,null,null,null,null,null,null,null,null,null,null,null,null,null,null,null,null,null,null,null,null,null,null,null,null,null,null,null,null,null,null,null,0,0]
[358,null,null,null,null,null,null,null,null,null,null,null,null,null,null,null,null,null,null,null,null,null,null,null,null,null,null,null,null,null,null,null,null,null,null,null,null,null,null,null,null,null,null,null,null,null,null,null,null,null,null,null,null,null,null,null,null,null,null,null,null,null,0,0]
[359,null,null,null,null,null,null,null,null,null,null,null,null,null,null,null,null,null,null,null,null,null,null,null,null,null,null,null,null,null,null,null,null,null,null,null,null,null,null,null,null,null,null,null,null,null,null,null,null,null,null,null,null,null,null,null,null,null,null,null,null,null,0,0]
[360,null,null,null,null,null,null,null,null,null,null,null,null,null,null,null,null,null,null,null,null,null,null,null,null,null,null,null,null,null,null,null,null,null,null,null,null,null,null,null,null,null,null,null,null,null,null,null,null,null,null,null,null,null,null,null,null,null,null,null,null,null,0,0]
[{"$f":"+A413+1","v":361},null,null,null,null,null,null,null,null,null,null,null,null,null,null,null,null,null,null,null,null,null,null,null,null,null,null,null,null,null,null,null,null,null,null,null,null,null,null,null,null,null,null,null,null,null,null,null,null,null,null,null,null,null,null,null,null,null,null,null,null,null,0,0]
[362,null,null,null,null,null,null,null,null,null,null,null,null,null,null,null,null,null,null,null,null,null,null,null,null,null,null,null,null,null,null,null,null,null,null,null,null,null,null,null,null,null,null,null,null,null,null,null,null,null,null,null,null,null,null,null,null,null,null,null,null,null,0,0]
[363,null,null,null,null,null,null,null,null,null,null,null,null,null,null,null,null,null,null,null,null,null,null,null,null,null,null,null,null,null,null,null,null,null,null,null,null,null,null,null,null,null,null,null,null,null,null,null,null,null,null,null,null,null,null,null,null,null,null,null,null,null,0,0]
[364,null,null,null,null,null,null,null,null,null,null,null,null,null,null,null,null,null,null,null,null,null,null,null,null,null,null,null,null,null,null,null,null,null,null,null,null,null,null,null,null,null,null,null,null,null,null,null,null,null,null,null,null,null,null,null,null,null,null,null,null,null,0,{"$f":"COUNT(C417:BH417)/2","v":0}]
[365,null,null,null,null,null,null,null,null,null,null,null,null,null,null,null,null,null,null,null,null,null,null,null,null,null,null,null,null,null,null,null,null,null,null,null,null,null,null,null,null,null,null,null,null,null,null,null,null,null,null,null,null,null,null,null,null,null,null,null,null,null,0,0]
[366,null,null,null,null,null,null,null,null,null,null,null,null,null,null,null,null,null,null,null,null,null,null,null,null,null,null,null,null,null,null,null,null,null,null,null,null,null,null,null,null,null,null,null,null,null,null,null,null,null,null,null,null,null,null,null,null,null,null,null,null,null,0,0]
[367,null,null,null,null,null,null,null,null,null,null,null,null,null,null,null,null,null,null,null,null,null,null,null,null,null,null,null,null,null,null,null,null,null,null,null,null,null,null,null,null,null,null,null,null,null,null,null,null,null,null,null,null,null,null,null,null,null,null,null,null,null,0,0]
[368,null,null,null,null,null,null,null,null,null,null,null,null,null,null,null,null,null,null,null,null,null,null,null,null,null,null,null,null,null,null,null,null,null,null,null,null,null,null,null,null,null,null,null,null,null,null,null,null,null,null,null,null,null,null,null,null,null,null,null,null,null,0,0]
[369,null,null,null,null,null,null,null,null,null,null,null,null,null,null,null,null,null,null,null,null,null,null,null,null,null,null,null,null,null,null,null,null,null,null,null,null,null,null,null,null,null,null,null,null,null,null,null,null,null,null,null,null,null,null,null,null,null,null,null,null,null,0,0]
[370,null,null,null,null,null,null,null,null,null,null,null,null,null,null,null,null,null,null,null,null,null,null,null,null,null,null,null,null,null,null,null,null,null,null,null,null,null,null,null,null,null,null,null,null,null,null,null,null,null,null,null,null,null,null,null,null,null,null,null,null,null,0,0]
[371,null,null,null,null,null,null,null,null,null,null,null,null,null,null,null,null,null,null,null,null,null,null,null,null,null,null,null,null,null,null,null,null,null,null,null,null,null,null,null,null,null,null,null,null,null,null,null,null,null,null,null,null,null,null,null,null,null,null,null,null,null,0,0]
[372,null,null,null,null,null,null,null,null,null,null,null,null,null,null,null,null,null,null,null,null,null,null,null,null,null,null,null,null,null,null,null,null,null,null,null,null,null,null,null,null,null,null,null,null,null,null,null,null,null,null,null,null,null,null,null,null,null,null,null,null,null,0,0]
[373,null,null,null,null,null,null,null,null,null,null,null,null,null,null,null,null,null,null,null,null,null,null,null,null,null,null,null,null,null,null,null,null,null,null,null,null,null,null,null,null,null,null,null,null,null,null,null,null,null,null,null,null,null,null,null,null,null,null,null,null,null,0,0]
[374,null,null,null,null,null,null,null,null,null,null,null,null,null,null,null,null,null,null,null,null,null,null,null,null,null,null,null,null,null,null,null,null,null,null,null,null,null,null,null,null,null,null,null,null,null,null,null,null,null,null,null,null,null,null,null,null,null,null,null,null,null,0,0]
[375,null,null,null,null,null,null,null,null,null,null,null,null,null,null,null,null,null,null,null,null,null,null,null,null,null,null,null,null,null,null,null,null,null,null,null,null,null,null,null,null,null,null,null,null,null,null,null,null,null,null,null,null,null,null,null,null,null,null,null,null,null,0,0]
[376,null,null,null,null,null,null,null,null,null,null,null,null,null,null,null,null,null,null,null,null,null,null,null,null,null,null,null,null,null,null,null,null,null,null,null,null,null,null,null,null,null,null,null,null,null,null,null,null,null,null,null,null,null,null,null,null,null,null,null,null,null,0,0]
[377,null,null,null,null,null,null,null,null,null,null,null,null,null,null,null,null,null,null,null,null,null,null,null,null,null,null,null,null,null,null,null,null,null,null,null,null,null,null,null,null,null,null,null,null,null,null,null,null,null,null,null,null,null,null,null,null,null,null,null,null,null,0,0]
[378,null,null,null,null,null,null,null,null,null,null,null,null,null,null,null,null,null,null,null,null,null,null,null,null,null,null,null,null,null,null,null,null,null,null,null,null,null,null,null,null,null,null,null,null,null,null,null,null,null,null,null,null,null,null,null,null,null,null,null,null,null,0,0]
[379,null,null,null,null,null,null,null,null,null,null,null,null,null,null,null,null,null,null,null,null,null,null,null,null,null,null,null,null,null,null,null,null,null,null,null,null,null,null,null,null,null,null,null,null,null,null,null,null,null,null,null,null,null,null,null,null,null,null,null,null,null,0,{"$f":"COUNT(C432:BH432)/2","v":0}]
[380,null,null,null,null,null,null,null,null,null,null,null,null,null,null,null,null,null,null,null,null,null,null,null,null,null,null,null,null,null,null,null,null,null,null,null,null,null,null,null,null,null,null,null,null,null,null,null,null,null,null,null,null,null,null,null,null,null,null,null,null,null,0,0]
[381,null,null,null,null,null,null,null,null,null,null,null,null,null,null,null,null,null,null,null,null,null,null,null,null,null,null,null,null,null,null,null,null,null,null,null,null,null,null,null,null,null,null,null,null,null,null,null,null,null,null,null,null,null,null,null,null,null,null,null,null,null,0,0]
[382,null,null,null,null,null,null,null,null,null,null,null,null,null,null,null,null,null,null,null,null,null,null,null,null,null,null,null,null,null,null,null,null,null,null,null,null,null,null,null,null,null,null,null,null,null,null,null,null,null,null,null,null,null,null,null,null,null,null,null,null,null,0,0]
[383,null,null,null,null,null,null,null,null,null,null,null,null,null,null,null,null,null,null,null,null,null,null,null,null,null,null,null,null,null,null,null,null,null,null,null,null,null,null,null,null,null,null,null,null,null,null,null,null,null,null,null,null,null,null,null,null,null,null,null,null,null,0,0]
[384,null,null,null,null,null,null,null,null,null,null,null,null,null,null,null,null,null,null,null,null,null,null,null,null,null,null,null,null,null,null,null,null,null,null,null,null,null,null,null,null,null,null,null,null,null,null,null,null,null,null,null,null,null,null,null,null,null,null,null,null,null,0,0]
[385,null,null,null,null,null,null,null,null,null,null,null,null,null,null,null,null,null,null,null,null,null,null,null,null,null,null,null,null,null,null,null,null,null,null,null,null,null,null,null,null,null,null,null,null,null,null,null,null,null,null,null,null,null,null,null,null,null,null,null,null,null,{"$f":"+AI438+AE438+Y438+W438+U438+S438+Q438+O438+M438+I438+G438+E438+C438+AG438+K438+BG438+BN438+AA438+AC438+AK438+AM438+AO438+AW438","v":0},0]
[386,null,null,null,null,null,null,null,null,null,null,null,null,null,null,null,null,null,null,null,null,null,null,null,null,null,null,null,null,null,null,null,null,null,null,null,null,null,null,null,null,null,null,null,null,null,null,null,null,null,null,null,null,null,null,null,null,null,null,null,null,null,0,0]
[387,null,null,null,null,null,null,null,null,null,null,null,null,null,null,null,null,null,null,null,null,null,null,null,null,null,null,null,null,null,null,null,null,null,null,null,null,null,null,null,null,null,null,null,null,null,null,null,null,null,null,null,null,null,null,null,null,null,null,null,null,null,0,0]
[388,null,null,null,null,null,null,null,null,null,null,null,null,null,null,null,null,null,null,null,null,null,null,null,null,null,null,null,null,null,null,null,null,null,null,null,null,null,null,null,null,null,null,null,null,null,null,null,null,null,null,null,null,null,null,null,null,null,null,null,null,null,0,0]
[389,null,null,null,null,null,null,null,null,null,null,null,null,null,null,null,null,null,null,null,null,null,null,null,null,null,null,null,null,null,null,null,null,null,null,null,null,null,null,null,null,null,null,null,null,null,null,null,null,null,null,null,null,null,null,null,null,null,null,null,null,null,0,0]
[390,null,null,null,null,null,null,null,null,null,null,null,null,null,null,null,null,null,null,null,null,null,null,null,null,null,null,null,null,null,null,null,null,null,null,null,null,null,null,null,null,null,null,null,null,null,null,null,null,null,null,null,null,null,null,null,null,null,null,null,null,null,0,0]
[391,null,null,null,null,null,null,null,null,null,null,null,null,null,null,null,null,null,null,null,null,null,null,null,null,null,null,null,null,null,null,null,null,null,null,null,null,null,null,null,null,null,null,null,null,null,null,null,null,null,null,null,null,null,null,null,null,null,null,null,null,null,0,{"$f":"COUNT(C444:BH444)/2","v":0}]
[392,null,null,null,null,null,null,null,null,null,null,null,null,null,null,null,null,null,null,null,null,null,null,null,null,null,null,null,null,null,null,null,null,null,null,null,null,null,null,null,null,null,null,null,null,null,null,null,null,null,null,null,null,null,null,null,null,null,null,null,null,null,0,0]
[393,null,null,null,null,null,null,null,null,null,null,null,null,null,null,null,null,null,null,null,null,null,null,null,null,null,null,null,null,null,null,null,null,null,null,null,null,null,null,null,null,null,null,null,null,null,null,null,null,null,null,null,null,null,null,null,null,null,null,null,null,null,0,0]
[394,null,null,null,null,null,null,null,null,null,null,null,null,null,null,null,null,null,null,null,null,null,null,null,null,null,null,null,null,null,null,null,null,null,null,null,null,null,null,null,null,null,null,null,null,null,null,null,null,null,null,null,null,null,null,null,null,null,null,null,null,null,0,0]
[395,null,null,null,null,null,null,null,null,null,null,null,null,null,null,null,null,null,null,null,null,null,null,null,null,null,null,null,null,null,null,null,null,null,null,null,null,null,null,null,null,null,null,null,null,null,null,null,null,null,null,null,null,null,null,null,null,null,null,null,null,null,0,0]
[396,null,null,null,null,null,null,null,null,null,null,null,null,null,null,null,null,null,null,null,null,null,null,null,null,null,null,null,null,null,null,null,null,null,null,null,null,null,null,null,null,null,null,null,null,null,null,null,null,null,null,null,null,null,null,null,null,null,null,null,null,null,0,0]
[397,null,null,null,null,null,null,null,null,null,null,null,null,null,null,null,null,null,null,null,null,null,null,null,null,null,null,null,null,null,null,null,null,null,null,null,null,null,null,null,null,null,null,null,null,null,null,null,null,null,null,null,null,null,null,null,null,null,null,null,null,null,0,0]
[398,null,null,null,null,null,null,null,null,null,null,null,null,null,null,null,null,null,null,null,null,null,null,null,null,null,null,null,null,null,null,null,null,null,null,null,null,null,null,null,null,null,null,null,null,null,null,null,null,null,null,null,null,null,null,null,null,null,null,null,null,null,0,0]
[399,null,null,null,null,null,null,null,null,null,null,null,null,null,null,null,null,null,null,null,null,null,null,null,null,null,null,null,null,null,null,null,null,null,null,null,null,null,null,null,null,null,null,null,null,null,null,null,null,null,null,null,null,null,null,null,null,null,null,null,null,null,0,0]
[400,null,null,null,null,null,null,null,null,null,null,null,null,null,null,null,null,null,null,null,null,null,null,null,null,null,null,null,null,null,null,null,null,null,null,null,null,null,null,null,null,null,null,null,null,null,null,null,null,null,null,null,null,null,null,null,null,null,null,null,null,null,0,0]
[401,null,null,null,null,null,null,null,null,null,null,null,null,null,null,null,null,null,null,null,null,null,null,null,null,null,null,null,null,null,null,null,null,null,null,null,null,null,null,null,null,null,null,null,null,null,null,null,null,null,null,null,null,null,null,null,null,null,null,null,null,null,0,0]
[402,null,null,null,null,null,null,null,null,null,null,null,null,null,null,null,null,null,null,null,null,null,null,null,null,null,null,null,null,null,null,null,null,null,null,null,null,null,null,null,null,null,null,null,null,null,null,null,null,null,null,null,null,null,null,null,null,null,null,null,null,null,0,0]
[403,null,null,null,null,null,null,null,null,null,null,null,null,null,null,null,null,null,null,null,null,null,null,null,null,null,null,null,null,null,null,null,null,null,null,null,null,null,null,null,null,null,null,null,null,null,null,null,null,null,null,null,null,null,null,null,null,null,null,null,null,null,0,0]
[404,null,null,null,null,null,null,null,null,null,null,null,null,null,null,null,null,null,null,null,null,null,null,null,null,null,null,null,null,null,null,null,null,null,null,null,null,null,null,null,null,null,null,null,null,null,null,null,null,null,null,null,null,null,null,null,null,null,null,null,null,null,0,0]
[405,null,null,null,null,null,null,null,null,null,null,null,null,null,null,null,null,null,null,null,null,null,null,null,null,null,null,null,null,null,null,null,null,null,null,null,null,null,null,null,null,null,null,null,null,null,null,null,null,null,null,null,null,null,null,null,null,null,null,null,null,null,0,0]
[406,null,null,null,null,null,null,null,null,null,null,null,null,null,null,null,null,null,null,null,null,null,null,null,null,null,null,null,null,null,null,null,null,null,null,null,null,null,null,null,null,null,null,null,null,null,null,null,null,null,null,null,null,null,null,null,null,null,null,null,null,null,0,0]
[407,null,null,null,null,null,null,null,null,null,null,null,null,null,null,null,null,null,null,null,null,null,null,null,null,null,null,null,null,null,null,null,null,null,null,null,null,null,null,null,null,null,null,null,null,null,null,null,null,null,null,null,null,null,null,null,null,null,null,null,null,null,0,0]
[408,null,null,null,null,null,null,null,null,null,null,null,null,null,null,null,null,null,null,null,null,null,null,null,null,null,null,null,null,null,null,null,null,null,null,null,null,null,null,null,null,null,null,null,null,null,null,null,null,null,null,null,null,null,null,null,null,null,null,null,null,null,0,0]
[409,null,null,null,null,null,null,null,null,null,null,null,null,null,null,null,null,null,null,null,null,null,null,null,null,null,null,null,null,null,null,null,null,null,null,null,null,null,null,null,null,null,null,null,null,null,null,null,null,null,null,null,null,null,null,null,null,null,null,null,null,null,0,0]
[410,null,null,null,null,null,null,null,null,null,null,null,null,null,null,null,null,null,null,null,null,null,null,null,null,null,null,null,null,null,null,null,null,null,null,null,null,null,null,null,null,null,null,null,null,null,null,null,null,null,null,null,null,null,null,null,null,null,null,null,null,null,0,0]
[411,null,null,null,null,null,null,null,null,null,null,null,null,null,null,null,null,null,null,null,null,null,null,null,null,null,null,null,null,null,null,null,null,null,null,null,null,null,null,null,null,null,null,null,null,null,null,null,null,null,null,null,null,null,null,null,null,null,null,null,null,null,0,0]
[412,null,null,null,null,null,null,null,null,null,null,null,null,null,null,null,null,null,null,null,null,null,null,null,null,null,null,null,null,null,null,null,null,null,null,null,null,null,null,null,null,null,null,null,null,null,null,null,null,null,null,null,null,null,null,null,null,null,null,null,null,null,0,0]
[413,null,null,null,null,null,null,null,null,null,null,null,null,null,null,null,null,null,null,null,null,null,null,null,null,null,null,null,null,null,null,null,null,null,null,null,null,null,null,null,null,null,null,null,null,null,null,null,null,null,null,null,null,null,null,null,null,null,null,null,null,null,0,0]
[414,null,null,null,null,null,null,null,null,null,null,null,null,null,null,null,null,null,null,null,null,null,null,null,null,null,null,null,null,null,null,null,null,null,null,null,null,null,null,null,null,null,null,null,null,null,null,null,null,null,null,null,null,null,null,null,null,null,null,null,null,null,0,0]
[415,null,null,null,null,null,null,null,null,null,null,null,null,null,null,null,null,null,null,null,null,null,null,null,null,null,null,null,null,null,null,null,null,null,null,null,null,null,null,null,null,null,null,null,null,null,null,null,null,null,null,null,null,null,null,null,null,null,null,null,null,null,0,0]
[416,null,null,null,null,null,null,null,null,null,null,null,null,null,null,null,null,null,null,null,null,null,null,null,null,null,null,null,null,null,null,null,null,null,null,null,null,null,null,null,null,null,null,null,null,null,null,null,null,null,null,null,null,null,null,null,null,null,null,null,null,null,0,0]
[417,null,null,null,null,null,null,null,null,null,null,null,null,null,null,null,null,null,null,null,null,null,null,null,null,null,null,null,null,null,null,null,null,null,null,null,null,null,null,null,null,null,null,null,null,null,null,null,null,null,null,null,null,null,null,null,null,null,null,null,null,null,0,0]
[418,null,null,null,null,null,null,null,null,null,null,null,null,null,null,null,null,null,null,null,null,null,null,null,null,null,null,null,null,null,null,null,null,null,null,null,null,null,null,null,null,null,null,null,null,null,null,null,null,null,null,null,null,null,null,null,null,null,null,null,null,null,0,0]
[419,null,null,null,null,null,null,null,null,null,null,null,null,null,null,null,null,null,null,null,null,null,null,null,null,null,null,null,null,null,null,null,null,null,null,null,null,null,null,null,null,null,null,null,null,null,null,null,null,null,null,null,null,null,null,null,null,null,null,null,null,null,0,0]
[420,null,null,null,null,null,null,null,null,null,null,null,null,null,null,null,null,null,null,null,null,null,null,null,null,null,null,null,null,null,null,null,null,null,null,null,null,null,null,null,null,null,null,null,null,null,null,null,null,null,null,null,null,null,null,null,null,null,null,null,null,null,0,0]
[421,null,null,null,null,null,null,null,null,null,null,null,null,null,null,null,null,null,null,null,null,null,null,null,null,null,null,null,null,null,null,null,null,null,null,null,null,null,null,null,null,null,null,null,null,null,null,null,null,null,null,null,null,null,null,null,null,null,null,null,null,null,0,0]
[422,null,null,null,null,null,null,null,null,null,null,null,null,null,null,null,null,null,null,null,null,null,null,null,null,null,null,null,null,null,null,null,null,null,null,null,null,null,null,null,null,null,null,null,null,null,null,null,null,null,null,null,null,null,null,null,null,null,null,null,null,null,0,0]
[423,null,null,null,null,null,null,null,null,null,null,null,null,null,null,null,null,null,null,null,null,null,null,null,null,null,null,null,null,null,null,null,null,null,null,null,null,null,null,null,null,null,null,null,null,null,null,null,null,null,null,null,null,null,null,null,null,null,null,null,null,null,0,{"$f":"COUNT(C476:BH476)/2","v":0}]
[424,null,null,null,null,null,null,null,null,null,null,null,null,null,null,null,null,null,null,null,null,null,null,null,null,null,null,null,null,null,null,null,null,null,null,null,null,null,null,null,null,null,null,null,null,null,null,null,null,null,null,null,null,null,null,null,null,null,null,null,null,null,0,0]
[{"$f":"+A477+1","v":425},null,null,null,null,null,null,null,null,null,null,null,null,null,null,null,null,null,null,null,null,null,null,null,null,null,null,null,null,null,null,null,null,null,null,null,null,null,null,null,null,null,null,null,null,null,null,null,null,null,null,null,null,null,null,null,null,null,null,null,null,null,0,0]
[426,null,null,null,null,null,null,null,null,null,null,null,null,null,null,null,null,null,null,null,null,null,null,null,null,null,null,null,null,null,null,null,null,null,null,null,null,null,null,null,null,null,null,null,null,null,null,null,null,null,null,null,null,null,null,null,null,null,null,null,null,null,0,0]
[427,null,null,null,null,null,null,null,null,null,null,null,null,null,null,null,null,null,null,null,null,null,null,null,null,null,null,null,null,null,null,null,null,null,null,null,null,null,null,null,null,null,null,null,null,null,null,null,null,null,null,null,null,null,null,null,null,null,null,null,null,null,0,0]
[428,null,null,null,null,null,null,null,null,null,null,null,null,null,null,null,null,null,null,null,null,null,null,null,null,null,null,null,null,null,null,null,null,null,null,null,null,null,null,null,null,null,null,null,null,null,null,null,null,null,null,null,null,null,null,null,null,null,null,null,null,null,0,0]
[429,null,null,null,null,null,null,null,null,null,null,null,null,null,null,null,null,null,null,null,null,null,null,null,null,null,null,null,null,null,null,null,null,null,null,null,null,null,null,null,null,null,null,null,null,null,null,null,null,null,null,null,null,null,null,null,null,null,null,null,null,null,0,0]
[430,null,null,null,null,null,null,null,null,null,null,null,null,null,null,null,null,null,null,null,null,null,null,null,null,null,null,null,null,null,null,null,null,null,null,null,null,null,null,null,null,null,null,null,null,null,null,null,null,null,null,null,null,null,null,null,null,null,null,null,null,null,0,0]
[431,null,null,null,null,null,null,null,null,null,null,null,null,null,null,null,null,null,null,null,null,null,null,null,null,null,null,null,null,null,null,null,null,null,null,null,null,null,null,null,null,null,null,null,null,null,null,null,null,null,null,null,null,null,null,null,null,null,null,null,null,null,0,0]
[432,null,null,null,null,null,null,null,null,null,null,null,null,null,null,null,null,null,null,null,null,null,null,null,null,null,null,null,null,null,null,null,null,null,null,null,null,null,null,null,null,null,null,null,null,null,null,null,null,null,null,null,null,null,null,null,null,null,null,null,null,null,0,0]
[433,null,null,null,null,null,null,null,null,null,null,null,null,null,null,null,null,null,null,null,null,null,null,null,null,null,null,null,null,null,null,null,null,null,null,null,null,null,null,null,null,null,null,null,null,null,null,null,null,null,null,null,null,null,null,null,null,null,null,null,null,null,0,0]
[434,null,null,null,null,null,null,null,null,null,null,null,null,null,null,null,null,null,null,null,null,null,null,null,null,null,null,null,null,null,null,null,null,null,null,null,null,null,null,null,null,null,null,null,null,null,null,null,null,null,null,null,null,null,null,null,null,null,null,null,null,null,0,{"$f":"COUNT(C487:BH487)/2","v":0}]
[435,null,null,null,null,null,null,null,null,null,null,null,null,null,null,null,null,null,null,null,null,null,null,null,null,null,null,null,null,null,null,null,null,null,null,null,null,null,null,null,null,null,null,null,null,null,null,null,null,null,null,null,null,null,null,null,null,null,null,null,null,null,0,0]
[436,null,null,null,null,null,null,null,null,null,null,null,null,null,null,null,null,null,null,null,null,null,null,null,null,null,null,null,null,null,null,null,null,null,null,null,null,null,null,null,null,null,null,null,null,null,null,null,null,null,null,null,null,null,null,null,null,null,null,null,null,null,0,0]
[437,null,null,null,null,null,null,null,null,null,null,null,null,null,null,null,null,null,null,null,null,null,null,null,null,null,null,null,null,null,null,null,null,null,null,null,null,null,null,null,null,null,null,null,null,null,null,null,null,null,null,null,null,null,null,null,null,null,null,null,null,null,0,0]
[438,null,null,null,null,null,null,null,null,null,null,null,null,null,null,null,null,null,null,null,null,null,null,null,null,null,null,null,null,null,null,null,null,null,null,null,null,null,null,null,null,null,null,null,null,null,null,null,null,null,null,null,null,null,null,null,null,null,null,null,null,null,0,0]
[439,null,null,null,null,null,null,null,null,null,null,null,null,null,null,null,null,null,null,null,null,null,null,null,null,null,null,null,null,null,null,null,null,null,null,null,null,null,null,null,null,null,null,null,null,null,null,null,null,null,null,null,null,null,null,null,null,null,null,null,null,null,0,0]
[440,null,null,null,null,null,null,null,null,null,null,null,null,null,null,null,null,null,null,null,null,null,null,null,null,null,null,null,null,null,null,null,null,null,null,null,null,null,null,null,null,null,null,null,null,null,null,null,null,null,null,null,null,null,null,null,null,null,null,null,null,null,0,0]
[441,null,null,null,null,null,null,null,null,null,null,null,null,null,null,null,null,null,null,null,null,null,null,null,null,null,null,null,null,null,null,null,null,null,null,null,null,null,null,null,null,null,null,null,null,null,null,null,null,null,null,null,null,null,null,null,null,null,null,null,null,null,0,0]
[442,null,null,null,null,null,null,null,null,null,null,null,null,null,null,null,null,null,null,null,null,null,null,null,null,null,null,null,null,null,null,null,null,null,null,null,null,null,null,null,null,null,null,null,null,null,null,null,null,null,null,null,null,null,null,null,null,null,null,null,null,null,0,0]
[443,null,null,null,null,null,null,null,null,null,null,null,null,null,null,null,null,null,null,null,null,null,null,null,null,null,null,null,null,null,null,null,null,null,null,null,null,null,null,null,null,null,null,null,null,null,null,null,null,null,null,null,null,null,null,null,null,null,null,null,null,null,0,0]
[444,null,null,null,null,null,null,null,null,null,null,null,null,null,null,null,null,null,null,null,null,null,null,null,null,null,null,null,null,null,null,null,null,null,null,null,null,null,null,null,null,null,null,null,null,null,null,null,null,null,null,null,null,null,null,null,null,null,null,null,null,null,0,0]
[445,null,null,null,null,null,null,null,null,null,null,null,null,null,null,null,null,null,null,null,null,null,null,null,null,null,null,null,null,null,null,null,null,null,null,null,null,null,null,null,null,null,null,null,null,null,null,null,null,null,null,null,null,null,null,null,null,null,null,null,null,null,0,0]
[446,null,null,null,null,null,null,null,null,null,null,null,null,null,null,null,null,null,null,null,null,null,null,null,null,null,null,null,null,null,null,null,null,null,null,null,null,null,null,null,null,null,null,null,null,null,null,null,null,null,null,null,null,null,null,null,null,null,null,null,null,null,0,0]
[447,null,null,null,null,null,null,null,null,null,null,null,null,null,null,null,null,null,null,null,null,null,null,null,null,null,null,null,null,null,null,null,null,null,null,null,null,null,null,null,null,null,null,null,null,null,null,null,null,null,null,null,null,null,null,null,null,null,null,null,null,null,0,0]
[448,null,null,null,null,null,null,null,null,null,null,null,null,null,null,null,null,null,null,null,null,null,null,null,null,null,null,null,null,null,null,null,null,null,null,null,null,null,null,null,null,null,null,null,null,null,null,null,null,null,null,null,null,null,null,null,null,null,null,null,null,null,0,0]
[449,null,null,null,null,null,null,null,null,null,null,null,null,null,null,null,null,null,null,null,null,null,null,null,null,null,null,null,null,null,null,null,null,null,null,null,null,null,null,null,null,null,null,null,null,null,null,null,null,null,null,null,null,null,null,null,null,null,null,null,null,null,{"$f":"+AI502+AE502+Y502+W502+U502+S502+Q502+O502+M502+I502+G502+E502+C502+AG502+K502+BG502+BN502+AA502+AC502+AK502+AM502+AO502+AW502","v":0},0]
[450,null,null,null,null,null,null,null,null,null,null,null,null,null,null,null,null,null,null,null,null,null,null,null,null,null,null,null,null,null,null,null,null,null,null,null,null,null,null,null,null,null,null,null,null,null,null,null,null,null,null,null,null,null,null,null,null,null,null,null,null,null,0,0]
[451,null,null,null,null,null,null,null,null,null,null,null,null,null,null,null,null,null,null,null,null,null,null,null,null,null,null,null,null,null,null,null,null,null,null,null,null,null,null,null,null,null,null,null,null,null,null,null,null,null,null,null,null,null,null,null,null,null,null,null,null,null,0,0]
[452,null,null,null,null,null,null,null,null,null,null,null,null,null,null,null,null,null,null,null,null,null,null,null,null,null,null,null,null,null,null,null,null,null,null,null,null,null,null,null,null,null,null,null,null,null,null,null,null,null,null,null,null,null,null,null,null,null,null,null,null,null,0,0]
[453,null,null,null,null,null,null,null,null,null,null,null,null,null,null,null,null,null,null,null,null,null,null,null,null,null,null,null,null,null,null,null,null,null,null,null,null,null,null,null,null,null,null,null,null,null,null,null,null,null,null,null,null,null,null,null,null,null,null,null,null,null,0,0]
[454,null,null,null,null,null,null,null,null,null,null,null,null,null,null,null,null,null,null,null,null,null,null,null,null,null,null,null,null,null,null,null,null,null,null,null,null,null,null,null,null,null,null,null,null,null,null,null,null,null,null,null,null,null,null,null,null,null,null,null,null,null,0,0]
[455,null,null,null,null,null,null,null,null,null,null,null,null,null,null,null,null,null,null,null,null,null,null,null,null,null,null,null,null,null,null,null,null,null,null,null,null,null,null,null,null,null,null,null,null,null,null,null,null,null,null,null,null,null,null,null,null,null,null,null,null,null,0,0]
[456,null,null,null,null,null,null,null,null,null,null,null,null,null,null,null,null,null,null,null,null,null,null,null,null,null,null,null,null,null,null,null,null,null,null,null,null,null,null,null,null,null,null,null,null,null,null,null,null,null,null,null,null,null,null,null,null,null,null,null,null,null,0,{"$f":"COUNT(C509:BH509)/2","v":0}]
[457,null,null,null,null,null,null,null,null,null,null,null,null,null,null,null,null,null,null,null,null,null,null,null,null,null,null,null,null,null,null,null,null,null,null,null,null,null,null,null,null,null,null,null,null,null,null,null,null,null,null,null,null,null,null,null,null,null,null,null,null,null,0,0]
[458,null,null,null,null,null,null,null,null,null,null,null,null,null,null,null,null,null,null,null,null,null,null,null,null,null,null,null,null,null,null,null,null,null,null,null,null,null,null,null,null,null,null,null,null,null,null,null,null,null,null,null,null,null,null,null,null,null,null,null,null,null,0,0]
[459,null,null,null,null,null,null,null,null,null,null,null,null,null,null,null,null,null,null,null,null,null,null,null,null,null,null,null,null,null,null,null,null,null,null,null,null,null,null,null,null,null,null,null,null,null,null,null,null,null,null,null,null,null,null,null,null,null,null,null,null,null,0,0]
[460,null,null,null,null,null,null,null,null,null,null,null,null,null,null,null,null,null,null,null,null,null,null,null,null,null,null,null,null,null,null,null,null,null,null,null,null,null,null,null,null,null,null,null,null,null,null,null,null,null,null,null,null,null,null,null,null,null,null,null,null,null,0,0]
[461,null,null,null,null,null,null,null,null,null,null,null,null,null,null,null,null,null,null,null,null,null,null,null,null,null,null,null,null,null,null,null,null,null,null,null,null,null,null,null,null,null,null,null,null,null,null,null,null,null,null,null,null,null,null,null,null,null,null,null,null,null,0,0]
[462,null,null,null,null,null,null,null,null,null,null,null,null,null,null,null,null,null,null,null,null,null,null,null,null,null,null,null,null,null,null,null,null,null,null,null,null,null,null,null,null,null,null,null,null,null,null,null,null,null,null,null,null,null,null,null,null,null,null,null,null,null,0,0]
[463,null,null,null,null,null,null,null,null,null,null,null,null,null,null,null,null,null,null,null,null,null,null,null,null,null,null,null,null,null,null,null,null,null,null,null,null,null,null,null,null,null,null,null,null,null,null,null,null,null,null,null,null,null,null,null,null,null,null,null,null,null,0,0]
[464,null,null,null,null,null,null,null,null,null,null,null,null,null,null,null,null,null,null,null,null,null,null,null,null,null,null,null,null,null,null,null,null,null,null,null,null,null,null,null,null,null,null,null,null,null,null,null,null,null,null,null,null,null,null,null,null,null,null,null,null,null,0,0]
[465,null,null,null,null,null,null,null,null,null,null,null,null,null,null,null,null,null,null,null,null,null,null,null,null,null,null,null,null,null,null,null,null,null,null,null,null,null,null,null,null,null,null,null,null,null,null,null,null,null,null,null,null,null,null,null,null,null,null,null,null,null,0,0]
[466,null,null,null,null,null,null,null,null,null,null,null,null,null,null,null,null,null,null,null,null,null,null,null,null,null,null,null,null,null,null,null,null,null,null,null,null,null,null,null,null,null,null,null,null,null,null,null,null,null,null,null,null,null,null,null,null,null,null,null,null,null,0,0]
[467,null,null,null,null,null,null,null,null,null,null,null,null,null,null,null,null,null,null,null,null,null,null,null,null,null,null,null,null,null,null,null,null,null,null,null,null,null,null,null,null,null,null,null,null,null,null,null,null,null,null,null,null,null,null,null,null,null,null,null,null,null,0,0]
[468,null,null,null,null,null,null,null,null,null,null,null,null,null,null,null,null,null,null,null,null,null,null,null,null,null,null,null,null,null,null,null,null,null,null,null,null,null,null,null,null,null,null,null,null,null,null,null,null,null,null,null,null,null,null,null,null,null,null,null,null,null,0,0]
[469,null,null,null,null,null,null,null,null,null,null,null,null,null,null,null,null,null,null,null,null,null,null,null,null,null,null,null,null,null,null,null,null,null,null,null,null,null,null,null,null,null,null,null,null,null,null,null,null,null,null,null,null,null,null,null,null,null,null,null,null,null,0,0]
[470,null,null,null,null,null,null,null,null,null,null,null,null,null,null,null,null,null,null,null,null,null,null,null,null,null,null,null,null,null,null,null,null,null,null,null,null,null,null,null,null,null,null,null,null,null,null,null,null,null,null,null,null,null,null,null,null,null,null,null,null,null,0,0]
[471,null,null,null,null,null,null,null,null,null,null,null,null,null,null,null,null,null,null,null,null,null,null,null,null,null,null,null,null,null,null,null,null,null,null,null,null,null,null,null,null,null,null,null,null,null,null,null,null,null,null,null,null,null,null,null,null,null,null,null,null,null,0,0]
[472,null,null,null,null,null,null,null,null,null,null,null,null,null,null,null,null,null,null,null,null,null,null,null,null,null,null,null,null,null,null,null,null,null,null,null,null,null,null,null,null,null,null,null,null,null,null,null,null,null,null,null,null,null,null,null,null,null,null,null,null,null,0,0]
[473,null,null,null,null,null,null,null,null,null,null,null,null,null,null,null,null,null,null,null,null,null,null,null,null,null,null,null,null,null,null,null,null,null,null,null,null,null,null,null,null,null,null,null,null,null,null,null,null,null,null,null,null,null,null,null,null,null,null,null,null,null,0,0]
[474,null,null,null,null,null,null,null,null,null,null,null,null,null,null,null,null,null,null,null,null,null,null,null,null,null,null,null,null,null,null,null,null,null,null,null,null,null,null,null,null,null,null,null,null,null,null,null,null,null,null,null,null,null,null,null,null,null,null,null,null,null,0,0]
[475,null,null,null,null,null,null,null,null,null,null,null,null,null,null,null,null,null,null,null,null,null,null,null,null,null,null,null,null,null,null,null,null,null,null,null,null,null,null,null,null,null,null,null,null,null,null,null,null,null,null,null,null,null,null,null,null,null,null,null,null,null,0,0]
[476,null,null,null,null,null,null,null,null,null,null,null,null,null,null,null,null,null,null,null,null,null,null,null,null,null,null,null,null,null,null,null,null,null,null,null,null,null,null,null,null,null,null,null,null,null,null,null,null,null,null,null,null,null,null,null,null,null,null,null,null,null,0,0]
[477,null,null,null,null,null,null,null,null,null,null,null,null,null,null,null,null,null,null,null,null,null,null,null,null,null,null,null,null,null,null,null,null,null,null,null,null,null,null,null,null,null,null,null,null,null,null,null,null,null,null,null,null,null,null,null,null,null,null,null,null,null,0,0]
[478,null,null,null,null,null,null,null,null,null,null,null,null,null,null,null,null,null,null,null,null,null,null,null,null,null,null,null,null,null,null,null,null,null,null,null,null,null,null,null,null,null,null,null,null,null,null,null,null,null,null,null,null,null,null,null,null,null,null,null,null,null,0,0]
[479,null,null,null,null,null,null,null,null,null,null,null,null,null,null,null,null,null,null,null,null,null,null,null,null,null,null,null,null,null,null,null,null,null,null,null,null,null,null,null,null,null,null,null,null,null,null,null,null,null,null,null,null,null,null,null,null,null,null,null,null,null,0,0]
[480,null,null,null,null,null,null,null,null,null,null,null,null,null,null,null,null,null,null,null,null,null,null,null,null,null,null,null,null,null,null,null,null,null,null,null,null,null,null,null,null,null,null,null,null,null,null,null,null,null,null,null,null,null,null,null,null,null,null,null,null,null,0,0]
[481,null,null,null,null,null,null,null,null,null,null,null,null,null,null,null,null,null,null,null,null,null,null,null,null,null,null,null,null,null,null,null,null,null,null,null,null,null,null,null,null,null,null,null,null,null,null,null,null,null,null,null,null,null,null,null,null,null,null,null,null,null,0,0]
[482,null,null,null,null,null,null,null,null,null,null,null,null,null,null,null,null,null,null,null,null,null,null,null,null,null,null,null,null,null,null,null,null,null,null,null,null,null,null,null,null,null,null,null,null,null,null,null,null,null,null,null,null,null,null,null,null,null,null,null,null,null,0,0]
[483,null,null,null,null,null,null,null,null,null,null,null,null,null,null,null,null,null,null,null,null,null,null,null,null,null,null,null,null,null,null,null,null,null,null,null,null,null,null,null,null,null,null,null,null,null,null,null,null,null,null,null,null,null,null,null,null,null,null,null,null,null,0,0]
[484,null,null,null,null,null,null,null,null,null,null,null,null,null,null,null,null,null,null,null,null,null,null,null,null,null,null,null,null,null,null,null,null,null,null,null,null,null,null,null,null,null,null,null,null,null,null,null,null,null,null,null,null,null,null,null,null,null,null,null,null,null,0,0]
[485,null,null,null,null,null,null,null,null,null,null,null,null,null,null,null,null,null,null,null,null,null,null,null,null,null,null,null,null,null,null,null,null,null,null,null,null,null,null,null,null,null,null,null,null,null,null,null,null,null,null,null,null,null,null,null,null,null,null,null,null,null,0,0]
[486,null,null,null,null,null,null,null,null,null,null,null,null,null,null,null,null,null,null,null,null,null,null,null,null,null,null,null,null,null,null,null,null,null,null,null,null,null,null,null,null,null,null,null,null,null,null,null,null,null,null,null,null,null,null,null,null,null,null,null,null,null,0,0]
[487,null,null,null,null,null,null,null,null,null,null,null,null,null,null,null,null,null,null,null,null,null,null,null,null,null,null,null,null,null,null,null,null,null,null,null,null,null,null,null,null,null,null,null,null,null,null,null,null,null,null,null,null,null,null,null,null,null,null,null,null,null,0,0]
[488,null,null,null,null,null,null,null,null,null,null,null,null,null,null,null,null,null,null,null,null,null,null,null,null,null,null,null,null,null,null,null,null,null,null,null,null,null,null,null,null,null,null,null,null,null,null,null,null,null,null,null,null,null,null,null,null,null,null,null,null,null,0,0]
[{"$f":"+A541+1","v":489},null,null,null,null,null,null,null,null,null,null,null,null,null,null,null,null,null,null,null,null,null,null,null,null,null,null,null,null,null,null,null,null,null,null,null,null,null,null,null,null,null,null,null,null,null,null,null,null,null,null,null,null,null,null,null,null,null,null,null,null,null,0,0]
[490,null,null,null,null,null,null,null,null,null,null,null,null,null,null,null,null,null,null,null,null,null,null,null,null,null,null,null,null,null,null,null,null,null,null,null,null,null,null,null,null,null,null,null,null,null,null,null,null,null,null,null,null,null,null,null,null,null,null,null,null,null,0,0]
[491,null,null,null,null,null,null,null,null,null,null,null,null,null,null,null,null,null,null,null,null,null,null,null,null,null,null,null,null,null,null,null,null,null,null,null,null,null,null,null,null,null,null,null,null,null,null,null,null,null,null,null,null,null,null,null,null,null,null,null,null,null,0,0]
[492,null,null,null,null,null,null,null,null,null,null,null,null,null,null,null,null,null,null,null,null,null,null,null,null,null,null,null,null,null,null,null,null,null,null,null,null,null,null,null,null,null,null,null,null,null,null,null,null,null,null,null,null,null,null,null,null,null,null,null,null,null,0,0]
[493,null,null,null,null,null,null,null,null,null,null,null,null,null,null,null,null,null,null,null,null,null,null,null,null,null,null,null,null,null,null,null,null,null,null,null,null,null,null,null,null,null,null,null,null,null,null,null,null,null,null,null,null,null,null,null,null,null,null,null,null,null,0,0]
[494,null,null,null,null,null,null,null,null,null,null,null,null,null,null,null,null,null,null,null,null,null,null,null,null,null,null,null,null,null,null,null,null,null,null,null,null,null,null,null,null,null,null,null,null,null,null,null,null,null,null,null,null,null,null,null,null,null,null,null,null,null,0,0]
[495,null,null,null,null,null,null,null,null,null,null,null,null,null,null,null,null,null,null,null,null,null,null,null,null,null,null,null,null,null,null,null,null,null,null,null,null,null,null,null,null,null,null,null,null,null,null,null,null,null,null,null,null,null,null,null,null,null,null,null,null,null,0,0]
[496,null,null,null,null,null,null,null,null,null,null,null,null,null,null,null,null,null,null,null,null,null,null,null,null,null,null,null,null,null,null,null,null,null,null,null,null,null,null,null,null,null,null,null,null,null,null,null,null,null,null,null,null,null,null,null,null,null,null,null,null,null,0,0]
[497,null,null,null,null,null,null,null,null,null,null,null,null,null,null,null,null,null,null,null,null,null,null,null,null,null,null,null,null,null,null,null,null,null,null,null,null,null,null,null,null,null,null,null,null,null,null,null,null,null,null,null,null,null,null,null,null,null,null,null,null,null,0,0]
[498,null,null,null,null,null,null,null,null,null,null,null,null,null,null,null,null,null,null,null,null,null,null,null,null,null,null,null,null,null,null,null,null,null,null,null,null,null,null,null,null,null,null,null,null,null,null,null,null,null,null,null,null,null,null,null,null,null,null,null,null,null,0,0]
[499,null,null,null,null,null,null,null,null,null,null,null,null,null,null,null,null,null,null,null,null,null,null,null,null,null,null,null,null,null,null,null,null,null,null,null,null,null,null,null,null,null,null,null,null,null,null,null,null,null,null,null,null,null,null,null,null,null,null,null,null,null,0,0]
[500,null,null,null,null,null,null,null,null,null,null,null,null,null,null,null,null,null,null,null,null,null,null,null,null,null,null,null,null,null,null,null,null,null,null,null,null,null,null,null,null,null,null,null,null,null,null,null,null,null,null,null,null,null,null,null,null,null,null,null,null,null,0,0]
[501,null,null,null,null,null,null,null,null,null,null,null,null,null,null,null,null,null,null,null,null,null,null,null,null,null,null,null,null,null,null,null,null,null,null,null,null,null,null,null,null,null,null,null,null,null,null,null,null,null,null,null,null,null,null,null,null,null,null,null,null,null,0,0]
[502,null,null,null,null,null,null,null,null,null,null,null,null,null,null,null,null,null,null,null,null,null,null,null,null,null,null,null,null,null,null,null,null,null,null,null,null,null,null,null,null,null,null,null,null,null,null,null,null,null,null,null,null,null,null,null,null,null,null,null,null,null,0,0]
[503,null,null,null,null,null,null,null,null,null,null,null,null,null,null,null,null,null,null,null,null,null,null,null,null,null,null,null,null,null,null,null,null,null,null,null,null,null,null,null,null,null,null,null,null,null,null,null,null,null,null,null,null,null,null,null,null,null,null,null,null,null,0,0]
[504,null,null,null,null,null,null,null,null,null,null,null,null,null,null,null,null,null,null,null,null,null,null,null,null,null,null,null,null,null,null,null,null,null,null,null,null,null,null,null,null,null,null,null,null,null,null,null,null,null,null,null,null,null,null,null,null,null,null,null,null,null,0,0]
[505,null,null,null,null,null,null,null,null,null,null,null,null,null,null,null,null,null,null,null,null,null,null,null,null,null,null,null,null,null,null,null,null,null,null,null,null,null,null,null,null,null,null,null,null,null,null,null,null,null,null,null,null,null,null,null,null,null,null,null,null,null,0,0]
[506,null,null,null,null,null,null,null,null,null,null,null,null,null,null,null,null,null,null,null,null,null,null,null,null,null,null,null,null,null,null,null,null,null,null,null,null,null,null,null,null,null,null,null,null,null,null,null,null,null,null,null,null,null,null,null,null,null,null,null,null,null,0,0]
[507,null,null,null,null,null,null,null,null,null,null,null,null,null,null,null,null,null,null,null,null,null,null,null,null,null,null,null,null,null,null,null,null,null,null,null,null,null,null,null,null,null,null,null,null,null,null,null,null,null,null,null,null,null,null,null,null,null,null,null,null,null,0,0]
[508,null,null,null,null,null,null,null,null,null,null,null,null,null,null,null,null,null,null,null,null,null,null,null,null,null,null,null,null,null,null,null,null,null,null,null,null,null,null,null,null,null,null,null,null,null,null,null,null,null,null,null,null,null,null,null,null,null,null,null,null,null,0,0]
[509,null,null,null,null,null,null,null,null,null,null,null,null,null,null,null,null,null,null,null,null,null,null,null,null,null,null,null,null,null,null,null,null,null,null,null,null,null,null,null,null,null,null,null,null,null,null,null,null,null,null,null,null,null,null,null,null,null,null,null,null,null,0,0]
[510,null,null,null,null,null,null,null,null,null,null,null,null,null,null,null,null,null,null,null,null,null,null,null,null,null,null,null,null,null,null,null,null,null,null,null,null,null,null,null,null,null,null,null,null,null,null,null,null,null,null,null,null,null,null,null,null,null,null,null,null,null,0,0]
[511,null,null,null,null,null,null,null,null,null,null,null,null,null,null,null,null,null,null,null,null,null,null,null,null,null,null,null,null,null,null,null,null,null,null,null,null,null,null,null,null,null,null,null,null,null,null,null,null,null,null,null,null,null,null,null,null,null,null,null,null,null,0,0]
[512,null,null,null,null,null,null,null,null,null,null,null,null,null,null,null,null,null,null,null,null,null,null,null,null,null,null,null,null,null,null,null,null,null,null,null,null,null,null,null,null,null,null,null,null,null,null,null,null,null,null,null,null,null,null,null,null,null,null,null,null,null,0,0]
[513,null,null,null,null,null,null,null,null,null,null,null,null,null,null,null,null,null,null,null,null,null,null,null,null,null,null,null,null,null,null,null,null,null,null,null,null,null,null,null,null,null,null,null,null,null,null,null,null,null,null,null,null,null,null,null,null,null,null,null,null,null,{"$f":"+AI566+AE566+Y566+W566+U566+S566+Q566+O566+M566+I566+G566+E566+C566+AG566+K566+BG566+BN566+AA566+AC566+AK566+AM566+AO566+AW566","v":0},0]
[514,null,null,null,null,null,null,null,null,null,null,null,null,null,null,null,null,null,null,null,null,null,null,null,null,null,null,null,null,null,null,null,null,null,null,null,null,null,null,null,null,null,null,null,null,null,null,null,null,null,null,null,null,null,null,null,null,null,null,null,null,null,0,0]
[515,null,null,null,null,null,null,null,null,null,null,null,null,null,null,null,null,null,null,null,null,null,null,null,null,null,null,null,null,null,null,null,null,null,null,null,null,null,null,null,null,null,null,null,null,null,null,null,null,null,null,null,null,null,null,null,null,null,null,null,null,null,0,{"$f":"COUNT(C568:BH568)/2","v":0}]
[516,null,null,null,null,null,null,null,null,null,null,null,null,null,null,null,null,null,null,null,null,null,null,null,null,null,null,null,null,null,null,null,null,null,null,null,null,null,null,null,null,null,null,null,null,null,null,null,null,null,null,null,null,null,null,null,null,null,null,null,null,null,0,0]
[517,null,null,null,null,null,null,null,null,null,null,null,null,null,null,null,null,null,null,null,null,null,null,null,null,null,null,null,null,null,null,null,null,null,null,null,null,null,null,null,null,null,null,null,null,null,null,null,null,null,null,null,null,null,null,null,null,null,null,null,null,null,0,0]
[518,null,null,null,null,null,null,null,null,null,null,null,null,null,null,null,null,null,null,null,null,null,null,null,null,null,null,null,null,null,null,null,null,null,null,null,null,null,null,null,null,null,null,null,null,null,null,null,null,null,null,null,null,null,null,null,null,null,null,null,null,null,0,0]
[519,null,null,null,null,null,null,null,null,null,null,null,null,null,null,null,null,null,null,null,null,null,null,null,null,null,null,null,null,null,null,null,null,null,null,null,null,null,null,null,null,null,null,null,null,null,null,null,null,null,null,null,null,null,null,null,null,null,null,null,null,null,0,0]
[520,null,null,null,null,null,null,null,null,null,null,null,null,null,null,null,null,null,null,null,null,null,null,null,null,null,null,null,null,null,null,null,null,null,null,null,null,null,null,null,null,null,null,null,null,null,null,null,null,null,null,null,null,null,null,null,null,null,null,null,null,null,0,0]
[521,null,null,null,null,null,null,null,null,null,null,null,null,null,null,null,null,null,null,null,null,null,null,null,null,null,null,null,null,null,null,null,null,null,null,null,null,null,null,null,null,null,null,null,null,null,null,null,null,null,null,null,null,null,null,null,null,null,null,null,null,null,0,0]
[522,null,null,null,null,null,null,null,null,null,null,null,null,null,null,null,null,null,null,null,null,null,null,null,null,null,null,null,null,null,null,null,null,null,null,null,null,null,null,null,null,null,null,null,null,null,null,null,null,null,null,null,null,null,null,null,null,null,null,null,null,null,0,0]
[523,null,null,null,null,null,null,null,null,null,null,null,null,null,null,null,null,null,null,null,null,null,null,null,null,null,null,null,null,null,null,null,null,null,null,null,null,null,null,null,null,null,null,null,null,null,null,null,null,null,null,null,null,null,null,null,null,null,null,null,null,null,0,0]
[524,null,null,null,null,null,null,null,null,null,null,null,null,null,null,null,null,null,null,null,null,null,null,null,null,null,null,null,null,null,null,null,null,null,null,null,null,null,null,null,null,null,null,null,null,null,null,null,null,null,null,null,null,null,null,null,null,null,null,null,null,null,0,0]
[525,null,null,null,null,null,null,null,null,null,null,null,null,null,null,null,null,null,null,null,null,null,null,null,null,null,null,null,null,null,null,null,null,null,null,null,null,null,null,null,null,null,null,null,null,null,null,null,null,null,null,null,null,null,null,null,null,null,null,null,null,null,0,0]
[526,null,null,null,null,null,null,null,null,null,null,null,null,null,null,null,null,null,null,null,null,null,null,null,null,null,null,null,null,null,null,null,null,null,null,null,null,null,null,null,null,null,null,null,null,null,null,null,null,null,null,null,null,null,null,null,null,null,null,null,null,null,0,0]
[527,null,null,null,null,null,null,null,null,null,null,null,null,null,null,null,null,null,null,null,null,null,null,null,null,null,null,null,null,null,null,null,null,null,null,null,null,null,null,null,null,null,null,null,null,null,null,null,null,null,null,null,null,null,null,null,null,null,null,null,null,null,0,0]
[528,null,null,null,null,null,null,null,null,null,null,null,null,null,null,null,null,null,null,null,null,null,null,null,null,null,null,null,null,null,null,null,null,null,null,null,null,null,null,null,null,null,null,null,null,null,null,null,null,null,null,null,null,null,null,null,null,null,null,null,null,null,0,0]
[529,null,null,null,null,null,null,null,null,null,null,null,null,null,null,null,null,null,null,null,null,null,null,null,null,null,null,null,null,null,null,null,null,null,null,null,null,null,null,null,null,null,null,null,null,null,null,null,null,null,null,null,null,null,null,null,null,null,null,null,null,null,0,0]
[530,null,null,null,null,null,null,null,null,null,null,null,null,null,null,null,null,null,null,null,null,null,null,null,null,null,null,null,null,null,null,null,null,null,null,null,null,null,null,null,null,null,null,null,null,null,null,null,null,null,null,null,null,null,null,null,null,null,null,null,null,null,0,0]
[531,null,null,null,null,null,null,null,null,null,null,null,null,null,null,null,null,null,null,null,null,null,null,null,null,null,null,null,null,null,null,null,null,null,null,null,null,null,null,null,null,null,null,null,null,null,null,null,null,null,null,null,null,null,null,null,null,null,null,null,null,null,0,{"$f":"COUNT(C584:BH584)/2","v":0}]
[532,null,null,null,null,null,null,null,null,null,null,null,null,null,null,null,null,null,null,null,null,null,null,null,null,null,null,null,null,null,null,null,null,null,null,null,null,null,null,null,null,null,null,null,null,null,null,null,null,null,null,null,null,null,null,null,null,null,null,null,null,null,0,0]
[533,null,null,null,null,null,null,null,null,null,null,null,null,null,null,null,null,null,null,null,null,null,null,null,null,null,null,null,null,null,null,null,null,null,null,null,null,null,null,null,null,null,null,null,null,null,null,null,null,null,null,null,null,null,null,null,null,null,null,null,null,null,0,0]
[534,null,null,null,null,null,null,null,null,null,null,null,null,null,null,null,null,null,null,null,null,null,null,null,null,null,null,null,null,null,null,null,null,null,null,null,null,null,null,null,null,null,null,null,null,null,null,null,null,null,null,null,null,null,null,null,null,null,null,null,null,null,0,0]
[535,null,null,null,null,null,null,null,null,null,null,null,null,null,null,null,null,null,null,null,null,null,null,null,null,null,null,null,null,null,null,null,null,null,null,null,null,null,null,null,null,null,null,null,null,null,null,null,null,null,null,null,null,null,null,null,null,null,null,null,null,null,0,0]
[536,null,null,null,null,null,null,null,null,null,null,null,null,null,null,null,null,null,null,null,null,null,null,null,null,null,null,null,null,null,null,null,null,null,null,null,null,null,null,null,null,null,null,null,null,null,null,null,null,null,null,null,null,null,null,null,null,null,null,null,null,null,0,0]
[537,null,null,null,null,null,null,null,null,null,null,null,null,null,null,null,null,null,null,null,null,null,null,null,null,null,null,null,null,null,null,null,null,null,null,null,null,null,null,null,null,null,null,null,null,null,null,null,null,null,null,null,null,null,null,null,null,null,null,null,null,null,0,0]
[538,null,null,null,null,null,null,null,null,null,null,null,null,null,null,null,null,null,null,null,null,null,null,null,null,null,null,null,null,null,null,null,null,null,null,null,null,null,null,null,null,null,null,null,null,null,null,null,null,null,null,null,null,null,null,null,null,null,null,null,null,null,0,0]
[539,null,null,null,null,null,null,null,null,null,null,null,null,null,null,null,null,null,null,null,null,null,null,null,null,null,null,null,null,null,null,null,null,null,null,null,null,null,null,null,null,null,null,null,null,null,null,null,null,null,null,null,null,null,null,null,null,null,null,null,null,null,0,0]
[540,null,null,null,null,null,null,null,null,null,null,null,null,null,null,null,null,null,null,null,null,null,null,null,null,null,null,null,null,null,null,null,null,null,null,null,null,null,null,null,null,null,null,null,null,null,null,null,null,null,null,null,null,null,null,null,null,null,null,null,null,null,0,0]
[541,null,null,null,null,null,null,null,null,null,null,null,null,null,null,null,null,null,null,null,null,null,null,null,null,null,null,null,null,null,null,null,null,null,null,null,null,null,null,null,null,null,null,null,null,null,null,null,null,null,null,null,null,null,null,null,null,null,null,null,null,null,0,0]
[542,null,null,null,null,null,null,null,null,null,null,null,null,null,null,null,null,null,null,null,null,null,null,null,null,null,null,null,null,null,null,null,null,null,null,null,null,null,null,null,null,null,null,null,null,null,null,null,null,null,null,null,null,null,null,null,null,null,null,null,null,null,0,0]
[543,null,null,null,null,null,null,null,null,null,null,null,null,null,null,null,null,null,null,null,null,null,null,null,null,null,null,null,null,null,null,null,null,null,null,null,null,null,null,null,null,null,null,null,null,null,null,null,null,null,null,null,null,null,null,null,null,null,null,null,null,null,0,0]
[544,null,null,null,null,null,null,null,null,null,null,null,null,null,null,null,null,null,null,null,null,null,null,null,null,null,null,null,null,null,null,null,null,null,null,null,null,null,null,null,null,null,null,null,null,null,null,null,null,null,null,null,null,null,null,null,null,null,null,null,null,null,0,0]
[545,null,null,null,null,null,null,null,null,null,null,null,null,null,null,null,null,null,null,null,null,null,null,null,null,null,null,null,null,null,null,null,null,null,null,null,null,null,null,null,null,null,null,null,null,null,null,null,null,null,null,null,null,null,null,null,null,null,null,null,null,null,0,0]
[546,null,null,null,null,null,null,null,null,null,null,null,null,null,null,null,null,null,null,null,null,null,null,null,null,null,null,null,null,null,null,null,null,null,null,null,null,null,null,null,null,null,null,null,null,null,null,null,null,null,null,null,null,null,null,null,null,null,null,null,null,null,0,0]
[547,null,null,null,null,null,null,null,null,null,null,null,null,null,null,null,null,null,null,null,null,null,null,null,null,null,null,null,null,null,null,null,null,null,null,null,null,null,null,null,null,null,null,null,null,null,null,null,null,null,null,null,null,null,null,null,null,null,null,null,null,null,0,0]
[548,null,null,null,null,null,null,null,null,null,null,null,null,null,null,null,null,null,null,null,null,null,null,null,null,null,null,null,null,null,null,null,null,null,null,null,null,null,null,null,null,null,null,null,null,null,null,null,null,null,null,null,null,null,null,null,null,null,null,null,null,null,0,0]
[549,null,null,null,null,null,null,null,null,null,null,null,null,null,null,null,null,null,null,null,null,null,null,null,null,null,null,null,null,null,null,null,null,null,null,null,null,null,null,null,null,null,null,null,null,null,null,null,null,null,null,null,null,null,null,null,null,null,null,null,null,null,0,0]
[550,null,null,null,null,null,null,null,null,null,null,null,null,null,null,null,null,null,null,null,null,null,null,null,null,null,null,null,null,null,null,null,null,null,null,null,null,null,null,null,null,null,null,null,null,null,null,null,null,null,null,null,null,null,null,null,null,null,null,null,null,null,0,0]
[551,null,null,null,null,null,null,null,null,null,null,null,null,null,null,null,null,null,null,null,null,null,null,null,null,null,null,null,null,null,null,null,null,null,null,null,null,null,null,null,null,null,null,null,null,null,null,null,null,null,null,null,null,null,null,null,null,null,null,null,null,null,0,0]
[552,null,null,null,null,null,null,null,null,null,null,null,null,null,null,null,null,null,null,null,null,null,null,null,null,null,null,null,null,null,null,null,null,null,null,null,null,null,null,null,null,null,null,null,null,null,null,null,null,null,null,null,null,null,null,null,null,null,null,null,null,null,0,0]
[{"$f":"+A605+1","v":553},null,null,null,null,null,null,null,null,null,null,null,null,null,null,null,null,null,null,null,null,null,null,null,null,null,null,null,null,null,null,null,null,null,null,null,null,null,null,null,null,null,null,null,null,null,null,null,null,null,null,null,null,null,null,null,null,null,null,null,null,null,0,0]
[554,null,null,null,null,null,null,null,null,null,null,null,null,null,null,null,null,null,null,null,null,null,null,null,null,null,null,null,null,null,null,null,null,null,null,null,null,null,null,null,null,null,null,null,null,null,null,null,null,null,null,null,null,null,null,null,null,null,null,null,null,null,0,0]
[null,null,null,null,null,null,null,null,null,null,null,null,null,null,null,null,null,null,null,null,null,null,null,null,null,null,null,null,null,null,null,null,null,null,null,null,null,null,null,null,null,null,null,null,null,null,null,null,null,null,null,null,null,null,null,null,null,null,null,null,null,null,0,{"$f":"COUNT(C608:BH608)/2","v":0}]
[null,null,null,null,null,null,null,null,null,null,null,null,null,null,null,null,null,null,null,null,null,null,null,null,null,null,null,null,null,null,null,null,null,null,null,null,null,null,null,null,null,null,null,null,null,null,null,null,null,null,null,null,null,null,null,null,null,null,null,null,null,null,0,0]
[null,null,null,null,null,null,null,null,null,null,null,null,null,null,null,null,null,null,null,null,null,null,null,null,null,null,null,null,null,null,null,null,null,null,null,null,null,null,null,null,null,null,null,null,null,null,null,null,null,null,null,null,null,null,null,null,null,null,null,null,null,null,0,0]
[null,null,null,null,null,null,null,null,null,null,null,null,null,null,null,null,null,null,null,null,null,null,null,null,null,null,null,null,null,null,null,null,null,null,null,null,null,null,null,null,null,null,null,null,null,null,null,null,null,null,null,null,null,null,null,null,null,null,null,null,null,null,0,0]
[null,null,null,null,null,null,null,null,null,null,null,null,null,null,null,null,null,null,null,null,null,null,null,null,null,null,null,null,null,null,null,null,null,null,null,null,null,null,null,null,null,null,null,null,null,null,null,null,null,null,null,null,null,null,null,null,null,null,null,null,null,null,0,0]
[null,null,null,null,null,null,null,null,null,null,null,null,null,null,null,null,null,null,null,null,null,null,null,null,null,null,null,null,null,null,null,null,null,null,null,null,null,null,null,null,null,null,null,null,null,null,null,null,null,null,null,null,null,null,null,null,null,null,null,null,null,null,0,0]
[null,null,null,null,null,null,null,null,null,null,null,null,null,null,null,null,null,null,null,null,null,null,null,null,null,null,null,null,null,null,null,null,null,null,null,null,null,null,null,null,null,null,null,null,null,null,null,null,null,null,null,null,null,null,null,null,null,null,null,null,null,null,0,0]
[null,null,null,null,null,null,null,null,null,null,null,null,null,null,null,null,null,null,null,null,null,null,null,null,null,null,null,null,null,null,null,null,null,null,null,null,null,null,null,null,null,null,null,null,null,null,null,null,null,null,null,null,null,null,null,null,null,null,null,null,null,null,0,0]
[null,null,null,null,null,null,null,null,null,null,null,null,null,null,null,null,null,null,null,null,null,null,null,null,null,null,null,null,null,null,null,null,null,null,null,null,null,null,null,null,null,null,null,null,null,null,null,null,null,null,null,null,null,null,null,null,null,null,null,null,null,null,0,0]
[null,null,null,null,null,null,null,null,null,null,null,null,null,null,null,null,null,null,null,null,null,null,null,null,null,null,null,null,null,null,null,null,null,null,null,null,null,null,null,null,null,null,null,null,null,null,null,null,null,null,null,null,null,null,null,null,null,null,null,null,null,null,0,0]
[null,null,null,null,null,null,null,null,null,null,null,null,null,null,null,null,null,null,null,null,null,null,null,null,null,null,null,null,null,null,null,null,null,null,null,null,null,null,null,null,null,null,null,null,null,null,null,null,null,null,null,null,null,null,null,null,null,null,null,null,null,null,0,0]
[null,null,null,null,null,null,null,null,null,null,null,null,null,null,null,null,null,null,null,null,null,null,null,null,null,null,null,null,null,null,null,null,null,null,null,null,null,null,null,null,null,null,null,null,null,null,null,null,null,null,null,null,null,null,null,null,null,null,null,null,null,null,0,0]
[null,null,null,null,null,null,null,null,null,null,null,null,null,null,null,null,null,null,null,null,null,null,null,null,null,null,null,null,null,null,null,null,null,null,null,null,null,null,null,null,null,null,null,null,null,null,null,null,null,null,null,null,null,null,null,null,null,null,null,null,null,null,0,0]
[null,null,null,null,null,null,null,null,null,null,null,null,null,null,null,null,null,null,null,null,null,null,null,null,null,null,null,null,null,null,null,null,null,null,null,null,null,null,null,null,null,null,null,null,null,null,null,null,null,null,null,null,null,null,null,null,null,null,null,null,null,null,0,0]
[null,null,null,null,null,null,null,null,null,null,null,null,null,null,null,null,null,null,null,null,null,null,null,null,null,null,null,null,null,null,null,null,null,null,null,null,null,null,null,null,null,null,null,null,null,null,null,null,null,null,null,null,null,null,null,null,null,null,null,null,null,null,0,0]
[null,null,null,null,null,null,null,null,null,null,null,null,null,null,null,null,null,null,null,null,null,null,null,null,null,null,null,null,null,null,null,null,null,null,null,null,null,null,null,null,null,null,null,null,null,null,null,null,null,null,null,null,null,null,null,null,null,null,null,null,null,null,0,0]
[null,null,null,null,null,null,null,null,null,null,null,null,null,null,null,null,null,null,null,null,null,null,null,null,null,null,null,null,null,null,null,null,null,null,null,null,null,null,null,null,null,null,null,null,null,null,null,null,null,null,null,null,null,null,null,null,null,null,null,null,null,null,0,0]
[null,null,null,null,null,null,null,null,null,null,null,null,null,null,null,null,null,null,null,null,null,null,null,null,null,null,null,null,null,null,null,null,null,null,null,null,null,null,null,null,null,null,null,null,null,null,null,null,null,null,null,null,null,null,null,null,null,null,null,null,null,null,0,0]
[null,null,null,null,null,null,null,null,null,null,null,null,null,null,null,null,null,null,null,null,null,null,null,null,null,null,null,null,null,null,null,null,null,null,null,null,null,null,null,null,null,null,null,null,null,null,null,null,null,null,null,null,null,null,null,null,null,null,null,null,null,null,0,0]
[null,null,null,null,null,null,null,null,null,null,null,null,null,null,null,null,null,null,null,null,null,null,null,null,null,null,null,null,null,null,null,null,null,null,null,null,null,null,null,null,null,null,null,null,null,null,null,null,null,null,null,null,null,null,null,null,null,null,null,null,null,null,0,0]
[null,null,null,null,null,null,null,null,null,null,null,null,null,null,null,null,null,null,null,null,null,null,null,null,null,null,null,null,null,null,null,null,null,null,null,null,null,null,null,null,null,null,null,null,null,null,null,null,null,null,null,null,null,null,null,null,null,null,null,null,null,null,0,0]
[null,null,null,null,null,null,null,null,null,null,null,null,null,null,null,null,null,null,null,null,null,null,null,null,null,null,null,null,null,null,null,null,null,null,null,null,null,null,null,null,null,null,null,null,null,null,null,null,null,null,null,null,null,null,null,null,null,null,null,null,null,null,0,0]
[null,null,null,null,null,null,null,null,null,null,null,null,null,null,null,null,null,null,null,null,null,null,null,null,null,null,null,null,null,null,null,null,null,null,null,null,null,null,null,null,null,null,null,null,null,null,null,null,null,null,null,null,null,null,null,null,null,null,null,null,null,null,{"$f":"+AI630+AE630+Y630+W630+U630+S630+Q630+O630+M630+I630+G630+E630+C630+AG630+K630+BG630+BN630+AA630+AC630+AK630+AM630+AO630+AW630","v":0},0]
[null,null,null,null,null,null,null,null,null,null,null,null,null,null,null,null,null,null,null,null,null,null,null,null,null,null,null,null,null,null,null,null,null,null,null,null,null,null,null,null,null,null,null,null,null,null,null,null,null,null,null,null,null,null,null,null,null,null,null,null,null,null,0,0]
[null,null,null,null,null,null,null,null,null,null,null,null,null,null,null,null,null,null,null,null,null,null,null,null,null,null,null,null,null,null,null,null,null,null,null,null,null,null,null,null,null,null,null,null,null,null,null,null,null,null,null,null,null,null,null,null,null,null,null,null,null,null,0,0]
[null,null,null,null,null,null,null,null,null,null,null,null,null,null,null,null,null,null,null,null,null,null,null,null,null,null,null,null,null,null,null,null,null,null,null,null,null,null,null,null,null,null,null,null,null,null,null,null,null,null,null,null,null,null,null,null,null,null,null,null,null,null,0,0]
[null,null,null,null,null,null,null,null,null,null,null,null,null,null,null,null,null,null,null,null,null,null,null,null,null,null,null,null,null,null,null,null,null,null,null,null,null,null,null,null,null,null,null,null,null,null,null,null,null,null,null,null,null,null,null,null,null,null,null,null,null,null,0,0]
[null,null,null,null,null,null,null,null,null,null,null,null,null,null,null,null,null,null,null,null,null,null,null,null,null,null,null,null,null,null,null,null,null,null,null,null,null,null,null,null,null,null,null,null,null,null,null,null,null,null,null,null,null,null,null,null,null,null,null,null,null,null,0,0]
[null,null,null,null,null,null,null,null,null,null,null,null,null,null,null,null,null,null,null,null,null,null,null,null,null,null,null,null,null,null,null,null,null,null,null,null,null,null,null,null,null,null,null,null,null,null,null,null,null,null,null,null,null,null,null,null,null,null,null,null,null,null,0,0]
[null,null,null,null,null,null,null,null,null,null,null,null,null,null,null,null,null,null,null,null,null,null,null,null,null,null,null,null,null,null,null,null,null,null,null,null,null,null,null,null,null,null,null,null,null,null,null,null,null,null,null,null,null,null,null,null,null,null,null,null,null,null,0,0]
[null,null,null,null,null,null,null,null,null,null,null,null,null,null,null,null,null,null,null,null,null,null,null,null,null,null,null,null,null,null,null,null,null,null,null,null,null,null,null,null,null,null,null,null,null,null,null,null,null,null,null,null,null,null,null,null,null,null,null,null,null,null,0,0]
[null,null,null,null,null,null,null,null,null,null,null,null,null,null,null,null,null,null,null,null,null,null,null,null,null,null,null,null,null,null,null,null,null,null,null,null,null,null,null,null,null,null,null,null,null,null,null,null,null,null,null,null,null,null,null,null,null,null,null,null,null,null,0,0]
[null,null,null,null,null,null,null,null,null,null,null,null,null,null,null,null,null,null,null,null,null,null,null,null,null,null,null,null,null,null,null,null,null,null,null,null,null,null,null,null,null,null,null,null,null,null,null,null,null,null,null,null,null,null,null,null,null,null,null,null,null,null,0,0]
[null,null,null,null,null,null,null,null,null,null,null,null,null,null,null,null,null,null,null,null,null,null,null,null,null,null,null,null,null,null,null,null,null,null,null,null,null,null,null,null,null,null,null,null,null,null,null,null,null,null,null,null,null,null,null,null,null,null,null,null,null,null,0,0]
[null,null,null,null,null,null,null,null,null,null,null,null,null,null,null,null,null,null,null,null,null,null,null,null,null,null,null,null,null,null,null,null,null,null,null,null,null,null,null,null,null,null,null,null,null,null,null,null,null,null,null,null,null,null,null,null,null,null,null,null,null,null,0,0]
[null,null,null,null,null,null,null,null,null,null,null,null,null,null,null,null,null,null,null,null,null,null,null,null,null,null,null,null,null,null,null,null,null,null,null,null,null,null,null,null,null,null,null,null,null,null,null,null,null,null,null,null,null,null,null,null,null,null,null,null,null,null,0,0]
[null,null,null,null,null,null,null,null,null,null,null,null,null,null,null,null,null,null,null,null,null,null,null,null,null,null,null,null,null,null,null,null,null,null,null,null,null,null,null,null,null,null,null,null,null,null,null,null,null,null,null,null,null,null,null,null,null,null,null,null,null,null,0,0]
[null,null,null,null,null,null,null,null,null,null,null,null,null,null,null,null,null,null,null,null,null,null,null,null,null,null,null,null,null,null,null,null,null,null,null,null,null,null,null,null,null,null,null,null,null,null,null,null,null,null,null,null,null,null,null,null,null,null,null,null,null,null,0,0]
[null,null,null,null,null,null,null,null,null,null,null,null,null,null,null,null,null,null,null,null,null,null,null,null,null,null,null,null,null,null,null,null,null,null,null,null,null,null,null,null,null,null,null,null,null,null,null,null,null,null,null,null,null,null,null,null,null,null,null,null,null,null,0,0]
[null,null,null,null,null,null,null,null,null,null,null,null,null,null,null,null,null,null,null,null,null,null,null,null,null,null,null,null,null,null,null,null,null,null,null,null,null,null,null,null,null,null,null,null,null,null,null,null,null,null,null,null,null,null,null,null,null,null,null,null,null,null,0,0]
[null,null,null,null,null,null,null,null,null,null,null,null,null,null,null,null,null,null,null,null,null,null,null,null,null,null,null,null,null,null,null,null,null,null,null,null,null,null,null,null,null,null,null,null,null,null,null,null,null,null,null,null,null,null,null,null,null,null,null,null,null,null,0,0]
[null,null,null,null,null,null,null,null,null,null,null,null,null,null,null,null,null,null,null,null,null,null,null,null,null,null,null,null,null,null,null,null,null,null,null,null,null,null,null,null,null,null,null,null,null,null,null,null,null,null,null,null,null,null,null,null,null,null,null,null,null,null,0,0]
[null,null,null,null,null,null,null,null,null,null,null,null,null,null,null,null,null,null,null,null,null,null,null,null,null,null,null,null,null,null,null,null,null,null,null,null,null,null,null,null,null,null,null,null,null,null,null,null,null,null,null,null,null,null,null,null,null,null,null,null,null,null,0,0]
[null,null,null,null,null,null,null,null,null,null,null,null,null,null,null,null,null,null,null,null,null,null,null,null,null,null,null,null,null,null,null,null,null,null,null,null,null,null,null,null,null,null,null,null,null,null,null,null,null,null,null,null,null,null,null,null,null,null,null,null,null,null,0,0]
[null,null,null,null,null,null,null,null,null,null,null,null,null,null,null,null,null,null,null,null,null,null,null,null,null,null,null,null,null,null,null,null,null,null,null,null,null,null,null,null,null,null,null,null,null,null,null,null,null,null,null,null,null,null,null,null,null,null,null,null,null,null,0,0]
[null,null,null,null,null,null,null,null,null,null,null,null,null,null,null,null,null,null,null,null,null,null,null,null,null,null,null,null,null,null,null,null,null,null,null,null,null,null,null,null,null,null,null,null,null,null,null,null,null,null,null,null,null,null,null,null,null,null,null,null,null,null,0,0]
[null,null,null,null,null,null,null,null,null,null,null,null,null,null,null,null,null,null,null,null,null,null,null,null,null,null,null,null,null,null,null,null,null,null,null,null,null,null,null,null,null,null,null,null,null,null,null,null,null,null,null,null,null,null,null,null,null,null,null,null,null,null,0,0]
[null,null,null,null,null,null,null,null,null,null,null,null,null,null,null,null,null,null,null,null,null,null,null,null,null,null,null,null,null,null,null,null,null,null,null,null,null,null,null,null,null,null,null,null,null,null,null,null,null,null,null,null,null,null,null,null,null,null,null,null,null,null,0,0]
[null,null,null,null,null,null,null,null,null,null,null,null,null,null,null,null,null,null,null,null,null,null,null,null,null,null,null,null,null,null,null,null,null,null,null,null,null,null,null,null,null,null,null,null,null,null,null,null,null,null,null,null,null,null,null,null,null,null,null,null,null,null,0,0]
[null,null,null,null,null,null,null,null,null,null,null,null,null,null,null,null,null,null,null,null,null,null,null,null,null,null,null,null,null,null,null,null,null,null,null,null,null,null,null,null,null,null,null,null,null,null,null,null,null,null,null,null,null,null,null,null,null,null,null,null,null,null,0,0]
[null,null,null,null,null,null,null,null,null,null,null,null,null,null,null,null,null,null,null,null,null,null,null,null,null,null,null,null,null,null,null,null,null,null,null,null,null,null,null,null,null,null,null,null,null,null,null,null,null,null,null,null,null,null,null,null,null,null,null,null,null,null,0,0]
[null,null,null,null,null,null,null,null,null,null,null,null,null,null,null,null,null,null,null,null,null,null,null,null,null,null,null,null,null,null,null,null,null,null,null,null,null,null,null,null,null,null,null,null,null,null,null,null,null,null,null,null,null,null,null,null,null,null,null,null,null,null,0,0]
[null,null,null,null,null,null,null,null,null,null,null,null,null,null,null,null,null,null,null,null,null,null,null,null,null,null,null,null,null,null,null,null,null,null,null,null,null,null,null,null,null,null,null,null,null,null,null,null,null,null,null,null,null,null,null,null,null,null,null,null,null,null,0,0]
[null,null,null,null,null,null,null,null,null,null,null,null,null,null,null,null,null,null,null,null,null,null,null,null,null,null,null,null,null,null,null,null,null,null,null,null,null,null,null,null,null,null,null,null,null,null,null,null,null,null,null,null,null,null,null,null,null,null,null,null,null,null,0,0]
[null,null,null,null,null,null,null,null,null,null,null,null,null,null,null,null,null,null,null,null,null,null,null,null,null,null,null,null,null,null,null,null,null,null,null,null,null,null,null,null,null,null,null,null,null,null,null,null,null,null,null,null,null,null,null,null,null,null,null,null,null,null,0,0]
[null,null,null,null,null,null,null,null,null,null,null,null,null,null,null,null,null,null,null,null,null,null,null,null,null,null,null,null,null,null,null,null,null,null,null,null,null,null,null,null,null,null,null,null,null,null,null,null,null,null,null,null,null,null,null,null,null,null,null,null,null,null,0,0]
[null,null,null,null,null,null,null,null,null,null,null,null,null,null,null,null,null,null,null,null,null,null,null,null,null,null,null,null,null,null,null,null,null,null,null,null,null,null,null,null,null,null,null,null,null,null,null,null,null,null,null,null,null,null,null,null,null,null,null,null,null,null,0,0]
[null,null,null,null,null,null,null,null,null,null,null,null,null,null,null,null,null,null,null,null,null,null,null,null,null,null,null,null,null,null,null,null,null,null,null,null,null,null,null,null,null,null,null,null,null,null,null,null,null,null,null,null,null,null,null,null,null,null,null,null,null,null,0,0]
[null,null,null,null,null,null,null,null,null,null,null,null,null,null,null,null,null,null,null,null,null,null,null,null,null,null,null,null,null,null,null,null,null,null,null,null,null,null,null,null,null,null,null,null,null,null,null,null,null,null,null,null,null,null,null,null,null,null,null,null,null,null,0,0]
[null,null,null,null,null,null,null,null,null,null,null,null,null,null,null,null,null,null,null,null,null,null,null,null,null,null,null,null,null,null,null,null,null,null,null,null,null,null,null,null,null,null,null,null,null,null,null,null,null,null,null,null,null,null,null,null,null,null,null,null,null,null,0,0]
[null,null,null,null,null,null,null,null,null,null,null,null,null,null,null,null,null,null,null,null,null,null,null,null,null,null,null,null,null,null,null,null,null,null,null,null,null,null,null,null,null,null,null,null,null,null,null,null,null,null,null,null,null,null,null,null,null,null,null,null,null,null,0,0]
[null,null,null,null,null,null,null,null,null,null,null,null,null,null,null,null,null,null,null,null,null,null,null,null,null,null,null,null,null,null,null,null,null,null,null,null,null,null,null,null,null,null,null,null,null,null,null,null,null,null,null,null,null,null,null,null,null,null,null,null,null,null,0,0]
[null,null,null,null,null,null,null,null,null,null,null,null,null,null,null,null,null,null,null,null,null,null,null,null,null,null,null,null,null,null,null,null,null,null,null,null,null,null,null,null,null,null,null,null,null,null,null,null,null,null,null,null,null,null,null,null,null,null,null,null,null,null,0,0]
[null,null,null,null,null,null,null,null,null,null,null,null,null,null,null,null,null,null,null,null,null,null,null,null,null,null,null,null,null,null,null,null,null,null,null,null,null,null,null,null,null,null,null,null,null,null,null,null,null,null,null,null,null,null,null,null,null,null,null,null,null,null,0,0]
[null,null,null,null,null,null,null,null,null,null,null,null,null,null,null,null,null,null,null,null,null,null,null,null,null,null,null,null,null,null,null,null,null,null,null,null,null,null,null,null,null,null,null,null,null,null,null,null,null,null,null,null,null,null,null,null,null,null,null,null,null,null,0,{"$f":"COUNT(C672:BH672)/2","v":0}]
[null,null,null,null,null,null,null,null,null,null,null,null,null,null,null,null,null,null,null,null,null,null,null,null,null,null,null,null,null,null,null,null,null,null,null,null,null,null,null,null,null,null,null,null,null,null,null,null,null,null,null,null,null,null,null,null,null,null,null,null,null,null,0,0]
[null,null,null,null,null,null,null,null,null,null,null,null,null,null,null,null,null,null,null,null,null,null,null,null,null,null,null,null,null,null,null,null,null,null,null,null,null,null,null,null,null,null,null,null,null,null,null,null,null,null,null,null,null,null,null,null,null,null,null,null,null,null,0,0]
[null,null,null,null,null,null,null,null,null,null,null,null,null,null,null,null,null,null,null,null,null,null,null,null,null,null,null,null,null,null,null,null,null,null,null,null,null,null,null,null,null,null,null,null,null,null,null,null,null,null,null,null,null,null,null,null,null,null,null,null,null,null,0,0]
[null,null,null,null,null,null,null,null,null,null,null,null,null,null,null,null,null,null,null,null,null,null,null,null,null,null,null,null,null,null,null,null,null,null,null,null,null,null,null,null,null,null,null,null,null,null,null,null,null,null,null,null,null,null,null,null,null,null,null,null,null,null,0,0]
[null,null,null,null,null,null,null,null,null,null,null,null,null,null,null,null,null,null,null,null,null,null,null,null,null,null,null,null,null,null,null,null,null,null,null,null,null,null,null,null,null,null,null,null,null,null,null,null,null,null,null,null,null,null,null,null,null,null,null,null,null,null,0,0]
[null,null,null,null,null,null,null,null,null,null,null,null,null,null,null,null,null,null,null,null,null,null,null,null,null,null,null,null,null,null,null,null,null,null,null,null,null,null,null,null,null,null,null,null,null,null,null,null,null,null,null,null,null,null,null,null,null,null,null,null,null,null,0,0]
[null,null,null,null,null,null,null,null,null,null,null,null,null,null,null,null,null,null,null,null,null,null,null,null,null,null,null,null,null,null,null,null,null,null,null,null,null,null,null,null,null,null,null,null,null,null,null,null,null,null,null,null,null,null,null,null,null,null,null,null,null,null,0,0]
[null,null,null,null,null,null,null,null,null,null,null,null,null,null,null,null,null,null,null,null,null,null,null,null,null,null,null,null,null,null,null,null,null,null,null,null,null,null,null,null,null,null,null,null,null,null,null,null,null,null,null,null,null,null,null,null,null,null,null,null,null,null,0,0]
[null,null,null,null,null,null,null,null,null,null,null,null,null,null,null,null,null,null,null,null,null,null,null,null,null,null,null,null,null,null,null,null,null,null,null,null,null,null,null,null,null,null,null,null,null,null,null,null,null,null,null,null,null,null,null,null,null,null,null,null,null,null,0,0]
[null,null,null,null,null,null,null,null,null,null,null,null,null,null,null,null,null,null,null,null,null,null,null,null,null,null,null,null,null,null,null,null,null,null,null,null,null,null,null,null,null,null,null,null,null,null,null,null,null,null,null,null,null,null,null,null,null,null,null,null,null,null,0,0]
[null,null,null,null,null,null,null,null,null,null,null,null,null,null,null,null,null,null,null,null,null,null,null,null,null,null,null,null,null,null,null,null,null,null,null,null,null,null,null,null,null,null,null,null,null,null,null,null,null,null,null,null,null,null,null,null,null,null,null,null,null,null,0,0]
[null,null,null,null,null,null,null,null,null,null,null,null,null,null,null,null,null,null,null,null,null,null,null,null,null,null,null,null,null,null,null,null,null,null,null,null,null,null,null,null,null,null,null,null,null,null,null,null,null,null,null,null,null,null,null,null,null,null,null,null,null,null,0,0]
[null,null,null,null,null,null,null,null,null,null,null,null,null,null,null,null,null,null,null,null,null,null,null,null,null,null,null,null,null,null,null,null,null,null,null,null,null,null,null,null,null,null,null,null,null,null,null,null,null,null,null,null,null,null,null,null,null,null,null,null,null,null,0,0]
[null,null,null,null,null,null,null,null,null,null,null,null,null,null,null,null,null,null,null,null,null,null,null,null,null,null,null,null,null,null,null,null,null,null,null,null,null,null,null,null,null,null,null,null,null,null,null,null,null,null,null,null,null,null,null,null,null,null,null,null,null,null,0,0]
[null,null,null,null,null,null,null,null,null,null,null,null,null,null,null,null,null,null,null,null,null,null,null,null,null,null,null,null,null,null,null,null,null,null,null,null,null,null,null,null,null,null,null,null,null,null,null,null,null,null,null,null,null,null,null,null,null,null,null,null,null,null,0,0]
[null,null,null,null,null,null,null,null,null,null,null,null,null,null,null,null,null,null,null,null,null,null,null,null,null,null,null,null,null,null,null,null,null,null,null,null,null,null,null,null,null,null,null,null,null,null,null,null,null,null,null,null,null,null,null,null,null,null,null,null,null,null,0,0]
[null,null,null,null,null,null,null,null,null,null,null,null,null,null,null,null,null,null,null,null,null,null,null,null,null,null,null,null,null,null,null,null,null,null,null,null,null,null,null,null,null,null,null,null,null,null,null,null,null,null,null,null,null,null,null,null,null,null,null,null,null,null,0,0]
[null,null,null,null,null,null,null,null,null,null,null,null,null,null,null,null,null,null,null,null,null,null,null,null,null,null,null,null,null,null,null,null,null,null,null,null,null,null,null,null,null,null,null,null,null,null,null,null,null,null,null,null,null,null,null,null,null,null,null,null,null,null,0,0]
[null,null,null,null,null,null,null,null,null,null,null,null,null,null,null,null,null,null,null,null,null,null,null,null,null,null,null,null,null,null,null,null,null,null,null,null,null,null,null,null,null,null,null,null,null,null,null,null,null,null,null,null,null,null,null,null,null,null,null,null,null,null,0,0]
[null,null,null,null,null,null,null,null,null,null,null,null,null,null,null,null,null,null,null,null,null,null,null,null,null,null,null,null,null,null,null,null,null,null,null,null,null,null,null,null,null,null,null,null,null,null,null,null,null,null,null,null,null,null,null,null,null,null,null,null,null,null,0,0]
[null,null,null,null,null,null,null,null,null,null,null,null,null,null,null,null,null,null,null,null,null,null,null,null,null,null,null,null,null,null,null,null,null,null,null,null,null,null,null,null,null,null,null,null,null,null,null,null,null,null,null,null,null,null,null,null,null,null,null,null,null,null,0,0]
[null,null,null,null,null,null,null,null,null,null,null,null,null,null,null,null,null,null,null,null,null,null,null,null,null,null,null,null,null,null,null,null,null,null,null,null,null,null,null,null,null,null,null,null,null,null,null,null,null,null,null,null,null,null,null,null,null,null,null,null,null,null,{"$f":"+AI694+AE694+Y694+W694+U694+S694+Q694+O694+M694+I694+G694+E694+C694+AG694+K694+BG694+BN694+AA694+AC694+AK694+AM694+AO694+AW694","v":0},0]
[null,null,null,null,null,null,null,null,null,null,null,null,null,null,null,null,null,null,null,null,null,null,null,null,null,null,null,null,null,null,null,null,null,null,null,null,null,null,null,null,null,null,null,null,null,null,null,null,null,null,null,null,null,null,null,null,null,null,null,null,null,null,0,0]
[null,null,null,null,null,null,null,null,null,null,null,null,null,null,null,null,null,null,null,null,null,null,null,null,null,null,null,null,null,null,null,null,null,null,null,null,null,null,null,null,null,null,null,null,null,null,null,null,null,null,null,null,null,null,null,null,null,null,null,null,null,null,0,0]
[null,null,null,null,null,null,null,null,null,null,null,null,null,null,null,null,null,null,null,null,null,null,null,null,null,null,null,null,null,null,null,null,null,null,null,null,null,null,null,null,null,null,null,null,null,null,null,null,null,null,null,null,null,null,null,null,null,null,null,null,null,null,{"$f":"+AI697+AE697+Y697+W697+U697+S697+Q697+O697+M697+I697+G697+E697+C697+AG697+K697+BG697+BN697+AA697+AC697+AK697+AM697+AO697+AW697","v":0},0]
[null,null,null,null,null,null,null,null,null,null,null,null,null,null,null,null,null,null,null,null,null,null,null,null,null,null,null,null,null,null,null,null,null,null,null,null,null,null,null,null,null,null,null,null,null,null,null,null,null,null,null,null,null,null,null,null,null,null,null,null,null,null,{"$f":"+AI698+AE698+Y698+W698+U698+S698+Q698+O698+M698+I698+G698+E698+C698+AG698+K698+BG698+BN698+AA698+AC698+AK698+AM698+AO698+AW698","v":0},0]
[null,null,null,null,null,null,null,null,null,null,null,null,null,null,null,null,null,null,null,null,null,null,null,null,null,null,null,null,null,null,null,null,null,null,null,null,null,null,null,null,null,null,null,null,null,null,null,null,null,null,null,null,null,null,null,null,null,null,null,null,null,null,{"$f":"+AI699+AE699+Y699+W699+U699+S699+Q699+O699+M699+I699+G699+E699+C699+AG699+K699+BG699+BN699+AA699+AC699+AK699+AM699+AO699+AW699","v":0},{"$f":"COUNT(C699:BH699)/2","v":0}]
[null,null,null,null,null,null,null,null,null,null,null,null,null,null,null,null,null,null,null,null,null,null,null,null,null,null,null,null,null,null,null,null,null,null,null,null,null,null,null,null,null,null,null,null,null,null,null,null,null,null,null,null,null,null,null,null,null,null,null,null,null,null,0,0]
[null,null,null,null,null,null,null,null,null,null,null,null,null,null,null,null,null,null,null,null,null,null,null,null,null,null,null,null,null,null,null,null,null,null,null,null,null,null,null,null,null,null,null,null,null,null,null,null,null,null,null,null,null,null,null,null,null,null,null,null,null,null,{"$f":"+AI701+AE701+Y701+W701+U701+S701+Q701+O701+M701+I701+G701+E701+C701+AG701+K701+BG701+BN701+AA701+AC701+AK701+AM701+AO701+AW701","v":0},{"$f":"COUNT(C701:BH701)/2","v":0}]
[null,null,null,null,null,null,null,null,null,null,null,null,null,null,null,null,null,null,null,null,null,null,null,null,null,null,null,null,null,null,null,null,null,null,null,null,null,null,null,null,null,null,null,null,null,null,null,null,null,null,null,null,null,null,null,null,null,null,null,null,null,null,0,0]
[null,null,null,null,null,null,null,null,null,null,null,null,null,null,null,null,null,null,null,null,null,null,null,null,null,null,null,null,null,null,null,null,null,null,null,null,null,null,null,null,null,null,null,null,null,null,null,null,null,null,null,null,null,null,null,null,null,null,null,null,null,null,0,0]
[null,null,null,null,null,null,null,null,null,null,null,null,null,null,null,null,null,null,null,null,null,null,null,null,null,null,null,null,null,null,null,null,null,null,null,null,null,null,null,null,null,null,null,null,null,null,null,null,null,null,null,null,null,null,null,null,null,null,null,null,null,null,0,0]
[null,null,null,null,null,null,null,null,null,null,null,null,null,null,null,null,null,null,null,null,null,null,null,null,null,null,null,null,null,null,null,null,null,null,null,null,null,null,null,null,null,null,null,null,null,null,null,null,null,null,null,null,null,null,null,null,null,null,null,null,null,null,0,0]
[null,null,null,null,null,null,null,null,null,null,null,null,null,null,null,null,null,null,null,null,null,null,null,null,null,null,null,null,null,null,null,null,null,null,null,null,null,null,null,null,null,null,null,null,null,null,null,null,null,null,null,null,null,null,null,null,null,null,null,null,null,null,0,0]
[null,null,null,null,null,null,null,null,null,null,null,null,null,null,null,null,null,null,null,null,null,null,null,null,null,null,null,null,null,null,null,null,null,null,null,null,null,null,null,null,null,null,null,null,null,null,null,null,null,null,null,null,null,null,null,null,null,null,null,null,null,null,0,0]
[null,null,null,null,null,null,null,null,null,null,null,null,null,null,null,null,null,null,null,null,null,null,null,null,null,null,null,null,null,null,null,null,null,null,null,null,null,null,null,null,null,null,null,null,null,null,null,null,null,null,null,null,null,null,null,null,null,null,null,null,null,null,0,0]
[null,null,null,null,null,null,null,null,null,null,null,null,null,null,null,null,null,null,null,null,null,null,null,null,null,null,null,null,null,null,null,null,null,null,null,null,null,null,null,null,null,null,null,null,null,null,null,null,null,null,null,null,null,null,null,null,null,null,null,null,null,null,0,0]
[null,null,null,null,null,null,null,null,null,null,null,null,null,null,null,null,null,null,null,null,null,null,null,null,null,null,null,null,null,null,null,null,null,null,null,null,null,null,null,null,null,null,null,null,null,null,null,null,null,null,null,null,null,null,null,null,null,null,null,null,null,null,0,0]
[null,null,null,null,null,null,null,null,null,null,null,null,null,null,null,null,null,null,null,null,null,null,null,null,null,null,null,null,null,null,null,null,null,null,null,null,null,null,null,null,null,null,null,null,null,null,null,null,null,null,null,null,null,null,null,null,null,null,null,null,null,null,0,0]
[null,null,null,null,null,null,null,null,null,null,null,null,null,null,null,null,null,null,null,null,null,null,null,null,null,null,null,null,null,null,null,null,null,null,null,null,null,null,null,null,null,null,null,null,null,null,null,null,null,null,null,null,null,null,null,null,null,null,null,null,null,null,0,0]
[null,null,null,null,null,null,null,null,null,null,null,null,null,null,null,null,null,null,null,null,null,null,null,null,null,null,null,null,null,null,null,null,null,null,null,null,null,null,null,null,null,null,null,null,null,null,null,null,null,null,null,null,null,null,null,null,null,null,null,null,null,null,0,0]
[null,null,null,null,null,null,null,null,null,null,null,null,null,null,null,null,null,null,null,null,null,null,null,null,null,null,null,null,null,null,null,null,null,null,null,null,null,null,null,null,null,null,null,null,null,null,null,null,null,null,null,null,null,null,null,null,null,null,null,null,null,null,0,0]
[null,null,null,null,null,null,null,null,null,null,null,null,null,null,null,null,null,null,null,null,null,null,null,null,null,null,null,null,null,null,null,null,null,null,null,null,null,null,null,null,null,null,null,null,null,null,null,null,null,null,null,null,null,null,null,null,null,null,null,null,null,null,0,0]
[null,null,null,null,null,null,null,null,null,null,null,null,null,null,null,null,null,null,null,null,null,null,null,null,null,null,null,null,null,null,null,null,null,null,null,null,null,null,null,null,null,null,null,null,null,null,null,null,null,null,null,null,null,null,null,null,null,null,null,null,null,null,{"$f":"+AI716+AE716+Y716+W716+U716+S716+Q716+O716+M716+I716+G716+E716+C716+AG716+K716+BG716+BN716+AA716+AC716+AK716+AM716+AO716+AW716","v":0},0]
[null,null,null,null,null,null,null,null,null,null,null,null,null,null,null,null,null,null,null,null,null,null,null,null,null,null,null,null,null,null,null,null,null,null,null,null,null,null,null,null,null,null,null,null,null,null,null,null,null,null,null,null,null,null,null,null,null,null,null,null,null,null,{"$f":"+AI717+AE717+Y717+W717+U717+S717+Q717+O717+M717+I717+G717+E717+C717+AG717+K717+BG717+BN717+AA717+AC717+AK717+AM717+AO717+AW717","v":0},0]
[null,null,null,null,null,null,null,null,null,null,null,null,null,null,null,null,null,null,null,null,null,null,null,null,null,null,null,null,null,null,null,null,null,null,null,null,null,null,null,null,null,null,null,null,null,null,null,null,null,null,null,null,null,null,null,null,null,null,null,null,null,null,0,0]
[null,null,null,null,null,null,null,null,null,null,null,null,null,null,null,null,null,null,null,null,null,null,null,null,null,null,null,null,null,null,null,null,null,null,null,null,null,null,null,null,null,null,null,null,null,null,null,null,null,null,null,null,null,null,null,null,null,null,null,null,null,null,0,0]
[null,null,null,null,null,null,null,null,null,null,null,null,null,null,null,null,null,null,null,null,null,null,null,null,null,null,null,null,null,null,null,null,null,null,null,null,null,null,null,null,null,null,null,null,null,null,null,null,null,null,null,null,null,null,null,null,null,null,null,null,null,null,0,0]
[null,null,null,null,null,null,null,null,null,null,null,null,null,null,null,null,null,null,null,null,null,null,null,null,null,null,null,null,null,null,null,null,null,null,null,null,null,null,null,null,null,null,null,null,null,null,null,null,null,null,null,null,null,null,null,null,null,null,null,null,null,null,0,0]
[null,null,null,null,null,null,null,null,null,null,null,null,null,null,null,null,null,null,null,null,null,null,null,null,null,null,null,null,null,null,null,null,null,null,null,null,null,null,null,null,null,null,null,null,null,null,null,null,null,null,null,null,null,null,null,null,null,null,null,null,null,null,0,0]
[null,null,null,null,null,null,null,null,null,null,null,null,null,null,null,null,null,null,null,null,null,null,null,null,null,null,null,null,null,null,null,null,null,null,null,null,null,null,null,null,null,null,null,null,null,null,null,null,null,null,null,null,null,null,null,null,null,null,null,null,null,null,0,0]
[null,null,null,null,null,null,null,null,null,null,null,null,null,null,null,null,null,null,null,null,null,null,null,null,null,null,null,null,null,null,null,null,null,null,null,null,null,null,null,null,null,null,null,null,null,null,null,null,null,null,null,null,null,null,null,null,null,null,null,null,null,null,{"$f":"+AI724+AE724+Y724+W724+U724+S724+Q724+O724+M724+I724+G724+E724+C724+AG724+K724+BG724+BN724+AA724+AC724+AK724+AM724+AO724+AW724","v":0},{"$f":"COUNT(C724:BH724)/2","v":0}]
[null,null,null,null,null,null,null,null,null,null,null,null,null,null,null,null,null,null,null,null,null,null,null,null,null,null,null,null,null,null,null,null,null,null,null,null,null,null,null,null,null,null,null,null,null,null,null,null,null,null,null,null,null,null,null,null,null,null,null,null,null,null,0,0]
[null,null,null,null,null,null,null,null,null,null,null,null,null,null,null,null,null,null,null,null,null,null,null,null,null,null,null,null,null,null,null,null,null,null,null,null,null,null,null,null,null,null,null,null,null,null,null,null,null,null,null,null,null,null,null,null,null,null,null,null,null,null,0,0]
[null,null,null,null,null,null,null,null,null,null,null,null,null,null,null,null,null,null,null,null,null,null,null,null,null,null,null,null,null,null,null,null,null,null,null,null,null,null,null,null,null,null,null,null,null,null,null,null,null,null,null,null,null,null,null,null,null,null,null,null,null,null,0,0]
[null,null,null,null,null,null,null,null,null,null,null,null,null,null,null,null,null,null,null,null,null,null,null,null,null,null,null,null,null,null,null,null,null,null,null,null,null,null,null,null,null,null,null,null,null,null,null,null,null,null,null,null,null,null,null,null,null,null,null,null,null,null,0,0]
[null,null,null,null,null,null,null,null,null,null,null,null,null,null,null,null,null,null,null,null,null,null,null,null,null,null,null,null,null,null,null,null,null,null,null,null,null,null,null,null,null,null,null,null,null,null,null,null,null,null,null,null,null,null,null,null,null,null,null,null,null,null,0,0]
[null,null,null,null,null,null,null,null,null,null,null,null,null,null,null,null,null,null,null,null,null,null,null,null,null,null,null,null,null,null,null,null,null,null,null,null,null,null,null,null,null,null,null,null,null,null,null,null,null,null,null,null,null,null,null,null,null,null,null,null,null,null,0,0]
[null,null,null,null,null,null,null,null,null,null,null,null,null,null,null,null,null,null,null,null,null,null,null,null,null,null,null,null,null,null,null,null,null,null,null,null,null,null,null,null,null,null,null,null,null,null,null,null,null,null,null,null,null,null,null,null,null,null,null,null,null,null,0,0]
[null,null,null,null,null,null,null,null,null,null,null,null,null,null,null,null,null,null,null,null,null,null,null,null,null,null,null,null,null,null,null,null,null,null,null,null,null,null,null,null,null,null,null,null,null,null,null,null,null,null,null,null,null,null,null,null,null,null,null,null,null,null,0,0]
[null,null,null,null,null,null,null,null,null,null,null,null,null,null,null,null,null,null,null,null,null,null,null,null,null,null,null,null,null,null,null,null,null,null,null,null,null,null,null,null,null,null,null,null,null,null,null,null,null,null,null,null,null,null,null,null,null,null,null,null,null,null,0,0]
[null,null,null,null,null,null,null,null,null,null,null,null,null,null,null,null,null,null,null,null,null,null,null,null,null,null,null,null,null,null,null,null,null,null,null,null,null,null,null,null,null,null,null,null,null,null,null,null,null,null,null,null,null,null,null,null,null,null,null,null,null,null,0,0]
[null,null,null,null,null,null,null,null,null,null,null,null,null,null,null,null,null,null,null,null,null,null,null,null,null,null,null,null,null,null,null,null,null,null,null,null,null,null,null,null,null,null,null,null,null,null,null,null,null,null,null,null,null,null,null,null,null,null,null,null,null,null,0,0]
[null,null,null,null,null,null,null,null,null,null,null,null,null,null,null,null,null,null,null,null,null,null,null,null,null,null,null,null,null,null,null,null,null,null,null,null,null,null,null,null,null,null,null,null,null,null,null,null,null,null,null,null,null,null,null,null,null,null,null,null,null,null,0,0]
[null,null,null,null,null,null,null,null,null,null,null,null,null,null,null,null,null,null,null,null,null,null,null,null,null,null,null,null,null,null,null,null,null,null,null,null,null,null,null,null,null,null,null,null,null,null,null,null,null,null,null,null,null,null,null,null,null,null,null,null,null,null,0,0]
[null,null,null,null,null,null,null,null,null,null,null,null,null,null,null,null,null,null,null,null,null,null,null,null,null,null,null,null,null,null,null,null,null,null,null,null,null,null,null,null,null,null,null,null,null,null,null,null,null,null,null,null,null,null,null,null,null,null,null,null,null,null,0,0]
[null,null,null,null,null,null,null,null,null,null,null,null,null,null,null,null,null,null,null,null,null,null,null,null,null,null,null,null,null,null,null,null,null,null,null,null,null,null,null,null,null,null,null,null,null,null,null,null,null,null,null,null,null,null,null,null,null,null,null,null,null,null,0,0]
[null,null,null,null,null,null,null,null,null,null,null,null,null,null,null,null,null,null,null,null,null,null,null,null,null,null,null,null,null,null,null,null,null,null,null,null,null,null,null,null,null,null,null,null,null,null,null,null,null,null,null,null,null,null,null,null,null,null,null,null,null,null,0,0]
[null,null,null,null,null,null,null,null,null,null,null,null,null,null,null,null,null,null,null,null,null,null,null,null,null,null,null,null,null,null,null,null,null,null,null,null,null,null,null,null,null,null,null,null,null,null,null,null,null,null,null,null,null,null,null,null,null,null,null,null,null,null,{"$f":"+AI741+AE741+Y741+W741+U741+S741+Q741+O741+M741+I741+G741+E741+C741+AG741+K741+BG741+BN741+AA741+AC741+AK741+AM741+AO741+AW741","v":0},{"$f":"COUNT(C741:BH741)/2","v":0}]
[null,null,null,null,null,null,null,null,null,null,null,null,null,null,null,null,null,null,null,null,null,null,null,null,null,null,null,null,null,null,null,null,null,null,null,null,null,null,null,null,null,null,null,null,null,null,null,null,null,null,null,null,null,null,null,null,null,null,null,null,null,null,0,0]
[null,null,null,null,null,null,null,null,null,null,null,null,null,null,null,null,null,null,null,null,null,null,null,null,null,null,null,null,null,null,null,null,null,null,null,null,null,null,null,null,null,null,null,null,null,null,null,null,null,null,null,null,null,null,null,null,null,null,null,null,null,null,0,0]
[null,null,null,null,null,null,null,null,null,null,null,null,null,null,null,null,null,null,null,null,null,null,null,null,null,null,null,null,null,null,null,null,null,null,null,null,null,null,null,null,null,null,null,null,null,null,null,null,null,null,null,null,null,null,null,null,null,null,null,null,null,null,0,0]
[null,null,null,null,null,null,null,null,null,null,null,null,null,null,null,null,null,null,null,null,null,null,null,null,null,null,null,null,null,null,null,null,null,null,null,null,null,null,null,null,null,null,null,null,null,null,null,null,null,null,null,null,null,null,null,null,null,null,null,null,null,null,0,0]
[null,null,null,null,null,null,null,null,null,null,null,null,null,null,null,null,null,null,null,null,null,null,null,null,null,null,null,null,null,null,null,null,null,null,null,null,null,null,null,null,null,null,null,null,null,null,null,null,null,null,null,null,null,null,null,null,null,null,null,null,null,null,0,0]
[null,null,null,null,null,null,null,null,null,null,null,null,null,null,null,null,null,null,null,null,null,null,null,null,null,null,null,null,null,null,null,null,null,null,null,null,null,null,null,null,null,null,null,null,null,null,null,null,null,null,null,null,null,null,null,null,null,null,null,null,null,null,0,0]
[null,null,null,null,null,null,null,null,null,null,null,null,null,null,null,null,null,null,null,null,null,null,null,null,null,null,null,null,null,null,null,null,null,null,null,null,null,null,null,null,null,null,null,null,null,null,null,null,null,null,null,null,null,null,null,null,null,null,null,null,null,null,0,0]
[null,null,null,null,null,null,null,null,null,null,null,null,null,null,null,null,null,null,null,null,null,null,null,null,null,null,null,null,null,null,null,null,null,null,null,null,null,null,null,null,null,null,null,null,null,null,null,null,null,null,null,null,null,null,null,null,null,null,null,null,null,null,0,0]
[null,null,null,null,null,null,null,null,null,null,null,null,null,null,null,null,null,null,null,null,null,null,null,null,null,null,null,null,null,null,null,null,null,null,null,null,null,null,null,null,null,null,null,null,null,null,null,null,null,null,null,null,null,null,null,null,null,null,null,null,null,null,0,0]
[null,null,null,null,null,null,null,null,null,null,null,null,null,null,null,null,null,null,null,null,null,null,null,null,null,null,null,null,null,null,null,null,null,null,null,null,null,null,null,null,null,null,null,null,null,null,null,null,null,null,null,null,null,null,null,null,null,null,null,null,null,null,0,0]
[null,null,null,null,null,null,null,null,null,null,null,null,null,null,null,null,null,null,null,null,null,null,null,null,null,null,null,null,null,null,null,null,null,null,null,null,null,null,null,null,null,null,null,null,null,null,null,null,null,null,null,null,null,null,null,null,null,null,null,null,null,null,0,0]
[null,null,null,null,null,null,null,null,null,null,null,null,null,null,null,null,null,null,null,null,null,null,null,null,null,null,null,null,null,null,null,null,null,null,null,null,null,null,null,null,null,null,null,null,null,null,null,null,null,null,null,null,null,null,null,null,null,null,null,null,null,null,0,0]
[null,null,null,null,null,null,null,null,null,null,null,null,null,null,null,null,null,null,null,null,null,null,null,null,null,null,null,null,null,null,null,null,null,null,null,null,null,null,null,null,null,null,null,null,null,null,null,null,null,null,null,null,null,null,null,null,null,null,null,null,null,null,{"$f":"+AI754+AE754+Y754+W754+U754+S754+Q754+O754+M754+I754+G754+E754+C754+AG754+K754+BG754+BN754+AA754+AC754+AK754+AM754+AO754+AW754","v":0},{"$f":"COUNT(C754:BH754)/2","v":0}]
[null,null,null,null,null,null,null,null,null,null,null,null,null,null,null,null,null,null,null,null,null,null,null,null,null,null,null,null,null,null,null,null,null,null,null,null,null,null,null,null,null,null,null,null,null,null,null,null,null,null,null,null,null,null,null,null,null,null,null,null,null,null,0,0]
[null,null,null,null,null,null,null,null,null,null,null,null,null,null,null,null,null,null,null,null,null,null,null,null,null,null,null,null,null,null,null,null,null,null,null,null,null,null,null,null,null,null,null,null,null,null,null,null,null,null,null,null,null,null,null,null,null,null,null,null,null,null,0,0]
[null,null,null,null,null,null,null,null,null,null,null,null,null,null,null,null,null,null,null,null,null,null,null,null,null,null,null,null,null,null,null,null,null,null,null,null,null,null,null,null,null,null,null,null,null,null,null,null,null,null,null,null,null,null,null,null,null,null,null,null,null,null,0,0]
[null,null,null,null,null,null,null,null,null,null,null,null,null,null,null,null,null,null,null,null,null,null,null,null,null,null,null,null,null,null,null,null,null,null,null,null,null,null,null,null,null,null,null,null,null,null,null,null,null,null,null,null,null,null,null,null,null,null,null,null,null,null,0,0]
[null,null,null,null,null,null,null,null,null,null,null,null,null,null,null,null,null,null,null,null,null,null,null,null,null,null,null,null,null,null,null,null,null,null,null,null,null,null,null,null,null,null,null,null,null,null,null,null,null,null,null,null,null,null,null,null,null,null,null,null,null,null,0,0]
[null,null,null,null,null,null,null,null,null,null,null,null,null,null,null,null,null,null,null,null,null,null,null,null,null,null,null,null,null,null,null,null,null,null,null,null,null,null,null,null,null,null,null,null,null,null,null,null,null,null,null,null,null,null,null,null,null,null,null,null,null,null,0,0]
[null,null,null,null,null,null,null,null,null,null,null,null,null,null,null,null,null,null,null,null,null,null,null,null,null,null,null,null,null,null,null,null,null,null,null,null,null,null,null,null,null,null,null,null,null,null,null,null,null,null,null,null,null,null,null,null,null,null,null,null,null,null,0,0]
[null,"Mitjana punts del moment",null,null,null,null,null,null,null,null,null,null,null,null,null,null,null,null,null,null,null,null,null,null,null,null,null,null,null,null,null,null,null,null,null,null,null,null,null,null,null,null,null,null,null,null,null,null,null,null,null,null,null,null,null,null,null,null,null,null,null,null,0,0]
[null,null,null,null,null,null,null,null,null,null,null,null,null,null,null,null,null,null,null,null,null,null,null,null,null,null,null,null,null,null,null,null,null,null,null,null,null,null,null,null,null,null,null,null,null,null,null,null,null,null,null,null,null,null,null,null,null,null,null,null,null,null,0,0]
[null,null,null,null,null,null,null,null,null,null,null,null,null,null,null,null,null,null,null,null,null,null,null,null,null,null,null,null,null,null,null,null,null,null,null,null,null,null,null,null,null,null,null,null,null,null,null,null,null,null,null,null,null,null,null,null,null,null,null,null,null,null,0,0]
[null,null,null,null,null,null,null,null,null,null,null,null,null,null,null,null,null,null,null,null,null,null,null,null,null,null,null,null,null,null,null,null,null,null,null,null,null,null,null,null,null,null,null,null,null,null,null,null,null,null,null,null,null,null,null,null,null,null,null,null,null,null,0,0]
[null,null,null,null,null,null,null,null,null,null,null,null,null,null,null,null,null,null,null,null,null,null,null,null,null,null,null,null,null,null,null,null,null,null,null,null,null,null,null,null,null,null,null,null,null,null,null,null,null,null,null,null,null,null,null,null,null,null,null,null,null,null,0,0]
[null,null,null,null,null,null,null,null,null,null,null,null,null,null,null,null,null,null,null,null,null,null,null,null,null,null,null,null,null,null,null,null,null,null,null,null,null,null,null,null,null,null,null,null,null,null,null,null,null,null,null,null,null,null,null,null,null,null,null,null,null,null,0,0]
[null,null,null,null,null,null,null,null,null,null,null,null,null,null,null,null,null,null,null,null,null,null,null,null,null,null,null,null,null,null,null,null,null,null,null,null,null,null,null,null,null,null,null,null,null,null,null,null,null,null,null,null,null,null,null,null,null,null,null,null,null,null,0,0]
[null,null,null,null,null,null,null,null,null,null,null,null,null,null,null,null,null,null,null,null,null,null,null,null,null,null,null,null,null,null,null,null,null,null,null,null,null,null,null,null,null,null,null,null,null,null,null,null,null,null,null,null,null,null,null,null,null,null,null,null,null,null,0,0]
[null,null,null,null,null,null,null,null,null,null,null,null,null,null,null,null,null,null,null,null,null,null,null,null,null,null,null,null,null,null,null,null,null,null,null,null,null,null,null,null,null,null,null,null,null,null,null,null,null,null,null,null,null,null,null,null,null,null,null,null,null,null,0,0]
[null,null,null,null,null,null,null,null,null,null,null,null,null,null,null,null,null,null,null,null,null,null,null,null,null,null,null,null,null,null,null,null,null,null,null,null,null,null,null,null,null,null,null,null,null,null,null,null,null,null,null,null,null,null,null,null,null,null,null,null,null,null,0,0]
[null,null,null,null,null,null,null,null,null,null,null,null,null,null,null,null,null,null,null,null,null,null,null,null,null,null,null,null,null,null,null,null,null,null,null,null,null,null,null,null,null,null,null,null,null,null,null,null,null,null,null,null,null,null,null,null,null,null,null,null,null,null,0,0]
[null,null,null,null,null,null,null,null,null,null,null,null,null,null,null,null,null,null,null,null,null,null,null,null,null,null,null,null,null,null,null,null,null,null,null,null,null,null,null,null,null,null,null,null,null,null,null,null,null,null,null,null,null,null,null,null,null,null,null,null,null,null,0,0]
[null,null,null,null,null,null,null,null,null,null,null,null,null,null,null,null,null,null,null,null,null,null,null,null,null,null,null,null,null,null,null,null,null,null,null,null,null,null,null,null,null,null,null,null,null,null,null,null,null,null,null,null,null,null,null,null,null,null,null,null,null,null,0,0]
[null,null,null,null,null,null,null,null,null,null,null,null,null,null,null,null,null,null,null,null,null,null,null,null,null,null,null,null,null,null,null,null,null,null,null,null,null,null,null,null,null,null,null,null,null,null,null,null,null,null,null,null,null,null,null,null,null,null,null,null,null,null,0,0]
[null,null,null,null,null,null,null,null,null,null,null,null,null,null,null,null,null,null,null,null,null,null,null,null,null,null,null,null,null,null,null,null,null,null,null,null,null,null,null,null,null,null,null,null,null,null,null,null,null,null,null,null,null,null,null,null,null,null,null,null,null,null,0,0]
[null,null,null,null,null,null,null,null,null,null,null,null,null,null,null,null,null,null,null,null,null,null,null,null,null,null,null,null,null,null,null,null,null,null,null,null,null,null,null,null,null,null,null,null,null,null,null,null,null,null,null,null,null,null,null,null,null,null,null,null,null,null,0,0]
[null,null,null,null,null,null,null,null,null,null,null,null,null,null,null,null,null,null,null,null,null,null,null,null,null,null,null,null,null,null,null,null,null,null,null,null,null,null,null,null,null,null,null,null,null,null,null,null,null,null,null,null,null,null,null,null,null,null,null,null,null,null,0,0]
[null,null,null,null,null,null,null,null,null,null,null,null,null,null,null,null,null,null,null,null,null,null,null,null,null,null,null,null,null,null,null,null,null,null,null,null,null,null,null,null,null,null,null,null,null,null,null,null,null,null,null,null,null,null,null,null,null,null,null,null,null,null,0,0]
[null,null,null,null,null,null,null,null,null,null,null,null,null,null,null,null,null,null,null,null,null,null,null,null,null,null,null,null,null,null,null,null,null,null,null,null,null,null,null,null,null,null,null,null,null,null,null,null,null,null,null,null,null,null,null,null,null,null,null,null,null,null,0,0]
[null,null,null,null,null,null,null,null,null,null,null,null,null,null,null,null,null,null,null,null,null,null,null,null,null,null,null,null,null,null,null,null,null,null,null,null,null,null,null,null,null,null,null,null,null,null,null,null,null,null,null,null,null,null,null,null,null,null,null,null,null,null,0,0]
[null,null,null,null,null,null,null,null,null,null,null,null,null,null,null,null,null,null,null,null,null,null,null,null,null,null,null,null,null,null,null,null,null,null,null,null,null,null,null,null,null,null,null,null,null,null,null,null,null,null,null,null,null,null,null,null,null,null,null,null,null,null,0,0]
[null,null,null,null,null,null,null,null,null,null,null,null,null,null,null,null,null,null,null,null,null,null,null,null,null,null,null,null,null,null,null,null,null,null,null,null,null,null,null,null,null,null,null,null,null,null,null,null,null,null,null,null,null,null,null,null,null,null,null,null,null,null,0,0]
[null,null,null,null,null,null,null,null,null,null,null,null,null,null,null,null,null,null,null,null,null,null,null,null,null,null,null,null,null,null,null,null,null,null,null,null,null,null,null,null,null,null,null,null,null,null,null,null,null,null,null,null,null,null,null,null,null,null,null,null,null,null,0,0]
[null,null,null,null,null,null,null,null,null,null,null,null,null,null,null,null,null,null,null,null,null,null,null,null,null,null,null,null,null,null,null,null,null,null,null,null,null,null,null,null,null,null,null,null,null,null,null,null,null,null,null,null,null,null,null,null,null,null,null,null,null,null,0,0]
[null,null,null,null,null,null,null,null,null,null,null,null,null,null,null,null,null,null,null,null,null,null,null,null,null,null,null,null,null,null,null,null,null,null,null,null,null,null,null,null,null,null,null,null,null,null,null,null,null,null,null,null,null,null,null,null,null,null,null,null,null,null,0,0]
[null,null,null,null,null,null,null,null,null,null,null,null,null,null,null,null,null,null,null,null,null,null,null,null,null,null,null,null,null,null,null,null,null,null,null,null,null,null,null,null,null,null,null,null,null,null,null,null,null,null,null,null,null,null,null,null,null,null,null,null,null,null,0,0]
[null,null,null,null,null,null,null,null,null,null,null,null,null,null,null,null,null,null,null,null,null,null,null,null,null,null,null,null,null,null,null,null,null,null,null,null,null,null,null,null,null,null,null,null,null,null,null,null,null,null,null,null,null,null,null,null,null,null,null,null,null,null,0,0]
[null,null,null,null,null,null,null,null,null,null,null,null,null,null,null,null,null,null,null,null,null,null,null,null,null,null,null,null,null,null,null,null,null,null,null,null,null,null,null,null,null,null,null,null,null,null,null,null,null,null,null,null,null,null,null,null,null,null,null,null,null,null,0,0]
[null,null,null,null,null,null,null,null,null,null,null,null,null,null,null,null,null,null,null,null,null,null,null,null,null,null,null,null,null,null,null,null,null,null,null,null,null,null,null,null,null,null,null,null,null,null,null,null,null,null,null,null,null,null,null,null,null,null,null,null,null,null,0,0]
[null,null,null,null,null,null,null,null,null,null,null,null,null,null,null,null,null,null,null,null,null,null,null,null,null,null,null,null,null,null,null,null,null,null,null,null,null,null,null,null,null,null,null,null,null,null,null,null,null,null,null,null,null,null,null,null,null,null,null,null,null,null,0,0]
[null,null,null,null,null,null,null,null,null,null,null,null,null,null,null,null,null,null,null,null,null,null,null,null,null,null,null,null,null,null,null,null,null,null,null,null,null,null,null,null,null,null,null,null,null,null,null,null,null,null,null,null,null,null,null,null,null,null,null,null,null,null,0,0]
[null,null,null,null,null,null,null,null,null,null,null,null,null,null,null,null,null,null,null,null,null,null,null,null,null,null,null,null,null,null,null,null,null,null,null,null,null,null,null,null,null,null,null,null,null,null,null,null,null,null,null,null,null,null,null,null,null,null,null,null,null,null,0,0]
[null,null,null,null,null,null,null,null,null,null,null,null,null,null,null,null,null,null,null,null,null,null,null,null,null,null,null,null,null,null,null,null,null,null,null,null,null,null,null,null,null,null,null,null,null,null,null,null,null,null,null,null,null,null,null,null,null,null,null,null,null,null,0,0]
[null,null,null,null,null,null,null,null,null,null,null,null,null,null,null,null,null,null,null,null,null,null,null,null,null,null,null,null,null,null,null,null,null,null,null,null,null,null,null,null,null,null,null,null,null,null,null,null,null,null,null,null,null,null,null,null,null,null,null,null,null,null,0,0]
[null,null,null,null,null,null,null,null,null,null,null,null,null,null,null,null,null,null,null,null,null,null,null,null,null,null,null,null,null,null,null,null,null,null,null,null,null,null,null,null,null,null,null,null,null,null,null,null,null,null,null,null,null,null,null,null,null,null,null,null,null,null,0,0]
[null,null,null,null,null,null,null,null,null,null,null,null,null,null,null,null,null,null,null,null,null,null,null,null,null,null,null,null,null,null,null,null,null,null,null,null,null,null,null,null,null,null,null,null,null,null,null,null,null,null,null,null,null,null,null,null,null,null,null,null,null,null,0,0]
[null,null,null,null,null,null,null,null,null,null,null,null,null,null,null,null,null,null,null,null,null,null,null,null,null,null,null,null,null,null,null,null,null,null,null,null,null,null,null,null,null,null,null,null,null,null,null,null,null,null,null,null,null,null,null,null,null,null,null,null,null,null,0,0]
[null,null,null,null,null,null,null,null,null,null,null,null,null,null,null,null,null,null,null,null,null,null,null,null,null,null,null,null,null,null,null,null,null,null,null,null,null,null,null,null,null,null,null,null,null,null,null,null,null,null,null,null,null,null,null,null,null,null,null,null,null,null,0,0]
[null,null,null,null,null,null,null,null,null,null,null,null,null,null,null,null,null,null,null,null,null,null,null,null,null,null,null,null,null,null,null,null,null,null,null,null,null,null,null,null,null,null,null,null,null,null,null,null,null,null,null,null,null,null,null,null,null,null,null,null,null,null,0,0]
[null,null,null,null,null,null,null,null,null,null,null,null,null,null,null,null,null,null,null,null,null,null,null,null,null,null,null,null,null,null,null,null,null,null,null,null,null,null,null,null,null,null,null,null,null,null,null,null,null,null,null,null,null,null,null,null,null,null,null,null,null,null,0,0]
[null,null,null,null,null,null,null,null,null,null,null,null,null,null,null,null,null,null,null,null,null,null,null,null,null,null,null,null,null,null,null,null,null,null,null,null,null,null,null,null,null,null,null,null,null,null,null,null,null,null,null,null,null,null,null,null,null,null,null,null,null,null,0,0]
[null,null,null,null,null,null,null,null,null,null,null,null,null,null,null,null,null,null,null,null,null,null,null,null,null,null,null,null,null,null,null,null,null,null,null,null,null,null,null,null,null,null,null,null,null,null,null,null,null,null,null,null,null,null,null,null,null,null,null,null,null,null,0,0]
[null,null,null,null,null,null,null,null,null,null,null,null,null,null,null,null,null,null,null,null,null,null,null,null,null,null,null,null,null,null,null,null,null,null,null,null,null,null,null,null,null,null,null,null,null,null,null,null,null,null,null,null,null,null,null,null,null,null,null,null,null,null,0,0]
[null,null,null,null,null,null,null,null,null,null,null,null,null,null,null,null,null,null,null,null,null,null,null,null,null,null,null,null,null,null,null,null,null,null,null,null,null,null,null,null,null,null,null,null,null,null,null,null,null,null,null,null,null,null,null,null,null,null,null,null,null,null,0,0]
[null,null,null,null,null,null,null,null,null,null,null,null,null,null,null,null,null,null,null,null,null,null,null,null,null,null,null,null,null,null,null,null,null,null,null,null,null,null,null,null,null,null,null,null,null,null,null,null,null,null,null,null,null,null,null,null,null,null,null,null,null,null,0,0]
[null,null,null,null,null,null,null,null,null,null,null,null,null,null,null,null,null,null,null,null,null,null,null,null,null,null,null,null,null,null,null,null,null,null,null,null,null,null,null,null,null,null,null,null,null,null,null,null,null,null,null,null,null,null,null,null,null,null,null,null,null,null,{"$f":"+AI807+AE807+Y807+W807+U807+S807+Q807+O807+M807+I807+G807+E807+C807+AG807+K807+BG807+BN807+AA807+AC807+AK807+AM807+AO807+AW807","v":0},{"$f":"COUNT(C807:BH807)/2","v":0}]
[null,null,null,null,null,null,null,null,null,null,null,null,null,null,null,null,null,null,null,null,null,null,null,null,null,null,null,null,null,null,null,null,null,null,null,null,null,null,null,null,null,null,null,null,null,null,null,null,null,null,null,null,null,null,null,null,null,null,null,null,null,null,0,0]
[null,null,null,null,null,null,null,null,null,null,null,null,null,null,null,null,null,null,null,null,null,null,null,null,null,null,null,null,null,null,null,null,null,null,null,null,null,null,null,null,null,null,null,null,null,null,null,null,null,null,null,null,null,null,null,null,null,null,null,null,null,null,0,0]
[null,null,null,null,null,null,null,null,null,null,null,null,null,null,null,null,null,null,null,null,null,null,null,null,null,null,null,null,null,null,null,null,null,null,null,null,null,null,null,null,null,null,null,null,null,null,null,null,null,null,null,null,null,null,null,null,null,null,null,null,null,null,0,0]
[null,null,null,null,null,null,null,null,null,null,null,null,null,null,null,null,null,null,null,null,null,null,null,null,null,null,null,null,null,null,null,null,null,null,null,null,null,null,null,null,null,null,null,null,null,null,null,null,null,null,null,null,null,null,null,null,null,null,null,null,null,null,0,0]
[null,null,null,null,null,null,null,null,null,null,null,null,null,null,null,null,null,null,null,null,null,null,null,null,null,null,null,null,null,null,null,null,null,null,null,null,null,null,null,null,null,null,null,null,null,null,null,null,null,null,null,null,null,null,null,null,null,null,null,null,null,null,0,0]
[null,null,null,null,null,null,null,null,null,null,null,null,null,null,null,null,null,null,null,null,null,null,null,null,null,null,null,null,null,null,null,null,null,null,null,null,null,null,null,null,null,null,null,null,null,null,null,null,null,null,null,null,null,null,null,null,null,null,null,null,null,null,0,0]
[null,null,null,null,null,null,null,null,null,null,null,null,null,null,null,null,null,null,null,null,null,null,null,null,null,null,null,null,null,null,null,null,null,null,null,null,null,null,null,null,null,null,null,null,null,null,null,null,null,null,null,null,null,null,null,null,null,null,null,null,null,null,0,0]
[null,null,null,null,null,null,null,null,null,null,null,null,null,null,null,null,null,null,null,null,null,null,null,null,null,null,null,null,null,null,null,null,null,null,null,null,null,null,null,null,null,null,null,null,null,null,null,null,null,null,null,null,null,null,null,null,null,null,null,null,null,null,0,0]
[null,null,null,null,null,null,null,null,null,null,null,null,null,null,null,null,null,null,null,null,null,null,null,null,null,null,null,null,null,null,null,null,null,null,null,null,null,null,null,null,null,null,null,null,null,null,null,null,null,null,null,null,null,null,null,null,null,null,null,null,null,null,0,0]
[null,null,null,null,null,null,null,null,null,null,null,null,null,null,null,null,null,null,null,null,null,null,null,null,null,null,null,null,null,null,null,null,null,null,null,null,null,null,null,null,null,null,null,null,null,null,null,null,null,null,null,null,null,null,null,null,null,null,null,null,null,null,0,0]
[null,null,null,null,null,null,null,null,null,null,null,null,null,null,null,null,null,null,null,null,null,null,null,null,null,null,null,null,null,null,null,null,null,null,null,null,null,null,null,null,null,null,null,null,null,null,null,null,null,null,null,null,null,null,null,null,null,null,null,null,null,null,0,0]
[null,null,null,null,null,null,null,null,null,null,null,null,null,null,null,null,null,null,null,null,null,null,null,null,null,null,null,null,null,null,null,null,null,null,null,null,null,null,null,null,null,null,null,null,null,null,null,null,null,null,null,null,null,null,null,null,null,null,null,null,null,null,0,0]
[null,null,null,null,null,null,null,null,null,null,null,null,null,null,null,null,null,null,null,null,null,null,null,null,null,null,null,null,null,null,null,null,null,null,null,null,null,null,null,null,null,null,null,null,null,null,null,null,null,null,null,null,null,null,null,null,null,null,null,null,null,null,0,0]
[null,null,null,null,null,null,null,null,null,null,null,null,null,null,null,null,null,null,null,null,null,null,null,null,null,null,null,null,null,null,null,null,null,null,null,null,null,null,null,null,null,null,null,null,null,null,null,null,null,null,null,null,null,null,null,null,null,null,null,null,null,null,0,0]
[null,null,null,null,null,null,null,null,null,null,null,null,null,null,null,null,null,null,null,null,null,null,null,null,null,null,null,null,null,null,null,null,null,null,null,null,null,null,null,null,null,null,null,null,null,null,null,null,null,null,null,null,null,null,null,null,null,null,null,null,null,null,0,0]
[null,null,null,null,null,null,null,null,null,null,null,null,null,null,null,null,null,null,null,null,null,null,null,null,null,null,null,null,null,null,null,null,null,null,null,null,null,null,null,null,null,null,null,null,null,null,null,null,null,null,null,null,null,null,null,null,null,null,null,null,null,null,0,0]
[null,null,null,null,null,null,null,null,null,null,null,null,null,null,null,null,null,null,null,null,null,null,null,null,null,null,null,null,null,null,null,null,null,null,null,null,null,null,null,null,null,null,null,null,null,null,null,null,null,null,null,null,null,null,null,null,null,null,null,null,null,null,0,0]
[null,null,null,null,null,null,null,null,null,null,null,null,null,null,null,null,null,null,null,null,null,null,null,null,null,null,null,null,null,null,null,null,null,null,null,null,null,null,null,null,null,null,null,null,null,null,null,null,null,null,null,null,null,null,null,null,null,null,null,null,null,null,0,0]
[null,null,null,null,null,null,null,null,null,null,null,null,null,null,null,null,null,null,null,null,null,null,null,null,null,null,null,null,null,null,null,null,null,null,null,null,null,null,null,null,null,null,null,null,null,null,null,null,null,null,null,null,null,null,null,null,null,null,null,null,null,null,0,0]
[null,null,null,null,null,null,null,null,null,null,null,null,null,null,null,null,null,null,null,null,null,null,null,null,null,null,null,null,null,null,null,null,null,null,null,null,null,null,null,null,null,null,null,null,null,null,null,null,null,null,null,null,null,null,null,null,null,null,null,null,null,null,0,0]
[null,null,null,null,null,null,null,null,null,null,null,null,null,null,null,null,null,null,null,null,null,null,null,null,null,null,null,null,null,null,null,null,null,null,null,null,null,null,null,null,null,null,null,null,null,null,null,null,null,null,null,null,null,null,null,null,null,null,null,null,null,null,0,0]
[null,null,null,null,null,null,null,null,null,null,null,null,null,null,null,null,null,null,null,null,null,null,null,null,null,null,null,null,null,null,null,null,null,null,null,null,null,null,null,null,null,null,null,null,null,null,null,null,null,null,null,null,null,null,null,null,null,null,null,null,null,null,0,0]
[null,null,null,null,null,null,null,null,null,null,null,null,null,null,null,null,null,null,null,null,null,null,null,null,null,null,null,null,null,null,null,null,null,null,null,null,null,null,null,null,null,null,null,null,null,null,null,null,null,null,null,null,null,null,null,null,null,null,null,null,null,null,0,0]
[null,null,null,null,null,null,null,null,null,null,null,null,null,null,null,null,null,null,null,null,null,null,null,null,null,null,null,null,null,null,null,null,null,null,null,null,null,null,null,null,null,null,null,null,null,null,null,null,null,null,null,null,null,null,null,null,null,null,null,null,null,null,0,0]
[null,null,null,null,null,null,null,null,null,null,null,null,null,null,null,null,null,null,null,null,null,null,null,null,null,null,null,null,null,null,null,null,null,null,null,null,null,null,null,null,null,null,null,null,null,null,null,null,null,null,null,null,null,null,null,null,null,null,null,null,null,null,0,0]
[null,null,null,null,null,null,null,null,null,null,null,null,null,null,null,null,null,null,null,null,null,null,null,null,null,null,null,null,null,null,null,null,null,null,null,null,null,null,null,null,null,null,null,null,null,null,null,null,null,null,null,null,null,null,null,null,null,null,null,null,null,null,0,0]
[null,null,null,null,null,null,null,null,null,null,null,null,null,null,null,null,null,null,null,null,null,null,null,null,null,null,null,null,null,null,null,null,null,null,null,null,null,null,null,null,null,null,null,null,null,null,null,null,null,null,null,null,null,null,null,null,null,null,null,null,null,null,0,0]
[null,null,null,null,null,null,null,null,null,null,null,null,null,null,null,null,null,null,null,null,null,null,null,null,null,null,null,null,null,null,null,null,null,null,null,null,null,null,null,null,null,null,null,null,null,null,null,null,null,null,null,null,null,null,null,null,null,null,null,null,null,null,0,0]
[null,null,null,null,null,null,null,null,null,null,null,null,null,null,null,null,null,null,null,null,null,null,null,null,null,null,null,null,null,null,null,null,null,null,null,null,null,null,null,null,null,null,null,null,null,null,null,null,null,null,null,null,null,null,null,null,null,null,null,null,null,null,0,0]
[null,null,null,null,null,null,null,null,null,null,null,null,null,null,null,null,null,null,null,null,null,null,null,null,null,null,null,null,null,null,null,null,null,null,null,null,null,null,null,null,null,null,null,null,null,null,null,null,null,null,null,null,null,null,null,null,null,null,null,null,null,null,0,0]
[null,null,null,null,null,null,null,null,null,null,null,null,null,null,null,null,null,null,null,null,null,null,null,null,null,null,null,null,null,null,null,null,null,null,null,null,null,null,null,null,null,null,null,null,null,null,null,null,null,null,null,null,null,null,null,null,null,null,null,null,null,null,0,0]
[null,null,null,null,null,null,null,null,null,null,null,null,null,null,null,null,null,null,null,null,null,null,null,null,null,null,null,null,null,null,null,null,null,null,null,null,null,null,null,null,null,null,null,null,null,null,null,null,null,null,null,null,null,null,null,null,null,null,null,null,null,null,0,0]
[null,null,null,null,null,null,null,null,null,null,null,null,null,null,null,null,null,null,null,null,null,null,null,null,null,null,null,null,null,null,null,null,null,null,null,null,null,null,null,null,null,null,null,null,null,null,null,null,null,null,null,null,null,null,null,null,null,null,null,null,null,null,0,0]
[null,null,null,null,null,null,null,null,null,null,null,null,null,null,null,null,null,null,null,null,null,null,null,null,null,null,null,null,null,null,null,null,null,null,null,null,null,null,null,null,null,null,null,null,null,null,null,null,null,null,null,null,null,null,null,null,null,null,null,null,null,null,0,0]
[null,null,null,null,null,null,null,null,null,null,null,null,null,null,null,null,null,null,null,null,null,null,null,null,null,null,null,null,null,null,null,null,null,null,null,null,null,null,null,null,null,null,null,null,null,null,null,null,null,null,null,null,null,null,null,null,null,null,null,null,null,null,0,0]
[null,null,null,null,null,null,null,null,null,null,null,null,null,null,null,null,null,null,null,null,null,null,null,null,null,null,null,null,null,null,null,null,null,null,null,null,null,null,null,null,null,null,null,null,null,null,null,null,null,null,null,null,null,null,null,null,null,null,null,null,null,null,0,0]
[null,null,null,null,null,null,null,null,null,null,null,null,null,null,null,null,null,null,null,null,null,null,null,null,null,null,null,null,null,null,null,null,null,null,null,null,null,null,null,null,null,null,null,null,null,null,null,null,null,null,null,null,null,null,null,null,null,null,null,null,null,null,0,0]
[null,null,null,null,null,null,null,null,null,null,null,null,null,null,null,null,null,null,null,null,null,null,null,null,null,null,null,null,null,null,null,null,null,null,null,null,null,null,null,null,null,null,null,null,null,null,null,null,null,null,null,null,null,null,null,null,null,null,null,null,null,null,0,0]
[null,null,null,null,null,null,null,null,null,null,null,null,null,null,null,null,null,null,null,null,null,null,null,null,null,null,null,null,null,null,null,null,null,null,null,null,null,null,null,null,null,null,null,null,null,null,null,null,null,null,null,null,null,null,null,null,null,null,null,null,null,null,0,0]
[null,null,null,null,null,null,null,null,null,null,null,null,null,null,null,null,null,null,null,null,null,null,null,null,null,null,null,null,null,null,null,null,null,null,null,null,null,null,null,null,null,null,null,null,null,null,null,null,null,null,null,null,null,null,null,null,null,null,null,null,null,null,0,0]
[null,null,null,null,null,null,null,null,null,null,null,null,null,null,null,null,null,null,null,null,null,null,null,null,null,null,null,null,null,null,null,null,null,null,null,null,null,null,null,null,null,null,null,null,null,null,null,null,null,null,null,null,null,null,null,null,null,null,null,null,null,null,0,0]
[null,null,null,null,null,null,null,null,null,null,null,null,null,null,null,null,null,null,null,null,null,null,null,null,null,null,null,null,null,null,null,null,null,null,null,null,null,null,null,null,null,null,null,null,null,null,null,null,null,null,null,null,null,null,null,null,null,null,null,null,null,null,0,0]
[null,null,null,null,null,null,null,null,null,null,null,null,null,null,null,null,null,null,null,null,null,null,null,null,null,null,null,null,null,null,null,null,null,null,null,null,null,null,null,null,null,null,null,null,null,null,null,null,null,null,null,null,null,null,null,null,null,null,null,null,null,null,0,0]
[null,null,null,null,null,null,null,null,null,null,null,null,null,null,null,null,null,null,null,null,null,null,null,null,null,null,null,null,null,null,null,null,null,null,null,null,null,null,null,null,null,null,null,null,null,null,null,null,null,null,null,null,null,null,null,null,null,null,null,null,null,null,0,0]
[null,null,null,null,null,null,null,null,null,null,null,null,null,null,null,null,null,null,null,null,null,null,null,null,null,null,null,null,null,null,null,null,null,null,null,null,null,null,null,null,null,null,null,null,null,null,null,null,null,null,null,null,null,null,null,null,null,null,null,null,null,null,0,0]
[null,null,null,null,null,null,null,null,null,null,null,null,null,null,null,null,null,null,null,null,null,null,null,null,null,null,null,null,null,null,null,null,null,null,null,null,null,null,null,null,null,null,null,null,null,null,null,null,null,null,null,null,null,null,null,null,null,null,null,null,null,null,0,0]
[null,null,null,null,null,null,null,null,null,null,null,null,null,null,null,null,null,null,null,null,null,null,null,null,null,null,null,null,null,null,null,null,null,null,null,null,null,null,null,null,null,null,null,null,null,null,null,null,null,null,null,null,null,null,null,null,null,null,null,null,null,null,0,0]
[null,null,null,null,null,null,null,null,null,null,null,null,null,null,null,null,null,null,null,null,null,null,null,null,null,null,null,null,null,null,null,null,null,null,null,null,null,null,null,null,null,null,null,null,null,null,null,null,null,null,null,null,null,null,null,null,null,null,null,null,null,null,0,0]
[null,null,null,null,null,null,null,null,null,null,null,null,null,null,null,null,null,null,null,null,null,null,null,null,null,null,null,null,null,null,null,null,null,null,null,null,null,null,null,null,null,null,null,null,null,null,null,null,null,null,null,null,null,null,null,null,null,null,null,null,null,null,0,0]
[null,null,null,null,null,null,null,null,null,null,null,null,null,null,null,null,null,null,null,null,null,null,null,null,null,null,null,null,null,null,null,null,null,null,null,null,null,null,null,null,null,null,null,null,null,null,null,null,null,null,null,null,null,null,null,null,null,null,null,null,null,null,0,0]
[null,null,null,null,null,null,null,null,null,null,null,null,null,null,null,null,null,null,null,null,null,null,null,null,null,null,null,null,null,null,null,null,null,null,null,null,null,null,null,null,null,null,null,null,null,null,null,null,null,null,null,null,null,null,null,null,null,null,null,null,null,null,0,0]
[]
[]
[]
[]
[]
[]
[]
[]
[]
[]
[]
[]
[]
[]
[]
[]
[]
[]
[]
[]
[]
[]
[]
[]
[]
[]
[]
[]
[]
[]
[]
[]
[]
[]
[]
[]
[]
[]
[]
[]
[]
[]
[]
[]
[]
[]
[]
[]
[]
[]
[{"$f":"+A607+1","v":555},null,null,null,null,null,null,null,null,null,null,null,null,null,null,null,null,null,null,null,null,null,null,null,null,null,null,null,null,null,null,null,null,null,null,null,null,null,null,null,null,null,null,null,null,null,null,null,null,null,null,null,null,null,null,null,null,null,null,null,null,null,{"$f":"+AI909+AE909+Y909+W909+U909+S909+Q909+O909+M909+I909+G909+E909+C909+AG909+K909+BG909+BN909+AA909+AC909+AK909+AM909+AO909","v":0},0]

{"sheet":"Tute cabrò","index":2,"n_rows":128,"n_cols":38,"rows_kept":128,"cut":false,"hidden":false,"merged":[[38,24,38,25],[38,26,38,27],[38,30,38,31],[38,16,38,17],[38,18,38,19],[38,20,38,21],[38,22,38,23],[38,28,38,29],[38,8,38,9],[38,10,38,11],[38,12,38,13],[38,14,38,15],[38,1,39,1],[38,2,38,3],[38,4,38,5],[38,6,38,7]]}
["TUTE CABRÒ"]
["Mes"]
[{"$f":"+GENERAL!B6","v":12},null,{"$f":"SUM(C5:C19)","v":2.8421709430404007E-14}]
[null,null,"Premi","Punts","Partides","General"]
[1,"Jordi",{"$f":"+G$36","v":179.33333333333334},{"$f":"+H$37","v":1.6206896551724137},{"$f":"+H$36","v":58},{"$f":"+G$22","v":80},{"$f":"IF(E5<A$3/2,-1,1)*800000+C5*1000-D5*10+E5","v":979375.1264367816}]
[2,"Sebas",{"$f":"+C$36","v":30},{"$f":"+D$37","v":2.0303030303030303},{"$f":"+D$36","v":33},{"$f":"+C$22","v":40},{"$f":"IF(E6<A$3/2,-1,1)*800000+C6*1000-D6*10+E6","v":830012.69696969702}]
[3,"Òscar",{"$f":"+W$36","v":20},{"$f":"+X$37","v":1.8333333333333333},{"$f":"+X$36","v":6},{"$f":"+W$22","v":20},819987.66666666663]
[4,"Grau",{"$f":"+E$36","v":-10},{"$f":"+F$37","v":2.2000000000000002},{"$f":"+F$36","v":10},{"$f":"+E$22","v":10},789988]
[5,"Goretti",{"$f":"+K$36","v":-20},{"$f":"+L$37","v":2},{"$f":"+L$36","v":12},{"$f":"+K$22","v":5},779992]
[6,"Núria",{"$f":"+S$36","v":-40.666666666666664},{"$f":"+T$37","v":2.5517241379310347},{"$f":"+T$36","v":29},{"$f":"+S$22","v":0},759336.81609195401]
[7,"Gemma",{"$f":"+Y$36","v":-48},{"$f":"+Z$37","v":2.6666666666666665},{"$f":"+Z$36","v":9},{"$f":"+Y$22","v":0},751982.33333333337]
[8,"Montse",{"$f":"+AE$36","v":-109.66666666666666},{"$f":"+AF$37","v":2.7272727272727271},{"$f":"+AF$36","v":33},{"$f":"+AE$22","v":0},690339.06060606067]
[9,"Ana",{"$f":"+AA$36","v":10},{"$f":"+AB$37","v":1.5},{"$f":"+AB$36","v":4},{"$f":"+AA$22","v":0},-790011]
[10,"Sergi",{"$f":"+M$36","v":7},{"$f":"+N$37","v":0},{"$f":"+N$36","v":1},{"$f":"+M$22","v":0},-792999]
[11,"Caty",{"$f":"+AC$36","v":0},{"$f":"+AD$37","v":2},{"$f":"+AD$36","v":1},{"$f":"+M$22","v":0},-800019]
[12,"Nin",{"$f":"+I$36","v":0},{"$f":"+J$37","v":2},{"$f":"+J$36","v":2},{"$f":"+I$22","v":0},-800018]
[13,"Manolo",{"$f":"+U$36","v":0},{"$f":"+V$37","v":3},{"$f":"+V$36","v":2},{"$f":"+U$22","v":0},-800028]
[14,"Carles",{"$f":"+O$36","v":-3},{"$f":"+P$37","v":1.5},{"$f":"+P$36","v":2},{"$f":"+O$22","v":0},-803013]
[15,"Mariajo",{"$f":"+Q$36","v":-15},{"$f":"+R$37","v":3},{"$f":"+R$36","v":5},{"$f":"+Q$22","v":0},-815025]
[]
[]
[null,"General",{"$f":"+C23*C24","v":40},{"$f":"+D23*D24","v":33},10,10,{"$f":"+G23*G24","v":80},58,0,2,5,12,0,1,0,2,0,5,{"$f":"+S23*S24","v":0},29,0,2,20,6,{"$f":"+Y23*Y24","v":0},9,{"$f":"+AA23*AA24","v":0},{"$f":"+AB23*AB24","v":4},{"$f":"+AC23*AC24","v":0},1,0,33]
[null,null,{"$f":"IF($B35>3,1,0)","v":1},{"$f":"IF($B35>3,1,0)","v":1},1,1,{"$f":"IF($B35>3,1,0)","v":1},1,1,1,1,1,1,1,1,1,1,1,1,1,1,1,1,1,1,1,{"$f":"IF($B35>3,1,0)","v":1},{"$f":"IF($B35>3,1,0)","v":1},{"$f":"IF($B35>3,1,0)","v":1},1,1,1]
[null,null,{"$f":"MAX(C25:C29)","v":40},{"$f":"+D36","v":33},{"$f":"MAX(E25:E29)","v":10},{"$f":"+F36","v":10},{"$f":"MAX(G25:G29)","v":80},{"$f":"+H36","v":58},{"$f":"MAX(I25:I29)","v":0},{"$f":"+J36","v":2},{"$f":"MAX(K25:K29)","v":5},{"$f":"+L36","v":12},{"$f":"MAX(M25:M29)","v":0},{"$f":"+N36","v":1},{"$f":"MAX(O25:O29)","v":0},{"$f":"+P36","v":2},{"$f":"MAX(Q25:Q29)","v":0},{"$f":"+R36","v":5},{"$f":"MAX(S25:S29)","v":0},{"$f":"+T36","v":29},{"$f":"MAX(U25:U29)","v":0},{"$f":"+V36","v":2},{"$f":"MAX(W25:W29)","v":20},{"$f":"+X36","v":6},{"$f":"MAX(Y25:Y29)","v":0},{"$f":"+Z36","v":9},{"$f":"MAX(AA25:AA29)","v":0},{"$f":"+AB36","v":4},{"$f":"MAX(AC25:AC29)","v":0},{"$f":"+AD36","v":1},{"$f":"MAX(AE25:AE29)","v":0},{"$f":"+AF36","v":33}]
[null,null,{"$f":"IF(C$30=5,5,0)","v":0},null,{"$f":"IF(E$30=5,5,0)","v":0},null,{"$f":"IF(G$30=5,5,0)","v":0},null,{"$f":"IF(I$30=5,5,0)","v":0},null,{"$f":"IF(K$30=5,5,0)","v":5},null,{"$f":"IF(M$30=5,5,0)","v":0},null,{"$f":"IF(O$30=5,5,0)","v":0},null,{"$f":"IF(Q$30=5,5,0)","v":0},null,{"$f":"IF(S$30=5,5,0)","v":0},null,{"$f":"IF(U$30=5,5,0)","v":0},null,{"$f":"IF(W$30=5,5,0)","v":0},null,{"$f":"IF(Y$30=5,5,0)","v":0},null,{"$f":"IF(AA$30=5,5,0)","v":0},null,{"$f":"IF(AC$30=5,5,0)","v":0},null,{"$f":"IF(AE$30=5,5,0)","v":0}]
[null,null,{"$f":"IF(C$30=4,10,0)","v":0},null,{"$f":"IF(E$30=4,10,0)","v":10},null,{"$f":"IF(G$30=4,10,0)","v":0},null,{"$f":"IF(I$30=4,10,0)","v":0},null,{"$f":"IF(K$30=4,10,0)","v":0},null,{"$f":"IF(M$30=4,10,0)","v":0},null,{"$f":"IF(O$30=4,10,0)","v":0},null,{"$f":"IF(Q$30=4,10,0)","v":0},null,{"$f":"IF(S$30=4,10,0)","v":0},null,{"$f":"IF(U$30=4,10,0)","v":0},null,{"$f":"IF(W$30=4,10,0)","v":0},null,{"$f":"IF(Y$30=4,10,0)","v":0},null,{"$f":"IF(AA$30=4,10,0)","v":0},null,{"$f":"IF(AC$30=4,10,0)","v":0},null,{"$f":"IF(AE$30=4,10,0)","v":0}]
[null,null,{"$f":"IF(C$30=3,20,0)","v":0},null,{"$f":"IF(E$30=3,20,0)","v":0},null,{"$f":"IF(G$30=3,20,0)","v":0},null,{"$f":"IF(I$30=3,20,0)","v":0},null,{"$f":"IF(K$30=3,20,0)","v":0},null,{"$f":"IF(M$30=3,20,0)","v":0},null,{"$f":"IF(O$30=3,20,0)","v":0},null,{"$f":"IF(Q$30=3,20,0)","v":0},null,{"$f":"IF(S$30=3,20,0)","v":0},null,{"$f":"IF(U$30=3,20,0)","v":0},null,{"$f":"IF(W$30=3,20,0)","v":20},null,{"$f":"IF(Y$30=3,20,0)","v":0},null,{"$f":"IF(AA$30=3,20,0)","v":0},null,{"$f":"IF(AC$30=3,20,0)","v":0},null,{"$f":"IF(AE$30=3,20,0)","v":0}]
[null,null,{"$f":"IF(C$30=2,40,0)","v":40},null,{"$f":"IF(E$30=2,40,0)","v":0},null,{"$f":"IF(G$30=2,40,0)","v":0},null,{"$f":"IF(I$30=2,40,0)","v":0},null,{"$f":"IF(K$30=2,40,0)","v":0},null,{"$f":"IF(M$30=2,40,0)","v":0},null,{"$f":"IF(O$30=2,40,0)","v":0},null,{"$f":"IF(Q$30=2,40,0)","v":0},null,{"$f":"IF(S$30=2,40,0)","v":0},null,{"$f":"IF(U$30=2,40,0)","v":0},null,{"$f":"IF(W$30=2,40,0)","v":0},null,{"$f":"IF(Y$30=2,40,0)","v":0},null,{"$f":"IF(AA$30=2,40,0)","v":0},null,{"$f":"IF(AC$30=2,40,0)","v":0},null,{"$f":"IF(AE$30=2,40,0)","v":0}]
[null,null,{"$f":"IF(C$30=1,80,0)","v":0},null,{"$f":"IF(E$30=1,80,0)","v":0},null,{"$f":"IF(G$30=1,80,0)","v":80},null,{"$f":"IF(I$30=1,80,0)","v":0},null,{"$f":"IF(K$30=1,80,0)","v":0},null,{"$f":"IF(M$30=1,80,0)","v":0},null,{"$f":"IF(O$30=1,80,0)","v":0},null,{"$f":"IF(Q$30=1,80,0)","v":0},null,{"$f":"IF(S$30=1,80,0)","v":0},null,{"$f":"IF(U$30=1,80,0)","v":0},null,{"$f":"IF(W$30=1,80,0)","v":0},null,{"$f":"IF(Y$30=1,80,0)","v":0},null,{"$f":"IF(AA$30=1,80,0)","v":0},null,{"$f":"IF(AC$30=1,80,0)","v":0},null,{"$f":"IF(AE$30=1,80,0)","v":0}]
[null,null,{"$f":"RANK(C31,$C31:$BH31)*C35","v":2},null,{"$f":"RANK(E31,$C31:$BH31)*E35","v":4},null,{"$f":"RANK(G31,$C31:$BH31)*G35","v":1},null,{"$f":"RANK(I31,$C31:$BH31)*I35","v":0},null,{"$f":"RANK(K31,$C31:$BH31)*K35","v":5},null,{"$f":"RANK(M31,$C31:$BH31)*M35","v":0},null,{"$f":"RANK(O31,$C31:$BH31)*O35","v":0},null,{"$f":"RANK(Q31,$C31:$BH31)*Q35","v":0},null,{"$f":"RANK(S31,$C31:$BH31)*S35","v":6},null,{"$f":"RANK(U31,$C31:$BH31)*U35","v":0},null,{"$f":"RANK(W31,$C31:$BH31)*W35","v":3},null,{"$f":"RANK(Y31,$C31:$BH31)*Y35","v":7},null,{"$f":"RANK(AA31,$C31:$BH31)*AA35","v":0},null,{"$f":"RANK(AC31,$C31:$BH31)*AC35","v":0},null,{"$f":"RANK(AE31,$C31:$BH31)*AE35","v":8}]
[null,null,{"$f":"SUM(C32:C34)","v":29859.969696969696},null,{"$f":"SUM(E32:E34)","v":-10220},null,{"$f":"SUM(G32:G34)","v":179408.59770114944},null,{"$f":"SUM(I32:I34)","v":-1000198},null,{"$f":"SUM(K32:K34)","v":-20208},null,{"$f":"SUM(M32:M34)","v":-999992},null,{"$f":"SUM(O32:O34)","v":-1000151},null,{"$f":"SUM(Q32:Q34)","v":-1000310},null,{"$f":"SUM(S32:S34)","v":-40933.50574712643},null,{"$f":"SUM(U32:U34)","v":-1000298},null,{"$f":"SUM(W32:W34)","v":19842.666666666668},null,{"$f":"SUM(Y32:Y34)","v":-48305.666666666664},null,{"$f":"SUM(AA32:AA34)","v":-1000136},null,{"$f":"SUM(AC32:AC34)","v":-1000199},null,{"$f":"SUM(AE32:AE34)","v":-110016.06060606061}]
[null,null,{"$f":"+D36","v":33},null,{"$f":"+F36","v":10},null,{"$f":"+H36","v":58},null,{"$f":"+J36","v":2},null,{"$f":"+L36","v":12},null,{"$f":"+N36","v":1},null,{"$f":"+P36","v":2},null,{"$f":"+R36","v":5},null,{"$f":"+T36","v":29},null,{"$f":"+V36","v":2},null,{"$f":"+X36","v":6},null,{"$f":"+Z36","v":9},null,{"$f":"+AB36","v":4},null,{"$f":"+AD36","v":1},null,{"$f":"+AF36","v":33}]
[null,null,{"$f":"-D37*100","v":-203.03030303030303},null,{"$f":"-F37*100","v":-220.00000000000003},null,{"$f":"-H37*100","v":-162.06896551724137},null,{"$f":"-J37*100","v":-200},null,{"$f":"-L37*100","v":-200},null,{"$f":"-N37*100","v":0},null,{"$f":"-P37*100","v":-150},null,{"$f":"-R37*100","v":-300},null,{"$f":"-T37*100","v":-255.17241379310346},null,{"$f":"-V37*100","v":-300},null,{"$f":"-X37*100","v":-183.33333333333331},null,{"$f":"-Z37*100","v":-266.66666666666663},null,{"$f":"-AB37*100","v":-150},null,{"$f":"-AD37*100","v":-200},null,{"$f":"-AF37*100","v":-272.72727272727269}]
[null,null,{"$f":"IF(C35=1,C36*C35*1000+C36,-1000000+C36)","v":30030},null,{"$f":"IF(E35=1,E36*E35*1000+E36,-1000000+E36)","v":-10010},null,{"$f":"IF(G35=1,G36*G35*1000+G36,-1000000+G36)","v":179512.66666666669},null,{"$f":"IF(I35=1,I36*I35*1000+I36,-1000000+I36)","v":-1000000},null,{"$f":"IF(K35=1,K36*K35*1000+K36,-1000000+K36)","v":-20020},null,{"$f":"IF(M35=1,M36*M35*1000+M36,-1000000+M36)","v":-999993},null,{"$f":"IF(O35=1,O36*O35*1000+O36,-1000000+O36)","v":-1000003},null,{"$f":"IF(Q35=1,Q36*Q35*1000+Q36,-1000000+Q36)","v":-1000015},null,{"$f":"IF(S35=1,S36*S35*1000+S36,-1000000+S36)","v":-40707.333333333328},null,{"$f":"IF(U35=1,U36*U35*1000+U36,-1000000+U36)","v":-1000000},null,{"$f":"IF(W35=1,W36*W35*1000+W36,-1000000+W36)","v":20020},null,{"$f":"IF(Y35=1,Y36*Y35*1000+Y36,-1000000+Y36)","v":-48048},null,{"$f":"IF(AA35=1,AA36*AA35*1000+AA36,-1000000+AA36)","v":-999990},null,{"$f":"IF(AC35=1,AC36*AC35*1000+AC36,-1000000+AC36)","v":-1000000},null,{"$f":"IF(AE35=1,AE36*AE35*1000+AE36,-1000000+AE36)","v":-109776.33333333333}]
["Classificats",{"$f":"SUM(C35:AE35)","v":8},{"$f":"IF(D36>=$A3/2,1,0)","v":1},null,{"$f":"IF(F36>=$A3/2,1,0)","v":1},null,{"$f":"IF(H36>=$A3/2,1,0)","v":1},null,{"$f":"IF(J36>=$A3/2,1,0)","v":0},null,{"$f":"IF(L36>=$A3/2,1,0)","v":1},null,{"$f":"IF(N36>=$A3/2,1,0)","v":0},null,{"$f":"IF(P36>=$A3/2,1,0)","v":0},null,{"$f":"IF(R36>=$A3/2,1,0)","v":0},null,{"$f":"IF(T36>=$A3/2,1,0)","v":1},null,{"$f":"IF(V36>=$A3/2,1,0)","v":0},null,{"$f":"IF(X36>=$A3/2,1,0)","v":1},null,{"$f":"IF(Z36>=$A3/2,1,0)","v":1},null,{"$f":"IF(AB36>=$A3/2,1,0)","v":0},null,{"$f":"IF(AD36>=$A3/2,1,0)","v":0},null,{"$f":"IF(AF36>=$A3/2,1,0)","v":1}]
[null,null,{"$f":"IF(SUM(C41:C213)<-1000,-100000000,SUM(C41:C213))","v":30},{"$f":"COUNT(D41:D213)","v":33},{"$f":"IF(SUM(E41:E213)<-1000,-100000000,SUM(E41:E213))","v":-10},{"$f":"COUNT(F41:F213)","v":10},{"$f":"IF(SUM(G41:G213)<-1000,-100000000,SUM(G41:G213))","v":179.33333333333334},{"$f":"COUNT(H41:H213)","v":58},{"$f":"IF(SUM(I41:I213)<-1000,-100000000,SUM(I41:I213))","v":0},{"$f":"COUNT(J41:J213)","v":2},{"$f":"IF(SUM(K41:K213)<-1000,-100000000,SUM(K41:K213))","v":-20},{"$f":"COUNT(L41:L213)","v":12},{"$f":"IF(SUM(M41:M213)<-1000,-100000000,SUM(M41:M213))","v":7},{"$f":"COUNT(N41:N213)","v":1},{"$f":"IF(SUM(O41:O213)<-1000,-100000000,SUM(O41:O213))","v":-3},{"$f":"COUNT(P41:P213)","v":2},{"$f":"IF(SUM(Q41:Q213)<-1000,-100000000,SUM(Q41:Q213))","v":-15},{"$f":"COUNT(R41:R213)","v":5},{"$f":"IF(SUM(S41:S213)<-1000,-100000000,SUM(S41:S213))","v":-40.666666666666664},{"$f":"COUNT(T41:T213)","v":29},{"$f":"IF(SUM(U41:U213)<-1000,-100000000,SUM(U41:U213))","v":0},{"$f":"COUNT(V41:V213)","v":2},{"$f":"IF(SUM(W41:W213)<-1000,-100000000,SUM(W41:W213))","v":20},{"$f":"COUNT(X41:X213)","v":6},{"$f":"IF(SUM(Y41:Y213)<-1000,-100000000,SUM(Y41:Y213))","v":-48},{"$f":"COUNT(Z41:Z213)","v":9},{"$f":"IF(SUM(AA41:AA213)<-1000,-100000000,SUM(AA41:AA213))","v":10},{"$f":"COUNT(AB41:AB213)","v":4},{"$f":"IF(SUM(AC41:AC213)<-1000,-100000000,SUM(AC41:AC213))","v":0},{"$f":"COUNT(AD41:AD213)","v":1},{"$f":"IF(SUM(AE41:AE213)<-1000,-100000000,SUM(AE41:AE213))","v":-109.66666666666666},{"$f":"COUNT(AF41:AF213)","v":33},null,null,{"$f":"+AE36+Y36+W36+U36+S36+Q36+O36+M36+K36+I36+G36+E36+C36+AA36+AC36","v":2.8421709430404007E-14}]
[null,null,null,{"$f":"IF(D36=0,0.0001,AVERAGE(D41:D128))","v":2.0303030303030303},null,{"$f":"IF(F36=0,0.0001,AVERAGE(F41:F128))","v":2.2000000000000002},null,{"$f":"IF(H36=0,0.0001,AVERAGE(H41:H128))","v":1.6206896551724137},null,{"$f":"IF(J36=0,0.0001,AVERAGE(J41:J128))","v":2},null,{"$f":"IF(L36=0,0.0001,AVERAGE(L41:L128))","v":2},null,{"$f":"IF(N36=0,0.0001,AVERAGE(N41:N128))","v":0},null,{"$f":"IF(P36=0,0.0001,AVERAGE(P41:P128))","v":1.5},null,{"$f":"IF(R36=0,0.0001,AVERAGE(R41:R128))","v":3},null,{"$f":"IF(T36=0,0.0001,AVERAGE(T41:T128))","v":2.5517241379310347},null,{"$f":"IF(V36=0,0.0001,AVERAGE(V41:V128))","v":3},null,{"$f":"IF(X36=0,0.0001,AVERAGE(X41:X128))","v":1.8333333333333333},null,{"$f":"IF(Z36=0,0.0001,AVERAGE(Z41:Z128))","v":2.6666666666666665},null,{"$f":"IF(AB36=0,0.0001,AVERAGE(AB41:AB128))","v":1.5},null,{"$f":"IF(AD36=0,0.0001,AVERAGE(AD41:AD128))","v":2},null,{"$f":"IF(AF36=0,0.0001,AVERAGE(AF41:AF128))","v":2.7272727272727271}]
[null,null,null,null,null,null,null,null,null,null,null,null,null,null,null,null,null,null,null,null,null,null,null,null,null,null,null,null,null,null,null,null,{"$f":"MAX(AH41:AH100)","v":108}]
[null,"Comentaris","Sebas",null,"Grau",null,"Jordi",null,"Nin",null,"Goretti",null,"Sergi",null,"Carles",null,"Mariajo",null,"Núria",null,"Manolo",null,"Òscar",null,"Gemma",null,"Ana",null,"Caty",null,"Nogué",null,{"$f":"COUNT(AG41:AG128)","v":59},"A","B","C"]
[null,null,"Premi","Punts","Premi","Punts","Premi","Punts","Premi","Punts","Premi","Punts","Premi","Punts","Premi","Punts","Premi","Punts","Premi","Punts","Premi","Punts","Premi","Punts","Premi","Punts","Premi","Punts","Premi","Punts","Premi","Punts","Data","Timba"]
[1,null,5,3,null,null,5,3,null,null,null,null,null,null,null,null,null,null,-10,4,null,null,null,null,null,null,null,null,null,null,null,null,"2022-04-01",55,{"$f":"+AE41+Y41+W41+U41+S41+Q41+O41+M41+K41+I41+G41+E41+C41+AA41+AC41","v":0},{"$f":"COUNT(C41:AF41)/2","v":3},{"$f":"+AJ41*2-AL41","v":-4},{"$f":"+AF41+Z41+X41+V41+T41+R41+P41+N41+L41+J41+H41+F41+D41+AB41+AD41","v":10}]
[{"$f":"+A41+1","v":2},null,-10,5,null,null,{"$f":"10/3","v":3.3333333333333335},3,null,null,null,null,null,null,null,null,null,null,{"$f":"10/3","v":3.3333333333333335},3,null,null,null,null,null,null,null,null,null,null,{"$f":"10/3","v":3.3333333333333335},3,"2022-04-07",56,0,4,{"$f":"+AJ42*2-AL42","v":-6},14]
[{"$f":"+A42+1","v":3},null,null,null,null,null,5,2,null,null,null,null,null,null,null,null,null,null,5,2,null,null,null,null,null,null,null,null,null,null,-10,5,"2022-04-08",57,0,3,{"$f":"+AJ43*2-AL43","v":-3},9]
[4,null,null,null,null,null,10,0,null,null,null,null,null,null,null,null,null,null,-10,5,null,null,null,null,null,null,null,null,null,null,0,4,"2022-04-08",57,0,3,-3,9]
[5,null,null,null,null,null,10,2,null,null,null,null,null,null,null,null,null,null,0,3,null,null,null,null,null,null,null,null,null,null,-10,5,"2022-04-22",59,0,3,-4,10]
[6,null,null,null,null,null,10,1,null,null,null,null,null,null,null,null,null,null,0,3,null,null,null,null,null,null,null,null,null,null,-10,5,"2022-04-22",59,0,3,-3,9]
[7,null,null,null,null,null,5,2,null,null,null,null,null,null,null,null,null,null,5,2,null,null,null,null,null,null,null,null,null,null,-10,3,"2022-04-29",60,0,3,-1,7]
[8,null,null,null,null,null,0,3,null,null,null,null,null,null,null,null,null,null,0,3,null,null,10,1,null,null,null,null,null,null,-10,5,"2022-05-13",61,0,4,-4,12]
[9,null,0,2,null,null,10,1,null,null,null,null,null,null,null,null,null,null,0,2,null,null,null,null,null,null,null,null,null,null,-10,3,"2022-05-20",62,0,4,0,8]
[{"$f":"+A49+1","v":10},null,-10,4,null,null,10,1,null,null,null,null,null,null,null,null,null,null,null,null,null,null,null,null,0,2,null,null,null,null,0,2,"2022-05-26",63,0,4,-1,9]
[11,null,4,2,null,null,-7,3,null,null,null,null,null,null,null,null,null,null,null,null,null,null,null,null,-7,3,null,null,null,null,10,1,"2022-05-26",63,0,4,-1,9]
[12,null,0,2,null,null,-10,4,null,null,null,null,null,null,null,null,null,null,null,null,null,null,10,0,null,null,null,null,null,null,null,null,"2022-05-27",64,0,3,0,6]
[13,null,-10,3,null,null,0,2,null,null,null,null,null,null,null,null,null,null,null,null,null,null,null,null,null,null,null,null,null,null,10,1,"2022-06-02",66,0,{"$f":"COUNT(C53:AF53)/2","v":3},0,6]
[14,null,10,1,null,null,0,2,null,null,null,null,null,null,null,null,null,null,null,null,null,null,null,null,null,null,null,null,null,null,-10,3,"2022-06-02",66,0,3,0,6]
[15,null,-10,3,null,null,10,1,null,null,null,null,null,null,null,null,null,null,null,null,null,null,null,null,null,null,null,null,null,null,0,2,"2022-06-02",66,0,3,0,6]
[16,null,0,2,null,null,10,1,null,null,null,null,null,null,null,null,null,null,null,null,null,null,null,null,null,null,null,null,null,null,-10,3,"2022-06-03",67,0,3,0,6]
[17,null,0,2,null,null,-10,3,null,null,null,null,null,null,null,null,null,null,10,1,null,null,null,null,null,null,null,null,null,null,null,null,"2022-06-09",68,0,3,0,6]
[18,null,-7,3,null,null,4,2,null,null,null,null,null,null,null,null,null,null,-7,3,null,null,null,null,null,null,null,null,null,null,10,1,"2022-06-09",68,0,4,-1,9]
[19,null,10,1,null,null,{"$f":"-10","v":-10},3,null,null,null,null,null,null,null,null,null,null,null,null,null,null,null,null,null,null,null,null,null,null,0,2,"2022-06-10",69,0,3,0,6]
[20,null,-10,3,null,null,0,2,null,null,null,null,null,null,null,null,null,null,null,null,null,null,null,null,null,null,null,null,null,null,10,1,"2022-06-10",69,0,3,0,6]
[21,null,10,1,null,null,0,2,null,null,null,null,null,null,null,null,null,null,null,null,null,null,null,null,null,null,null,null,null,null,-10,3,"2022-06-10",69,0,3,0,6]
[22,null,7,1,null,null,7,1,null,null,null,null,null,null,null,null,null,null,-10,5,null,null,null,null,null,null,null,null,null,null,-4,2,"2022-06-16",70,0,4,-1,9]
[23,null,-10,4,null,null,0,2,null,null,null,null,null,null,null,null,null,null,10,1,null,null,null,null,null,null,null,null,null,null,0,2,"2022-06-17",71,0,4,-1,9]
[24,null,0,2,null,null,0,2,null,null,null,null,null,null,null,null,null,null,0,2,null,null,null,null,null,null,null,null,null,null,0,2,"2022-06-17",71,0,4,0,8]
[25,null,null,null,10,1,-10,3,null,null,null,null,null,null,null,null,null,null,null,null,null,null,null,null,null,null,0,2,null,null,null,null,"2022-06-18",72,0,{"$f":"COUNT(C65:AF65)/2","v":3},0,6]
[26,null,null,null,null,null,10,0,null,null,null,null,null,null,null,null,null,null,-7,3,null,null,null,null,-7,3,null,null,null,null,4,1,"2022-06-24",74,0,{"$f":"COUNT(C66:AF66)/2","v":4},{"$f":"+AJ66*2-AL66","v":1},7]
[27,null,null,null,null,null,-4,3,null,null,null,null,null,null,null,null,null,null,10,0,null,null,null,null,-10,4,null,null,null,null,4,1,"2022-06-24",74,0,4,0,8]
[28,null,null,null,null,null,10,0,null,null,null,null,null,null,null,null,null,null,-10,2,null,null,null,null,0,1,null,null,null,null,0,1,"2022-06-24",74,0,4,4,4]
[29,null,null,null,null,null,null,null,0,2,null,null,null,null,-10,3,null,null,null,null,10,1,null,null,null,null,null,null,null,null,null,null,"2022-06-24",75,0,3,0,6]
[30,null,null,null,null,null,10,0,null,null,null,null,null,null,null,null,null,null,-10,5,null,null,null,null,null,null,null,null,null,null,0,1,"2022-07-23",85,0,3,0,6]
[31,null,null,null,null,null,10,1,null,null,null,null,null,null,null,null,null,null,-10,3,null,null,null,null,null,null,null,null,null,null,0,2,"2022-07-23",85,0,3,0,6]
[32,null,null,null,-10,3,0,2,null,null,10,1,null,null,null,null,null,null,null,null,null,null,null,null,null,null,null,null,null,null,null,null,"2022-08-06",87,0,3,0,6]
[33,null,null,null,0,2,-10,4,null,null,10,0,null,null,null,null,null,null,null,null,null,null,null,null,null,null,null,null,null,null,null,null,"2022-08-06",87,0,3,0,6]
[34,null,null,null,0,2,10,0,null,null,-10,4,null,null,null,null,null,null,null,null,null,null,null,null,null,null,null,null,null,null,null,null,"2022-08-06",87,0,3,0,6]
[35,null,null,null,-10,4,10,0,null,null,null,null,null,null,null,null,null,null,null,null,null,null,null,null,null,null,0,2,null,null,null,null,"2022-08-16",88,0,3,0,6]
[36,null,null,null,null,null,10,1,null,null,-10,3,null,null,null,null,0,2,null,null,null,null,null,null,null,null,null,null,null,null,null,null,"2022-08-21",91,0,3,0,6]
[37,null,null,null,null,null,10,1,null,null,-10,3,null,null,null,null,0,2,null,null,null,null,null,null,null,null,null,null,null,null,null,null,"2022-08-21",91,0,3,0,6]
[38,null,null,null,null,null,5,1,null,null,-10,3,null,null,null,null,5,1,null,null,null,null,null,null,null,null,null,null,null,null,null,null,"2022-08-21",91,0,3,1,5]
[39,null,null,null,null,null,0,1,null,null,10,0,null,null,null,null,-10,5,null,null,null,null,null,null,null,null,null,null,null,null,null,null,"2022-08-21",91,0,3,0,6]
[40,null,null,null,0,2,0,2,null,null,0,2,null,null,null,null,null,null,null,null,null,null,null,null,null,null,null,null,null,null,null,null,"2022-08-23",94,0,3,0,6]
[41,null,null,null,0,2,-10,4,null,null,10,0,null,null,null,null,null,null,null,null,null,null,null,null,null,null,null,null,null,null,null,null,"2022-08-23",94,0,3,0,6]
[42,null,null,null,0,2,10,0,null,null,-10,3,null,null,null,null,null,null,null,null,null,null,null,null,null,null,null,null,null,null,null,null,"2022-08-26",98,0,{"$f":"COUNT(C82:AF82)/2","v":3},{"$f":"+AJ82*2-AL82","v":1},5]
[43,null,null,null,10,1,0,2,null,null,-10,3,null,null,null,null,null,null,null,null,null,null,null,null,null,null,0,2,null,null,null,null,"2022-08-26",98,0,4,0,8]
[44,null,7,1,null,null,7,1,null,null,null,null,null,null,null,null,null,null,-4,2,null,null,null,null,null,null,null,null,null,null,-10,4,"2022-09-01",100,0,4,0,8]
[45,null,10,0,null,null,0,2,null,null,null,null,null,null,null,null,null,null,0,2,null,null,null,null,null,null,null,null,null,null,-10,4,"2022-09-01",100,0,4,0,8]
[{"$f":"+A85+1","v":46},null,0,2,null,null,10,1,null,null,null,null,null,null,null,null,null,null,0,2,null,null,null,null,null,null,null,null,null,null,-10,4,"2022-09-02",101,0,4,-1,9]
[47,null,7,1,null,null,-4,2,null,null,null,null,null,null,null,null,null,null,7,1,null,null,null,null,null,null,null,null,null,null,-10,4,"2022-09-02",101,0,4,0,8]
[48,null,-4,3,null,null,10,0,null,null,null,null,null,null,null,null,null,null,4,2,null,null,null,null,null,null,null,null,null,null,-10,4,"2022-09-08",102,0,4,-1,9]
[49,null,7,1,null,null,7,1,null,null,null,null,null,null,null,null,null,null,null,null,null,null,null,null,-7,3,null,null,null,null,-7,3,"2022-09-09",103,0,4,0,8]
[50,null,0,2,null,null,10,1,null,null,null,null,null,null,null,null,null,null,null,null,null,null,null,null,null,null,null,null,null,null,-10,3,"2022-09-09",103,0,3,0,6]
[51,null,-10,3,null,null,10,1,null,null,null,null,null,null,null,null,null,null,0,2,null,null,null,null,0,2,null,null,null,null,null,null,"2022-09-15",104,0,4,0,8]
[52,null,4,2,null,null,10,0,null,null,null,null,null,null,null,null,null,null,-7,3,null,null,null,null,-7,3,null,null,null,null,null,null,"2022-09-15",104,0,4,0,8]
[53,null,10,1,null,null,0,2,null,null,null,null,null,null,null,null,null,null,0,2,null,null,null,null,-10,3,null,null,null,null,null,null,"2022-09-15",104,0,4,0,8]
[54,null,0,2,null,null,-10,3,null,null,null,null,null,null,null,null,null,null,null,null,null,null,10,1,null,null,null,null,null,null,null,null,"2022-09-16",105,0,3,0,6]
[55,null,10,1,null,null,0,2,null,null,null,null,null,null,null,null,null,null,null,null,null,null,-10,3,null,null,null,null,null,null,null,null,"2022-09-16",105,0,3,0,6]
[56,null,0,1,null,null,10,0,null,null,null,null,null,null,null,null,null,null,null,null,null,null,-10,5,null,null,null,null,null,null,null,null,"2022-09-16",105,0,3,0,6]
[57,null,null,null,-10,3,-4,2,0,2,0,2,7,0,7,0,-10,5,null,null,-10,5,10,1,null,null,10,0,0,2,null,null,"2022-09-17",106,{"$f":"+AE97+Y97+W97+U97+S97+Q97+O97+M97+K97+I97+G97+E97+C97+AA97+AC97","v":0},11,0,{"$f":"+AF97+Z97+X97+V97+T97+R97+P97+N97+L97+J97+H97+F97+D97+AB97+AD97","v":22}]
[58,null,0,2,null,null,10,0,null,null,null,null,null,null,null,null,null,null,-10,4,null,null,null,null,null,null,null,null,null,null,null,null,"2022-09-23",108,{"$f":"+AE98+Y98+W98+U98+S98+Q98+O98+M98+K98+I98+G98+E98+C98+AA98+AC98","v":0},3,0,{"$f":"+AF98+Z98+X98+V98+T98+R98+P98+N98+L98+J98+H98+F98+D98+AB98+AD98","v":6}]
[59,null,10,1,null,null,-10,3,null,null,null,null,null,null,null,null,null,null,0,2,null,null,null,null,null,null,null,null,null,null,null,null,"2022-09-23",108,0,3,0,6]
[60]
[61]
[62]
[63]
[64]
[65]
[66]
[67]
[68]
[69]
[70]
[71]
[72]
[{"$f":"+A112+1","v":73}]
[74]
[75]
[76]
[77]
[78]
[79]
[80]
[81]
[82]
[83]
[84]
[85]
[86]
[87]
[88]

{"sheet":"Buti","index":3,"n_rows":240,"n_cols":67,"rows_kept":240,"cut":false,"hidden":false,"merged":[[42,26,42,28],[42,2,42,4],[42,5,42,7],[42,20,42,22],[42,23,42,25],[42,8,42,10],[42,11,42,13],[42,14,42,16],[42,17,42,19],[42,29,42,31],[42,32,42,34],[42,35,42,37],[42,56,42,58],[42,53,42,55],[42,50,42,52],[42,38,42,40],[42,41,42,43],[42,44,42,46],[42,47,42,49]]}
["BOTIFARRA"]
["Mes"]
[{"$f":"+GENERAL!B6","v":12},null,{"$f":"SUM(C5:C22)","v":0}]
[null,null,"Premi","Punts","Partides","General"]
[1,"Grau",{"$f":"+AV$40","v":70},{"$f":"+AV$41","v":406},{"$f":"+AW$40","v":13},{"$f":"+AV$26","v":80},{"$f":"IF(E5<A$3/2,-1,1)*800+C5+D5/1000","v":870.40599999999995}]
[2,"Jordi",{"$f":"+I$40","v":60},{"$f":"+I$41","v":391},{"$f":"+J$40","v":43},{"$f":"+I$26","v":40},860.39099999999996]
[3,"Ana B.",{"$f":"+C$40","v":20},{"$f":"+C$41","v":-72},{"$f":"+D$40","v":12},{"$f":"+C$26","v":20},819.928]
[4,"Nogué",{"$f":"+AP$40","v":0},{"$f":"+AP$41","v":375},{"$f":"+AQ$40","v":25},{"$f":"+AP$26","v":10},800.375]
[5,"Òscar",{"$f":"+AG$40","v":0},{"$f":"+AG$41","v":-118},{"$f":"+AH$40","v":13},{"$f":"+AG$26","v":5},799.88199999999995]
[6,"Núria",{"$f":"+AA$40","v":-10},{"$f":"+AA$41","v":115},{"$f":"+AB$40","v":28},{"$f":"+AA$26","v":0},790.11500000000001]
[7,"Manolo",{"$f":"+AM$40","v":-10},{"$f":"+AM$41","v":-135},{"$f":"+AN$40","v":9},{"$f":"+AM$26","v":0},789.86500000000001,null,null,null,null,null,null,null,null,null,null,null,null,null,null,null,null,null,null," "]
[8,"Goretti",{"$f":"+AS$40","v":-30},{"$f":"+AS$41","v":-208},{"$f":"+AT$40","v":11},{"$f":"+AS$26","v":0},769.79200000000003]
[9,"Sebas",{"$f":"+F$40","v":-50},{"$f":"+F$41","v":-478},{"$f":"+G$40","v":13},{"$f":"+F$26","v":0},749.52200000000005]
[10,"Mariajo",{"$f":"+X$40","v":10},{"$f":"+X$41","v":24},{"$f":"+Y$40","v":1},{"$f":"+X$26","v":0},-789.976]
[11,"Jaume A",{"$f":"+O$40","v":10},{"$f":"+O$41","v":5},{"$f":"+P$40","v":1},{"$f":"+O$26","v":0},-789.995]
[12,"Carles",{"$f":"+U$40","v":-10},{"$f":"+U$41","v":-20},{"$f":"+V$40","v":1},{"$f":"+U$26","v":0},-810.02]
[13,"Nin",{"$f":"+AD$40","v":-10},{"$f":"+AD$41","v":-24},{"$f":"+AE$40","v":1},{"$f":"+AD$26","v":0},-810.024]
[14,"Gemma",{"$f":"+AJ$40","v":10},{"$f":"+AJ$41","v":2},{"$f":"+AK$40","v":5},{"$f":"+AJ$26","v":0},-789.99800000000005]
[15,"Isabel",{"$f":"+AY$40","v":-10},{"$f":"+AY$41","v":-45},{"$f":"+AZ$40","v":3},{"$f":"+AY$26","v":0},-810.04499999999996]
[16,"Sergi",{"$f":"+R$40","v":-10},{"$f":"+R$41","v":-57},{"$f":"+S$40","v":1},{"$f":"+R$26","v":0},-810.05700000000002]
[17,"Caty",{"$f":"+BE$40","v":-10},{"$f":"+BE$41","v":-95},{"$f":"+BF$40","v":1},{"$f":"+BE$26","v":0},-810.09500000000003]
[18,"Rosa M.",{"$f":"+L$40","v":-30},{"$f":"+L$41","v":-58},{"$f":"+M$40","v":3},{"$f":"+L$26","v":0},-830.05799999999999]
[19,"Tito",{"$f":"+BB$40","v":-100000000},{"$f":"+BB$41","v":1},{"$f":"+BC$40","v":0},{"$f":"+BB$26","v":0},-100000799.999]
[]
[]
[null,"General",{"$f":"+C27*C28","v":20},{"$f":"+D27*D28","v":12},null,{"$f":"+F27*F28","v":0},{"$f":"+G27*G28","v":13},null,{"$f":"+I27*I28","v":40},{"$f":"+J27*J28","v":43},null,{"$f":"+L27*L28","v":0},{"$f":"+M27*M28","v":3},null,{"$f":"+O27*O28","v":0},{"$f":"+P27*P28","v":1},null,{"$f":"+R27*R28","v":0},{"$f":"+S27*S28","v":1},null,{"$f":"+U27*U28","v":0},{"$f":"+V27*V28","v":1},null,{"$f":"+X27*X28","v":0},{"$f":"+Y27*Y28","v":1},null,{"$f":"+AA27*AA28","v":0},{"$f":"+AB27*AB28","v":28},null,{"$f":"+AD27*AD28","v":0},{"$f":"+AE27*AE28","v":1},null,{"$f":"+AG27*AG28","v":5},{"$f":"+AH27*AH28","v":13},null,{"$f":"+AJ27*AJ28","v":0},{"$f":"+AK27*AK28","v":5},null,{"$f":"+AM27*AM28","v":0},{"$f":"+AN27*AN28","v":9},null,{"$f":"+AP27*AP28","v":10},{"$f":"+AQ27*AQ28","v":25},null,{"$f":"+AS27*AS28","v":0},{"$f":"+AT27*AT28","v":11},null,{"$f":"+AV27*AV28","v":80},{"$f":"+AW27*AW28","v":13},null,{"$f":"+AY27*AY28","v":0},{"$f":"+AZ27*AZ28","v":3},null,{"$f":"+BB27*BB28","v":0},{"$f":"+BC27*BC28","v":0},null,{"$f":"+BE27*BE28","v":0},{"$f":"+BF27*BF28","v":1}]
[null,null,{"$f":"IF($B39>3,1,0)","v":1},{"$f":"IF($B39>3,1,0)","v":1},null,{"$f":"IF($B39>3,1,0)","v":1},{"$f":"IF($B39>3,1,0)","v":1},null,{"$f":"IF($B39>3,1,0)","v":1},{"$f":"IF($B39>3,1,0)","v":1},null,{"$f":"IF($B39>3,1,0)","v":1},{"$f":"IF($B39>3,1,0)","v":1},null,{"$f":"IF($B39>3,1,0)","v":1},{"$f":"IF($B39>3,1,0)","v":1},null,{"$f":"IF($B39>3,1,0)","v":1},{"$f":"IF($B39>3,1,0)","v":1},null,{"$f":"IF($B39>3,1,0)","v":1},{"$f":"IF($B39>3,1,0)","v":1},null,{"$f":"IF($B39>3,1,0)","v":1},{"$f":"IF($B39>3,1,0)","v":1},null,{"$f":"IF($B39>3,1,0)","v":1},{"$f":"IF($B39>3,1,0)","v":1},null,{"$f":"IF($B39>3,1,0)","v":1},{"$f":"IF($B39>3,1,0)","v":1},null,{"$f":"IF($B39>3,1,0)","v":1},{"$f":"IF($B39>3,1,0)","v":1},null,{"$f":"IF($B39>3,1,0)","v":1},{"$f":"IF($B39>3,1,0)","v":1},null,{"$f":"IF($B39>3,1,0)","v":1},{"$f":"IF($B39>3,1,0)","v":1},null,{"$f":"IF($B39>3,1,0)","v":1},{"$f":"IF($B39>3,1,0)","v":1},null,{"$f":"IF($B39>3,1,0)","v":1},{"$f":"IF($B39>3,1,0)","v":1},null,{"$f":"IF($B39>3,1,0)","v":1},{"$f":"IF($B39>3,1,0)","v":1},null,{"$f":"IF($B39>3,1,0)","v":1},{"$f":"IF($B39>3,1,0)","v":1},null,{"$f":"IF($B39>3,1,0)","v":1},{"$f":"IF($B39>3,1,0)","v":1},null,{"$f":"IF($B39>3,1,0)","v":1},{"$f":"IF($B39>3,1,0)","v":1}]
[null,null,{"$f":"MAX(C29:C33)","v":20},{"$f":"+D40","v":12},null,{"$f":"MAX(F29:F33)","v":0},{"$f":"+G40","v":13},null,{"$f":"MAX(I29:I33)","v":40},{"$f":"+J40","v":43},null,{"$f":"MAX(L29:L33)","v":0},{"$f":"+M40","v":3},null,{"$f":"MAX(O29:O33)","v":0},{"$f":"+P40","v":1},null,{"$f":"MAX(R29:R33)","v":0},{"$f":"+S40","v":1},null,{"$f":"MAX(U29:U33)","v":0},{"$f":"+V40","v":1},null,{"$f":"MAX(X29:X33)","v":0},{"$f":"+Y40","v":1},null,{"$f":"MAX(AA29:AA33)","v":0},{"$f":"+AB40","v":28},null,{"$f":"MAX(AD29:AD33)","v":0},{"$f":"+AE40","v":1},null,{"$f":"MAX(AG29:AG33)","v":5},{"$f":"+AH40","v":13},null,{"$f":"MAX(AJ29:AJ33)","v":0},{"$f":"+AK40","v":5},null,{"$f":"MAX(AM29:AM33)","v":0},{"$f":"+AN40","v":9},null,{"$f":"MAX(AP29:AP33)","v":10},{"$f":"+AQ40","v":25},null,{"$f":"MAX(AS29:AS33)","v":0},{"$f":"+AT40","v":11},null,{"$f":"MAX(AV29:AV33)","v":80},{"$f":"+AW40","v":13},null,{"$f":"MAX(AY29:AY33)","v":0},{"$f":"+AZ40","v":3},null,{"$f":"MAX(BB29:BB33)","v":0},{"$f":"+BC40","v":0},null,{"$f":"MAX(BE29:BE33)","v":0},{"$f":"+BF40","v":1}]
[null,null,{"$f":"IF(C$34=5,5,0)","v":0},null,null,{"$f":"IF(F$34=5,5,0)","v":0},null,null,{"$f":"IF(I$34=5,5,0)","v":0},null,null,{"$f":"IF(L$34=5,5,0)","v":0},null,null,{"$f":"IF(O$34=5,5,0)","v":0},null,null,{"$f":"IF(R$34=5,5,0)","v":0},null,null,{"$f":"IF(U$34=5,5,0)","v":0},null,null,{"$f":"IF(X$34=5,5,0)","v":0},null,null,{"$f":"IF(AA$34=5,5,0)","v":0},null,null,{"$f":"IF(AD$34=5,5,0)","v":0},null,null,{"$f":"IF(AG$34=5,5,0)","v":5},null,null,{"$f":"IF(AJ$34=5,5,0)","v":0},null,null,{"$f":"IF(AM$34=5,5,0)","v":0},null,null,{"$f":"IF(AP$34=5,5,0)","v":0},null,null,{"$f":"IF(AS$34=5,5,0)","v":0},null,null,{"$f":"IF(AV$34=5,5,0)","v":0},null,null,{"$f":"IF(AY$34=5,5,0)","v":0},null,null,{"$f":"IF(BB$34=5,5,0)","v":0},null,null,{"$f":"IF(BE$34=5,5,0)","v":0}]
[null,null,{"$f":"IF(C$34=4,10,0)","v":0},null,null,{"$f":"IF(F$34=4,10,0)","v":0},null,null,{"$f":"IF(I$34=4,10,0)","v":0},null,null,{"$f":"IF(L$34=4,10,0)","v":0},null,null,{"$f":"IF(O$34=4,10,0)","v":0},null,null,{"$f":"IF(R$34=4,10,0)","v":0},null,null,{"$f":"IF(U$34=4,10,0)","v":0},null,null,{"$f":"IF(X$34=4,10,0)","v":0},null,null,{"$f":"IF(AA$34=4,10,0)","v":0},null,null,{"$f":"IF(AD$34=4,10,0)","v":0},null,null,{"$f":"IF(AG$34=4,10,0)","v":0},null,null,{"$f":"IF(AJ$34=4,10,0)","v":0},null,null,{"$f":"IF(AM$34=4,10,0)","v":0},null,null,{"$f":"IF(AP$34=4,10,0)","v":10},null,null,{"$f":"IF(AS$34=4,10,0)","v":0},null,null,{"$f":"IF(AV$34=4,10,0)","v":0},null,null,{"$f":"IF(AY$34=4,10,0)","v":0},null,null,{"$f":"IF(BB$34=4,10,0)","v":0},null,null,{"$f":"IF(BE$34=4,10,0)","v":0}]
[null,null,{"$f":"IF(C$34=3,20,0)","v":20},null,null,{"$f":"IF(F$34=3,20,0)","v":0},null,null,{"$f":"IF(I$34=3,20,0)","v":0},null,null,{"$f":"IF(L$34=3,20,0)","v":0},null,null,{"$f":"IF(O$34=3,20,0)","v":0},null,null,{"$f":"IF(R$34=3,20,0)","v":0},null,null,{"$f":"IF(U$34=3,20,0)","v":0},null,null,{"$f":"IF(X$34=3,20,0)","v":0},null,null,{"$f":"IF(AA$34=3,20,0)","v":0},null,null,{"$f":"IF(AD$34=3,20,0)","v":0},null,null,{"$f":"IF(AG$34=3,20,0)","v":0},null,null,{"$f":"IF(AJ$34=3,20,0)","v":0},null,null,{"$f":"IF(AM$34=3,20,0)","v":0},null,null,{"$f":"IF(AP$34=3,20,0)","v":0},null,null,{"$f":"IF(AS$34=3,20,0)","v":0},null,null,{"$f":"IF(AV$34=3,20,0)","v":0},null,null,{"$f":"IF(AY$34=3,20,0)","v":0},null,null,{"$f":"IF(BB$34=3,20,0)","v":0},null,null,{"$f":"IF(BE$34=3,20,0)","v":0}]
[null,null,{"$f":"IF(C$34=2,40,0)","v":0},null,null,{"$f":"IF(F$34=2,40,0)","v":0},null,null,{"$f":"IF(I$34=2,40,0)","v":40},null,null,{"$f":"IF(L$34=2,40,0)","v":0},null,null,{"$f":"IF(O$34=2,40,0)","v":0},null,null,{"$f":"IF(R$34=2,40,0)","v":0},null,null,{"$f":"IF(U$34=2,40,0)","v":0},null,null,{"$f":"IF(X$34=2,40,0)","v":0},null,null,{"$f":"IF(AA$34=2,40,0)","v":0},null,null,{"$f":"IF(AD$34=2,40,0)","v":0},null,null,{"$f":"IF(AG$34=2,40,0)","v":0},null,null,{"$f":"IF(AJ$34=2,40,0)","v":0},null,null,{"$f":"IF(AM$34=2,40,0)","v":0},null,null,{"$f":"IF(AP$34=2,40,0)","v":0},null,null,{"$f":"IF(AS$34=2,40,0)","v":0},null,null,{"$f":"IF(AV$34=2,40,0)","v":0},null,null,{"$f":"IF(AY$34=2,40,0)","v":0},null,null,{"$f":"IF(BB$34=2,40,0)","v":0},null,null,{"$f":"IF(BE$34=2,40,0)","v":0}]
[null,null,{"$f":"IF(C$34=1,80,0)","v":0},null,null,{"$f":"IF(F$34=1,80,0)","v":0},null,null,{"$f":"IF(I$34=1,80,0)","v":0},null,null,{"$f":"IF(L$34=1,80,0)","v":0},null,null,{"$f":"IF(O$34=1,80,0)","v":0},null,null,{"$f":"IF(R$34=1,80,0)","v":0},null,null,{"$f":"IF(U$34=1,80,0)","v":0},null,null,{"$f":"IF(X$34=1,80,0)","v":0},null,null,{"$f":"IF(AA$34=1,80,0)","v":0},null,null,{"$f":"IF(AD$34=1,80,0)","v":0},null,null,{"$f":"IF(AG$34=1,80,0)","v":0},null,null,{"$f":"IF(AJ$34=1,80,0)","v":0},null,null,{"$f":"IF(AM$34=1,80,0)","v":0},null,null,{"$f":"IF(AP$34=1,80,0)","v":0},null,null,{"$f":"IF(AS$34=1,80,0)","v":0},null,null,{"$f":"IF(AV$34=1,80,0)","v":80},null,null,{"$f":"IF(AY$34=1,80,0)","v":0},null,null,{"$f":"IF(BB$34=1,80,0)","v":0},null,null,{"$f":"IF(BE$34=1,80,0)","v":0}]
[null,null,{"$f":"RANK(C35,$C35:$BF35)*C39","v":3},null,null,{"$f":"RANK(F35,$C35:$BF35)*F39","v":9},null,null,{"$f":"RANK(I35,$C35:$BF35)*I39","v":2},null,null,{"$f":"RANK(L35,$C35:$BF35)*L39","v":0},null,null,{"$f":"RANK(O35,$C35:$BF35)*O39","v":0},null,null,{"$f":"RANK(R35,$C35:$BF35)*R39","v":0},null,null,{"$f":"RANK(U35,$C35:$BF35)*U39","v":0},null,null,{"$f":"RANK(X35,$C35:$BF35)*X39","v":0},null,null,{"$f":"RANK(AA35,$C35:$BF35)*AA39","v":6},null,null,{"$f":"RANK(AD35,$C35:$BF35)*AD39","v":0},null,null,{"$f":"RANK(AG35,$C35:$BF35)*AG39","v":5},null,null,{"$f":"RANK(AJ35,$C35:$BF35)*AJ39","v":0},null,null,{"$f":"RANK(AM35,$C35:$BF35)*AM39","v":7},null,null,{"$f":"RANK(AP35,$C35:$BF35)*AP39","v":4},null,null,{"$f":"RANK(AS35,$C35:$BF35)*AS39","v":8},null,null,{"$f":"RANK(AV35,$C35:$BF35)*AV39","v":1},null,null,{"$f":"RANK(AY35,$C35:$BF35)*AY39","v":0},null,null,{"$f":"RANK(BB35,$C35:$BF35)*BB39","v":0},null,null,{"$f":"RANK(BE35,$C35:$BF35)*BE39","v":0}]
[null,null,{"$f":"SUM(C36:C38)","v":1992832},null,null,{"$f":"SUM(F36:F38)","v":-5047837},null,null,{"$f":"SUM(I36:I38)","v":6039203},null,null,{"$f":"SUM(L36:L38)","v":-1000005797},null,null,{"$f":"SUM(O36:O38)","v":-999999499},null,null,{"$f":"SUM(R36:R38)","v":-1000005699},null,null,{"$f":"SUM(U36:U38)","v":-1000001999},null,null,{"$f":"SUM(X36:X38)","v":-999997599},null,null,{"$f":"SUM(AA36:AA38)","v":-988482},null,null,{"$f":"SUM(AD36:AD38)","v":-1000002399},null,null,{"$f":"SUM(AG36:AG38)","v":-11787},null,null,{"$f":"SUM(AJ36:AJ38)","v":-999999795},null,null,{"$f":"SUM(AM36:AM38)","v":-1013501},null,null,{"$f":"SUM(AP36:AP38)","v":37525},null,null,{"$f":"SUM(AS36:AS38)","v":-3020819},null,null,{"$f":"SUM(AV36:AV38)","v":7040683},null,null,{"$f":"SUM(AY36:AY38)","v":-1000004497},null,null,{"$f":"SUM(BB36:BB38)","v":-9999900},null,null,{"$f":"SUM(BE36:BE38)","v":-10009499}]
[null,null,{"$f":"+D40","v":12},null,null,{"$f":"+G40","v":13},null,null,{"$f":"+J40","v":43},null,null,{"$f":"+M40","v":3},null,null,{"$f":"+P40","v":1},null,null,{"$f":"+S40","v":1},null,null,{"$f":"+V40","v":1},null,null,{"$f":"+Y40","v":1},null,null,{"$f":"+AB40","v":28},null,null,{"$f":"+AE40","v":1},null,null,{"$f":"+AH40","v":13},null,null,{"$f":"+AK40","v":5},null,null,{"$f":"+AN40","v":9},null,null,{"$f":"+AQ40","v":25},null,null,{"$f":"+AT40","v":11},null,null,{"$f":"+AW40","v":13},null,null,{"$f":"+AZ40","v":3},null,null,{"$f":"+BC40","v":0},null,null,{"$f":"+BF40","v":1}]
[null,null,{"$f":"+C41*100","v":-7200},null,null,{"$f":"+F41*100","v":-47800},null,null,{"$f":"+I41*100","v":39100},null,null,{"$f":"+L41*100","v":-5800},null,null,{"$f":"+O41*100","v":500},null,null,{"$f":"+R41*100","v":-5700},null,null,{"$f":"+U41*100","v":-2000},null,null,{"$f":"+X41*100","v":2400},null,null,{"$f":"+AA41*100","v":11500},null,null,{"$f":"+AD41*100","v":-2400},null,null,{"$f":"+AG41*100","v":-11800},null,null,{"$f":"+AJ41*100","v":200},null,null,{"$f":"+AM41*100","v":-13500},null,null,{"$f":"+AP41*100","v":37500},null,null,{"$f":"+AS41*100","v":-20800},null,null,{"$f":"+AV41*100","v":40600},null,null,{"$f":"+AY41*100","v":-4500},null,null,{"$f":"+BB41*100","v":100},null,null,{"$f":"+BE41*100","v":-9500}]
[null,null,{"$f":"IF(D40-$A3/2<0,-1000000000,C40*C39*100000+C40)","v":2000020},null,null,{"$f":"IF(G40-$A3/2<0,-1000000000,F40*F39*100000+F40)","v":-5000050},null,null,{"$f":"IF(J40-$A3/2<0,-1000000000,I40*I39*100000+I40)","v":6000060},null,null,{"$f":"IF(M40-$A3/2<0,-1000000000,L40*L39*100000+L40)","v":-1000000000},null,null,{"$f":"IF(P40-$A3/2<0,-1000000000,O40*O39*100000+O40)","v":-1000000000},null,null,{"$f":"IF(S40-$A3/2<0,-1000000000,R40*R39*100000+R40)","v":-1000000000},null,null,{"$f":"IF(V40-$A3/2<0,-1000000000,U40*U39*100000+U40)","v":-1000000000},null,null,{"$f":"IF(Y40-$A3/2<0,-1000000000,X40*X39*100000+X40)","v":-1000000000},null,null,{"$f":"IF(AB40-$A3/2<0,-1000000000,AA40*AA39*100000+AA40)","v":-1000010},null,null,{"$f":"IF(AE40-$A3/2<0,-1000000000,AD40*AD39*100000+AD40)","v":-1000000000},null,null,{"$f":"IF(AH40-$A3/2<0,-1000000000,AG40*AG39*100000+AG40)","v":0},null,null,{"$f":"IF(AK40-$A3/2<0,-1000000000,AJ40*AJ39*100000+AJ40)","v":-1000000000},null,null,{"$f":"IF(AN40-$A3/2<0,-1000000000,AM40*AM39*100000+AM40)","v":-1000010},null,null,{"$f":"IF(AQ40-$A3/2<0,-1000000000,AP40*AP39*100000+AP40)","v":0},null,null,{"$f":"IF(AT40-$A3/2<0,-1000000000,AS40*AS39*100000+AS40)","v":-3000030},null,null,{"$f":"IF(AW40-$A3/2<0,-1000000000,AV40*AV39*100000+AV40)","v":7000070},null,null,{"$f":"IF(AZ40-$A3/2<0,-1000000000,AY40*AY39*100000+AY40)","v":-1000000000},null,null,{"$f":"IF(BC40-$A3/2<0,-10000000,BB40*BB39*100000+BB40)","v":-10000000},null,null,{"$f":"IF(BF40-$A3/2<0,-10000000,BE40*BE39*100000+BE40)","v":-10000000}]
["Classificats",{"$f":"SUM(C39:BE39)","v":9},{"$f":"IF(D40>=$A3/2,1,0)","v":1},null,null,{"$f":"IF(G40>=$A3/2,1,0)","v":1},null,null,{"$f":"IF(J40>=$A3/2,1,0)","v":1},null,null,{"$f":"IF(M40>=$A3/2,1,0)","v":0},null,null,{"$f":"IF(P40>=$A3/2,1,0)","v":0},null,null,{"$f":"IF(S40>=$A3/2,1,0)","v":0},null,null,{"$f":"IF(V40>=$A3/2,1,0)","v":0},null,null,{"$f":"IF(Y40>=$A3/2,1,0)","v":0},null,null,{"$f":"IF(AB40>=$A3/2,1,0)","v":1},null,null,{"$f":"IF(AE40>=$A3/2,1,0)","v":0},null,null,{"$f":"IF(AH40>=$A3/2,1,0)","v":1},null,null,{"$f":"IF(AK40>=$A3/2,1,0)","v":0},null,null,{"$f":"IF(AN40>=$A3/2,1,0)","v":1},null,null,{"$f":"IF(AQ40>=$A3/2,1,0)","v":1},null,null,{"$f":"IF(AT40>=$A3/2,1,0)","v":1},null,null,{"$f":"IF(AW40>=$A3/2,1,0)","v":1},null,null,{"$f":"IF(AZ40>=$A3/2,1,0)","v":0},null,null,{"$f":"IF(BC40>=$A3/2,1,0)","v":0},null,null,{"$f":"IF(BF40>=$A3/2,1,0)","v":0},null,null,{"$f":"MAX(BI42:BI101)","v":110}]
[null,null,{"$f":"IF(SUM(C45:C240)<-1000,-100000000,SUM(C45:C240))","v":20},{"$f":"COUNT(D45:D240)","v":12},null,{"$f":"IF(SUM(F45:F240)<-1000,-100000000,SUM(F45:F240))","v":-50},{"$f":"COUNT(G45:G240)","v":13},null,{"$f":"IF(SUM(I45:I240)<-1000,-100000000,SUM(I45:I240))","v":60},{"$f":"COUNT(J45:J240)","v":43},null,{"$f":"IF(SUM(L45:L240)<-1000,-100000000,SUM(L45:L240))","v":-30},{"$f":"COUNT(M45:M240)","v":3},null,{"$f":"IF(SUM(O45:O240)<-1000,-100000000,SUM(O45:O240))","v":10},{"$f":"COUNT(P45:P240)","v":1},null,{"$f":"IF(SUM(R45:R240)<-1000,-100000000,SUM(R45:R240))","v":-10},{"$f":"COUNT(S45:S240)","v":1},null,{"$f":"IF(SUM(U45:U240)<-1000,-100000000,SUM(U45:U240))","v":-10},{"$f":"COUNT(V45:V240)","v":1},null,{"$f":"IF(SUM(X45:X240)<-1000,-100000000,SUM(X45:X240))","v":10},{"$f":"COUNT(Y45:Y240)","v":1},null,{"$f":"IF(SUM(AA45:AA240)<-1000,-100000000,SUM(AA45:AA240))","v":-10},{"$f":"COUNT(AB45:AB240)","v":28},null,{"$f":"IF(SUM(AD45:AD240)<-1000,-100000000,SUM(AD45:AD240))","v":-10},{"$f":"COUNT(AE45:AE240)","v":1},null,{"$f":"IF(SUM(AG45:AG240)<-1000,-100000000,SUM(AG45:AG240))","v":0},{"$f":"COUNT(AH45:AH240)","v":13},null,{"$f":"IF(SUM(AJ45:AJ240)<-1000,-100000000,SUM(AJ45:AJ240))","v":10},{"$f":"COUNT(AK45:AK240)","v":5},null,{"$f":"IF(SUM(AM45:AM240)<-1000,-100000000,SUM(AM45:AM240))","v":-10},{"$f":"COUNT(AN45:AN240)","v":9},null,{"$f":"IF(SUM(AP45:AP240)<-1000,-100000000,SUM(AP45:AP240))","v":0},{"$f":"COUNT(AQ45:AQ240)","v":25},null,{"$f":"IF(SUM(AS45:AS240)<-1000,-100000000,SUM(AS45:AS240))","v":-30},{"$f":"COUNT(AT45:AT240)","v":11},null,{"$f":"IF(SUM(AV45:AV240)<-1000,-100000000,SUM(AV45:AV240))","v":70},{"$f":"COUNT(AW45:AW240)","v":13},null,{"$f":"IF(SUM(AY45:AY240)<-1000,-100000000,SUM(AY45:AY240))","v":-10},{"$f":"COUNT(AZ45:AZ240)","v":3},null,{"$f":"IF(SUM(BB45:BB240)<-1000,-100000000,SUM(BB45:BB240))","v":-100000000},{"$f":"COUNT(BC45:BC240)","v":0},null,{"$f":"IF(SUM(BE45:BE240)<-1000,-100000000,SUM(BE45:BE240))","v":-10},{"$f":"COUNT(BF45:BF240)","v":1},null,null,"A"]
[null,null,{"$f":"+D41-E41","v":-72},{"$f":"SUM(D45:D240)","v":446},{"$f":"SUM(E45:E240)","v":518},{"$f":"+G41-H41","v":-478},{"$f":"SUM(G45:G240)","v":205},{"$f":"SUM(H45:H240)","v":683},{"$f":"+J41-K41","v":391},{"$f":"SUM(J45:J240)","v":1572},{"$f":"SUM(K45:K240)","v":1181},{"$f":"+M41-N41","v":-58},{"$f":"SUM(M45:M240)","v":54},{"$f":"SUM(N45:N240)","v":112},{"$f":"+P41-Q41","v":5},{"$f":"SUM(P45:P240)","v":101},{"$f":"SUM(Q45:Q240)","v":96},{"$f":"+S41-T41","v":-57},{"$f":"SUM(S45:S240)","v":6},{"$f":"SUM(T45:T240)","v":63},{"$f":"+V41-W41","v":-20},{"$f":"SUM(V45:V240)","v":36},{"$f":"SUM(W45:W240)","v":56},{"$f":"+Y41-Z41","v":24},{"$f":"SUM(Y45:Y240)","v":44},{"$f":"SUM(Z45:Z240)","v":20},{"$f":"+AB41-AC41","v":115},{"$f":"SUM(AB45:AB240)","v":858},{"$f":"SUM(AC45:AC240)","v":743},{"$f":"+AE41-AF41","v":-24},{"$f":"SUM(AE45:AE240)","v":20},{"$f":"SUM(AF45:AF240)","v":44},{"$f":"+AH41-AI41","v":-118},{"$f":"SUM(AH45:AH240)","v":280},{"$f":"SUM(AI45:AI240)","v":398},{"$f":"+AK41-AL41","v":2},{"$f":"SUM(AK45:AK240)","v":115},{"$f":"SUM(AL45:AL240)","v":113},{"$f":"+AN41-AO41","v":-135},{"$f":"SUM(AN45:AN240)","v":196},{"$f":"SUM(AO45:AO240)","v":331},{"$f":"+AQ41-AR41","v":375},{"$f":"SUM(AQ45:AQ240)","v":940},{"$f":"SUM(AR45:AR240)","v":565},{"$f":"+AT41-AU41","v":-208},{"$f":"SUM(AT45:AT240)","v":392},{"$f":"SUM(AU45:AU240)","v":600},{"$f":"+AW41-AX41","v":406},{"$f":"SUM(AW45:AW240)","v":739},{"$f":"SUM(AX45:AX240)","v":333},{"$f":"+AZ41-BA41","v":-45},{"$f":"SUM(AZ45:AZ240)","v":32},{"$f":"SUM(BA45:BA240)","v":77},{"$f":"+BC41-BD41","v":1},{"$f":"SUM(BC45:BC240)","v":0},{"$f":"SUM(BD45:BD240)","v":-1},{"$f":"+BF41-BG41","v":-95},{"$f":"SUM(BF45:BF240)","v":6},{"$f":"SUM(BG45:BG240)","v":101},null,"B"]
[null,null,null,null,null,null,null,null,{"$f":"COUNTIF(I45:I64,10)","v":9},null,null,null,null,null,null,null,null,{"$f":"COUNTIF(R45:R64,10)","v":0},null,null,{"$f":"COUNTIF(U45:U64,10)","v":0},null,null,{"$f":"COUNTIF(X45:X64,10)","v":0},null,null,null,null,null,null,null,null,null,null,null,null,null,null,{"$f":"COUNTIF(AM45:AM64,10)","v":1},null,null,{"$f":"COUNTIF(AP45:AP64,10)","v":4},null,null,{"$f":"COUNTIF(AS45:AS64,10)","v":0},null,null,{"$f":"COUNTIF(AV45:AV64,10)","v":4},null,null,{"$f":"COUNTIF(AY45:AY64,10)","v":1},null,null,null,null,null,null,null,null,{"$f":"MAX(BI45:BI104)","v":110}]
[null,"Nº partida ","Ana B.",null,null,"Sebas",null,null,"Jordi",null,null,"Rosa M.",null,null,"Jaume A",null,null,"Sergi",null,null,"Carles",null,null,"Mariajo",null,null,"Núria",null,null,"Nin",null,null,"Òscar",null,null,"Gemma",null,null,"Manolo",null,null,"Nogué",null,null,"Goretti",null,null,"Grau",null,null,"Isabel",null,null,"Tito",null,null,"Caty",null,null,{"$f":"COUNT(BH45:BH255)","v":45},"A","B","C"]
[null,"5 copes","Premi","Punts",null,"Premi","Punts",null,"Premi","Punts",null,"Premi","Punts",null,"Premi","Punts",null,"Premi","Punts",null,"Premi","Punts",null,"Premi","Punts",null,"Premi","Punts",null,"Premi","Punts",null,"Premi","Punts",null,"Premi","Punts",null,"Premi","Punts",null,"Premi","Punts",null,"Premi","Punts",null,"Premi","Punts",null,"Premi","Punts",null,"Premi","Punts",null,"Premi","Punts",null,"Data","Timba"]
[1,null,null,null,null,null,null,null,10,16,11,null,null,null,null,null,null,null,null,null,null,null,null,null,null,null,-10,11,16,null,null,null,null,null,null,-10,11,16,null,null,null,10,16,11,null,null,null,null,null,null,null,null,null,-10000,null,-1,null,null,null,"2021-10-12",5,{"$f":"+BE45+AJ45+AG45+AD45+AA45+X45+U45+R45+O45+L45+I45+F45+C45+AM45+AP45+AT45+AW45+#REF!+BB45","v":{"$error":"#REF!"}},{"$f":"+BF45+AK45+AH45+AE45+AB45+Y45+V45+S45+P45+M45+J45+G45+D45+AN45+AQ45+AU45+AX45+AZ45+BC45","v":54},{"$f":"+BG45+AL45+AI45+AF45+AC45+Z45+W45+T45+Q45+N45+K45+H45+E45+AO45+AR45+AV45+AY45+BA45+BD45","v":53},{"$f":"+BK45-BL45","v":1},{"$f":"COUNT(C45:BG45)/3","v":4.666666666666667},{"$f":"+BJ45/BN45","v":{"$error":"#REF!"}}]
[{"$f":"+A45+1","v":2},null,null,null,null,null,null,null,10,26,22,null,null,null,null,null,null,null,null,null,null,null,null,null,null,null,10,26,22,null,null,null,-10,22,26,null,null,null,null,null,null,-10,22,26,null,null,null,null,null,null,null,null,null,null,null,null,null,null,null,"2021-10-28",12,{"$f":"+BE46+AJ46+AG46+AD46+AA46+X46+U46+R46+O46+L46+I46+F46+C46+AM46+AP46+AS46+AV46+AY46+BB46","v":0},{"$f":"+BF46+AK46+AH46+AE46+AB46+Y46+V46+S46+P46+M46+J46+G46+D46+AN46+AQ46+AT46+AW46+AZ46+BC46","v":96},{"$f":"+BG46+AL46+AI46+AF46+AC46+Z46+W46+T46+Q46+N46+K46+H46+E46+AO46+AR46+AU46+AX46+BA46+BD46","v":96},0,4,0]
[{"$f":"+A46+1","v":3},null,null,null,null,null,null,null,-10,29,39,null,null,null,null,null,null,null,null,null,null,null,null,null,null,null,-10,29,39,null,null,null,10,39,29,null,null,null,null,null,null,10,39,29,null,null,null,null,null,null,null,null,null,null,null,null,null,null,null,"2021-10-28",12,0,136,136,0,4,0]
[4,null,null,null,null,null,null,null,-10,10,19,null,null,null,null,null,null,null,null,null,null,null,null,null,null,null,10,19,10,null,null,null,10,19,10,null,null,null,null,null,null,-10,10,19,null,null,null,null,null,null,null,null,null,null,null,null,null,null,null,"2021-11-04",16,0,58,58,0,4,0]
[5,null,null,null,null,null,null,null,10,44,13,null,null,null,null,null,null,null,null,null,null,null,null,null,null,null,10,44,13,null,null,null,-10,13,44,null,null,null,null,null,null,-10,13,44,null,null,null,null,null,null,null,null,null,null,null,null,null,null,null,"2021-11-04",16,0,114,114,0,4,0]
[6,null,null,null,null,null,null,null,-10,4,20,null,null,null,null,null,null,null,null,null,null,null,null,null,null,null,10,20,4,null,null,null,-10,4,20,null,null,null,null,null,null,10,20,4,null,null,null,null,null,null,null,null,null,null,null,null,null,null,null,"2021-11-04",16,0,48,48,0,4,0]
[7,null,10,45,20,null,null,null,10,45,20,null,null,null,null,null,null,null,null,null,null,null,null,null,null,null,null,null,null,null,null,null,null,null,null,null,null,null,-10,20,45,null,null,null,null,null,null,-10,20,45,null,null,null,null,null,null,null,null,null,"2021-12-06",39,0,130,130,0,4,0]
[8,null,-10,21,31,null,null,null,-10,21,31,null,null,null,null,null,null,null,null,null,null,null,null,null,null,null,null,null,null,null,null,null,null,null,null,null,null,null,10,31,21,null,null,null,null,null,null,10,31,21,null,null,null,null,null,null,null,null,null,"2021-12-06",39,0,104,104,0,4,0]
[9,null,10,27,8,null,null,null,-10,8,27,null,null,null,null,null,null,null,null,null,null,null,null,null,null,null,null,null,null,null,null,null,null,null,null,null,null,null,-10,8,27,null,null,null,null,null,null,10,27,8,null,null,null,null,null,null,null,null,null,"2021-12-06",39,0,70,70,0,4,0]
[10,null,10,30,20,null,null,null,-10,20,30,null,null,null,null,null,null,null,null,null,null,null,null,null,null,null,null,null,null,null,null,null,null,null,null,null,null,null,-10,20,30,null,null,null,null,null,null,10,30,20,null,null,null,null,null,null,null,null,null,"2021-12-06",39,0,100,100,0,4,0]
[11,null,-10,0,67,null,null,null,10,67,0,null,null,null,null,null,null,null,null,null,null,null,null,null,null,null,null,null,null,null,null,null,null,null,null,null,null,null,-10,0,67,null,null,null,null,null,null,10,67,0,null,null,null,null,null,null,null,null,null,"2021-12-06",39,0,134,134,0,4,0]
[12,null,null,null,null,null,null,null,-10,96,101,null,null,null,10,101,96,null,null,null,null,null,null,null,null,null,10,101,96,null,null,null,null,null,null,null,null,null,null,null,null,-10,96,101,null,null,null,null,null,null,null,null,null,null,null,null,null,null,null,"2022-01-13",43,0,394,394,0,4,0]
[13,null,null,null,null,10,33,21,-10,21,33,null,null,null,null,null,null,null,null,null,null,null,null,null,null,null,10,33,21,null,null,null,null,null,null,null,null,null,null,null,null,-10,21,33,null,null,null,null,null,null,null,null,null,null,null,null,null,null,null,"2022-01-13",43,0,108,108,0,4,0]
[14,null,null,null,null,null,null,null,0,12,12,null,null,null,null,null,null,null,null,null,null,null,null,null,null,null,0,12,12,null,null,null,0,12,12,null,null,null,null,null,null,0,12,12,null,null,null,null,null,null,null,null,null,null,null,null,null,null,null,"2022-01-20",45,0,48,48,0,4,0]
[15,null,null,null,null,10,15,14,10,15,14,null,null,null,null,null,null,null,null,null,null,null,null,null,null,null,-10,14,15,null,null,null,null,null,null,null,null,null,null,null,null,-10,14,15,null,null,null,null,null,null,null,null,null,null,null,null,null,null,null,"2022-02-04",48,0,58,58,0,4,0]
[16,null,null,null,null,10,43,14,-10,14,43,null,null,null,null,null,null,null,null,null,null,null,null,null,null,null,-10,14,43,null,null,null,null,null,null,null,null,null,null,null,null,10,43,14,null,null,null,null,null,null,null,null,null,null,null,null,null,null,null,"2022-02-04",48,0,114,114,0,4,0]
[17,null,null,null,null,10,57,21,10,57,21,null,null,null,null,null,null,null,null,null,null,null,null,null,null,null,-10,21,57,null,null,null,null,null,null,null,null,null,null,null,null,-10,21,57,null,null,null,null,null,null,null,null,null,null,null,null,null,null,null,"2022-02-04",48,0,156,156,0,4,0]
[18,null,null,null,null,null,null,null,-10,15,19,null,null,null,null,null,null,null,null,null,null,null,null,null,null,null,-10,15,19,null,null,null,null,null,null,10,19,15,null,null,null,null,null,null,null,null,null,null,null,null,10,19,15,null,null,null,null,null,null,"2022-03-03",50,0,68,68,0,4,0]
[19,null,null,null,null,null,null,null,10,40,7,null,null,null,null,null,null,null,null,null,null,null,null,null,null,null,10,40,7,null,null,null,null,null,null,-10,7,40,null,null,null,null,null,null,null,null,null,null,null,null,-10,7,40,null,null,null,null,null,null,"2022-03-03",50,0,94,94,0,4,0]
[20,null,null,null,null,null,null,null,10,22,6,null,null,null,null,null,null,null,null,null,null,null,null,null,null,null,-10,6,22,null,null,null,null,null,null,10,22,6,null,null,null,null,null,null,null,null,null,null,null,null,-10,6,22,null,null,null,null,null,null,"2022-03-03",50,{"$f":"+BE64+AJ64+AG64+AD64+AA64+X64+U64+R64+O64+L64+I64+F64+C64+AM64+AP64+AS64+AV64+AY64+BB64","v":0},{"$f":"+BF64+AK64+AH64+AE64+AB64+Y64+V64+S64+P64+M64+J64+G64+D64+AN64+AQ64+AT64+AW64+AZ64+BC64","v":56},{"$f":"+BG64+AL64+AI64+AF64+AC64+Z64+W64+T64+Q64+N64+K64+H64+E64+AO64+AR64+AU64+AX64+BA64+BD64","v":56},{"$f":"+BK64-BL64","v":0},{"$f":"COUNT(C64:BG64)/3","v":4},{"$f":"+BJ64/BN64","v":0}]
[21,null,null,null,null,null,null,null,10,18,6,null,null,null,null,null,null,null,null,null,null,null,null,null,null,null,-10,6,18,null,null,null,-10,6,18,null,null,null,null,null,null,10,18,6,null,null,null,null,null,null,null,null,null,null,null,null,null,null,null,"2022-04-29",60,0,48,48,0,4,0]
[22,null,null,null,null,null,null,null,10,55,2,null,null,null,null,null,null,null,null,null,null,null,null,null,null,null,-10,2,55,null,null,null,-10,2,55,null,null,null,null,null,null,10,55,2,null,null,null,null,null,null,null,null,null,null,null,null,null,null,null,"2022-04-29",60,0,114,114,0,4,0]
[23,null,null,null,null,null,null,null,-10,13,38,null,null,null,null,null,null,null,null,null,null,null,null,null,null,null,10,38,13,null,null,null,10,38,13,null,null,null,null,null,null,-10,13,38,null,null,null,null,null,null,null,null,null,null,null,null,null,null,null,"2022-04-29",60,0,102,102,0,4,0]
[24,null,null,null,null,null,null,null,10,13,7,null,null,null,null,null,null,null,null,null,null,null,null,null,null,null,-10,7,13,null,null,null,10,13,7,null,null,null,null,null,null,-10,7,13,null,null,null,null,null,null,null,null,null,null,null,null,null,null,null,"2022-04-29",60,0,40,40,0,4,0]
[25,null,null,null,null,-10,0,148,-10,0,148,null,null,null,null,null,null,null,null,null,null,null,null,null,null,null,10,148,0,null,null,null,null,null,null,null,null,null,null,null,null,10,148,0,null,null,null,null,null,null,null,null,null,null,null,null,null,null,null,"2022-05-20",62,0,296,296,0,4,0]
[26,null,null,null,null,-10,30,61,10,61,30,null,null,null,null,null,null,null,null,null,null,null,null,null,null,null,null,null,null,null,null,null,10,61,30,null,null,null,null,null,null,-10,30,61,null,null,null,null,null,null,null,null,null,null,null,null,null,null,null,"2022-06-03",67,0,182,182,0,4,0]
[27,null,10,30,12,null,null,null,-10,12,30,null,null,null,null,null,null,null,null,null,null,null,null,null,null,null,null,null,null,null,null,null,null,null,null,null,null,null,null,null,null,null,null,null,-10,12,30,10,30,12,null,null,null,null,null,null,null,null,null,"2022-06-18",72,0,84,84,0,4,0]
[28,null,10,81,36,null,null,null,10,81,36,null,null,null,null,null,null,null,null,null,null,null,null,null,null,null,null,null,null,null,null,null,null,null,null,null,null,null,null,null,null,null,null,null,-10,36,81,-10,36,81,null,null,null,null,null,null,null,null,null,"2022-06-18",72,0,234,234,0,4,0]
[29,null,null,null,null,null,null,null,-10,41,47,-10,41,47,null,null,null,null,null,null,null,null,null,null,null,null,null,null,null,null,null,null,null,null,null,null,null,null,10,47,41,null,null,null,10,47,41,null,null,null,null,null,null,null,null,null,null,null,null,"2022-07-15",82,0,176,176,0,4,0]
[30,null,null,null,null,null,null,null,10,14,13,-10,13,14,null,null,null,null,null,null,null,null,null,null,null,null,null,null,null,null,null,null,null,null,null,null,null,null,10,14,13,null,null,null,-10,13,14,null,null,null,null,null,null,null,null,null,null,null,null,"2022-07-15",82,0,54,54,0,4,0]
[31,null,null,null,null,null,null,null,10,51,0,-10,0,51,null,null,null,null,null,null,null,null,null,null,null,null,null,null,null,null,null,null,null,null,null,null,null,null,-10,0,51,null,null,null,10,51,0,null,null,null,null,null,null,null,null,null,null,null,null,"2022-07-15",82,0,102,102,0,4,0]
[32,null,10,68,60,null,null,null,-10,60,68,null,null,null,null,null,null,null,null,null,null,null,null,null,null,null,null,null,null,null,null,null,null,null,null,null,null,null,null,null,null,null,null,null,10,68,60,-10,60,68,null,null,null,null,null,null,null,null,null,"2022-08-16",88,0,256,256,0,4,0]
[33,null,-10,12,109,null,null,null,10,109,12,null,null,null,null,null,null,null,null,null,null,null,null,null,null,null,null,null,null,null,null,null,null,null,null,null,null,null,null,null,null,null,null,null,-10,12,109,10,109,12,null,null,null,null,null,null,null,null,null,"2022-08-16",88,0,242,242,0,4,0]
[34,null,10,96,42,null,null,null,-10,42,96,null,null,null,null,null,null,null,null,null,null,null,null,null,null,null,null,null,null,null,null,null,null,null,null,null,null,null,null,null,null,null,null,null,-10,42,96,10,96,42,null,null,null,null,null,null,null,null,null,"2022-08-26",98,{"$f":"+BE78+AJ78+AG78+AD78+AA78+X78+U78+R78+O78+L78+I78+F78+C78+AM78+AP78+AS78+AV78+AY78+BB78","v":0},{"$f":"+BF78+AK78+AH78+AE78+AB78+Y78+V78+S78+P78+M78+J78+G78+D78+AN78+AQ78+AT78+AW78+AZ78+BC78","v":276},{"$f":"+BG78+AL78+AI78+AF78+AC78+Z78+W78+T78+Q78+N78+K78+H78+E78+AO78+AR78+AU78+AX78+BA78+BD78","v":276},{"$f":"+BK78-BL78","v":0},{"$f":"COUNT(C78:BG78)/3","v":4},{"$f":"+BJ78/BN78","v":0}]
[35,null,-10,16,69,null,null,null,-10,16,69,null,null,null,null,null,null,null,null,null,null,null,null,null,null,null,null,null,null,null,null,null,null,null,null,null,null,null,null,null,null,null,null,null,10,69,12,10,69,12,null,null,null,null,null,null,null,null,null,"2022-08-26",98,0,170,162,8,4,0]
[36,null,null,null,null,-10,3,15,10,15,3,null,null,null,null,null,null,null,null,null,null,null,null,null,null,null,10,15,3,null,null,null,null,null,null,null,null,null,null,null,null,-10,3,15,null,null,null,null,null,null,null,null,null,null,null,null,null,null,null,"2022-09-01",100,0,36,36,0,4,0]
[37,null,null,null,null,-10,0,34,10,34,0,null,null,null,null,null,null,null,null,null,null,null,null,null,null,null,10,34,0,null,null,null,null,null,null,null,null,null,null,null,null,-10,0,34,null,null,null,null,null,null,null,null,null,null,null,null,null,null,null,"2022-09-01",100,0,68,68,0,4,0]
[38,null,null,null,null,-10,0,31,10,31,0,null,null,null,null,null,null,null,null,null,null,null,null,null,null,null,-10,0,31,null,null,null,null,null,null,null,null,null,null,null,null,10,31,0,null,null,null,null,null,null,null,null,null,null,null,null,null,null,null,"2022-09-02",101,0,62,62,0,4,0]
[39,null,null,null,null,-10,11,55,-10,11,55,null,null,null,null,null,null,null,null,null,null,null,null,null,null,null,10,55,11,null,null,null,null,null,null,null,null,null,null,null,null,10,55,11,null,null,null,null,null,null,null,null,null,null,null,null,null,null,null,"2022-09-02",101,0,132,132,0,4,0]
[40,null,null,null,null,-10,8,89,10,89,8,null,null,null,null,null,null,null,null,null,null,null,null,null,null,null,-10,8,89,null,null,null,null,null,null,null,null,null,null,null,null,10,89,8,null,null,null,null,null,null,null,null,null,null,null,null,null,null,null,"2022-09-08",102,0,194,194,0,4,0]
[41,null,null,null,null,null,null,null,null,null,null,null,null,null,null,null,null,null,null,null,null,null,null,null,null,null,null,null,null,null,null,null,null,null,null,null,null,null,null,null,null,10,101,6,-10,6,101,10,101,6,null,null,null,null,null,null,-10,6,101,"2022-09-17",106,0,214,214,0,4,0]
[42,null,-10,20,44,null,null,null,10,44,20,null,null,null,null,null,null,-10,6,63,-10,36,56,10,44,20,-10,6,63,-10,20,44,null,null,null,10,56,36,10,56,36,10,63,6,-10,36,56,10,63,6,null,null,null,null,null,null,null,null,null,"2022-09-17",106,0,450,450,0,12,0]
[43,null,null,null,null,null,null,null,null,null,null,null,null,null,null,null,null,null,null,null,null,null,null,null,null,null,null,null,null,null,null,null,null,null,null,null,null,null,null,null,null,null,null,null,null,null,null,null,null,null,null,null,null,null,null,null,null,null,null,"2022-09-17",106,0,0,0,0,0,{"$error":"#DIV/0!"}]
[44,null,null,null,null,-10,5,51,10,51,5,null,null,null,null,null,null,null,null,null,null,null,null,null,null,null,-10,5,51,null,null,null,10,51,5,null,null,null,null,null,null,null,null,null,null,null,null,null,null,null,null,null,null,null,null,null,null,null,null,"2022-09-30",110,0,112,112,0,4,0]
[45,null,null,null,null,-10,0,129,10,129,0,null,null,null,null,null,null,null,null,null,null,null,null,null,null,null,10,129,0,null,null,null,-10,0,129,null,null,null,null,null,null,null,null,null,null,null,null,null,null,null,null,null,null,null,null,null,null,null,null,"2022-09-30",110,0,258,258,0,4,0]
[{"$f":"+A89+1","v":46},null,null,null,null,null,null,null,null,null,null,null,null,null,null,null,null,null,null,null,null,null,null,null,null,null,null,null,null,null,null,null,null,null,null,null,null,null,null,null,null,null,null,null,null,null,null,null,null,null,null,null,null,null,null,null,null,null,null,null,null,0,0,0,0,0,{"$error":"#DIV/0!"}]
[47,null,null,null,null,null,null,null,null,null,null,null,null,null,null,null,null,null,null,null,null,null,null,null,null,null,null,null,null,null,null,null,null,null,null,null,null,null,null,null,null,null,null,null,null,null,null,null,null,null,null,null,null,null,null,null,null,null,null,null,null,0,0,0,0,0,{"$error":"#DIV/0!"}]
[48,null,null,null,null,null,null,null,null,null,null,null,null,null,null,null,null,null,null,null,null,null,null,null,null,null,null,null,null,null,null,null,null,null,null,null,null,null,null,null,null,null,null,null,null,null,null,null,null,null,null,null,null,null,null,null,null,null,null,null,null,0,0,0,0,0,{"$error":"#DIV/0!"}]
[49,null,null,null,null,null,null,null,null,null,null,null,null,null,null,null,null,null,null,null,null,null,null,null,null,null,null,null,null,null,null,null,null,null,null,null,null,null,null,null,null,null,null,null,null,null,null,null,null,null,null,null,null,null,null,null,null,null,null,null,null,0,0,0,0,0,{"$error":"#DIV/0!"}]
[50,null,null,null,null,null,null,null,null,null,null,null,null,null,null,null,null,null,null,null,null,null,null,null,null,null,null,null,null,null,null,null,null,null,null,null,null,null,null,null,null,null,null,null,null,null,null,null,null,null,null,null,null,null,null,null,null,null,null,null,null,0,0,0,0,0,{"$error":"#DIV/0!"}]
[51]
[52]
[53]
[54]
[55]
[56]
[57]
[58]
[59]
[60]
[61]
[62]
[63]
[64]
[65]
[66]
[67]
[68]
[69]
[70]
[71]
[72]
[{"$f":"+A116+1","v":73}]
[74]
[75]
[76]
[77]
[78]
[79]
[80]
[81]
[82]
[83]
[84]
[85]
[86]
[87]
[88]
[89]
[90]
[91]
[92]
[93]
[94]
[95]
[96]
[97]
[98]
[99]
[100]
[101]
[102]
[103]
[104]
[105]
[106]
[107]
[108]
[109]
[110]
[111]
[112]
[113]
[114]
[115]
[116]
[117]
[118]
[119]
[120]
[121]
[122]
[123]
[124]
[125]
[126]
[127]
[128]
[129]
[130]
[131]
[132]
[133]
[134]
[135]
[136]
[{"$f":"+A180+1","v":137}]
[{"$f":"+A181+1","v":138}]
[{"$f":"+A182+1","v":139}]
[{"$f":"+A183+1","v":140}]
[141]
[142]
[143]
[144]
[145]
[146]
[147]
[148]
[149]
[150]
[151]
[152]
[153]
[154]
[155]
[156]
[157]
[158]
[159]
[160]
[161]
[162]
[163]
[164]
[165]
[166]
[167]
[168]
[169]
[170]
[171]
[172]
[173]
[174]
[175]
[176]
[177]
[178]
[179]
[180]
[181]
[182]
[183]
[184]
[185]
[186]
[187]
[188]
[189]
[190]
[191]
[192]
[193]
[194]
[195]
[196]

{"sheet":"Cribbage","index":4,"n_rows":1116,"n_cols":70,"rows_kept":1116,"cut":false,"hidden":false,"merged":[[45,59,45,61],[45,38,45,40],[45,41,45,43],[45,44,45,46],[45,47,45,49],[45,50,45,52],[45,53,45,55],[45,56,45,58],[45,35,45,37],[45,2,45,4],[45,5,45,7],[45,8,45,10],[45,11,45,13],[45,14,45,16],[45,17,45,19],[45,20,45,22],[45,23,45,25],[45,26,45,28],[45,29,45,31],[45,32,45,34],[47,1,49,1],[50,1,52,1],[53,1,55,1],[56,1,58,1],[59,1,61,1],[62,1,64,1],[65,1,67,1],[68,1,70,1],[71,1,73,1],[74,1,76,1],[77,1,79,1],[80,1,82,1],[83,1,85,1],[86,1,88,1],[89,1,91,1],[92,1,94,1],[95,1,97,1],[98,1,100,1],[101,1,103,1],[104,1,106,1],[119,1,121,1],[122,1,124,1],[107,1,109,1],[110,1,112,1],[113,1,115,1],[116,1,118,1]]}
["CRIBBAGE"]
["Mes"]
[{"$f":"+GENERAL!B6","v":12},null,{"$f":"SUM(C5:C18)","v":27},null,{"$f":"SUM(E5:E26)","v":0}]
[null,null,"Premi","Reptes","Punts","Partides","General"]
[1,"Jordi",{"$f":"+C$43","v":9.5},{"$f":"+C$44","v":11},{"$f":"+D$43","v":33},{"$f":"+E$44","v":60},{"$f":"+C$29","v":80},{"$f":"IF(F5<A$3/2,-1000,1)*800+C5-D5/1000+E5/1000000","v":809.48903300000006}]
[2,"Núria",{"$f":"+I$43","v":4},{"$f":"+I$44","v":6},{"$f":"+J$43","v":5},{"$f":"+K$44","v":18},{"$f":"+I$29","v":40},803.99400500000002]
[3,"Lluisa",{"$f":"+BH$43","v":1.5},{"$f":"+BH$44","v":3},{"$f":"+BI$43","v":-2},{"$f":"+BJ$44","v":8},{"$f":"+BH$29","v":20},801.49699799999996]
[4,"Goretti",{"$f":"+AS$43","v":1.5},{"$f":"+AS$44","v":3},{"$f":"+AT$43","v":-5},{"$f":"+AU$44","v":14},{"$f":"+AS$29","v":10},801.49699499999997]
[5,"Sebas",{"$f":"+AP$43","v":1},{"$f":"+AP$44","v":3},{"$f":"+AQ$43","v":-3},{"$f":"+AR$44","v":10},{"$f":"+AP$29","v":5},800.99699699999996]
[6,"Nogué",{"$f":"+R$43","v":1},{"$f":"+R$44","v":6},{"$f":"+S$43","v":-20},{"$f":"+T$44","v":46},{"$f":"+R$29","v":0},800.99398000000008]
[7,"Xavier",{"$f":"+AJ$43","v":0.5},{"$f":"+AJ$44","v":3},{"$f":"+AK$43","v":-4},{"$f":"+AL$44","v":10},{"$f":"+AJ$29","v":0},800.49699599999997]
[8,"Christophe",{"$f":"+AD$43","v":2.5},{"$f":"+AD$44","v":3},{"$f":"+AE$43","v":2},{"$f":"+AF$44","v":1},{"$f":"+AD$29","v":0},-799997.50299800001]
[9,"Òscar",{"$f":"+O$43","v":1.5},{"$f":"+O$44","v":2},{"$f":"+P$43","v":1},{"$f":"+Q$44","v":3},{"$f":"+O$29","v":0},-799998.50199899997]
[10,"Grau",{"$f":"+AV$43","v":1.5},{"$f":"+AV$44","v":2},{"$f":"+AW$43","v":1},{"$f":"+AX$44","v":2},{"$f":"+AV$29","v":0},-799998.50199899997]
[11,"Eito",{"$f":"+AA$43","v":1},{"$f":"+AA$44","v":3},{"$f":"+AB$43","v":-2},{"$f":"+AC$44","v":3},{"$f":"+AA$29","v":0},-799999.00300200004]
[12,"Gemma",{"$f":"+L$43","v":1},{"$f":"+L$44","v":4},{"$f":"+M$43","v":-2},{"$f":"+N$44","v":3},{"$f":"+L$29","v":0},-799999.00400199997]
[13,"Isabel",{"$f":"+AY$43","v":0.5},{"$f":"+AY$44","v":3},{"$f":"+AZ$43","v":-2},{"$f":"+BA$44","v":1},{"$f":"+AY$29","v":0},-799999.50300200004]
[14,"Ana B.",{"$f":"+AG$43","v":0},{"$f":"+AG$44","v":2},{"$f":"+AH$43","v":-2},{"$f":"+AI$44","v":1},{"$f":"+AG$29","v":0},-800000.00200199999]
[15,"Carles",{"$f":"+U$43","v":-100000000},{"$f":"+U$44","v":1},{"$f":"+V$43","v":0},{"$f":"+W$44","v":0},{"$f":"+U$29","v":0},{"$f":"IF(F19<A$3/2,-1000,1)*800+C19-D19/1000+E19/1000000","v":-100800000.001}]
[16,"Sergi",{"$f":"+F$43","v":-100000000},{"$f":"+F$44","v":1},{"$f":"+G$43","v":0},{"$f":"+H$44","v":0},{"$f":"+F$29","v":0},-100800000.001]
[17,"Manolo",{"$f":"+AM$43","v":-100000000},{"$f":"+AM$44","v":1},{"$f":"+AN$43","v":0},{"$f":"+AO$44","v":0},{"$f":"+AM$29","v":0},-100800000.001]
[18,"Mariajo",{"$f":"+X$43","v":-100000000},{"$f":"+X$44","v":1},{"$f":"+Y$43","v":0},{"$f":"+Z$44","v":0},{"$f":"+X$29","v":0},-100800000.001]
[19,"Nin",{"$f":"+BE$43","v":-100000000},{"$f":"+BE$44","v":1},{"$f":"+BF$43","v":0},{"$f":"+BG$44","v":0},{"$f":"+BE$29","v":0},-100800000.001]
[20,"Tito",{"$f":"+BB$43","v":-100000000},{"$f":"+BB$44","v":1},{"$f":"+BC$43","v":0},{"$f":"+BD$44","v":0},{"$f":"+BB$29","v":0},-100800000.001]
[21,null,-2000000000000,null,null,null,null,{"$f":"IF(F25<A$3/2,-1000,1)*800+C25-D25/1000+E25/1000000","v":-2000000800000}]
[22,null,-2000000000000,null,null,null,null,-2000000800000]
[]
[]
[null,"General",{"$f":"+C30*C31","v":80},{"$f":"+D30*D31","v":33},null,{"$f":"+F30*F31","v":0},{"$f":"+G30*G31","v":0},null,{"$f":"+I30*I31","v":40},{"$f":"+J30*J31","v":5},null,{"$f":"+L30*L31","v":0},{"$f":"+M30*M31","v":-2},null,{"$f":"+O30*O31","v":0},{"$f":"+P30*P31","v":1},null,{"$f":"+R30*R31","v":0},{"$f":"+S30*S31","v":-20},null,{"$f":"+U30*U31","v":0},{"$f":"+V30*V31","v":0},null,{"$f":"+X30*X31","v":0},{"$f":"+Y30*Y31","v":0},null,{"$f":"+AA30*AA31","v":0},{"$f":"+AB30*AB31","v":-2},null,{"$f":"+AD30*AD31","v":0},{"$f":"+AE30*AE31","v":2},null,{"$f":"+AG30*AG31","v":0},{"$f":"+AH30*AH31","v":-2},null,{"$f":"+AJ30*AJ31","v":0},{"$f":"+AK30*AK31","v":-4},null,{"$f":"+AM30*AM31","v":0},{"$f":"+AN30*AN31","v":0},null,{"$f":"+AP30*AP31","v":5},{"$f":"+AQ30*AQ31","v":-3},null,{"$f":"+AS30*AS31","v":10},{"$f":"+AT30*AT31","v":-5},null,{"$f":"+AV30*AV31","v":0},{"$f":"+AW30*AW31","v":1},null,{"$f":"+AY30*AY31","v":0},{"$f":"+AZ30*AZ31","v":-2},null,{"$f":"+BB30*BB31","v":0},{"$f":"+BC30*BC31","v":0},null,{"$f":"+BE30*BE31","v":0},{"$f":"+BF30*BF31","v":0},null,{"$f":"+BH30*BH31","v":20},{"$f":"+BI30*BI31","v":-2}]
[null,null,{"$f":"IF($B42>3,1,0)","v":1},{"$f":"IF($B42>3,1,0)","v":1},null,{"$f":"IF($B42>3,1,0)","v":1},{"$f":"IF($B42>3,1,0)","v":1},null,{"$f":"IF($B42>3,1,0)","v":1},{"$f":"IF($B42>3,1,0)","v":1},null,{"$f":"IF($B42>3,1,0)","v":1},{"$f":"IF($B42>3,1,0)","v":1},null,{"$f":"IF($B42>3,1,0)","v":1},{"$f":"IF($B42>3,1,0)","v":1},null,{"$f":"IF($B42>3,1,0)","v":1},{"$f":"IF($B42>3,1,0)","v":1},null,{"$f":"IF($B42>3,1,0)","v":1},{"$f":"IF($B42>3,1,0)","v":1},null,{"$f":"IF($B42>3,1,0)","v":1},{"$f":"IF($B42>3,1,0)","v":1},null,{"$f":"IF($B42>3,1,0)","v":1},{"$f":"IF($B42>3,1,0)","v":1},null,{"$f":"IF($B42>3,1,0)","v":1},{"$f":"IF($B42>3,1,0)","v":1},null,{"$f":"IF($B42>3,1,0)","v":1},{"$f":"IF($B42>3,1,0)","v":1},null,{"$f":"IF($B42>3,1,0)","v":1},{"$f":"IF($B42>3,1,0)","v":1},null,{"$f":"IF($B42>3,1,0)","v":1},{"$f":"IF($B42>3,1,0)","v":1},null,{"$f":"IF($B42>3,1,0)","v":1},{"$f":"IF($B42>3,1,0)","v":1},null,{"$f":"IF($B42>3,1,0)","v":1},{"$f":"IF($B42>3,1,0)","v":1},null,{"$f":"IF($B42>3,1,0)","v":1},{"$f":"IF($B42>3,1,0)","v":1},null,{"$f":"IF($B42>3,1,0)","v":1},{"$f":"IF($B42>3,1,0)","v":1},null,{"$f":"IF($B42>3,1,0)","v":1},{"$f":"IF($B42>3,1,0)","v":1},null,{"$f":"IF($B42>3,1,0)","v":1},{"$f":"IF($B42>3,1,0)","v":1},null,{"$f":"IF($B42>3,1,0)","v":1},{"$f":"IF($B42>3,1,0)","v":1}]
[null,null,{"$f":"MAX(C32:C36)","v":80},{"$f":"+D43","v":33},null,{"$f":"MAX(F32:F36)","v":0},{"$f":"+G43","v":0},null,{"$f":"MAX(I32:I36)","v":40},{"$f":"+J43","v":5},null,{"$f":"MAX(L32:L36)","v":0},{"$f":"+M43","v":-2},null,{"$f":"MAX(O32:O36)","v":0},{"$f":"+P43","v":1},null,{"$f":"MAX(R32:R36)","v":0},{"$f":"+S43","v":-20},null,{"$f":"MAX(U32:U36)","v":0},{"$f":"+V43","v":0},null,{"$f":"MAX(X32:X36)","v":0},{"$f":"+Y43","v":0},null,{"$f":"MAX(AA32:AA36)","v":0},{"$f":"+AB43","v":-2},null,{"$f":"MAX(AD32:AD36)","v":0},{"$f":"+AE43","v":2},null,{"$f":"MAX(AG32:AG36)","v":0},{"$f":"+AH43","v":-2},null,{"$f":"MAX(AJ32:AJ36)","v":0},{"$f":"+AK43","v":-4},null,{"$f":"MAX(AM32:AM36)","v":0},{"$f":"+AN43","v":0},null,{"$f":"MAX(AP32:AP36)","v":5},{"$f":"+AQ43","v":-3},null,{"$f":"MAX(AS32:AS36)","v":10},{"$f":"+AT43","v":-5},null,{"$f":"MAX(AV32:AV36)","v":0},{"$f":"+AW43","v":1},null,{"$f":"MAX(AY32:AY36)","v":0},{"$f":"+AZ43","v":-2},null,{"$f":"MAX(BB32:BB36)","v":0},{"$f":"+BC43","v":0},null,{"$f":"MAX(BE32:BE36)","v":0},{"$f":"+BF43","v":0},null,{"$f":"MAX(BH32:BH36)","v":20},{"$f":"+BI43","v":-2}]
[null,null,{"$f":"IF(C$37=5,5,0)","v":0},null,null,{"$f":"IF(F$37=5,5,0)","v":0},null,null,{"$f":"IF(I$37=5,5,0)","v":0},null,null,{"$f":"IF(L$37=5,5,0)","v":0},null,null,{"$f":"IF(O$37=5,5,0)","v":0},null,null,{"$f":"IF(R$37=5,5,0)","v":0},null,null,{"$f":"IF(U$37=5,5,0)","v":0},null,null,{"$f":"IF(X$37=5,5,0)","v":0},null,null,{"$f":"IF(AA$37=5,5,0)","v":0},null,null,{"$f":"IF(AD$37=5,5,0)","v":0},null,null,{"$f":"IF(AG$37=5,5,0)","v":0},null,null,{"$f":"IF(AJ$37=5,5,0)","v":0},null,null,{"$f":"IF(AM$37=5,5,0)","v":0},null,null,{"$f":"IF(AP$37=5,5,0)","v":5},null,null,{"$f":"IF(AS$37=5,5,0)","v":0},null,null,{"$f":"IF(AV$37=5,5,0)","v":0},null,null,{"$f":"IF(AY$37=5,5,0)","v":0},null,null,{"$f":"IF(BB$37=5,5,0)","v":0},null,null,{"$f":"IF(BE$37=5,5,0)","v":0},null,null,{"$f":"IF(BH$37=5,5,0)","v":0}]
[null,null,{"$f":"IF(C$37=4,10,0)","v":0},null,null,{"$f":"IF(F$37=4,10,0)","v":0},null,null,{"$f":"IF(I$37=4,10,0)","v":0},null,null,{"$f":"IF(L$37=4,10,0)","v":0},null,null,{"$f":"IF(O$37=4,10,0)","v":0},null,null,{"$f":"IF(R$37=4,10,0)","v":0},null,null,{"$f":"IF(U$37=4,10,0)","v":0},null,null,{"$f":"IF(X$37=4,10,0)","v":0},null,null,{"$f":"IF(AA$37=4,10,0)","v":0},null,null,{"$f":"IF(AD$37=4,10,0)","v":0},null,null,{"$f":"IF(AG$37=4,10,0)","v":0},null,null,{"$f":"IF(AJ$37=4,10,0)","v":0},null,null,{"$f":"IF(AM$37=4,10,0)","v":0},null,null,{"$f":"IF(AP$37=4,10,0)","v":0},null,null,{"$f":"IF(AS$37=4,10,0)","v":10},null,null,{"$f":"IF(AV$37=4,10,0)","v":0},null,null,{"$f":"IF(AY$37=4,10,0)","v":0},null,null,{"$f":"IF(BB$37=4,10,0)","v":0},null,null,{"$f":"IF(BE$37=4,10,0)","v":0},null,null,{"$f":"IF(BH$37=4,10,0)","v":0}]
[null,null,{"$f":"IF(C$37=3,20,0)","v":0},null,null,{"$f":"IF(F$37=3,20,0)","v":0},null,null,{"$f":"IF(I$37=3,20,0)","v":0},null,null,{"$f":"IF(L$37=3,20,0)","v":0},null,null,{"$f":"IF(O$37=3,20,0)","v":0},null,null,{"$f":"IF(R$37=3,20,0)","v":0},null,null,{"$f":"IF(U$37=3,20,0)","v":0},null,null,{"$f":"IF(X$37=3,20,0)","v":0},null,null,{"$f":"IF(AA$37=3,20,0)","v":0},null,null,{"$f":"IF(AD$37=3,20,0)","v":0},null,null,{"$f":"IF(AG$37=3,20,0)","v":0},null,null,{"$f":"IF(AJ$37=3,20,0)","v":0},null,null,{"$f":"IF(AM$37=3,20,0)","v":0},null,null,{"$f":"IF(AP$37=3,20,0)","v":0},null,null,{"$f":"IF(AS$37=3,20,0)","v":0},null,null,{"$f":"IF(AV$37=3,20,0)","v":0},null,null,{"$f":"IF(AY$37=3,20,0)","v":0},null,null,{"$f":"IF(BB$37=3,20,0)","v":0},null,null,{"$f":"IF(BE$37=3,20,0)","v":0},null,null,{"$f":"IF(BH$37=3,20,0)","v":20}]
[null,null,{"$f":"IF(C$37=2,40,0)","v":0},null,null,{"$f":"IF(F$37=2,40,0)","v":0},null,null,{"$f":"IF(I$37=2,40,0)","v":40},null,null,{"$f":"IF(L$37=2,40,0)","v":0},null,null,{"$f":"IF(O$37=2,40,0)","v":0},null,null,{"$f":"IF(R$37=2,40,0)","v":0},null,null,{"$f":"IF(U$37=2,40,0)","v":0},null,null,{"$f":"IF(X$37=2,40,0)","v":0},null,null,{"$f":"IF(AA$37=2,40,0)","v":0},null,null,{"$f":"IF(AD$37=2,40,0)","v":0},null,null,{"$f":"IF(AG$37=2,40,0)","v":0},null,null,{"$f":"IF(AJ$37=2,40,0)","v":0},null,null,{"$f":"IF(AM$37=2,40,0)","v":0},null,null,{"$f":"IF(AP$37=2,40,0)","v":0},null,null,{"$f":"IF(AS$37=2,40,0)","v":0},null,null,{"$f":"IF(AV$37=2,40,0)","v":0},null,null,{"$f":"IF(AY$37=2,40,0)","v":0},null,null,{"$f":"IF(BB$37=2,40,0)","v":0},null,null,{"$f":"IF(BE$37=2,40,0)","v":0},null,null,{"$f":"IF(BH$37=2,40,0)","v":0}]
[null,null,{"$f":"IF(C$37=1,80,0)","v":80},null,null,{"$f":"IF(F$37=1,80,0)","v":0},null,null,{"$f":"IF(I$37=1,80,0)","v":0},null,null,{"$f":"IF(L$37=1,80,0)","v":0},null,null,{"$f":"IF(O$37=1,80,0)","v":0},null,null,{"$f":"IF(R$37=1,80,0)","v":0},null,null,{"$f":"IF(U$37=1,80,0)","v":0},null,null,{"$f":"IF(X$37=1,80,0)","v":0},null,null,{"$f":"IF(AA$37=1,80,0)","v":0},null,null,{"$f":"IF(AD$37=1,80,0)","v":0},null,null,{"$f":"IF(AG$37=1,80,0)","v":0},null,null,{"$f":"IF(AJ$37=1,80,0)","v":0},null,null,{"$f":"IF(AM$37=1,80,0)","v":0},null,null,{"$f":"IF(AP$37=1,80,0)","v":0},null,null,{"$f":"IF(AS$37=1,80,0)","v":0},null,null,{"$f":"IF(AV$37=1,80,0)","v":0},null,null,{"$f":"IF(AY$37=1,80,0)","v":0},null,null,{"$f":"IF(BB$37=1,80,0)","v":0},null,null,{"$f":"IF(BE$37=1,80,0)","v":0},null,null,{"$f":"IF(BH$37=1,80,0)","v":0}]
[null,null,{"$f":"RANK(C38,$C38:$BI38)*C42","v":1},null,null,{"$f":"RANK(F38,$C38:$BI38)*F42","v":0},null,null,{"$f":"RANK(I38,$C38:$BI38)*I42","v":2},null,null,{"$f":"RANK(L38,$C38:$BI38)*L42","v":0},null,null,{"$f":"RANK(O38,$C38:$BI38)*O42","v":0},null,null,{"$f":"RANK(R38,$C38:$BI38)*R42","v":6},null,null,{"$f":"RANK(U38,$C38:$BI38)*U42","v":0},null,null,{"$f":"RANK(X38,$C38:$BI38)*X42","v":0},null,null,{"$f":"RANK(AA38,$C38:$BI38)*AA42","v":0},null,null,{"$f":"RANK(AD38,$C38:$BI38)*AD42","v":0},null,null,{"$f":"RANK(AG38,$C38:$BI38)*AG42","v":0},null,null,{"$f":"RANK(AJ38,$C38:$BI38)*AJ42","v":7},null,null,{"$f":"RANK(AM38,$C38:$BI38)*AM42","v":0},null,null,{"$f":"RANK(AP38,$C38:$BI38)*AP42","v":5},null,null,{"$f":"RANK(AS38,$C38:$BI38)*AS42","v":4},null,null,{"$f":"RANK(AV38,$C38:$BI38)*AV42","v":0},null,null,{"$f":"RANK(AY38,$C38:$BI38)*AY42","v":0},null,null,{"$f":"RANK(BB38,$C38:$BI38)*BB42","v":0},null,null,{"$f":"RANK(BE38,$C38:$BI38)*BE42","v":0},null,null,{"$f":"RANK(BH38,$C38:$BI38)*BH42","v":3}]
[null,null,{"$f":"SUM(C39:C41)","v":948942.5},null,null,{"$f":"SUM(F39:F41)","v":-1000000100},null,null,{"$f":"SUM(I39:I41)","v":399409},null,null,{"$f":"SUM(L39:L41)","v":-1000000402},null,null,{"$f":"SUM(O39:O41)","v":-1000000199},null,null,{"$f":"SUM(R39:R41)","v":99381},null,null,{"$f":"SUM(U39:U41)","v":-1000000100},null,null,{"$f":"SUM(X39:X41)","v":-1000000100},null,null,{"$f":"SUM(AA39:AA41)","v":-1000000302},null,null,{"$f":"SUM(AD39:AD41)","v":-1000000298},null,null,{"$f":"SUM(AG39:AG41)","v":-1000000202},null,null,{"$f":"SUM(AJ39:AJ41)","v":49696.5},null,null,{"$f":"SUM(AM39:AM41)","v":-1000000100},null,null,{"$f":"SUM(AP39:AP41)","v":99698},null,null,{"$f":"SUM(AS39:AS41)","v":149696.5},null,null,{"$f":"SUM(AV39:AV41)","v":-1000000199},null,null,{"$f":"SUM(AY39:AY41)","v":-1000000302},null,null,{"$f":"SUM(BB39:BB41)","v":-1000000100},null,null,{"$f":"SUM(BE39:BE41)","v":-1000000100},null,null,{"$f":"SUM(BH39:BH41)","v":149699.5}]
[null,null,{"$f":"+D43","v":33},null,null,{"$f":"+G43","v":0},null,null,{"$f":"+J43","v":5},null,null,{"$f":"+M43","v":-2},null,null,{"$f":"+P43","v":1},null,null,{"$f":"+S43","v":-20},null,null,{"$f":"+V43","v":0},null,null,{"$f":"+Y43","v":0},null,null,{"$f":"+AB43","v":-2},null,null,{"$f":"+AE43","v":2},null,null,{"$f":"+AH43","v":-2},null,null,{"$f":"+AK43","v":-4},null,null,{"$f":"+AN43","v":0},null,null,{"$f":"+AQ43","v":-3},null,null,{"$f":"+AT43","v":-5},null,null,{"$f":"+AW43","v":1},null,null,{"$f":"+AZ43","v":-2},null,null,{"$f":"+BC43","v":0},null,null,{"$f":"+BF43","v":0},null,null,{"$f":"+BI43","v":-2}]
[null,null,{"$f":"-C44*100","v":-1100},null,null,{"$f":"-F44*100","v":-100},null,null,{"$f":"-I44*100","v":-600},null,null,{"$f":"-L44*100","v":-400},null,null,{"$f":"-O44*100","v":-200},null,null,{"$f":"-R44*100","v":-600},null,null,{"$f":"-U44*100","v":-100},null,null,{"$f":"-X44*100","v":-100},null,null,{"$f":"-AA44*100","v":-300},null,null,{"$f":"-AD44*100","v":-300},null,null,{"$f":"-AG44*100","v":-200},null,null,{"$f":"-AJ44*100","v":-300},null,null,{"$f":"-AM44*100","v":-100},null,null,{"$f":"-AP44*100","v":-300},null,null,{"$f":"-AS44*100","v":-300},null,null,{"$f":"-AV44*100","v":-200},null,null,{"$f":"-AY44*100","v":-300},null,null,{"$f":"-BB44*100","v":-100},null,null,{"$f":"-BE44*100","v":-100},null,null,{"$f":"-BH44*100","v":-300}]
[null,null,{"$f":"IF(E44-$A3/2<0,-1000000000,C43*C42*100000+C43)","v":950009.5},null,null,{"$f":"IF(H44-$A3/2<0,-1000000000,F43*F42*100000+F43)","v":-1000000000},null,null,{"$f":"IF(K44-$A3/2<0,-1000000000,I43*I42*100000+I43)","v":400004},null,null,{"$f":"IF(N44-$A3/2<0,-1000000000,L43*L42*100000+L43)","v":-1000000000},null,null,{"$f":"IF(Q44-$A3/2<0,-1000000000,O43*O42*100000+O43)","v":-1000000000},null,null,{"$f":"IF(T44-$A3/2<0,-1000000000,R43*R42*100000+R43)","v":100001},null,null,{"$f":"IF(W44-$A3/2<0,-1000000000,U43*U42*100000+U43)","v":-1000000000},null,null,{"$f":"IF(Z44-$A3/2<0,-1000000000,X43*X42*100000+X43)","v":-1000000000},null,null,{"$f":"IF(AC44-$A3/2<0,-1000000000,AA43*AA42*100000+AA43)","v":-1000000000},null,null,{"$f":"IF(AF44-$A3/2<0,-1000000000,AD43*AD42*100000+AD43)","v":-1000000000},null,null,{"$f":"IF(AI44-$A3/2<0,-1000000000,AG43*AG42*100000+AG43)","v":-1000000000},null,null,{"$f":"IF(AL44-$A3/2<0,-1000000000,AJ43*AJ42*100000+AJ43)","v":50000.5},null,null,{"$f":"IF(AO44-$A3/2<0,-1000000000,AM43*AM42*100000+AM43)","v":-1000000000},null,null,{"$f":"IF(AR44-$A3/2<0,-1000000000,AP43*AP42*100000+AP43)","v":100001},null,null,{"$f":"IF(AU44-$A3/2<0,-1000000000,AS43*AS42*100000+AS43)","v":150001.5},null,null,{"$f":"IF(AX44-$A3/2<0,-1000000000,AV43*AV42*100000+AV43)","v":-1000000000},null,null,{"$f":"IF(BA44-$A3/2<0,-1000000000,AY43*AY42*100000+AY43)","v":-1000000000},null,null,{"$f":"IF(BD44-$A3/2<0,-1000000000,BB43*BB42*100000+BB43)","v":-1000000000},null,null,{"$f":"IF(BG44-$A3/2<0,-1000000000,BE43*BE42*100000+BE43)","v":-1000000000},null,null,{"$f":"IF(BJ44-$A3/2<0,-1000000000,BH43*BH42*100000+BH43)","v":150001.5}]
["Classificats",{"$f":"SUM(C42:BH42)","v":7},{"$f":"IF(E44>=$A3/2,1,0)","v":1},null,null,{"$f":"IF(H44>=$A3/2,1,0)","v":0},null,null,{"$f":"IF(K43>=$A3/2,1,0)","v":1},null,null,{"$f":"IF(N44>=$A3/2,1,0)","v":0},null,null,{"$f":"IF(Q44>=$A3/2,1,0)","v":0},null,null,{"$f":"IF(T44>=$A3/2,1,0)","v":1},null,null,{"$f":"IF(W44>=$A3/2,1,0)","v":0},null,null,{"$f":"IF(Z44>=$A3/2,1,0)","v":0},null,null,{"$f":"IF(AC44>=$A3/2,1,0)","v":0},null,null,{"$f":"IF(AF44>=$A3/2,1,0)","v":0},null,null,{"$f":"IF(AI44>=$A3/2,1,0)","v":0},null,null,{"$f":"IF(AL44>=$A3/2,1,0)","v":1},null,null,{"$f":"IF(AO44>=$A3/2,1,0)","v":0},null,null,{"$f":"IF(AR44>=$A3/2,1,0)","v":1},null,null,{"$f":"IF(AU44>=$A3/2,1,0)","v":1},null,null,{"$f":"IF(AX44>=$A3/2,1,0)","v":0},null,null,{"$f":"IF(BA44>=$A3/2,1,0)","v":0},null,null,{"$f":"IF(BD44>=$A3/2,1,0)","v":0},null,null,{"$f":"IF(BG44>=$A3/2,1,0)","v":0},null,null,{"$f":"IF(BJ44>=$A3/2,1,0)","v":1},null,null,{"$f":"MAX(BL45:BL1100)","v":109}]
[null,null,{"$f":"IF(SUM(C48:C1100)<-1000,-100000000,SUM(C48:C1100))","v":9.5},{"$f":"+D48+D51+D54+D57+D60+D63+D66+D69+D75+D78+D81+D84+D87+D90+D93+D96+D99+D102+D105+D108+D111+D114+D117+D120+D123-D125-D122-D119-D116-D113-D110-D107-D104-D101-D98-D95-D92-D89-D83-D80-D77-D74-+D72-D71-D68-D65-D59-D56-D53-D50-D62-D86","v":33},{"$f":"SUM(D48:D1100)/3","v":26},{"$f":"IF(SUM(F48:F1100)<-1000,-100000000,SUM(F48:F1100))","v":-100000000},{"$f":"+G48+G51+G54+G57+G60+G63+G66+G69+G75+G78+G81+G84+G87+G90+G93+G96+G99+G102+G105+G108+G111+G114+G117+G120+G123-G125-G122-G119-G116-G113-G110-G107-G104-G101-G98-G95-G92-G89-G83-G80-G77-G74-+G72-G71-G68-G65-G59-G56-G53-G50-G62-G86","v":0},{"$f":"SUM(G48:G1100)/3","v":0},{"$f":"IF(SUM(I48:I1100)<-1000,-100000000,SUM(I48:I1100))","v":4},{"$f":"+J48+J51+J54+J57+J60+J63+J66+J69+J75+J78+J81+J84+J87+J90+J93+J96+J99+J102+J105+J108+J111+J114+J117+J120+J123-J125-J122-J119-J116-J113-J110-J107-J104-J101-J98-J95-J92-J89-J83-J80-J77-J74-+J72-J71-J68-J65-J59-J56-J53-J50-J62-J86","v":5},{"$f":"SUM(J48:J1100)/3","v":14.666666666666666},{"$f":"IF(SUM(L48:L1100)<-1000,-100000000,SUM(L48:L1100))","v":1},{"$f":"+M48+M51+M54+M57+M60+M63+M66+M69+M75+M78+M81+M84+M87+M90+M93+M96+M99+M102+M105+M108+M111+M114+M117+M120+M123-M125-M122-M119-M116-M113-M110-M107-M104-M101-M98-M95-M92-M89-M83-M80-M77-M74-+M72-M71-M68-M65-M59-M56-M53-M50-M62-M86","v":-2},{"$f":"SUM(M48:M1100)/3","v":2.6666666666666665},{"$f":"IF(SUM(O48:O1100)<-1000,-100000000,SUM(O48:O1100))","v":1.5},{"$f":"+P48+P51+P54+P57+P60+P63+P66+P69+P75+P78+P81+P84+P87+P90+P93+P96+P99+P102+P105+P108+P111+P114+P117+P120+P123-P125-P122-P119-P116-P113-P110-P107-P104-P101-P98-P95-P92-P89-P83-P80-P77-P74-+P72-P71-P68-P65-P59-P56-P53-P50-P62-P86","v":1},{"$f":"SUM(P48:P1100)/3","v":1.6666666666666667},{"$f":"IF(SUM(R48:R1100)<-1000,-100000000,SUM(R48:R1100))","v":1},{"$f":"+S48+S51+S54+S57+S60+S63+S66+S69+S75+S78+S81+S84+S87+S90+S93+S96+S99+S102+S105+S108+S111+S114+S117+S120+S123-S125-S122-S119-S116-S113-S110-S107-S104-S101-S98-S95-S92-S89-S83-S80-S77-S74-+S72-S71-S68-S65-S59-S56-S53-S50-S62-S86","v":-20},{"$f":"SUM(S48:S1100)/3","v":16},{"$f":"IF(SUM(U48:U1100)<-1000,-100000000,SUM(U48:U1100))","v":-100000000},{"$f":"+V48+V51+V54+V57+V60+V63+V66+V69+V75+V78+V81+V84+V87+V90+V93+V96+V99+V102+V105+V108+V111+V114+V117+V120+V123-V125-V122-V119-V116-V113-V110-V107-V104-V101-V98-V95-V92-V89-V83-V80-V77-V74-+V72-V71-V68-V65-V59-V56-V53-V50-V62-V86","v":0},{"$f":"SUM(V48:V1100)/3","v":0},{"$f":"IF(SUM(X48:X1100)<-1000,-100000000,SUM(X48:X1100))","v":-100000000},{"$f":"+Y48+Y51+Y54+Y57+Y60+Y63+Y66+Y69+Y75+Y78+Y81+Y84+Y87+Y90+Y93+Y96+Y99+Y102+Y105+Y108+Y111+Y114+Y117+Y120+Y123-Y125-Y122-Y119-Y116-Y113-Y110-Y107-Y104-Y101-Y98-Y95-Y92-Y89-Y83-Y80-Y77-Y74-+Y72-Y71-Y68-Y65-Y59-Y56-Y53-Y50-Y62-Y86","v":0},{"$f":"SUM(Y48:Y1100)/3","v":0},{"$f":"IF(SUM(AA48:AA1100)<-1000,-100000000,SUM(AA48:AA1100))","v":1},{"$f":"+AB48+AB51+AB54+AB57+AB60+AB63+AB66+AB69+AB75+AB78+AB81+AB84+AB87+AB90+AB93+AB96+AB99+AB102+AB105+AB108+AB111+AB114+AB117+AB120+AB123-AB125-AB122-AB119-AB116-AB113-AB110-AB107-AB104-AB101-AB98-AB95-AB92-AB89-AB83-AB80-AB77-AB74-+AB72-AB71-AB68-AB65-AB59-AB56-AB53-AB50-AB62-AB86","v":-2},{"$f":"SUM(AB48:AB1100)/3","v":3},{"$f":"IF(SUM(AD48:AD1100)<-1000,-100000000,SUM(AD48:AD1100))","v":2.5},{"$f":"+AE48+AE51+AE54+AE57+AE60+AE63+AE66+AE69+AE75+AE78+AE81+AE84+AE87+AE90+AE93+AE96+AE99+AE102+AE105+AE108+AE111+AE114+AE117+AE120+AE123-AE125-AE122-AE119-AE116-AE113-AE110-AE107-AE104-AE101-AE98-AE95-AE92-AE89-AE83-AE80-AE77-AE74-+AE72-AE71-AE68-AE65-AE59-AE56-AE53-AE50-AE62-AE86","v":2},{"$f":"SUM(AE48:AE1100)/3","v":1},{"$f":"IF(SUM(AG48:AG1100)<-1000,-100000000,SUM(AG48:AG1100))","v":0},{"$f":"+AH48+AH51+AH54+AH57+AH60+AH63+AH66+AH69+AH75+AH78+AH81+AH84+AH87+AH90+AH93+AH96+AH99+AH102+AH105+AH108+AH111+AH114+AH117+AH120+AH123-AH125-AH122-AH119-AH116-AH113-AH110-AH107-AH104-AH101-AH98-AH95-AH92-AH89-AH83-AH80-AH77-AH74-+AH72-AH71-AH68-AH65-AH59-AH56-AH53-AH50-AH62-AH86","v":-2},{"$f":"SUM(AH48:AH1100)/3","v":0.66666666666666663},{"$f":"IF(SUM(AJ48:AJ1100)<-1000,-100000000,SUM(AJ48:AJ1100))","v":0.5},{"$f":"+AK48+AK51+AK54+AK57+AK60+AK63+AK66+AK69+AK75+AK78+AK81+AK84+AK87+AK90+AK93+AK96+AK99+AK102+AK105+AK108+AK111+AK114+AK117+AK120+AK123-AK125-AK122-AK119-AK116-AK113-AK110-AK107-AK104-AK101-AK98-AK95-AK92-AK89-AK83-AK80-AK77-AK74-+AK72-AK71-AK68-AK65-AK59-AK56-AK53-AK50-AK62-AK86","v":-4},{"$f":"SUM(AK48:AK1100)/3","v":5},{"$f":"IF(SUM(AM48:AM1100)<-1000,-100000000,SUM(AM48:AM1100))","v":-100000000},{"$f":"+AN48+AN51+AN54+AN57+AN60+AN63+AN66+AN69+AN75+AN78+AN81+AN84+AN87+AN90+AN93+AN96+AN99+AN102+AN105+AN108+AN111+AN114+AN117+AN120+AN123-AN125-AN122-AN119-AN116-AN113-AN110-AN107-AN104-AN101-AN98-AN95-AN92-AN89-AN83-AN80-AN77-AN74-+AN72-AN71-AN68-AN65-AN59-AN56-AN53-AN50-AN62-AN86","v":0},{"$f":"SUM(AN48:AN1100)/3","v":0},{"$f":"IF(SUM(AP48:AP1100)<-1000,-100000000,SUM(AP48:AP1100))","v":1},{"$f":"+AQ48+AQ51+AQ54+AQ57+AQ60+AQ63+AQ66+AQ69+AQ75+AQ78+AQ81+AQ84+AQ87+AQ90+AQ93+AQ96+AQ99+AQ102+AQ105+AQ108+AQ111+AQ114+AQ117+AQ120+AQ123-AQ125-AQ122-AQ119-AQ116-AQ113-AQ110-AQ107-AQ104-AQ101-AQ98-AQ95-AQ92-AQ89-AQ83-AQ80-AQ77-AQ74-+AQ72-AQ71-AQ68-AQ65-AQ59-AQ56-AQ53-AQ50-AQ62-AQ86","v":-3},{"$f":"SUM(AQ48:AQ1100)/3","v":6.333333333333333},{"$f":"IF(SUM(AS48:AS1100)<-1000,-100000000,SUM(AS48:AS1100))","v":1.5},{"$f":"+AT48+AT51+AT54+AT57+AT60+AT63+AT66+AT69+AT75+AT78+AT81+AT84+AT87+AT90+AT93+AT96+AT99+AT102+AT105+AT108+AT111+AT114+AT117+AT120+AT123-AT125-AT122-AT119-AT116-AT113-AT110-AT107-AT104-AT101-AT98-AT95-AT92-AT89-AT83-AT80-AT77-AT74-+AT72-AT71-AT68-AT65-AT59-AT56-AT53-AT50-AT62-AT86","v":-5},{"$f":"SUM(AT48:AT1100)/3","v":5},{"$f":"IF(SUM(AV48:AV1100)<-1000,-100000000,SUM(AV48:AV1100))","v":1.5},{"$f":"+AW48+AW51+AW54+AW57+AW60+AW63+AW66+AW69+AW75+AW78+AW81+AW84+AW87+AW90+AW93+AW96+AW99+AW102+AW105+AW108+AW111+AW114+AW117+AW120+AW123-AW125-AW122-AW119-AW116-AW113-AW110-AW107-AW104-AW101-AW98-AW95-AW92-AW89-AW83-AW80-AW77-AW74-+AW72-AW71-AW68-AW65-AW59-AW56-AW53-AW50-AW62-AW86","v":1},{"$f":"SUM(AW48:AW1100)/3","v":1},{"$f":"IF(SUM(AY48:AY1100)<-1000,-100000000,SUM(AY48:AY1100))","v":0.5},{"$f":"+AZ48+AZ51+AZ54+AZ57+AZ60+AZ63+AZ66+AZ69+AZ75+AZ78+AZ81+AZ84+AZ87+AZ90+AZ93+AZ96+AZ99+AZ102+AZ105+AZ108+AZ111+AZ114+AZ117+AZ120+AZ123-AZ125-AZ122-AZ119-AZ116-AZ113-AZ110-AZ107-AZ104-AZ101-AZ98-AZ95-AZ92-AZ89-AZ83-AZ80-AZ77-AZ74-+AZ72-AZ71-AZ68-AZ65-AZ59-AZ56-AZ53-AZ50-AZ62-AZ86","v":-2},{"$f":"SUM(AZ48:AZ1100)/3","v":1},{"$f":"IF(SUM(BB48:BB1100)<-1000,-100000000,SUM(BB48:BB1100))","v":-100000000},{"$f":"+BC48+BC51+BC54+BC57+BC60+BC63+BC66+BC69+BC75+BC78+BC81+BC84+BC87+BC90+BC93+BC96+BC99+BC102+BC105+BC108+BC111+BC114+BC117+BC120+BC123-BC125-BC122-BC119-BC116-BC113-BC110-BC107-BC104-BC101-BC98-BC95-BC92-BC89-BC83-BC80-BC77-BC74-+BC72-BC71-BC68-BC65-BC59-BC56-BC53-BC50-BC62-BC86","v":0},{"$f":"SUM(BC48:BC1100)/3","v":0},{"$f":"IF(SUM(BE48:BE1100)<-1000,-100000000,SUM(BE48:BE1100))","v":-100000000},{"$f":"+BF48+BF51+BF54+BF57+BF60+BF63+BF66+BF69+BF75+BF78+BF81+BF84+BF87+BF90+BF93+BF96+BF99+BF102+BF105+BF108+BF111+BF114+BF117+BF120+BF123-BF125-BF122-BF119-BF116-BF113-BF110-BF107-BF104-BF101-BF98-BF95-BF92-BF89-BF83-BF80-BF77-BF74-+BF72-BF71-BF68-BF65-BF59-BF56-BF53-BF50-BF62-BF86","v":0},{"$f":"SUM(BF48:BF1100)/3","v":0},{"$f":"IF(SUM(BH48:BH1100)<-1000,-100000000,SUM(BH48:BH1100))","v":1.5},{"$f":"+BI48+BI51+BI54+BI57+BI60+BI63+BI66+BI69+BI75+BI78+BI81+BI84+BI87+BI90+BI93+BI96+BI99+BI102+BI105+BI108+BI111+BI114+BI117+BI120+BI123-BI125-BI122-BI119-BI116-BI113-BI110-BI107-BI104-BI101-BI98-BI95-BI92-BI89-BI83-BI80-BI77-BI74-+BI72-BI71-BI68-BI65-BI59-BI56-BI53-BI50-BI62-BI86","v":-2},{"$f":"SUM(BI48:BI1100)/3","v":4.666666666666667},null,"A"]
[null,null,{"$f":"COUNT(C48:C1100)","v":11},{"$f":"SUM(D48:D1100)","v":78},60,{"$f":"COUNT(F48:F1100)","v":1},{"$f":"SUM(G48:G1100)","v":0},0,{"$f":"COUNT(I48:I1100)","v":6},{"$f":"SUM(J48:J1100)","v":44},18,{"$f":"COUNT(L48:L1100)","v":4},{"$f":"SUM(M48:M1100)","v":8},3,{"$f":"COUNT(O48:O1100)","v":2},{"$f":"SUM(P48:P1100)","v":5},3,{"$f":"COUNT(R48:R1100)","v":6},{"$f":"SUM(S48:S1100)","v":48},46,{"$f":"COUNT(U48:U1100)","v":1},{"$f":"SUM(V48:V1100)","v":0},0,{"$f":"COUNT(X48:X1100)","v":1},{"$f":"SUM(Y48:Y1100)","v":0},0,{"$f":"COUNT(AA48:AA1100)","v":3},{"$f":"SUM(AB48:AB1100)","v":9},3,{"$f":"COUNT(AD48:AD1100)","v":3},{"$f":"SUM(AE48:AE1100)","v":3},1,{"$f":"COUNT(AG48:AG1100)","v":2},{"$f":"SUM(AH48:AH1100)","v":2},1,{"$f":"COUNT(AJ48:AJ1100)","v":3},{"$f":"SUM(AK48:AK1100)","v":15},10,{"$f":"COUNT(AM48:AM1100)","v":1},{"$f":"SUM(AN48:AN1100)","v":0},0,{"$f":"COUNT(AP48:AP1100)","v":3},{"$f":"SUM(AQ48:AQ1100)","v":19},10,{"$f":"COUNT(AS48:AS1100)","v":3},{"$f":"SUM(AT48:AT1100)","v":15},14,{"$f":"COUNT(AV48:AV1100)","v":2},{"$f":"SUM(AW48:AW1100)","v":3},2,{"$f":"COUNT(AY48:AY1100)","v":3},{"$f":"SUM(AZ48:AZ1100)","v":3},1,{"$f":"COUNT(BB48:BB1100)","v":1},{"$f":"SUM(BC48:BC1100)","v":0},0,{"$f":"COUNT(BE48:BE1100)","v":1},{"$f":"SUM(BF48:BF1100)","v":0},0,{"$f":"COUNT(BH48:BH1100)","v":3},{"$f":"SUM(BI48:BI1100)","v":14},8,null,"B"]
[null,null,{"$f":"COUNTIF(C48:C67,10)","v":0},null,null,{"$f":"COUNTIF(F48:F67,10)","v":0},null,null,{"$f":"COUNTIF(I48:I67,10)","v":0},null,null,{"$f":"COUNTIF(L48:L67,10)","v":0},null,null,{"$f":"COUNTIF(O48:O67,10)","v":0},null,null,{"$f":"COUNTIF(R48:R67,10)","v":0},null,null,{"$f":"COUNTIF(U48:U67,10)","v":0},null,null,{"$f":"COUNTIF(X48:X67,10)","v":0},null,null,null,null,null,null,null,null,{"$f":"COUNTIF(AG48:AG67,10)","v":0},null,null,null,null,null,{"$f":"COUNTIF(AM48:AM67,10)","v":0},null,null,{"$f":"COUNTIF(AP48:AP67,10)","v":0},null,null,{"$f":"COUNTIF(AS48:AS67,10)","v":0},null,null,{"$f":"COUNTIF(AV48:AV67,10)","v":0},null,null,{"$f":"COUNTIF(AY48:AY67,10)","v":0},null,null,null,null,null,null,null,null,null,null,null,{"$f":"MAX(BL48:BL1100)","v":109}]
[null,null,"Jordi",null,null,"Sergi",null,null,"Núria",null,null,"Gemma",null,null,"Òscar",null,null,"Nogué",null,null,"Carles",null,null,"Mariajo",null,null,"Eito",null,null,"Christophe",null,null,"Ana B.",null,null,"Xavier",null,null,"Manolo",null,null,"Sebas",null,null,"Goretti",null,null,"Grau",null,null,"Isabel",null,null,"Tito",null,null,"Nin",null,null,"Lluisa",null,null,{"$f":"COUNT(BK48:BK1100)","v":37},"A","B","C"]
[null,"Comentaris","Premi","Punts",null,"Premi","Punts",null,"Premi","Punts",null,"Premi","Punts",null,"Premi","Punts",null,"Premi","Punts",null,"Premi","Punts",null,"Premi","Punts",null,"Premi","Punts",null,"Premi","Punts",null,"Premi","Punts",null,"Premi","Punts",null,"Premi","Punts",null,"Premi","Punts",null,"Premi","Punts",null,"Premi","Punts",null,"Premi","Punts",null,"Premi","Punts",null,"Premi","Punts",null,"Premi","Punts",null,"Data","Timba"]
["G","Jordi",null,null,null,-10000,null,-1,{"$f":"IF(J48-J50=0,0.5,IF(J48>J50,1,0))","v":0},6,null,{"$f":"IF(M48-M50=0,0.5,IF(M48>M50,1,0))","v":0},1,null,{"$f":"IF(P48-P50=0,0.5,IF(P48>P50,1,0))","v":0.5},2,null,{"$f":"IF(S48-S50=0,0.5,IF(S48>S50,1,0))","v":0},4,null,-10000,null,-1,-10000,null,-1,{"$f":"IF(AB48-AB50=0,0.5,IF(AB48>AB50,1,0))","v":0},null,null,{"$f":"IF(AE48-AE50=0,0.5,IF(AE48>AE50,1,0))","v":1},1,null,null,null,null,{"$f":"IF(AK48-AK50=0,0.5,IF(AK48>AK50,1,0))","v":0},null,null,-10000,null,-1,{"$f":"IF(AQ48-AQ50=0,0.5,IF(AQ48>AQ50,1,0))","v":0},2,null,{"$f":"IF(AT48-AT50=0,0.5,IF(AT48>AT50,1,0))","v":0},3,null,null,null,null,{"$f":"IF(AZ48-AZ50=0,0.5,IF(AZ48>AZ50,1,0))","v":0},null,null,-10000,null,-1,-10000,null,-1,{"$f":"IF(BI48-BI50=0,0.5,IF(BI48>BI50,1,0))","v":0},null,null,"2021-10-09",4,{"$f":"+BH48+AJ48+AG48+AD48+AA48+X48+U48+R48+O48+L48+I48+F48+C48+AM48+AP48+AS48+AV48+AY48+BB48+BE48","v":-59998.5},{"$f":"+BI48+AK48+AH48+AE48+AB48+Y48+V48+S48+P48+M48+J48+G48+D48+AN48+AQ48+AT48+AW48+AZ48+BC48+BF48","v":19},{"$f":"+BJ48+AL48+AI48+AF48+AC48+Z48+W48+T48+Q48+N48+K48+H48+E48+AO48+AR48+AU48+AX48+BA48+BD48+BG48","v":-6},{"$f":"+BN48-BO48","v":25},{"$f":"COUNT(C48:BJ48)/3","v":10},{"$f":"+BM48/BQ48","v":-5999.85}]
["E",null,null,null,null,null,null,null,null,2,null,null,null,null,null,null,null,null,3,null,null,null,null,null,null,null,null,1,null,null,null,null,null,null,null,null,1,null,null,null,null,null,null,null,null,null,null,null,null,null,null,null,null,null,null,null,null,null,null,null,null,null,"2021-12-09",40,0,{"$f":"+BI49+AK49+AH49+AE49+AB49+Y49+V49+S49+P49+M49+J49+G49+D49+AN49+AQ49+AT49+AW49+AZ49+BC49+BF49","v":7},{"$f":"+BJ49+AL49+AI49+AF49+AC49+Z49+W49+T49+Q49+N49+K49+H49+E49+AO49+AR49+AU49+AX49+BA49+BD49+BG49","v":0},7,1.3333333333333333,0]
["P",null,null,null,null,null,null,null,null,11,null,null,2,null,null,2,null,null,14,null,null,null,null,null,null,null,null,2,null,null,null,null,null,null,null,null,3,null,null,null,null,null,5,null,null,9,null,null,null,null,null,1,null,null,null,null,null,null,null,null,3,null,"2021-12-09",40,0,52,0,52,3.3333333333333335,0]
["G","Sergi",null,null,null,null,null,null,null,null,null,null,null,null,null,null,null,null,null,null,null,null,null,null,null,null,null,null,null,null,null,null,null,null,null,null,null,null,null,null,null,null,null,null,null,null,null,null,null,null,null,null,null,null,null,null,null,null,null,null,null,null,"2022-01-14",44,0,0,0,0,0,{"$error":"#DIV/0!"}]
["E",null,null,null,null,null,null,null,null,null,null,null,null,null,null,null,null,null,null,null,null,null,null,null,null,null,null,null,null,null,null,null,null,null,null,null,null,null,null,null,null,null,null,null,null,null,null,null,null,null,null,null,null,null,null,null,null,null,null,null,null,null,"2022-01-14",44,0,0,0,0,0,{"$error":"#DIV/0!"}]
["P",null,null,null,null,null,null,null,null,null,null,null,null,null,null,null,null,null,null,null,null,null,null,null,null,null,null,null,null,null,null,null,null,null,null,null,null,null,null,null,null,null,null,null,null,null,null,null,null,null,null,null,null,null,null,null,null,null,null,null,null,null,"2022-01-14",44,0,0,0,0,0,{"$error":"#DIV/0!"}]
["G","Núria",{"$f":"IF(D54-D56=0,0.5,IF(D54>D56,1,0))","v":1},11,null,null,null,null,null,null,null,{"$f":"IF(M54-M56=0,0.5,IF(M54>M56,1,0))","v":0},null,null,null,null,null,{"$f":"IF(S54-S56=0,0.5,IF(S54>S56,1,0))","v":0},4,null,null,null,null,null,null,null,null,null,null,{"$f":"IF(AE54-AE56=0,0.5,IF(AE54>AE56,1,0))","v":0.5},null,null,null,null,null,null,null,null,null,null,null,{"$f":"IF(AQ54-AQ56=0,0.5,IF(AQ54>AQ56,1,0))","v":0.5},2,null,null,null,null,null,null,null,{"$f":"IF(AZ54-AZ56=0,0.5,IF(AZ54>AZ56,1,0))","v":0},null,null,null,null,null,null,null,null,null,null,null,"2022-01-14",44,2,17,0,17,3,0.66666666666666663]
["E",null,null,2,null,null,null,null,null,null,null,null,1,null,null,null,null,null,null,null,null,null,null,null,null,null,null,null,null,null,1,null,null,null,null,null,null,null,null,null,null,null,1,null,null,null,null,null,null,null,null,null,null,null,null,null,null,null,null,null,null,null,"2022-01-21",46,0,5,0,5,1.3333333333333333,0]
["P",null,null,6,null,null,null,null,null,null,null,null,1,null,null,null,null,null,12,null,null,null,null,null,null,null,null,null,null,null,null,null,null,null,null,null,null,null,null,null,null,null,2,null,null,null,null,null,null,null,null,1,null,null,null,null,null,null,null,null,null,null,"2022-01-21",46,0,22,0,22,1.6666666666666667,0]
["G","Gemma",{"$f":"IF(D57-D59=0,0.5,IF(D57>D59,1,0))","v":1},2,null,null,null,null,{"$f":"IF(J57-J59=0,0.5,IF(J57>J59,1,0))","v":1},1,null,null,null,null,{"$f":"IF(P57-P59=0,0.5,IF(P57>P59,1,0))","v":1},1,null,{"$f":"IF(S57-S59=0,0.5,IF(S57>S59,1,0))","v":0},null,null,null,null,null,null,null,null,null,null,null,null,null,null,null,null,null,null,null,null,null,null,null,null,null,null,null,null,null,null,null,null,null,null,null,null,null,null,null,null,null,null,null,null,"2022-02-03",47,3,4,0,4,2.3333333333333335,1.2857142857142856]
["E",null,null,null,null,null,null,null,null,1,null,null,null,null,null,null,null,null,1,null,null,null,null,null,null,null,null,null,null,null,null,null,null,null,null,null,null,null,null,null,null,null,null,null,null,null,null,null,null,null,null,null,null,null,null,null,null,null,null,null,null,null,"2022-03-04",51,0,2,0,2,0.66666666666666663,0]
["P",null,null,1,null,null,null,null,null,null,null,null,null,null,null,null,null,null,1,null,null,null,null,null,null,null,null,null,null,null,null,null,null,null,null,null,null,null,null,null,null,null,null,null,null,null,null,null,null,null,null,null,null,null,null,null,null,null,null,null,null,null,"2022-03-04",51,0,2,0,2,0.66666666666666663,0]
["G","Òscar",{"$f":"IF(D60-D62=0,0.5,IF(D60>D62,1,0))","v":0.5},2,null,null,null,null,null,null,null,{"$f":"IF(M60-M62=0,0.5,IF(M60>M62,1,0))","v":0},null,null,null,null,null,null,null,null,null,null,null,null,null,null,null,null,null,null,null,null,null,null,null,null,null,null,null,null,null,null,null,null,null,null,null,null,null,null,null,null,null,null,null,null,null,null,null,null,null,null,"2022-03-31",53,0.5,2,0,2,1,0.5]
["E",null,null,null,null,null,null,null,null,null,null,null,null,null,null,null,null,null,null,null,null,null,null,null,null,null,null,null,null,null,null,null,null,null,null,null,null,null,null,null,null,null,null,null,null,null,null,null,null,null,null,null,null,null,null,null,null,null,null,null,null,null,"2022-04-01",54,0,0,0,0,0,{"$error":"#DIV/0!"}]
["P",null,null,2,null,null,null,null,null,null,null,null,1,null,null,null,null,null,null,null,null,null,null,null,null,null,null,null,null,null,null,null,null,null,null,null,null,null,null,null,null,null,null,null,null,null,null,null,null,null,null,null,null,null,null,null,null,null,null,null,null,null,"2022-04-18",59,0,3,0,3,0.66666666666666663,0]
["G","Nogué",{"$f":"IF(D63-D65=0,0.5,IF(D63>D65,1,0))","v":1},14,null,null,null,null,{"$f":"IF(J63-J65=0,0.5,IF(J63>J65,1,0))","v":1},12,null,{"$f":"IF(M63-M65=0,0.5,IF(M63>M65,1,0))","v":1},1,null,null,null,null,null,null,null,null,null,null,null,null,null,null,null,null,{"$f":"IF(AE63-AE65=0,0.5,IF(AE63>AE65,1,0))","v":1},1,null,null,null,null,null,null,null,null,null,null,{"$f":"IF(AQ63-AQ65=0,0.5,IF(AQ63>AQ65,1,0))","v":0.5},3,null,null,null,null,null,null,null,{"$f":"IF(AZ63-AZ65=0,0.5,IF(AZ63>AZ65,1,0))","v":0.5},null,null,null,null,null,null,null,null,null,null,null,"2022-05-13",61,5,31,0,31,3.6666666666666665,1.3636363636363638]
["E",null,null,3,null,null,null,null,null,null,null,null,1,null,null,null,null,null,null,null,null,null,null,null,null,null,null,null,null,null,null,null,null,null,null,null,null,null,null,null,null,null,1,null,null,null,null,null,null,null,null,1,null,null,null,null,null,null,null,null,null,null,"2022-05-20",62,0,6,0,6,1.3333333333333333,0]
["P",null,null,4,null,null,null,null,null,4,null,null,null,null,null,null,null,null,null,null,null,null,null,null,null,null,null,null,null,null,null,null,null,null,null,null,null,null,null,null,null,null,3,null,null,null,null,null,null,null,null,null,null,null,null,null,null,null,null,null,null,null,"2022-05-29",65,0,11,0,11,1,0]
["G","Carles",null,null,null,null,null,null,null,null,null,null,null,null,null,null,null,null,null,null,null,null,null,null,null,null,null,null,null,null,null,null,null,null,null,null,null,null,null,null,null,null,null,null,null,null,null,null,null,null,null,null,null,null,null,null,null,null,null,null,null,null,"2022-07-01",77,0,0,0,0,0,{"$error":"#DIV/0!"}]
["E",null,null,null,null,null,null,null,null,null,null,null,null,null,null,null,null,null,null,null,null,null,null,null,null,null,null,null,null,null,null,null,null,null,null,null,null,null,null,null,null,null,null,null,null,null,null,null,null,null,null,null,null,null,null,null,null,null,null,null,null,null,"2022-07-01",77,0,0,0,0,0,{"$error":"#DIV/0!"}]
["P",null,null,null,null,null,null,null,null,null,null,null,null,null,null,null,null,null,null,null,null,null,null,null,null,null,null,null,null,null,null,null,null,null,null,null,null,null,null,null,null,null,null,null,null,null,null,null,null,null,null,null,null,null,null,null,null,null,null,null,null,null,"2022-07-22",84,0,0,0,0,0,{"$error":"#DIV/0!"}]
["G","Mariajo",null,null,null,null,null,null,null,null,null,null,null,null,null,null,null,null,null,null,null,null,null,null,null,null,null,null,null,null,null,null,null,null,null,null,null,null,null,null,null,null,null,null,null,null,null,null,null,null,null,null,null,null,null,null,null,null,null,null,null,null,"2022-07-22",84,0,0,0,0,0,{"$error":"#DIV/0!"}]
["E",null,null,null,null,null,null,null,null,null,null,null,null,null,null,null,null,null,null,null,null,null,null,null,null,null,null,null,null,null,null,null,null,null,null,null,null,null,null,null,null,null,null,null,null,null,null,null,null,null,null,null,null,null,null,null,null,null,null,null,null,null,"2022-07-23",85,0,0,0,0,0,{"$error":"#DIV/0!"}]
["P",null,null,null,null,null,null,null,null,null,null,null,null,null,null,null,null,null,null,null,null,null,null,null,null,null,null,null,null,null,null,null,null,null,null,null,null,null,null,null,null,null,null,null,null,null,null,null,null,null,null,null,null,null,null,null,null,null,null,null,null,null,"2022-08-02",86,0,0,0,0,0,{"$error":"#DIV/0!"}]
["G","Rosa M.",null,null,null,null,null,null,null,null,null,null,null,null,null,null,null,null,null,null,null,null,null,null,null,null,null,null,null,null,null,null,null,null,null,null,null,null,null,null,null,null,null,null,null,null,null,null,null,null,null,null,null,null,null,null,null,null,null,null,null,null,"2022-08-02",86,0,0,0,0,0,{"$error":"#DIV/0!"}]
["E",null,null,null,null,null,null,null,null,null,null,null,null,null,null,null,null,null,null,null,null,null,null,null,null,null,null,null,null,null,null,null,null,null,null,null,null,null,null,null,null,null,null,null,null,null,null,null,null,null,null,null,null,null,null,null,null,null,null,null,null,null,"2022-08-02",86,0,0,0,0,0,{"$error":"#DIV/0!"}]
["P",null,null,null,null,null,null,null,null,null,null,null,null,null,null,null,null,null,null,null,null,null,null,null,null,null,null,null,null,null,null,null,null,null,null,null,null,null,null,null,null,null,null,null,null,null,null,null,null,null,null,null,null,null,null,null,null,null,null,null,null,null,"2022-08-18",89,0,0,0,0,0,{"$error":"#DIV/0!"}]
["G","Christophe",{"$f":"IF(D75-D77=0,0.5,IF(D75>D77,1,0))","v":0},null,null,null,null,null,{"$f":"IF(J75-J77=0,0.5,IF(J75>J77,1,0))","v":0.5},null,null,null,null,null,null,null,null,{"$f":"IF(S75-S77=0,0.5,IF(S75>S77,1,0))","v":0},null,null,null,null,null,null,null,null,null,null,null,null,null,null,null,null,null,null,null,null,null,null,null,null,null,null,null,null,null,null,null,null,null,null,null,null,null,null,null,null,null,null,null,null,"2022-08-18",89,0.5,0,0,0,1,0.5]
["E",null,null,null,null,null,null,null,null,1,null,null,null,null,null,null,null,null,null,null,null,null,null,null,null,null,null,null,null,null,null,null,null,null,null,null,null,null,null,null,null,null,null,null,null,null,null,null,null,null,null,null,null,null,null,null,null,null,null,null,null,null,"2022-08-18",89,0,1,0,1,0.33333333333333331,0]
["P",null,null,1,null,null,null,null,null,null,null,null,null,null,null,null,null,null,1,null,null,null,null,null,null,null,null,null,null,null,null,null,null,null,null,null,null,null,null,null,null,null,null,null,null,null,null,null,null,null,null,null,null,null,null,null,null,null,null,null,null,null,"2022-08-18",89,0,2,0,2,0.66666666666666663,0]
["G","Ana B.",null,null,null,null,null,null,null,null,null,null,null,null,null,null,null,null,null,null,null,null,null,null,null,null,null,null,null,null,null,null,null,null,null,null,null,null,null,null,null,null,null,null,{"$f":"IF(AT78-AT80=0,0.5,IF(AT78>AT80,1,0))","v":1},1,null,{"$f":"IF(AW78-AW80=0,0.5,IF(AW78>AW80,1,0))","v":1},1,null,null,null,null,null,null,null,null,null,null,null,null,null,"2022-08-24",96,2,2,0,2,1.3333333333333333,1.5]
["E",null,null,null,null,null,null,null,null,null,null,null,null,null,null,null,null,null,null,null,null,null,null,null,null,null,null,null,null,null,null,null,null,null,null,null,null,null,null,null,null,null,null,null,null,null,null,null,null,null,null,null,null,null,null,null,null,null,null,null,null,null,"2022-08-24",96,0,0,0,0,0,{"$error":"#DIV/0!"}]
["P",null,null,null,null,null,null,null,null,null,null,null,null,null,null,null,null,null,null,null,null,null,null,null,null,null,null,null,null,null,null,null,null,null,null,null,null,null,null,null,null,null,null,null,null,null,null,null,null,null,null,null,null,null,null,null,null,null,null,null,null,null,"2022-08-25",97,0,0,0,{"$f":"+BN80-BO80","v":0},{"$f":"COUNT(C80:BJ80)/3","v":0},{"$f":"+BM80/BQ80","v":{"$error":"#DIV/0!"}}]
["G","Anna P.",null,null,null,null,null,null,null,null,null,null,null,null,null,null,null,null,null,null,null,null,null,null,null,null,null,null,null,null,null,null,null,null,null,null,null,null,null,null,null,null,null,null,null,null,null,null,null,null,null,null,null,null,null,null,null,null,null,null,null,null,"2022-08-25",97,0,0,0,0,0,{"$error":"#DIV/0!"}]
["E",null,null,null,null,null,null,null,null,null,null,null,null,null,null,null,null,null,null,null,null,null,null,null,null,null,null,null,null,null,null,null,null,null,null,null,null,null,null,null,null,null,null,null,null,null,null,null,null,null,null,null,null,null,null,null,null,null,null,null,null,null,"2022-08-25",97,0,0,0,0,0,{"$error":"#DIV/0!"}]
["P",null,null,null,null,null,null,null,null,null,null,null,null,null,null,null,null,null,null,null,null,null,null,null,null,null,null,null,null,null,null,null,null,null,null,null,null,null,null,null,null,null,null,null,null,null,null,null,null,null,null,null,null,null,null,null,null,null,null,null,null,null,"2022-08-26",98,0,0,0,0,0,{"$error":"#DIV/0!"}]
["G","Manolo",null,null,null,null,null,null,null,null,null,null,null,null,null,null,null,null,null,null,null,null,null,null,null,null,null,null,null,null,null,null,null,null,null,null,null,null,null,null,null,null,null,null,null,null,null,null,null,null,null,null,null,null,null,null,null,null,null,null,null,null,"2022-09-29",109,0,0,0,0,0,{"$error":"#DIV/0!"}]
["E",null,null,null,null,null,null,null,null,null,null,null,null,null,null,null,null,null,null,null,null,null,null,null,null,null,null,null,null,null,null,null,null,null,null,null,null,null,null,null,null,null,null,null,null,null,null,null,null,null,null,null,null,null,null,null,null,null,null,null,null,null,null,null,0,0,0,0,0,{"$error":"#DIV/0!"}]
["P",null,null,null,null,null,null,null,null,null,null,null,null,null,null,null,null,null,null,null,null,null,null,null,null,null,null,null,null,null,null,null,null,null,null,null,null,null,null,null,null,null,null,null,null,null,null,null,null,null,null,null,null,null,null,null,null,null,null,null,null,null,null,null,0,0,0,0,0,{"$error":"#DIV/0!"}]
["G","Sebas",{"$f":"IF(D87-D89=0,0.5,IF(D87>D89,1,0))","v":1},5,null,null,null,null,{"$f":"IF(J87-J89=0,0.5,IF(J87>J89,1,0))","v":0.5},2,null,null,null,null,null,null,null,{"$f":"IF(S87-S89=0,0.5,IF(S87>S89,1,0))","v":0.5},3,null,null,null,null,null,null,null,null,null,null,null,null,null,null,null,null,null,null,null,null,null,null,null,null,null,null,null,null,null,null,null,null,null,null,null,null,null,null,null,null,null,null,null,null,null,2,10,0,10,2,1]
["E",null,null,null,null,null,null,null,null,1,null,null,null,null,null,null,null,null,1,null,null,null,null,null,null,null,null,null,null,null,null,null,null,null,null,null,null,null,null,null,null,null,null,null,null,null,null,null,null,null,null,null,null,null,null,null,null,null,null,null,null,null,null,null,0,2,0,2,0.66666666666666663,0]
["P",null,null,2,null,null,null,null,null,2,null,null,null,null,null,null,null,null,3,null,null,null,null,null,null,null,null,null,null,null,null,null,null,null,null,null,null,null,null,null,null,null,null,null,null,null,null,null,null,null,null,null,null,null,null,null,null,null,null,null,null,null,null,null,0,7,0,{"$f":"+BN89-BO89","v":7},{"$f":"COUNT(C89:BJ89)/3","v":1},{"$f":"+BM89/BQ89","v":0}]
["G","Goretti",{"$f":"IF(D90-D92=0,0.5,IF(D90>D92,1,0))","v":1},9,null,null,null,null,null,null,null,null,null,null,null,null,null,null,null,null,null,null,null,null,null,null,null,null,null,null,null,null,{"$f":"IF(AH90-AH92=0,0.5,IF(AH90>AH92,1,0))","v":0},null,null,null,null,null,null,null,null,null,null,null,null,null,null,{"$f":"IF(AW90-AW92=0,0.5,IF(AW90>AW92,1,0))","v":0.5},1,null,null,null,null,null,null,null,null,null,null,null,null,null,null,null,1.5,10,0,10,1.6666666666666667,0.89999999999999991]
["E",null,null,null,null,null,null,null,null,null,null,null,null,null,null,null,null,null,null,null,null,null,null,null,null,null,null,null,null,null,null,null,null,null,null,null,null,null,null,null,null,null,null,null,null,null,null,null,null,null,null,null,null,null,null,null,null,null,null,null,null,null,null,null,0,0,0,0,0,{"$error":"#DIV/0!"}]
["P",null,null,3,null,null,null,null,null,null,null,null,null,null,null,null,null,null,null,null,null,null,null,null,null,null,null,null,null,null,null,null,null,1,null,null,null,null,null,null,null,null,null,null,null,null,null,null,1,null,null,null,null,null,null,null,null,null,null,null,null,null,null,null,0,5,0,5,1,0]
["G","Grau",null,null,null,null,null,null,null,null,null,null,null,null,null,null,null,null,null,null,null,null,null,null,null,null,null,null,null,null,null,null,{"$f":"IF(AH93-AH95=0,0.5,IF(AH93>AH95,1,0))","v":0},null,null,null,null,null,null,null,null,null,null,null,{"$f":"IF(AT93-AT95=0,0.5,IF(AT93>AT95,1,0))","v":0.5},1,null,null,null,null,null,null,null,null,null,null,null,null,null,null,null,null,null,null,0.5,1,0,1,1,0.5]
["E",null,null,null,null,null,null,null,null,null,null,null,null,null,null,null,null,null,null,null,null,null,null,null,null,null,null,null,null,null,null,null,null,null,null,null,null,null,null,null,null,null,null,null,null,null,null,null,null,null,null,null,null,null,null,null,null,null,null,null,null,null,null,null,0,0,0,0,0,{"$error":"#DIV/0!"}]
["P",null,null,null,null,null,null,null,null,null,null,null,null,null,null,null,null,null,null,null,null,null,null,null,null,null,null,null,null,null,null,null,null,1,null,null,null,null,null,null,null,null,null,null,null,1,null,null,null,null,null,null,null,null,null,null,null,null,null,null,null,null,null,null,0,2,0,2,0.66666666666666663,0]
["G","Lucía",null,null,null,null,null,null,null,null,null,null,null,null,null,null,null,null,null,null,null,null,null,null,null,null,null,null,null,null,null,null,null,null,null,null,null,null,null,null,null,null,null,null,null,null,null,null,null,null,null,null,null,null,null,null,null,null,null,null,null,null,null,null,0,0,0,0,0,{"$error":"#DIV/0!"}]
["E",null,null,null,null,null,null,null,null,null,null,null,null,null,null,null,null,null,null,null,null,null,null,null,null,null,null,null,null,null,null,null,null,null,null,null,null,null,null,null,null,null,null,null,null,null,null,null,null,null,null,null,null,null,null,null,null,null,null,null,null,null,null,null,0,0,0,0,0,{"$error":"#DIV/0!"}]
["P",null,null,null,null,null,null,null,null,null,null,null,null,null,null,null,null,null,null,null,null,null,null,null,null,null,null,null,null,null,null,null,null,null,null,null,null,null,null,null,null,null,null,null,null,null,null,null,null,null,null,null,null,null,null,null,null,null,null,null,null,null,null,null,0,0,0,0,0,{"$error":"#DIV/0!"}]
["G","Tito",null,null,null,null,null,null,null,null,null,null,null,null,null,null,null,null,null,null,null,null,null,null,null,null,null,null,null,null,null,null,null,null,null,null,null,null,null,null,null,null,null,null,null,null,null,null,null,null,null,null,null,null,null,null,null,null,null,null,null,null,null,null,0,0,0,0,0,{"$error":"#DIV/0!"}]
["E",null,null,null,null,null,null,null,null,null,null,null,null,null,null,null,null,null,null,null,null,null,null,null,null,null,null,null,null,null,null,null,null,null,null,null,null,null,null,null,null,null,null,null,null,null,null,null,null,null,null,null,null,null,null,null,null,null,null,null,null,null,null,null,0,0,0,0,0,{"$error":"#DIV/0!"}]
["P",null,null,null,null,null,null,null,null,null,null,null,null,null,null,null,null,null,null,null,null,null,null,null,null,null,null,null,null,null,null,null,null,null,null,null,null,null,null,null,null,null,null,null,null,null,null,null,null,null,null,null,null,null,null,null,null,null,null,null,null,null,null,null,0,0,0,0,0,{"$error":"#DIV/0!"}]
["G","Nin",null,null,null,null,null,null,null,null,null,null,null,null,null,null,null,null,null,null,null,null,null,null,null,null,null,null,null,null,null,null,null,null,null,null,null,null,null,null,null,null,null,null,null,null,null,null,null,null,null,null,null,null,null,null,null,null,null,null,null,null,null,null,{"$f":"+BH102+AJ102+AG102+AD102+AA102+X102+U102+R102+O102+L102+I102+F102+C102+AM102+AP102+AS102+AV102+AY102+BB102+BE102","v":0},0,0,0,0,{"$error":"#DIV/0!"}]
["E",null,null,null,null,null,null,null,null,null,null,null,null,null,null,null,null,null,null,null,null,null,null,null,null,null,null,null,null,null,null,null,null,null,null,null,null,null,null,null,null,null,null,null,null,null,null,null,null,null,null,null,null,null,null,null,null,null,null,null,null,null,null,null,0,0,0,0,0,{"$error":"#DIV/0!"}]
["P",null,null,null,null,null,null,null,null,null,null,null,null,null,null,null,null,null,null,null,null,null,null,null,null,null,null,null,null,null,null,null,null,null,null,null,null,null,null,null,null,null,null,null,null,null,null,null,null,null,null,null,null,null,null,null,null,null,null,null,null,null,null,null,0,0,0,0,0,{"$error":"#DIV/0!"}]
["G","Lluisa",{"$f":"IF(D105-D107=0,0.5,IF(D105>D107,1,0))","v":1},3,null,null,null,null,null,null,null,null,null,null,null,null,null,null,null,null,null,null,null,null,null,null,{"$f":"IF(AB105-AB107=0,0.5,IF(AB105>AB107,1,0))","v":0.5},1,null,null,null,null,null,null,null,{"$f":"IF(AK105-AK107=0,0.5,IF(AK105>AK107,1,0))","v":0},3,null,null,null,null,null,null,null,null,null,null,null,null,null,null,null,null,null,null,null,null,null,null,null,null,null,null,null,{"$f":"+BH105+AJ105+AG105+AD105+AA105+X105+U105+R105+O105+L105+I105+F105+C105+AM105+AP105+AS105+AV105+AY105+BB105+BE105","v":1.5},7,0,7,2,0.75]
["E",null,null,null,null,null,null,null,null,null,null,null,null,null,null,null,null,null,null,null,null,null,null,null,null,null,null,1,null,null,null,null,null,null,null,null,1,null,null,null,null,null,null,null,null,null,null,null,null,null,null,null,null,null,null,null,null,null,null,null,null,null,null,null,0,2,0,2,0.66666666666666663,0]
["P",null,null,null,null,null,null,null,null,null,null,null,null,null,null,null,null,null,null,null,null,null,null,null,null,null,null,1,null,null,null,null,null,null,null,null,4,null,null,null,null,null,null,null,null,null,null,null,null,null,null,null,null,null,null,null,null,null,null,null,null,null,null,null,0,5,0,5,0.66666666666666663,0]
["G","Isabel",{"$f":"IF(D108-D110=0,0.5,IF(D108>D110,1,0))","v":1},1,null,null,null,null,{"$f":"IF(J108-J110=0,0.5,IF(J108>J110,1,0))","v":1},1,null,null,null,null,null,null,null,{"$f":"IF(S108-S110=0,0.5,IF(S108>S110,1,0))","v":0.5},null,null,null,null,null,null,null,null,null,null,null,null,null,null,null,null,null,null,null,null,null,null,null,null,null,null,null,null,null,null,null,null,null,null,null,null,null,null,null,null,null,null,null,null,null,null,2.5,2,0,2,1.6666666666666667,1.5]
["E",null,null,null,null,null,null,null,null,null,null,null,null,null,null,null,null,null,1,null,null,null,null,null,null,null,null,null,null,null,null,null,null,null,null,null,null,null,null,null,null,null,null,null,null,null,null,null,null,null,null,null,null,null,null,null,null,null,null,null,null,null,null,null,0,1,0,1,0.33333333333333331,0]
["P",null,null,null,null,null,null,null,null,null,null,null,null,null,null,null,null,null,null,null,null,null,null,null,null,null,null,null,null,null,null,null,null,null,null,null,null,null,null,null,null,null,null,null,null,null,null,null,null,null,null,null,null,null,null,null,null,null,null,null,null,null,null,null,0,0,0,0,0,{"$error":"#DIV/0!"}]
["G","Xavier",{"$f":"IF(D111-D113=0,0.5,IF(D111>D113,1,0))","v":1},3,null,null,null,null,null,null,null,null,null,null,null,null,null,null,null,null,null,null,null,null,null,null,{"$f":"IF(AB111-AB113=0,0.5,IF(AB111>AB113,1,0))","v":0.5},1,null,null,null,null,null,null,null,null,null,null,null,null,null,null,null,null,null,null,null,null,null,null,null,null,null,null,null,null,null,null,null,{"$f":"IF(BI111-BI113=0,0.5,IF(BI111>BI113,1,0))","v":1},4,null,null,null,2.5,8,0,8,2,1.25]
["E",null,null,1,null,null,null,null,null,null,null,null,null,null,null,null,null,null,null,null,null,null,null,null,null,null,null,1,null,null,null,null,null,null,null,null,null,null,null,null,null,null,null,null,null,null,null,null,null,null,null,null,null,null,null,null,null,null,null,null,1,null,null,null,{"$f":"+BH112+AJ112+AG112+AD112+AA112+X112+U112+R112+O112+L112+I112+F112+C112+AM112+AP112+AS112+AV112+AY112+BB112+BE112","v":0},3,0,3,1,0]
["P",null,null,null,null,null,null,null,null,null,null,null,null,null,null,null,null,null,null,null,null,null,null,null,null,null,null,1,null,null,null,null,null,null,null,null,null,null,null,null,null,null,null,null,null,null,null,null,null,null,null,null,null,null,null,null,null,null,null,null,3,null,null,null,0,{"$f":"+BI113+AK113+AH113+AE113+AB113+Y113+V113+S113+P113+M113+J113+G113+D113+AN113+AQ113+AT113+AW113+AZ113+BC113+BF113","v":4},{"$f":"+BJ113+AL113+AI113+AF113+AC113+Z113+W113+T113+Q113+N113+K113+H113+E113+AO113+AR113+AU113+AX113+BA113+BD113+BG113","v":0},4,0.66666666666666663,0]
["G","Eito",{"$f":"IF(D114-D116=0,0.5,IF(D114>D116,1,0))","v":1},2,null,null,null,null,null,null,null,null,null,null,null,null,null,null,null,null,null,null,null,null,null,null,null,null,null,null,null,null,null,null,null,{"$f":"IF(AK114-AK116=0,0.5,IF(AK114>AK116,1,0))","v":0.5},1,null,null,null,null,null,null,null,null,null,null,null,null,null,null,null,null,null,null,null,null,null,null,{"$f":"IF(BI114-BI116=0,0.5,IF(BI114>BI116,1,0))","v":0.5},1,null,null,null,2,4,0,{"$f":"+BN114-BO114","v":4},{"$f":"COUNT(C114:BJ114)/3","v":2},{"$f":"+BM114/BQ114","v":1}]
["E",null,null,1,null,null,null,null,null,null,null,null,null,null,null,null,null,null,null,null,null,null,null,null,null,null,null,null,null,null,null,null,null,null,null,null,1,null,null,null,null,null,null,null,null,null,null,null,null,null,null,null,null,null,null,null,null,null,null,null,1,null,null,null,0,3,0,3,1,0]
["P",null,null,null,null,null,null,null,null,null,null,null,null,null,null,null,null,null,null,null,null,null,null,null,null,null,null,null,null,null,null,null,null,null,null,null,1,null,null,null,null,null,null,null,null,null,null,null,null,null,null,null,null,null,null,null,null,null,null,null,1,null,null,null,0,2,0,2,0.66666666666666663,0]
["G",null,null,null,null,null,null,null,null,null,null,null,null,null,null,null,null,null,null,null,null,null,null,null,null,null,null,null,null,null,null,null,null,null,null,null,null,null,null,null,null,null,null,null,null,null,null,null,null,null,null,null,null,null,null,null,null,null,null,null,null,null,null,null,0,0,0,0,0,{"$error":"#DIV/0!"}]
["E",null,null,null,null,null,null,null,null,null,null,null,null,null,null,null,null,null,null,null,null,null,null,null,null,null,null,null,null,null,null,null,null,null,null,null,null,null,null,null,null,null,null,null,null,null,null,null,null,null,null,null,null,null,null,null,null,null,null,null,null,null,null,null,0,0,0,0,0,{"$error":"#DIV/0!"}]
["P",null,null,null,null,null,null,null,null,null,null,null,null,null,null,null,null,null,null,null,null,null,null,null,null,null,null,null,null,null,null,null,null,null,null,null,null,null,null,null,null,null,null,null,null,null,null,null,null,null,null,null,null,null,null,null,null,null,null,null,null,null,null,null,0,0,0,0,0,{"$error":"#DIV/0!"}]
["G",null,null,null,null,null,null,null,null,null,null,null,null,null,null,null,null,null,null,null,null,null,null,null,null,null,null,null,null,null,null,null,null,null,null,null,null,null,null,null,null,null,null,null,null,null,null,null,null,null,null,null,null,null,null,null,null,null,null,null,null,null,null,null,0,0,0,0,0,{"$error":"#DIV/0!"}]
["E",null,null,null,null,null,null,null,null,null,null,null,null,null,null,null,null,null,null,null,null,null,null,null,null,null,null,null,null,null,null,null,null,null,null,null,null,null,null,null,null,null,null,null,null,null,null,null,null,null,null,null,null,null,null,null,null,null,null,null,null,null,null,null,0,0,0,0,0,{"$error":"#DIV/0!"}]
["P",null,null,null,null,null,null,null,null,null,null,null,null,null,null,null,null,null,null,null,null,null,null,null,null,null,null,null,null,null,null,null,null,null,null,null,null,null,null,null,null,null,null,null,null,null,null,null,null,null,null,null,null,null,null,null,null,null,null,null,null,null,null,null,0,0,0,0,0,{"$error":"#DIV/0!"}]
["G",null,null,null,null,null,null,null,null,null,null,null,null,null,null,null,null,null,null,null,null,null,null,null,null,null,null,null,null,null,null,null,null,null,null,null,null,null,null,null,null,null,null,null,null,null,null,null,null,null,null,null,null,null,null,null,null,null,null,null,null,null,null,null,0,0,0,0,0,{"$error":"#DIV/0!"}]
["E",null,null,null,null,null,null,null,null,null,null,null,null,null,null,null,null,null,null,null,null,null,null,null,null,null,null,null,null,null,null,null,null,null,null,null,null,null,null,null,null,null,null,null,null,null,null,null,null,null,null,null,null,null,null,null,null,null,null,null,null,null,null,null,0,0,0,0,0,{"$error":"#DIV/0!"}]
["P",null,null,null,null,null,null,null,null,null,null,null,null,null,null,null,null,null,null,null,null,null,null,null,null,null,null,null,null,null,null,null,null,null,null,null,null,null,null,null,null,null,null,null,null,null,null,null,null,null,null,null,null,null,null,null,null,null,null,null,null,null,null,null,0,0,0,0,0,{"$error":"#DIV/0!"}]
[{"$f":"+A125+1","v":{"$error":"#VALUE!"}},null,null,null,null,null,null,null,null,null,null,null,null,null,null,null,null,null,null,null,null,null,null,null,null,null,null,null,null,null,null,null,null,null,null,null,null,null,null,null,null,null,null,null,null,null,null,null,null,null,null,null,null,null,null,null,null,null,null,null,null,null,null,null,0,0,0,0,0,{"$error":"#DIV/0!"}]
[{"$error":"#VALUE!"},null,null,null,null,null,null,null,null,null,null,null,null,null,null,null,null,null,null,null,null,null,null,null,null,null,null,null,null,null,null,null,null,null,null,null,null,null,null,null,null,null,null,null,null,null,null,null,null,null,null,null,null,null,null,null,null,null,null,null,null,null,null,null,0,0,0,{"$f":"+BN127-BO127","v":0},{"$f":"COUNT(C127:BJ127)/3","v":0},{"$f":"+BM127/BQ127","v":{"$error":"#DIV/0!"}}]
[{"$error":"#VALUE!"},null,null,null,null,null,null,null,null,null,null,null,null,null,null,null,null,null,null,null,null,null,null,null,null,null,null,null,null,null,null,null,null,null,null,null,null,null,null,null,null,null,null,null,null,null,null,null,null,null,null,null,null,null,null,null,null,null,null,null,null,null,null,null,0,0,0,0,0,{"$error":"#DIV/0!"}]
[{"$error":"#VALUE!"},null,null,null,null,null,null,null,null,null,null,null,null,null,null,null,null,null,null,null,null,null,null,null,null,null,null,null,null,null,null,null,null,null,null,null,null,null,null,null,null,null,null,null,null,null,null,null,null,null,null,null,null,null,null,null,null,null,null,null,null,null,null,null,0,0,0,0,0,{"$error":"#DIV/0!"}]
[{"$error":"#VALUE!"},null,null,null,null,null,null,null,null,null,null,null,null,null,null,null,null,null,null,null,null,null,null,null,null,null,null,null,null,null,null,null,null,null,null,null,null,null,null,null,null,null,null,null,null,null,null,null,null,null,null,null,null,null,null,null,null,null,null,null,null,null,null,null,0,0,0,0,0,{"$error":"#DIV/0!"}]
[{"$error":"#VALUE!"},null,null,null,null,null,null,null,null,null,null,null,null,null,null,null,null,null,null,null,null,null,null,null,null,null,null,null,null,null,null,null,null,null,null,null,null,null,null,null,null,null,null,null,null,null,null,null,null,null,null,null,null,null,null,null,null,null,null,null,null,null,null,null,0,0,0,0,0,{"$error":"#DIV/0!"}]
[{"$error":"#VALUE!"},null,null,null,null,null,null,null,null,null,null,null,null,null,null,null,null,null,null,null,null,null,null,null,null,null,null,null,null,null,null,null,null,null,null,null,null,null,null,null,null,null,null,null,null,null,null,null,null,null,null,null,null,null,null,null,null,null,null,null,null,null,null,null,0,0,0,0,0,{"$error":"#DIV/0!"}]
[{"$error":"#VALUE!"},null,null,null,null,null,null,null,null,null,null,null,null,null,null,null,null,null,null,null,null,null,null,null,null,null,null,null,null,null,null,null,null,null,null,null,null,null,null,null,null,null,null,null,null,null,null,null,null,null,null,null,null,null,null,null,null,null,null,null,null,null,null,null,0,0,0,0,0,{"$error":"#DIV/0!"}]
[{"$error":"#VALUE!"},null,null,null,null,null,null,null,null,null,null,null,null,null,null,null,null,null,null,null,null,null,null,null,null,null,null,null,null,null,null,null,null,null,null,null,null,null,null,null,null,null,null,null,null,null,null,null,null,null,null,null,null,null,null,null,null,null,null,null,null,null,null,null,0,0,0,0,0,{"$error":"#DIV/0!"}]
[{"$error":"#VALUE!"},null,null,null,null,null,null,null,null,null,null,null,null,null,null,null,null,null,null,null,null,null,null,null,null,null,null,null,null,null,null,null,null,null,null,null,null,null,null,null,null,null,null,null,null,null,null,null,null,null,null,null,null,null,null,null,null,null,null,null,null,null,null,null,0,0,0,0,0,{"$error":"#DIV/0!"}]
[{"$error":"#VALUE!"},null,null,null,null,null,null,null,null,null,null,null,null,null,null,null,null,null,null,null,null,null,null,null,null,null,null,null,null,null,null,null,null,null,null,null,null,null,null,null,null,null,null,null,null,null,null,null,null,null,null,null,null,null,null,null,null,null,null,null,null,null,null,null,0,0,0,0,0,{"$error":"#DIV/0!"}]
[{"$error":"#VALUE!"},null,null,null,null,null,null,null,null,null,null,null,null,null,null,null,null,null,null,null,null,null,null,null,null,null,null,null,null,null,null,null,null,null,null,null,null,null,null,null,null,null,null,null,null,null,null,null,null,null,null,null,null,null,null,null,null,null,null,null,null,null,null,null,0,0,0,0,0,{"$error":"#DIV/0!"}]
[{"$error":"#VALUE!"},null,null,null,null,null,null,null,null,null,null,null,null,null,null,null,null,null,null,null,null,null,null,null,null,null,null,null,null,null,null,null,null,null,null,null,null,null,null,null,null,null,null,null,null,null,null,null,null,null,null,null,null,null,null,null,null,null,null,null,null,null,null,null,0,0,0,0,0,{"$error":"#DIV/0!"}]
[{"$error":"#VALUE!"},null,null,null,null,null,null,null,null,null,null,null,null,null,null,null,null,null,null,null,null,null,null,null,null,null,null,null,null,null,null,null,null,null,null,null,null,null,null,null,null,null,null,null,null,null,null,null,null,null,null,null,null,null,null,null,null,null,null,null,null,null,null,null,0,0,0,0,0,{"$error":"#DIV/0!"}]
[{"$error":"#VALUE!"},null,null,null,null,null,null,null,null,null,null,null,null,null,null,null,null,null,null,null,null,null,null,null,null,null,null,null,null,null,null,null,null,null,null,null,null,null,null,null,null,null,null,null,null,null,null,null,null,null,null,null,null,null,null,null,null,null,null,null,null,null,null,null,0,0,0,0,0,{"$error":"#DIV/0!"}]
[{"$error":"#VALUE!"},null,null,null,null,null,null,null,null,null,null,null,null,null,null,null,null,null,null,null,null,null,null,null,null,null,null,null,null,null,null,null,null,null,null,null,null,null,null,null,null,null,null,null,null,null,null,null,null,null,null,null,null,null,null,null,null,null,null,null,null,null,null,null,0,0,0,0,0,{"$error":"#DIV/0!"}]
[{"$error":"#VALUE!"},null,null,null,null,null,null,null,null,null,null,null,null,null,null,null,null,null,null,null,null,null,null,null,null,null,null,null,null,null,null,null,null,null,null,null,null,null,null,null,null,null,null,null,null,null,null,null,null,null,null,null,null,null,null,null,null,null,null,null,null,null,null,null,0,0,0,0,0,{"$error":"#DIV/0!"}]
[{"$error":"#VALUE!"},null,null,null,null,null,null,null,null,null,null,null,null,null,null,null,null,null,null,null,null,null,null,null,null,null,null,null,null,null,null,null,null,null,null,null,null,null,null,null,null,null,null,null,null,null,null,null,null,null,null,null,null,null,null,null,null,null,null,null,null,null,null,null,0,0,0,0,0,{"$error":"#DIV/0!"}]
[{"$error":"#VALUE!"},null,null,null,null,null,null,null,null,null,null,null,null,null,null,null,null,null,null,null,null,null,null,null,null,null,null,null,null,null,null,null,null,null,null,null,null,null,null,null,null,null,null,null,null,null,null,null,null,null,null,null,null,null,null,null,null,null,null,null,null,null,null,null,0,0,0,0,0,{"$error":"#DIV/0!"}]
[{"$error":"#VALUE!"},null,null,null,null,null,null,null,null,null,null,null,null,null,null,null,null,null,null,null,null,null,null,null,null,null,null,null,null,null,null,null,null,null,null,null,null,null,null,null,null,null,null,null,null,null,null,null,null,null,null,null,null,null,null,null,null,null,null,null,null,null,null,null,0,0,0,0,0,{"$error":"#DIV/0!"}]
[{"$error":"#VALUE!"},null,null,null,null,null,null,null,null,null,null,null,null,null,null,null,null,null,null,null,null,null,null,null,null,null,null,null,null,null,null,null,null,null,null,null,null,null,null,null,null,null,null,null,null,null,null,null,null,null,null,null,null,null,null,null,null,null,null,null,null,null,null,null,0,0,0,0,0,{"$error":"#DIV/0!"}]
[{"$error":"#VALUE!"},null,null,null,null,null,null,null,null,null,null,null,null,null,null,null,null,null,null,null,null,null,null,null,null,null,null,null,null,null,null,null,null,null,null,null,null,null,null,null,null,null,null,null,null,null,null,null,null,null,null,null,null,null,null,null,null,null,null,null,null,null,null,null,0,0,0,0,0,{"$error":"#DIV/0!"}]
[{"$error":"#VALUE!"},null,null,null,null,null,null,null,null,null,null,null,null,null,null,null,null,null,null,null,null,null,null,null,null,null,null,null,null,null,null,null,null,null,null,null,null,null,null,null,null,null,null,null,null,null,null,null,null,null,null,null,null,null,null,null,null,null,null,null,null,null,null,null,0,0,0,0,0,{"$error":"#DIV/0!"}]
[{"$error":"#VALUE!"},null,null,null,null,null,null,null,null,null,null,null,null,null,null,null,null,null,null,null,null,null,null,null,null,null,null,null,null,null,null,null,null,null,null,null,null,null,null,null,null,null,null,null,null,null,null,null,null,null,null,null,null,null,null,null,null,null,null,null,null,null,null,null,0,0,0,0,0,{"$error":"#DIV/0!"}]
[{"$error":"#VALUE!"},null,null,null,null,null,null,null,null,null,null,null,null,null,null,null,null,null,null,null,null,null,null,null,null,null,null,null,null,null,null,null,null,null,null,null,null,null,null,null,null,null,null,null,null,null,null,null,null,null,null,null,null,null,null,null,null,null,null,null,null,null,null,null,0,0,0,0,0,{"$error":"#DIV/0!"}]
[{"$error":"#VALUE!"},null,null,null,null,null,null,null,null,null,null,null,null,null,null,null,null,null,null,null,null,null,null,null,null,null,null,null,null,null,null,null,null,null,null,null,null,null,null,null,null,null,null,null,null,null,null,null,null,null,null,null,null,null,null,null,null,null,null,null,null,null,null,null,0,0,0,0,0,{"$error":"#DIV/0!"}]
[{"$error":"#VALUE!"},null,null,null,null,null,null,null,null,null,null,null,null,null,null,null,null,null,null,null,null,null,null,null,null,null,null,null,null,null,null,null,null,null,null,null,null,null,null,null,null,null,null,null,null,null,null,null,null,null,null,null,null,null,null,null,null,null,null,null,null,null,null,null,0,0,0,0,0,{"$error":"#DIV/0!"}]
[{"$error":"#VALUE!"},null,null,null,null,null,null,null,null,null,null,null,null,null,null,null,null,null,null,null,null,null,null,null,null,null,null,null,null,null,null,null,null,null,null,null,null,null,null,null,null,null,null,null,null,null,null,null,null,null,null,null,null,null,null,null,null,null,null,null,null,null,null,null,0,0,0,0,0,{"$error":"#DIV/0!"}]
[{"$error":"#VALUE!"},null,null,null,null,null,null,null,null,null,null,null,null,null,null,null,null,null,null,null,null,null,null,null,null,null,null,null,null,null,null,null,null,null,null,null,null,null,null,null,null,null,null,null,null,null,null,null,null,null,null,null,null,null,null,null,null,null,null,null,null,null,null,null,0,0,0,0,0,{"$error":"#DIV/0!"}]
[{"$error":"#VALUE!"},null,null,null,null,null,null,null,null,null,null,null,null,null,null,null,null,null,null,null,null,null,null,null,null,null,null,null,null,null,null,null,null,null,null,null,null,null,null,null,null,null,null,null,null,null,null,null,null,null,null,null,null,null,null,null,null,null,null,null,null,null,null,null,0,0,0,0,0,{"$error":"#DIV/0!"}]
[{"$error":"#VALUE!"},null,null,null,null,null,null,null,null,null,null,null,null,null,null,null,null,null,null,null,null,null,null,null,null,null,null,null,null,null,null,null,null,null,null,null,null,null,null,null,null,null,null,null,null,null,null,null,null,null,null,null,null,null,null,null,null,null,null,null,null,null,null,null,0,0,0,0,0,{"$error":"#DIV/0!"}]
[{"$error":"#VALUE!"},null,null,null,null,null,null,null,null,null,null,null,null,null,null,null,null,null,null,null,null,null,null,null,null,null,null,null,null,null,null,null,null,null,null,null,null,null,null,null,null,null,null,null,null,null,null,null,null,null,null,null,null,null,null,null,null,null,null,null,null,null,null,null,0,0,0,0,0,{"$error":"#DIV/0!"}]
[{"$error":"#VALUE!"},null,null,null,null,null,null,null,null,null,null,null,null,null,null,null,null,null,null,null,null,null,null,null,null,null,null,null,null,null,null,null,null,null,null,null,null,null,null,null,null,null,null,null,null,null,null,null,null,null,null,null,null,null,null,null,null,null,null,null,null,null,null,null,0,0,0,0,0,{"$error":"#DIV/0!"}]
[{"$error":"#VALUE!"},null,null,null,null,null,null,null,null,null,null,null,null,null,null,null,null,null,null,null,null,null,null,null,null,null,null,null,null,null,null,null,null,null,null,null,null,null,null,null,null,null,null,null,null,null,null,null,null,null,null,null,null,null,null,null,null,null,null,null,null,null,null,null,0,0,0,0,0,{"$error":"#DIV/0!"}]
[{"$error":"#VALUE!"},null,null,null,null,null,null,null,null,null,null,null,null,null,null,null,null,null,null,null,null,null,null,null,null,null,null,null,null,null,null,null,null,null,null,null,null,null,null,null,null,null,null,null,null,null,null,null,null,null,null,null,null,null,null,null,null,null,null,null,null,null,null,null,0,0,0,0,0,{"$error":"#DIV/0!"}]
[{"$error":"#VALUE!"},null,null,null,null,null,null,null,null,null,null,null,null,null,null,null,null,null,null,null,null,null,null,null,null,null,null,null,null,null,null,null,null,null,null,null,null,null,null,null,null,null,null,null,null,null,null,null,null,null,null,null,null,null,null,null,null,null,null,null,null,null,null,null,0,0,0,0,0,{"$error":"#DIV/0!"}]
[{"$error":"#VALUE!"},null,null,null,null,null,null,null,null,null,null,null,null,null,null,null,null,null,null,null,null,null,null,null,null,null,null,null,null,null,null,null,null,null,null,null,null,null,null,null,null,null,null,null,null,null,null,null,null,null,null,null,null,null,null,null,null,null,null,null,null,null,null,null,0,0,0,0,0,{"$error":"#DIV/0!"}]
[{"$error":"#VALUE!"},null,null,null,null,null,null,null,null,null,null,null,null,null,null,null,null,null,null,null,null,null,null,null,null,null,null,null,null,null,null,null,null,null,null,null,null,null,null,null,null,null,null,null,null,null,null,null,null,null,null,null,null,null,null,null,null,null,null,null,null,null,null,null,0,0,0,0,0,{"$error":"#DIV/0!"}]
[{"$error":"#VALUE!"},null,null,null,null,null,null,null,null,null,null,null,null,null,null,null,null,null,null,null,null,null,null,null,null,null,null,null,null,null,null,null,null,null,null,null,null,null,null,null,null,null,null,null,null,null,null,null,null,null,null,null,null,null,null,null,null,null,null,null,null,null,null,null,0,0,0,0,0,{"$error":"#DIV/0!"}]
[{"$error":"#VALUE!"},null,null,null,null,null,null,null,null,null,null,null,null,null,null,null,null,null,null,null,null,null,null,null,null,null,null,null,null,null,null,null,null,null,null,null,null,null,null,null,null,null,null,null,null,null,null,null,null,null,null,null,null,null,null,null,null,null,null,null,null,null,null,null,0,0,0,0,0,{"$error":"#DIV/0!"}]
[{"$error":"#VALUE!"},null,null,null,null,null,null,null,null,null,null,null,null,null,null,null,null,null,null,null,null,null,null,null,null,null,null,null,null,null,null,null,null,null,null,null,null,null,null,null,null,null,null,null,null,null,null,null,null,null,null,null,null,null,null,null,null,null,null,null,null,null,null,null,0,0,0,0,0,{"$error":"#DIV/0!"}]
[{"$error":"#VALUE!"},null,null,null,null,null,null,null,null,null,null,null,null,null,null,null,null,null,null,null,null,null,null,null,null,null,null,null,null,null,null,null,null,null,null,null,null,null,null,null,null,null,null,null,null,null,null,null,null,null,null,null,null,null,null,null,null,null,null,null,null,null,null,null,0,0,0,0,0,{"$error":"#DIV/0!"}]
[{"$error":"#VALUE!"},null,null,null,null,null,null,null,null,null,null,null,null,null,null,null,null,null,null,null,null,null,null,null,null,null,null,null,null,null,null,null,null,null,null,null,null,null,null,null,null,null,null,null,null,null,null,null,null,null,null,null,null,null,null,null,null,null,null,null,null,null,null,null,0,0,0,0,0,{"$error":"#DIV/0!"}]
[{"$error":"#VALUE!"},null,null,null,null,null,null,null,null,null,null,null,null,null,null,null,null,null,null,null,null,null,null,null,null,null,null,null,null,null,null,null,null,null,null,null,null,null,null,null,null,null,null,null,null,null,null,null,null,null,null,null,null,null,null,null,null,null,null,null,null,null,null,null,0,0,0,0,0,{"$error":"#DIV/0!"}]
[{"$error":"#VALUE!"},null,null,null,null,null,null,null,null,null,null,null,null,null,null,null,null,null,null,null,null,null,null,null,null,null,null,null,null,null,null,null,null,null,null,null,null,null,null,null,null,null,null,null,null,null,null,null,null,null,null,null,null,null,null,null,null,null,null,null,null,null,null,null,0,0,0,0,0,{"$error":"#DIV/0!"}]
[{"$error":"#VALUE!"},null,null,null,null,null,null,null,null,null,null,null,null,null,null,null,null,null,null,null,null,null,null,null,null,null,null,null,null,null,null,null,null,null,null,null,null,null,null,null,null,null,null,null,null,null,null,null,null,null,null,null,null,null,null,null,null,null,null,null,null,null,null,null,0,0,0,0,0,{"$error":"#DIV/0!"}]
[{"$error":"#VALUE!"},null,null,null,null,null,null,null,null,null,null,null,null,null,null,null,null,null,null,null,null,null,null,null,null,null,null,null,null,null,null,null,null,null,null,null,null,null,null,null,null,null,null,null,null,null,null,null,null,null,null,null,null,null,null,null,null,null,null,null,null,null,null,null,0,0,0,0,0,{"$error":"#DIV/0!"}]
[{"$error":"#VALUE!"},null,null,null,null,null,null,null,null,null,null,null,null,null,null,null,null,null,null,null,null,null,null,null,null,null,null,null,null,null,null,null,null,null,null,null,null,null,null,null,null,null,null,null,null,null,null,null,null,null,null,null,null,null,null,null,null,null,null,null,null,null,null,null,0,0,0,0,0,{"$error":"#DIV/0!"}]
[{"$error":"#VALUE!"},null,null,null,null,null,null,null,null,null,null,null,null,null,null,null,null,null,null,null,null,null,null,null,null,null,null,null,null,null,null,null,null,null,null,null,null,null,null,null,null,null,null,null,null,null,null,null,null,null,null,null,null,null,null,null,null,null,null,null,null,null,null,null,0,0,0,0,0,{"$error":"#DIV/0!"}]
[{"$error":"#VALUE!"},null,null,null,null,null,null,null,null,null,null,null,null,null,null,null,null,null,null,null,null,null,null,null,null,null,null,null,null,null,null,null,null,null,null,null,null,null,null,null,null,null,null,null,null,null,null,null,null,null,null,null,null,null,null,null,null,null,null,null,null,null,null,null,0,0,0,0,0,{"$error":"#DIV/0!"}]
[{"$error":"#VALUE!"},null,null,null,null,null,null,null,null,null,null,null,null,null,null,null,null,null,null,null,null,null,null,null,null,null,null,null,null,null,null,null,null,null,null,null,null,null,null,null,null,null,null,null,null,null,null,null,null,null,null,null,null,null,null,null,null,null,null,null,null,null,null,null,{"$f":"+BH176+AJ176+AG176+AD176+AA176+X176+U176+R176+O176+L176+I176+F176+C176+AM176+AP176+AS176+AV176+AY176+BB176+BE176","v":0},0,0,0,0,{"$error":"#DIV/0!"}]
[{"$error":"#VALUE!"},null,null,null,null,null,null,null,null,null,null,null,null,null,null,null,null,null,null,null,null,null,null,null,null,null,null,null,null,null,null,null,null,null,null,null,null,null,null,null,null,null,null,null,null,null,null,null,null,null,null,null,null,null,null,null,null,null,null,null,null,null,null,null,0,{"$f":"+BI177+AK177+AH177+AE177+AB177+Y177+V177+S177+P177+M177+J177+G177+D177+AN177+AQ177+AT177+AW177+AZ177+BC177+BF177","v":0},{"$f":"+BJ177+AL177+AI177+AF177+AC177+Z177+W177+T177+Q177+N177+K177+H177+E177+AO177+AR177+AU177+AX177+BA177+BD177+BG177","v":0},0,0,{"$error":"#DIV/0!"}]
[{"$f":"+A177+1","v":{"$error":"#VALUE!"}},null,null,null,null,null,null,null,null,null,null,null,null,null,null,null,null,null,null,null,null,null,null,null,null,null,null,null,null,null,null,null,null,null,null,null,null,null,null,null,null,null,null,null,null,null,null,null,null,null,null,null,null,null,null,null,null,null,null,null,null,null,null,null,0,0,0,0,0,{"$error":"#DIV/0!"}]
[{"$error":"#VALUE!"},null,null,null,null,null,null,null,null,null,null,null,null,null,null,null,null,null,null,null,null,null,null,null,null,null,null,null,null,null,null,null,null,null,null,null,null,null,null,null,null,null,null,null,null,null,null,null,null,null,null,null,null,null,null,null,null,null,null,null,null,null,null,null,0,0,0,0,0,{"$error":"#DIV/0!"}]
[{"$error":"#VALUE!"},null,null,null,null,null,null,null,null,null,null,null,null,null,null,null,null,null,null,null,null,null,null,null,null,null,null,null,null,null,null,null,null,null,null,null,null,null,null,null,null,null,null,null,null,null,null,null,null,null,null,null,null,null,null,null,null,null,null,null,null,null,null,null,0,0,0,0,0,{"$error":"#DIV/0!"}]
[{"$error":"#VALUE!"},null,null,null,null,null,null,null,null,null,null,null,null,null,null,null,null,null,null,null,null,null,null,null,null,null,null,null,null,null,null,null,null,null,null,null,null,null,null,null,null,null,null,null,null,null,null,null,null,null,null,null,null,null,null,null,null,null,null,null,null,null,null,null,0,0,0,0,0,{"$error":"#DIV/0!"}]
[{"$error":"#VALUE!"},null,null,null,null,null,null,null,null,null,null,null,null,null,null,null,null,null,null,null,null,null,null,null,null,null,null,null,null,null,null,null,null,null,null,null,null,null,null,null,null,null,null,null,null,null,null,null,null,null,null,null,null,null,null,null,null,null,null,null,null,null,null,null,0,0,0,0,0,{"$error":"#DIV/0!"}]
[{"$error":"#VALUE!"},null,null,null,null,null,null,null,null,null,null,null,null,null,null,null,null,null,null,null,null,null,null,null,null,null,null,null,null,null,null,null,null,null,null,null,null,null,null,null,null,null,null,null,null,null,null,null,null,null,null,null,null,null,null,null,null,null,null,null,null,null,null,null,0,0,0,0,0,{"$error":"#DIV/0!"}]
[{"$f":"+A183+1","v":{"$error":"#VALUE!"}},null,null,null,null,null,null,null,null,null,null,null,null,null,null,null,null,null,null,null,null,null,null,null,null,null,null,null,null,null,null,null,null,null,null,null,null,null,null,null,null,null,null,null,null,null,null,null,null,null,null,null,null,null,null,null,null,null,null,null,null,null,null,null,0,0,0,{"$f":"+BN184-BO184","v":0},{"$f":"COUNT(C184:BJ184)/3","v":0},{"$f":"+BM184/BQ184","v":{"$error":"#DIV/0!"}}]
[{"$f":"+A184+1","v":{"$error":"#VALUE!"}},null,null,null,null,null,null,null,null,null,null,null,null,null,null,null,null,null,null,null,null,null,null,null,null,null,null,null,null,null,null,null,null,null,null,null,null,null,null,null,null,null,null,null,null,null,null,null,null,null,null,null,null,null,null,null,null,null,null,null,null,null,null,null,0,0,0,0,0,{"$error":"#DIV/0!"}]
[{"$f":"+A185+1","v":{"$error":"#VALUE!"}},null,null,null,null,null,null,null,null,null,null,null,null,null,null,null,null,null,null,null,null,null,null,null,null,null,null,null,null,null,null,null,null,null,null,null,null,null,null,null,null,null,null,null,null,null,null,null,null,null,null,null,null,null,null,null,null,null,null,null,null,null,null,null,0,0,0,0,0,{"$error":"#DIV/0!"}]
[{"$f":"+A186+1","v":{"$error":"#VALUE!"}},null,null,null,null,null,null,null,null,null,null,null,null,null,null,null,null,null,null,null,null,null,null,null,null,null,null,null,null,null,null,null,null,null,null,null,null,null,null,null,null,null,null,null,null,null,null,null,null,null,null,null,null,null,null,null,null,null,null,null,null,null,null,null,0,0,0,0,0,{"$error":"#DIV/0!"}]
[{"$error":"#VALUE!"},null,null,null,null,null,null,null,null,null,null,null,null,null,null,null,null,null,null,null,null,null,null,null,null,null,null,null,null,null,null,null,null,null,null,null,null,null,null,null,null,null,null,null,null,null,null,null,null,null,null,null,null,null,null,null,null,null,null,null,null,null,null,null,0,0,0,0,0,{"$error":"#DIV/0!"}]
[{"$error":"#VALUE!"},null,null,null,null,null,null,null,null,null,null,null,null,null,null,null,null,null,null,null,null,null,null,null,null,null,null,null,null,null,null,null,null,null,null,null,null,null,null,null,null,null,null,null,null,null,null,null,null,null,null,null,null,null,null,null,null,null,null,null,null,null,null,null,0,0,0,0,0,{"$error":"#DIV/0!"}]
[{"$error":"#VALUE!"},null,null,null,null,null,null,null,null,null,null,null,null,null,null,null,null,null,null,null,null,null,null,null,null,null,null,null,null,null,null,null,null,null,null,null,null,null,null,null,null,null,null,null,null,null,null,null,null,null,null,null,null,null,null,null,null,null,null,null,null,null,null,null,0,0,0,0,0,{"$error":"#DIV/0!"}]
[{"$error":"#VALUE!"},null,null,null,null,null,null,null,null,null,null,null,null,null,null,null,null,null,null,null,null,null,null,null,null,null,null,null,null,null,null,null,null,null,null,null,null,null,null,null,null,null,null,null,null,null,null,null,null,null,null,null,null,null,null,null,null,null,null,null,null,null,null,null,0,0,0,0,0,{"$error":"#DIV/0!"}]
[{"$error":"#VALUE!"},null,null,null,null,null,null,null,null,null,null,null,null,null,null,null,null,null,null,null,null,null,null,null,null,null,null,null,null,null,null,null,null,null,null,null,null,null,null,null,null,null,null,null,null,null,null,null,null,null,null,null,null,null,null,null,null,null,null,null,null,null,null,null,0,0,0,0,0,{"$error":"#DIV/0!"}]
[{"$error":"#VALUE!"},null,null,null,null,null,null,null,null,null,null,null,null,null,null,null,null,null,null,null,null,null,null,null,null,null,null,null,null,null,null,null,null,null,null,null,null,null,null,null,null,null,null,null,null,null,null,null,null,null,null,null,null,null,null,null,null,null,null,null,null,null,null,null,0,0,0,0,0,{"$error":"#DIV/0!"}]
[{"$error":"#VALUE!"},null,null,null,null,null,null,null,null,null,null,null,null,null,null,null,null,null,null,null,null,null,null,null,null,null,null,null,null,null,null,null,null,null,null,null,null,null,null,null,null,null,null,null,null,null,null,null,null,null,null,null,null,null,null,null,null,null,null,null,null,null,null,null,0,0,0,0,0,{"$error":"#DIV/0!"}]
[{"$error":"#VALUE!"},null,null,null,null,null,null,null,null,null,null,null,null,null,null,null,null,null,null,null,null,null,null,null,null,null,null,null,null,null,null,null,null,null,null,null,null,null,null,null,null,null,null,null,null,null,null,null,null,null,null,null,null,null,null,null,null,null,null,null,null,null,null,null,0,0,0,0,0,{"$error":"#DIV/0!"}]
[{"$error":"#VALUE!"},null,null,null,null,null,null,null,null,null,null,null,null,null,null,null,null,null,null,null,null,null,null,null,null,null,null,null,null,null,null,null,null,null,null,null,null,null,null,null,null,null,null,null,null,null,null,null,null,null,null,null,null,null,null,null,null,null,null,null,null,null,null,null,0,0,0,0,0,{"$error":"#DIV/0!"}]
[{"$error":"#VALUE!"},null,null,null,null,null,null,null,null,null,null,null,null,null,null,null,null,null,null,null,null,null,null,null,null,null,null,null,null,null,null,null,null,null,null,null,null,null,null,null,null,null,null,null,null,null,null,null,null,null,null,null,null,null,null,null,null,null,null,null,null,null,null,null,0,0,0,0,0,{"$error":"#DIV/0!"}]
[{"$error":"#VALUE!"},null,null,null,null,null,null,null,null,null,null,null,null,null,null,null,null,null,null,null,null,null,null,null,null,null,null,null,null,null,null,null,null,null,null,null,null,null,null,null,null,null,null,null,null,null,null,null,null,null,null,null,null,null,null,null,null,null,null,null,null,null,null,null,0,0,0,0,0,{"$error":"#DIV/0!"}]
[{"$error":"#VALUE!"},null,null,null,null,null,null,null,null,null,null,null,null,null,null,null,null,null,null,null,null,null,null,null,null,null,null,null,null,null,null,null,null,null,null,null,null,null,null,null,null,null,null,null,null,null,null,null,null,null,null,null,null,null,null,null,null,null,null,null,null,null,null,null,0,0,0,0,0,{"$error":"#DIV/0!"}]
[{"$error":"#VALUE!"},null,null,null,null,null,null,null,null,null,null,null,null,null,null,null,null,null,null,null,null,null,null,null,null,null,null,null,null,null,null,null,null,null,null,null,null,null,null,null,null,null,null,null,null,null,null,null,null,null,null,null,null,null,null,null,null,null,null,null,null,null,null,null,0,0,0,0,0,{"$error":"#DIV/0!"}]
[{"$error":"#VALUE!"},null,null,null,null,null,null,null,null,null,null,null,null,null,null,null,null,null,null,null,null,null,null,null,null,null,null,null,null,null,null,null,null,null,null,null,null,null,null,null,null,null,null,null,null,null,null,null,null,null,null,null,null,null,null,null,null,null,null,null,null,null,null,null,0,0,0,0,0,{"$error":"#DIV/0!"}]
[{"$error":"#VALUE!"},null,null,null,null,null,null,null,null,null,null,null,null,null,null,null,null,null,null,null,null,null,null,null,null,null,null,null,null,null,null,null,null,null,null,null,null,null,null,null,null,null,null,null,null,null,null,null,null,null,null,null,null,null,null,null,null,null,null,null,null,null,null,null,0,0,0,0,0,{"$error":"#DIV/0!"}]
[{"$error":"#VALUE!"},null,null,null,null,null,null,null,null,null,null,null,null,null,null,null,null,null,null,null,null,null,null,null,null,null,null,null,null,null,null,null,null,null,null,null,null,null,null,null,null,null,null,null,null,null,null,null,null,null,null,null,null,null,null,null,null,null,null,null,null,null,null,null,0,0,0,0,0,{"$error":"#DIV/0!"}]
[{"$error":"#VALUE!"},null,null,null,null,null,null,null,null,null,null,null,null,null,null,null,null,null,null,null,null,null,null,null,null,null,null,null,null,null,null,null,null,null,null,null,null,null,null,null,null,null,null,null,null,null,null,null,null,null,null,null,null,null,null,null,null,null,null,null,null,null,null,null,0,0,0,0,0,{"$error":"#DIV/0!"}]
[{"$error":"#VALUE!"},null,null,null,null,null,null,null,null,null,null,null,null,null,null,null,null,null,null,null,null,null,null,null,null,null,null,null,null,null,null,null,null,null,null,null,null,null,null,null,null,null,null,null,null,null,null,null,null,null,null,null,null,null,null,null,null,null,null,null,null,null,null,null,0,0,0,0,0,{"$error":"#DIV/0!"}]
[{"$error":"#VALUE!"},null,null,null,null,null,null,null,null,null,null,null,null,null,null,null,null,null,null,null,null,null,null,null,null,null,null,null,null,null,null,null,null,null,null,null,null,null,null,null,null,null,null,null,null,null,null,null,null,null,null,null,null,null,null,null,null,null,null,null,null,null,null,null,0,0,0,0,0,{"$error":"#DIV/0!"}]
[{"$error":"#VALUE!"},null,null,null,null,null,null,null,null,null,null,null,null,null,null,null,null,null,null,null,null,null,null,null,null,null,null,null,null,null,null,null,null,null,null,null,null,null,null,null,null,null,null,null,null,null,null,null,null,null,null,null,null,null,null,null,null,null,null,null,null,null,null,null,0,0,0,0,0,{"$error":"#DIV/0!"}]
[{"$error":"#VALUE!"},null,null,null,null,null,null,null,null,null,null,null,null,null,null,null,null,null,null,null,null,null,null,null,null,null,null,null,null,null,null,null,null,null,null,null,null,null,null,null,null,null,null,null,null,null,null,null,null,null,null,null,null,null,null,null,null,null,null,null,null,null,null,null,0,0,0,0,0,{"$error":"#DIV/0!"}]
[{"$error":"#VALUE!"},null,null,null,null,null,null,null,null,null,null,null,null,null,null,null,null,null,null,null,null,null,null,null,null,null,null,null,null,null,null,null,null,null,null,null,null,null,null,null,null,null,null,null,null,null,null,null,null,null,null,null,null,null,null,null,null,null,null,null,null,null,null,null,0,0,0,0,0,{"$error":"#DIV/0!"}]
[{"$error":"#VALUE!"},null,null,null,null,null,null,null,null,null,null,null,null,null,null,null,null,null,null,null,null,null,null,null,null,null,null,null,null,null,null,null,null,null,null,null,null,null,null,null,null,null,null,null,null,null,null,null,null,null,null,null,null,null,null,null,null,null,null,null,null,null,null,null,0,0,0,0,0,{"$error":"#DIV/0!"}]
[{"$error":"#VALUE!"},null,null,null,null,null,null,null,null,null,null,null,null,null,null,null,null,null,null,null,null,null,null,null,null,null,null,null,null,null,null,null,null,null,null,null,null,null,null,null,null,null,null,null,null,null,null,null,null,null,null,null,null,null,null,null,null,null,null,null,null,null,null,null,0,0,0,0,0,{"$error":"#DIV/0!"}]
[{"$error":"#VALUE!"},null,null,null,null,null,null,null,null,null,null,null,null,null,null,null,null,null,null,null,null,null,null,null,null,null,null,null,null,null,null,null,null,null,null,null,null,null,null,null,null,null,null,null,null,null,null,null,null,null,null,null,null,null,null,null,null,null,null,null,null,null,null,null,0,0,0,0,0,{"$error":"#DIV/0!"}]
[{"$error":"#VALUE!"},null,null,null,null,null,null,null,null,null,null,null,null,null,null,null,null,null,null,null,null,null,null,null,null,null,null,null,null,null,null,null,null,null,null,null,null,null,null,null,null,null,null,null,null,null,null,null,null,null,null,null,null,null,null,null,null,null,null,null,null,null,null,null,0,0,0,0,0,{"$error":"#DIV/0!"}]
[{"$error":"#VALUE!"},null,null,null,null,null,null,null,null,null,null,null,null,null,null,null,null,null,null,null,null,null,null,null,null,null,null,null,null,null,null,null,null,null,null,null,null,null,null,null,null,null,null,null,null,null,null,null,null,null,null,null,null,null,null,null,null,null,null,null,null,null,null,null,0,0,0,0,0,{"$error":"#DIV/0!"}]
[{"$error":"#VALUE!"},null,null,null,null,null,null,null,null,null,null,null,null,null,null,null,null,null,null,null,null,null,null,null,null,null,null,null,null,null,null,null,null,null,null,null,null,null,null,null,null,null,null,null,null,null,null,null,null,null,null,null,null,null,null,null,null,null,null,null,null,null,null,null,0,0,0,0,0,{"$error":"#DIV/0!"}]
[{"$error":"#VALUE!"},null,null,null,null,null,null,null,null,null,null,null,null,null,null,null,null,null,null,null,null,null,null,null,null,null,null,null,null,null,null,null,null,null,null,null,null,null,null,null,null,null,null,null,null,null,null,null,null,null,null,null,null,null,null,null,null,null,null,null,null,null,null,null,0,0,0,{"$f":"+BN216-BO216","v":0},{"$f":"COUNT(C216:BJ216)/3","v":0},{"$f":"+BM216/BQ216","v":{"$error":"#DIV/0!"}}]
[{"$error":"#VALUE!"},null,null,null,null,null,null,null,null,null,null,null,null,null,null,null,null,null,null,null,null,null,null,null,null,null,null,null,null,null,null,null,null,null,null,null,null,null,null,null,null,null,null,null,null,null,null,null,null,null,null,null,null,null,null,null,null,null,null,null,null,null,null,null,0,0,0,0,0,{"$error":"#DIV/0!"}]
[{"$error":"#VALUE!"},null,null,null,null,null,null,null,null,null,null,null,null,null,null,null,null,null,null,null,null,null,null,null,null,null,null,null,null,null,null,null,null,null,null,null,null,null,null,null,null,null,null,null,null,null,null,null,null,null,null,null,null,null,null,null,null,null,null,null,null,null,null,null,0,0,0,0,0,{"$error":"#DIV/0!"}]
[{"$error":"#VALUE!"},null,null,null,null,null,null,null,null,null,null,null,null,null,null,null,null,null,null,null,null,null,null,null,null,null,null,null,null,null,null,null,null,null,null,null,null,null,null,null,null,null,null,null,null,null,null,null,null,null,null,null,null,null,null,null,null,null,null,null,null,null,null,null,0,0,0,0,0,{"$error":"#DIV/0!"}]
[{"$error":"#VALUE!"},null,null,null,null,null,null,null,null,null,null,null,null,null,null,null,null,null,null,null,null,null,null,null,null,null,null,null,null,null,null,null,null,null,null,null,null,null,null,null,null,null,null,null,null,null,null,null,null,null,null,null,null,null,null,null,null,null,null,null,null,null,null,null,0,0,0,0,0,{"$error":"#DIV/0!"}]
[{"$error":"#VALUE!"},null,null,null,null,null,null,null,null,null,null,null,null,null,null,null,null,null,null,null,null,null,null,null,null,null,null,null,null,null,null,null,null,null,null,null,null,null,null,null,null,null,null,null,null,null,null,null,null,null,null,null,null,null,null,null,null,null,null,null,null,null,null,null,0,0,0,0,0,{"$error":"#DIV/0!"}]
[{"$error":"#VALUE!"},null,null,null,null,null,null,null,null,null,null,null,null,null,null,null,null,null,null,null,null,null,null,null,null,null,null,null,null,null,null,null,null,null,null,null,null,null,null,null,null,null,null,null,null,null,null,null,null,null,null,null,null,null,null,null,null,null,null,null,null,null,null,null,0,0,0,0,0,{"$error":"#DIV/0!"}]
[{"$error":"#VALUE!"},null,null,null,null,null,null,null,null,null,null,null,null,null,null,null,null,null,null,null,null,null,null,null,null,null,null,null,null,null,null,null,null,null,null,null,null,null,null,null,null,null,null,null,null,null,null,null,null,null,null,null,null,null,null,null,null,null,null,null,null,null,null,null,0,0,0,0,0,{"$error":"#DIV/0!"}]
[{"$error":"#VALUE!"},null,null,null,null,null,null,null,null,null,null,null,null,null,null,null,null,null,null,null,null,null,null,null,null,null,null,null,null,null,null,null,null,null,null,null,null,null,null,null,null,null,null,null,null,null,null,null,null,null,null,null,null,null,null,null,null,null,null,null,null,null,null,null,0,0,0,0,0,{"$error":"#DIV/0!"}]
[{"$error":"#VALUE!"},null,null,null,null,null,null,null,null,null,null,null,null,null,null,null,null,null,null,null,null,null,null,null,null,null,null,null,null,null,null,null,null,null,null,null,null,null,null,null,null,null,null,null,null,null,null,null,null,null,null,null,null,null,null,null,null,null,null,null,null,null,null,null,0,0,0,0,0,{"$error":"#DIV/0!"}]
[{"$error":"#VALUE!"},null,null,null,null,null,null,null,null,null,null,null,null,null,null,null,null,null,null,null,null,null,null,null,null,null,null,null,null,null,null,null,null,null,null,null,null,null,null,null,null,null,null,null,null,null,null,null,null,null,null,null,null,null,null,null,null,null,null,null,null,null,null,null,0,0,0,{"$f":"+BN226-BO226","v":0},0,{"$error":"#DIV/0!"}]
[{"$error":"#VALUE!"},null,null,null,null,null,null,null,null,null,null,null,null,null,null,null,null,null,null,null,null,null,null,null,null,null,null,null,null,null,null,null,null,null,null,null,null,null,null,null,null,null,null,null,null,null,null,null,null,null,null,null,null,null,null,null,null,null,null,null,null,null,null,null,0,0,0,0,0,{"$error":"#DIV/0!"}]
[{"$error":"#VALUE!"},null,null,null,null,null,null,null,null,null,null,null,null,null,null,null,null,null,null,null,null,null,null,null,null,null,null,null,null,null,null,null,null,null,null,null,null,null,null,null,null,null,null,null,null,null,null,null,null,null,null,null,null,null,null,null,null,null,null,null,null,null,null,null,0,0,0,0,0,{"$error":"#DIV/0!"}]
[{"$error":"#VALUE!"},null,null,null,null,null,null,null,null,null,null,null,null,null,null,null,null,null,null,null,null,null,null,null,null,null,null,null,null,null,null,null,null,null,null,null,null,null,null,null,null,null,null,null,null,null,null,null,null,null,null,null,null,null,null,null,null,null,null,null,null,null,null,null,0,0,0,0,0,{"$error":"#DIV/0!"}]
[{"$error":"#VALUE!"},null,null,null,null,null,null,null,null,null,null,null,null,null,null,null,null,null,null,null,null,null,null,null,null,null,null,null,null,null,null,null,null,null,null,null,null,null,null,null,null,null,null,null,null,null,null,null,null,null,null,null,null,null,null,null,null,null,null,null,null,null,null,null,0,0,0,0,0,{"$error":"#DIV/0!"}]
[{"$error":"#VALUE!"},null,null,null,null,null,null,null,null,null,null,null,null,null,null,null,null,null,null,null,null,null,null,null,null,null,null,null,null,null,null,null,null,null,null,null,null,null,null,null,null,null,null,null,null,null,null,null,null,null,null,null,null,null,null,null,null,null,null,null,null,null,null,null,0,0,0,0,0,{"$error":"#DIV/0!"}]
[{"$error":"#VALUE!"},null,null,null,null,null,null,null,null,null,null,null,null,null,null,null,null,null,null,null,null,null,null,null,null,null,null,null,null,null,null,null,null,null,null,null,null,null,null,null,null,null,null,null,null,null,null,null,null,null,null,null,null,null,null,null,null,null,null,null,null,null,null,null,0,0,0,0,0,{"$error":"#DIV/0!"}]
[{"$error":"#VALUE!"},null,null,null,null,null,null,null,null,null,null,null,null,null,null,null,null,null,null,null,null,null,null,null,null,null,null,null,null,null,null,null,null,null,null,null,null,null,null,null,null,null,null,null,null,null,null,null,null,null,null,null,null,null,null,null,null,null,null,null,null,null,null,null,0,0,0,0,0,{"$error":"#DIV/0!"}]
[{"$error":"#VALUE!"},null,null,null,null,null,null,null,null,null,null,null,null,null,null,null,null,null,null,null,null,null,null,null,null,null,null,null,null,null,null,null,null,null,null,null,null,null,null,null,null,null,null,null,null,null,null,null,null,null,null,null,null,null,null,null,null,null,null,null,null,null,null,null,0,0,0,0,0,{"$error":"#DIV/0!"}]
[{"$error":"#VALUE!"},null,null,null,null,null,null,null,null,null,null,null,null,null,null,null,null,null,null,null,null,null,null,null,null,null,null,null,null,null,null,null,null,null,null,null,null,null,null,null,null,null,null,null,null,null,null,null,null,null,null,null,null,null,null,null,null,null,null,null,null,null,null,null,0,0,0,0,0,{"$error":"#DIV/0!"}]
[{"$error":"#VALUE!"},null,null,null,null,null,null,null,null,null,null,null,null,null,null,null,null,null,null,null,null,null,null,null,null,null,null,null,null,null,null,null,null,null,null,null,null,null,null,null,null,null,null,null,null,null,null,null,null,null,null,null,null,null,null,null,null,null,null,null,null,null,null,null,0,0,0,0,0,{"$error":"#DIV/0!"}]
[{"$error":"#VALUE!"},null,null,null,null,null,null,null,null,null,null,null,null,null,null,null,null,null,null,null,null,null,null,null,null,null,null,null,null,null,null,null,null,null,null,null,null,null,null,null,null,null,null,null,null,null,null,null,null,null,null,null,null,null,null,null,null,null,null,null,null,null,null,null,0,0,0,0,0,{"$error":"#DIV/0!"}]
[{"$error":"#VALUE!"},null,null,null,null,null,null,null,null,null,null,null,null,null,null,null,null,null,null,null,null,null,null,null,null,null,null,null,null,null,null,null,null,null,null,null,null,null,null,null,null,null,null,null,null,null,null,null,null,null,null,null,null,null,null,null,null,null,null,null,null,null,null,null,0,0,0,0,0,{"$error":"#DIV/0!"}]
[{"$error":"#VALUE!"},null,null,null,null,null,null,null,null,null,null,null,null,null,null,null,null,null,null,null,null,null,null,null,null,null,null,null,null,null,null,null,null,null,null,null,null,null,null,null,null,null,null,null,null,null,null,null,null,null,null,null,null,null,null,null,null,null,null,null,null,null,null,null,0,0,0,0,0,{"$error":"#DIV/0!"}]
[{"$error":"#VALUE!"},null,null,null,null,null,null,null,null,null,null,null,null,null,null,null,null,null,null,null,null,null,null,null,null,null,null,null,null,null,null,null,null,null,null,null,null,null,null,null,null,null,null,null,null,null,null,null,null,null,null,null,null,null,null,null,null,null,null,null,null,null,null,null,{"$f":"+BH240+AJ240+AG240+AD240+AA240+X240+U240+R240+O240+L240+I240+F240+C240+AM240+AP240+AS240+AV240+AY240+BB240+BE240","v":0},0,0,0,0,{"$error":"#DIV/0!"}]
[{"$error":"#VALUE!"},null,null,null,null,null,null,null,null,null,null,null,null,null,null,null,null,null,null,null,null,null,null,null,null,null,null,null,null,null,null,null,null,null,null,null,null,null,null,null,null,null,null,null,null,null,null,null,null,null,null,null,null,null,null,null,null,null,null,null,null,null,null,null,0,{"$f":"+BI241+AK241+AH241+AE241+AB241+Y241+V241+S241+P241+M241+J241+G241+D241+AN241+AQ241+AT241+AW241+AZ241+BC241+BF241","v":0},{"$f":"+BJ241+AL241+AI241+AF241+AC241+Z241+W241+T241+Q241+N241+K241+H241+E241+AO241+AR241+AU241+AX241+BA241+BD241+BG241","v":0},0,0,{"$error":"#DIV/0!"}]
[{"$error":"#VALUE!"},null,null,null,null,null,null,null,null,null,null,null,null,null,null,null,null,null,null,null,null,null,null,null,null,null,null,null,null,null,null,null,null,null,null,null,null,null,null,null,null,null,null,null,null,null,null,null,null,null,null,null,null,null,null,null,null,null,null,null,null,null,null,null,0,0,0,0,0,{"$error":"#DIV/0!"}]
[{"$error":"#VALUE!"},null,null,null,null,null,null,null,null,null,null,null,null,null,null,null,null,null,null,null,null,null,null,null,null,null,null,null,null,null,null,null,null,null,null,null,null,null,null,null,null,null,null,null,null,null,null,null,null,null,null,null,null,null,null,null,null,null,null,null,null,null,null,null,0,0,0,{"$f":"+BN243-BO243","v":0},{"$f":"COUNT(C243:BJ243)/3","v":0},{"$f":"+BM243/BQ243","v":{"$error":"#DIV/0!"}}]
[{"$error":"#VALUE!"},null,null,null,null,null,null,null,null,null,null,null,null,null,null,null,null,null,null,null,null,null,null,null,null,null,null,null,null,null,null,null,null,null,null,null,null,null,null,null,null,null,null,null,null,null,null,null,null,null,null,null,null,null,null,null,null,null,null,null,null,null,null,null,0,0,0,0,0,{"$error":"#DIV/0!"}]
[{"$error":"#VALUE!"},null,null,null,null,null,null,null,null,null,null,null,null,null,null,null,null,null,null,null,null,null,null,null,null,null,null,null,null,null,null,null,null,null,null,null,null,null,null,null,null,null,null,null,null,null,null,null,null,null,null,null,null,null,null,null,null,null,null,null,null,null,null,null,0,0,0,0,0,{"$error":"#DIV/0!"}]
[{"$error":"#VALUE!"},null,null,null,null,null,null,null,null,null,null,null,null,null,null,null,null,null,null,null,null,null,null,null,null,null,null,null,null,null,null,null,null,null,null,null,null,null,null,null,null,null,null,null,null,null,null,null,null,null,null,null,null,null,null,null,null,null,null,null,null,null,null,null,0,0,0,0,0,{"$error":"#DIV/0!"}]
[{"$error":"#VALUE!"},null,null,null,null,null,null,null,null,null,null,null,null,null,null,null,null,null,null,null,null,null,null,null,null,null,null,null,null,null,null,null,null,null,null,null,null,null,null,null,null,null,null,null,null,null,null,null,null,null,null,null,null,null,null,null,null,null,null,null,null,null,null,null,0,0,0,0,0,{"$error":"#DIV/0!"}]
[{"$error":"#VALUE!"},null,null,null,null,null,null,null,null,null,null,null,null,null,null,null,null,null,null,null,null,null,null,null,null,null,null,null,null,null,null,null,null,null,null,null,null,null,null,null,null,null,null,null,null,null,null,null,null,null,null,null,null,null,null,null,null,null,null,null,null,null,null,null,0,0,0,0,0,{"$error":"#DIV/0!"}]
[{"$error":"#VALUE!"},null,null,null,null,null,null,null,null,null,null,null,null,null,null,null,null,null,null,null,null,null,null,null,null,null,null,null,null,null,null,null,null,null,null,null,null,null,null,null,null,null,null,null,null,null,null,null,null,null,null,null,null,null,null,null,null,null,null,null,null,null,null,null,0,0,0,0,0,{"$error":"#DIV/0!"}]
[{"$error":"#VALUE!"},null,null,null,null,null,null,null,null,null,null,null,null,null,null,null,null,null,null,null,null,null,null,null,null,null,null,null,null,null,null,null,null,null,null,null,null,null,null,null,null,null,null,null,null,null,null,null,null,null,null,null,null,null,null,null,null,null,null,null,null,null,null,null,0,0,0,0,0,{"$error":"#DIV/0!"}]
[{"$f":"+A250+1","v":{"$error":"#VALUE!"}},null,null,null,null,null,null,null,null,null,null,null,null,null,null,null,null,null,null,null,null,null,null,null,null,null,null,null,null,null,null,null,null,null,null,null,null,null,null,null,null,null,null,null,null,null,null,null,null,null,null,null,null,null,null,null,null,null,null,null,null,null,null,null,0,0,0,0,0,{"$error":"#DIV/0!"}]
[{"$error":"#VALUE!"},null,null,null,null,null,null,null,null,null,null,null,null,null,null,null,null,null,null,null,null,null,null,null,null,null,null,null,null,null,null,null,null,null,null,null,null,null,null,null,null,null,null,null,null,null,null,null,null,null,null,null,null,null,null,null,null,null,null,null,null,null,null,null,0,0,0,0,0,{"$error":"#DIV/0!"}]
[{"$error":"#VALUE!"},null,null,null,null,null,null,null,null,null,null,null,null,null,null,null,null,null,null,null,null,null,null,null,null,null,null,null,null,null,null,null,null,null,null,null,null,null,null,null,null,null,null,null,null,null,null,null,null,null,null,null,null,null,null,null,null,null,null,null,null,null,null,null,0,0,0,0,0,{"$error":"#DIV/0!"}]
[{"$error":"#VALUE!"},null,null,null,null,null,null,null,null,null,null,null,null,null,null,null,null,null,null,null,null,null,null,null,null,null,null,null,null,null,null,null,null,null,null,null,null,null,null,null,null,null,null,null,null,null,null,null,null,null,null,null,null,null,null,null,null,null,null,null,null,null,null,null,0,0,0,0,0,{"$error":"#DIV/0!"}]
[{"$error":"#VALUE!"},null,null,null,null,null,null,null,null,null,null,null,null,null,null,null,null,null,null,null,null,null,null,null,null,null,null,null,null,null,null,null,null,null,null,null,null,null,null,null,null,null,null,null,null,null,null,null,null,null,null,null,null,null,null,null,null,null,null,null,null,null,null,null,0,0,0,0,0,{"$error":"#DIV/0!"}]
[{"$error":"#VALUE!"},null,null,null,null,null,null,null,null,null,null,null,null,null,null,null,null,null,null,null,null,null,null,null,null,null,null,null,null,null,null,null,null,null,null,null,null,null,null,null,null,null,null,null,null,null,null,null,null,null,null,null,null,null,null,null,null,null,null,null,null,null,null,null,0,0,0,0,0,{"$error":"#DIV/0!"}]
[{"$error":"#VALUE!"},null,null,null,null,null,null,null,null,null,null,null,null,null,null,null,null,null,null,null,null,null,null,null,null,null,null,null,null,null,null,null,null,null,null,null,null,null,null,null,null,null,null,null,null,null,null,null,null,null,null,null,null,null,null,null,null,null,null,null,null,null,null,null,0,0,0,0,0,{"$error":"#DIV/0!"}]
[{"$error":"#VALUE!"},null,null,null,null,null,null,null,null,null,null,null,null,null,null,null,null,null,null,null,null,null,null,null,null,null,null,null,null,null,null,null,null,null,null,null,null,null,null,null,null,null,null,null,null,null,null,null,null,null,null,null,null,null,null,null,null,null,null,null,null,null,null,null,0,0,0,0,0,{"$error":"#DIV/0!"}]
[{"$error":"#VALUE!"},null,null,null,null,null,null,null,null,null,null,null,null,null,null,null,null,null,null,null,null,null,null,null,null,null,null,null,null,null,null,null,null,null,null,null,null,null,null,null,null,null,null,null,null,null,null,null,null,null,null,null,null,null,null,null,null,null,null,null,null,null,null,null,0,0,0,0,0,{"$error":"#DIV/0!"}]
[{"$error":"#VALUE!"},"Acabat per temps Jordi",null,null,null,null,null,null,null,null,null,null,null,null,null,null,null,null,null,null,null,null,null,null,null,null,null,null,null,null,null,null,null,null,null,null,null,null,null,null,null,null,null,null,null,null,null,null,null,null,null,null,null,null,null,null,null,null,null,null,null,null,null,null,0,0,0,0,0,{"$error":"#DIV/0!"}]
[{"$error":"#VALUE!"},null,null,null,null,null,null,null,null,null,null,null,null,null,null,null,null,null,null,null,null,null,null,null,null,null,null,null,null,null,null,null,null,null,null,null,null,null,null,null,null,null,null,null,null,null,null,null,null,null,null,null,null,null,null,null,null,null,null,null,null,null,null,null,0,0,0,0,0,{"$error":"#DIV/0!"}]
[{"$error":"#VALUE!"},null,null,null,null,null,null,null,null,null,null,null,null,null,null,null,null,null,null,null,null,null,null,null,null,null,null,null,null,null,null,null,null,null,null,null,null,null,null,null,null,null,null,null,null,null,null,null,null,null,null,null,null,null,null,null,null,null,null,null,null,null,null,null,0,0,0,0,0,{"$error":"#DIV/0!"}]
[{"$error":"#VALUE!"},null,null,null,null,null,null,null,null,null,null,null,null,null,null,null,null,null,null,null,null,null,null,null,null,null,null,null,null,null,null,null,null,null,null,null,null,null,null,null,null,null,null,null,null,null,null,null,null,null,null,null,null,null,null,null,null,null,null,null,null,null,null,null,0,0,0,0,0,{"$error":"#DIV/0!"}]
[{"$error":"#VALUE!"},null,null,null,null,null,null,null,null,null,null,null,null,null,null,null,null,null,null,null,null,null,null,null,null,null,null,null,null,null,null,null,null,null,null,null,null,null,null,null,null,null,null,null,null,null,null,null,null,null,null,null,null,null,null,null,null,null,null,null,null,null,null,null,0,0,0,0,0,{"$error":"#DIV/0!"}]
[{"$error":"#VALUE!"},null,null,null,null,null,null,null,null,null,null,null,null,null,null,null,null,null,null,null,null,null,null,null,null,null,null,null,null,null,null,null,null,null,null,null,null,null,null,null,null,null,null,null,null,null,null,null,null,null,null,null,null,null,null,null,null,null,null,null,null,null,null,null,0,0,0,0,0,{"$error":"#DIV/0!"}]
[{"$error":"#VALUE!"},null,null,null,null,null,null,null,null,null,null,null,null,null,null,null,null,null,null,null,null,null,null,null,null,null,null,null,null,null,null,null,null,null,null,null,null,null,null,null,null,null,null,null,null,null,null,null,null,null,null,null,null,null,null,null,null,null,null,null,null,null,null,null,0,0,0,0,0,{"$error":"#DIV/0!"}]
[{"$error":"#VALUE!"},null,null,null,null,null,null,null,null,null,null,null,null,null,null,null,null,null,null,null,null,null,null,null,null,null,null,null,null,null,null,null,null,null,null,null,null,null,null,null,null,null,null,null,null,null,null,null,null,null,null,null,null,null,null,null,null,null,null,null,null,null,null,null,0,0,0,0,0,{"$error":"#DIV/0!"}]
[{"$error":"#VALUE!"},null,null,null,null,null,null,null,null,null,null,null,null,null,null,null,null,null,null,null,null,null,null,null,null,null,null,null,null,null,null,null,null,null,null,null,null,null,null,null,null,null,null,null,null,null,null,null,null,null,null,null,null,null,null,null,null,null,null,null,null,null,null,null,0,0,0,0,0,{"$error":"#DIV/0!"}]
[{"$error":"#VALUE!"},null,null,null,null,null,null,null,null,null,null,null,null,null,null,null,null,null,null,null,null,null,null,null,null,null,null,null,null,null,null,null,null,null,null,null,null,null,null,null,null,null,null,null,null,null,null,null,null,null,null,null,null,null,null,null,null,null,null,null,null,null,null,null,0,0,0,0,0,{"$error":"#DIV/0!"}]
[{"$error":"#VALUE!"},null,null,null,null,null,null,null,null,null,null,null,null,null,null,null,null,null,null,null,null,null,null,null,null,null,null,null,null,null,null,null,null,null,null,null,null,null,null,null,null,null,null,null,null,null,null,null,null,null,null,null,null,null,null,null,null,null,null,null,null,null,null,null,0,0,0,0,0,{"$error":"#DIV/0!"}]
[{"$error":"#VALUE!"},null,null,null,null,null,null,null,null,null,null,null,null,null,null,null,null,null,null,null,null,null,null,null,null,null,null,null,null,null,null,null,null,null,null,null,null,null,null,null,null,null,null,null,null,null,null,null,null,null,null,null,null,null,null,null,null,null,null,null,null,null,null,null,0,0,0,0,0,{"$error":"#DIV/0!"}]
[{"$error":"#VALUE!"},null,null,null,null,null,null,null,null,null,null,null,null,null,null,null,null,null,null,null,null,null,null,null,null,null,null,null,null,null,null,null,null,null,null,null,null,null,null,null,null,null,null,null,null,null,null,null,null,null,null,null,null,null,null,null,null,null,null,null,null,null,null,null,0,0,0,0,0,{"$error":"#DIV/0!"}]
[{"$error":"#VALUE!"},null,null,null,null,null,null,null,null,null,null,null,null,null,null,null,null,null,null,null,null,null,null,null,null,null,null,null,null,null,null,null,null,null,null,null,null,null,null,null,null,null,null,null,null,null,null,null,null,null,null,null,null,null,null,null,null,null,null,null,null,null,null,null,0,0,0,0,0,{"$error":"#DIV/0!"}]
[{"$error":"#VALUE!"},null,null,null,null,null,null,null,null,null,null,null,null,null,null,null,null,null,null,null,null,null,null,null,null,null,null,null,null,null,null,null,null,null,null,null,null,null,null,null,null,null,null,null,null,null,null,null,null,null,null,null,null,null,null,null,null,null,null,null,null,null,null,null,0,0,0,0,0,{"$error":"#DIV/0!"}]
[{"$error":"#VALUE!"},null,null,null,null,null,null,null,null,null,null,null,null,null,null,null,null,null,null,null,null,null,null,null,null,null,null,null,null,null,null,null,null,null,null,null,null,null,null,null,null,null,null,null,null,null,null,null,null,null,null,null,null,null,null,null,null,null,null,null,null,null,null,null,0,0,0,0,0,{"$error":"#DIV/0!"}]
[{"$error":"#VALUE!"},null,null,null,null,null,null,null,null,null,null,null,null,null,null,null,null,null,null,null,null,null,null,null,null,null,null,null,null,null,null,null,null,null,null,null,null,null,null,null,null,null,null,null,null,null,null,null,null,null,null,null,null,null,null,null,null,null,null,null,null,null,null,null,0,0,0,0,0,{"$error":"#DIV/0!"}]
[{"$error":"#VALUE!"},null,null,null,null,null,null,null,null,null,null,null,null,null,null,null,null,null,null,null,null,null,null,null,null,null,null,null,null,null,null,null,null,null,null,null,null,null,null,null,null,null,null,null,null,null,null,null,null,null,null,null,null,null,null,null,null,null,null,null,null,null,null,null,0,0,0,0,0,{"$error":"#DIV/0!"}]
[{"$error":"#VALUE!"},null,null,null,null,null,null,null,null,null,null,null,null,null,null,null,null,null,null,null,null,null,null,null,null,null,null,null,null,null,null,null,null,null,null,null,null,null,null,null,null,null,null,null,null,null,null,null,null,null,null,null,null,null,null,null,null,null,null,null,null,null,null,null,0,0,0,0,0,{"$error":"#DIV/0!"}]
[{"$error":"#VALUE!"},null,null,null,null,null,null,null,null,null,null,null,null,null,null,null,null,null,null,null,null,null,null,null,null,null,null,null,null,null,null,null,null,null,null,null,null,null,null,null,null,null,null,null,null,null,null,null,null,null,null,null,null,null,null,null,null,null,null,null,null,null,null,null,0,0,0,0,0,{"$error":"#DIV/0!"}]
[{"$error":"#VALUE!"},null,null,null,null,null,null,null,null,null,null,null,null,null,null,null,null,null,null,null,null,null,null,null,null,null,null,null,null,null,null,null,null,null,null,null,null,null,null,null,null,null,null,null,null,null,null,null,null,null,null,null,null,null,null,null,null,null,null,null,null,null,null,null,0,0,0,0,0,{"$error":"#DIV/0!"}]
[{"$error":"#VALUE!"},null,null,null,null,null,null,null,null,null,null,null,null,null,null,null,null,null,null,null,null,null,null,null,null,null,null,null,null,null,null,null,null,null,null,null,null,null,null,null,null,null,null,null,null,null,null,null,null,null,null,null,null,null,null,null,null,null,null,null,null,null,null,null,0,0,0,0,0,{"$error":"#DIV/0!"}]
[{"$error":"#VALUE!"},null,null,null,null,null,null,null,null,null,null,null,null,null,null,null,null,null,null,null,null,null,null,null,null,null,null,null,null,null,null,null,null,null,null,null,null,null,null,null,null,null,null,null,null,null,null,null,null,null,null,null,null,null,null,null,null,null,null,null,null,null,null,null,0,0,0,0,0,{"$error":"#DIV/0!"}]
[{"$error":"#VALUE!"},null,null,null,null,null,null,null,null,null,null,null,null,null,null,null,null,null,null,null,null,null,null,null,null,null,null,null,null,null,null,null,null,null,null,null,null,null,null,null,null,null,null,null,null,null,null,null,null,null,null,null,null,null,null,null,null,null,null,null,null,null,null,null,0,0,0,0,0,{"$error":"#DIV/0!"}]
[{"$error":"#VALUE!"},null,null,null,null,null,null,null,null,null,null,null,null,null,null,null,null,null,null,null,null,null,null,null,null,null,null,null,null,null,null,null,null,null,null,null,null,null,null,null,null,null,null,null,null,null,null,null,null,null,null,null,null,null,null,null,null,null,null,null,null,null,null,null,0,0,0,0,0,{"$error":"#DIV/0!"}]
[{"$error":"#VALUE!"},null,null,null,null,null,null,null,null,null,null,null,null,null,null,null,null,null,null,null,null,null,null,null,null,null,null,null,null,null,null,null,null,null,null,null,null,null,null,null,null,null,null,null,null,null,null,null,null,null,null,null,null,null,null,null,null,null,null,null,null,null,null,null,0,0,0,0,0,{"$error":"#DIV/0!"}]
[{"$error":"#VALUE!"},null,null,null,null,null,null,null,null,null,null,null,null,null,null,null,null,null,null,null,null,null,null,null,null,null,null,null,null,null,null,null,null,null,null,null,null,null,null,null,null,null,null,null,null,null,null,null,null,null,null,null,null,null,null,null,null,null,null,null,null,null,null,null,0,0,0,0,0,{"$error":"#DIV/0!"}]
[{"$error":"#VALUE!"},null,null,null,null,null,null,null,null,null,null,null,null,null,null,null,null,null,null,null,null,null,null,null,null,null,null,null,null,null,null,null,null,null,null,null,null,null,null,null,null,null,null,null,null,null,null,null,null,null,null,null,null,null,null,null,null,null,null,null,null,null,null,null,0,0,0,0,0,{"$error":"#DIV/0!"}]
[{"$error":"#VALUE!"},null,null,null,null,null,null,null,null,null,null,null,null,null,null,null,null,null,null,null,null,null,null,null,null,null,null,null,null,null,null,null,null,null,null,null,null,null,null,null,null,null,null,null,null,null,null,null,null,null,null,null,null,null,null,null,null,null,null,null,null,null,null,null,0,0,0,0,0,{"$error":"#DIV/0!"}]
[{"$error":"#VALUE!"},null,null,null,null,null,null,null,null,null,null,null,null,null,null,null,null,null,null,null,null,null,null,null,null,null,null,null,null,null,null,null,null,null,null,null,null,null,null,null,null,null,null,null,null,null,null,null,null,null,null,null,null,null,null,null,null,null,null,null,null,null,null,null,0,0,0,0,0,{"$error":"#DIV/0!"}]
[{"$error":"#VALUE!"},null,null,null,null,null,null,null,null,null,null,null,null,null,null,null,null,null,null,null,null,null,null,null,null,null,null,null,null,null,null,null,null,null,null,null,null,null,null,null,null,null,null,null,null,null,null,null,null,null,null,null,null,null,null,null,null,null,null,null,null,null,null,null,0,0,0,0,0,{"$error":"#DIV/0!"}]
[{"$error":"#VALUE!"},null,null,null,null,null,null,null,null,null,null,null,null,null,null,null,null,null,null,null,null,null,null,null,null,null,null,null,null,null,null,null,null,null,null,null,null,null,null,null,null,null,null,null,null,null,null,null,null,null,null,null,null,null,null,null,null,null,null,null,null,null,null,null,0,0,0,0,0,{"$error":"#DIV/0!"}]
[{"$error":"#VALUE!"},null,null,null,null,null,null,null,null,null,null,null,null,null,null,null,null,null,null,null,null,null,null,null,null,null,null,null,null,null,null,null,null,null,null,null,null,null,null,null,null,null,null,null,null,null,null,null,null,null,null,null,null,null,null,null,null,null,null,null,null,null,null,null,0,0,0,0,0,{"$error":"#DIV/0!"}]
[{"$error":"#VALUE!"},null,null,null,null,null,null,null,null,null,null,null,null,null,null,null,null,null,null,null,null,null,null,null,null,null,null,null,null,null,null,null,null,null,null,null,null,null,null,null,null,null,null,null,null,null,null,null,null,null,null,null,null,null,null,null,null,null,null,null,null,null,null,null,0,0,0,0,0,{"$error":"#DIV/0!"}]
[{"$error":"#VALUE!"},null,null,null,null,null,null,null,null,null,null,null,null,null,null,null,null,null,null,null,null,null,null,null,null,null,null,null,null,null,null,null,null,null,null,null,null,null,null,null,null,null,null,null,null,null,null,null,null,null,null,null,null,null,null,null,null,null,null,null,null,null,null,null,0,0,0,0,0,{"$error":"#DIV/0!"}]
[{"$error":"#VALUE!"},null,null,null,null,null,null,null,null,null,null,null,null,null,null,null,null,null,null,null,null,null,null,null,null,null,null,null,null,null,null,null,null,null,null,null,null,null,null,null,null,null,null,null,null,null,null,null,null,null,null,null,null,null,null,null,null,null,null,null,null,null,null,null,0,0,0,0,0,{"$error":"#DIV/0!"}]
[{"$error":"#VALUE!"},null,null,null,null,null,null,null,null,null,null,null,null,null,null,null,null,null,null,null,null,null,null,null,null,null,null,null,null,null,null,null,null,null,null,null,null,null,null,null,null,null,null,null,null,null,null,null,null,null,null,null,null,null,null,null,null,null,null,null,null,null,null,null,0,0,0,0,0,{"$error":"#DIV/0!"}]
[{"$error":"#VALUE!"},null,null,null,null,null,null,null,null,null,null,null,null,null,null,null,null,null,null,null,null,null,null,null,null,null,null,null,null,null,null,null,null,null,null,null,null,null,null,null,null,null,null,null,null,null,null,null,null,null,null,null,null,null,null,null,null,null,null,null,null,null,null,null,0,0,0,0,0,{"$error":"#DIV/0!"}]
[{"$error":"#VALUE!"},null,null,null,null,null,null,null,null,null,null,null,null,null,null,null,null,null,null,null,null,null,null,null,null,null,null,null,null,null,null,null,null,null,null,null,null,null,null,null,null,null,null,null,null,null,null,null,null,null,null,null,null,null,null,null,null,null,null,null,null,null,null,null,0,0,0,0,0,{"$error":"#DIV/0!"}]
[{"$error":"#VALUE!"},null,null,null,null,null,null,null,null,null,null,null,null,null,null,null,null,null,null,null,null,null,null,null,null,null,null,null,null,null,null,null,null,null,null,null,null,null,null,null,null,null,null,null,null,null,null,null,null,null,null,null,null,null,null,null,null,null,null,null,null,null,null,null,0,0,0,0,0,{"$error":"#DIV/0!"}]
[{"$error":"#VALUE!"},null,null,null,null,null,null,null,null,null,null,null,null,null,null,null,null,null,null,null,null,null,null,null,null,null,null,null,null,null,null,null,null,null,null,null,null,null,null,null,null,null,null,null,null,null,null,null,null,null,null,null,null,null,null,null,null,null,null,null,null,null,null,null,0,0,0,0,0,{"$error":"#DIV/0!"}]
[{"$error":"#VALUE!"},null,null,null,null,null,null,null,null,null,null,null,null,null,null,null,null,null,null,null,null,null,null,null,null,null,null,null,null,null,null,null,null,null,null,null,null,null,null,null,null,null,null,null,null,null,null,null,null,null,null,null,null,null,null,null,null,null,null,null,null,null,null,null,0,0,0,0,0,{"$error":"#DIV/0!"}]
[{"$error":"#VALUE!"},null,null,null,null,null,null,null,null,null,null,null,null,null,null,null,null,null,null,null,null,null,null,null,null,null,null,null,null,null,null,null,null,null,null,null,null,null,null,null,null,null,null,null,null,null,null,null,null,null,null,null,null,null,null,null,null,null,null,null,null,null,null,null,0,0,0,0,0,{"$error":"#DIV/0!"}]
[{"$error":"#VALUE!"},null,null,null,null,null,null,null,null,null,null,null,null,null,null,null,null,null,null,null,null,null,null,null,null,null,null,null,null,null,null,null,null,null,null,null,null,null,null,null,null,null,null,null,null,null,null,null,null,null,null,null,null,null,null,null,null,null,null,null,null,null,null,null,0,0,0,0,0,{"$error":"#DIV/0!"}]
[{"$error":"#VALUE!"},null,null,null,null,null,null,null,null,null,null,null,null,null,null,null,null,null,null,null,null,null,null,null,null,null,null,null,null,null,null,null,null,null,null,null,null,null,null,null,null,null,null,null,null,null,null,null,null,null,null,null,null,null,null,null,null,null,null,null,null,null,null,null,{"$f":"+BH304+AJ304+AG304+AD304+AA304+X304+U304+R304+O304+L304+I304+F304+C304+AM304+AP304+AS304+AV304+AY304+BB304+BE304","v":0},0,0,0,0,{"$error":"#DIV/0!"}]
[{"$error":"#VALUE!"},null,null,null,null,null,null,null,null,null,null,null,null,null,null,null,null,null,null,null,null,null,null,null,null,null,null,null,null,null,null,null,null,null,null,null,null,null,null,null,null,null,null,null,null,null,null,null,null,null,null,null,null,null,null,null,null,null,null,null,null,null,null,null,0,{"$f":"+BI305+AK305+AH305+AE305+AB305+Y305+V305+S305+P305+M305+J305+G305+D305+AN305+AQ305+AT305+AW305+AZ305+BC305+BF305","v":0},{"$f":"+BJ305+AL305+AI305+AF305+AC305+Z305+W305+T305+Q305+N305+K305+H305+E305+AO305+AR305+AU305+AX305+BA305+BD305+BG305","v":0},0,0,{"$error":"#DIV/0!"}]
[{"$error":"#VALUE!"},null,null,null,null,null,null,null,null,null,null,null,null,null,null,null,null,null,null,null,null,null,null,null,null,null,null,null,null,null,null,null,null,null,null,null,null,null,null,null,null,null,null,null,null,null,null,null,null,null,null,null,null,null,null,null,null,null,null,null,null,null,null,null,0,0,0,0,0,{"$error":"#DIV/0!"}]
[{"$error":"#VALUE!"},null,null,null,null,null,null,null,null,null,null,null,null,null,null,null,null,null,null,null,null,null,null,null,null,null,null,null,null,null,null,null,null,null,null,null,null,null,null,null,null,null,null,null,null,null,null,null,null,null,null,null,null,null,null,null,null,null,null,null,null,null,null,null,0,0,0,{"$f":"+BN307-BO307","v":0},{"$f":"COUNT(C307:BJ307)/3","v":0},{"$f":"+BM307/BQ307","v":{"$error":"#DIV/0!"}}]
[{"$error":"#VALUE!"},null,null,null,null,null,null,null,null,null,null,null,null,null,null,null,null,null,null,null,null,null,null,null,null,null,null,null,null,null,null,null,null,null,null,null,null,null,null,null,null,null,null,null,null,null,null,null,null,null,null,null,null,null,null,null,null,null,null,null,null,null,null,null,0,0,0,0,0,{"$error":"#DIV/0!"}]
[{"$error":"#VALUE!"},null,null,null,null,null,null,null,null,null,null,null,null,null,null,null,null,null,null,null,null,null,null,null,null,null,null,null,null,null,null,null,null,null,null,null,null,null,null,null,null,null,null,null,null,null,null,null,null,null,null,null,null,null,null,null,null,null,null,null,null,null,null,null,0,0,0,0,0,{"$error":"#DIV/0!"}]
[{"$error":"#VALUE!"},null,null,null,null,null,null,null,null,null,null,null,null,null,null,null,null,null,null,null,null,null,null,null,null,null,null,null,null,null,null,null,null,null,null,null,null,null,null,null,null,null,null,null,null,null,null,null,null,null,null,null,null,null,null,null,null,null,null,null,null,null,null,null,0,0,0,0,0,{"$error":"#DIV/0!"}]
[{"$error":"#VALUE!"},null,null,null,null,null,null,null,null,null,null,null,null,null,null,null,null,null,null,null,null,null,null,null,null,null,null,null,null,null,null,null,null,null,null,null,null,null,null,null,null,null,null,null,null,null,null,null,null,null,null,null,null,null,null,null,null,null,null,null,null,null,null,null,0,0,0,0,0,{"$error":"#DIV/0!"}]
[{"$error":"#VALUE!"},null,null,null,null,null,null,null,null,null,null,null,null,null,null,null,null,null,null,null,null,null,null,null,null,null,null,null,null,null,null,null,null,null,null,null,null,null,null,null,null,null,null,null,null,null,null,null,null,null,null,null,null,null,null,null,null,null,null,null,null,null,null,null,0,0,0,0,0,{"$error":"#DIV/0!"}]
[{"$error":"#VALUE!"},null,null,null,null,null,null,null,null,null,null,null,null,null,null,null,null,null,null,null,null,null,null,null,null,null,null,null,null,null,null,null,null,null,null,null,null,null,null,null,null,null,null,null,null,null,null,null,null,null,null,null,null,null,null,null,null,null,null,null,null,null,null,null,0,0,0,0,0,{"$error":"#DIV/0!"}]
[{"$error":"#VALUE!"},null,null,null,null,null,null,null,null,null,null,null,null,null,null,null,null,null,null,null,null,null,null,null,null,null,null,null,null,null,null,null,null,null,null,null,null,null,null,null,null,null,null,null,null,null,null,null,null,null,null,null,null,null,null,null,null,null,null,null,null,null,null,null,0,0,0,0,0,{"$error":"#DIV/0!"}]
[{"$f":"+A314+1","v":{"$error":"#VALUE!"}},null,null,null,null,null,null,null,null,null,null,null,null,null,null,null,null,null,null,null,null,null,null,null,null,null,null,null,null,null,null,null,null,null,null,null,null,null,null,null,null,null,null,null,null,null,null,null,null,null,null,null,null,null,null,null,null,null,null,null,null,null,null,null,0,0,0,0,0,{"$error":"#DIV/0!"}]
[{"$error":"#VALUE!"},null,null,null,null,null,null,null,null,null,null,null,null,null,null,null,null,null,null,null,null,null,null,null,null,null,null,null,null,null,null,null,null,null,null,null,null,null,null,null,null,null,null,null,null,null,null,null,null,null,null,null,null,null,null,null,null,null,null,null,null,null,null,null,0,0,0,0,0,{"$error":"#DIV/0!"}]
[{"$error":"#VALUE!"},null,null,null,null,null,null,null,null,null,null,null,null,null,null,null,null,null,null,null,null,null,null,null,null,null,null,null,null,null,null,null,null,null,null,null,null,null,null,null,null,null,null,null,null,null,null,null,null,null,null,null,null,null,null,null,null,null,null,null,null,null,null,null,0,0,0,0,0,{"$error":"#DIV/0!"}]
[{"$error":"#VALUE!"},null,null,null,null,null,null,null,null,null,null,null,null,null,null,null,null,null,null,null,null,null,null,null,null,null,null,null,null,null,null,null,null,null,null,null,null,null,null,null,null,null,null,null,null,null,null,null,null,null,null,null,null,null,null,null,null,null,null,null,null,null,null,null,0,0,0,0,0,{"$error":"#DIV/0!"}]
[{"$error":"#VALUE!"},null,null,null,null,null,null,null,null,null,null,null,null,null,null,null,null,null,null,null,null,null,null,null,null,null,null,null,null,null,null,null,null,null,null,null,null,null,null,null,null,null,null,null,null,null,null,null,null,null,null,null,null,null,null,null,null,null,null,null,null,null,null,null,0,0,0,0,0,{"$error":"#DIV/0!"}]
[{"$error":"#VALUE!"},null,null,null,null,null,null,null,null,null,null,null,null,null,null,null,null,null,null,null,null,null,null,null,null,null,null,null,null,null,null,null,null,null,null,null,null,null,null,null,null,null,null,null,null,null,null,null,null,null,null,null,null,null,null,null,null,null,null,null,null,null,null,null,0,0,0,0,0,{"$error":"#DIV/0!"}]
[{"$error":"#VALUE!"},null,null,null,null,null,null,null,null,null,null,null,null,null,null,null,null,null,null,null,null,null,null,null,null,null,null,null,null,null,null,null,null,null,null,null,null,null,null,null,null,null,null,null,null,null,null,null,null,null,null,null,null,null,null,null,null,null,null,null,null,null,null,null,0,0,0,0,0,{"$error":"#DIV/0!"}]
[{"$error":"#VALUE!"},null,null,null,null,null,null,null,null,null,null,null,null,null,null,null,null,null,null,null,null,null,null,null,null,null,null,null,null,null,null,null,null,null,null,null,null,null,null,null,null,null,null,null,null,null,null,null,null,null,null,null,null,null,null,null,null,null,null,null,null,null,null,null,0,0,0,0,0,{"$error":"#DIV/0!"}]
[{"$error":"#VALUE!"},null,null,null,null,null,null,null,null,null,null,null,null,null,null,null,null,null,null,null,null,null,null,null,null,null,null,null,null,null,null,null,null,null,null,null,null,null,null,null,null,null,null,null,null,null,null,null,null,null,null,null,null,null,null,null,null,null,null,null,null,null,null,null,0,0,0,0,0,{"$error":"#DIV/0!"}]
[{"$error":"#VALUE!"},null,null,null,null,null,null,null,null,null,null,null,null,null,null,null,null,null,null,null,null,null,null,null,null,null,null,null,null,null,null,null,null,null,null,null,null,null,null,null,null,null,null,null,null,null,null,null,null,null,null,null,null,null,null,null,null,null,null,null,null,null,null,null,0,0,0,0,0,{"$error":"#DIV/0!"}]
[{"$error":"#VALUE!"},null,null,null,null,null,null,null,null,null,null,null,null,null,null,null,null,null,null,null,null,null,null,null,null,null,null,null,null,null,null,null,null,null,null,null,null,null,null,null,null,null,null,null,null,null,null,null,null,null,null,null,null,null,null,null,null,null,null,null,null,null,null,null,0,0,0,0,0,{"$error":"#DIV/0!"}]
[{"$error":"#VALUE!"},null,null,null,null,null,null,null,null,null,null,null,null,null,null,null,null,null,null,null,null,null,null,null,null,null,null,null,null,null,null,null,null,null,null,null,null,null,null,null,null,null,null,null,null,null,null,null,null,null,null,null,null,null,null,null,null,null,null,null,null,null,null,null,0,0,0,0,0,{"$error":"#DIV/0!"}]
[{"$error":"#VALUE!"},null,null,null,null,null,null,null,null,null,null,null,null,null,null,null,null,null,null,null,null,null,null,null,null,null,null,null,null,null,null,null,null,null,null,null,null,null,null,null,null,null,null,null,null,null,null,null,null,null,null,null,null,null,null,null,null,null,null,null,null,null,null,null,0,0,0,0,0,{"$error":"#DIV/0!"}]
[{"$error":"#VALUE!"},null,null,null,null,null,null,null,null,null,null,null,null,null,null,null,null,null,null,null,null,null,null,null,null,null,null,null,null,null,null,null,null,null,null,null,null,null,null,null,null,null,null,null,null,null,null,null,null,null,null,null,null,null,null,null,null,null,null,null,null,null,null,null,0,0,0,0,0,{"$error":"#DIV/0!"}]
[{"$error":"#VALUE!"},null,null,null,null,null,null,null,null,null,null,null,null,null,null,null,null,null,null,null,null,null,null,null,null,null,null,null,null,null,null,null,null,null,null,null,null,null,null,null,null,null,null,null,null,null,null,null,null,null,null,null,null,null,null,null,null,null,null,null,null,null,null,null,0,0,0,0,0,{"$error":"#DIV/0!"}]
[{"$error":"#VALUE!"},null,null,null,null,null,null,null,null,null,null,null,null,null,null,null,null,null,null,null,null,null,null,null,null,null,null,null,null,null,null,null,null,null,null,null,null,null,null,null,null,null,null,null,null,null,null,null,null,null,null,null,null,null,null,null,null,null,null,null,null,null,null,null,0,0,0,0,0,{"$error":"#DIV/0!"}]
[{"$error":"#VALUE!"},null,null,null,null,null,null,null,null,null,null,null,null,null,null,null,null,null,null,null,null,null,null,null,null,null,null,null,null,null,null,null,null,null,null,null,null,null,null,null,null,null,null,null,null,null,null,null,null,null,null,null,null,null,null,null,null,null,null,null,null,null,null,null,0,0,0,0,0,{"$error":"#DIV/0!"}]
[{"$error":"#VALUE!"},null,null,null,null,null,null,null,null,null,null,null,null,null,null,null,null,null,null,null,null,null,null,null,null,null,null,null,null,null,null,null,null,null,null,null,null,null,null,null,null,null,null,null,null,null,null,null,null,null,null,null,null,null,null,null,null,null,null,null,null,null,null,null,0,0,0,0,0,{"$error":"#DIV/0!"}]
[{"$error":"#VALUE!"},null,null,null,null,null,null,null,null,null,null,null,null,null,null,null,null,null,null,null,null,null,null,null,null,null,null,null,null,null,null,null,null,null,null,null,null,null,null,null,null,null,null,null,null,null,null,null,null,null,null,null,null,null,null,null,null,null,null,null,null,null,null,null,0,0,0,0,0,{"$error":"#DIV/0!"}]
[{"$error":"#VALUE!"},null,null,null,null,null,null,null,null,null,null,null,null,null,null,null,null,null,null,null,null,null,null,null,null,null,null,null,null,null,null,null,null,null,null,null,null,null,null,null,null,null,null,null,null,null,null,null,null,null,null,null,null,null,null,null,null,null,null,null,null,null,null,null,0,0,0,0,0,{"$error":"#DIV/0!"}]
[{"$error":"#VALUE!"},null,null,null,null,null,null,null,null,null,null,null,null,null,null,null,null,null,null,null,null,null,null,null,null,null,null,null,null,null,null,null,null,null,null,null,null,null,null,null,null,null,null,null,null,null,null,null,null,null,null,null,null,null,null,null,null,null,null,null,null,null,null,null,0,0,0,0,0,{"$error":"#DIV/0!"}]
[{"$error":"#VALUE!"},null,null,null,null,null,null,null,null,null,null,null,null,null,null,null,null,null,null,null,null,null,null,null,null,null,null,null,null,null,null,null,null,null,null,null,null,null,null,null,null,null,null,null,null,null,null,null,null,null,null,null,null,null,null,null,null,null,null,null,null,null,null,null,0,0,0,0,0,{"$error":"#DIV/0!"}]
[{"$error":"#VALUE!"},null,null,null,null,null,null,null,null,null,null,null,null,null,null,null,null,null,null,null,null,null,null,null,null,null,null,null,null,null,null,null,null,null,null,null,null,null,null,null,null,null,null,null,null,null,null,null,null,null,null,null,null,null,null,null,null,null,null,null,null,null,null,null,0,0,0,0,0,{"$error":"#DIV/0!"}]
[{"$error":"#VALUE!"},null,null,null,null,null,null,null,null,null,null,null,null,null,null,null,null,null,null,null,null,null,null,null,null,null,null,null,null,null,null,null,null,null,null,null,null,null,null,null,null,null,null,null,null,null,null,null,null,null,null,null,null,null,null,null,null,null,null,null,null,null,null,null,0,0,0,0,0,{"$error":"#DIV/0!"}]
[{"$error":"#VALUE!"},null,null,null,null,null,null,null,null,null,null,null,null,null,null,null,null,null,null,null,null,null,null,null,null,null,null,null,null,null,null,null,null,null,null,null,null,null,null,null,null,null,null,null,null,null,null,null,null,null,null,null,null,null,null,null,null,null,null,null,null,null,null,null,0,0,0,0,0,{"$error":"#DIV/0!"}]
[{"$error":"#VALUE!"},null,null,null,null,null,null,null,null,null,null,null,null,null,null,null,null,null,null,null,null,null,null,null,null,null,null,null,null,null,null,null,null,null,null,null,null,null,null,null,null,null,null,null,null,null,null,null,null,null,null,null,null,null,null,null,null,null,null,null,null,null,null,null,0,0,0,0,0,{"$error":"#DIV/0!"}]
[{"$error":"#VALUE!"},null,null,null,null,null,null,null,null,null,null,null,null,null,null,null,null,null,null,null,null,null,null,null,null,null,null,null,null,null,null,null,null,null,null,null,null,null,null,null,null,null,null,null,null,null,null,null,null,null,null,null,null,null,null,null,null,null,null,null,null,null,null,null,0,0,0,0,0,{"$error":"#DIV/0!"}]
[{"$error":"#VALUE!"},null,null,null,null,null,null,null,null,null,null,null,null,null,null,null,null,null,null,null,null,null,null,null,null,null,null,null,null,null,null,null,null,null,null,null,null,null,null,null,null,null,null,null,null,null,null,null,null,null,null,null,null,null,null,null,null,null,null,null,null,null,null,null,0,0,0,0,0,{"$error":"#DIV/0!"}]
[{"$error":"#VALUE!"},null,null,null,null,null,null,null,null,null,null,null,null,null,null,null,null,null,null,null,null,null,null,null,null,null,null,null,null,null,null,null,null,null,null,null,null,null,null,null,null,null,null,null,null,null,null,null,null,null,null,null,null,null,null,null,null,null,null,null,null,null,null,null,0,0,0,0,0,{"$error":"#DIV/0!"}]
[{"$error":"#VALUE!"},null,null,null,null,null,null,null,null,null,null,null,null,null,null,null,null,null,null,null,null,null,null,null,null,null,null,null,null,null,null,null,null,null,null,null,null,null,null,null,null,null,null,null,null,null,null,null,null,null,null,null,null,null,null,null,null,null,null,null,null,null,null,null,0,0,0,0,0,{"$error":"#DIV/0!"}]
[{"$error":"#VALUE!"},null,null,null,null,null,null,null,null,null,null,null,null,null,null,null,null,null,null,null,null,null,null,null,null,null,null,null,null,null,null,null,null,null,null,null,null,null,null,null,null,null,null,null,null,null,null,null,null,null,null,null,null,null,null,null,null,null,null,null,null,null,null,null,0,0,0,0,0,{"$error":"#DIV/0!"}]
[{"$error":"#VALUE!"},null,null,null,null,null,null,null,null,null,null,null,null,null,null,null,null,null,null,null,null,null,null,null,null,null,null,null,null,null,null,null,null,null,null,null,null,null,null,null,null,null,null,null,null,null,null,null,null,null,null,null,null,null,null,null,null,null,null,null,null,null,null,null,0,0,0,0,0,{"$error":"#DIV/0!"}]
[{"$error":"#VALUE!"},null,null,null,null,null,null,null,null,null,null,null,null,null,null,null,null,null,null,null,null,null,null,null,null,null,null,null,null,null,null,null,null,null,null,null,null,null,null,null,null,null,null,null,null,null,null,null,null,null,null,null,null,null,null,null,null,null,null,null,null,null,null,null,0,0,0,0,0,{"$error":"#DIV/0!"}]
[{"$error":"#VALUE!"},null,null,null,null,null,null,null,null,null,null,null,null,null,null,null,null,null,null,null,null,null,null,null,null,null,null,null,null,null,null,null,null,null,null,null,null,null,null,null,null,null,null,null,null,null,null,null,null,null,null,null,null,null,null,null,null,null,null,null,null,null,null,null,0,0,0,{"$f":"+BN348-BO348","v":0},{"$f":"COUNT(C348:BJ348)/3","v":0},{"$f":"+BM348/BQ348","v":{"$error":"#DIV/0!"}}]
[{"$error":"#VALUE!"},null,null,null,null,null,null,null,null,null,null,null,null,null,null,null,null,null,null,null,null,null,null,null,null,null,null,null,null,null,null,null,null,null,null,null,null,null,null,null,null,null,null,null,null,null,null,null,null,null,null,null,null,null,null,null,null,null,null,null,null,null,null,null,0,0,0,{"$f":"+BN349-BO349","v":0},{"$f":"COUNT(C349:BJ349)/3","v":0},{"$f":"+BM349/BQ349","v":{"$error":"#DIV/0!"}}]
[{"$error":"#VALUE!"},null,null,null,null,null,null,null,null,null,null,null,null,null,null,null,null,null,null,null,null,null,null,null,null,null,null,null,null,null,null,null,null,null,null,null,null,null,null,null,null,null,null,null,null,null,null,null,null,null,null,null,null,null,null,null,null,null,null,null,null,null,null,null,0,0,0,0,0,{"$error":"#DIV/0!"}]
[{"$error":"#VALUE!"},null,null,null,null,null,null,null,null,null,null,null,null,null,null,null,null,null,null,null,null,null,null,null,null,null,null,null,null,null,null,null,null,null,null,null,null,null,null,null,null,null,null,null,null,null,null,null,null,null,null,null,null,null,null,null,null,null,null,null,null,null,null,null,0,0,0,0,0,{"$error":"#DIV/0!"}]
[{"$error":"#VALUE!"},null,null,null,null,null,null,null,null,null,null,null,null,null,null,null,null,null,null,null,null,null,null,null,null,null,null,null,null,null,null,null,null,null,null,null,null,null,null,null,null,null,null,null,null,null,null,null,null,null,null,null,null,null,null,null,null,null,null,null,null,null,null,null,0,0,0,0,0,{"$error":"#DIV/0!"}]
[{"$error":"#VALUE!"},null,null,null,null,null,null,null,null,null,null,null,null,null,null,null,null,null,null,null,null,null,null,null,null,null,null,null,null,null,null,null,null,null,null,null,null,null,null,null,null,null,null,null,null,null,null,null,null,null,null,null,null,null,null,null,null,null,null,null,null,null,null,null,0,0,0,0,0,{"$error":"#DIV/0!"}]
[{"$error":"#VALUE!"},null,null,null,null,null,null,null,null,null,null,null,null,null,null,null,null,null,null,null,null,null,null,null,null,null,null,null,null,null,null,null,null,null,null,null,null,null,null,null,null,null,null,null,null,null,null,null,null,null,null,null,null,null,null,null,null,null,null,null,null,null,null,null,0,0,0,0,0,{"$error":"#DIV/0!"}]
[{"$error":"#VALUE!"},null,null,null,null,null,null,null,null,null,null,null,null,null,null,null,null,null,null,null,null,null,null,null,null,null,null,null,null,null,null,null,null,null,null,null,null,null,null,null,null,null,null,null,null,null,null,null,null,null,null,null,null,null,null,null,null,null,null,null,null,null,null,null,0,0,0,{"$f":"+BN355-BO355","v":0},{"$f":"COUNT(C355:BJ355)/3","v":0},{"$f":"+BM355/BQ355","v":{"$error":"#DIV/0!"}}]
[{"$error":"#VALUE!"},null,null,null,null,null,null,null,null,null,null,null,null,null,null,null,null,null,null,null,null,null,null,null,null,null,null,null,null,null,null,null,null,null,null,null,null,null,null,null,null,null,null,null,null,null,null,null,null,null,null,null,null,null,null,null,null,null,null,null,null,null,null,null,0,0,0,0,0,{"$error":"#DIV/0!"}]
[{"$error":"#VALUE!"},null,null,null,null,null,null,null,null,null,null,null,null,null,null,null,null,null,null,null,null,null,null,null,null,null,null,null,null,null,null,null,null,null,null,null,null,null,null,null,null,null,null,null,null,null,null,null,null,null,null,null,null,null,null,null,null,null,null,null,null,null,null,null,0,0,0,0,0,{"$error":"#DIV/0!"}]
[{"$error":"#VALUE!"},null,null,null,null,null,null,null,null,null,null,null,null,null,null,null,null,null,null,null,null,null,null,null,null,null,null,null,null,null,null,null,null,null,null,null,null,null,null,null,null,null,null,null,null,null,null,null,null,null,null,null,null,null,null,null,null,null,null,null,null,null,null,null,0,0,0,0,0,{"$error":"#DIV/0!"}]
[{"$error":"#VALUE!"},null,null,null,null,null,null,null,null,null,null,null,null,null,null,null,null,null,null,null,null,null,null,null,null,null,null,null,null,null,null,null,null,null,null,null,null,null,null,null,null,null,null,null,null,null,null,null,null,null,null,null,null,null,null,null,null,null,null,null,null,null,null,null,0,0,0,0,0,{"$error":"#DIV/0!"}]
[{"$error":"#VALUE!"},null,null,null,null,null,null,null,null,null,null,null,null,null,null,null,null,null,null,null,null,null,null,null,null,null,null,null,null,null,null,null,null,null,null,null,null,null,null,null,null,null,null,null,null,null,null,null,null,null,null,null,null,null,null,null,null,null,null,null,null,null,null,null,0,0,0,0,0,{"$error":"#DIV/0!"}]
[{"$error":"#VALUE!"},null,null,null,null,null,null,null,null,null,null,null,null,null,null,null,null,null,null,null,null,null,null,null,null,null,null,null,null,null,null,null,null,null,null,null,null,null,null,null,null,null,null,null,null,null,null,null,null,null,null,null,null,null,null,null,null,null,null,null,null,null,null,null,0,0,0,0,0,{"$error":"#DIV/0!"}]
[{"$error":"#VALUE!"},null,null,null,null,null,null,null,null,null,null,null,null,null,null,null,null,null,null,null,null,null,null,null,null,null,null,null,null,null,null,null,null,null,null,null,null,null,null,null,null,null,null,null,null,null,null,null,null,null,null,null,null,null,null,null,null,null,null,null,null,null,null,null,0,0,0,0,0,{"$error":"#DIV/0!"}]
[{"$error":"#VALUE!"},null,null,null,null,null,null,null,null,null,null,null,null,null,null,null,null,null,null,null,null,null,null,null,null,null,null,null,null,null,null,null,null,null,null,null,null,null,null,null,null,null,null,null,null,null,null,null,null,null,null,null,null,null,null,null,null,null,null,null,null,null,null,null,0,0,0,0,0,{"$error":"#DIV/0!"}]
[{"$error":"#VALUE!"},null,null,null,null,null,null,null,null,null,null,null,null,null,null,null,null,null,null,null,null,null,null,null,null,null,null,null,null,null,null,null,null,null,null,null,null,null,null,null,null,null,null,null,null,null,null,null,null,null,null,null,null,null,null,null,null,null,null,null,null,null,null,null,0,0,0,{"$f":"+BN364-BO364","v":0},{"$f":"COUNT(C364:BJ364)/3","v":0},{"$f":"+BM364/BQ364","v":{"$error":"#DIV/0!"}}]
[{"$error":"#VALUE!"},null,null,null,null,null,null,null,null,null,null,null,null,null,null,null,null,null,null,null,null,null,null,null,null,null,null,null,null,null,null,null,null,null,null,null,null,null,null,null,null,null,null,null,null,null,null,null,null,null,null,null,null,null,null,null,null,null,null,null,null,null,null,null,0,0,0,0,0,{"$error":"#DIV/0!"}]
[{"$error":"#VALUE!"},null,null,null,null,null,null,null,null,null,null,null,null,null,null,null,null,null,null,null,null,null,null,null,null,null,null,null,null,null,null,null,null,null,null,null,null,null,null,null,null,null,null,null,null,null,null,null,null,null,null,null,null,null,null,null,null,null,null,null,null,null,null,null,0,0,0,0,0,{"$error":"#DIV/0!"}]
[{"$error":"#VALUE!"},null,null,null,null,null,null,null,null,null,null,null,null,null,null,null,null,null,null,null,null,null,null,null,null,null,null,null,null,null,null,null,null,null,null,null,null,null,null,null,null,null,null,null,null,null,null,null,null,null,null,null,null,null,null,null,null,null,null,null,null,null,null,null,0,0,0,0,0,{"$error":"#DIV/0!"}]
[{"$error":"#VALUE!"},null,null,null,null,null,null,null,null,null,null,null,null,null,null,null,null,null,null,null,null,null,null,null,null,null,null,null,null,null,null,null,null,null,null,null,null,null,null,null,null,null,null,null,null,null,null,null,null,null,null,null,null,null,null,null,null,null,null,null,null,null,null,null,{"$f":"+BH368+AJ368+AG368+AD368+AA368+X368+U368+R368+O368+L368+I368+F368+C368+AM368+AP368+AS368+AV368+AY368+BB368+BE368","v":0},0,0,0,0,{"$error":"#DIV/0!"}]
[{"$error":"#VALUE!"},null,null,null,null,null,null,null,null,null,null,null,null,null,null,null,null,null,null,null,null,null,null,null,null,null,null,null,null,null,null,null,null,null,null,null,null,null,null,null,null,null,null,null,null,null,null,null,null,null,null,null,null,null,null,null,null,null,null,null,null,null,null,null,0,{"$f":"+BI369+AK369+AH369+AE369+AB369+Y369+V369+S369+P369+M369+J369+G369+D369+AN369+AQ369+AT369+AW369+AZ369+BC369+BF369","v":0},{"$f":"+BJ369+AL369+AI369+AF369+AC369+Z369+W369+T369+Q369+N369+K369+H369+E369+AO369+AR369+AU369+AX369+BA369+BD369+BG369","v":0},0,0,{"$error":"#DIV/0!"}]
[{"$error":"#VALUE!"},null,null,null,null,null,null,null,null,null,null,null,null,null,null,null,null,null,null,null,null,null,null,null,null,null,null,null,null,null,null,null,null,null,null,null,null,null,null,null,null,null,null,null,null,null,null,null,null,null,null,null,null,null,null,null,null,null,null,null,null,null,null,null,0,0,0,0,0,{"$error":"#DIV/0!"}]
[{"$error":"#VALUE!"},null,null,null,null,null,null,null,null,null,null,null,null,null,null,null,null,null,null,null,null,null,null,null,null,null,null,null,null,null,null,null,null,null,null,null,null,null,null,null,null,null,null,null,null,null,null,null,null,null,null,null,null,null,null,null,null,null,null,null,null,null,null,null,0,0,0,0,0,{"$error":"#DIV/0!"}]
[{"$error":"#VALUE!"},null,null,null,null,null,null,null,null,null,null,null,null,null,null,null,null,null,null,null,null,null,null,null,null,null,null,null,null,null,null,null,null,null,null,null,null,null,null,null,null,null,null,null,null,null,null,null,null,null,null,null,null,null,null,null,null,null,null,null,null,null,null,null,0,0,0,0,0,{"$error":"#DIV/0!"}]
[{"$error":"#VALUE!"},null,null,null,null,null,null,null,null,null,null,null,null,null,null,null,null,null,null,null,null,null,null,null,null,null,null,null,null,null,null,null,null,null,null,null,null,null,null,null,null,null,null,null,null,null,null,null,null,null,null,null,null,null,null,null,null,null,null,null,null,null,null,null,0,0,0,0,0,{"$error":"#DIV/0!"}]
[{"$error":"#VALUE!"},null,null,null,null,null,null,null,null,null,null,null,null,null,null,null,null,null,null,null,null,null,null,null,null,null,null,null,null,null,null,null,null,null,null,null,null,null,null,null,null,null,null,null,null,null,null,null,null,null,null,null,null,null,null,null,null,null,null,null,null,null,null,null,0,0,0,0,0,{"$error":"#DIV/0!"}]
[{"$error":"#VALUE!"},null,null,null,null,null,null,null,null,null,null,null,null,null,null,null,null,null,null,null,null,null,null,null,null,null,null,null,null,null,null,null,null,null,null,null,null,null,null,null,null,null,null,null,null,null,null,null,null,null,null,null,null,null,null,null,null,null,null,null,null,null,null,null,0,0,0,0,0,{"$error":"#DIV/0!"}]
[{"$error":"#VALUE!"},null,null,null,null,null,null,null,null,null,null,null,null,null,null,null,null,null,null,null,null,null,null,null,null,null,null,null,null,null,null,null,null,null,null,null,null,null,null,null,null,null,null,null,null,null,null,null,null,null,null,null,null,null,null,null,null,null,null,null,null,null,null,null,0,0,0,0,0,{"$error":"#DIV/0!"}]
[{"$error":"#VALUE!"},null,null,null,null,null,null,null,null,null,null,null,null,null,null,null,null,null,null,null,null,null,null,null,null,null,null,null,null,null,null,null,null,null,null,null,null,null,null,null,null,null,null,null,null,null,null,null,null,null,null,null,null,null,null,null,null,null,null,null,null,null,null,null,0,0,0,0,0,{"$error":"#DIV/0!"}]
[{"$error":"#VALUE!"},null,null,null,null,null,null,null,null,null,null,null,null,null,null,null,null,null,null,null,null,null,null,null,null,null,null,null,null,null,null,null,null,null,null,null,null,null,null,null,null,null,null,null,null,null,null,null,null,null,null,null,null,null,null,null,null,null,null,null,null,null,null,null,0,0,0,0,0,{"$error":"#DIV/0!"}]
[{"$f":"+A378+1","v":{"$error":"#VALUE!"}},null,null,null,null,null,null,null,null,null,null,null,null,null,null,null,null,null,null,null,null,null,null,null,null,null,null,null,null,null,null,null,null,null,null,null,null,null,null,null,null,null,null,null,null,null,null,null,null,null,null,null,null,null,null,null,null,null,null,null,null,null,null,null,0,0,0,0,0,{"$error":"#DIV/0!"}]
[{"$error":"#VALUE!"},null,null,null,null,null,null,null,null,null,null,null,null,null,null,null,null,null,null,null,null,null,null,null,null,null,null,null,null,null,null,null,null,null,null,null,null,null,null,null,null,null,null,null,null,null,null,null,null,null,null,null,null,null,null,null,null,null,null,null,null,null,null,null,0,0,0,0,0,{"$error":"#DIV/0!"}]
[{"$error":"#VALUE!"},null,null,null,null,null,null,null,null,null,null,null,null,null,null,null,null,null,null,null,null,null,null,null,null,null,null,null,null,null,null,null,null,null,null,null,null,null,null,null,null,null,null,null,null,null,null,null,null,null,null,null,null,null,null,null,null,null,null,null,null,null,null,null,0,0,0,0,0,{"$error":"#DIV/0!"}]
[{"$error":"#VALUE!"},null,null,null,null,null,null,null,null,null,null,null,null,null,null,null,null,null,null,null,null,null,null,null,null,null,null,null,null,null,null,null,null,null,null,null,null,null,null,null,null,null,null,null,null,null,null,null,null,null,null,null,null,null,null,null,null,null,null,null,null,null,null,null,0,0,0,0,0,{"$error":"#DIV/0!"}]
[{"$error":"#VALUE!"},null,null,null,null,null,null,null,null,null,null,null,null,null,null,null,null,null,null,null,null,null,null,null,null,null,null,null,null,null,null,null,null,null,null,null,null,null,null,null,null,null,null,null,null,null,null,null,null,null,null,null,null,null,null,null,null,null,null,null,null,null,null,null,0,0,0,0,0,{"$error":"#DIV/0!"}]
[{"$error":"#VALUE!"},null,null,null,null,null,null,null,null,null,null,null,null,null,null,null,null,null,null,null,null,null,null,null,null,null,null,null,null,null,null,null,null,null,null,null,null,null,null,null,null,null,null,null,null,null,null,null,null,null,null,null,null,null,null,null,null,null,null,null,null,null,null,null,0,0,0,0,0,{"$error":"#DIV/0!"}]
[{"$error":"#VALUE!"},null,null,null,null,null,null,null,null,null,null,null,null,null,null,null,null,null,null,null,null,null,null,null,null,null,null,null,null,null,null,null,null,null,null,null,null,null,null,null,null,null,null,null,null,null,null,null,null,null,null,null,null,null,null,null,null,null,null,null,null,null,null,null,0,0,0,0,0,{"$error":"#DIV/0!"}]
[{"$error":"#VALUE!"},null,null,null,null,null,null,null,null,null,null,null,null,null,null,null,null,null,null,null,null,null,null,null,null,null,null,null,null,null,null,null,null,null,null,null,null,null,null,null,null,null,null,null,null,null,null,null,null,null,null,null,null,null,null,null,null,null,null,null,null,null,null,null,0,0,0,0,0,{"$error":"#DIV/0!"}]
[{"$error":"#VALUE!"},null,null,null,null,null,null,null,null,null,null,null,null,null,null,null,null,null,null,null,null,null,null,null,null,null,null,null,null,null,null,null,null,null,null,null,null,null,null,null,null,null,null,null,null,null,null,null,null,null,null,null,null,null,null,null,null,null,null,null,null,null,null,null,0,0,0,0,0,{"$error":"#DIV/0!"}]
[{"$error":"#VALUE!"},null,null,null,null,null,null,null,null,null,null,null,null,null,null,null,null,null,null,null,null,null,null,null,null,null,null,null,null,null,null,null,null,null,null,null,null,null,null,null,null,null,null,null,null,null,null,null,null,null,null,null,null,null,null,null,null,null,null,null,null,null,null,null,0,0,0,0,0,{"$error":"#DIV/0!"}]
[{"$error":"#VALUE!"},null,null,null,null,null,null,null,null,null,null,null,null,null,null,null,null,null,null,null,null,null,null,null,null,null,null,null,null,null,null,null,null,null,null,null,null,null,null,null,null,null,null,null,null,null,null,null,null,null,null,null,null,null,null,null,null,null,null,null,null,null,null,null,0,0,0,0,0,{"$error":"#DIV/0!"}]
[{"$error":"#VALUE!"},null,null,null,null,null,null,null,null,null,null,null,null,null,null,null,null,null,null,null,null,null,null,null,null,null,null,null,null,null,null,null,null,null,null,null,null,null,null,null,null,null,null,null,null,null,null,null,null,null,null,null,null,null,null,null,null,null,null,null,null,null,null,null,0,0,0,0,0,{"$error":"#DIV/0!"}]
[{"$error":"#VALUE!"},null,null,null,null,null,null,null,null,null,null,null,null,null,null,null,null,null,null,null,null,null,null,null,null,null,null,null,null,null,null,null,null,null,null,null,null,null,null,null,null,null,null,null,null,null,null,null,null,null,null,null,null,null,null,null,null,null,null,null,null,null,null,null,0,0,0,0,0,{"$error":"#DIV/0!"}]
[{"$error":"#VALUE!"},null,null,null,null,null,null,null,null,null,null,null,null,null,null,null,null,null,null,null,null,null,null,null,null,null,null,null,null,null,null,null,null,null,null,null,null,null,null,null,null,null,null,null,null,null,null,null,null,null,null,null,null,null,null,null,null,null,null,null,null,null,null,null,0,0,0,0,0,{"$error":"#DIV/0!"}]
[{"$error":"#VALUE!"},null,null,null,null,null,null,null,null,null,null,null,null,null,null,null,null,null,null,null,null,null,null,null,null,null,null,null,null,null,null,null,null,null,null,null,null,null,null,null,null,null,null,null,null,null,null,null,null,null,null,null,null,null,null,null,null,null,null,null,null,null,null,null,0,0,0,0,0,{"$error":"#DIV/0!"}]
[{"$error":"#VALUE!"},null,null,null,null,null,null,null,null,null,null,null,null,null,null,null,null,null,null,null,null,null,null,null,null,null,null,null,null,null,null,null,null,null,null,null,null,null,null,null,null,null,null,null,null,null,null,null,null,null,null,null,null,null,null,null,null,null,null,null,null,null,null,null,0,0,0,0,0,{"$error":"#DIV/0!"}]
[{"$error":"#VALUE!"},null,null,null,null,null,null,null,null,null,null,null,null,null,null,null,null,null,null,null,null,null,null,null,null,null,null,null,null,null,null,null,null,null,null,null,null,null,null,null,null,null,null,null,null,null,null,null,null,null,null,null,null,null,null,null,null,null,null,null,null,null,null,null,0,0,0,0,0,{"$error":"#DIV/0!"}]
[{"$error":"#VALUE!"},null,null,null,null,null,null,null,null,null,null,null,null,null,null,null,null,null,null,null,null,null,null,null,null,null,null,null,null,null,null,null,null,null,null,null,null,null,null,null,null,null,null,null,null,null,null,null,null,null,null,null,null,null,null,null,null,null,null,null,null,null,null,null,0,0,0,0,0,{"$error":"#DIV/0!"}]
[{"$error":"#VALUE!"},null,null,null,null,null,null,null,null,null,null,null,null,null,null,null,null,null,null,null,null,null,null,null,null,null,null,null,null,null,null,null,null,null,null,null,null,null,null,null,null,null,null,null,null,null,null,null,null,null,null,null,null,null,null,null,null,null,null,null,null,null,null,null,0,0,0,0,0,{"$error":"#DIV/0!"}]
[{"$error":"#VALUE!"},null,null,null,null,null,null,null,null,null,null,null,null,null,null,null,null,null,null,null,null,null,null,null,null,null,null,null,null,null,null,null,null,null,null,null,null,null,null,null,null,null,null,null,null,null,null,null,null,null,null,null,null,null,null,null,null,null,null,null,null,null,null,null,0,0,0,0,0,{"$error":"#DIV/0!"}]
[{"$error":"#VALUE!"},null,null,null,null,null,null,null,null,null,null,null,null,null,null,null,null,null,null,null,null,null,null,null,null,null,null,null,null,null,null,null,null,null,null,null,null,null,null,null,null,null,null,null,null,null,null,null,null,null,null,null,null,null,null,null,null,null,null,null,null,null,null,null,0,0,0,0,0,{"$error":"#DIV/0!"}]
[{"$error":"#VALUE!"},null,null,null,null,null,null,null,null,null,null,null,null,null,null,null,null,null,null,null,null,null,null,null,null,null,null,null,null,null,null,null,null,null,null,null,null,null,null,null,null,null,null,null,null,null,null,null,null,null,null,null,null,null,null,null,null,null,null,null,null,null,null,null,0,0,0,0,0,{"$error":"#DIV/0!"}]
[{"$error":"#VALUE!"},null,null,null,null,null,null,null,null,null,null,null,null,null,null,null,null,null,null,null,null,null,null,null,null,null,null,null,null,null,null,null,null,null,null,null,null,null,null,null,null,null,null,null,null,null,null,null,null,null,null,null,null,null,null,null,null,null,null,null,null,null,null,null,0,0,0,0,0,{"$error":"#DIV/0!"}]
[{"$error":"#VALUE!"},null,null,null,null,null,null,null,null,null,null,null,null,null,null,null,null,null,null,null,null,null,null,null,null,null,null,null,null,null,null,null,null,null,null,null,null,null,null,null,null,null,null,null,null,null,null,null,null,null,null,null,null,null,null,null,null,null,null,null,null,null,null,null,0,0,0,0,0,{"$error":"#DIV/0!"}]
[{"$error":"#VALUE!"},null,null,null,null,null,null,null,null,null,null,null,null,null,null,null,null,null,null,null,null,null,null,null,null,null,null,null,null,null,null,null,null,null,null,null,null,null,null,null,null,null,null,null,null,null,null,null,null,null,null,null,null,null,null,null,null,null,null,null,null,null,null,null,0,0,0,0,0,{"$error":"#DIV/0!"}]
[{"$error":"#VALUE!"},null,null,null,null,null,null,null,null,null,null,null,null,null,null,null,null,null,null,null,null,null,null,null,null,null,null,null,null,null,null,null,null,null,null,null,null,null,null,null,null,null,null,null,null,null,null,null,null,null,null,null,null,null,null,null,null,null,null,null,null,null,null,null,0,0,0,0,0,{"$error":"#DIV/0!"}]
[{"$error":"#VALUE!"},null,null,null,null,null,null,null,null,null,null,null,null,null,null,null,null,null,null,null,null,null,null,null,null,null,null,null,null,null,null,null,null,null,null,null,null,null,null,null,null,null,null,null,null,null,null,null,null,null,null,null,null,null,null,null,null,null,null,null,null,null,null,null,0,0,0,0,0,{"$error":"#DIV/0!"}]
[{"$error":"#VALUE!"},null,null,null,null,null,null,null,null,null,null,null,null,null,null,null,null,null,null,null,null,null,null,null,null,null,null,null,null,null,null,null,null,null,null,null,null,null,null,null,null,null,null,null,null,null,null,null,null,null,null,null,null,null,null,null,null,null,null,null,null,null,null,null,0,0,0,0,0,{"$error":"#DIV/0!"}]
[{"$error":"#VALUE!"},null,null,null,null,null,null,null,null,null,null,null,null,null,null,null,null,null,null,null,null,null,null,null,null,null,null,null,null,null,null,null,null,null,null,null,null,null,null,null,null,null,null,null,null,null,null,null,null,null,null,null,null,null,null,null,null,null,null,null,null,null,null,null,0,0,0,0,0,{"$error":"#DIV/0!"}]
[{"$error":"#VALUE!"},null,null,null,null,null,null,null,null,null,null,null,null,null,null,null,null,null,null,null,null,null,null,null,null,null,null,null,null,null,null,null,null,null,null,null,null,null,null,null,null,null,null,null,null,null,null,null,null,null,null,null,null,null,null,null,null,null,null,null,null,null,null,null,0,0,0,0,0,{"$error":"#DIV/0!"}]
[{"$error":"#VALUE!"},null,null,null,null,null,null,null,null,null,null,null,null,null,null,null,null,null,null,null,null,null,null,null,null,null,null,null,null,null,null,null,null,null,null,null,null,null,null,null,null,null,null,null,null,null,null,null,null,null,null,null,null,null,null,null,null,null,null,null,null,null,null,null,0,0,0,0,0,{"$error":"#DIV/0!"}]
[{"$error":"#VALUE!"},null,null,null,null,null,null,null,null,null,null,null,null,null,null,null,null,null,null,null,null,null,null,null,null,null,null,null,null,null,null,null,null,null,null,null,null,null,null,null,null,null,null,null,null,null,null,null,null,null,null,null,null,null,null,null,null,null,null,null,null,null,null,null,0,0,0,0,0,{"$error":"#DIV/0!"}]
[{"$error":"#VALUE!"},null,null,null,null,null,null,null,null,null,null,null,null,null,null,null,null,null,null,null,null,null,null,null,null,null,null,null,null,null,null,null,null,null,null,null,null,null,null,null,null,null,null,null,null,null,null,null,null,null,null,null,null,null,null,null,null,null,null,null,null,null,null,null,0,0,0,0,0,{"$error":"#DIV/0!"}]
[{"$error":"#VALUE!"},null,null,null,null,null,null,null,null,null,null,null,null,null,null,null,null,null,null,null,null,null,null,null,null,null,null,null,null,null,null,null,null,null,null,null,null,null,null,null,null,null,null,null,null,null,null,null,null,null,null,null,null,null,null,null,null,null,null,null,null,null,null,null,0,0,0,0,0,{"$error":"#DIV/0!"}]
[{"$error":"#VALUE!"},null,null,null,null,null,null,null,null,null,null,null,null,null,null,null,null,null,null,null,null,null,null,null,null,null,null,null,null,null,null,null,null,null,null,null,null,null,null,null,null,null,null,null,null,null,null,null,null,null,null,null,null,null,null,null,null,null,null,null,null,null,null,null,0,0,0,0,0,{"$error":"#DIV/0!"}]
[{"$error":"#VALUE!"},null,null,null,null,null,null,null,null,null,null,null,null,null,null,null,null,null,null,null,null,null,null,null,null,null,null,null,null,null,null,null,null,null,null,null,null,null,null,null,null,null,null,null,null,null,null,null,null,null,null,null,null,null,null,null,null,null,null,null,null,null,null,null,0,0,0,0,0,{"$error":"#DIV/0!"}]
[{"$error":"#VALUE!"},null,null,null,null,null,null,null,null,null,null,null,null,null,null,null,null,null,null,null,null,null,null,null,null,null,null,null,null,null,null,null,null,null,null,null,null,null,null,null,null,null,null,null,null,null,null,null,null,null,null,null,null,null,null,null,null,null,null,null,null,null,null,null,0,0,0,0,0,{"$error":"#DIV/0!"}]
[{"$error":"#VALUE!"},null,null,null,null,null,null,null,null,null,null,null,null,null,null,null,null,null,null,null,null,null,null,null,null,null,null,null,null,null,null,null,null,null,null,null,null,null,null,null,null,null,null,null,null,null,null,null,null,null,null,null,null,null,null,null,null,null,null,null,null,null,null,null,0,0,0,0,0,{"$error":"#DIV/0!"}]
[{"$error":"#VALUE!"},null,null,null,null,null,null,null,null,null,null,null,null,null,null,null,null,null,null,null,null,null,null,null,null,null,null,null,null,null,null,null,null,null,null,null,null,null,null,null,null,null,null,null,null,null,null,null,null,null,null,null,null,null,null,null,null,null,null,null,null,null,null,null,0,0,0,0,0,{"$error":"#DIV/0!"}]
[{"$error":"#VALUE!"},null,null,null,null,null,null,null,null,null,null,null,null,null,null,null,null,null,null,null,null,null,null,null,null,null,null,null,null,null,null,null,null,null,null,null,null,null,null,null,null,null,null,null,null,null,null,null,null,null,null,null,null,null,null,null,null,null,null,null,null,null,null,null,0,0,0,0,0,{"$error":"#DIV/0!"}]
[{"$error":"#VALUE!"},null,null,null,null,null,null,null,null,null,null,null,null,null,null,null,null,null,null,null,null,null,null,null,null,null,null,null,null,null,null,null,null,null,null,null,null,null,null,null,null,null,null,null,null,null,null,null,null,null,null,null,null,null,null,null,null,null,null,null,null,null,null,null,0,0,0,0,0,{"$error":"#DIV/0!"}]
[{"$error":"#VALUE!"},null,null,null,null,null,null,null,null,null,null,null,null,null,null,null,null,null,null,null,null,null,null,null,null,null,null,null,null,null,null,null,null,null,null,null,null,null,null,null,null,null,null,null,null,null,null,null,null,null,null,null,null,null,null,null,null,null,null,null,null,null,null,null,0,0,0,0,0,{"$error":"#DIV/0!"}]
[{"$error":"#VALUE!"},null,null,null,null,null,null,null,null,null,null,null,null,null,null,null,null,null,null,null,null,null,null,null,null,null,null,null,null,null,null,null,null,null,null,null,null,null,null,null,null,null,null,null,null,null,null,null,null,null,null,null,null,null,null,null,null,null,null,null,null,null,null,null,0,0,0,0,0,{"$error":"#DIV/0!"}]
[{"$error":"#VALUE!"},null,null,null,null,null,null,null,null,null,null,null,null,null,null,null,null,null,null,null,null,null,null,null,null,null,null,null,null,null,null,null,null,null,null,null,null,null,null,null,null,null,null,null,null,null,null,null,null,null,null,null,null,null,null,null,null,null,null,null,null,null,null,null,0,0,0,0,0,{"$error":"#DIV/0!"}]
[{"$error":"#VALUE!"},null,null,null,null,null,null,null,null,null,null,null,null,null,null,null,null,null,null,null,null,null,null,null,null,null,null,null,null,null,null,null,null,null,null,null,null,null,null,null,null,null,null,null,null,null,null,null,null,null,null,null,null,null,null,null,null,null,null,null,null,null,null,null,0,0,0,0,0,{"$error":"#DIV/0!"}]
[{"$error":"#VALUE!"},null,null,null,null,null,null,null,null,null,null,null,null,null,null,null,null,null,null,null,null,null,null,null,null,null,null,null,null,null,null,null,null,null,null,null,null,null,null,null,null,null,null,null,null,null,null,null,null,null,null,null,null,null,null,null,null,null,null,null,null,null,null,null,0,0,0,0,0,{"$error":"#DIV/0!"}]
[{"$error":"#VALUE!"},null,null,null,null,null,null,null,null,null,null,null,null,null,null,null,null,null,null,null,null,null,null,null,null,null,null,null,null,null,null,null,null,null,null,null,null,null,null,null,null,null,null,null,null,null,null,null,null,null,null,null,null,null,null,null,null,null,null,null,null,null,null,null,0,0,0,0,0,{"$error":"#DIV/0!"}]
[{"$error":"#VALUE!"},null,null,null,null,null,null,null,null,null,null,null,null,null,null,null,null,null,null,null,null,null,null,null,null,null,null,null,null,null,null,null,null,null,null,null,null,null,null,null,null,null,null,null,null,null,null,null,null,null,null,null,null,null,null,null,null,null,null,null,null,null,null,null,0,0,0,0,0,{"$error":"#DIV/0!"}]
[{"$error":"#VALUE!"},null,null,null,null,null,null,null,null,null,null,null,null,null,null,null,null,null,null,null,null,null,null,null,null,null,null,null,null,null,null,null,null,null,null,null,null,null,null,null,null,null,null,null,null,null,null,null,null,null,null,null,null,null,null,null,null,null,null,null,null,null,null,null,0,0,0,0,0,{"$error":"#DIV/0!"}]
[{"$error":"#VALUE!"},null,null,null,null,null,null,null,null,null,null,null,null,null,null,null,null,null,null,null,null,null,null,null,null,null,null,null,null,null,null,null,null,null,null,null,null,null,null,null,null,null,null,null,null,null,null,null,null,null,null,null,null,null,null,null,null,null,null,null,null,null,null,null,0,0,0,{"$f":"+BN428-BO428","v":0},{"$f":"COUNT(C428:BJ428)/3","v":0},{"$f":"+BM428/BQ428","v":{"$error":"#DIV/0!"}}]
[{"$error":"#VALUE!"},null,null,null,null,null,null,null,null,null,null,null,null,null,null,null,null,null,null,null,null,null,null,null,null,null,null,null,null,null,null,null,null,null,null,null,null,null,null,null,null,null,null,null,null,null,null,null,null,null,null,null,null,null,null,null,null,null,null,null,null,null,null,null,0,0,0,0,0,{"$error":"#DIV/0!"}]
[{"$error":"#VALUE!"},null,null,null,null,null,null,null,null,null,null,null,null,null,null,null,null,null,null,null,null,null,null,null,null,null,null,null,null,null,null,null,null,null,null,null,null,null,null,null,null,null,null,null,null,null,null,null,null,null,null,null,null,null,null,null,null,null,null,null,null,null,null,null,0,0,0,{"$f":"+BN430-BO430","v":0},{"$f":"COUNT(C430:BJ430)/3","v":0},{"$f":"+BM430/BQ430","v":{"$error":"#DIV/0!"}}]
[{"$error":"#VALUE!"},null,null,null,null,null,null,null,null,null,null,null,null,null,null,null,null,null,null,null,null,null,null,null,null,null,null,null,null,null,null,null,null,null,null,null,null,null,null,null,null,null,null,null,null,null,null,null,null,null,null,null,null,null,null,null,null,null,null,null,null,null,null,null,0,0,0,0,0,{"$error":"#DIV/0!"}]
[{"$error":"#VALUE!"},null,null,null,null,null,null,null,null,null,null,null,null,null,null,null,null,null,null,null,null,null,null,null,null,null,null,null,null,null,null,null,null,null,null,null,null,null,null,null,null,null,null,null,null,null,null,null,null,null,null,null,null,null,null,null,null,null,null,null,null,null,null,null,{"$f":"+BH432+AJ432+AG432+AD432+AA432+X432+U432+R432+O432+L432+I432+F432+C432+AM432+AP432+AS432+AV432+AY432+BB432+BE432","v":0},0,0,0,0,{"$error":"#DIV/0!"}]
[{"$error":"#VALUE!"},null,null,null,null,null,null,null,null,null,null,null,null,null,null,null,null,null,null,null,null,null,null,null,null,null,null,null,null,null,null,null,null,null,null,null,null,null,null,null,null,null,null,null,null,null,null,null,null,null,null,null,null,null,null,null,null,null,null,null,null,null,null,null,0,{"$f":"+BI433+AK433+AH433+AE433+AB433+Y433+V433+S433+P433+M433+J433+G433+D433+AN433+AQ433+AT433+AW433+AZ433+BC433+BF433","v":0},{"$f":"+BJ433+AL433+AI433+AF433+AC433+Z433+W433+T433+Q433+N433+K433+H433+E433+AO433+AR433+AU433+AX433+BA433+BD433+BG433","v":0},0,0,{"$error":"#DIV/0!"}]
[{"$error":"#VALUE!"},null,null,null,null,null,null,null,null,null,null,null,null,null,null,null,null,null,null,null,null,null,null,null,null,null,null,null,null,null,null,null,null,null,null,null,null,null,null,null,null,null,null,null,null,null,null,null,null,null,null,null,null,null,null,null,null,null,null,null,null,null,null,null,0,0,0,0,0,{"$error":"#DIV/0!"}]
[{"$error":"#VALUE!"},null,null,null,null,null,null,null,null,null,null,null,null,null,null,null,null,null,null,null,null,null,null,null,null,null,null,null,null,null,null,null,null,null,null,null,null,null,null,null,null,null,null,null,null,null,null,null,null,null,null,null,null,null,null,null,null,null,null,null,null,null,null,null,0,0,0,0,0,{"$error":"#DIV/0!"}]
[{"$error":"#VALUE!"},null,null,null,null,null,null,null,null,null,null,null,null,null,null,null,null,null,null,null,null,null,null,null,null,null,null,null,null,null,null,null,null,null,null,null,null,null,null,null,null,null,null,null,null,null,null,null,null,null,null,null,null,null,null,null,null,null,null,null,null,null,null,null,0,0,0,0,0,{"$error":"#DIV/0!"}]
[{"$error":"#VALUE!"},null,null,null,null,null,null,null,null,null,null,null,null,null,null,null,null,null,null,null,null,null,null,null,null,null,null,null,null,null,null,null,null,null,null,null,null,null,null,null,null,null,null,null,null,null,null,null,null,null,null,null,null,null,null,null,null,null,null,null,null,null,null,null,0,0,0,0,0,{"$error":"#DIV/0!"}]
[{"$error":"#VALUE!"},null,null,null,null,null,null,null,null,null,null,null,null,null,null,null,null,null,null,null,null,null,null,null,null,null,null,null,null,null,null,null,null,null,null,null,null,null,null,null,null,null,null,null,null,null,null,null,null,null,null,null,null,null,null,null,null,null,null,null,null,null,null,null,0,0,0,0,0,{"$error":"#DIV/0!"}]
[{"$error":"#VALUE!"},null,null,null,null,null,null,null,null,null,null,null,null,null,null,null,null,null,null,null,null,null,null,null,null,null,null,null,null,null,null,null,null,null,null,null,null,null,null,null,null,null,null,null,null,null,null,null,null,null,null,null,null,null,null,null,null,null,null,null,null,null,null,null,0,0,0,0,0,{"$error":"#DIV/0!"}]
[{"$error":"#VALUE!"},null,null,null,null,null,null,null,null,null,null,null,null,null,null,null,null,null,null,null,null,null,null,null,null,null,null,null,null,null,null,null,null,null,null,null,null,null,null,null,null,null,null,null,null,null,null,null,null,null,null,null,null,null,null,null,null,null,null,null,null,null,null,null,0,0,0,0,0,{"$error":"#DIV/0!"}]
[{"$error":"#VALUE!"},null,null,null,null,null,null,null,null,null,null,null,null,null,null,null,null,null,null,null,null,null,null,null,null,null,null,null,null,null,null,null,null,null,null,null,null,null,null,null,null,null,null,null,null,null,null,null,null,null,null,null,null,null,null,null,null,null,null,null,null,null,null,null,0,0,0,0,0,{"$error":"#DIV/0!"}]
[{"$error":"#VALUE!"},null,null,null,null,null,null,null,null,null,null,null,null,null,null,null,null,null,null,null,null,null,null,null,null,null,null,null,null,null,null,null,null,null,null,null,null,null,null,null,null,null,null,null,null,null,null,null,null,null,null,null,null,null,null,null,null,null,null,null,null,null,null,null,0,0,0,0,0,{"$error":"#DIV/0!"}]
[{"$f":"+A442+1","v":{"$error":"#VALUE!"}},null,null,null,null,null,null,null,null,null,null,null,null,null,null,null,null,null,null,null,null,null,null,null,null,null,null,null,null,null,null,null,null,null,null,null,null,null,null,null,null,null,null,null,null,null,null,null,null,null,null,null,null,null,null,null,null,null,null,null,null,null,null,null,0,0,0,0,0,{"$error":"#DIV/0!"}]
[{"$error":"#VALUE!"},null,null,null,null,null,null,null,null,null,null,null,null,null,null,null,null,null,null,null,null,null,null,null,null,null,null,null,null,null,null,null,null,null,null,null,null,null,null,null,null,null,null,null,null,null,null,null,null,null,null,null,null,null,null,null,null,null,null,null,null,null,null,null,0,0,0,0,0,{"$error":"#DIV/0!"}]
[{"$error":"#VALUE!"},null,null,null,null,null,null,null,null,null,null,null,null,null,null,null,null,null,null,null,null,null,null,null,null,null,null,null,null,null,null,null,null,null,null,null,null,null,null,null,null,null,null,null,null,null,null,null,null,null,null,null,null,null,null,null,null,null,null,null,null,null,null,null,0,0,0,0,0,{"$error":"#DIV/0!"}]
[{"$error":"#VALUE!"},null,null,null,null,null,null,null,null,null,null,null,null,null,null,null,null,null,null,null,null,null,null,null,null,null,null,null,null,null,null,null,null,null,null,null,null,null,null,null,null,null,null,null,null,null,null,null,null,null,null,null,null,null,null,null,null,null,null,null,null,null,null,null,0,0,0,0,0,{"$error":"#DIV/0!"}]
[{"$error":"#VALUE!"},null,null,null,null,null,null,null,null,null,null,null,null,null,null,null,null,null,null,null,null,null,null,null,null,null,null,null,null,null,null,null,null,null,null,null,null,null,null,null,null,null,null,null,null,null,null,null,null,null,null,null,null,null,null,null,null,null,null,null,null,null,null,null,0,0,0,0,0,{"$error":"#DIV/0!"}]
[{"$error":"#VALUE!"},null,null,null,null,null,null,null,null,null,null,null,null,null,null,null,null,null,null,null,null,null,null,null,null,null,null,null,null,null,null,null,null,null,null,null,null,null,null,null,null,null,null,null,null,null,null,null,null,null,null,null,null,null,null,null,null,null,null,null,null,null,null,null,0,0,0,0,0,{"$error":"#DIV/0!"}]
[{"$error":"#VALUE!"},null,null,null,null,null,null,null,null,null,null,null,null,null,null,null,null,null,null,null,null,null,null,null,null,null,null,null,null,null,null,null,null,null,null,null,null,null,null,null,null,null,null,null,null,null,null,null,null,null,null,null,null,null,null,null,null,null,null,null,null,null,null,null,0,0,0,0,0,{"$error":"#DIV/0!"}]
[{"$error":"#VALUE!"},null,null,null,null,null,null,null,null,null,null,null,null,null,null,null,null,null,null,null,null,null,null,null,null,null,null,null,null,null,null,null,null,null,null,null,null,null,null,null,null,null,null,null,null,null,null,null,null,null,null,null,null,null,null,null,null,null,null,null,null,null,null,null,0,0,0,0,0,{"$error":"#DIV/0!"}]
[{"$error":"#VALUE!"},null,null,null,null,null,null,null,null,null,null,null,null,null,null,null,null,null,null,null,null,null,null,null,null,null,null,null,null,null,null,null,null,null,null,null,null,null,null,null,null,null,null,null,null,null,null,null,null,null,null,null,null,null,null,null,null,null,null,null,null,null,null,null,0,0,0,0,0,{"$error":"#DIV/0!"}]
[{"$error":"#VALUE!"},null,null,null,null,null,null,null,null,null,null,null,null,null,null,null,null,null,null,null,null,null,null,null,null,null,null,null,null,null,null,null,null,null,null,null,null,null,null,null,null,null,null,null,null,null,null,null,null,null,null,null,null,null,null,null,null,null,null,null,null,null,null,null,0,0,0,0,0,{"$error":"#DIV/0!"}]
[{"$error":"#VALUE!"},null,null,null,null,null,null,null,null,null,null,null,null,null,null,null,null,null,null,null,null,null,null,null,null,null,null,null,null,null,null,null,null,null,null,null,null,null,null,null,null,null,null,null,null,null,null,null,null,null,null,null,null,null,null,null,null,null,null,null,null,null,null,null,0,0,0,0,0,{"$error":"#DIV/0!"}]
[{"$error":"#VALUE!"},null,null,null,null,null,null,null,null,null,null,null,null,null,null,null,null,null,null,null,null,null,null,null,null,null,null,null,null,null,null,null,null,null,null,null,null,null,null,null,null,null,null,null,null,null,null,null,null,null,null,null,null,null,null,null,null,null,null,null,null,null,null,null,0,0,0,0,0,{"$error":"#DIV/0!"}]
[{"$error":"#VALUE!"},null,null,null,null,null,null,null,null,null,null,null,null,null,null,null,null,null,null,null,null,null,null,null,null,null,null,null,null,null,null,null,null,null,null,null,null,null,null,null,null,null,null,null,null,null,null,null,null,null,null,null,null,null,null,null,null,null,null,null,null,null,null,null,0,0,0,0,0,{"$error":"#DIV/0!"}]
[{"$error":"#VALUE!"},null,null,null,null,null,null,null,null,null,null,null,null,null,null,null,null,null,null,null,null,null,null,null,null,null,null,null,null,null,null,null,null,null,null,null,null,null,null,null,null,null,null,null,null,null,null,null,null,null,null,null,null,null,null,null,null,null,null,null,null,null,null,null,0,0,0,0,0,{"$error":"#DIV/0!"}]
[{"$error":"#VALUE!"},null,null,null,null,null,null,null,null,null,null,null,null,null,null,null,null,null,null,null,null,null,null,null,null,null,null,null,null,null,null,null,null,null,null,null,null,null,null,null,null,null,null,null,null,null,null,null,null,null,null,null,null,null,null,null,null,null,null,null,null,null,null,null,0,0,0,0,0,{"$error":"#DIV/0!"}]
[{"$error":"#VALUE!"},null,null,null,null,null,null,null,null,null,null,null,null,null,null,null,null,null,null,null,null,null,null,null,null,null,null,null,null,null,null,null,null,null,null,null,null,null,null,null,null,null,null,null,null,null,null,null,null,null,null,null,null,null,null,null,null,null,null,null,null,null,null,null,0,0,0,0,0,{"$error":"#DIV/0!"}]
[{"$error":"#VALUE!"},null,null,null,null,null,null,null,null,null,null,null,null,null,null,null,null,null,null,null,null,null,null,null,null,null,null,null,null,null,null,null,null,null,null,null,null,null,null,null,null,null,null,null,null,null,null,null,null,null,null,null,null,null,null,null,null,null,null,null,null,null,null,null,0,0,0,0,0,{"$error":"#DIV/0!"}]
[{"$error":"#VALUE!"},null,null,null,null,null,null,null,null,null,null,null,null,null,null,null,null,null,null,null,null,null,null,null,null,null,null,null,null,null,null,null,null,null,null,null,null,null,null,null,null,null,null,null,null,null,null,null,null,null,null,null,null,null,null,null,null,null,null,null,null,null,null,null,0,0,0,0,0,{"$error":"#DIV/0!"}]
[{"$error":"#VALUE!"},null,null,null,null,null,null,null,null,null,null,null,null,null,null,null,null,null,null,null,null,null,null,null,null,null,null,null,null,null,null,null,null,null,null,null,null,null,null,null,null,null,null,null,null,null,null,null,null,null,null,null,null,null,null,null,null,null,null,null,null,null,null,null,0,0,0,0,0,{"$error":"#DIV/0!"}]
[{"$error":"#VALUE!"},null,null,null,null,null,null,null,null,null,null,null,null,null,null,null,null,null,null,null,null,null,null,null,null,null,null,null,null,null,null,null,null,null,null,null,null,null,null,null,null,null,null,null,null,null,null,null,null,null,null,null,null,null,null,null,null,null,null,null,null,null,null,null,0,0,0,0,0,{"$error":"#DIV/0!"}]
[{"$error":"#VALUE!"},null,null,null,null,null,null,null,null,null,null,null,null,null,null,null,null,null,null,null,null,null,null,null,null,null,null,null,null,null,null,null,null,null,null,null,null,null,null,null,null,null,null,null,null,null,null,null,null,null,null,null,null,null,null,null,null,null,null,null,null,null,null,null,0,0,0,0,0,{"$error":"#DIV/0!"}]
[{"$error":"#VALUE!"},null,null,null,null,null,null,null,null,null,null,null,null,null,null,null,null,null,null,null,null,null,null,null,null,null,null,null,null,null,null,null,null,null,null,null,null,null,null,null,null,null,null,null,null,null,null,null,null,null,null,null,null,null,null,null,null,null,null,null,null,null,null,null,0,0,0,0,0,{"$error":"#DIV/0!"}]
[{"$error":"#VALUE!"},null,null,null,null,null,null,null,null,null,null,null,null,null,null,null,null,null,null,null,null,null,null,null,null,null,null,null,null,null,null,null,null,null,null,null,null,null,null,null,null,null,null,null,null,null,null,null,null,null,null,null,null,null,null,null,null,null,null,null,null,null,null,null,0,0,0,0,0,{"$error":"#DIV/0!"}]
[{"$error":"#VALUE!"},null,null,null,null,null,null,null,null,null,null,null,null,null,null,null,null,null,null,null,null,null,null,null,null,null,null,null,null,null,null,null,null,null,null,null,null,null,null,null,null,null,null,null,null,null,null,null,null,null,null,null,null,null,null,null,null,null,null,null,null,null,null,null,0,0,0,0,0,{"$error":"#DIV/0!"}]
[{"$error":"#VALUE!"},null,null,null,null,null,null,null,null,null,null,null,null,null,null,null,null,null,null,null,null,null,null,null,null,null,null,null,null,null,null,null,null,null,null,null,null,null,null,null,null,null,null,null,null,null,null,null,null,null,null,null,null,null,null,null,null,null,null,null,null,null,null,null,0,0,0,0,0,{"$error":"#DIV/0!"}]
[{"$error":"#VALUE!"},null,null,null,null,null,null,null,null,null,null,null,null,null,null,null,null,null,null,null,null,null,null,null,null,null,null,null,null,null,null,null,null,null,null,null,null,null,null,null,null,null,null,null,null,null,null,null,null,null,null,null,null,null,null,null,null,null,null,null,null,null,null,null,0,0,0,0,0,{"$error":"#DIV/0!"}]
[{"$error":"#VALUE!"},null,null,null,null,null,null,null,null,null,null,null,null,null,null,null,null,null,null,null,null,null,null,null,null,null,null,null,null,null,null,null,null,null,null,null,null,null,null,null,null,null,null,null,null,null,null,null,null,null,null,null,null,null,null,null,null,null,null,null,null,null,null,null,0,0,0,0,0,{"$error":"#DIV/0!"}]
[{"$error":"#VALUE!"},null,null,null,null,null,null,null,null,null,null,null,null,null,null,null,null,null,null,null,null,null,null,null,null,null,null,null,null,null,null,null,null,null,null,null,null,null,null,null,null,null,null,null,null,null,null,null,null,null,null,null,null,null,null,null,null,null,null,null,null,null,null,null,0,0,0,0,0,{"$error":"#DIV/0!"}]
[{"$error":"#VALUE!"},null,null,null,null,null,null,null,null,null,null,null,null,null,null,null,null,null,null,null,null,null,null,null,null,null,null,null,null,null,null,null,null,null,null,null,null,null,null,null,null,null,null,null,null,null,null,null,null,null,null,null,null,null,null,null,null,null,null,null,null,null,null,null,0,0,0,0,0,{"$error":"#DIV/0!"}]
[{"$error":"#VALUE!"},null,null,null,null,null,null,null,null,null,null,null,null,null,null,null,null,null,null,null,null,null,null,null,null,null,null,null,null,null,null,null,null,null,null,null,null,null,null,null,null,null,null,null,null,null,null,null,null,null,null,null,null,null,null,null,null,null,null,null,null,null,null,null,0,0,0,0,0,{"$error":"#DIV/0!"}]
[{"$error":"#VALUE!"},null,null,null,null,null,null,null,null,null,null,null,null,null,null,null,null,null,null,null,null,null,null,null,null,null,null,null,null,null,null,null,null,null,null,null,null,null,null,null,null,null,null,null,null,null,null,null,null,null,null,null,null,null,null,null,null,null,null,null,null,null,null,null,0,0,0,0,0,{"$error":"#DIV/0!"}]
[{"$error":"#VALUE!"},null,null,null,null,null,null,null,null,null,null,null,null,null,null,null,null,null,null,null,null,null,null,null,null,null,null,null,null,null,null,null,null,null,null,null,null,null,null,null,null,null,null,null,null,null,null,null,null,null,null,null,null,null,null,null,null,null,null,null,null,null,null,null,0,0,0,0,0,{"$error":"#DIV/0!"}]
[{"$error":"#VALUE!"},null,null,null,null,null,null,null,null,null,null,null,null,null,null,null,null,null,null,null,null,null,null,null,null,null,null,null,null,null,null,null,null,null,null,null,null,null,null,null,null,null,null,null,null,null,null,null,null,null,null,null,null,null,null,null,null,null,null,null,null,null,null,null,0,0,0,0,0,{"$error":"#DIV/0!"}]
[{"$error":"#VALUE!"},null,null,null,null,null,null,null,null,null,null,null,null,null,null,null,null,null,null,null,null,null,null,null,null,null,null,null,null,null,null,null,null,null,null,null,null,null,null,null,null,null,null,null,null,null,null,null,null,null,null,null,null,null,null,null,null,null,null,null,null,null,null,null,0,0,0,0,0,{"$error":"#DIV/0!"}]
[{"$error":"#VALUE!"},null,null,null,null,null,null,null,null,null,null,null,null,null,null,null,null,null,null,null,null,null,null,null,null,null,null,null,null,null,null,null,null,null,null,null,null,null,null,null,null,null,null,null,null,null,null,null,null,null,null,null,null,null,null,null,null,null,null,null,null,null,null,null,0,0,0,0,0,{"$error":"#DIV/0!"}]
[{"$error":"#VALUE!"},null,null,null,null,null,null,null,null,null,null,null,null,null,null,null,null,null,null,null,null,null,null,null,null,null,null,null,null,null,null,null,null,null,null,null,null,null,null,null,null,null,null,null,null,null,null,null,null,null,null,null,null,null,null,null,null,null,null,null,null,null,null,null,0,0,0,0,0,{"$error":"#DIV/0!"}]
[{"$error":"#VALUE!"},null,null,null,null,null,null,null,null,null,null,null,null,null,null,null,null,null,null,null,null,null,null,null,null,null,null,null,null,null,null,null,null,null,null,null,null,null,null,null,null,null,null,null,null,null,null,null,null,null,null,null,null,null,null,null,null,null,null,null,null,null,null,null,0,0,0,0,0,{"$error":"#DIV/0!"}]
[{"$error":"#VALUE!"},null,null,null,null,null,null,null,null,null,null,null,null,null,null,null,null,null,null,null,null,null,null,null,null,null,null,null,null,null,null,null,null,null,null,null,null,null,null,null,null,null,null,null,null,null,null,null,null,null,null,null,null,null,null,null,null,null,null,null,null,null,null,null,0,0,0,0,0,{"$error":"#DIV/0!"}]
[{"$error":"#VALUE!"},null,null,null,null,null,null,null,null,null,null,null,null,null,null,null,null,null,null,null,null,null,null,null,null,null,null,null,null,null,null,null,null,null,null,null,null,null,null,null,null,null,null,null,null,null,null,null,null,null,null,null,null,null,null,null,null,null,null,null,null,null,null,null,0,0,0,0,0,{"$error":"#DIV/0!"}]
[{"$error":"#VALUE!"},null,null,null,null,null,null,null,null,null,null,null,null,null,null,null,null,null,null,null,null,null,null,null,null,null,null,null,null,null,null,null,null,null,null,null,null,null,null,null,null,null,null,null,null,null,null,null,null,null,null,null,null,null,null,null,null,null,null,null,null,null,null,null,0,0,0,0,0,{"$error":"#DIV/0!"}]
[{"$error":"#VALUE!"},null,null,null,null,null,null,null,null,null,null,null,null,null,null,null,null,null,null,null,null,null,null,null,null,null,null,null,null,null,null,null,null,null,null,null,null,null,null,null,null,null,null,null,null,null,null,null,null,null,null,null,null,null,null,null,null,null,null,null,null,null,null,null,0,0,0,0,0,{"$error":"#DIV/0!"}]
[{"$error":"#VALUE!"},null,null,null,null,null,null,null,null,null,null,null,null,null,null,null,null,null,null,null,null,null,null,null,null,null,null,null,null,null,null,null,null,null,null,null,null,null,null,null,null,null,null,null,null,null,null,null,null,null,null,null,null,null,null,null,null,null,null,null,null,null,null,null,0,0,0,0,0,{"$error":"#DIV/0!"}]
[{"$error":"#VALUE!"},null,null,null,null,null,null,null,null,null,null,null,null,null,null,null,null,null,null,null,null,null,null,null,null,null,null,null,null,null,null,null,null,null,null,null,null,null,null,null,null,null,null,null,null,null,null,null,null,null,null,null,null,null,null,null,null,null,null,null,null,null,null,null,0,0,0,0,0,{"$error":"#DIV/0!"}]
[{"$error":"#VALUE!"},null,null,null,null,null,null,null,null,null,null,null,null,null,null,null,null,null,null,null,null,null,null,null,null,null,null,null,null,null,null,null,null,null,null,null,null,null,null,null,null,null,null,null,null,null,null,null,null,null,null,null,null,null,null,null,null,null,null,null,null,null,null,null,0,0,0,0,0,{"$error":"#DIV/0!"}]
[{"$error":"#VALUE!"},null,null,null,null,null,null,null,null,null,null,null,null,null,null,null,null,null,null,null,null,null,null,null,null,null,null,null,null,null,null,null,null,null,null,null,null,null,null,null,null,null,null,null,null,null,null,null,null,null,null,null,null,null,null,null,null,null,null,null,null,null,null,null,0,0,0,0,0,{"$error":"#DIV/0!"}]
[{"$error":"#VALUE!"},null,null,null,null,null,null,null,null,null,null,null,null,null,null,null,null,null,null,null,null,null,null,null,null,null,null,null,null,null,null,null,null,null,null,null,null,null,null,null,null,null,null,null,null,null,null,null,null,null,null,null,null,null,null,null,null,null,null,null,null,null,null,null,0,0,0,0,0,{"$error":"#DIV/0!"}]
[{"$error":"#VALUE!"},null,null,null,null,null,null,null,null,null,null,null,null,null,null,null,null,null,null,null,null,null,null,null,null,null,null,null,null,null,null,null,null,null,null,null,null,null,null,null,null,null,null,null,null,null,null,null,null,null,null,null,null,null,null,null,null,null,null,null,null,null,null,null,0,0,0,0,0,{"$error":"#DIV/0!"}]
[{"$error":"#VALUE!"},null,null,null,null,null,null,null,null,null,null,null,null,null,null,null,null,null,null,null,null,null,null,null,null,null,null,null,null,null,null,null,null,null,null,null,null,null,null,null,null,null,null,null,null,null,null,null,null,null,null,null,null,null,null,null,null,null,null,null,null,null,null,null,0,0,0,0,0,{"$error":"#DIV/0!"}]
[{"$error":"#VALUE!"},null,null,null,null,null,null,null,null,null,null,null,null,null,null,null,null,null,null,null,null,null,null,null,null,null,null,null,null,null,null,null,null,null,null,null,null,null,null,null,null,null,null,null,null,null,null,null,null,null,null,null,null,null,null,null,null,null,null,null,null,null,null,null,0,0,0,0,0,{"$error":"#DIV/0!"}]
[{"$error":"#VALUE!"},null,null,null,null,null,null,null,null,null,null,null,null,null,null,null,null,null,null,null,null,null,null,null,null,null,null,null,null,null,null,null,null,null,null,null,null,null,null,null,null,null,null,null,null,null,null,null,null,null,null,null,null,null,null,null,null,null,null,null,null,null,null,null,0,0,0,{"$f":"+BN492-BO492","v":0},{"$f":"COUNT(C492:BJ492)/3","v":0},{"$f":"+BM492/BQ492","v":{"$error":"#DIV/0!"}}]
[{"$error":"#VALUE!"},null,null,null,null,null,null,null,null,null,null,null,null,null,null,null,null,null,null,null,null,null,null,null,null,null,null,null,null,null,null,null,null,null,null,null,null,null,null,null,null,null,null,null,null,null,null,null,null,null,null,null,null,null,null,null,null,null,null,null,null,null,null,null,0,0,0,0,0,{"$error":"#DIV/0!"}]
[{"$error":"#VALUE!"},null,null,null,null,null,null,null,null,null,null,null,null,null,null,null,null,null,null,null,null,null,null,null,null,null,null,null,null,null,null,null,null,null,null,null,null,null,null,null,null,null,null,null,null,null,null,null,null,null,null,null,null,null,null,null,null,null,null,null,null,null,null,null,0,0,0,0,0,{"$error":"#DIV/0!"}]
[{"$error":"#VALUE!"},null,null,null,null,null,null,null,null,null,null,null,null,null,null,null,null,null,null,null,null,null,null,null,null,null,null,null,null,null,null,null,null,null,null,null,null,null,null,null,null,null,null,null,null,null,null,null,null,null,null,null,null,null,null,null,null,null,null,null,null,null,null,null,0,0,0,0,0,{"$error":"#DIV/0!"}]
[{"$error":"#VALUE!"},null,null,null,null,null,null,null,null,null,null,null,null,null,null,null,null,null,null,null,null,null,null,null,null,null,null,null,null,null,null,null,null,null,null,null,null,null,null,null,null,null,null,null,null,null,null,null,null,null,null,null,null,null,null,null,null,null,null,null,null,null,null,null,{"$f":"+BH496+AJ496+AG496+AD496+AA496+X496+U496+R496+O496+L496+I496+F496+C496+AM496+AP496+AS496+AV496+AY496+BB496+BE496","v":0},0,0,0,0,{"$error":"#DIV/0!"}]
[{"$error":"#VALUE!"},null,null,null,null,null,null,null,null,null,null,null,null,null,null,null,null,null,null,null,null,null,null,null,null,null,null,null,null,null,null,null,null,null,null,null,null,null,null,null,null,null,null,null,null,null,null,null,null,null,null,null,null,null,null,null,null,null,null,null,null,null,null,null,0,{"$f":"+BI497+AK497+AH497+AE497+AB497+Y497+V497+S497+P497+M497+J497+G497+D497+AN497+AQ497+AT497+AW497+AZ497+BC497+BF497","v":0},{"$f":"+BJ497+AL497+AI497+AF497+AC497+Z497+W497+T497+Q497+N497+K497+H497+E497+AO497+AR497+AU497+AX497+BA497+BD497+BG497","v":0},0,0,{"$error":"#DIV/0!"}]
[{"$error":"#VALUE!"},null,null,null,null,null,null,null,null,null,null,null,null,null,null,null,null,null,null,null,null,null,null,null,null,null,null,null,null,null,null,null,null,null,null,null,null,null,null,null,null,null,null,null,null,null,null,null,null,null,null,null,null,null,null,null,null,null,null,null,null,null,null,null,0,0,0,0,0,{"$error":"#DIV/0!"}]
[{"$error":"#VALUE!"},null,null,null,null,null,null,null,null,null,null,null,null,null,null,null,null,null,null,null,null,null,null,null,null,null,null,null,null,null,null,null,null,null,null,null,null,null,null,null,null,null,null,null,null,null,null,null,null,null,null,null,null,null,null,null,null,null,null,null,null,null,null,null,0,0,0,0,0,{"$error":"#DIV/0!"}]
[{"$error":"#VALUE!"},null,null,null,null,null,null,null,null,null,null,null,null,null,null,null,null,null,null,null,null,null,null,null,null,null,null,null,null,null,null,null,null,null,null,null,null,null,null,null,null,null,null,null,null,null,null,null,null,null,null,null,null,null,null,null,null,null,null,null,null,null,null,null,0,0,0,0,0,{"$error":"#DIV/0!"}]
[{"$error":"#VALUE!"},null,null,null,null,null,null,null,null,null,null,null,null,null,null,null,null,null,null,null,null,null,null,null,null,null,null,null,null,null,null,null,null,null,null,null,null,null,null,null,null,null,null,null,null,null,null,null,null,null,null,null,null,null,null,null,null,null,null,null,null,null,null,null,0,0,0,0,0,{"$error":"#DIV/0!"}]
[{"$error":"#VALUE!"},null,null,null,null,null,null,null,null,null,null,null,null,null,null,null,null,null,null,null,null,null,null,null,null,null,null,null,null,null,null,null,null,null,null,null,null,null,null,null,null,null,null,null,null,null,null,null,null,null,null,null,null,null,null,null,null,null,null,null,null,null,null,null,0,0,0,0,0,{"$error":"#DIV/0!"}]
[{"$error":"#VALUE!"},null,null,null,null,null,null,null,null,null,null,null,null,null,null,null,null,null,null,null,null,null,null,null,null,null,null,null,null,null,null,null,null,null,null,null,null,null,null,null,null,null,null,null,null,null,null,null,null,null,null,null,null,null,null,null,null,null,null,null,null,null,null,null,0,0,0,0,0,{"$error":"#DIV/0!"}]
[{"$error":"#VALUE!"},null,null,null,null,null,null,null,null,null,null,null,null,null,null,null,null,null,null,null,null,null,null,null,null,null,null,null,null,null,null,null,null,null,null,null,null,null,null,null,null,null,null,null,null,null,null,null,null,null,null,null,null,null,null,null,null,null,null,null,null,null,null,null,0,0,0,{"$f":"+BN504-BO504","v":0},{"$f":"COUNT(C504:BJ504)/3","v":0},{"$f":"+BM504/BQ504","v":{"$error":"#DIV/0!"}}]
[{"$error":"#VALUE!"},null,null,null,null,null,null,null,null,null,null,null,null,null,null,null,null,null,null,null,null,null,null,null,null,null,null,null,null,null,null,null,null,null,null,null,null,null,null,null,null,null,null,null,null,null,null,null,null,null,null,null,null,null,null,null,null,null,null,null,null,null,null,null,0,0,0,0,0,{"$error":"#DIV/0!"}]
[{"$error":"#VALUE!"},null,null,null,null,null,null,null,null,null,null,null,null,null,null,null,null,null,null,null,null,null,null,null,null,null,null,null,null,null,null,null,null,null,null,null,null,null,null,null,null,null,null,null,null,null,null,null,null,null,null,null,null,null,null,null,null,null,null,null,null,null,null,null,0,0,0,0,0,{"$error":"#DIV/0!"}]
[{"$f":"+A506+1","v":{"$error":"#VALUE!"}},null,null,null,null,null,null,null,null,null,null,null,null,null,null,null,null,null,null,null,null,null,null,null,null,null,null,null,null,null,null,null,null,null,null,null,null,null,null,null,null,null,null,null,null,null,null,null,null,null,null,null,null,null,null,null,null,null,null,null,null,null,null,null,0,0,0,0,0,{"$error":"#DIV/0!"}]
[{"$error":"#VALUE!"},null,null,null,null,null,null,null,null,null,null,null,null,null,null,null,null,null,null,null,null,null,null,null,null,null,null,null,null,null,null,null,null,null,null,null,null,null,null,null,null,null,null,null,null,null,null,null,null,null,null,null,null,null,null,null,null,null,null,null,null,null,null,null,0,0,0,0,0,{"$error":"#DIV/0!"}]
[{"$error":"#VALUE!"},null,null,null,null,null,null,null,null,null,null,null,null,null,null,null,null,null,null,null,null,null,null,null,null,null,null,null,null,null,null,null,null,null,null,null,null,null,null,null,null,null,null,null,null,null,null,null,null,null,null,null,null,null,null,null,null,null,null,null,null,null,null,null,0,0,0,0,0,{"$error":"#DIV/0!"}]
[{"$error":"#VALUE!"},null,null,null,null,null,null,null,null,null,null,null,null,null,null,null,null,null,null,null,null,null,null,null,null,null,null,null,null,null,null,null,null,null,null,null,null,null,null,null,null,null,null,null,null,null,null,null,null,null,null,null,null,null,null,null,null,null,null,null,null,null,null,null,0,0,0,0,0,{"$error":"#DIV/0!"}]
[{"$error":"#VALUE!"},null,null,null,null,null,null,null,null,null,null,null,null,null,null,null,null,null,null,null,null,null,null,null,null,null,null,null,null,null,null,null,null,null,null,null,null,null,null,null,null,null,null,null,null,null,null,null,null,null,null,null,null,null,null,null,null,null,null,null,null,null,null,null,0,0,0,0,0,{"$error":"#DIV/0!"}]
[{"$error":"#VALUE!"},null,null,null,null,null,null,null,null,null,null,null,null,null,null,null,null,null,null,null,null,null,null,null,null,null,null,null,null,null,null,null,null,null,null,null,null,null,null,null,null,null,null,null,null,null,null,null,null,null,null,null,null,null,null,null,null,null,null,null,null,null,null,null,0,0,0,0,0,{"$error":"#DIV/0!"}]
[{"$error":"#VALUE!"},null,null,null,null,null,null,null,null,null,null,null,null,null,null,null,null,null,null,null,null,null,null,null,null,null,null,null,null,null,null,null,null,null,null,null,null,null,null,null,null,null,null,null,null,null,null,null,null,null,null,null,null,null,null,null,null,null,null,null,null,null,null,null,0,0,0,0,0,{"$error":"#DIV/0!"}]
[{"$error":"#VALUE!"},null,null,null,null,null,null,null,null,null,null,null,null,null,null,null,null,null,null,null,null,null,null,null,null,null,null,null,null,null,null,null,null,null,null,null,null,null,null,null,null,null,null,null,null,null,null,null,null,null,null,null,null,null,null,null,null,null,null,null,null,null,null,null,0,0,0,0,0,{"$error":"#DIV/0!"}]
[{"$error":"#VALUE!"},null,null,null,null,null,null,null,null,null,null,null,null,null,null,null,null,null,null,null,null,null,null,null,null,null,null,null,null,null,null,null,null,null,null,null,null,null,null,null,null,null,null,null,null,null,null,null,null,null,null,null,null,null,null,null,null,null,null,null,null,null,null,null,0,0,0,0,0,{"$error":"#DIV/0!"}]
[{"$error":"#VALUE!"},null,null,null,null,null,null,null,null,null,null,null,null,null,null,null,null,null,null,null,null,null,null,null,null,null,null,null,null,null,null,null,null,null,null,null,null,null,null,null,null,null,null,null,null,null,null,null,null,null,null,null,null,null,null,null,null,null,null,null,null,null,null,null,0,0,0,0,0,{"$error":"#DIV/0!"}]
[{"$error":"#VALUE!"},null,null,null,null,null,null,null,null,null,null,null,null,null,null,null,null,null,null,null,null,null,null,null,null,null,null,null,null,null,null,null,null,null,null,null,null,null,null,null,null,null,null,null,null,null,null,null,null,null,null,null,null,null,null,null,null,null,null,null,null,null,null,null,0,0,0,0,0,{"$error":"#DIV/0!"}]
[{"$error":"#VALUE!"},null,null,null,null,null,null,null,null,null,null,null,null,null,null,null,null,null,null,null,null,null,null,null,null,null,null,null,null,null,null,null,null,null,null,null,null,null,null,null,null,null,null,null,null,null,null,null,null,null,null,null,null,null,null,null,null,null,null,null,null,null,null,null,0,0,0,0,0,{"$error":"#DIV/0!"}]
[{"$error":"#VALUE!"},null,null,null,null,null,null,null,null,null,null,null,null,null,null,null,null,null,null,null,null,null,null,null,null,null,null,null,null,null,null,null,null,null,null,null,null,null,null,null,null,null,null,null,null,null,null,null,null,null,null,null,null,null,null,null,null,null,null,null,null,null,null,null,0,0,0,0,0,{"$error":"#DIV/0!"}]
[{"$error":"#VALUE!"},null,null,null,null,null,null,null,null,null,null,null,null,null,null,null,null,null,null,null,null,null,null,null,null,null,null,null,null,null,null,null,null,null,null,null,null,null,null,null,null,null,null,null,null,null,null,null,null,null,null,null,null,null,null,null,null,null,null,null,null,null,null,null,0,0,0,0,0,{"$error":"#DIV/0!"}]
[{"$error":"#VALUE!"},null,null,null,null,null,null,null,null,null,null,null,null,null,null,null,null,null,null,null,null,null,null,null,null,null,null,null,null,null,null,null,null,null,null,null,null,null,null,null,null,null,null,null,null,null,null,null,null,null,null,null,null,null,null,null,null,null,null,null,null,null,null,null,0,0,0,0,0,{"$error":"#DIV/0!"}]
[{"$error":"#VALUE!"},null,null,null,null,null,null,null,null,null,null,null,null,null,null,null,null,null,null,null,null,null,null,null,null,null,null,null,null,null,null,null,null,null,null,null,null,null,null,null,null,null,null,null,null,null,null,null,null,null,null,null,null,null,null,null,null,null,null,null,null,null,null,null,0,0,0,0,0,{"$error":"#DIV/0!"}]
[{"$error":"#VALUE!"},null,null,null,null,null,null,null,null,null,null,null,null,null,null,null,null,null,null,null,null,null,null,null,null,null,null,null,null,null,null,null,null,null,null,null,null,null,null,null,null,null,null,null,null,null,null,null,null,null,null,null,null,null,null,null,null,null,null,null,null,null,null,null,0,0,0,0,0,{"$error":"#DIV/0!"}]
[{"$error":"#VALUE!"},null,null,null,null,null,null,null,null,null,null,null,null,null,null,null,null,null,null,null,null,null,null,null,null,null,null,null,null,null,null,null,null,null,null,null,null,null,null,null,null,null,null,null,null,null,null,null,null,null,null,null,null,null,null,null,null,null,null,null,null,null,null,null,0,0,0,0,0,{"$error":"#DIV/0!"}]
[{"$error":"#VALUE!"},null,null,null,null,null,null,null,null,null,null,null,null,null,null,null,null,null,null,null,null,null,null,null,null,null,null,null,null,null,null,null,null,null,null,null,null,null,null,null,null,null,null,null,null,null,null,null,null,null,null,null,null,null,null,null,null,null,null,null,null,null,null,null,0,0,0,0,0,{"$error":"#DIV/0!"}]
[{"$error":"#VALUE!"},null,null,null,null,null,null,null,null,null,null,null,null,null,null,null,null,null,null,null,null,null,null,null,null,null,null,null,null,null,null,null,null,null,null,null,null,null,null,null,null,null,null,null,null,null,null,null,null,null,null,null,null,null,null,null,null,null,null,null,null,null,null,null,0,0,0,0,0,{"$error":"#DIV/0!"}]
[{"$error":"#VALUE!"},null,null,null,null,null,null,null,null,null,null,null,null,null,null,null,null,null,null,null,null,null,null,null,null,null,null,null,null,null,null,null,null,null,null,null,null,null,null,null,null,null,null,null,null,null,null,null,null,null,null,null,null,null,null,null,null,null,null,null,null,null,null,null,0,0,0,0,0,{"$error":"#DIV/0!"}]
[{"$error":"#VALUE!"},null,null,null,null,null,null,null,null,null,null,null,null,null,null,null,null,null,null,null,null,null,null,null,null,null,null,null,null,null,null,null,null,null,null,null,null,null,null,null,null,null,null,null,null,null,null,null,null,null,null,null,null,null,null,null,null,null,null,null,null,null,null,null,0,0,0,0,0,{"$error":"#DIV/0!"}]
[{"$error":"#VALUE!"},null,null,null,null,null,null,null,null,null,null,null,null,null,null,null,null,null,null,null,null,null,null,null,null,null,null,null,null,null,null,null,null,null,null,null,null,null,null,null,null,null,null,null,null,null,null,null,null,null,null,null,null,null,null,null,null,null,null,null,null,null,null,null,0,0,0,0,0,{"$error":"#DIV/0!"}]
[{"$error":"#VALUE!"},null,null,null,null,null,null,null,null,null,null,null,null,null,null,null,null,null,null,null,null,null,null,null,null,null,null,null,null,null,null,null,null,null,null,null,null,null,null,null,null,null,null,null,null,null,null,null,null,null,null,null,null,null,null,null,null,null,null,null,null,null,null,null,0,0,0,0,0,{"$error":"#DIV/0!"}]
[{"$error":"#VALUE!"},null,null,null,null,null,null,null,null,null,null,null,null,null,null,null,null,null,null,null,null,null,null,null,null,null,null,null,null,null,null,null,null,null,null,null,null,null,null,null,null,null,null,null,null,null,null,null,null,null,null,null,null,null,null,null,null,null,null,null,null,null,null,null,0,0,0,0,0,{"$error":"#DIV/0!"}]
[{"$error":"#VALUE!"},null,null,null,null,null,null,null,null,null,null,null,null,null,null,null,null,null,null,null,null,null,null,null,null,null,null,null,null,null,null,null,null,null,null,null,null,null,null,null,null,null,null,null,null,null,null,null,null,null,null,null,null,null,null,null,null,null,null,null,null,null,null,null,0,0,0,0,0,{"$error":"#DIV/0!"}]
[{"$error":"#VALUE!"},null,null,null,null,null,null,null,null,null,null,null,null,null,null,null,null,null,null,null,null,null,null,null,null,null,null,null,null,null,null,null,null,null,null,null,null,null,null,null,null,null,null,null,null,null,null,null,null,null,null,null,null,null,null,null,null,null,null,null,null,null,null,null,0,0,0,0,0,{"$error":"#DIV/0!"}]
[{"$error":"#VALUE!"},null,null,null,null,null,null,null,null,null,null,null,null,null,null,null,null,null,null,null,null,null,null,null,null,null,null,null,null,null,null,null,null,null,null,null,null,null,null,null,null,null,null,null,null,null,null,null,null,null,null,null,null,null,null,null,null,null,null,null,null,null,null,null,0,0,0,0,0,{"$error":"#DIV/0!"}]
[{"$error":"#VALUE!"},null,null,null,null,null,null,null,null,null,null,null,null,null,null,null,null,null,null,null,null,null,null,null,null,null,null,null,null,null,null,null,null,null,null,null,null,null,null,null,null,null,null,null,null,null,null,null,null,null,null,null,null,null,null,null,null,null,null,null,null,null,null,null,0,0,0,0,0,{"$error":"#DIV/0!"}]
[{"$error":"#VALUE!"},null,null,null,null,null,null,null,null,null,null,null,null,null,null,null,null,null,null,null,null,null,null,null,null,null,null,null,null,null,null,null,null,null,null,null,null,null,null,null,null,null,null,null,null,null,null,null,null,null,null,null,null,null,null,null,null,null,null,null,null,null,null,null,0,0,0,0,0,{"$error":"#DIV/0!"}]
[{"$error":"#VALUE!"},null,null,null,null,null,null,null,null,null,null,null,null,null,null,null,null,null,null,null,null,null,null,null,null,null,null,null,null,null,null,null,null,null,null,null,null,null,null,null,null,null,null,null,null,null,null,null,null,null,null,null,null,null,null,null,null,null,null,null,null,null,null,null,0,0,0,0,0,{"$error":"#DIV/0!"}]
[{"$error":"#VALUE!"},null,null,null,null,null,null,null,null,null,null,null,null,null,null,null,null,null,null,null,null,null,null,null,null,null,null,null,null,null,null,null,null,null,null,null,null,null,null,null,null,null,null,null,null,null,null,null,null,null,null,null,null,null,null,null,null,null,null,null,null,null,null,null,0,0,0,0,0,{"$error":"#DIV/0!"}]
[{"$error":"#VALUE!"},null,null,null,null,null,null,null,null,null,null,null,null,null,null,null,null,null,null,null,null,null,null,null,null,null,null,null,null,null,null,null,null,null,null,null,null,null,null,null,null,null,null,null,null,null,null,null,null,null,null,null,null,null,null,null,null,null,null,null,null,null,null,null,0,0,0,0,0,{"$error":"#DIV/0!"}]
[{"$error":"#VALUE!"},null,null,null,null,null,null,null,null,null,null,null,null,null,null,null,null,null,null,null,null,null,null,null,null,null,null,null,null,null,null,null,null,null,null,null,null,null,null,null,null,null,null,null,null,null,null,null,null,null,null,null,null,null,null,null,null,null,null,null,null,null,null,null,0,0,0,0,0,{"$error":"#DIV/0!"}]
[{"$error":"#VALUE!"},null,null,null,null,null,null,null,null,null,null,null,null,null,null,null,null,null,null,null,null,null,null,null,null,null,null,null,null,null,null,null,null,null,null,null,null,null,null,null,null,null,null,null,null,null,null,null,null,null,null,null,null,null,null,null,null,null,null,null,null,null,null,null,0,0,0,0,0,{"$error":"#DIV/0!"}]
[{"$error":"#VALUE!"},null,null,null,null,null,null,null,null,null,null,null,null,null,null,null,null,null,null,null,null,null,null,null,null,null,null,null,null,null,null,null,null,null,null,null,null,null,null,null,null,null,null,null,null,null,null,null,null,null,null,null,null,null,null,null,null,null,null,null,null,null,null,null,0,0,0,0,0,{"$error":"#DIV/0!"}]
[{"$error":"#VALUE!"},null,null,null,null,null,null,null,null,null,null,null,null,null,null,null,null,null,null,null,null,null,null,null,null,null,null,null,null,null,null,null,null,null,null,null,null,null,null,null,null,null,null,null,null,null,null,null,null,null,null,null,null,null,null,null,null,null,null,null,null,null,null,null,0,0,0,0,0,{"$error":"#DIV/0!"}]
[{"$error":"#VALUE!"},null,null,null,null,null,null,null,null,null,null,null,null,null,null,null,null,null,null,null,null,null,null,null,null,null,null,null,null,null,null,null,null,null,null,null,null,null,null,null,null,null,null,null,null,null,null,null,null,null,null,null,null,null,null,null,null,null,null,null,null,null,null,null,0,0,0,0,0,{"$error":"#DIV/0!"}]
[{"$error":"#VALUE!"},null,null,null,null,null,null,null,null,null,null,null,null,null,null,null,null,null,null,null,null,null,null,null,null,null,null,null,null,null,null,null,null,null,null,null,null,null,null,null,null,null,null,null,null,null,null,null,null,null,null,null,null,null,null,null,null,null,null,null,null,null,null,null,0,0,0,0,0,{"$error":"#DIV/0!"}]
[{"$error":"#VALUE!"},null,null,null,null,null,null,null,null,null,null,null,null,null,null,null,null,null,null,null,null,null,null,null,null,null,null,null,null,null,null,null,null,null,null,null,null,null,null,null,null,null,null,null,null,null,null,null,null,null,null,null,null,null,null,null,null,null,null,null,null,null,null,null,0,0,0,0,0,{"$error":"#DIV/0!"}]
[{"$error":"#VALUE!"},null,null,null,null,null,null,null,null,null,null,null,null,null,null,null,null,null,null,null,null,null,null,null,null,null,null,null,null,null,null,null,null,null,null,null,null,null,null,null,null,null,null,null,null,null,null,null,null,null,null,null,null,null,null,null,null,null,null,null,null,null,null,null,0,0,0,0,0,{"$error":"#DIV/0!"}]
[{"$error":"#VALUE!"},null,null,null,null,null,null,null,null,null,null,null,null,null,null,null,null,null,null,null,null,null,null,null,null,null,null,null,null,null,null,null,null,null,null,null,null,null,null,null,null,null,null,null,null,null,null,null,null,null,null,null,null,null,null,null,null,null,null,null,null,null,null,null,0,0,0,0,0,{"$error":"#DIV/0!"}]
[{"$error":"#VALUE!"},null,null,null,null,null,null,null,null,null,null,null,null,null,null,null,null,null,null,null,null,null,null,null,null,null,null,null,null,null,null,null,null,null,null,null,null,null,null,null,null,null,null,null,null,null,null,null,null,null,null,null,null,null,null,null,null,null,null,null,null,null,null,null,0,0,0,0,0,{"$error":"#DIV/0!"}]
[{"$error":"#VALUE!"},null,null,null,null,null,null,null,null,null,null,null,null,null,null,null,null,null,null,null,null,null,null,null,null,null,null,null,null,null,null,null,null,null,null,null,null,null,null,null,null,null,null,null,null,null,null,null,null,null,null,null,null,null,null,null,null,null,null,null,null,null,null,null,0,0,0,0,0,{"$error":"#DIV/0!"}]
[{"$error":"#VALUE!"},null,null,null,null,null,null,null,null,null,null,null,null,null,null,null,null,null,null,null,null,null,null,null,null,null,null,null,null,null,null,null,null,null,null,null,null,null,null,null,null,null,null,null,null,null,null,null,null,null,null,null,null,null,null,null,null,null,null,null,null,null,null,null,0,0,0,0,0,{"$error":"#DIV/0!"}]
[{"$error":"#VALUE!"},null,null,null,null,null,null,null,null,null,null,null,null,null,null,null,null,null,null,null,null,null,null,null,null,null,null,null,null,null,null,null,null,null,null,null,null,null,null,null,null,null,null,null,null,null,null,null,null,null,null,null,null,null,null,null,null,null,null,null,null,null,null,null,0,0,0,0,0,{"$error":"#DIV/0!"}]
[{"$error":"#VALUE!"},null,null,null,null,null,null,null,null,null,null,null,null,null,null,null,null,null,null,null,null,null,null,null,null,null,null,null,null,null,null,null,null,null,null,null,null,null,null,null,null,null,null,null,null,null,null,null,null,null,null,null,null,null,null,null,null,null,null,null,null,null,null,null,0,0,0,0,0,{"$error":"#DIV/0!"}]
[{"$error":"#VALUE!"},null,null,null,null,null,null,null,null,null,null,null,null,null,null,null,null,null,null,null,null,null,null,null,null,null,null,null,null,null,null,null,null,null,null,null,null,null,null,null,null,null,null,null,null,null,null,null,null,null,null,null,null,null,null,null,null,null,null,null,null,null,null,null,0,0,0,0,0,{"$error":"#DIV/0!"}]
[{"$error":"#VALUE!"},null,null,null,null,null,null,null,null,null,null,null,null,null,null,null,null,null,null,null,null,null,null,null,null,null,null,null,null,null,null,null,null,null,null,null,null,null,null,null,null,null,null,null,null,null,null,null,null,null,null,null,null,null,null,null,null,null,null,null,null,null,null,null,0,0,0,0,0,{"$error":"#DIV/0!"}]
[{"$error":"#VALUE!"},null,null,null,null,null,null,null,null,null,null,null,null,null,null,null,null,null,null,null,null,null,null,null,null,null,null,null,null,null,null,null,null,null,null,null,null,null,null,null,null,null,null,null,null,null,null,null,null,null,null,null,null,null,null,null,null,null,null,null,null,null,null,null,0,0,0,0,0,{"$error":"#DIV/0!"}]
[{"$error":"#VALUE!"},null,null,null,null,null,null,null,null,null,null,null,null,null,null,null,null,null,null,null,null,null,null,null,null,null,null,null,null,null,null,null,null,null,null,null,null,null,null,null,null,null,null,null,null,null,null,null,null,null,null,null,null,null,null,null,null,null,null,null,null,null,null,null,0,0,0,0,0,{"$error":"#DIV/0!"}]
[{"$error":"#VALUE!"},null,null,null,null,null,null,null,null,null,null,null,null,null,null,null,null,null,null,null,null,null,null,null,null,null,null,null,null,null,null,null,null,null,null,null,null,null,null,null,null,null,null,null,null,null,null,null,null,null,null,null,null,null,null,null,null,null,null,null,null,null,null,null,0,0,0,0,0,{"$error":"#DIV/0!"}]
[{"$error":"#VALUE!"},null,null,null,null,null,null,null,null,null,null,null,null,null,null,null,null,null,null,null,null,null,null,null,null,null,null,null,null,null,null,null,null,null,null,null,null,null,null,null,null,null,null,null,null,null,null,null,null,null,null,null,null,null,null,null,null,null,null,null,null,null,null,null,0,0,0,0,0,{"$error":"#DIV/0!"}]
[{"$error":"#VALUE!"},null,null,null,null,null,null,null,null,null,null,null,null,null,null,null,null,null,null,null,null,null,null,null,null,null,null,null,null,null,null,null,null,null,null,null,null,null,null,null,null,null,null,null,null,null,null,null,null,null,null,null,null,null,null,null,null,null,null,null,null,null,null,null,{"$f":"+BH560+AJ560+AG560+AD560+AA560+X560+U560+R560+O560+L560+I560+F560+C560+AM560+AP560+AS560+AV560+AY560+BB560+BE560","v":0},0,0,0,0,{"$error":"#DIV/0!"}]
[{"$error":"#VALUE!"},null,null,null,null,null,null,null,null,null,null,null,null,null,null,null,null,null,null,null,null,null,null,null,null,null,null,null,null,null,null,null,null,null,null,null,null,null,null,null,null,null,null,null,null,null,null,null,null,null,null,null,null,null,null,null,null,null,null,null,null,null,null,null,0,{"$f":"+BI561+AK561+AH561+AE561+AB561+Y561+V561+S561+P561+M561+J561+G561+D561+AN561+AQ561+AT561+AW561+AZ561+BC561+BF561","v":0},{"$f":"+BJ561+AL561+AI561+AF561+AC561+Z561+W561+T561+Q561+N561+K561+H561+E561+AO561+AR561+AU561+AX561+BA561+BD561+BG561","v":0},0,0,{"$error":"#DIV/0!"}]
[{"$error":"#VALUE!"},null,null,null,null,null,null,null,null,null,null,null,null,null,null,null,null,null,null,null,null,null,null,null,null,null,null,null,null,null,null,null,null,null,null,null,null,null,null,null,null,null,null,null,null,null,null,null,null,null,null,null,null,null,null,null,null,null,null,null,null,null,null,null,0,0,0,0,0,{"$error":"#DIV/0!"}]
[{"$error":"#VALUE!"},null,null,null,null,null,null,null,null,null,null,null,null,null,null,null,null,null,null,null,null,null,null,null,null,null,null,null,null,null,null,null,null,null,null,null,null,null,null,null,null,null,null,null,null,null,null,null,null,null,null,null,null,null,null,null,null,null,null,null,null,null,null,null,0,0,0,0,0,{"$error":"#DIV/0!"}]
[{"$error":"#VALUE!"},null,null,null,null,null,null,null,null,null,null,null,null,null,null,null,null,null,null,null,null,null,null,null,null,null,null,null,null,null,null,null,null,null,null,null,null,null,null,null,null,null,null,null,null,null,null,null,null,null,null,null,null,null,null,null,null,null,null,null,null,null,null,null,0,0,0,0,0,{"$error":"#DIV/0!"}]
[{"$error":"#VALUE!"},null,null,null,null,null,null,null,null,null,null,null,null,null,null,null,null,null,null,null,null,null,null,null,null,null,null,null,null,null,null,null,null,null,null,null,null,null,null,null,null,null,null,null,null,null,null,null,null,null,null,null,null,null,null,null,null,null,null,null,null,null,null,null,0,0,0,0,0,{"$error":"#DIV/0!"}]
[{"$error":"#VALUE!"},null,null,null,null,null,null,null,null,null,null,null,null,null,null,null,null,null,null,null,null,null,null,null,null,null,null,null,null,null,null,null,null,null,null,null,null,null,null,null,null,null,null,null,null,null,null,null,null,null,null,null,null,null,null,null,null,null,null,null,null,null,null,null,0,0,0,0,0,{"$error":"#DIV/0!"}]
[{"$error":"#VALUE!"},null,null,null,null,null,null,null,null,null,null,null,null,null,null,null,null,null,null,null,null,null,null,null,null,null,null,null,null,null,null,null,null,null,null,null,null,null,null,null,null,null,null,null,null,null,null,null,null,null,null,null,null,null,null,null,null,null,null,null,null,null,null,null,0,0,0,0,0,{"$error":"#DIV/0!"}]
[{"$error":"#VALUE!"},null,null,null,null,null,null,null,null,null,null,null,null,null,null,null,null,null,null,null,null,null,null,null,null,null,null,null,null,null,null,null,null,null,null,null,null,null,null,null,null,null,null,null,null,null,null,null,null,null,null,null,null,null,null,null,null,null,null,null,null,null,null,null,0,0,0,{"$f":"+BN568-BO568","v":0},{"$f":"COUNT(C568:BJ568)/3","v":0},{"$f":"+BM568/BQ568","v":{"$error":"#DIV/0!"}}]
[{"$error":"#VALUE!"},null,null,null,null,null,null,null,null,null,null,null,null,null,null,null,null,null,null,null,null,null,null,null,null,null,null,null,null,null,null,null,null,null,null,null,null,null,null,null,null,null,null,null,null,null,null,null,null,null,null,null,null,null,null,null,null,null,null,null,null,null,null,null,0,0,0,0,0,{"$error":"#DIV/0!"}]
[{"$error":"#VALUE!"},null,null,null,null,null,null,null,null,null,null,null,null,null,null,null,null,null,null,null,null,null,null,null,null,null,null,null,null,null,null,null,null,null,null,null,null,null,null,null,null,null,null,null,null,null,null,null,null,null,null,null,null,null,null,null,null,null,null,null,null,null,null,null,0,0,0,0,0,{"$error":"#DIV/0!"}]
[{"$f":"+A570+1","v":{"$error":"#VALUE!"}},null,null,null,null,null,null,null,null,null,null,null,null,null,null,null,null,null,null,null,null,null,null,null,null,null,null,null,null,null,null,null,null,null,null,null,null,null,null,null,null,null,null,null,null,null,null,null,null,null,null,null,null,null,null,null,null,null,null,null,null,null,null,null,0,0,0,0,0,{"$error":"#DIV/0!"}]
[{"$error":"#VALUE!"},null,null,null,null,null,null,null,null,null,null,null,null,null,null,null,null,null,null,null,null,null,null,null,null,null,null,null,null,null,null,null,null,null,null,null,null,null,null,null,null,null,null,null,null,null,null,null,null,null,null,null,null,null,null,null,null,null,null,null,null,null,null,null,0,0,0,0,0,{"$error":"#DIV/0!"}]
[{"$error":"#VALUE!"},null,null,null,null,null,null,null,null,null,null,null,null,null,null,null,null,null,null,null,null,null,null,null,null,null,null,null,null,null,null,null,null,null,null,null,null,null,null,null,null,null,null,null,null,null,null,null,null,null,null,null,null,null,null,null,null,null,null,null,null,null,null,null,0,0,0,0,0,{"$error":"#DIV/0!"}]
[{"$error":"#VALUE!"},null,null,null,null,null,null,null,null,null,null,null,null,null,null,null,null,null,null,null,null,null,null,null,null,null,null,null,null,null,null,null,null,null,null,null,null,null,null,null,null,null,null,null,null,null,null,null,null,null,null,null,null,null,null,null,null,null,null,null,null,null,null,null,0,0,0,0,0,{"$error":"#DIV/0!"}]
[{"$error":"#VALUE!"},null,null,null,null,null,null,null,null,null,null,null,null,null,null,null,null,null,null,null,null,null,null,null,null,null,null,null,null,null,null,null,null,null,null,null,null,null,null,null,null,null,null,null,null,null,null,null,null,null,null,null,null,null,null,null,null,null,null,null,null,null,null,null,0,0,0,0,0,{"$error":"#DIV/0!"}]
[{"$error":"#VALUE!"},null,null,null,null,null,null,null,null,null,null,null,null,null,null,null,null,null,null,null,null,null,null,null,null,null,null,null,null,null,null,null,null,null,null,null,null,null,null,null,null,null,null,null,null,null,null,null,null,null,null,null,null,null,null,null,null,null,null,null,null,null,null,null,0,0,0,0,0,{"$error":"#DIV/0!"}]
[{"$error":"#VALUE!"},null,null,null,null,null,null,null,null,null,null,null,null,null,null,null,null,null,null,null,null,null,null,null,null,null,null,null,null,null,null,null,null,null,null,null,null,null,null,null,null,null,null,null,null,null,null,null,null,null,null,null,null,null,null,null,null,null,null,null,null,null,null,null,0,0,0,0,0,{"$error":"#DIV/0!"}]
[{"$error":"#VALUE!"},null,null,null,null,null,null,null,null,null,null,null,null,null,null,null,null,null,null,null,null,null,null,null,null,null,null,null,null,null,null,null,null,null,null,null,null,null,null,null,null,null,null,null,null,null,null,null,null,null,null,null,null,null,null,null,null,null,null,null,null,null,null,null,0,0,0,0,0,{"$error":"#DIV/0!"}]
[{"$error":"#VALUE!"},null,null,null,null,null,null,null,null,null,null,null,null,null,null,null,null,null,null,null,null,null,null,null,null,null,null,null,null,null,null,null,null,null,null,null,null,null,null,null,null,null,null,null,null,null,null,null,null,null,null,null,null,null,null,null,null,null,null,null,null,null,null,null,0,0,0,0,0,{"$error":"#DIV/0!"}]
[{"$error":"#VALUE!"},null,null,null,null,null,null,null,null,null,null,null,null,null,null,null,null,null,null,null,null,null,null,null,null,null,null,null,null,null,null,null,null,null,null,null,null,null,null,null,null,null,null,null,null,null,null,null,null,null,null,null,null,null,null,null,null,null,null,null,null,null,null,null,0,0,0,0,0,{"$error":"#DIV/0!"}]
[{"$error":"#VALUE!"},null,null,null,null,null,null,null,null,null,null,null,null,null,null,null,null,null,null,null,null,null,null,null,null,null,null,null,null,null,null,null,null,null,null,null,null,null,null,null,null,null,null,null,null,null,null,null,null,null,null,null,null,null,null,null,null,null,null,null,null,null,null,null,0,0,0,0,0,{"$error":"#DIV/0!"}]
[{"$error":"#VALUE!"},null,null,null,null,null,null,null,null,null,null,null,null,null,null,null,null,null,null,null,null,null,null,null,null,null,null,null,null,null,null,null,null,null,null,null,null,null,null,null,null,null,null,null,null,null,null,null,null,null,null,null,null,null,null,null,null,null,null,null,null,null,null,null,0,0,0,0,0,{"$error":"#DIV/0!"}]
[{"$error":"#VALUE!"},null,null,null,null,null,null,null,null,null,null,null,null,null,null,null,null,null,null,null,null,null,null,null,null,null,null,null,null,null,null,null,null,null,null,null,null,null,null,null,null,null,null,null,null,null,null,null,null,null,null,null,null,null,null,null,null,null,null,null,null,null,null,null,0,0,0,0,0,{"$error":"#DIV/0!"}]
[{"$error":"#VALUE!"},null,null,null,null,null,null,null,null,null,null,null,null,null,null,null,null,null,null,null,null,null,null,null,null,null,null,null,null,null,null,null,null,null,null,null,null,null,null,null,null,null,null,null,null,null,null,null,null,null,null,null,null,null,null,null,null,null,null,null,null,null,null,null,0,0,0,0,0,{"$error":"#DIV/0!"}]
[{"$error":"#VALUE!"},null,null,null,null,null,null,null,null,null,null,null,null,null,null,null,null,null,null,null,null,null,null,null,null,null,null,null,null,null,null,null,null,null,null,null,null,null,null,null,null,null,null,null,null,null,null,null,null,null,null,null,null,null,null,null,null,null,null,null,null,null,null,null,0,0,0,0,0,{"$error":"#DIV/0!"}]
[{"$error":"#VALUE!"},null,null,null,null,null,null,null,null,null,null,null,null,null,null,null,null,null,null,null,null,null,null,null,null,null,null,null,null,null,null,null,null,null,null,null,null,null,null,null,null,null,null,null,null,null,null,null,null,null,null,null,null,null,null,null,null,null,null,null,null,null,null,null,0,0,0,0,0,{"$error":"#DIV/0!"}]
[{"$error":"#VALUE!"},null,null,null,null,null,null,null,null,null,null,null,null,null,null,null,null,null,null,null,null,null,null,null,null,null,null,null,null,null,null,null,null,null,null,null,null,null,null,null,null,null,null,null,null,null,null,null,null,null,null,null,null,null,null,null,null,null,null,null,null,null,null,null,0,0,0,0,0,{"$error":"#DIV/0!"}]
[{"$error":"#VALUE!"},null,null,null,null,null,null,null,null,null,null,null,null,null,null,null,null,null,null,null,null,null,null,null,null,null,null,null,null,null,null,null,null,null,null,null,null,null,null,null,null,null,null,null,null,null,null,null,null,null,null,null,null,null,null,null,null,null,null,null,null,null,null,null,0,0,0,0,0,{"$error":"#DIV/0!"}]
[{"$error":"#VALUE!"},null,null,null,null,null,null,null,null,null,null,null,null,null,null,null,null,null,null,null,null,null,null,null,null,null,null,null,null,null,null,null,null,null,null,null,null,null,null,null,null,null,null,null,null,null,null,null,null,null,null,null,null,null,null,null,null,null,null,null,null,null,null,null,0,0,0,0,0,{"$error":"#DIV/0!"}]
[{"$error":"#VALUE!"},null,null,null,null,null,null,null,null,null,null,null,null,null,null,null,null,null,null,null,null,null,null,null,null,null,null,null,null,null,null,null,null,null,null,null,null,null,null,null,null,null,null,null,null,null,null,null,null,null,null,null,null,null,null,null,null,null,null,null,null,null,null,null,0,0,0,0,0,{"$error":"#DIV/0!"}]
[{"$error":"#VALUE!"},null,null,null,null,null,null,null,null,null,null,null,null,null,null,null,null,null,null,null,null,null,null,null,null,null,null,null,null,null,null,null,null,null,null,null,null,null,null,null,null,null,null,null,null,null,null,null,null,null,null,null,null,null,null,null,null,null,null,null,null,null,null,null,0,0,0,0,0,{"$error":"#DIV/0!"}]
[{"$error":"#VALUE!"},null,null,null,null,null,null,null,null,null,null,null,null,null,null,null,null,null,null,null,null,null,null,null,null,null,null,null,null,null,null,null,null,null,null,null,null,null,null,null,null,null,null,null,null,null,null,null,null,null,null,null,null,null,null,null,null,null,null,null,null,null,null,null,0,0,0,0,0,{"$error":"#DIV/0!"}]
[{"$error":"#VALUE!"},null,null,null,null,null,null,null,null,null,null,null,null,null,null,null,null,null,null,null,null,null,null,null,null,null,null,null,null,null,null,null,null,null,null,null,null,null,null,null,null,null,null,null,null,null,null,null,null,null,null,null,null,null,null,null,null,null,null,null,null,null,null,null,0,0,0,0,0,{"$error":"#DIV/0!"}]
[{"$error":"#VALUE!"},null,null,null,null,null,null,null,null,null,null,null,null,null,null,null,null,null,null,null,null,null,null,null,null,null,null,null,null,null,null,null,null,null,null,null,null,null,null,null,null,null,null,null,null,null,null,null,null,null,null,null,null,null,null,null,null,null,null,null,null,null,null,null,0,0,0,0,0,{"$error":"#DIV/0!"}]
[{"$error":"#VALUE!"},null,null,null,null,null,null,null,null,null,null,null,null,null,null,null,null,null,null,null,null,null,null,null,null,null,null,null,null,null,null,null,null,null,null,null,null,null,null,null,null,null,null,null,null,null,null,null,null,null,null,null,null,null,null,null,null,null,null,null,null,null,null,null,0,0,0,0,0,{"$error":"#DIV/0!"}]
[{"$error":"#VALUE!"},null,null,null,null,null,null,null,null,null,null,null,null,null,null,null,null,null,null,null,null,null,null,null,null,null,null,null,null,null,null,null,null,null,null,null,null,null,null,null,null,null,null,null,null,null,null,null,null,null,null,null,null,null,null,null,null,null,null,null,null,null,null,null,0,0,0,0,0,{"$error":"#DIV/0!"}]
[{"$error":"#VALUE!"},null,null,null,null,null,null,null,null,null,null,null,null,null,null,null,null,null,null,null,null,null,null,null,null,null,null,null,null,null,null,null,null,null,null,null,null,null,null,null,null,null,null,null,null,null,null,null,null,null,null,null,null,null,null,null,null,null,null,null,null,null,null,null,0,0,0,0,0,{"$error":"#DIV/0!"}]
[{"$error":"#VALUE!"},null,null,null,null,null,null,null,null,null,null,null,null,null,null,null,null,null,null,null,null,null,null,null,null,null,null,null,null,null,null,null,null,null,null,null,null,null,null,null,null,null,null,null,null,null,null,null,null,null,null,null,null,null,null,null,null,null,null,null,null,null,null,null,0,0,0,0,0,{"$error":"#DIV/0!"}]
[{"$error":"#VALUE!"},null,null,null,null,null,null,null,null,null,null,null,null,null,null,null,null,null,null,null,null,null,null,null,null,null,null,null,null,null,null,null,null,null,null,null,null,null,null,null,null,null,null,null,null,null,null,null,null,null,null,null,null,null,null,null,null,null,null,null,null,null,null,null,0,0,0,0,0,{"$error":"#DIV/0!"}]
[{"$error":"#VALUE!"},null,null,null,null,null,null,null,null,null,null,null,null,null,null,null,null,null,null,null,null,null,null,null,null,null,null,null,null,null,null,null,null,null,null,null,null,null,null,null,null,null,null,null,null,null,null,null,null,null,null,null,null,null,null,null,null,null,null,null,null,null,null,null,0,0,0,0,0,{"$error":"#DIV/0!"}]
[{"$error":"#VALUE!"},null,null,null,null,null,null,null,null,null,null,null,null,null,null,null,null,null,null,null,null,null,null,null,null,null,null,null,null,null,null,null,null,null,null,null,null,null,null,null,null,null,null,null,null,null,null,null,null,null,null,null,null,null,null,null,null,null,null,null,null,null,null,null,0,0,0,0,0,{"$error":"#DIV/0!"}]
[{"$error":"#VALUE!"},null,null,null,null,null,null,null,null,null,null,null,null,null,null,null,null,null,null,null,null,null,null,null,null,null,null,null,null,null,null,null,null,null,null,null,null,null,null,null,null,null,null,null,null,null,null,null,null,null,null,null,null,null,null,null,null,null,null,null,null,null,null,null,0,0,0,0,0,{"$error":"#DIV/0!"}]
[{"$error":"#VALUE!"},null,null,null,null,null,null,null,null,null,null,null,null,null,null,null,null,null,null,null,null,null,null,null,null,null,null,null,null,null,null,null,null,null,null,null,null,null,null,null,null,null,null,null,null,null,null,null,null,null,null,null,null,null,null,null,null,null,null,null,null,null,null,null,0,0,0,{"$f":"+BN603-BO603","v":0},{"$f":"COUNT(C603:BJ603)/3","v":0},{"$f":"+BM603/BQ603","v":{"$error":"#DIV/0!"}}]
[{"$error":"#VALUE!"},null,null,null,null,null,null,null,null,null,null,null,null,null,null,null,null,null,null,null,null,null,null,null,null,null,null,null,null,null,null,null,null,null,null,null,null,null,null,null,null,null,null,null,null,null,null,null,null,null,null,null,null,null,null,null,null,null,null,null,null,null,null,null,0,0,0,0,0,{"$error":"#DIV/0!"}]
[{"$error":"#VALUE!"},null,null,null,null,null,null,null,null,null,null,null,null,null,null,null,null,null,null,null,null,null,null,null,null,null,null,null,null,null,null,null,null,null,null,null,null,null,null,null,null,null,null,null,null,null,null,null,null,null,null,null,null,null,null,null,null,null,null,null,null,null,null,null,0,0,0,0,0,{"$error":"#DIV/0!"}]
[{"$error":"#VALUE!"},null,null,null,null,null,null,null,null,null,null,null,null,null,null,null,null,null,null,null,null,null,null,null,null,null,null,null,null,null,null,null,null,null,null,null,null,null,null,null,null,null,null,null,null,null,null,null,null,null,null,null,null,null,null,null,null,null,null,null,null,null,null,null,0,0,0,0,0,{"$error":"#DIV/0!"}]
[{"$error":"#VALUE!"},null,null,null,null,null,null,null,null,null,null,null,null,null,null,null,null,null,null,null,null,null,null,null,null,null,null,null,null,null,null,null,null,null,null,null,null,null,null,null,null,null,null,null,null,null,null,null,null,null,null,null,null,null,null,null,null,null,null,null,null,null,null,null,0,0,0,0,0,{"$error":"#DIV/0!"}]
[{"$error":"#VALUE!"},null,null,null,null,null,null,null,null,null,null,null,null,null,null,null,null,null,null,null,null,null,null,null,null,null,null,null,null,null,null,null,null,null,null,null,null,null,null,null,null,null,null,null,null,null,null,null,null,null,null,null,null,null,null,null,null,null,null,null,null,null,null,null,0,0,0,0,0,{"$error":"#DIV/0!"}]
[{"$error":"#VALUE!"},null,null,null,null,null,null,null,null,null,null,null,null,null,null,null,null,null,null,null,null,null,null,null,null,null,null,null,null,null,null,null,null,null,null,null,null,null,null,null,null,null,null,null,null,null,null,null,null,null,null,null,null,null,null,null,null,null,null,null,null,null,null,null,0,0,0,0,0,{"$error":"#DIV/0!"}]
[{"$error":"#VALUE!"},null,null,null,null,null,null,null,null,null,null,null,null,null,null,null,null,null,null,null,null,null,null,null,null,null,null,null,null,null,null,null,null,null,null,null,null,null,null,null,null,null,null,null,null,null,null,null,null,null,null,null,null,null,null,null,null,null,null,null,null,null,null,null,0,0,0,0,0,{"$error":"#DIV/0!"}]
[{"$error":"#VALUE!"},null,null,null,null,null,null,null,null,null,null,null,null,null,null,null,null,null,null,null,null,null,null,null,null,null,null,null,null,null,null,null,null,null,null,null,null,null,null,null,null,null,null,null,null,null,null,null,null,null,null,null,null,null,null,null,null,null,null,null,null,null,null,null,0,0,0,0,0,{"$error":"#DIV/0!"}]
[{"$error":"#VALUE!"},null,null,null,null,null,null,null,null,null,null,null,null,null,null,null,null,null,null,null,null,null,null,null,null,null,null,null,null,null,null,null,null,null,null,null,null,null,null,null,null,null,null,null,null,null,null,null,null,null,null,null,null,null,null,null,null,null,null,null,null,null,null,null,0,0,0,0,0,{"$error":"#DIV/0!"}]
[{"$error":"#VALUE!"},null,null,null,null,null,null,null,null,null,null,null,null,null,null,null,null,null,null,null,null,null,null,null,null,null,null,null,null,null,null,null,null,null,null,null,null,null,null,null,null,null,null,null,null,null,null,null,null,null,null,null,null,null,null,null,null,null,null,null,null,null,null,null,0,0,0,0,0,{"$error":"#DIV/0!"}]
[{"$error":"#VALUE!"},null,null,null,null,null,null,null,null,null,null,null,null,null,null,null,null,null,null,null,null,null,null,null,null,null,null,null,null,null,null,null,null,null,null,null,null,null,null,null,null,null,null,null,null,null,null,null,null,null,null,null,null,null,null,null,null,null,null,null,null,null,null,null,0,0,0,0,0,{"$error":"#DIV/0!"}]
[{"$error":"#VALUE!"},null,null,null,null,null,null,null,null,null,null,null,null,null,null,null,null,null,null,null,null,null,null,null,null,null,null,null,null,null,null,null,null,null,null,null,null,null,null,null,null,null,null,null,null,null,null,null,null,null,null,null,null,null,null,null,null,null,null,null,null,null,null,null,0,0,0,0,0,{"$error":"#DIV/0!"}]
[{"$error":"#VALUE!"},null,null,null,null,null,null,null,null,null,null,null,null,null,null,null,null,null,null,null,null,null,null,null,null,null,null,null,null,null,null,null,null,null,null,null,null,null,null,null,null,null,null,null,null,null,null,null,null,null,null,null,null,null,null,null,null,null,null,null,null,null,null,null,0,0,0,0,0,{"$error":"#DIV/0!"}]
[{"$error":"#VALUE!"},null,null,null,null,null,null,null,null,null,null,null,null,null,null,null,null,null,null,null,null,null,null,null,null,null,null,null,null,null,null,null,null,null,null,null,null,null,null,null,null,null,null,null,null,null,null,null,null,null,null,null,null,null,null,null,null,null,null,null,null,null,null,null,0,0,0,0,0,{"$error":"#DIV/0!"}]
[{"$error":"#VALUE!"},null,null,null,null,null,null,null,null,null,null,null,null,null,null,null,null,null,null,null,null,null,null,null,null,null,null,null,null,null,null,null,null,null,null,null,null,null,null,null,null,null,null,null,null,null,null,null,null,null,null,null,null,null,null,null,null,null,null,null,null,null,null,null,0,0,0,0,0,{"$error":"#DIV/0!"}]
[{"$error":"#VALUE!"},null,null,null,null,null,null,null,null,null,null,null,null,null,null,null,null,null,null,null,null,null,null,null,null,null,null,null,null,null,null,null,null,null,null,null,null,null,null,null,null,null,null,null,null,null,null,null,null,null,null,null,null,null,null,null,null,null,null,null,null,null,null,null,0,0,0,0,0,{"$error":"#DIV/0!"}]
[{"$error":"#VALUE!"},null,null,null,null,null,null,null,null,null,null,null,null,null,null,null,null,null,null,null,null,null,null,null,null,null,null,null,null,null,null,null,null,null,null,null,null,null,null,null,null,null,null,null,null,null,null,null,null,null,null,null,null,null,null,null,null,null,null,null,null,null,null,null,0,0,0,0,0,{"$error":"#DIV/0!"}]
[{"$error":"#VALUE!"},null,null,null,null,null,null,null,null,null,null,null,null,null,null,null,null,null,null,null,null,null,null,null,null,null,null,null,null,null,null,null,null,null,null,null,null,null,null,null,null,null,null,null,null,null,null,null,null,null,null,null,null,null,null,null,null,null,null,null,null,null,null,null,0,0,0,0,0,{"$error":"#DIV/0!"}]
[{"$error":"#VALUE!"},null,null,null,null,null,null,null,null,null,null,null,null,null,null,null,null,null,null,null,null,null,null,null,null,null,null,null,null,null,null,null,null,null,null,null,null,null,null,null,null,null,null,null,null,null,null,null,null,null,null,null,null,null,null,null,null,null,null,null,null,null,null,null,0,0,0,0,0,{"$error":"#DIV/0!"}]
[{"$error":"#VALUE!"},null,null,null,null,null,null,null,null,null,null,null,null,null,null,null,null,null,null,null,null,null,null,null,null,null,null,null,null,null,null,null,null,null,null,null,null,null,null,null,null,null,null,null,null,null,null,null,null,null,null,null,null,null,null,null,null,null,null,null,null,null,null,null,0,0,0,0,0,{"$error":"#DIV/0!"}]
[{"$error":"#VALUE!"},null,null,null,null,null,null,null,null,null,null,null,null,null,null,null,null,null,null,null,null,null,null,null,null,null,null,null,null,null,null,null,null,null,null,null,null,null,null,null,null,null,null,null,null,null,null,null,null,null,null,null,null,null,null,null,null,null,null,null,null,null,null,null,{"$f":"+BH624+AJ624+AG624+AD624+AA624+X624+U624+R624+O624+L624+I624+F624+C624+AM624+AP624+AS624+AV624+AY624+BB624+BE624","v":0},0,0,0,0,{"$error":"#DIV/0!"}]
[{"$error":"#VALUE!"},null,null,null,null,null,null,null,null,null,null,null,null,null,null,null,null,null,null,null,null,null,null,null,null,null,null,null,null,null,null,null,null,null,null,null,null,null,null,null,null,null,null,null,null,null,null,null,null,null,null,null,null,null,null,null,null,null,null,null,null,null,null,null,0,{"$f":"+BI625+AK625+AH625+AE625+AB625+Y625+V625+S625+P625+M625+J625+G625+D625+AN625+AQ625+AT625+AW625+AZ625+BC625+BF625","v":0},{"$f":"+BJ625+AL625+AI625+AF625+AC625+Z625+W625+T625+Q625+N625+K625+H625+E625+AO625+AR625+AU625+AX625+BA625+BD625+BG625","v":0},0,0,{"$error":"#DIV/0!"}]
[{"$error":"#VALUE!"},null,null,null,null,null,null,null,null,null,null,null,null,null,null,null,null,null,null,null,null,null,null,null,null,null,null,null,null,null,null,null,null,null,null,null,null,null,null,null,null,null,null,null,null,null,null,null,null,null,null,null,null,null,null,null,null,null,null,null,null,null,null,null,0,0,0,0,0,{"$error":"#DIV/0!"}]
[{"$error":"#VALUE!"},null,null,null,null,null,null,null,null,null,null,null,null,null,null,null,null,null,null,null,null,null,null,null,null,null,null,null,null,null,null,null,null,null,null,null,null,null,null,null,null,null,null,null,null,null,null,null,null,null,null,null,null,null,null,null,null,null,null,null,null,null,null,null,0,0,0,0,0,{"$error":"#DIV/0!"}]
[{"$error":"#VALUE!"},null,null,null,null,null,null,null,null,null,null,null,null,null,null,null,null,null,null,null,null,null,null,null,null,null,null,null,null,null,null,null,null,null,null,null,null,null,null,null,null,null,null,null,null,null,null,null,null,null,null,null,null,null,null,null,null,null,null,null,null,null,null,null,0,0,0,0,0,{"$error":"#DIV/0!"}]
[{"$error":"#VALUE!"},null,null,null,null,null,null,null,null,null,null,null,null,null,null,null,null,null,null,null,null,null,null,null,null,null,null,null,null,null,null,null,null,null,null,null,null,null,null,null,null,null,null,null,null,null,null,null,null,null,null,null,null,null,null,null,null,null,null,null,null,null,null,null,0,0,0,0,0,{"$error":"#DIV/0!"}]
[{"$error":"#VALUE!"},null,null,null,null,null,null,null,null,null,null,null,null,null,null,null,null,null,null,null,null,null,null,null,null,null,null,null,null,null,null,null,null,null,null,null,null,null,null,null,null,null,null,null,null,null,null,null,null,null,null,null,null,null,null,null,null,null,null,null,null,null,null,null,0,0,0,0,0,{"$error":"#DIV/0!"}]
[{"$error":"#VALUE!"},null,null,null,null,null,null,null,null,null,null,null,null,null,null,null,null,null,null,null,null,null,null,null,null,null,null,null,null,null,null,null,null,null,null,null,null,null,null,null,null,null,null,null,null,null,null,null,null,null,null,null,null,null,null,null,null,null,null,null,null,null,null,null,0,0,0,0,0,{"$error":"#DIV/0!"}]
[{"$error":"#VALUE!"},null,null,null,null,null,null,null,null,null,null,null,null,null,null,null,null,null,null,null,null,null,null,null,null,null,null,null,null,null,null,null,null,null,null,null,null,null,null,null,null,null,null,null,null,null,null,null,null,null,null,null,null,null,null,null,null,null,null,null,null,null,null,null,0,0,0,0,0,{"$error":"#DIV/0!"}]
[{"$error":"#VALUE!"},null,null,null,null,null,null,null,null,null,null,null,null,null,null,null,null,null,null,null,null,null,null,null,null,null,null,null,null,null,null,null,null,null,null,null,null,null,null,null,null,null,null,null,null,null,null,null,null,null,null,null,null,null,null,null,null,null,null,null,null,null,null,null,0,0,0,0,0,{"$error":"#DIV/0!"}]
[{"$error":"#VALUE!"},null,null,null,null,null,null,null,null,null,null,null,null,null,null,null,null,null,null,null,null,null,null,null,null,null,null,null,null,null,null,null,null,null,null,null,null,null,null,null,null,null,null,null,null,null,null,null,null,null,null,null,null,null,null,null,null,null,null,null,null,null,null,null,0,0,0,0,0,{"$error":"#DIV/0!"}]
[{"$f":"+A634+1","v":{"$error":"#VALUE!"}},null,null,null,null,null,null,null,null,null,null,null,null,null,null,null,null,null,null,null,null,null,null,null,null,null,null,null,null,null,null,null,null,null,null,null,null,null,null,null,null,null,null,null,null,null,null,null,null,null,null,null,null,null,null,null,null,null,null,null,null,null,null,null,0,0,0,0,0,{"$error":"#DIV/0!"}]
[{"$error":"#VALUE!"},null,null,null,null,null,null,null,null,null,null,null,null,null,null,null,null,null,null,null,null,null,null,null,null,null,null,null,null,null,null,null,null,null,null,null,null,null,null,null,null,null,null,null,null,null,null,null,null,null,null,null,null,null,null,null,null,null,null,null,null,null,null,null,0,0,0,0,0,{"$error":"#DIV/0!"}]
[{"$error":"#VALUE!"},null,null,null,null,null,null,null,null,null,null,null,null,null,null,null,null,null,null,null,null,null,null,null,null,null,null,null,null,null,null,null,null,null,null,null,null,null,null,null,null,null,null,null,null,null,null,null,null,null,null,null,null,null,null,null,null,null,null,null,null,null,null,null,0,0,0,0,0,{"$error":"#DIV/0!"}]
[{"$error":"#VALUE!"},null,null,null,null,null,null,null,null,null,null,null,null,null,null,null,null,null,null,null,null,null,null,null,null,null,null,null,null,null,null,null,null,null,null,null,null,null,null,null,null,null,null,null,null,null,null,null,null,null,null,null,null,null,null,null,null,null,null,null,null,null,null,null,0,0,0,0,0,{"$error":"#DIV/0!"}]
[{"$error":"#VALUE!"},null,null,null,null,null,null,null,null,null,null,null,null,null,null,null,null,null,null,null,null,null,null,null,null,null,null,null,null,null,null,null,null,null,null,null,null,null,null,null,null,null,null,null,null,null,null,null,null,null,null,null,null,null,null,null,null,null,null,null,null,null,null,null,0,0,0,0,0,{"$error":"#DIV/0!"}]
[{"$error":"#VALUE!"},null,null,null,null,null,null,null,null,null,null,null,null,null,null,null,null,null,null,null,null,null,null,null,null,null,null,null,null,null,null,null,null,null,null,null,null,null,null,null,null,null,null,null,null,null,null,null,null,null,null,null,null,null,null,null,null,null,null,null,null,null,null,null,0,0,0,0,0,{"$error":"#DIV/0!"}]
[{"$error":"#VALUE!"},null,null,null,null,null,null,null,null,null,null,null,null,null,null,null,null,null,null,null,null,null,null,null,null,null,null,null,null,null,null,null,null,null,null,null,null,null,null,null,null,null,null,null,null,null,null,null,null,null,null,null,null,null,null,null,null,null,null,null,null,null,null,null,0,0,0,0,0,{"$error":"#DIV/0!"}]
[{"$error":"#VALUE!"},null,null,null,null,null,null,null,null,null,null,null,null,null,null,null,null,null,null,null,null,null,null,null,null,null,null,null,null,null,null,null,null,null,null,null,null,null,null,null,null,null,null,null,null,null,null,null,null,null,null,null,null,null,null,null,null,null,null,null,null,null,null,null,0,0,0,0,0,{"$error":"#DIV/0!"}]
[{"$error":"#VALUE!"},null,null,null,null,null,null,null,null,null,null,null,null,null,null,null,null,null,null,null,null,null,null,null,null,null,null,null,null,null,null,null,null,null,null,null,null,null,null,null,null,null,null,null,null,null,null,null,null,null,null,null,null,null,null,null,null,null,null,null,null,null,null,null,0,0,0,0,0,{"$error":"#DIV/0!"}]
[{"$error":"#VALUE!"},null,null,null,null,null,null,null,null,null,null,null,null,null,null,null,null,null,null,null,null,null,null,null,null,null,null,null,null,null,null,null,null,null,null,null,null,null,null,null,null,null,null,null,null,null,null,null,null,null,null,null,null,null,null,null,null,null,null,null,null,null,null,null,0,0,0,0,0,{"$error":"#DIV/0!"}]
[{"$error":"#VALUE!"},null,null,null,null,null,null,null,null,null,null,null,null,null,null,null,null,null,null,null,null,null,null,null,null,null,null,null,null,null,null,null,null,null,null,null,null,null,null,null,null,null,null,null,null,null,null,null,null,null,null,null,null,null,null,null,null,null,null,null,null,null,null,null,0,0,0,0,0,{"$error":"#DIV/0!"}]
[{"$error":"#VALUE!"},null,null,null,null,null,null,null,null,null,null,null,null,null,null,null,null,null,null,null,null,null,null,null,null,null,null,null,null,null,null,null,null,null,null,null,null,null,null,null,null,null,null,null,null,null,null,null,null,null,null,null,null,null,null,null,null,null,null,null,null,null,null,null,0,0,0,0,0,{"$error":"#DIV/0!"}]
[{"$error":"#VALUE!"},null,null,null,null,null,null,null,null,null,null,null,null,null,null,null,null,null,null,null,null,null,null,null,null,null,null,null,null,null,null,null,null,null,null,null,null,null,null,null,null,null,null,null,null,null,null,null,null,null,null,null,null,null,null,null,null,null,null,null,null,null,null,null,0,0,0,0,0,{"$error":"#DIV/0!"}]
[{"$error":"#VALUE!"},null,null,null,null,null,null,null,null,null,null,null,null,null,null,null,null,null,null,null,null,null,null,null,null,null,null,null,null,null,null,null,null,null,null,null,null,null,null,null,null,null,null,null,null,null,null,null,null,null,null,null,null,null,null,null,null,null,null,null,null,null,null,null,0,0,0,0,0,{"$error":"#DIV/0!"}]
[{"$error":"#VALUE!"},null,null,null,null,null,null,null,null,null,null,null,null,null,null,null,null,null,null,null,null,null,null,null,null,null,null,null,null,null,null,null,null,null,null,null,null,null,null,null,null,null,null,null,null,null,null,null,null,null,null,null,null,null,null,null,null,null,null,null,null,null,null,null,0,0,0,0,0,{"$error":"#DIV/0!"}]
[{"$error":"#VALUE!"},null,null,null,null,null,null,null,null,null,null,null,null,null,null,null,null,null,null,null,null,null,null,null,null,null,null,null,null,null,null,null,null,null,null,null,null,null,null,null,null,null,null,null,null,null,null,null,null,null,null,null,null,null,null,null,null,null,null,null,null,null,null,null,0,0,0,0,0,{"$error":"#DIV/0!"}]
[{"$error":"#VALUE!"},null,null,null,null,null,null,null,null,null,null,null,null,null,null,null,null,null,null,null,null,null,null,null,null,null,null,null,null,null,null,null,null,null,null,null,null,null,null,null,null,null,null,null,null,null,null,null,null,null,null,null,null,null,null,null,null,null,null,null,null,null,null,null,0,0,0,0,0,{"$error":"#DIV/0!"}]
[{"$error":"#VALUE!"},null,null,null,null,null,null,null,null,null,null,null,null,null,null,null,null,null,null,null,null,null,null,null,null,null,null,null,null,null,null,null,null,null,null,null,null,null,null,null,null,null,null,null,null,null,null,null,null,null,null,null,null,null,null,null,null,null,null,null,null,null,null,null,0,0,0,0,0,{"$error":"#DIV/0!"}]
[{"$error":"#VALUE!"},null,null,null,null,null,null,null,null,null,null,null,null,null,null,null,null,null,null,null,null,null,null,null,null,null,null,null,null,null,null,null,null,null,null,null,null,null,null,null,null,null,null,null,null,null,null,null,null,null,null,null,null,null,null,null,null,null,null,null,null,null,null,null,0,0,0,0,0,{"$error":"#DIV/0!"}]
[{"$error":"#VALUE!"},null,null,null,null,null,null,null,null,null,null,null,null,null,null,null,null,null,null,null,null,null,null,null,null,null,null,null,null,null,null,null,null,null,null,null,null,null,null,null,null,null,null,null,null,null,null,null,null,null,null,null,null,null,null,null,null,null,null,null,null,null,null,null,0,0,0,0,0,{"$error":"#DIV/0!"}]
[{"$error":"#VALUE!"},null,null,null,null,null,null,null,null,null,null,null,null,null,null,null,null,null,null,null,null,null,null,null,null,null,null,null,null,null,null,null,null,null,null,null,null,null,null,null,null,null,null,null,null,null,null,null,null,null,null,null,null,null,null,null,null,null,null,null,null,null,null,null,0,0,0,0,0,{"$error":"#DIV/0!"}]
[{"$error":"#VALUE!"},null,null,null,null,null,null,null,null,null,null,null,null,null,null,null,null,null,null,null,null,null,null,null,null,null,null,null,null,null,null,null,null,null,null,null,null,null,null,null,null,null,null,null,null,null,null,null,null,null,null,null,null,null,null,null,null,null,null,null,null,null,null,null,0,0,0,0,0,{"$error":"#DIV/0!"}]
[{"$error":"#VALUE!"},null,null,null,null,null,null,null,null,null,null,null,null,null,null,null,null,null,null,null,null,null,null,null,null,null,null,null,null,null,null,null,null,null,null,null,null,null,null,null,null,null,null,null,null,null,null,null,null,null,null,null,null,null,null,null,null,null,null,null,null,null,null,null,0,0,0,0,0,{"$error":"#DIV/0!"}]
[{"$error":"#VALUE!"},null,null,null,null,null,null,null,null,null,null,null,null,null,null,null,null,null,null,null,null,null,null,null,null,null,null,null,null,null,null,null,null,null,null,null,null,null,null,null,null,null,null,null,null,null,null,null,null,null,null,null,null,null,null,null,null,null,null,null,null,null,null,null,0,0,0,0,0,{"$error":"#DIV/0!"}]
[{"$error":"#VALUE!"},null,null,null,null,null,null,null,null,null,null,null,null,null,null,null,null,null,null,null,null,null,null,null,null,null,null,null,null,null,null,null,null,null,null,null,null,null,null,null,null,null,null,null,null,null,null,null,null,null,null,null,null,null,null,null,null,null,null,null,null,null,null,null,0,0,0,0,0,{"$error":"#DIV/0!"}]
[{"$error":"#VALUE!"},null,null,null,null,null,null,null,null,null,null,null,null,null,null,null,null,null,null,null,null,null,null,null,null,null,null,null,null,null,null,null,null,null,null,null,null,null,null,null,null,null,null,null,null,null,null,null,null,null,null,null,null,null,null,null,null,null,null,null,null,null,null,null,0,0,0,0,0,{"$error":"#DIV/0!"}]
[{"$error":"#VALUE!"},null,null,null,null,null,null,null,null,null,null,null,null,null,null,null,null,null,null,null,null,null,null,null,null,null,null,null,null,null,null,null,null,null,null,null,null,null,null,null,null,null,null,null,null,null,null,null,null,null,null,null,null,null,null,null,null,null,null,null,null,null,null,null,0,0,0,0,0,{"$error":"#DIV/0!"}]
[{"$error":"#VALUE!"},null,null,null,null,null,null,null,null,null,null,null,null,null,null,null,null,null,null,null,null,null,null,null,null,null,null,null,null,null,null,null,null,null,null,null,null,null,null,null,null,null,null,null,null,null,null,null,null,null,null,null,null,null,null,null,null,null,null,null,null,null,null,null,0,0,0,0,0,{"$error":"#DIV/0!"}]
[{"$error":"#VALUE!"},null,null,null,null,null,null,null,null,null,null,null,null,null,null,null,null,null,null,null,null,null,null,null,null,null,null,null,null,null,null,null,null,null,null,null,null,null,null,null,null,null,null,null,null,null,null,null,null,null,null,null,null,null,null,null,null,null,null,null,null,null,null,null,0,0,0,0,0,{"$error":"#DIV/0!"}]
[{"$error":"#VALUE!"},null,null,null,null,null,null,null,null,null,null,null,null,null,null,null,null,null,null,null,null,null,null,null,null,null,null,null,null,null,null,null,null,null,null,null,null,null,null,null,null,null,null,null,null,null,null,null,null,null,null,null,null,null,null,null,null,null,null,null,null,null,null,null,0,0,0,0,0,{"$error":"#DIV/0!"}]
[{"$error":"#VALUE!"},null,null,null,null,null,null,null,null,null,null,null,null,null,null,null,null,null,null,null,null,null,null,null,null,null,null,null,null,null,null,null,null,null,null,null,null,null,null,null,null,null,null,null,null,null,null,null,null,null,null,null,null,null,null,null,null,null,null,null,null,null,null,null,0,0,0,0,0,{"$error":"#DIV/0!"}]
[{"$error":"#VALUE!"},null,null,null,null,null,null,null,null,null,null,null,null,null,null,null,null,null,null,null,null,null,null,null,null,null,null,null,null,null,null,null,null,null,null,null,null,null,null,null,null,null,null,null,null,null,null,null,null,null,null,null,null,null,null,null,null,null,null,null,null,null,null,null,0,0,0,0,0,{"$error":"#DIV/0!"}]
[{"$error":"#VALUE!"},null,null,null,null,null,null,null,null,null,null,null,null,null,null,null,null,null,null,null,null,null,null,null,null,null,null,null,null,null,null,null,null,null,null,null,null,null,null,null,null,null,null,null,null,null,null,null,null,null,null,null,null,null,null,null,null,null,null,null,null,null,null,null,0,0,0,{"$f":"+BN667-BO667","v":0},{"$f":"COUNT(C667:BJ667)/3","v":0},{"$f":"+BM667/BQ667","v":{"$error":"#DIV/0!"}}]
[{"$error":"#VALUE!"},null,null,null,null,null,null,null,null,null,null,null,null,null,null,null,null,null,null,null,null,null,null,null,null,null,null,null,null,null,null,null,null,null,null,null,null,null,null,null,null,null,null,null,null,null,null,null,null,null,null,null,null,null,null,null,null,null,null,null,null,null,null,null,0,0,0,0,0,{"$error":"#DIV/0!"}]
[{"$error":"#VALUE!"},null,null,null,null,null,null,null,null,null,null,null,null,null,null,null,null,null,null,null,null,null,null,null,null,null,null,null,null,null,null,null,null,null,null,null,null,null,null,null,null,null,null,null,null,null,null,null,null,null,null,null,null,null,null,null,null,null,null,null,null,null,null,null,0,0,0,0,0,{"$error":"#DIV/0!"}]
[{"$error":"#VALUE!"},null,null,null,null,null,null,null,null,null,null,null,null,null,null,null,null,null,null,null,null,null,null,null,null,null,null,null,null,null,null,null,null,null,null,null,null,null,null,null,null,null,null,null,null,null,null,null,null,null,null,null,null,null,null,null,null,null,null,null,null,null,null,null,0,0,0,0,0,{"$error":"#DIV/0!"}]
[{"$error":"#VALUE!"},null,null,null,null,null,null,null,null,null,null,null,null,null,null,null,null,null,null,null,null,null,null,null,null,null,null,null,null,null,null,null,null,null,null,null,null,null,null,null,null,null,null,null,null,null,null,null,null,null,null,null,null,null,null,null,null,null,null,null,null,null,null,null,0,0,0,0,0,{"$error":"#DIV/0!"}]
[{"$error":"#VALUE!"},null,null,null,null,null,null,null,null,null,null,null,null,null,null,null,null,null,null,null,null,null,null,null,null,null,null,null,null,null,null,null,null,null,null,null,null,null,null,null,null,null,null,null,null,null,null,null,null,null,null,null,null,null,null,null,null,null,null,null,null,null,null,null,0,0,0,0,0,{"$error":"#DIV/0!"}]
[{"$error":"#VALUE!"},null,null,null,null,null,null,null,null,null,null,null,null,null,null,null,null,null,null,null,null,null,null,null,null,null,null,null,null,null,null,null,null,null,null,null,null,null,null,null,null,null,null,null,null,null,null,null,null,null,null,null,null,null,null,null,null,null,null,null,null,null,null,null,0,0,0,0,0,{"$error":"#DIV/0!"}]
[{"$error":"#VALUE!"},null,null,null,null,null,null,null,null,null,null,null,null,null,null,null,null,null,null,null,null,null,null,null,null,null,null,null,null,null,null,null,null,null,null,null,null,null,null,null,null,null,null,null,null,null,null,null,null,null,null,null,null,null,null,null,null,null,null,null,null,null,null,null,0,0,0,0,0,{"$error":"#DIV/0!"}]
[{"$error":"#VALUE!"},null,null,null,null,null,null,null,null,null,null,null,null,null,null,null,null,null,null,null,null,null,null,null,null,null,null,null,null,null,null,null,null,null,null,null,null,null,null,null,null,null,null,null,null,null,null,null,null,null,null,null,null,null,null,null,null,null,null,null,null,null,null,null,0,0,0,0,0,{"$error":"#DIV/0!"}]
[{"$error":"#VALUE!"},null,null,null,null,null,null,null,null,null,null,null,null,null,null,null,null,null,null,null,null,null,null,null,null,null,null,null,null,null,null,null,null,null,null,null,null,null,null,null,null,null,null,null,null,null,null,null,null,null,null,null,null,null,null,null,null,null,null,null,null,null,null,null,0,0,0,0,0,{"$error":"#DIV/0!"}]
[{"$error":"#VALUE!"},null,null,null,null,null,null,null,null,null,null,null,null,null,null,null,null,null,null,null,null,null,null,null,null,null,null,null,null,null,null,null,null,null,null,null,null,null,null,null,null,null,null,null,null,null,null,null,null,null,null,null,null,null,null,null,null,null,null,null,null,null,null,null,0,0,0,0,0,{"$error":"#DIV/0!"}]
[{"$error":"#VALUE!"},null,null,null,null,null,null,null,null,null,null,null,null,null,null,null,null,null,null,null,null,null,null,null,null,null,null,null,null,null,null,null,null,null,null,null,null,null,null,null,null,null,null,null,null,null,null,null,null,null,null,null,null,null,null,null,null,null,null,null,null,null,null,null,0,0,0,0,0,{"$error":"#DIV/0!"}]
[{"$error":"#VALUE!"},null,null,null,null,null,null,null,null,null,null,null,null,null,null,null,null,null,null,null,null,null,null,null,null,null,null,null,null,null,null,null,null,null,null,null,null,null,null,null,null,null,null,null,null,null,null,null,null,null,null,null,null,null,null,null,null,null,null,null,null,null,null,null,0,0,0,0,0,{"$error":"#DIV/0!"}]
[{"$error":"#VALUE!"},null,null,null,null,null,null,null,null,null,null,null,null,null,null,null,null,null,null,null,null,null,null,null,null,null,null,null,null,null,null,null,null,null,null,null,null,null,null,null,null,null,null,null,null,null,null,null,null,null,null,null,null,null,null,null,null,null,null,null,null,null,null,null,0,0,0,0,0,{"$error":"#DIV/0!"}]
[{"$error":"#VALUE!"},null,null,null,null,null,null,null,null,null,null,null,null,null,null,null,null,null,null,null,null,null,null,null,null,null,null,null,null,null,null,null,null,null,null,null,null,null,null,null,null,null,null,null,null,null,null,null,null,null,null,null,null,null,null,null,null,null,null,null,null,null,null,null,0,0,0,0,0,{"$error":"#DIV/0!"}]
[{"$error":"#VALUE!"},null,null,null,null,null,null,null,null,null,null,null,null,null,null,null,null,null,null,null,null,null,null,null,null,null,null,null,null,null,null,null,null,null,null,null,null,null,null,null,null,null,null,null,null,null,null,null,null,null,null,null,null,null,null,null,null,null,null,null,null,null,null,null,0,0,0,0,0,{"$error":"#DIV/0!"}]
[{"$error":"#VALUE!"},null,null,null,null,null,null,null,null,null,null,null,null,null,null,null,null,null,null,null,null,null,null,null,null,null,null,null,null,null,null,null,null,null,null,null,null,null,null,null,null,null,null,null,null,null,null,null,null,null,null,null,null,null,null,null,null,null,null,null,null,null,null,null,0,0,0,0,0,{"$error":"#DIV/0!"}]
[{"$error":"#VALUE!"},null,null,null,null,null,null,null,null,null,null,null,null,null,null,null,null,null,null,null,null,null,null,null,null,null,null,null,null,null,null,null,null,null,null,null,null,null,null,null,null,null,null,null,null,null,null,null,null,null,null,null,null,null,null,null,null,null,null,null,null,null,null,null,0,0,0,0,0,{"$error":"#DIV/0!"}]
[{"$error":"#VALUE!"},null,null,null,null,null,null,null,null,null,null,null,null,null,null,null,null,null,null,null,null,null,null,null,null,null,null,null,null,null,null,null,null,null,null,null,null,null,null,null,null,null,null,null,null,null,null,null,null,null,null,null,null,null,null,null,null,null,null,null,null,null,null,null,0,0,0,0,0,{"$error":"#DIV/0!"}]
[{"$error":"#VALUE!"},null,null,null,null,null,null,null,null,null,null,null,null,null,null,null,null,null,null,null,null,null,null,null,null,null,null,null,null,null,null,null,null,null,null,null,null,null,null,null,null,null,null,null,null,null,null,null,null,null,null,null,null,null,null,null,null,null,null,null,null,null,null,null,0,0,0,0,0,{"$error":"#DIV/0!"}]
[{"$error":"#VALUE!"},null,null,null,null,null,null,null,null,null,null,null,null,null,null,null,null,null,null,null,null,null,null,null,null,null,null,null,null,null,null,null,null,null,null,null,null,null,null,null,null,null,null,null,null,null,null,null,null,null,null,null,null,null,null,null,null,null,null,null,null,null,null,null,0,0,0,0,0,{"$error":"#DIV/0!"}]
[{"$error":"#VALUE!"},null,null,null,null,null,null,null,null,null,null,null,null,null,null,null,null,null,null,null,null,null,null,null,null,null,null,null,null,null,null,null,null,null,null,null,null,null,null,null,null,null,null,null,null,null,null,null,null,null,null,null,null,null,null,null,null,null,null,null,null,null,null,null,{"$f":"+BH688+AJ688+AG688+AD688+AA688+X688+U688+R688+O688+L688+I688+F688+C688+AM688+AP688+AS688+AV688+AY688+BB688+BE688","v":0},0,0,0,0,{"$error":"#DIV/0!"}]
[{"$error":"#VALUE!"},null,null,null,null,null,null,null,null,null,null,null,null,null,null,null,null,null,null,null,null,null,null,null,null,null,null,null,null,null,null,null,null,null,null,null,null,null,null,null,null,null,null,null,null,null,null,null,null,null,null,null,null,null,null,null,null,null,null,null,null,null,null,null,0,{"$f":"+BI689+AK689+AH689+AE689+AB689+Y689+V689+S689+P689+M689+J689+G689+D689+AN689+AQ689+AT689+AW689+AZ689+BC689+BF689","v":0},{"$f":"+BJ689+AL689+AI689+AF689+AC689+Z689+W689+T689+Q689+N689+K689+H689+E689+AO689+AR689+AU689+AX689+BA689+BD689+BG689","v":0},0,0,{"$error":"#DIV/0!"}]
[{"$error":"#VALUE!"},null,null,null,null,null,null,null,null,null,null,null,null,null,null,null,null,null,null,null,null,null,null,null,null,null,null,null,null,null,null,null,null,null,null,null,null,null,null,null,null,null,null,null,null,null,null,null,null,null,null,null,null,null,null,null,null,null,null,null,null,null,null,null,0,0,0,0,0,{"$error":"#DIV/0!"}]
[{"$error":"#VALUE!"},null,null,null,null,null,null,null,null,null,null,null,null,null,null,null,null,null,null,null,null,null,null,null,null,null,null,null,null,null,null,null,null,null,null,null,null,null,null,null,null,null,null,null,null,null,null,null,null,null,null,null,null,null,null,null,null,null,null,null,null,null,null,null,0,0,0,0,0,{"$error":"#DIV/0!"}]
[{"$error":"#VALUE!"},null,null,null,null,null,null,null,null,null,null,null,null,null,null,null,null,null,null,null,null,null,null,null,null,null,null,null,null,null,null,null,null,null,null,null,null,null,null,null,null,null,null,null,null,null,null,null,null,null,null,null,null,null,null,null,null,null,null,null,null,null,null,null,0,0,0,0,0,{"$error":"#DIV/0!"}]
[{"$error":"#VALUE!"},null,null,null,null,null,null,null,null,null,null,null,null,null,null,null,null,null,null,null,null,null,null,null,null,null,null,null,null,null,null,null,null,null,null,null,null,null,null,null,null,null,null,null,null,null,null,null,null,null,null,null,null,null,null,null,null,null,null,null,null,null,null,null,0,0,0,0,0,{"$error":"#DIV/0!"}]
[{"$error":"#VALUE!"},null,null,null,null,null,null,null,null,null,null,null,null,null,null,null,null,null,null,null,null,null,null,null,null,null,null,null,null,null,null,null,null,null,null,null,null,null,null,null,null,null,null,null,null,null,null,null,null,null,null,null,null,null,null,null,null,null,null,null,null,null,null,null,0,0,0,0,0,{"$error":"#DIV/0!"}]
[{"$error":"#VALUE!"},null,null,null,null,null,null,null,null,null,null,null,null,null,null,null,null,null,null,null,null,null,null,null,null,null,null,null,null,null,null,null,null,null,null,null,null,null,null,null,null,null,null,null,null,null,null,null,null,null,null,null,null,null,null,null,null,null,null,null,null,null,null,null,0,0,0,0,0,{"$error":"#DIV/0!"}]
[{"$error":"#VALUE!"},null,null,null,null,null,null,null,null,null,null,null,null,null,null,null,null,null,null,null,null,null,null,null,null,null,null,null,null,null,null,null,null,null,null,null,null,null,null,null,null,null,null,null,null,null,null,null,null,null,null,null,null,null,null,null,null,null,null,null,null,null,null,null,0,0,0,0,0,{"$error":"#DIV/0!"}]
[{"$error":"#VALUE!"},null,null,null,null,null,null,null,null,null,null,null,null,null,null,null,null,null,null,null,null,null,null,null,null,null,null,null,null,null,null,null,null,null,null,null,null,null,null,null,null,null,null,null,null,null,null,null,null,null,null,null,null,null,null,null,null,null,null,null,null,null,null,null,0,0,0,0,0,{"$error":"#DIV/0!"}]
[{"$error":"#VALUE!"},null,null,null,null,null,null,null,null,null,null,null,null,null,null,null,null,null,null,null,null,null,null,null,null,null,null,null,null,null,null,null,null,null,null,null,null,null,null,null,null,null,null,null,null,null,null,null,null,null,null,null,null,null,null,null,null,null,null,null,null,null,null,null,0,0,0,0,0,{"$error":"#DIV/0!"}]
[{"$f":"+A698+1","v":{"$error":"#VALUE!"}},null,null,null,null,null,null,null,null,null,null,null,null,null,null,null,null,null,null,null,null,null,null,null,null,null,null,null,null,null,null,null,null,null,null,null,null,null,null,null,null,null,null,null,null,null,null,null,null,null,null,null,null,null,null,null,null,null,null,null,null,null,null,null,0,0,0,0,0,{"$error":"#DIV/0!"}]
[{"$f":"+A699+1","v":{"$error":"#VALUE!"}},null,null,null,null,null,null,null,null,null,null,null,null,null,null,null,null,null,null,null,null,null,null,null,null,null,null,null,null,null,null,null,null,null,null,null,null,null,null,null,null,null,null,null,null,null,null,null,null,null,null,null,null,null,null,null,null,null,null,null,null,null,null,null,0,0,0,0,0,{"$error":"#DIV/0!"}]
[{"$f":"+A700+1","v":{"$error":"#VALUE!"}},null,null,null,null,null,null,null,null,null,null,null,null,null,null,null,null,null,null,null,null,null,null,null,null,null,null,null,null,null,null,null,null,null,null,null,null,null,null,null,null,null,null,null,null,null,null,null,null,null,null,null,null,null,null,null,null,null,null,null,null,null,null,null,0,0,0,0,0,{"$error":"#DIV/0!"}]
[{"$f":"+A701+1","v":{"$error":"#VALUE!"}},null,null,null,null,null,null,null,null,null,null,null,null,null,null,null,null,null,null,null,null,null,null,null,null,null,null,null,null,null,null,null,null,null,null,null,null,null,null,null,null,null,null,null,null,null,null,null,null,null,null,null,null,null,null,null,null,null,null,null,null,null,null,null,0,0,0,0,0,{"$error":"#DIV/0!"}]
[{"$f":"+A702+1","v":{"$error":"#VALUE!"}},null,null,null,null,null,null,null,null,null,null,null,null,null,null,null,null,null,null,null,null,null,null,null,null,null,null,null,null,null,null,null,null,null,null,null,null,null,null,null,null,null,null,null,null,null,null,null,null,null,null,null,null,null,null,null,null,null,null,null,null,null,null,null,0,{"$f":"+BI703+AK703+AH703+AE703+AB703+Y703+V703+S703+P703+M703+J703+G703+D703+AN703+AQ703+AT703+AW703+AZ703+BC703+BF703","v":0},{"$f":"+BJ703+AL703+AI703+AF703+AC703+Z703+W703+T703+Q703+N703+K703+H703+E703+AO703+AR703+AU703+AX703+BA703+BD703+BG703","v":0},{"$f":"+BN703-BO703","v":0},{"$f":"COUNT(C703:BJ703)/3","v":0},{"$f":"+BM703/BQ703","v":{"$error":"#DIV/0!"}}]
[{"$error":"#VALUE!"},null,null,null,null,null,null,null,null,null,null,null,null,null,null,null,null,null,null,null,null,null,null,null,null,null,null,null,null,null,null,null,null,null,null,null,null,null,null,null,null,null,null,null,null,null,null,null,null,null,null,null,null,null,null,null,null,null,null,null,null,null,null,null,0,0,0,0,0,{"$error":"#DIV/0!"}]
[{"$error":"#VALUE!"},null,null,null,null,null,null,null,null,null,null,null,null,null,null,null,null,null,null,null,null,null,null,null,null,null,null,null,null,null,null,null,null,null,null,null,null,null,null,null,null,null,null,null,null,null,null,null,null,null,null,null,null,null,null,null,null,null,null,null,null,null,null,null,0,0,0,0,0,{"$error":"#DIV/0!"}]
[{"$error":"#VALUE!"},null,null,null,null,null,null,null,null,null,null,null,null,null,null,null,null,null,null,null,null,null,null,null,null,null,null,null,null,null,null,null,null,null,null,null,null,null,null,null,null,null,null,null,null,null,null,null,null,null,null,null,null,null,null,null,null,null,null,null,null,null,null,null,0,0,0,0,0,{"$error":"#DIV/0!"}]
[{"$error":"#VALUE!"},null,null,null,null,null,null,null,null,null,null,null,null,null,null,null,null,null,null,null,null,null,null,null,null,null,null,null,null,null,null,null,null,null,null,null,null,null,null,null,null,null,null,null,null,null,null,null,null,null,null,null,null,null,null,null,null,null,null,null,null,null,null,null,0,0,0,0,0,{"$error":"#DIV/0!"}]
[{"$error":"#VALUE!"},null,null,null,null,null,null,null,null,null,null,null,null,null,null,null,null,null,null,null,null,null,null,null,null,null,null,null,null,null,null,null,null,null,null,null,null,null,null,null,null,null,null,null,null,null,null,null,null,null,null,null,null,null,null,null,null,null,null,null,null,null,null,null,0,0,0,0,0,{"$error":"#DIV/0!"}]
[{"$error":"#VALUE!"},null,null,null,null,null,null,null,null,null,null,null,null,null,null,null,null,null,null,null,null,null,null,null,null,null,null,null,null,null,null,null,null,null,null,null,null,null,null,null,null,null,null,null,null,null,null,null,null,null,null,null,null,null,null,null,null,null,null,null,null,null,null,null,0,0,0,0,0,{"$error":"#DIV/0!"}]
[{"$error":"#VALUE!"},null,null,null,null,null,null,null,null,null,null,null,null,null,null,null,null,null,null,null,null,null,null,null,null,null,null,null,null,null,null,null,null,null,null,null,null,null,null,null,null,null,null,null,null,null,null,null,null,null,null,null,null,null,null,null,null,null,null,null,null,null,null,null,0,0,0,0,0,{"$error":"#DIV/0!"}]
[{"$error":"#VALUE!"},null,null,null,null,null,null,null,null,null,null,null,null,null,null,null,null,null,null,null,null,null,null,null,null,null,null,null,null,null,null,null,null,null,null,null,null,null,null,null,null,null,null,null,null,null,null,null,null,null,null,null,null,null,null,null,null,null,null,null,null,null,null,null,0,0,0,0,0,{"$error":"#DIV/0!"}]
[{"$error":"#VALUE!"},null,null,null,null,null,null,null,null,null,null,null,null,null,null,null,null,null,null,null,null,null,null,null,null,null,null,null,null,null,null,null,null,null,null,null,null,null,null,null,null,null,null,null,null,null,null,null,null,null,null,null,null,null,null,null,null,null,null,null,null,null,null,null,0,0,0,0,0,{"$error":"#DIV/0!"}]
[{"$error":"#VALUE!"},null,null,null,null,null,null,null,null,null,null,null,null,null,null,null,null,null,null,null,null,null,null,null,null,null,null,null,null,null,null,null,null,null,null,null,null,null,null,null,null,null,null,null,null,null,null,null,null,null,null,null,null,null,null,null,null,null,null,null,null,null,null,null,0,0,0,0,0,{"$error":"#DIV/0!"}]
[{"$error":"#VALUE!"},null,null,null,null,null,null,null,null,null,null,null,null,null,null,null,null,null,null,null,null,null,null,null,null,null,null,null,null,null,null,null,null,null,null,null,null,null,null,null,null,null,null,null,null,null,null,null,null,null,null,null,null,null,null,null,null,null,null,null,null,null,null,null,0,0,0,0,0,{"$error":"#DIV/0!"}]
[{"$error":"#VALUE!"},null,null,null,null,null,null,null,null,null,null,null,null,null,null,null,null,null,null,null,null,null,null,null,null,null,null,null,null,null,null,null,null,null,null,null,null,null,null,null,null,null,null,null,null,null,null,null,null,null,null,null,null,null,null,null,null,null,null,null,null,null,null,null,0,0,0,0,0,{"$error":"#DIV/0!"}]
[{"$error":"#VALUE!"},null,null,null,null,null,null,null,null,null,null,null,null,null,null,null,null,null,null,null,null,null,null,null,null,null,null,null,null,null,null,null,null,null,null,null,null,null,null,null,null,null,null,null,null,null,null,null,null,null,null,null,null,null,null,null,null,null,null,null,null,null,null,null,0,0,0,0,0,{"$error":"#DIV/0!"}]
[{"$error":"#VALUE!"},null,null,null,null,null,null,null,null,null,null,null,null,null,null,null,null,null,null,null,null,null,null,null,null,null,null,null,null,null,null,null,null,null,null,null,null,null,null,null,null,null,null,null,null,null,null,null,null,null,null,null,null,null,null,null,null,null,null,null,null,null,null,null,0,0,0,0,0,{"$error":"#DIV/0!"}]
[{"$error":"#VALUE!"},null,null,null,null,null,null,null,null,null,null,null,null,null,null,null,null,null,null,null,null,null,null,null,null,null,null,null,null,null,null,null,null,null,null,null,null,null,null,null,null,null,null,null,null,null,null,null,null,null,null,null,null,null,null,null,null,null,null,null,null,null,null,null,0,0,0,0,0,{"$error":"#DIV/0!"}]
[{"$error":"#VALUE!"},null,null,null,null,null,null,null,null,null,null,null,null,null,null,null,null,null,null,null,null,null,null,null,null,null,null,null,null,null,null,null,null,null,null,null,null,null,null,null,null,null,null,null,null,null,null,null,null,null,null,null,null,null,null,null,null,null,null,null,null,null,null,null,0,0,0,0,0,{"$error":"#DIV/0!"}]
[{"$error":"#VALUE!"},null,null,null,null,null,null,null,null,null,null,null,null,null,null,null,null,null,null,null,null,null,null,null,null,null,null,null,null,null,null,null,null,null,null,null,null,null,null,null,null,null,null,null,null,null,null,null,null,null,null,null,null,null,null,null,null,null,null,null,null,null,null,null,0,0,0,0,0,{"$error":"#DIV/0!"}]
[{"$error":"#VALUE!"},null,null,null,null,null,null,null,null,null,null,null,null,null,null,null,null,null,null,null,null,null,null,null,null,null,null,null,null,null,null,null,null,null,null,null,null,null,null,null,null,null,null,null,null,null,null,null,null,null,null,null,null,null,null,null,null,null,null,null,null,null,null,null,0,0,0,0,0,{"$error":"#DIV/0!"}]
[{"$error":"#VALUE!"},null,null,null,null,null,null,null,null,null,null,null,null,null,null,null,null,null,null,null,null,null,null,null,null,null,null,null,null,null,null,null,null,null,null,null,null,null,null,null,null,null,null,null,null,null,null,null,null,null,null,null,null,null,null,null,null,null,null,null,null,null,null,null,0,0,0,0,0,{"$error":"#DIV/0!"}]
[{"$error":"#VALUE!"},null,null,null,null,null,null,null,null,null,null,null,null,null,null,null,null,null,null,null,null,null,null,null,null,null,null,null,null,null,null,null,null,null,null,null,null,null,null,null,null,null,null,null,null,null,null,null,null,null,null,null,null,null,null,null,null,null,null,null,null,null,null,null,0,0,0,0,0,{"$error":"#DIV/0!"}]
[{"$error":"#VALUE!"},null,null,null,null,null,null,null,null,null,null,null,null,null,null,null,null,null,null,null,null,null,null,null,null,null,null,null,null,null,null,null,null,null,null,null,null,null,null,null,null,null,null,null,null,null,null,null,null,null,null,null,null,null,null,null,null,null,null,null,null,null,null,null,0,0,0,0,0,{"$error":"#DIV/0!"}]
[{"$error":"#VALUE!"},null,null,null,null,null,null,null,null,null,null,null,null,null,null,null,null,null,null,null,null,null,null,null,null,null,null,null,null,null,null,null,null,null,null,null,null,null,null,null,null,null,null,null,null,null,null,null,null,null,null,null,null,null,null,null,null,null,null,null,null,null,null,null,0,0,0,0,0,{"$error":"#DIV/0!"}]
[{"$error":"#VALUE!"},null,null,null,null,null,null,null,null,null,null,null,null,null,null,null,null,null,null,null,null,null,null,null,null,null,null,null,null,null,null,null,null,null,null,null,null,null,null,null,null,null,null,null,null,null,null,null,null,null,null,null,null,null,null,null,null,null,null,null,null,null,null,null,0,0,0,0,0,{"$error":"#DIV/0!"}]
[{"$error":"#VALUE!"},null,null,null,null,null,null,null,null,null,null,null,null,null,null,null,null,null,null,null,null,null,null,null,null,null,null,null,null,null,null,null,null,null,null,null,null,null,null,null,null,null,null,null,null,null,null,null,null,null,null,null,null,null,null,null,null,null,null,null,null,null,null,null,0,0,0,0,0,{"$error":"#DIV/0!"}]
[{"$error":"#VALUE!"},null,null,null,null,null,null,null,null,null,null,null,null,null,null,null,null,null,null,null,null,null,null,null,null,null,null,null,null,null,null,null,null,null,null,null,null,null,null,null,null,null,null,null,null,null,null,null,null,null,null,null,null,null,null,null,null,null,null,null,null,null,null,null,0,0,0,0,0,{"$error":"#DIV/0!"}]
[{"$error":"#VALUE!"},null,null,null,null,null,null,null,null,null,null,null,null,null,null,null,null,null,null,null,null,null,null,null,null,null,null,null,null,null,null,null,null,null,null,null,null,null,null,null,null,null,null,null,null,null,null,null,null,null,null,null,null,null,null,null,null,null,null,null,null,null,null,null,0,0,0,0,0,{"$error":"#DIV/0!"}]
[{"$error":"#VALUE!"},null,null,null,null,null,null,null,null,null,null,null,null,null,null,null,null,null,null,null,null,null,null,null,null,null,null,null,null,null,null,null,null,null,null,null,null,null,null,null,null,null,null,null,null,null,null,null,null,null,null,null,null,null,null,null,null,null,null,null,null,null,null,null,0,0,0,0,0,{"$error":"#DIV/0!"}]
[{"$error":"#VALUE!"},null,null,null,null,null,null,null,null,null,null,null,null,null,null,null,null,null,null,null,null,null,null,null,null,null,null,null,null,null,null,null,null,null,null,null,null,null,null,null,null,null,null,null,null,null,null,null,null,null,null,null,null,null,null,null,null,null,null,null,null,null,null,null,0,0,0,0,0,{"$error":"#DIV/0!"}]
[{"$error":"#VALUE!"},null,null,null,null,null,null,null,null,null,null,null,null,null,null,null,null,null,null,null,null,null,null,null,null,null,null,null,null,null,null,null,null,null,null,null,null,null,null,null,null,null,null,null,null,null,null,null,null,null,null,null,null,null,null,null,null,null,null,null,null,null,null,null,0,0,0,0,0,{"$error":"#DIV/0!"}]
[{"$error":"#VALUE!"},null,null,null,null,null,null,null,null,null,null,null,null,null,null,null,null,null,null,null,null,null,null,null,null,null,null,null,null,null,null,null,null,null,null,null,null,null,null,null,null,null,null,null,null,null,null,null,null,null,null,null,null,null,null,null,null,null,null,null,null,null,null,null,0,0,0,0,0,{"$error":"#DIV/0!"}]
[{"$error":"#VALUE!"},null,null,null,null,null,null,null,null,null,null,null,null,null,null,null,null,null,null,null,null,null,null,null,null,null,null,null,null,null,null,null,null,null,null,null,null,null,null,null,null,null,null,null,null,null,null,null,null,null,null,null,null,null,null,null,null,null,null,null,null,null,null,null,0,0,0,0,0,{"$error":"#DIV/0!"}]
[{"$error":"#VALUE!"},null,null,null,null,null,null,null,null,null,null,null,null,null,null,null,null,null,null,null,null,null,null,null,null,null,null,null,null,null,null,null,null,null,null,null,null,null,null,null,null,null,null,null,null,null,null,null,null,null,null,null,null,null,null,null,null,null,null,null,null,null,null,null,0,0,0,0,0,{"$error":"#DIV/0!"}]
[{"$error":"#VALUE!"},null,null,null,null,null,null,null,null,null,null,null,null,null,null,null,null,null,null,null,null,null,null,null,null,null,null,null,null,null,null,null,null,null,null,null,null,null,null,null,null,null,null,null,null,null,null,null,null,null,null,null,null,null,null,null,null,null,null,null,null,null,null,null,0,0,0,0,0,{"$error":"#DIV/0!"}]
[{"$error":"#VALUE!"},null,null,null,null,null,null,null,null,null,null,null,null,null,null,null,null,null,null,null,null,null,null,null,null,null,null,null,null,null,null,null,null,null,null,null,null,null,null,null,null,null,null,null,null,null,null,null,null,null,null,null,null,null,null,null,null,null,null,null,null,null,null,null,0,0,0,0,0,{"$error":"#DIV/0!"}]
[{"$error":"#VALUE!"},null,null,null,null,null,null,null,null,null,null,null,null,null,null,null,null,null,null,null,null,null,null,null,null,null,null,null,null,null,null,null,null,null,null,null,null,null,null,null,null,null,null,null,null,null,null,null,null,null,null,null,null,null,null,null,null,null,null,null,null,null,null,null,0,0,0,0,0,{"$error":"#DIV/0!"}]
[{"$error":"#VALUE!"},null,null,null,null,null,null,null,null,null,null,null,null,null,null,null,null,null,null,null,null,null,null,null,null,null,null,null,null,null,null,null,null,null,null,null,null,null,null,null,null,null,null,null,null,null,null,null,null,null,null,null,null,null,null,null,null,null,null,null,null,null,null,null,0,0,0,0,0,{"$error":"#DIV/0!"}]
[{"$error":"#VALUE!"},null,null,null,null,null,null,null,null,null,null,null,null,null,null,null,null,null,null,null,null,null,null,null,null,null,null,null,null,null,null,null,null,null,null,null,null,null,null,null,null,null,null,null,null,null,null,null,null,null,null,null,null,null,null,null,null,null,null,null,null,null,null,null,0,0,0,0,0,{"$error":"#DIV/0!"}]
[{"$error":"#VALUE!"},null,null,null,null,null,null,null,null,null,null,null,null,null,null,null,null,null,null,null,null,null,null,null,null,null,null,null,null,null,null,null,null,null,null,null,null,null,null,null,null,null,null,null,null,null,null,null,null,null,null,null,null,null,null,null,null,null,null,null,null,null,null,null,0,0,0,0,0,{"$error":"#DIV/0!"}]
[{"$error":"#VALUE!"},null,null,null,null,null,null,null,null,null,null,null,null,null,null,null,null,null,null,null,null,null,null,null,null,null,null,null,null,null,null,null,null,null,null,null,null,null,null,null,null,null,null,null,null,null,null,null,null,null,null,null,null,null,null,null,null,null,null,null,null,null,null,null,0,0,0,0,0,{"$error":"#DIV/0!"}]
[{"$error":"#VALUE!"},null,null,null,null,null,null,null,null,null,null,null,null,null,null,null,null,null,null,null,null,null,null,null,null,null,null,null,null,null,null,null,null,null,null,null,null,null,null,null,null,null,null,null,null,null,null,null,null,null,null,null,null,null,null,null,null,null,null,null,null,null,null,null,0,0,0,0,0,{"$error":"#DIV/0!"}]
[{"$error":"#VALUE!"},null,null,null,null,null,null,null,null,null,null,null,null,null,null,null,null,null,null,null,null,null,null,null,null,null,null,null,null,null,null,null,null,null,null,null,null,null,null,null,null,null,null,null,null,null,null,null,null,null,null,null,null,null,null,null,null,null,null,null,null,null,null,null,0,0,0,0,0,{"$error":"#DIV/0!"}]
[{"$error":"#VALUE!"},null,null,null,null,null,null,null,null,null,null,null,null,null,null,null,null,null,null,null,null,null,null,null,null,null,null,null,null,null,null,null,null,null,null,null,null,null,null,null,null,null,null,null,null,null,null,null,null,null,null,null,null,null,null,null,null,null,null,null,null,null,null,null,0,0,0,0,0,{"$error":"#DIV/0!"}]
[{"$error":"#VALUE!"},null,null,null,null,null,null,null,null,null,null,null,null,null,null,null,null,null,null,null,null,null,null,null,null,null,null,null,null,null,null,null,null,null,null,null,null,null,null,null,null,null,null,null,null,null,null,null,null,null,null,null,null,null,null,null,null,null,null,null,null,null,null,null,0,0,0,0,0,{"$error":"#DIV/0!"}]
[{"$error":"#VALUE!"},null,null,null,null,null,null,null,null,null,null,null,null,null,null,null,null,null,null,null,null,null,null,null,null,null,null,null,null,null,null,null,null,null,null,null,null,null,null,null,null,null,null,null,null,null,null,null,null,null,null,null,null,null,null,null,null,null,null,null,null,null,null,null,0,0,0,0,0,{"$error":"#DIV/0!"}]
[{"$error":"#VALUE!"},null,null,null,null,null,null,null,null,null,null,null,null,null,null,null,null,null,null,null,null,null,null,null,null,null,null,null,null,null,null,null,null,null,null,null,null,null,null,null,null,null,null,null,null,null,null,null,null,null,null,null,null,null,null,null,null,null,null,null,null,null,null,null,0,0,0,0,0,{"$error":"#DIV/0!"}]
[{"$error":"#VALUE!"},null,null,null,null,null,null,null,null,null,null,null,null,null,null,null,null,null,null,null,null,null,null,null,null,null,null,null,null,null,null,null,null,null,null,null,null,null,null,null,null,null,null,null,null,null,null,null,null,null,null,null,null,null,null,null,null,null,null,null,null,null,null,null,0,0,0,0,0,{"$error":"#DIV/0!"}]
[{"$error":"#VALUE!"},null,null,null,null,null,null,null,null,null,null,null,null,null,null,null,null,null,null,null,null,null,null,null,null,null,null,null,null,null,null,null,null,null,null,null,null,null,null,null,null,null,null,null,null,null,null,null,null,null,null,null,null,null,null,null,null,null,null,null,null,null,null,null,0,0,0,0,0,{"$error":"#DIV/0!"}]
[{"$error":"#VALUE!"},null,null,null,null,null,null,null,null,null,null,null,null,null,null,null,null,null,null,null,null,null,null,null,null,null,null,null,null,null,null,null,null,null,null,null,null,null,null,null,null,null,null,null,null,null,null,null,null,null,null,null,null,null,null,null,null,null,null,null,null,null,null,null,0,0,0,0,0,{"$error":"#DIV/0!"}]
[{"$error":"#VALUE!"},null,null,null,null,null,null,null,null,null,null,null,null,null,null,null,null,null,null,null,null,null,null,null,null,null,null,null,null,null,null,null,null,null,null,null,null,null,null,null,null,null,null,null,null,null,null,null,null,null,null,null,null,null,null,null,null,null,null,null,null,null,null,null,{"$f":"+BH752+AJ752+AG752+AD752+AA752+X752+U752+R752+O752+L752+I752+F752+C752+AM752+AP752+AS752+AV752+AY752+BB752+BE752","v":0},0,0,0,0,{"$error":"#DIV/0!"}]
[{"$error":"#VALUE!"},null,null,null,null,null,null,null,null,null,null,null,null,null,null,null,null,null,null,null,null,null,null,null,null,null,null,null,null,null,null,null,null,null,null,null,null,null,null,null,null,null,null,null,null,null,null,null,null,null,null,null,null,null,null,null,null,null,null,null,null,null,null,null,0,0,0,0,0,{"$error":"#DIV/0!"}]
[{"$error":"#VALUE!"},null,null,null,null,null,null,null,null,null,null,null,null,null,null,null,null,null,null,null,null,null,null,null,null,null,null,null,null,null,null,null,null,null,null,null,null,null,null,null,null,null,null,null,null,null,null,null,null,null,null,null,null,null,null,null,null,null,null,null,null,null,null,null,0,0,0,0,0,{"$error":"#DIV/0!"}]
[{"$error":"#VALUE!"},null,null,null,null,null,null,null,null,null,null,null,null,null,null,null,null,null,null,null,null,null,null,null,null,null,null,null,null,null,null,null,null,null,null,null,null,null,null,null,null,null,null,null,null,null,null,null,null,null,null,null,null,null,null,null,null,null,null,null,null,null,null,null,0,0,0,0,0,{"$error":"#DIV/0!"}]
[{"$error":"#VALUE!"},null,null,null,null,null,null,null,null,null,null,null,null,null,null,null,null,null,null,null,null,null,null,null,null,null,null,null,null,null,null,null,null,null,null,null,null,null,null,null,null,null,null,null,null,null,null,null,null,null,null,null,null,null,null,null,null,null,null,null,null,null,null,null,0,0,0,0,0,{"$error":"#DIV/0!"}]
[{"$error":"#VALUE!"},null,null,null,null,null,null,null,null,null,null,null,null,null,null,null,null,null,null,null,null,null,null,null,null,null,null,null,null,null,null,null,null,null,null,null,null,null,null,null,null,null,null,null,null,null,null,null,null,null,null,null,null,null,null,null,null,null,null,null,null,null,null,null,0,0,0,0,0,{"$error":"#DIV/0!"}]
[{"$error":"#VALUE!"},null,null,null,null,null,null,null,null,null,null,null,null,null,null,null,null,null,null,null,null,null,null,null,null,null,null,null,null,null,null,null,null,null,null,null,null,null,null,null,null,null,null,null,null,null,null,null,null,null,null,null,null,null,null,null,null,null,null,null,null,null,null,null,0,0,0,0,0,{"$error":"#DIV/0!"}]
[{"$error":"#VALUE!"},null,null,null,null,null,null,null,null,null,null,null,null,null,null,null,null,null,null,null,null,null,null,null,null,null,null,null,null,null,null,null,null,null,null,null,null,null,null,null,null,null,null,null,null,null,null,null,null,null,null,null,null,null,null,null,null,null,null,null,null,null,null,null,0,0,0,0,0,{"$error":"#DIV/0!"}]
[{"$error":"#VALUE!"},null,null,null,null,null,null,null,null,null,null,null,null,null,null,null,null,null,null,null,null,null,null,null,null,null,null,null,null,null,null,null,null,null,null,null,null,null,null,null,null,null,null,null,null,null,null,null,null,null,null,null,null,null,null,null,null,null,null,null,null,null,null,null,0,0,0,0,0,{"$error":"#DIV/0!"}]
[{"$error":"#VALUE!"},null,null,null,null,null,null,null,null,null,null,null,null,null,null,null,null,null,null,null,null,null,null,null,null,null,null,null,null,null,null,null,null,null,null,null,null,null,null,null,null,null,null,null,null,null,null,null,null,null,null,null,null,null,null,null,null,null,null,null,null,null,null,null,0,0,0,0,0,{"$error":"#DIV/0!"}]
[{"$error":"#VALUE!"},null,null,null,null,null,null,null,null,null,null,null,null,null,null,null,null,null,null,null,null,null,null,null,null,null,null,null,null,null,null,null,null,null,null,null,null,null,null,null,null,null,null,null,null,null,null,null,null,null,null,null,null,null,null,null,null,null,null,null,null,null,null,null,0,0,0,0,0,{"$error":"#DIV/0!"}]
[{"$error":"#VALUE!"},null,null,null,null,null,null,null,null,null,null,null,null,null,null,null,null,null,null,null,null,null,null,null,null,null,null,null,null,null,null,null,null,null,null,null,null,null,null,null,null,null,null,null,null,null,null,null,null,null,null,null,null,null,null,null,null,null,null,null,null,null,null,null,0,0,0,0,0,{"$error":"#DIV/0!"}]
[{"$error":"#VALUE!"},null,null,null,null,null,null,null,null,null,null,null,null,null,null,null,null,null,null,null,null,null,null,null,null,null,null,null,null,null,null,null,null,null,null,null,null,null,null,null,null,null,null,null,null,null,null,null,null,null,null,null,null,null,null,null,null,null,null,null,null,null,null,null,0,0,0,0,0,{"$error":"#DIV/0!"}]
[{"$error":"#VALUE!"},null,null,null,null,null,null,null,null,null,null,null,null,null,null,null,null,null,null,null,null,null,null,null,null,null,null,null,null,null,null,null,null,null,null,null,null,null,null,null,null,null,null,null,null,null,null,null,null,null,null,null,null,null,null,null,null,null,null,null,null,null,null,null,0,0,0,0,0,{"$error":"#DIV/0!"}]
[{"$error":"#VALUE!"},null,null,null,null,null,null,null,null,null,null,null,null,null,null,null,null,null,null,null,null,null,null,null,null,null,null,null,null,null,null,null,null,null,null,null,null,null,null,null,null,null,null,null,null,null,null,null,null,null,null,null,null,null,null,null,null,null,null,null,null,null,null,null,0,0,0,0,0,{"$error":"#DIV/0!"}]
[{"$f":"+A766+1","v":{"$error":"#VALUE!"}},null,null,null,null,null,null,null,null,null,null,null,null,null,null,null,null,null,null,null,null,null,null,null,null,null,null,null,null,null,null,null,null,null,null,null,null,null,null,null,null,null,null,null,null,null,null,null,null,null,null,null,null,null,null,null,null,null,null,null,null,null,null,null,0,{"$f":"+BI767+AK767+AH767+AE767+AB767+Y767+V767+S767+P767+M767+J767+G767+D767+AN767+AQ767+AT767+AW767+AZ767+BC767+BF767","v":0},{"$f":"+BJ767+AL767+AI767+AF767+AC767+Z767+W767+T767+Q767+N767+K767+H767+E767+AO767+AR767+AU767+AX767+BA767+BD767+BG767","v":0},{"$f":"+BN767-BO767","v":0},{"$f":"COUNT(C767:BJ767)/3","v":0},{"$f":"+BM767/BQ767","v":{"$error":"#DIV/0!"}}]
[{"$error":"#VALUE!"},null,null,null,null,null,null,null,null,null,null,null,null,null,null,null,null,null,null,null,null,null,null,null,null,null,null,null,null,null,null,null,null,null,null,null,null,null,null,null,null,null,null,null,null,null,null,null,null,null,null,null,null,null,null,null,null,null,null,null,null,null,null,null,0,0,0,0,0,{"$error":"#DIV/0!"}]
[{"$error":"#VALUE!"},null,null,null,null,null,null,null,null,null,null,null,null,null,null,null,null,null,null,null,null,null,null,null,null,null,null,null,null,null,null,null,null,null,null,null,null,null,null,null,null,null,null,null,null,null,null,null,null,null,null,null,null,null,null,null,null,null,null,null,null,null,null,null,0,0,0,0,0,{"$error":"#DIV/0!"}]
[{"$error":"#VALUE!"},null,null,null,null,null,null,null,null,null,null,null,null,null,null,null,null,null,null,null,null,null,null,null,null,null,null,null,null,null,null,null,null,null,null,null,null,null,null,null,null,null,null,null,null,null,null,null,null,null,null,null,null,null,null,null,null,null,null,null,null,null,null,null,0,0,0,0,0,{"$error":"#DIV/0!"}]
[{"$error":"#VALUE!"},null,null,null,null,null,null,null,null,null,null,null,null,null,null,null,null,null,null,null,null,null,null,null,null,null,null,null,null,null,null,null,null,null,null,null,null,null,null,null,null,null,null,null,null,null,null,null,null,null,null,null,null,null,null,null,null,null,null,null,null,null,null,null,0,0,0,0,0,{"$error":"#DIV/0!"}]
[{"$error":"#VALUE!"},null,null,null,null,null,null,null,null,null,null,null,null,null,null,null,null,null,null,null,null,null,null,null,null,null,null,null,null,null,null,null,null,null,null,null,null,null,null,null,null,null,null,null,null,null,null,null,null,null,null,null,null,null,null,null,null,null,null,null,null,null,null,null,0,0,0,0,0,{"$error":"#DIV/0!"}]
[{"$error":"#VALUE!"},null,null,null,null,null,null,null,null,null,null,null,null,null,null,null,null,null,null,null,null,null,null,null,null,null,null,null,null,null,null,null,null,null,null,null,null,null,null,null,null,null,null,null,null,null,null,null,null,null,null,null,null,null,null,null,null,null,null,null,null,null,null,null,0,0,0,0,0,{"$error":"#DIV/0!"}]
[{"$error":"#VALUE!"},null,null,null,null,null,null,null,null,null,null,null,null,null,null,null,null,null,null,null,null,null,null,null,null,null,null,null,null,null,null,null,null,null,null,null,null,null,null,null,null,null,null,null,null,null,null,null,null,null,null,null,null,null,null,null,null,null,null,null,null,null,null,null,0,0,0,0,0,{"$error":"#DIV/0!"}]
[{"$error":"#VALUE!"},null,null,null,null,null,null,null,null,null,null,null,null,null,null,null,null,null,null,null,null,null,null,null,null,null,null,null,null,null,null,null,null,null,null,null,null,null,null,null,null,null,null,null,null,null,null,null,null,null,null,null,null,null,null,null,null,null,null,null,null,null,null,null,0,0,0,0,0,{"$error":"#DIV/0!"}]
[{"$error":"#VALUE!"},null,null,null,null,null,null,null,null,null,null,null,null,null,null,null,null,null,null,null,null,null,null,null,null,null,null,null,null,null,null,null,null,null,null,null,null,null,null,null,null,null,null,null,null,null,null,null,null,null,null,null,null,null,null,null,null,null,null,null,null,null,null,null,0,0,0,0,0,{"$error":"#DIV/0!"}]
[{"$error":"#VALUE!"},null,null,null,null,null,null,null,null,null,null,null,null,null,null,null,null,null,null,null,null,null,null,null,null,null,null,null,null,null,null,null,null,null,null,null,null,null,null,null,null,null,null,null,null,null,null,null,null,null,null,null,null,null,null,null,null,null,null,null,null,null,null,null,0,0,0,0,0,{"$error":"#DIV/0!"}]
[{"$error":"#VALUE!"},null,null,null,null,null,null,null,null,null,null,null,null,null,null,null,null,null,null,null,null,null,null,null,null,null,null,null,null,null,null,null,null,null,null,null,null,null,null,null,null,null,null,null,null,null,null,null,null,null,null,null,null,null,null,null,null,null,null,null,null,null,null,null,0,0,0,0,0,{"$error":"#DIV/0!"}]
[{"$error":"#VALUE!"},null,null,null,null,null,null,null,null,null,null,null,null,null,null,null,null,null,null,null,null,null,null,null,null,null,null,null,null,null,null,null,null,null,null,null,null,null,null,null,null,null,null,null,null,null,null,null,null,null,null,null,null,null,null,null,null,null,null,null,null,null,null,null,0,0,0,0,0,{"$error":"#DIV/0!"}]
[{"$error":"#VALUE!"},null,null,null,null,null,null,null,null,null,null,null,null,null,null,null,null,null,null,null,null,null,null,null,null,null,null,null,null,null,null,null,null,null,null,null,null,null,null,null,null,null,null,null,null,null,null,null,null,null,null,null,null,null,null,null,null,null,null,null,null,null,null,null,0,0,0,0,0,{"$error":"#DIV/0!"}]
[{"$error":"#VALUE!"},null,null,null,null,null,null,null,null,null,null,null,null,null,null,null,null,null,null,null,null,null,null,null,null,null,null,null,null,null,null,null,null,null,null,null,null,null,null,null,null,null,null,null,null,null,null,null,null,null,null,null,null,null,null,null,null,null,null,null,null,null,null,null,0,0,0,0,0,{"$error":"#DIV/0!"}]
[{"$error":"#VALUE!"},null,null,null,null,null,null,null,null,null,null,null,null,null,null,null,null,null,null,null,null,null,null,null,null,null,null,null,null,null,null,null,null,null,null,null,null,null,null,null,null,null,null,null,null,null,null,null,null,null,null,null,null,null,null,null,null,null,null,null,null,null,null,null,0,0,0,0,0,{"$error":"#DIV/0!"}]
[{"$error":"#VALUE!"},null,null,null,null,null,null,null,null,null,null,null,null,null,null,null,null,null,null,null,null,null,null,null,null,null,null,null,null,null,null,null,null,null,null,null,null,null,null,null,null,null,null,null,null,null,null,null,null,null,null,null,null,null,null,null,null,null,null,null,null,null,null,null,0,0,0,0,0,{"$error":"#DIV/0!"}]
[{"$error":"#VALUE!"},null,null,null,null,null,null,null,null,null,null,null,null,null,null,null,null,null,null,null,null,null,null,null,null,null,null,null,null,null,null,null,null,null,null,null,null,null,null,null,null,null,null,null,null,null,null,null,null,null,null,null,null,null,null,null,null,null,null,null,null,null,null,null,0,0,0,0,0,{"$error":"#DIV/0!"}]
[{"$error":"#VALUE!"},null,null,null,null,null,null,null,null,null,null,null,null,null,null,null,null,null,null,null,null,null,null,null,null,null,null,null,null,null,null,null,null,null,null,null,null,null,null,null,null,null,null,null,null,null,null,null,null,null,null,null,null,null,null,null,null,null,null,null,null,null,null,null,0,0,0,0,0,{"$error":"#DIV/0!"}]
[{"$error":"#VALUE!"},null,null,null,null,null,null,null,null,null,null,null,null,null,null,null,null,null,null,null,null,null,null,null,null,null,null,null,null,null,null,null,null,null,null,null,null,null,null,null,null,null,null,null,null,null,null,null,null,null,null,null,null,null,null,null,null,null,null,null,null,null,null,null,0,0,0,0,0,{"$error":"#DIV/0!"}]
[{"$error":"#VALUE!"},null,null,null,null,null,null,null,null,null,null,null,null,null,null,null,null,null,null,null,null,null,null,null,null,null,null,null,null,null,null,null,null,null,null,null,null,null,null,null,null,null,null,null,null,null,null,null,null,null,null,null,null,null,null,null,null,null,null,null,null,null,null,null,0,0,0,0,0,{"$error":"#DIV/0!"}]
[{"$error":"#VALUE!"},null,null,null,null,null,null,null,null,null,null,null,null,null,null,null,null,null,null,null,null,null,null,null,null,null,null,null,null,null,null,null,null,null,null,null,null,null,null,null,null,null,null,null,null,null,null,null,null,null,null,null,null,null,null,null,null,null,null,null,null,null,null,null,0,0,0,0,0,{"$error":"#DIV/0!"}]
[{"$error":"#VALUE!"},null,null,null,null,null,null,null,null,null,null,null,null,null,null,null,null,null,null,null,null,null,null,null,null,null,null,null,null,null,null,null,null,null,null,null,null,null,null,null,null,null,null,null,null,null,null,null,null,null,null,null,null,null,null,null,null,null,null,null,null,null,null,null,0,0,0,0,0,{"$error":"#DIV/0!"}]
[{"$error":"#VALUE!"},null,null,null,null,null,null,null,null,null,null,null,null,null,null,null,null,null,null,null,null,null,null,null,null,null,null,null,null,null,null,null,null,null,null,null,null,null,null,null,null,null,null,null,null,null,null,null,null,null,null,null,null,null,null,null,null,null,null,null,null,null,null,null,0,0,0,0,0,{"$error":"#DIV/0!"}]
[{"$error":"#VALUE!"},null,null,null,null,null,null,null,null,null,null,null,null,null,null,null,null,null,null,null,null,null,null,null,null,null,null,null,null,null,null,null,null,null,null,null,null,null,null,null,null,null,null,null,null,null,null,null,null,null,null,null,null,null,null,null,null,null,null,null,null,null,null,null,0,0,0,0,0,{"$error":"#DIV/0!"}]
[{"$error":"#VALUE!"},null,null,null,null,null,null,null,null,null,null,null,null,null,null,null,null,null,null,null,null,null,null,null,null,null,null,null,null,null,null,null,null,null,null,null,null,null,null,null,null,null,null,null,null,null,null,null,null,null,null,null,null,null,null,null,null,null,null,null,null,null,null,null,0,0,0,0,0,{"$error":"#DIV/0!"}]
[{"$error":"#VALUE!"},null,null,null,null,null,null,null,null,null,null,null,null,null,null,null,null,null,null,null,null,null,null,null,null,null,null,null,null,null,null,null,null,null,null,null,null,null,null,null,null,null,null,null,null,null,null,null,null,null,null,null,null,null,null,null,null,null,null,null,null,null,null,null,0,0,0,0,0,{"$error":"#DIV/0!"}]
[{"$error":"#VALUE!"},null,null,null,null,null,null,null,null,null,null,null,null,null,null,null,null,null,null,null,null,null,null,null,null,null,null,null,null,null,null,null,null,null,null,null,null,null,null,null,null,null,null,null,null,null,null,null,null,null,null,null,null,null,null,null,null,null,null,null,null,null,null,null,0,0,0,0,0,{"$error":"#DIV/0!"}]
[{"$error":"#VALUE!"},null,null,null,null,null,null,null,null,null,null,null,null,null,null,null,null,null,null,null,null,null,null,null,null,null,null,null,null,null,null,null,null,null,null,null,null,null,null,null,null,null,null,null,null,null,null,null,null,null,null,null,null,null,null,null,null,null,null,null,null,null,null,null,0,0,0,0,0,{"$error":"#DIV/0!"}]
[{"$error":"#VALUE!"},null,null,null,null,null,null,null,null,null,null,null,null,null,null,null,null,null,null,null,null,null,null,null,null,null,null,null,null,null,null,null,null,null,null,null,null,null,null,null,null,null,null,null,null,null,null,null,null,null,null,null,null,null,null,null,null,null,null,null,null,null,null,null,0,0,0,0,0,{"$error":"#DIV/0!"}]
[{"$error":"#VALUE!"},null,null,null,null,null,null,null,null,null,null,null,null,null,null,null,null,null,null,null,null,null,null,null,null,null,null,null,null,null,null,null,null,null,null,null,null,null,null,null,null,null,null,null,null,null,null,null,null,null,null,null,null,null,null,null,null,null,null,null,null,null,null,null,0,0,0,0,0,{"$error":"#DIV/0!"}]
[{"$error":"#VALUE!"},null,null,null,null,null,null,null,null,null,null,null,null,null,null,null,null,null,null,null,null,null,null,null,null,null,null,null,null,null,null,null,null,null,null,null,null,null,null,null,null,null,null,null,null,null,null,null,null,null,null,null,null,null,null,null,null,null,null,null,null,null,null,null,0,0,0,0,0,{"$error":"#DIV/0!"}]
[{"$error":"#VALUE!"},null,null,null,null,null,null,null,null,null,null,null,null,null,null,null,null,null,null,null,null,null,null,null,null,null,null,null,null,null,null,null,null,null,null,null,null,null,null,null,null,null,null,null,null,null,null,null,null,null,null,null,null,null,null,null,null,null,null,null,null,null,null,null,0,0,0,0,0,{"$error":"#DIV/0!"}]
[{"$error":"#VALUE!"},null,null,null,null,null,null,null,null,null,null,null,null,null,null,null,null,null,null,null,null,null,null,null,null,null,null,null,null,null,null,null,null,null,null,null,null,null,null,null,null,null,null,null,null,null,null,null,null,null,null,null,null,null,null,null,null,null,null,null,null,null,null,null,0,0,0,0,0,{"$error":"#DIV/0!"}]
[{"$error":"#VALUE!"},null,null,null,null,null,null,null,null,null,null,null,null,null,null,null,null,null,null,null,null,null,null,null,null,null,null,null,null,null,null,null,null,null,null,null,null,null,null,null,null,null,null,null,null,null,null,null,null,null,null,null,null,null,null,null,null,null,null,null,null,null,null,null,0,0,0,0,0,{"$error":"#DIV/0!"}]
[{"$error":"#VALUE!"},null,null,null,null,null,null,null,null,null,null,null,null,null,null,null,null,null,null,null,null,null,null,null,null,null,null,null,null,null,null,null,null,null,null,null,null,null,null,null,null,null,null,null,null,null,null,null,null,null,null,null,null,null,null,null,null,null,null,null,null,null,null,null,0,0,0,0,0,{"$error":"#DIV/0!"}]
[{"$error":"#VALUE!"},null,null,null,null,null,null,null,null,null,null,null,null,null,null,null,null,null,null,null,null,null,null,null,null,null,null,null,null,null,null,null,null,null,null,null,null,null,null,null,null,null,null,null,null,null,null,null,null,null,null,null,null,null,null,null,null,null,null,null,null,null,null,null,0,0,0,0,0,{"$error":"#DIV/0!"}]
[{"$error":"#VALUE!"},null,null,null,null,null,null,null,null,null,null,null,null,null,null,null,null,null,null,null,null,null,null,null,null,null,null,null,null,null,null,null,null,null,null,null,null,null,null,null,null,null,null,null,null,null,null,null,null,null,null,null,null,null,null,null,null,null,null,null,null,null,null,null,0,0,0,0,0,{"$error":"#DIV/0!"}]
[{"$error":"#VALUE!"},null,null,null,null,null,null,null,null,null,null,null,null,null,null,null,null,null,null,null,null,null,null,null,null,null,null,null,null,null,null,null,null,null,null,null,null,null,null,null,null,null,null,null,null,null,null,null,null,null,null,null,null,null,null,null,null,null,null,null,null,null,null,null,0,0,0,0,0,{"$error":"#DIV/0!"}]
[{"$error":"#VALUE!"},null,null,null,null,null,null,null,null,null,null,null,null,null,null,null,null,null,null,null,null,null,null,null,null,null,null,null,null,null,null,null,null,null,null,null,null,null,null,null,null,null,null,null,null,null,null,null,null,null,null,null,null,null,null,null,null,null,null,null,null,null,null,null,0,0,0,0,0,{"$error":"#DIV/0!"}]
[{"$error":"#VALUE!"},null,null,null,null,null,null,null,null,null,null,null,null,null,null,null,null,null,null,null,null,null,null,null,null,null,null,null,null,null,null,null,null,null,null,null,null,null,null,null,null,null,null,null,null,null,null,null,null,null,null,null,null,null,null,null,null,null,null,null,null,null,null,null,0,0,0,0,0,{"$error":"#DIV/0!"}]
[{"$error":"#VALUE!"},null,null,null,null,null,null,null,null,null,null,null,null,null,null,null,null,null,null,null,null,null,null,null,null,null,null,null,null,null,null,null,null,null,null,null,null,null,null,null,null,null,null,null,null,null,null,null,null,null,null,null,null,null,null,null,null,null,null,null,null,null,null,null,0,0,0,0,0,{"$error":"#DIV/0!"}]
[{"$error":"#VALUE!"},null,null,null,null,null,null,null,null,null,null,null,null,null,null,null,null,null,null,null,null,null,null,null,null,null,null,null,null,null,null,null,null,null,null,null,null,null,null,null,null,null,null,null,null,null,null,null,null,null,null,null,null,null,null,null,null,null,null,null,null,null,null,null,0,0,0,0,0,{"$error":"#DIV/0!"}]
[{"$error":"#VALUE!"},null,null,null,null,null,null,null,null,null,null,null,null,null,null,null,null,null,null,null,null,null,null,null,null,null,null,null,null,null,null,null,null,null,null,null,null,null,null,null,null,null,null,null,null,null,null,null,null,null,null,null,null,null,null,null,null,null,null,null,null,null,null,null,0,0,0,0,0,{"$error":"#DIV/0!"}]
[{"$error":"#VALUE!"},null,null,null,null,null,null,null,null,null,null,null,null,null,null,null,null,null,null,null,null,null,null,null,null,null,null,null,null,null,null,null,null,null,null,null,null,null,null,null,null,null,null,null,null,null,null,null,null,null,null,null,null,null,null,null,null,null,null,null,null,null,null,null,0,0,0,0,0,{"$error":"#DIV/0!"}]
[{"$error":"#VALUE!"},null,null,null,null,null,null,null,null,null,null,null,null,null,null,null,null,null,null,null,null,null,null,null,null,null,null,null,null,null,null,null,null,null,null,null,null,null,null,null,null,null,null,null,null,null,null,null,null,null,null,null,null,null,null,null,null,null,null,null,null,null,null,null,0,0,0,0,0,{"$error":"#DIV/0!"}]
[{"$error":"#VALUE!"},null,null,null,null,null,null,null,null,null,null,null,null,null,null,null,null,null,null,null,null,null,null,null,null,null,null,null,null,null,null,null,null,null,null,null,null,null,null,null,null,null,null,null,null,null,null,null,null,null,null,null,null,null,null,null,null,null,null,null,null,null,null,null,0,0,0,0,0,{"$error":"#DIV/0!"}]
[{"$error":"#VALUE!"},null,null,null,null,null,null,null,null,null,null,null,null,null,null,null,null,null,null,null,null,null,null,null,null,null,null,null,null,null,null,null,null,null,null,null,null,null,null,null,null,null,null,null,null,null,null,null,null,null,null,null,null,null,null,null,null,null,null,null,null,null,null,null,0,0,0,0,0,{"$error":"#DIV/0!"}]
[{"$error":"#VALUE!"},null,null,null,null,null,null,null,null,null,null,null,null,null,null,null,null,null,null,null,null,null,null,null,null,null,null,null,null,null,null,null,null,null,null,null,null,null,null,null,null,null,null,null,null,null,null,null,null,null,null,null,null,null,null,null,null,null,null,null,null,null,null,null,0,0,0,0,0,{"$error":"#DIV/0!"}]
[{"$error":"#VALUE!"},null,null,null,null,null,null,null,null,null,null,null,null,null,null,null,null,null,null,null,null,null,null,null,null,null,null,null,null,null,null,null,null,null,null,null,null,null,null,null,null,null,null,null,null,null,null,null,null,null,null,null,null,null,null,null,null,null,null,null,null,null,null,null,{"$f":"+BH816+AJ816+AG816+AD816+AA816+X816+U816+R816+O816+L816+I816+F816+C816+AM816+AP816+AS816+AV816+AY816+BB816+BE816","v":0},0,0,0,0,{"$error":"#DIV/0!"}]
[{"$error":"#VALUE!"},null,null,null,null,null,null,null,null,null,null,null,null,null,null,null,null,null,null,null,null,null,null,null,null,null,null,null,null,null,null,null,null,null,null,null,null,null,null,null,null,null,null,null,null,null,null,null,null,null,null,null,null,null,null,null,null,null,null,null,null,null,null,null,0,0,0,0,0,{"$error":"#DIV/0!"}]
[{"$error":"#VALUE!"},null,null,null,null,null,null,null,null,null,null,null,null,null,null,null,null,null,null,null,null,null,null,null,null,null,null,null,null,null,null,null,null,null,null,null,null,null,null,null,null,null,null,null,null,null,null,null,null,null,null,null,null,null,null,null,null,null,null,null,null,null,null,null,0,0,0,0,0,{"$error":"#DIV/0!"}]
[{"$error":"#VALUE!"},null,null,null,null,null,null,null,null,null,null,null,null,null,null,null,null,null,null,null,null,null,null,null,null,null,null,null,null,null,null,null,null,null,null,null,null,null,null,null,null,null,null,null,null,null,null,null,null,null,null,null,null,null,null,null,null,null,null,null,null,null,null,null,0,0,0,0,0,{"$error":"#DIV/0!"}]
[{"$error":"#VALUE!"},null,null,null,null,null,null,null,null,null,null,null,null,null,null,null,null,null,null,null,null,null,null,null,null,null,null,null,null,null,null,null,null,null,null,null,null,null,null,null,null,null,null,null,null,null,null,null,null,null,null,null,null,null,null,null,null,null,null,null,null,null,null,null,0,0,0,0,0,{"$error":"#DIV/0!"}]
[{"$error":"#VALUE!"},null,null,null,null,null,null,null,null,null,null,null,null,null,null,null,null,null,null,null,null,null,null,null,null,null,null,null,null,null,null,null,null,null,null,null,null,null,null,null,null,null,null,null,null,null,null,null,null,null,null,null,null,null,null,null,null,null,null,null,null,null,null,null,0,0,0,0,0,{"$error":"#DIV/0!"}]
[{"$error":"#VALUE!"},null,null,null,null,null,null,null,null,null,null,null,null,null,null,null,null,null,null,null,null,null,null,null,null,null,null,null,null,null,null,null,null,null,null,null,null,null,null,null,null,null,null,null,null,null,null,null,null,null,null,null,null,null,null,null,null,null,null,null,null,null,null,null,0,0,0,0,0,{"$error":"#DIV/0!"}]
[{"$error":"#VALUE!"},null,null,null,null,null,null,null,null,null,null,null,null,null,null,null,null,null,null,null,null,null,null,null,null,null,null,null,null,null,null,null,null,null,null,null,null,null,null,null,null,null,null,null,null,null,null,null,null,null,null,null,null,null,null,null,null,null,null,null,null,null,null,null,0,0,0,0,0,{"$error":"#DIV/0!"}]
[{"$error":"#VALUE!"},null,null,null,null,null,null,null,null,null,null,null,null,null,null,null,null,null,null,null,null,null,null,null,null,null,null,null,null,null,null,null,null,null,null,null,null,null,null,null,null,null,null,null,null,null,null,null,null,null,null,null,null,null,null,null,null,null,null,null,null,null,null,null,0,0,0,0,0,{"$error":"#DIV/0!"}]
[{"$error":"#VALUE!"},null,null,null,null,null,null,null,null,null,null,null,null,null,null,null,null,null,null,null,null,null,null,null,null,null,null,null,null,null,null,null,null,null,null,null,null,null,null,null,null,null,null,null,null,null,null,null,null,null,null,null,null,null,null,null,null,null,null,null,null,null,null,null,0,0,0,0,0,{"$error":"#DIV/0!"}]
[{"$error":"#VALUE!"},null,null,null,null,null,null,null,null,null,null,null,null,null,null,null,null,null,null,null,null,null,null,null,null,null,null,null,null,null,null,null,null,null,null,null,null,null,null,null,null,null,null,null,null,null,null,null,null,null,null,null,null,null,null,null,null,null,null,null,null,null,null,null,0,0,0,0,0,{"$error":"#DIV/0!"}]
[{"$error":"#VALUE!"},null,null,null,null,null,null,null,null,null,null,null,null,null,null,null,null,null,null,null,null,null,null,null,null,null,null,null,null,null,null,null,null,null,null,null,null,null,null,null,null,null,null,null,null,null,null,null,null,null,null,null,null,null,null,null,null,null,null,null,null,null,null,null,0,0,0,0,0,{"$error":"#DIV/0!"}]
[{"$error":"#VALUE!"},null,null,null,null,null,null,null,null,null,null,null,null,null,null,null,null,null,null,null,null,null,null,null,null,null,null,null,null,null,null,null,null,null,null,null,null,null,null,null,null,null,null,null,null,null,null,null,null,null,null,null,null,null,null,null,null,null,null,null,null,null,null,null,0,0,0,0,0,{"$error":"#DIV/0!"}]
[{"$error":"#VALUE!"},null,null,null,null,null,null,null,null,null,null,null,null,null,null,null,null,null,null,null,null,null,null,null,null,null,null,null,null,null,null,null,null,null,null,null,null,null,null,null,null,null,null,null,null,null,null,null,null,null,null,null,null,null,null,null,null,null,null,null,null,null,null,null,0,0,0,0,0,{"$error":"#DIV/0!"}]
[{"$error":"#VALUE!"},null,null,null,null,null,null,null,null,null,null,null,null,null,null,null,null,null,null,null,null,null,null,null,null,null,null,null,null,null,null,null,null,null,null,null,null,null,null,null,null,null,null,null,null,null,null,null,null,null,null,null,null,null,null,null,null,null,null,null,null,null,null,null,0,0,0,0,0,{"$error":"#DIV/0!"}]
[{"$f":"+A830+1","v":{"$error":"#VALUE!"}},null,null,null,null,null,null,null,null,null,null,null,null,null,null,null,null,null,null,null,null,null,null,null,null,null,null,null,null,null,null,null,null,null,null,null,null,null,null,null,null,null,null,null,null,null,null,null,null,null,null,null,null,null,null,null,null,null,null,null,null,null,null,null,0,{"$f":"+BI831+AK831+AH831+AE831+AB831+Y831+V831+S831+P831+M831+J831+G831+D831+AN831+AQ831+AT831+AW831+AZ831+BC831+BF831","v":0},{"$f":"+BJ831+AL831+AI831+AF831+AC831+Z831+W831+T831+Q831+N831+K831+H831+E831+AO831+AR831+AU831+AX831+BA831+BD831+BG831","v":0},{"$f":"+BN831-BO831","v":0},{"$f":"COUNT(C831:BJ831)/3","v":0},{"$f":"+BM831/BQ831","v":{"$error":"#DIV/0!"}}]
[{"$error":"#VALUE!"},null,null,null,null,null,null,null,null,null,null,null,null,null,null,null,null,null,null,null,null,null,null,null,null,null,null,null,null,null,null,null,null,null,null,null,null,null,null,null,null,null,null,null,null,null,null,null,null,null,null,null,null,null,null,null,null,null,null,null,null,null,null,null,0,0,0,0,0,{"$error":"#DIV/0!"}]
[{"$error":"#VALUE!"},null,null,null,null,null,null,null,null,null,null,null,null,null,null,null,null,null,null,null,null,null,null,null,null,null,null,null,null,null,null,null,null,null,null,null,null,null,null,null,null,null,null,null,null,null,null,null,null,null,null,null,null,null,null,null,null,null,null,null,null,null,null,null,0,0,0,0,0,{"$error":"#DIV/0!"}]
[{"$error":"#VALUE!"},null,null,null,null,null,null,null,null,null,null,null,null,null,null,null,null,null,null,null,null,null,null,null,null,null,null,null,null,null,null,null,null,null,null,null,null,null,null,null,null,null,null,null,null,null,null,null,null,null,null,null,null,null,null,null,null,null,null,null,null,null,null,null,0,0,0,0,0,{"$error":"#DIV/0!"}]
[{"$error":"#VALUE!"},null,null,null,null,null,null,null,null,null,null,null,null,null,null,null,null,null,null,null,null,null,null,null,null,null,null,null,null,null,null,null,null,null,null,null,null,null,null,null,null,null,null,null,null,null,null,null,null,null,null,null,null,null,null,null,null,null,null,null,null,null,null,null,0,0,0,0,0,{"$error":"#DIV/0!"}]
[{"$error":"#VALUE!"},null,null,null,null,null,null,null,null,null,null,null,null,null,null,null,null,null,null,null,null,null,null,null,null,null,null,null,null,null,null,null,null,null,null,null,null,null,null,null,null,null,null,null,null,null,null,null,null,null,null,null,null,null,null,null,null,null,null,null,null,null,null,null,0,0,0,0,0,{"$error":"#DIV/0!"}]
[{"$error":"#VALUE!"},null,null,null,null,null,null,null,null,null,null,null,null,null,null,null,null,null,null,null,null,null,null,null,null,null,null,null,null,null,null,null,null,null,null,null,null,null,null,null,null,null,null,null,null,null,null,null,null,null,null,null,null,null,null,null,null,null,null,null,null,null,null,null,0,0,0,0,0,{"$error":"#DIV/0!"}]
[{"$error":"#VALUE!"},null,null,null,null,null,null,null,null,null,null,null,null,null,null,null,null,null,null,null,null,null,null,null,null,null,null,null,null,null,null,null,null,null,null,null,null,null,null,null,null,null,null,null,null,null,null,null,null,null,null,null,null,null,null,null,null,null,null,null,null,null,null,null,0,0,0,0,0,{"$error":"#DIV/0!"}]
[{"$error":"#VALUE!"},null,null,null,null,null,null,null,null,null,null,null,null,null,null,null,null,null,null,null,null,null,null,null,null,null,null,null,null,null,null,null,null,null,null,null,null,null,null,null,null,null,null,null,null,null,null,null,null,null,null,null,null,null,null,null,null,null,null,null,null,null,null,null,0,0,0,0,0,{"$error":"#DIV/0!"}]
[{"$error":"#VALUE!"},null,null,null,null,null,null,null,null,null,null,null,null,null,null,null,null,null,null,null,null,null,null,null,null,null,null,null,null,null,null,null,null,null,null,null,null,null,null,null,null,null,null,null,null,null,null,null,null,null,null,null,null,null,null,null,null,null,null,null,null,null,null,null,0,0,0,0,0,{"$error":"#DIV/0!"}]
[{"$error":"#VALUE!"},null,null,null,null,null,null,null,null,null,null,null,null,null,null,null,null,null,null,null,null,null,null,null,null,null,null,null,null,null,null,null,null,null,null,null,null,null,null,null,null,null,null,null,null,null,null,null,null,null,null,null,null,null,null,null,null,null,null,null,null,null,null,null,0,0,0,0,0,{"$error":"#DIV/0!"}]
[{"$error":"#VALUE!"},null,null,null,null,null,null,null,null,null,null,null,null,null,null,null,null,null,null,null,null,null,null,null,null,null,null,null,null,null,null,null,null,null,null,null,null,null,null,null,null,null,null,null,null,null,null,null,null,null,null,null,null,null,null,null,null,null,null,null,null,null,null,null,0,0,0,0,0,{"$error":"#DIV/0!"}]
[{"$error":"#VALUE!"},null,null,null,null,null,null,null,null,null,null,null,null,null,null,null,null,null,null,null,null,null,null,null,null,null,null,null,null,null,null,null,null,null,null,null,null,null,null,null,null,null,null,null,null,null,null,null,null,null,null,null,null,null,null,null,null,null,null,null,null,null,null,null,0,0,0,0,0,{"$error":"#DIV/0!"}]
[{"$error":"#VALUE!"},null,null,null,null,null,null,null,null,null,null,null,null,null,null,null,null,null,null,null,null,null,null,null,null,null,null,null,null,null,null,null,null,null,null,null,null,null,null,null,null,null,null,null,null,null,null,null,null,null,null,null,null,null,null,null,null,null,null,null,null,null,null,null,0,0,0,0,0,{"$error":"#DIV/0!"}]
[{"$error":"#VALUE!"},null,null,null,null,null,null,null,null,null,null,null,null,null,null,null,null,null,null,null,null,null,null,null,null,null,null,null,null,null,null,null,null,null,null,null,null,null,null,null,null,null,null,null,null,null,null,null,null,null,null,null,null,null,null,null,null,null,null,null,null,null,null,null,0,0,0,0,0,{"$error":"#DIV/0!"}]
[{"$error":"#VALUE!"},null,null,null,null,null,null,null,null,null,null,null,null,null,null,null,null,null,null,null,null,null,null,null,null,null,null,null,null,null,null,null,null,null,null,null,null,null,null,null,null,null,null,null,null,null,null,null,null,null,null,null,null,null,null,null,null,null,null,null,null,null,null,null,0,0,0,0,0,{"$error":"#DIV/0!"}]
[{"$error":"#VALUE!"},null,null,null,null,null,null,null,null,null,null,null,null,null,null,null,null,null,null,null,null,null,null,null,null,null,null,null,null,null,null,null,null,null,null,null,null,null,null,null,null,null,null,null,null,null,null,null,null,null,null,null,null,null,null,null,null,null,null,null,null,null,null,null,0,0,0,0,0,{"$error":"#DIV/0!"}]
[{"$error":"#VALUE!"},null,null,null,null,null,null,null,null,null,null,null,null,null,null,null,null,null,null,null,null,null,null,null,null,null,null,null,null,null,null,null,null,null,null,null,null,null,null,null,null,null,null,null,null,null,null,null,null,null,null,null,null,null,null,null,null,null,null,null,null,null,null,null,0,0,0,0,0,{"$error":"#DIV/0!"}]
[{"$error":"#VALUE!"},null,null,null,null,null,null,null,null,null,null,null,null,null,null,null,null,null,null,null,null,null,null,null,null,null,null,null,null,null,null,null,null,null,null,null,null,null,null,null,null,null,null,null,null,null,null,null,null,null,null,null,null,null,null,null,null,null,null,null,null,null,null,null,0,0,0,0,0,{"$error":"#DIV/0!"}]
[{"$error":"#VALUE!"},null,null,null,null,null,null,null,null,null,null,null,null,null,null,null,null,null,null,null,null,null,null,null,null,null,null,null,null,null,null,null,null,null,null,null,null,null,null,null,null,null,null,null,null,null,null,null,null,null,null,null,null,null,null,null,null,null,null,null,null,null,null,null,0,0,0,0,0,{"$error":"#DIV/0!"}]
[{"$error":"#VALUE!"},null,null,null,null,null,null,null,null,null,null,null,null,null,null,null,null,null,null,null,null,null,null,null,null,null,null,null,null,null,null,null,null,null,null,null,null,null,null,null,null,null,null,null,null,null,null,null,null,null,null,null,null,null,null,null,null,null,null,null,null,null,null,null,0,0,0,0,0,{"$error":"#DIV/0!"}]
[{"$error":"#VALUE!"},null,null,null,null,null,null,null,null,null,null,null,null,null,null,null,null,null,null,null,null,null,null,null,null,null,null,null,null,null,null,null,null,null,null,null,null,null,null,null,null,null,null,null,null,null,null,null,null,null,null,null,null,null,null,null,null,null,null,null,null,null,null,null,0,0,0,0,0,{"$error":"#DIV/0!"}]
[{"$error":"#VALUE!"},null,null,null,null,null,null,null,null,null,null,null,null,null,null,null,null,null,null,null,null,null,null,null,null,null,null,null,null,null,null,null,null,null,null,null,null,null,null,null,null,null,null,null,null,null,null,null,null,null,null,null,null,null,null,null,null,null,null,null,null,null,null,null,0,0,0,0,0,{"$error":"#DIV/0!"}]
[{"$error":"#VALUE!"},null,null,null,null,null,null,null,null,null,null,null,null,null,null,null,null,null,null,null,null,null,null,null,null,null,null,null,null,null,null,null,null,null,null,null,null,null,null,null,null,null,null,null,null,null,null,null,null,null,null,null,null,null,null,null,null,null,null,null,null,null,null,null,0,0,0,0,0,{"$error":"#DIV/0!"}]
[{"$error":"#VALUE!"},null,null,null,null,null,null,null,null,null,null,null,null,null,null,null,null,null,null,null,null,null,null,null,null,null,null,null,null,null,null,null,null,null,null,null,null,null,null,null,null,null,null,null,null,null,null,null,null,null,null,null,null,null,null,null,null,null,null,null,null,null,null,null,0,0,0,0,0,{"$error":"#DIV/0!"}]
[{"$error":"#VALUE!"},null,null,null,null,null,null,null,null,null,null,null,null,null,null,null,null,null,null,null,null,null,null,null,null,null,null,null,null,null,null,null,null,null,null,null,null,null,null,null,null,null,null,null,null,null,null,null,null,null,null,null,null,null,null,null,null,null,null,null,null,null,null,null,0,0,0,0,0,{"$error":"#DIV/0!"}]
[{"$error":"#VALUE!"},null,null,null,null,null,null,null,null,null,null,null,null,null,null,null,null,null,null,null,null,null,null,null,null,null,null,null,null,null,null,null,null,null,null,null,null,null,null,null,null,null,null,null,null,null,null,null,null,null,null,null,null,null,null,null,null,null,null,null,null,null,null,null,0,0,0,0,0,{"$error":"#DIV/0!"}]
[{"$error":"#VALUE!"},null,null,null,null,null,null,null,null,null,null,null,null,null,null,null,null,null,null,null,null,null,null,null,null,null,null,null,null,null,null,null,null,null,null,null,null,null,null,null,null,null,null,null,null,null,null,null,null,null,null,null,null,null,null,null,null,null,null,null,null,null,null,null,0,0,0,0,0,{"$error":"#DIV/0!"}]
[{"$error":"#VALUE!"},null,null,null,null,null,null,null,null,null,null,null,null,null,null,null,null,null,null,null,null,null,null,null,null,null,null,null,null,null,null,null,null,null,null,null,null,null,null,null,null,null,null,null,null,null,null,null,null,null,null,null,null,null,null,null,null,null,null,null,null,null,null,null,0,0,0,0,0,{"$error":"#DIV/0!"}]
[{"$error":"#VALUE!"},null,null,null,null,null,null,null,null,null,null,null,null,null,null,null,null,null,null,null,null,null,null,null,null,null,null,null,null,null,null,null,null,null,null,null,null,null,null,null,null,null,null,null,null,null,null,null,null,null,null,null,null,null,null,null,null,null,null,null,null,null,null,null,0,0,0,0,0,{"$error":"#DIV/0!"}]
[{"$error":"#VALUE!"},null,null,null,null,null,null,null,null,null,null,null,null,null,null,null,null,null,null,null,null,null,null,null,null,null,null,null,null,null,null,null,null,null,null,null,null,null,null,null,null,null,null,null,null,null,null,null,null,null,null,null,null,null,null,null,null,null,null,null,null,null,null,null,0,0,0,0,0,{"$error":"#DIV/0!"}]
[{"$error":"#VALUE!"},null,null,null,null,null,null,null,null,null,null,null,null,null,null,null,null,null,null,null,null,null,null,null,null,null,null,null,null,null,null,null,null,null,null,null,null,null,null,null,null,null,null,null,null,null,null,null,null,null,null,null,null,null,null,null,null,null,null,null,null,null,null,null,0,0,0,0,0,{"$error":"#DIV/0!"}]
[{"$error":"#VALUE!"},null,null,null,null,null,null,null,null,null,null,null,null,null,null,null,null,null,null,null,null,null,null,null,null,null,null,null,null,null,null,null,null,null,null,null,null,null,null,null,null,null,null,null,null,null,null,null,null,null,null,null,null,null,null,null,null,null,null,null,null,null,null,null,0,0,0,0,0,{"$error":"#DIV/0!"}]
[{"$error":"#VALUE!"},null,null,null,null,null,null,null,null,null,null,null,null,null,null,null,null,null,null,null,null,null,null,null,null,null,null,null,null,null,null,null,null,null,null,null,null,null,null,null,null,null,null,null,null,null,null,null,null,null,null,null,null,null,null,null,null,null,null,null,null,null,null,null,0,0,0,0,0,{"$error":"#DIV/0!"}]
[{"$error":"#VALUE!"},null,null,null,null,null,null,null,null,null,null,null,null,null,null,null,null,null,null,null,null,null,null,null,null,null,null,null,null,null,null,null,null,null,null,null,null,null,null,null,null,null,null,null,null,null,null,null,null,null,null,null,null,null,null,null,null,null,null,null,null,null,null,null,0,0,0,0,0,{"$error":"#DIV/0!"}]
[{"$error":"#VALUE!"},null,null,null,null,null,null,null,null,null,null,null,null,null,null,null,null,null,null,null,null,null,null,null,null,null,null,null,null,null,null,null,null,null,null,null,null,null,null,null,null,null,null,null,null,null,null,null,null,null,null,null,null,null,null,null,null,null,null,null,null,null,null,null,0,0,0,0,0,{"$error":"#DIV/0!"}]
[{"$error":"#VALUE!"},null,null,null,null,null,null,null,null,null,null,null,null,null,null,null,null,null,null,null,null,null,null,null,null,null,null,null,null,null,null,null,null,null,null,null,null,null,null,null,null,null,null,null,null,null,null,null,null,null,null,null,null,null,null,null,null,null,null,null,null,null,null,null,0,0,0,0,0,{"$error":"#DIV/0!"}]
[{"$error":"#VALUE!"},null,null,null,null,null,null,null,null,null,null,null,null,null,null,null,null,null,null,null,null,null,null,null,null,null,null,null,null,null,null,null,null,null,null,null,null,null,null,null,null,null,null,null,null,null,null,null,null,null,null,null,null,null,null,null,null,null,null,null,null,null,null,null,0,0,0,0,0,{"$error":"#DIV/0!"}]
[{"$error":"#VALUE!"},null,null,null,null,null,null,null,null,null,null,null,null,null,null,null,null,null,null,null,null,null,null,null,null,null,null,null,null,null,null,null,null,null,null,null,null,null,null,null,null,null,null,null,null,null,null,null,null,null,null,null,null,null,null,null,null,null,null,null,null,null,null,null,0,0,0,0,0,{"$error":"#DIV/0!"}]
[{"$error":"#VALUE!"},null,null,null,null,null,null,null,null,null,null,null,null,null,null,null,null,null,null,null,null,null,null,null,null,null,null,null,null,null,null,null,null,null,null,null,null,null,null,null,null,null,null,null,null,null,null,null,null,null,null,null,null,null,null,null,null,null,null,null,null,null,null,null,0,0,0,0,0,{"$error":"#DIV/0!"}]
[{"$error":"#VALUE!"},null,null,null,null,null,null,null,null,null,null,null,null,null,null,null,null,null,null,null,null,null,null,null,null,null,null,null,null,null,null,null,null,null,null,null,null,null,null,null,null,null,null,null,null,null,null,null,null,null,null,null,null,null,null,null,null,null,null,null,null,null,null,null,0,0,0,0,0,{"$error":"#DIV/0!"}]
[{"$error":"#VALUE!"},null,null,null,null,null,null,null,null,null,null,null,null,null,null,null,null,null,null,null,null,null,null,null,null,null,null,null,null,null,null,null,null,null,null,null,null,null,null,null,null,null,null,null,null,null,null,null,null,null,null,null,null,null,null,null,null,null,null,null,null,null,null,null,0,0,0,0,0,{"$error":"#DIV/0!"}]
[{"$error":"#VALUE!"},null,null,null,null,null,null,null,null,null,null,null,null,null,null,null,null,null,null,null,null,null,null,null,null,null,null,null,null,null,null,null,null,null,null,null,null,null,null,null,null,null,null,null,null,null,null,null,null,null,null,null,null,null,null,null,null,null,null,null,null,null,null,null,0,0,0,0,0,{"$error":"#DIV/0!"}]
[{"$error":"#VALUE!"},null,null,null,null,null,null,null,null,null,null,null,null,null,null,null,null,null,null,null,null,null,null,null,null,null,null,null,null,null,null,null,null,null,null,null,null,null,null,null,null,null,null,null,null,null,null,null,null,null,null,null,null,null,null,null,null,null,null,null,null,null,null,null,0,0,0,0,0,{"$error":"#DIV/0!"}]
[{"$error":"#VALUE!"},null,null,null,null,null,null,null,null,null,null,null,null,null,null,null,null,null,null,null,null,null,null,null,null,null,null,null,null,null,null,null,null,null,null,null,null,null,null,null,null,null,null,null,null,null,null,null,null,null,null,null,null,null,null,null,null,null,null,null,null,null,null,null,0,0,0,0,0,{"$error":"#DIV/0!"}]
[{"$error":"#VALUE!"},null,null,null,null,null,null,null,null,null,null,null,null,null,null,null,null,null,null,null,null,null,null,null,null,null,null,null,null,null,null,null,null,null,null,null,null,null,null,null,null,null,null,null,null,null,null,null,null,null,null,null,null,null,null,null,null,null,null,null,null,null,null,null,0,0,0,0,0,{"$error":"#DIV/0!"}]
[{"$error":"#VALUE!"},null,null,null,null,null,null,null,null,null,null,null,null,null,null,null,null,null,null,null,null,null,null,null,null,null,null,null,null,null,null,null,null,null,null,null,null,null,null,null,null,null,null,null,null,null,null,null,null,null,null,null,null,null,null,null,null,null,null,null,null,null,null,null,0,0,0,0,0,{"$error":"#DIV/0!"}]
[{"$error":"#VALUE!"},null,null,null,null,null,null,null,null,null,null,null,null,null,null,null,null,null,null,null,null,null,null,null,null,null,null,null,null,null,null,null,null,null,null,null,null,null,null,null,null,null,null,null,null,null,null,null,null,null,null,null,null,null,null,null,null,null,null,null,null,null,null,null,0,0,0,0,0,{"$error":"#DIV/0!"}]
[{"$error":"#VALUE!"},null,null,null,null,null,null,null,null,null,null,null,null,null,null,null,null,null,null,null,null,null,null,null,null,null,null,null,null,null,null,null,null,null,null,null,null,null,null,null,null,null,null,null,null,null,null,null,null,null,null,null,null,null,null,null,null,null,null,null,null,null,null,null,0,0,0,0,0,{"$error":"#DIV/0!"}]
[{"$error":"#VALUE!"},null,null,null,null,null,null,null,null,null,null,null,null,null,null,null,null,null,null,null,null,null,null,null,null,null,null,null,null,null,null,null,null,null,null,null,null,null,null,null,null,null,null,null,null,null,null,null,null,null,null,null,null,null,null,null,null,null,null,null,null,null,null,null,{"$f":"+BH880+AJ880+AG880+AD880+AA880+X880+U880+R880+O880+L880+I880+F880+C880+AM880+AP880+AS880+AV880+AY880+BB880+BE880","v":0},0,0,0,0,{"$error":"#DIV/0!"}]
[{"$error":"#VALUE!"},null,null,null,null,null,null,null,null,null,null,null,null,null,null,null,null,null,null,null,null,null,null,null,null,null,null,null,null,null,null,null,null,null,null,null,null,null,null,null,null,null,null,null,null,null,null,null,null,null,null,null,null,null,null,null,null,null,null,null,null,null,null,null,0,0,0,0,0,{"$error":"#DIV/0!"}]
[{"$error":"#VALUE!"},null,null,null,null,null,null,null,null,null,null,null,null,null,null,null,null,null,null,null,null,null,null,null,null,null,null,null,null,null,null,null,null,null,null,null,null,null,null,null,null,null,null,null,null,null,null,null,null,null,null,null,null,null,null,null,null,null,null,null,null,null,null,null,0,0,0,0,0,{"$error":"#DIV/0!"}]
[{"$error":"#VALUE!"},null,null,null,null,null,null,null,null,null,null,null,null,null,null,null,null,null,null,null,null,null,null,null,null,null,null,null,null,null,null,null,null,null,null,null,null,null,null,null,null,null,null,null,null,null,null,null,null,null,null,null,null,null,null,null,null,null,null,null,null,null,null,null,0,0,0,0,0,{"$error":"#DIV/0!"}]
[{"$error":"#VALUE!"},null,null,null,null,null,null,null,null,null,null,null,null,null,null,null,null,null,null,null,null,null,null,null,null,null,null,null,null,null,null,null,null,null,null,null,null,null,null,null,null,null,null,null,null,null,null,null,null,null,null,null,null,null,null,null,null,null,null,null,null,null,null,null,0,0,0,0,0,{"$error":"#DIV/0!"}]
[{"$error":"#VALUE!"},null,null,null,null,null,null,null,null,null,null,null,null,null,null,null,null,null,null,null,null,null,null,null,null,null,null,null,null,null,null,null,null,null,null,null,null,null,null,null,null,null,null,null,null,null,null,null,null,null,null,null,null,null,null,null,null,null,null,null,null,null,null,null,0,0,0,0,0,{"$error":"#DIV/0!"}]
[{"$error":"#VALUE!"},null,null,null,null,null,null,null,null,null,null,null,null,null,null,null,null,null,null,null,null,null,null,null,null,null,null,null,null,null,null,null,null,null,null,null,null,null,null,null,null,null,null,null,null,null,null,null,null,null,null,null,null,null,null,null,null,null,null,null,null,null,null,null,0,0,0,0,0,{"$error":"#DIV/0!"}]
[{"$error":"#VALUE!"},null,null,null,null,null,null,null,null,null,null,null,null,null,null,null,null,null,null,null,null,null,null,null,null,null,null,null,null,null,null,null,null,null,null,null,null,null,null,null,null,null,null,null,null,null,null,null,null,null,null,null,null,null,null,null,null,null,null,null,null,null,null,null,0,0,0,0,0,{"$error":"#DIV/0!"}]
[{"$error":"#VALUE!"},null,null,null,null,null,null,null,null,null,null,null,null,null,null,null,null,null,null,null,null,null,null,null,null,null,null,null,null,null,null,null,null,null,null,null,null,null,null,null,null,null,null,null,null,null,null,null,null,null,null,null,null,null,null,null,null,null,null,null,null,null,null,null,0,0,0,0,0,{"$error":"#DIV/0!"}]
[{"$error":"#VALUE!"},null,null,null,null,null,null,null,null,null,null,null,null,null,null,null,null,null,null,null,null,null,null,null,null,null,null,null,null,null,null,null,null,null,null,null,null,null,null,null,null,null,null,null,null,null,null,null,null,null,null,null,null,null,null,null,null,null,null,null,null,null,null,null,0,0,0,0,0,{"$error":"#DIV/0!"}]
[{"$error":"#VALUE!"},null,null,null,null,null,null,null,null,null,null,null,null,null,null,null,null,null,null,null,null,null,null,null,null,null,null,null,null,null,null,null,null,null,null,null,null,null,null,null,null,null,null,null,null,null,null,null,null,null,null,null,null,null,null,null,null,null,null,null,null,null,null,null,0,0,0,0,0,{"$error":"#DIV/0!"}]
[{"$error":"#VALUE!"},null,null,null,null,null,null,null,null,null,null,null,null,null,null,null,null,null,null,null,null,null,null,null,null,null,null,null,null,null,null,null,null,null,null,null,null,null,null,null,null,null,null,null,null,null,null,null,null,null,null,null,null,null,null,null,null,null,null,null,null,null,null,null,0,0,0,0,0,{"$error":"#DIV/0!"}]
[{"$error":"#VALUE!"},null,null,null,null,null,null,null,null,null,null,null,null,null,null,null,null,null,null,null,null,null,null,null,null,null,null,null,null,null,null,null,null,null,null,null,null,null,null,null,null,null,null,null,null,null,null,null,null,null,null,null,null,null,null,null,null,null,null,null,null,null,null,null,0,0,0,0,0,{"$error":"#DIV/0!"}]
[{"$error":"#VALUE!"},null,null,null,null,null,null,null,null,null,null,null,null,null,null,null,null,null,null,null,null,null,null,null,null,null,null,null,null,null,null,null,null,null,null,null,null,null,null,null,null,null,null,null,null,null,null,null,null,null,null,null,null,null,null,null,null,null,null,null,null,null,null,null,0,0,0,0,0,{"$error":"#DIV/0!"}]
[{"$error":"#VALUE!"},null,null,null,null,null,null,null,null,null,null,null,null,null,null,null,null,null,null,null,null,null,null,null,null,null,null,null,null,null,null,null,null,null,null,null,null,null,null,null,null,null,null,null,null,null,null,null,null,null,null,null,null,null,null,null,null,null,null,null,null,null,null,null,0,0,0,0,0,{"$error":"#DIV/0!"}]
[{"$f":"+A894+1","v":{"$error":"#VALUE!"}},null,null,null,null,null,null,null,null,null,null,null,null,null,null,null,null,null,null,null,null,null,null,null,null,null,null,null,null,null,null,null,null,null,null,null,null,null,null,null,null,null,null,null,null,null,null,null,null,null,null,null,null,null,null,null,null,null,null,null,null,null,null,null,0,{"$f":"+BI895+AK895+AH895+AE895+AB895+Y895+V895+S895+P895+M895+J895+G895+D895+AN895+AQ895+AT895+AW895+AZ895+BC895+BF895","v":0},{"$f":"+BJ895+AL895+AI895+AF895+AC895+Z895+W895+T895+Q895+N895+K895+H895+E895+AO895+AR895+AU895+AX895+BA895+BD895+BG895","v":0},{"$f":"+BN895-BO895","v":0},{"$f":"COUNT(C895:BJ895)/3","v":0},{"$f":"+BM895/BQ895","v":{"$error":"#DIV/0!"}}]
[{"$error":"#VALUE!"},null,null,null,null,null,null,null,null,null,null,null,null,null,null,null,null,null,null,null,null,null,null,null,null,null,null,null,null,null,null,null,null,null,null,null,null,null,null,null,null,null,null,null,null,null,null,null,null,null,null,null,null,null,null,null,null,null,null,null,null,null,null,null,0,0,0,0,0,{"$error":"#DIV/0!"}]
[{"$error":"#VALUE!"},null,null,null,null,null,null,null,null,null,null,null,null,null,null,null,null,null,null,null,null,null,null,null,null,null,null,null,null,null,null,null,null,null,null,null,null,null,null,null,null,null,null,null,null,null,null,null,null,null,null,null,null,null,null,null,null,null,null,null,null,null,null,null,0,0,0,0,0,{"$error":"#DIV/0!"}]
[{"$error":"#VALUE!"},null,null,null,null,null,null,null,null,null,null,null,null,null,null,null,null,null,null,null,null,null,null,null,null,null,null,null,null,null,null,null,null,null,null,null,null,null,null,null,null,null,null,null,null,null,null,null,null,null,null,null,null,null,null,null,null,null,null,null,null,null,null,null,0,0,0,0,0,{"$error":"#DIV/0!"}]
[{"$error":"#VALUE!"},null,null,null,null,null,null,null,null,null,null,null,null,null,null,null,null,null,null,null,null,null,null,null,null,null,null,null,null,null,null,null,null,null,null,null,null,null,null,null,null,null,null,null,null,null,null,null,null,null,null,null,null,null,null,null,null,null,null,null,null,null,null,null,0,0,0,0,0,{"$error":"#DIV/0!"}]
[{"$error":"#VALUE!"},null,null,null,null,null,null,null,null,null,null,null,null,null,null,null,null,null,null,null,null,null,null,null,null,null,null,null,null,null,null,null,null,null,null,null,null,null,null,null,null,null,null,null,null,null,null,null,null,null,null,null,null,null,null,null,null,null,null,null,null,null,null,null,0,0,0,0,0,{"$error":"#DIV/0!"}]
[{"$error":"#VALUE!"},null,null,null,null,null,null,null,null,null,null,null,null,null,null,null,null,null,null,null,null,null,null,null,null,null,null,null,null,null,null,null,null,null,null,null,null,null,null,null,null,null,null,null,null,null,null,null,null,null,null,null,null,null,null,null,null,null,null,null,null,null,null,null,0,0,0,0,0,{"$error":"#DIV/0!"}]
[{"$error":"#VALUE!"},null,null,null,null,null,null,null,null,null,null,null,null,null,null,null,null,null,null,null,null,null,null,null,null,null,null,null,null,null,null,null,null,null,null,null,null,null,null,null,null,null,null,null,null,null,null,null,null,null,null,null,null,null,null,null,null,null,null,null,null,null,null,null,0,0,0,0,0,{"$error":"#DIV/0!"}]
[{"$error":"#VALUE!"},null,null,null,null,null,null,null,null,null,null,null,null,null,null,null,null,null,null,null,null,null,null,null,null,null,null,null,null,null,null,null,null,null,null,null,null,null,null,null,null,null,null,null,null,null,null,null,null,null,null,null,null,null,null,null,null,null,null,null,null,null,null,null,0,0,0,0,0,{"$error":"#DIV/0!"}]
[{"$error":"#VALUE!"},null,null,null,null,null,null,null,null,null,null,null,null,null,null,null,null,null,null,null,null,null,null,null,null,null,null,null,null,null,null,null,null,null,null,null,null,null,null,null,null,null,null,null,null,null,null,null,null,null,null,null,null,null,null,null,null,null,null,null,null,null,null,null,0,0,0,0,0,{"$error":"#DIV/0!"}]
[{"$error":"#VALUE!"},null,null,null,null,null,null,null,null,null,null,null,null,null,null,null,null,null,null,null,null,null,null,null,null,null,null,null,null,null,null,null,null,null,null,null,null,null,null,null,null,null,null,null,null,null,null,null,null,null,null,null,null,null,null,null,null,null,null,null,null,null,null,null,0,0,0,0,0,{"$error":"#DIV/0!"}]
[{"$error":"#VALUE!"},null,null,null,null,null,null,null,null,null,null,null,null,null,null,null,null,null,null,null,null,null,null,null,null,null,null,null,null,null,null,null,null,null,null,null,null,null,null,null,null,null,null,null,null,null,null,null,null,null,null,null,null,null,null,null,null,null,null,null,null,null,null,null,0,0,0,0,0,{"$error":"#DIV/0!"}]
[{"$error":"#VALUE!"},null,null,null,null,null,null,null,null,null,null,null,null,null,null,null,null,null,null,null,null,null,null,null,null,null,null,null,null,null,null,null,null,null,null,null,null,null,null,null,null,null,null,null,null,null,null,null,null,null,null,null,null,null,null,null,null,null,null,null,null,null,null,null,0,0,0,0,0,{"$error":"#DIV/0!"}]
[{"$error":"#VALUE!"},null,null,null,null,null,null,null,null,null,null,null,null,null,null,null,null,null,null,null,null,null,null,null,null,null,null,null,null,null,null,null,null,null,null,null,null,null,null,null,null,null,null,null,null,null,null,null,null,null,null,null,null,null,null,null,null,null,null,null,null,null,null,null,0,0,0,0,0,{"$error":"#DIV/0!"}]
[{"$error":"#VALUE!"},null,null,null,null,null,null,null,null,null,null,null,null,null,null,null,null,null,null,null,null,null,null,null,null,null,null,null,null,null,null,null,null,null,null,null,null,null,null,null,null,null,null,null,null,null,null,null,null,null,null,null,null,null,null,null,null,null,null,null,null,null,null,null,0,0,0,0,0,{"$error":"#DIV/0!"}]
[{"$error":"#VALUE!"},null,null,null,null,null,null,null,null,null,null,null,null,null,null,null,null,null,null,null,null,null,null,null,null,null,null,null,null,null,null,null,null,null,null,null,null,null,null,null,null,null,null,null,null,null,null,null,null,null,null,null,null,null,null,null,null,null,null,null,null,null,null,null,0,0,0,0,0,{"$error":"#DIV/0!"}]
[{"$error":"#VALUE!"},null,null,null,null,null,null,null,null,null,null,null,null,null,null,null,null,null,null,null,null,null,null,null,null,null,null,null,null,null,null,null,null,null,null,null,null,null,null,null,null,null,null,null,null,null,null,null,null,null,null,null,null,null,null,null,null,null,null,null,null,null,null,null,0,0,0,0,0,{"$error":"#DIV/0!"}]
[{"$error":"#VALUE!"},null,null,null,null,null,null,null,null,null,null,null,null,null,null,null,null,null,null,null,null,null,null,null,null,null,null,null,null,null,null,null,null,null,null,null,null,null,null,null,null,null,null,null,null,null,null,null,null,null,null,null,null,null,null,null,null,null,null,null,null,null,null,null,0,0,0,0,0,{"$error":"#DIV/0!"}]
[{"$error":"#VALUE!"},null,null,null,null,null,null,null,null,null,null,null,null,null,null,null,null,null,null,null,null,null,null,null,null,null,null,null,null,null,null,null,null,null,null,null,null,null,null,null,null,null,null,null,null,null,null,null,null,null,null,null,null,null,null,null,null,null,null,null,null,null,null,null,0,0,0,0,0,{"$error":"#DIV/0!"}]
[{"$error":"#VALUE!"},null,null,null,null,null,null,null,null,null,null,null,null,null,null,null,null,null,null,null,null,null,null,null,null,null,null,null,null,null,null,null,null,null,null,null,null,null,null,null,null,null,null,null,null,null,null,null,null,null,null,null,null,null,null,null,null,null,null,null,null,null,null,null,0,0,0,0,0,{"$error":"#DIV/0!"}]
[{"$error":"#VALUE!"},null,null,null,null,null,null,null,null,null,null,null,null,null,null,null,null,null,null,null,null,null,null,null,null,null,null,null,null,null,null,null,null,null,null,null,null,null,null,null,null,null,null,null,null,null,null,null,null,null,null,null,null,null,null,null,null,null,null,null,null,null,null,null,0,0,0,0,0,{"$error":"#DIV/0!"}]
[{"$error":"#VALUE!"},null,null,null,null,null,null,null,null,null,null,null,null,null,null,null,null,null,null,null,null,null,null,null,null,null,null,null,null,null,null,null,null,null,null,null,null,null,null,null,null,null,null,null,null,null,null,null,null,null,null,null,null,null,null,null,null,null,null,null,null,null,null,null,0,0,0,0,0,{"$error":"#DIV/0!"}]
[{"$error":"#VALUE!"},null,null,null,null,null,null,null,null,null,null,null,null,null,null,null,null,null,null,null,null,null,null,null,null,null,null,null,null,null,null,null,null,null,null,null,null,null,null,null,null,null,null,null,null,null,null,null,null,null,null,null,null,null,null,null,null,null,null,null,null,null,null,null,0,0,0,0,0,{"$error":"#DIV/0!"}]
[{"$error":"#VALUE!"},null,null,null,null,null,null,null,null,null,null,null,null,null,null,null,null,null,null,null,null,null,null,null,null,null,null,null,null,null,null,null,null,null,null,null,null,null,null,null,null,null,null,null,null,null,null,null,null,null,null,null,null,null,null,null,null,null,null,null,null,null,null,null,0,0,0,0,0,{"$error":"#DIV/0!"}]
[{"$error":"#VALUE!"},null,null,null,null,null,null,null,null,null,null,null,null,null,null,null,null,null,null,null,null,null,null,null,null,null,null,null,null,null,null,null,null,null,null,null,null,null,null,null,null,null,null,null,null,null,null,null,null,null,null,null,null,null,null,null,null,null,null,null,null,null,null,null,0,0,0,0,0,{"$error":"#DIV/0!"}]
[{"$error":"#VALUE!"},null,null,null,null,null,null,null,null,null,null,null,null,null,null,null,null,null,null,null,null,null,null,null,null,null,null,null,null,null,null,null,null,null,null,null,null,null,null,null,null,null,null,null,null,null,null,null,null,null,null,null,null,null,null,null,null,null,null,null,null,null,null,null,0,0,0,0,0,{"$error":"#DIV/0!"}]
[{"$error":"#VALUE!"},null,null,null,null,null,null,null,null,null,null,null,null,null,null,null,null,null,null,null,null,null,null,null,null,null,null,null,null,null,null,null,null,null,null,null,null,null,null,null,null,null,null,null,null,null,null,null,null,null,null,null,null,null,null,null,null,null,null,null,null,null,null,null,0,0,0,0,0,{"$error":"#DIV/0!"}]
[{"$error":"#VALUE!"},null,null,null,null,null,null,null,null,null,null,null,null,null,null,null,null,null,null,null,null,null,null,null,null,null,null,null,null,null,null,null,null,null,null,null,null,null,null,null,null,null,null,null,null,null,null,null,null,null,null,null,null,null,null,null,null,null,null,null,null,null,null,null,0,0,0,0,0,{"$error":"#DIV/0!"}]
[{"$error":"#VALUE!"},null,null,null,null,null,null,null,null,null,null,null,null,null,null,null,null,null,null,null,null,null,null,null,null,null,null,null,null,null,null,null,null,null,null,null,null,null,null,null,null,null,null,null,null,null,null,null,null,null,null,null,null,null,null,null,null,null,null,null,null,null,null,null,0,0,0,0,0,{"$error":"#DIV/0!"}]
[{"$error":"#VALUE!"},null,null,null,null,null,null,null,null,null,null,null,null,null,null,null,null,null,null,null,null,null,null,null,null,null,null,null,null,null,null,null,null,null,null,null,null,null,null,null,null,null,null,null,null,null,null,null,null,null,null,null,null,null,null,null,null,null,null,null,null,null,null,null,0,0,0,0,0,{"$error":"#DIV/0!"}]
[{"$error":"#VALUE!"},null,null,null,null,null,null,null,null,null,null,null,null,null,null,null,null,null,null,null,null,null,null,null,null,null,null,null,null,null,null,null,null,null,null,null,null,null,null,null,null,null,null,null,null,null,null,null,null,null,null,null,null,null,null,null,null,null,null,null,null,null,null,null,0,0,0,0,0,{"$error":"#DIV/0!"}]
[{"$error":"#VALUE!"},null,null,null,null,null,null,null,null,null,null,null,null,null,null,null,null,null,null,null,null,null,null,null,null,null,null,null,null,null,null,null,null,null,null,null,null,null,null,null,null,null,null,null,null,null,null,null,null,null,null,null,null,null,null,null,null,null,null,null,null,null,null,null,0,0,0,0,0,{"$error":"#DIV/0!"}]
[{"$error":"#VALUE!"},null,null,null,null,null,null,null,null,null,null,null,null,null,null,null,null,null,null,null,null,null,null,null,null,null,null,null,null,null,null,null,null,null,null,null,null,null,null,null,null,null,null,null,null,null,null,null,null,null,null,null,null,null,null,null,null,null,null,null,null,null,null,null,0,0,0,0,0,{"$error":"#DIV/0!"}]
[{"$error":"#VALUE!"},null,null,null,null,null,null,null,null,null,null,null,null,null,null,null,null,null,null,null,null,null,null,null,null,null,null,null,null,null,null,null,null,null,null,null,null,null,null,null,null,null,null,null,null,null,null,null,null,null,null,null,null,null,null,null,null,null,null,null,null,null,null,null,0,0,0,0,0,{"$error":"#DIV/0!"}]
[{"$error":"#VALUE!"},null,null,null,null,null,null,null,null,null,null,null,null,null,null,null,null,null,null,null,null,null,null,null,null,null,null,null,null,null,null,null,null,null,null,null,null,null,null,null,null,null,null,null,null,null,null,null,null,null,null,null,null,null,null,null,null,null,null,null,null,null,null,null,0,0,0,0,0,{"$error":"#DIV/0!"}]
[{"$error":"#VALUE!"},null,null,null,null,null,null,null,null,null,null,null,null,null,null,null,null,null,null,null,null,null,null,null,null,null,null,null,null,null,null,null,null,null,null,null,null,null,null,null,null,null,null,null,null,null,null,null,null,null,null,null,null,null,null,null,null,null,null,null,null,null,null,null,0,0,0,0,0,{"$error":"#DIV/0!"}]
[{"$error":"#VALUE!"},null,null,null,null,null,null,null,null,null,null,null,null,null,null,null,null,null,null,null,null,null,null,null,null,null,null,null,null,null,null,null,null,null,null,null,null,null,null,null,null,null,null,null,null,null,null,null,null,null,null,null,null,null,null,null,null,null,null,null,null,null,null,null,0,0,0,0,0,{"$error":"#DIV/0!"}]
[{"$error":"#VALUE!"},null,null,null,null,null,null,null,null,null,null,null,null,null,null,null,null,null,null,null,null,null,null,null,null,null,null,null,null,null,null,null,null,null,null,null,null,null,null,null,null,null,null,null,null,null,null,null,null,null,null,null,null,null,null,null,null,null,null,null,null,null,null,null,0,0,0,0,0,{"$error":"#DIV/0!"}]
[{"$error":"#VALUE!"},null,null,null,null,null,null,null,null,null,null,null,null,null,null,null,null,null,null,null,null,null,null,null,null,null,null,null,null,null,null,null,null,null,null,null,null,null,null,null,null,null,null,null,null,null,null,null,null,null,null,null,null,null,null,null,null,null,null,null,null,null,null,null,0,0,0,0,0,{"$error":"#DIV/0!"}]
[{"$error":"#VALUE!"},null,null,null,null,null,null,null,null,null,null,null,null,null,null,null,null,null,null,null,null,null,null,null,null,null,null,null,null,null,null,null,null,null,null,null,null,null,null,null,null,null,null,null,null,null,null,null,null,null,null,null,null,null,null,null,null,null,null,null,null,null,null,null,0,0,0,0,0,{"$error":"#DIV/0!"}]
[{"$error":"#VALUE!"},null,null,null,null,null,null,null,null,null,null,null,null,null,null,null,null,null,null,null,null,null,null,null,null,null,null,null,null,null,null,null,null,null,null,null,null,null,null,null,null,null,null,null,null,null,null,null,null,null,null,null,null,null,null,null,null,null,null,null,null,null,null,null,0,0,0,0,0,{"$error":"#DIV/0!"}]
[{"$error":"#VALUE!"},null,null,null,null,null,null,null,null,null,null,null,null,null,null,null,null,null,null,null,null,null,null,null,null,null,null,null,null,null,null,null,null,null,null,null,null,null,null,null,null,null,null,null,null,null,null,null,null,null,null,null,null,null,null,null,null,null,null,null,null,null,null,null,0,0,0,0,0,{"$error":"#DIV/0!"}]
[{"$error":"#VALUE!"},null,null,null,null,null,null,null,null,null,null,null,null,null,null,null,null,null,null,null,null,null,null,null,null,null,null,null,null,null,null,null,null,null,null,null,null,null,null,null,null,null,null,null,null,null,null,null,null,null,null,null,null,null,null,null,null,null,null,null,null,null,null,null,0,0,0,0,0,{"$error":"#DIV/0!"}]
[{"$error":"#VALUE!"},null,null,null,null,null,null,null,null,null,null,null,null,null,null,null,null,null,null,null,null,null,null,null,null,null,null,null,null,null,null,null,null,null,null,null,null,null,null,null,null,null,null,null,null,null,null,null,null,null,null,null,null,null,null,null,null,null,null,null,null,null,null,null,0,0,0,0,0,{"$error":"#DIV/0!"}]
[{"$error":"#VALUE!"},null,null,null,null,null,null,null,null,null,null,null,null,null,null,null,null,null,null,null,null,null,null,null,null,null,null,null,null,null,null,null,null,null,null,null,null,null,null,null,null,null,null,null,null,null,null,null,null,null,null,null,null,null,null,null,null,null,null,null,null,null,null,null,0,0,0,0,0,{"$error":"#DIV/0!"}]
[{"$error":"#VALUE!"},null,null,null,null,null,null,null,null,null,null,null,null,null,null,null,null,null,null,null,null,null,null,null,null,null,null,null,null,null,null,null,null,null,null,null,null,null,null,null,null,null,null,null,null,null,null,null,null,null,null,null,null,null,null,null,null,null,null,null,null,null,null,null,0,0,0,0,0,{"$error":"#DIV/0!"}]
[{"$error":"#VALUE!"},null,null,null,null,null,null,null,null,null,null,null,null,null,null,null,null,null,null,null,null,null,null,null,null,null,null,null,null,null,null,null,null,null,null,null,null,null,null,null,null,null,null,null,null,null,null,null,null,null,null,null,null,null,null,null,null,null,null,null,null,null,null,null,0,0,0,0,0,{"$error":"#DIV/0!"}]
[{"$error":"#VALUE!"},null,null,null,null,null,null,null,null,null,null,null,null,null,null,null,null,null,null,null,null,null,null,null,null,null,null,null,null,null,null,null,null,null,null,null,null,null,null,null,null,null,null,null,null,null,null,null,null,null,null,null,null,null,null,null,null,null,null,null,null,null,null,null,0,0,0,0,0,{"$error":"#DIV/0!"}]
[{"$error":"#VALUE!"},null,null,null,null,null,null,null,null,null,null,null,null,null,null,null,null,null,null,null,null,null,null,null,null,null,null,null,null,null,null,null,null,null,null,null,null,null,null,null,null,null,null,null,null,null,null,null,null,null,null,null,null,null,null,null,null,null,null,null,null,null,null,null,0,0,0,0,0,{"$error":"#DIV/0!"}]
[{"$error":"#VALUE!"},null,null,null,null,null,null,null,null,null,null,null,null,null,null,null,null,null,null,null,null,null,null,null,null,null,null,null,null,null,null,null,null,null,null,null,null,null,null,null,null,null,null,null,null,null,null,null,null,null,null,null,null,null,null,null,null,null,null,null,null,null,null,null,{"$f":"+BH944+AJ944+AG944+AD944+AA944+X944+U944+R944+O944+L944+I944+F944+C944+AM944+AP944+AS944+AV944+AY944+BB944+BE944","v":0},0,0,0,0,{"$error":"#DIV/0!"}]
[{"$error":"#VALUE!"},null,null,null,null,null,null,null,null,null,null,null,null,null,null,null,null,null,null,null,null,null,null,null,null,null,null,null,null,null,null,null,null,null,null,null,null,null,null,null,null,null,null,null,null,null,null,null,null,null,null,null,null,null,null,null,null,null,null,null,null,null,null,null,0,0,0,0,0,{"$error":"#DIV/0!"}]
[{"$error":"#VALUE!"},null,null,null,null,null,null,null,null,null,null,null,null,null,null,null,null,null,null,null,null,null,null,null,null,null,null,null,null,null,null,null,null,null,null,null,null,null,null,null,null,null,null,null,null,null,null,null,null,null,null,null,null,null,null,null,null,null,null,null,null,null,null,null,0,0,0,0,0,{"$error":"#DIV/0!"}]
[{"$error":"#VALUE!"},null,null,null,null,null,null,null,null,null,null,null,null,null,null,null,null,null,null,null,null,null,null,null,null,null,null,null,null,null,null,null,null,null,null,null,null,null,null,null,null,null,null,null,null,null,null,null,null,null,null,null,null,null,null,null,null,null,null,null,null,null,null,null,0,0,0,0,0,{"$error":"#DIV/0!"}]
[{"$error":"#VALUE!"},null,null,null,null,null,null,null,null,null,null,null,null,null,null,null,null,null,null,null,null,null,null,null,null,null,null,null,null,null,null,null,null,null,null,null,null,null,null,null,null,null,null,null,null,null,null,null,null,null,null,null,null,null,null,null,null,null,null,null,null,null,null,null,0,0,0,0,0,{"$error":"#DIV/0!"}]
[{"$error":"#VALUE!"},null,null,null,null,null,null,null,null,null,null,null,null,null,null,null,null,null,null,null,null,null,null,null,null,null,null,null,null,null,null,null,null,null,null,null,null,null,null,null,null,null,null,null,null,null,null,null,null,null,null,null,null,null,null,null,null,null,null,null,null,null,null,null,0,0,0,0,0,{"$error":"#DIV/0!"}]
[{"$error":"#VALUE!"},null,null,null,null,null,null,null,null,null,null,null,null,null,null,null,null,null,null,null,null,null,null,null,null,null,null,null,null,null,null,null,null,null,null,null,null,null,null,null,null,null,null,null,null,null,null,null,null,null,null,null,null,null,null,null,null,null,null,null,null,null,null,null,0,0,0,0,0,{"$error":"#DIV/0!"}]
[{"$error":"#VALUE!"},null,null,null,null,null,null,null,null,null,null,null,null,null,null,null,null,null,null,null,null,null,null,null,null,null,null,null,null,null,null,null,null,null,null,null,null,null,null,null,null,null,null,null,null,null,null,null,null,null,null,null,null,null,null,null,null,null,null,null,null,null,null,null,0,0,0,0,0,{"$error":"#DIV/0!"}]
[{"$error":"#VALUE!"},null,null,null,null,null,null,null,null,null,null,null,null,null,null,null,null,null,null,null,null,null,null,null,null,null,null,null,null,null,null,null,null,null,null,null,null,null,null,null,null,null,null,null,null,null,null,null,null,null,null,null,null,null,null,null,null,null,null,null,null,null,null,null,0,0,0,0,0,{"$error":"#DIV/0!"}]
[{"$error":"#VALUE!"},null,null,null,null,null,null,null,null,null,null,null,null,null,null,null,null,null,null,null,null,null,null,null,null,null,null,null,null,null,null,null,null,null,null,null,null,null,null,null,null,null,null,null,null,null,null,null,null,null,null,null,null,null,null,null,null,null,null,null,null,null,null,null,0,0,0,0,0,{"$error":"#DIV/0!"}]
[{"$error":"#VALUE!"},null,null,null,null,null,null,null,null,null,null,null,null,null,null,null,null,null,null,null,null,null,null,null,null,null,null,null,null,null,null,null,null,null,null,null,null,null,null,null,null,null,null,null,null,null,null,null,null,null,null,null,null,null,null,null,null,null,null,null,null,null,null,null,0,0,0,0,0,{"$error":"#DIV/0!"}]
[{"$error":"#VALUE!"},null,null,null,null,null,null,null,null,null,null,null,null,null,null,null,null,null,null,null,null,null,null,null,null,null,null,null,null,null,null,null,null,null,null,null,null,null,null,null,null,null,null,null,null,null,null,null,null,null,null,null,null,null,null,null,null,null,null,null,null,null,null,null,0,0,0,0,0,{"$error":"#DIV/0!"}]
[{"$error":"#VALUE!"},null,null,null,null,null,null,null,null,null,null,null,null,null,null,null,null,null,null,null,null,null,null,null,null,null,null,null,null,null,null,null,null,null,null,null,null,null,null,null,null,null,null,null,null,null,null,null,null,null,null,null,null,null,null,null,null,null,null,null,null,null,null,null,0,0,0,0,0,{"$error":"#DIV/0!"}]
[{"$error":"#VALUE!"},null,null,null,null,null,null,null,null,null,null,null,null,null,null,null,null,null,null,null,null,null,null,null,null,null,null,null,null,null,null,null,null,null,null,null,null,null,null,null,null,null,null,null,null,null,null,null,null,null,null,null,null,null,null,null,null,null,null,null,null,null,null,null,0,0,0,0,0,{"$error":"#DIV/0!"}]
[{"$error":"#VALUE!"},null,null,null,null,null,null,null,null,null,null,null,null,null,null,null,null,null,null,null,null,null,null,null,null,null,null,null,null,null,null,null,null,null,null,null,null,null,null,null,null,null,null,null,null,null,null,null,null,null,null,null,null,null,null,null,null,null,null,null,null,null,null,null,0,0,0,0,0,{"$error":"#DIV/0!"}]
[{"$f":"+A958+1","v":{"$error":"#VALUE!"}},null,null,null,null,null,null,null,null,null,null,null,null,null,null,null,null,null,null,null,null,null,null,null,null,null,null,null,null,null,null,null,null,null,null,null,null,null,null,null,null,null,null,null,null,null,null,null,null,null,null,null,null,null,null,null,null,null,null,null,null,null,null,null,0,{"$f":"+BI959+AK959+AH959+AE959+AB959+Y959+V959+S959+P959+M959+J959+G959+D959+AN959+AQ959+AT959+AW959+AZ959+BC959+BF959","v":0},{"$f":"+BJ959+AL959+AI959+AF959+AC959+Z959+W959+T959+Q959+N959+K959+H959+E959+AO959+AR959+AU959+AX959+BA959+BD959+BG959","v":0},{"$f":"+BN959-BO959","v":0},{"$f":"COUNT(C959:BJ959)/3","v":0},{"$f":"+BM959/BQ959","v":{"$error":"#DIV/0!"}}]
[{"$error":"#VALUE!"},null,null,null,null,null,null,null,null,null,null,null,null,null,null,null,null,null,null,null,null,null,null,null,null,null,null,null,null,null,null,null,null,null,null,null,null,null,null,null,null,null,null,null,null,null,null,null,null,null,null,null,null,null,null,null,null,null,null,null,null,null,null,null,0,0,0,0,0,{"$error":"#DIV/0!"}]
[{"$error":"#VALUE!"},null,null,null,null,null,null,null,null,null,null,null,null,null,null,null,null,null,null,null,null,null,null,null,null,null,null,null,null,null,null,null,null,null,null,null,null,null,null,null,null,null,null,null,null,null,null,null,null,null,null,null,null,null,null,null,null,null,null,null,null,null,null,null,0,0,0,0,0,{"$error":"#DIV/0!"}]
[{"$error":"#VALUE!"},null,null,null,null,null,null,null,null,null,null,null,null,null,null,null,null,null,null,null,null,null,null,null,null,null,null,null,null,null,null,null,null,null,null,null,null,null,null,null,null,null,null,null,null,null,null,null,null,null,null,null,null,null,null,null,null,null,null,null,null,null,null,null,0,0,0,0,0,{"$error":"#DIV/0!"}]
[{"$error":"#VALUE!"},null,null,null,null,null,null,null,null,null,null,null,null,null,null,null,null,null,null,null,null,null,null,null,null,null,null,null,null,null,null,null,null,null,null,null,null,null,null,null,null,null,null,null,null,null,null,null,null,null,null,null,null,null,null,null,null,null,null,null,null,null,null,null,0,0,0,0,0,{"$error":"#DIV/0!"}]
[{"$error":"#VALUE!"},null,null,null,null,null,null,null,null,null,null,null,null,null,null,null,null,null,null,null,null,null,null,null,null,null,null,null,null,null,null,null,null,null,null,null,null,null,null,null,null,null,null,null,null,null,null,null,null,null,null,null,null,null,null,null,null,null,null,null,null,null,null,null,0,0,0,0,0,{"$error":"#DIV/0!"}]
[{"$error":"#VALUE!"},null,null,null,null,null,null,null,null,null,null,null,null,null,null,null,null,null,null,null,null,null,null,null,null,null,null,null,null,null,null,null,null,null,null,null,null,null,null,null,null,null,null,null,null,null,null,null,null,null,null,null,null,null,null,null,null,null,null,null,null,null,null,null,0,0,0,0,0,{"$error":"#DIV/0!"}]
[{"$error":"#VALUE!"},null,null,null,null,null,null,null,null,null,null,null,null,null,null,null,null,null,null,null,null,null,null,null,null,null,null,null,null,null,null,null,null,null,null,null,null,null,null,null,null,null,null,null,null,null,null,null,null,null,null,null,null,null,null,null,null,null,null,null,null,null,null,null,0,0,0,0,0,{"$error":"#DIV/0!"}]
[{"$error":"#VALUE!"},null,null,null,null,null,null,null,null,null,null,null,null,null,null,null,null,null,null,null,null,null,null,null,null,null,null,null,null,null,null,null,null,null,null,null,null,null,null,null,null,null,null,null,null,null,null,null,null,null,null,null,null,null,null,null,null,null,null,null,null,null,null,null,0,0,0,0,0,{"$error":"#DIV/0!"}]
[{"$error":"#VALUE!"},null,null,null,null,null,null,null,null,null,null,null,null,null,null,null,null,null,null,null,null,null,null,null,null,null,null,null,null,null,null,null,null,null,null,null,null,null,null,null,null,null,null,null,null,null,null,null,null,null,null,null,null,null,null,null,null,null,null,null,null,null,null,null,0,0,0,0,0,{"$error":"#DIV/0!"}]
[{"$error":"#VALUE!"},null,null,null,null,null,null,null,null,null,null,null,null,null,null,null,null,null,null,null,null,null,null,null,null,null,null,null,null,null,null,null,null,null,null,null,null,null,null,null,null,null,null,null,null,null,null,null,null,null,null,null,null,null,null,null,null,null,null,null,null,null,null,null,0,0,0,0,0,{"$error":"#DIV/0!"}]
[{"$error":"#VALUE!"},null,null,null,null,null,null,null,null,null,null,null,null,null,null,null,null,null,null,null,null,null,null,null,null,null,null,null,null,null,null,null,null,null,null,null,null,null,null,null,null,null,null,null,null,null,null,null,null,null,null,null,null,null,null,null,null,null,null,null,null,null,null,null,0,{"$f":"+BI970+AK970+AH970+AE970+AB970+Y970+V970+S970+P970+M970+J970+G970+D970+AN970+AQ970+AT970+AW970+AZ970+BC970+BF970","v":0},{"$f":"+BJ970+AL970+AI970+AF970+AC970+Z970+W970+T970+Q970+N970+K970+H970+E970+AO970+AR970+AU970+AX970+BA970+BD970+BG970","v":0},0,0,{"$error":"#DIV/0!"}]
[{"$error":"#VALUE!"},null,null,null,null,null,null,null,null,null,null,null,null,null,null,null,null,null,null,null,null,null,null,null,null,null,null,null,null,null,null,null,null,null,null,null,null,null,null,null,null,null,null,null,null,null,null,null,null,null,null,null,null,null,null,null,null,null,null,null,null,null,null,null,0,{"$f":"+BI971+AK971+AH971+AE971+AB971+Y971+V971+S971+P971+M971+J971+G971+D971+AN971+AQ971+AT971+AW971+AZ971+BC971+BF971","v":0},{"$f":"+BJ971+AL971+AI971+AF971+AC971+Z971+W971+T971+Q971+N971+K971+H971+E971+AO971+AR971+AU971+AX971+BA971+BD971+BG971","v":0},0,0,{"$error":"#DIV/0!"}]
[{"$error":"#VALUE!"},null,null,null,null,null,null,null,null,null,null,null,null,null,null,null,null,null,null,null,null,null,null,null,null,null,null,null,null,null,null,null,null,null,null,null,null,null,null,null,null,null,null,null,null,null,null,null,null,null,null,null,null,null,null,null,null,null,null,null,null,null,null,null,0,{"$f":"+BI972+AK972+AH972+AE972+AB972+Y972+V972+S972+P972+M972+J972+G972+D972+AN972+AQ972+AT972+AW972+AZ972+BC972+BF972","v":0},{"$f":"+BJ972+AL972+AI972+AF972+AC972+Z972+W972+T972+Q972+N972+K972+H972+E972+AO972+AR972+AU972+AX972+BA972+BD972+BG972","v":0},0,0,{"$error":"#DIV/0!"}]
[{"$error":"#VALUE!"},null,null,null,null,null,null,null,null,null,null,null,null,null,null,null,null,null,null,null,null,null,null,null,null,null,null,null,null,null,null,null,null,null,null,null,null,null,null,null,null,null,null,null,null,null,null,null,null,null,null,null,null,null,null,null,null,null,null,null,null,null,null,null,0,0,0,0,0,{"$error":"#DIV/0!"}]
[{"$error":"#VALUE!"},null,null,null,null,null,null,null,null,null,null,null,null,null,null,null,null,null,null,null,null,null,null,null,null,null,null,null,null,null,null,null,null,null,null,null,null,null,null,null,null,null,null,null,null,null,null,null,null,null,null,null,null,null,null,null,null,null,null,null,null,null,null,null,0,0,0,0,0,{"$error":"#DIV/0!"}]
[{"$error":"#VALUE!"},null,null,null,null,null,null,null,null,null,null,null,null,null,null,null,null,null,null,null,null,null,null,null,null,null,null,null,null,null,null,null,null,null,null,null,null,null,null,null,null,null,null,null,null,null,null,null,null,null,null,null,null,null,null,null,null,null,null,null,null,null,null,null,0,0,0,0,0,{"$error":"#DIV/0!"}]
[{"$error":"#VALUE!"},null,null,null,null,null,null,null,null,null,null,null,null,null,null,null,null,null,null,null,null,null,null,null,null,null,null,null,null,null,null,null,null,null,null,null,null,null,null,null,null,null,null,null,null,null,null,null,null,null,null,null,null,null,null,null,null,null,null,null,null,null,null,null,0,0,0,0,0,{"$error":"#DIV/0!"}]
[{"$error":"#VALUE!"},null,null,null,null,null,null,null,null,null,null,null,null,null,null,null,null,null,null,null,null,null,null,null,null,null,null,null,null,null,null,null,null,null,null,null,null,null,null,null,null,null,null,null,null,null,null,null,null,null,null,null,null,null,null,null,null,null,null,null,null,null,null,null,0,0,0,0,0,{"$error":"#DIV/0!"}]
[{"$error":"#VALUE!"},null,null,null,null,null,null,null,null,null,null,null,null,null,null,null,null,null,null,null,null,null,null,null,null,null,null,null,null,null,null,null,null,null,null,null,null,null,null,null,null,null,null,null,null,null,null,null,null,null,null,null,null,null,null,null,null,null,null,null,null,null,null,null,0,0,0,0,0,{"$error":"#DIV/0!"}]
[{"$error":"#VALUE!"},null,null,null,null,null,null,null,null,null,null,null,null,null,null,null,null,null,null,null,null,null,null,null,null,null,null,null,null,null,null,null,null,null,null,null,null,null,null,null,null,null,null,null,null,null,null,null,null,null,null,null,null,null,null,null,null,null,null,null,null,null,null,null,0,0,0,0,0,{"$error":"#DIV/0!"}]
[{"$error":"#VALUE!"},null,null,null,null,null,null,null,null,null,null,null,null,null,null,null,null,null,null,null,null,null,null,null,null,null,null,null,null,null,null,null,null,null,null,null,null,null,null,null,null,null,null,null,null,null,null,null,null,null,null,null,null,null,null,null,null,null,null,null,null,null,null,null,0,0,0,0,0,{"$error":"#DIV/0!"}]
[{"$error":"#VALUE!"},null,null,null,null,null,null,null,null,null,null,null,null,null,null,null,null,null,null,null,null,null,null,null,null,null,null,null,null,null,null,null,null,null,null,null,null,null,null,null,null,null,null,null,null,null,null,null,null,null,null,null,null,null,null,null,null,null,null,null,null,null,null,null,0,0,0,0,0,{"$error":"#DIV/0!"}]
[{"$error":"#VALUE!"},null,null,null,null,null,null,null,null,null,null,null,null,null,null,null,null,null,null,null,null,null,null,null,null,null,null,null,null,null,null,null,null,null,null,null,null,null,null,null,null,null,null,null,null,null,null,null,null,null,null,null,null,null,null,null,null,null,null,null,null,null,null,null,0,0,0,0,0,{"$error":"#DIV/0!"}]
[{"$error":"#VALUE!"},null,null,null,null,null,null,null,null,null,null,null,null,null,null,null,null,null,null,null,null,null,null,null,null,null,null,null,null,null,null,null,null,null,null,null,null,null,null,null,null,null,null,null,null,null,null,null,null,null,null,null,null,null,null,null,null,null,null,null,null,null,null,null,0,0,0,0,0,{"$error":"#DIV/0!"}]
[{"$error":"#VALUE!"},null,null,null,null,null,null,null,null,null,null,null,null,null,null,null,null,null,null,null,null,null,null,null,null,null,null,null,null,null,null,null,null,null,null,null,null,null,null,null,null,null,null,null,null,null,null,null,null,null,null,null,null,null,null,null,null,null,null,null,null,null,null,null,0,0,0,0,0,{"$error":"#DIV/0!"}]
[{"$error":"#VALUE!"},null,null,null,null,null,null,null,null,null,null,null,null,null,null,null,null,null,null,null,null,null,null,null,null,null,null,null,null,null,null,null,null,null,null,null,null,null,null,null,null,null,null,null,null,null,null,null,null,null,null,null,null,null,null,null,null,null,null,null,null,null,null,null,0,0,0,0,0,{"$error":"#DIV/0!"}]
[{"$error":"#VALUE!"},null,null,null,null,null,null,null,null,null,null,null,null,null,null,null,null,null,null,null,null,null,null,null,null,null,null,null,null,null,null,null,null,null,null,null,null,null,null,null,null,null,null,null,null,null,null,null,null,null,null,null,null,null,null,null,null,null,null,null,null,null,null,null,0,0,0,0,0,{"$error":"#DIV/0!"}]
[{"$error":"#VALUE!"},null,null,null,null,null,null,null,null,null,null,null,null,null,null,null,null,null,null,null,null,null,null,null,null,null,null,null,null,null,null,null,null,null,null,null,null,null,null,null,null,null,null,null,null,null,null,null,null,null,null,null,null,null,null,null,null,null,null,null,null,null,null,null,0,0,0,0,0,{"$error":"#DIV/0!"}]
[{"$error":"#VALUE!"},null,null,null,null,null,null,null,null,null,null,null,null,null,null,null,null,null,null,null,null,null,null,null,null,null,null,null,null,null,null,null,null,null,null,null,null,null,null,null,null,null,null,null,null,null,null,null,null,null,null,null,null,null,null,null,null,null,null,null,null,null,null,null,0,0,0,0,0,{"$error":"#DIV/0!"}]
[{"$error":"#VALUE!"},null,null,null,null,null,null,null,null,null,null,null,null,null,null,null,null,null,null,null,null,null,null,null,null,null,null,null,null,null,null,null,null,null,null,null,null,null,null,null,null,null,null,null,null,null,null,null,null,null,null,null,null,null,null,null,null,null,null,null,null,null,null,null,0,0,0,0,0,{"$error":"#DIV/0!"}]
[{"$error":"#VALUE!"},null,null,null,null,null,null,null,null,null,null,null,null,null,null,null,null,null,null,null,null,null,null,null,null,null,null,null,null,null,null,null,null,null,null,null,null,null,null,null,null,null,null,null,null,null,null,null,null,null,null,null,null,null,null,null,null,null,null,null,null,null,null,null,0,0,0,0,0,{"$error":"#DIV/0!"}]
[{"$error":"#VALUE!"},null,null,null,null,null,null,null,null,null,null,null,null,null,null,null,null,null,null,null,null,null,null,null,null,null,null,null,null,null,null,null,null,null,null,null,null,null,null,null,null,null,null,null,null,null,null,null,null,null,null,null,null,null,null,null,null,null,null,null,null,null,null,null,0,0,0,0,0,{"$error":"#DIV/0!"}]
[{"$error":"#VALUE!"},null,null,null,null,null,null,null,null,null,null,null,null,null,null,null,null,null,null,null,null,null,null,null,null,null,null,null,null,null,null,null,null,null,null,null,null,null,null,null,null,null,null,null,null,null,null,null,null,null,null,null,null,null,null,null,null,null,null,null,null,null,null,null,0,0,0,0,0,{"$error":"#DIV/0!"}]
[{"$error":"#VALUE!"},null,null,null,null,null,null,null,null,null,null,null,null,null,null,null,null,null,null,null,null,null,null,null,null,null,null,null,null,null,null,null,null,null,null,null,null,null,null,null,null,null,null,null,null,null,null,null,null,null,null,null,null,null,null,null,null,null,null,null,null,null,null,null,0,0,0,0,0,{"$error":"#DIV/0!"}]
[{"$error":"#VALUE!"},null,null,null,null,null,null,null,null,null,null,null,null,null,null,null,null,null,null,null,null,null,null,null,null,null,null,null,null,null,null,null,null,null,null,null,null,null,null,null,null,null,null,null,null,null,null,null,null,null,null,null,null,null,null,null,null,null,null,null,null,null,null,null,0,0,0,0,0,{"$error":"#DIV/0!"}]
[{"$error":"#VALUE!"},null,null,null,null,null,null,null,null,null,null,null,null,null,null,null,null,null,null,null,null,null,null,null,null,null,null,null,null,null,null,null,null,null,null,null,null,null,null,null,null,null,null,null,null,null,null,null,null,null,null,null,null,null,null,null,null,null,null,null,null,null,null,null,0,0,0,0,0,{"$error":"#DIV/0!"}]
[{"$error":"#VALUE!"},null,null,null,null,null,null,null,null,null,null,null,null,null,null,null,null,null,null,null,null,null,null,null,null,null,null,null,null,null,null,null,null,null,null,null,null,null,null,null,null,null,null,null,null,null,null,null,null,null,null,null,null,null,null,null,null,null,null,null,null,null,null,null,0,0,0,0,0,{"$error":"#DIV/0!"}]
[{"$error":"#VALUE!"},null,null,null,null,null,null,null,null,null,null,null,null,null,null,null,null,null,null,null,null,null,null,null,null,null,null,null,null,null,null,null,null,null,null,null,null,null,null,null,null,null,null,null,null,null,null,null,null,null,null,null,null,null,null,null,null,null,null,null,null,null,null,null,0,0,0,0,0,{"$error":"#DIV/0!"}]
[{"$error":"#VALUE!"},null,null,null,null,null,null,null,null,null,null,null,null,null,null,null,null,null,null,null,null,null,null,null,null,null,null,null,null,null,null,null,null,null,null,null,null,null,null,null,null,null,null,null,null,null,null,null,null,null,null,null,null,null,null,null,null,null,null,null,null,null,null,null,0,0,0,0,0,{"$error":"#DIV/0!"}]
[{"$error":"#VALUE!"},null,null,null,null,null,null,null,null,null,null,null,null,null,null,null,null,null,null,null,null,null,null,null,null,null,null,null,null,null,null,null,null,null,null,null,null,null,null,null,null,null,null,null,null,null,null,null,null,null,null,null,null,null,null,null,null,null,null,null,null,null,null,null,0,0,0,0,0,{"$error":"#DIV/0!"}]
[{"$error":"#VALUE!"},null,null,null,null,null,null,null,null,null,null,null,null,null,null,null,null,null,null,null,null,null,null,null,null,null,null,null,null,null,null,null,null,null,null,null,null,null,null,null,null,null,null,null,null,null,null,null,null,null,null,null,null,null,null,null,null,null,null,null,null,null,null,null,0,{"$f":"+BI1000+AK1000+AH1000+AE1000+AB1000+Y1000+V1000+S1000+P1000+M1000+J1000+G1000+D1000+AN1000+AQ1000+AT1000+AW1000+AZ1000+BC1000+BF1000","v":0},{"$f":"+BJ1000+AL1000+AI1000+AF1000+AC1000+Z1000+W1000+T1000+Q1000+N1000+K1000+H1000+E1000+AO1000+AR1000+AU1000+AX1000+BA1000+BD1000+BG1000","v":0},{"$f":"+BN1000-BO1000","v":0},{"$f":"COUNT(C1000:BJ1000)/3","v":0},{"$f":"+BM1000/BQ1000","v":{"$error":"#DIV/0!"}}]
[{"$error":"#VALUE!"},null,null,null,null,null,null,null,null,null,null,null,null,null,null,null,null,null,null,null,null,null,null,null,null,null,null,null,null,null,null,null,null,null,null,null,null,null,null,null,null,null,null,null,null,null,null,null,null,null,null,null,null,null,null,null,null,null,null,null,null,null,null,null,0,0,0,0,0,{"$error":"#DIV/0!"}]
[{"$error":"#VALUE!"},null,null,null,null,null,null,null,null,null,null,null,null,null,null,null,null,null,null,null,null,null,null,null,null,null,null,null,null,null,null,null,null,null,null,null,null,null,null,null,null,null,null,null,null,null,null,null,null,null,null,null,null,null,null,null,null,null,null,null,null,null,null,null,0,0,0,0,0,{"$error":"#DIV/0!"}]
[{"$error":"#VALUE!"},null,null,null,null,null,null,null,null,null,null,null,null,null,null,null,null,null,null,null,null,null,null,null,null,null,null,null,null,null,null,null,null,null,null,null,null,null,null,null,null,null,null,null,null,null,null,null,null,null,null,null,null,null,null,null,null,null,null,null,null,null,null,null,0,0,0,0,0,{"$error":"#DIV/0!"}]
[{"$error":"#VALUE!"},null,null,null,null,null,null,null,null,null,null,null,null,null,null,null,null,null,null,null,null,null,null,null,null,null,null,null,null,null,null,null,null,null,null,null,null,null,null,null,null,null,null,null,null,null,null,null,null,null,null,null,null,null,null,null,null,null,null,null,null,null,null,null,0,0,0,0,0,{"$error":"#DIV/0!"}]
[{"$error":"#VALUE!"},null,null,null,null,null,null,null,null,null,null,null,null,null,null,null,null,null,null,null,null,null,null,null,null,null,null,null,null,null,null,null,null,null,null,null,null,null,null,null,null,null,null,null,null,null,null,null,null,null,null,null,null,null,null,null,null,null,null,null,null,null,null,null,0,0,0,0,0,{"$error":"#DIV/0!"}]
[{"$error":"#VALUE!"},null,null,null,null,null,null,null,null,null,null,null,null,null,null,null,null,null,null,null,null,null,null,null,null,null,null,null,null,null,null,null,null,null,null,null,null,null,null,null,null,null,null,null,null,null,null,null,null,null,null,null,null,null,null,null,null,null,null,null,null,null,null,null,0,0,0,0,0,{"$error":"#DIV/0!"}]
[{"$error":"#VALUE!"},null,null,null,null,null,null,null,null,null,null,null,null,null,null,null,null,null,null,null,null,null,null,null,null,null,null,null,null,null,null,null,null,null,null,null,null,null,null,null,null,null,null,null,null,null,null,null,null,null,null,null,null,null,null,null,null,null,null,null,null,null,null,null,0,0,0,0,0,{"$error":"#DIV/0!"}]
[{"$error":"#VALUE!"},null,null,null,null,null,null,null,null,null,null,null,null,null,null,null,null,null,null,null,null,null,null,null,null,null,null,null,null,null,null,null,null,null,null,null,null,null,null,null,null,null,null,null,null,null,null,null,null,null,null,null,null,null,null,null,null,null,null,null,null,null,null,null,{"$f":"+BH1008+AJ1008+AG1008+AD1008+AA1008+X1008+U1008+R1008+O1008+L1008+I1008+F1008+C1008+AM1008+AP1008+AS1008+AV1008+AY1008+BB1008+BE1008","v":0},0,0,0,0,{"$error":"#DIV/0!"}]
[{"$error":"#VALUE!"},null,null,null,null,null,null,null,null,null,null,null,null,null,null,null,null,null,null,null,null,null,null,null,null,null,null,null,null,null,null,null,null,null,null,null,null,null,null,null,null,null,null,null,null,null,null,null,null,null,null,null,null,null,null,null,null,null,null,null,null,null,null,null,0,0,0,0,0,{"$error":"#DIV/0!"}]
[{"$error":"#VALUE!"},null,null,null,null,null,null,null,null,null,null,null,null,null,null,null,null,null,null,null,null,null,null,null,null,null,null,null,null,null,null,null,null,null,null,null,null,null,null,null,null,null,null,null,null,null,null,null,null,null,null,null,null,null,null,null,null,null,null,null,null,null,null,null,0,0,0,0,0,{"$error":"#DIV/0!"}]
[{"$error":"#VALUE!"},null,null,null,null,null,null,null,null,null,null,null,null,null,null,null,null,null,null,null,null,null,null,null,null,null,null,null,null,null,null,null,null,null,null,null,null,null,null,null,null,null,null,null,null,null,null,null,null,null,null,null,null,null,null,null,null,null,null,null,null,null,null,null,0,0,0,0,0,{"$error":"#DIV/0!"}]
[{"$error":"#VALUE!"},null,null,null,null,null,null,null,null,null,null,null,null,null,null,null,null,null,null,null,null,null,null,null,null,null,null,null,null,null,null,null,null,null,null,null,null,null,null,null,null,null,null,null,null,null,null,null,null,null,null,null,null,null,null,null,null,null,null,null,null,null,null,null,0,0,0,0,0,{"$error":"#DIV/0!"}]
[{"$error":"#VALUE!"},null,null,null,null,null,null,null,null,null,null,null,null,null,null,null,null,null,null,null,null,null,null,null,null,null,null,null,null,null,null,null,null,null,null,null,null,null,null,null,null,null,null,null,null,null,null,null,null,null,null,null,null,null,null,null,null,null,null,null,null,null,null,null,0,0,0,0,0,{"$error":"#DIV/0!"}]
[{"$error":"#VALUE!"},null,null,null,null,null,null,null,null,null,null,null,null,null,null,null,null,null,null,null,null,null,null,null,null,null,null,null,null,null,null,null,null,null,null,null,null,null,null,null,null,null,null,null,null,null,null,null,null,null,null,null,null,null,null,null,null,null,null,null,null,null,null,null,0,0,0,0,0,{"$error":"#DIV/0!"}]
[{"$error":"#VALUE!"},null,null,null,null,null,null,null,null,null,null,null,null,null,null,null,null,null,null,null,null,null,null,null,null,null,null,null,null,null,null,null,null,null,null,null,null,null,null,null,null,null,null,null,null,null,null,null,null,null,null,null,null,null,null,null,null,null,null,null,null,null,null,null,0,0,0,0,0,{"$error":"#DIV/0!"}]
[{"$error":"#VALUE!"},null,null,null,null,null,null,null,null,null,null,null,null,null,null,null,null,null,null,null,null,null,null,null,null,null,null,null,null,null,null,null,null,null,null,null,null,null,null,null,null,null,null,null,null,null,null,null,null,null,null,null,null,null,null,null,null,null,null,null,null,null,null,null,0,0,0,0,0,{"$error":"#DIV/0!"}]
[{"$error":"#VALUE!"},null,null,null,null,null,null,null,null,null,null,null,null,null,null,null,null,null,null,null,null,null,null,null,null,null,null,null,null,null,null,null,null,null,null,null,null,null,null,null,null,null,null,null,null,null,null,null,null,null,null,null,null,null,null,null,null,null,null,null,null,null,null,null,0,0,0,0,0,{"$error":"#DIV/0!"}]
[{"$error":"#VALUE!"},null,null,null,null,null,null,null,null,null,null,null,null,null,null,null,null,null,null,null,null,null,null,null,null,null,null,null,null,null,null,null,null,null,null,null,null,null,null,null,null,null,null,null,null,null,null,null,null,null,null,null,null,null,null,null,null,null,null,null,null,null,null,null,0,0,0,0,0,{"$error":"#DIV/0!"}]
[{"$error":"#VALUE!"},null,null,null,null,null,null,null,null,null,null,null,null,null,null,null,null,null,null,null,null,null,null,null,null,null,null,null,null,null,null,null,null,null,null,null,null,null,null,null,null,null,null,null,null,null,null,null,null,null,null,null,null,null,null,null,null,null,null,null,null,null,null,null,0,0,0,0,0,{"$error":"#DIV/0!"}]
[{"$error":"#VALUE!"},null,null,null,null,null,null,null,null,null,null,null,null,null,null,null,null,null,null,null,null,null,null,null,null,null,null,null,null,null,null,null,null,null,null,null,null,null,null,null,null,null,null,null,null,null,null,null,null,null,null,null,null,null,null,null,null,null,null,null,null,null,null,null,0,0,0,0,0,{"$error":"#DIV/0!"}]
[{"$error":"#VALUE!"},null,null,null,null,null,null,null,null,null,null,null,null,null,null,null,null,null,null,null,null,null,null,null,null,null,null,null,null,null,null,null,null,null,null,null,null,null,null,null,null,null,null,null,null,null,null,null,null,null,null,null,null,null,null,null,null,null,null,null,null,null,null,null,0,0,0,0,0,{"$error":"#DIV/0!"}]
[{"$error":"#VALUE!"},null,null,null,null,null,null,null,null,null,null,null,null,null,null,null,null,null,null,null,null,null,null,null,null,null,null,null,null,null,null,null,null,null,null,null,null,null,null,null,null,null,null,null,null,null,null,null,null,null,null,null,null,null,null,null,null,null,null,null,null,null,null,null,0,0,0,0,0,{"$error":"#DIV/0!"}]
[{"$f":"+A1022+1","v":{"$error":"#VALUE!"}},null,null,null,null,null,null,null,null,null,null,null,null,null,null,null,null,null,null,null,null,null,null,null,null,null,null,null,null,null,null,null,null,null,null,null,null,null,null,null,null,null,null,null,null,null,null,null,null,null,null,null,null,null,null,null,null,null,null,null,null,null,null,null,0,0,0,0,0,{"$error":"#DIV/0!"}]
[{"$error":"#VALUE!"},null,null,null,null,null,null,null,null,null,null,null,null,null,null,null,null,null,null,null,null,null,null,null,null,null,null,null,null,null,null,null,null,null,null,null,null,null,null,null,null,null,null,null,null,null,null,null,null,null,null,null,null,null,null,null,null,null,null,null,null,null,null,null,0,0,0,0,0,{"$error":"#DIV/0!"}]
[{"$error":"#VALUE!"},null,null,null,null,null,null,null,null,null,null,null,null,null,null,null,null,null,null,null,null,null,null,null,null,null,null,null,null,null,null,null,null,null,null,null,null,null,null,null,null,null,null,null,null,null,null,null,null,null,null,null,null,null,null,null,null,null,null,null,null,null,null,null,0,0,0,0,0,{"$error":"#DIV/0!"}]
[{"$error":"#VALUE!"},null,null,null,null,null,null,null,null,null,null,null,null,null,null,null,null,null,null,null,null,null,null,null,null,null,null,null,null,null,null,null,null,null,null,null,null,null,null,null,null,null,null,null,null,null,null,null,null,null,null,null,null,null,null,null,null,null,null,null,null,null,null,null,0,0,0,0,0,{"$error":"#DIV/0!"}]
[{"$error":"#VALUE!"},null,null,null,null,null,null,null,null,null,null,null,null,null,null,null,null,null,null,null,null,null,null,null,null,null,null,null,null,null,null,null,null,null,null,null,null,null,null,null,null,null,null,null,null,null,null,null,null,null,null,null,null,null,null,null,null,null,null,null,null,null,null,null,0,0,0,0,0,{"$error":"#DIV/0!"}]
[{"$error":"#VALUE!"},null,null,null,null,null,null,null,null,null,null,null,null,null,null,null,null,null,null,null,null,null,null,null,null,null,null,null,null,null,null,null,null,null,null,null,null,null,null,null,null,null,null,null,null,null,null,null,null,null,null,null,null,null,null,null,null,null,null,null,null,null,null,null,0,0,0,0,0,{"$error":"#DIV/0!"}]
[{"$error":"#VALUE!"},null,null,null,null,null,null,null,null,null,null,null,null,null,null,null,null,null,null,null,null,null,null,null,null,null,null,null,null,null,null,null,null,null,null,null,null,null,null,null,null,null,null,null,null,null,null,null,null,null,null,null,null,null,null,null,null,null,null,null,null,null,null,null,0,0,0,0,0,{"$error":"#DIV/0!"}]
[{"$error":"#VALUE!"},null,null,null,null,null,null,null,null,null,null,null,null,null,null,null,null,null,null,null,null,null,null,null,null,null,null,null,null,null,null,null,null,null,null,null,null,null,null,null,null,null,null,null,null,null,null,null,null,null,null,null,null,null,null,null,null,null,null,null,null,null,null,null,0,0,0,0,0,{"$error":"#DIV/0!"}]
[{"$error":"#VALUE!"},null,null,null,null,null,null,null,null,null,null,null,null,null,null,null,null,null,null,null,null,null,null,null,null,null,null,null,null,null,null,null,null,null,null,null,null,null,null,null,null,null,null,null,null,null,null,null,null,null,null,null,null,null,null,null,null,null,null,null,null,null,null,null,0,0,0,0,0,{"$error":"#DIV/0!"}]
[{"$error":"#VALUE!"},null,null,null,null,null,null,null,null,null,null,null,null,null,null,null,null,null,null,null,null,null,null,null,null,null,null,null,null,null,null,null,null,null,null,null,null,null,null,null,null,null,null,null,null,null,null,null,null,null,null,null,null,null,null,null,null,null,null,null,null,null,null,null,0,0,0,0,0,{"$error":"#DIV/0!"}]
[{"$error":"#VALUE!"},null,null,null,null,null,null,null,null,null,null,null,null,null,null,null,null,null,null,null,null,null,null,null,null,null,null,null,null,null,null,null,null,null,null,null,null,null,null,null,null,null,null,null,null,null,null,null,null,null,null,null,null,null,null,null,null,null,null,null,null,null,null,null,0,0,0,0,0,{"$error":"#DIV/0!"}]
[{"$error":"#VALUE!"},null,null,null,null,null,null,null,null,null,null,null,null,null,null,null,null,null,null,null,null,null,null,null,null,null,null,null,null,null,null,null,null,null,null,null,null,null,null,null,null,null,null,null,null,null,null,null,null,null,null,null,null,null,null,null,null,null,null,null,null,null,null,null,0,0,0,0,0,{"$error":"#DIV/0!"}]
[{"$error":"#VALUE!"},null,null,null,null,null,null,null,null,null,null,null,null,null,null,null,null,null,null,null,null,null,null,null,null,null,null,null,null,null,null,null,null,null,null,null,null,null,null,null,null,null,null,null,null,null,null,null,null,null,null,null,null,null,null,null,null,null,null,null,null,null,null,null,0,0,0,0,0,{"$error":"#DIV/0!"}]
[{"$error":"#VALUE!"},null,null,null,null,null,null,null,null,null,null,null,null,null,null,null,null,null,null,null,null,null,null,null,null,null,null,null,null,null,null,null,null,null,null,null,null,null,null,null,null,null,null,null,null,null,null,null,null,null,null,null,null,null,null,null,null,null,null,null,null,null,null,null,0,0,0,0,0,{"$error":"#DIV/0!"}]
[{"$error":"#VALUE!"},null,null,null,null,null,null,null,null,null,null,null,null,null,null,null,null,null,null,null,null,null,null,null,null,null,null,null,null,null,null,null,null,null,null,null,null,null,null,null,null,null,null,null,null,null,null,null,null,null,null,null,null,null,null,null,null,null,null,null,null,null,null,null,0,0,0,0,0,{"$error":"#DIV/0!"}]
[{"$error":"#VALUE!"},null,null,null,null,null,null,null,null,null,null,null,null,null,null,null,null,null,null,null,null,null,null,null,null,null,null,null,null,null,null,null,null,null,null,null,null,null,null,null,null,null,null,null,null,null,null,null,null,null,null,null,null,null,null,null,null,null,null,null,null,null,null,null,0,0,0,0,0,{"$error":"#DIV/0!"}]
[{"$error":"#VALUE!"},null,null,null,null,null,null,null,null,null,null,null,null,null,null,null,null,null,null,null,null,null,null,null,null,null,null,null,null,null,null,null,null,null,null,null,null,null,null,null,null,null,null,null,null,null,null,null,null,null,null,null,null,null,null,null,null,null,null,null,null,null,null,null,0,0,0,0,0,{"$error":"#DIV/0!"}]
[{"$error":"#VALUE!"},null,null,null,null,null,null,null,null,null,null,null,null,null,null,null,null,null,null,null,null,null,null,null,null,null,null,null,null,null,null,null,null,null,null,null,null,null,null,null,null,null,null,null,null,null,null,null,null,null,null,null,null,null,null,null,null,null,null,null,null,null,null,null,0,0,0,0,0,{"$error":"#DIV/0!"}]
[{"$error":"#VALUE!"},null,null,null,null,null,null,null,null,null,null,null,null,null,null,null,null,null,null,null,null,null,null,null,null,null,null,null,null,null,null,null,null,null,null,null,null,null,null,null,null,null,null,null,null,null,null,null,null,null,null,null,null,null,null,null,null,null,null,null,null,null,null,null,0,0,0,0,0,{"$error":"#DIV/0!"}]
[{"$error":"#VALUE!"},null,null,null,null,null,null,null,null,null,null,null,null,null,null,null,null,null,null,null,null,null,null,null,null,null,null,null,null,null,null,null,null,null,null,null,null,null,null,null,null,null,null,null,null,null,null,null,null,null,null,null,null,null,null,null,null,null,null,null,null,null,null,null,0,0,0,0,0,{"$error":"#DIV/0!"}]
[{"$error":"#VALUE!"},null,null,null,null,null,null,null,null,null,null,null,null,null,null,null,null,null,null,null,null,null,null,null,null,null,null,null,null,null,null,null,null,null,null,null,null,null,null,null,null,null,null,null,null,null,null,null,null,null,null,null,null,null,null,null,null,null,null,null,null,null,null,null,0,0,0,0,0,{"$error":"#DIV/0!"}]
[{"$error":"#VALUE!"},null,null,null,null,null,null,null,null,null,null,null,null,null,null,null,null,null,null,null,null,null,null,null,null,null,null,null,null,null,null,null,null,null,null,null,null,null,null,null,null,null,null,null,null,null,null,null,null,null,null,null,null,null,null,null,null,null,null,null,null,null,null,null,0,0,0,0,0,{"$error":"#DIV/0!"}]
[{"$error":"#VALUE!"},null,null,null,null,null,null,null,null,null,null,null,null,null,null,null,null,null,null,null,null,null,null,null,null,null,null,null,null,null,null,null,null,null,null,null,null,null,null,null,null,null,null,null,null,null,null,null,null,null,null,null,null,null,null,null,null,null,null,null,null,null,null,null,0,0,0,0,0,{"$error":"#DIV/0!"}]
[{"$error":"#VALUE!"},null,null,null,null,null,null,null,null,null,null,null,null,null,null,null,null,null,null,null,null,null,null,null,null,null,null,null,null,null,null,null,null,null,null,null,null,null,null,null,null,null,null,null,null,null,null,null,null,null,null,null,null,null,null,null,null,null,null,null,null,null,null,null,0,0,0,0,0,{"$error":"#DIV/0!"}]
[{"$error":"#VALUE!"},null,null,null,null,null,null,null,null,null,null,null,null,null,null,null,null,null,null,null,null,null,null,null,null,null,null,null,null,null,null,null,null,null,null,null,null,null,null,null,null,null,null,null,null,null,null,null,null,null,null,null,null,null,null,null,null,null,null,null,null,null,null,null,0,0,0,0,0,{"$error":"#DIV/0!"}]
[{"$error":"#VALUE!"},null,null,null,null,null,null,null,null,null,null,null,null,null,null,null,null,null,null,null,null,null,null,null,null,null,null,null,null,null,null,null,null,null,null,null,null,null,null,null,null,null,null,null,null,null,null,null,null,null,null,null,null,null,null,null,null,null,null,null,null,null,null,null,0,0,0,0,0,{"$error":"#DIV/0!"}]
[{"$error":"#VALUE!"},null,null,null,null,null,null,null,null,null,null,null,null,null,null,null,null,null,null,null,null,null,null,null,null,null,null,null,null,null,null,null,null,null,null,null,null,null,null,null,null,null,null,null,null,null,null,null,null,null,null,null,null,null,null,null,null,null,null,null,null,null,null,null,0,0,0,0,0,{"$error":"#DIV/0!"}]
[{"$error":"#VALUE!"},null,null,null,null,null,null,null,null,null,null,null,null,null,null,null,null,null,null,null,null,null,null,null,null,null,null,null,null,null,null,null,null,null,null,null,null,null,null,null,null,null,null,null,null,null,null,null,null,null,null,null,null,null,null,null,null,null,null,null,null,null,null,null,0,0,0,0,0,{"$error":"#DIV/0!"}]
[{"$error":"#VALUE!"},null,null,null,null,null,null,null,null,null,null,null,null,null,null,null,null,null,null,null,null,null,null,null,null,null,null,null,null,null,null,null,null,null,null,null,null,null,null,null,null,null,null,null,null,null,null,null,null,null,null,null,null,null,null,null,null,null,null,null,null,null,null,null,0,0,0,0,0,{"$error":"#DIV/0!"}]
[{"$error":"#VALUE!"},null,null,null,null,null,null,null,null,null,null,null,null,null,null,null,null,null,null,null,null,null,null,null,null,null,null,null,null,null,null,null,null,null,null,null,null,null,null,null,null,null,null,null,null,null,null,null,null,null,null,null,null,null,null,null,null,null,null,null,null,null,null,null,0,0,0,0,0,{"$error":"#DIV/0!"}]
[{"$error":"#VALUE!"},null,null,null,null,null,null,null,null,null,null,null,null,null,null,null,null,null,null,null,null,null,null,null,null,null,null,null,null,null,null,null,null,null,null,null,null,null,null,null,null,null,null,null,null,null,null,null,null,null,null,null,null,null,null,null,null,null,null,null,null,null,null,null,0,0,0,0,0,{"$error":"#DIV/0!"}]
[{"$error":"#VALUE!"},null,null,null,null,null,null,null,null,null,null,null,null,null,null,null,null,null,null,null,null,null,null,null,null,null,null,null,null,null,null,null,null,null,null,null,null,null,null,null,null,null,null,null,null,null,null,null,null,null,null,null,null,null,null,null,null,null,null,null,null,null,null,null,0,0,0,0,0,{"$error":"#DIV/0!"}]
[{"$error":"#VALUE!"},null,null,null,null,null,null,null,null,null,null,null,null,null,null,null,null,null,null,null,null,null,null,null,null,null,null,null,null,null,null,null,null,null,null,null,null,null,null,null,null,null,null,null,null,null,null,null,null,null,null,null,null,null,null,null,null,null,null,null,null,null,null,null,0,0,0,0,0,{"$error":"#DIV/0!"}]
[{"$error":"#VALUE!"},null,null,null,null,null,null,null,null,null,null,null,null,null,null,null,null,null,null,null,null,null,null,null,null,null,null,null,null,null,null,null,null,null,null,null,null,null,null,null,null,null,null,null,null,null,null,null,null,null,null,null,null,null,null,null,null,null,null,null,null,null,null,null,0,0,0,0,0,{"$error":"#DIV/0!"}]
[{"$error":"#VALUE!"},null,null,null,null,null,null,null,null,null,null,null,null,null,null,null,null,null,null,null,null,null,null,null,null,null,null,null,null,null,null,null,null,null,null,null,null,null,null,null,null,null,null,null,null,null,null,null,null,null,null,null,null,null,null,null,null,null,null,null,null,null,null,null,0,0,0,0,0,{"$error":"#DIV/0!"}]
[{"$error":"#VALUE!"},null,null,null,null,null,null,null,null,null,null,null,null,null,null,null,null,null,null,null,null,null,null,null,null,null,null,null,null,null,null,null,null,null,null,null,null,null,null,null,null,null,null,null,null,null,null,null,null,null,null,null,null,null,null,null,null,null,null,null,null,null,null,null,0,0,0,0,0,{"$error":"#DIV/0!"}]
[{"$error":"#VALUE!"},null,null,null,null,null,null,null,null,null,null,null,null,null,null,null,null,null,null,null,null,null,null,null,null,null,null,null,null,null,null,null,null,null,null,null,null,null,null,null,null,null,null,null,null,null,null,null,null,null,null,null,null,null,null,null,null,null,null,null,null,null,null,null,0,0,0,0,0,{"$error":"#DIV/0!"}]
[{"$error":"#VALUE!"},null,null,null,null,null,null,null,null,null,null,null,null,null,null,null,null,null,null,null,null,null,null,null,null,null,null,null,null,null,null,null,null,null,null,null,null,null,null,null,null,null,null,null,null,null,null,null,null,null,null,null,null,null,null,null,null,null,null,null,null,null,null,null,0,0,0,0,0,{"$error":"#DIV/0!"}]
[{"$error":"#VALUE!"},null,null,null,null,null,null,null,null,null,null,null,null,null,null,null,null,null,null,null,null,null,null,null,null,null,null,null,null,null,null,null,null,null,null,null,null,null,null,null,null,null,null,null,null,null,null,null,null,null,null,null,null,null,null,null,null,null,null,null,null,null,null,null,0,0,0,0,0,{"$error":"#DIV/0!"}]
[{"$error":"#VALUE!"},null,null,null,null,null,null,null,null,null,null,null,null,null,null,null,null,null,null,null,null,null,null,null,null,null,null,null,null,null,null,null,null,null,null,null,null,null,null,null,null,null,null,null,null,null,null,null,null,null,null,null,null,null,null,null,null,null,null,null,null,null,null,null,0,{"$f":"+BI1062+AK1062+AH1062+AE1062+AB1062+Y1062+V1062+S1062+P1062+M1062+J1062+G1062+D1062+AN1062+AQ1062+AT1062+AW1062+AZ1062+BC1062+BF1062","v":0},{"$f":"+BJ1062+AL1062+AI1062+AF1062+AC1062+Z1062+W1062+T1062+Q1062+N1062+K1062+H1062+E1062+AO1062+AR1062+AU1062+AX1062+BA1062+BD1062+BG1062","v":0},{"$f":"+BN1062-BO1062","v":0},{"$f":"COUNT(C1062:BJ1062)/3","v":0},{"$error":"#DIV/0!"}]
[{"$error":"#VALUE!"},null,null,null,null,null,null,null,null,null,null,null,null,null,null,null,null,null,null,null,null,null,null,null,null,null,null,null,null,null,null,null,null,null,null,null,null,null,null,null,null,null,null,null,null,null,null,null,null,null,null,null,null,null,null,null,null,null,null,null,null,null,null,null,0,0,0,0,0,{"$error":"#DIV/0!"}]
[{"$error":"#VALUE!"},null,null,null,null,null,null,null,null,null,null,null,null,null,null,null,null,null,null,null,null,null,null,null,null,null,null,null,null,null,null,null,null,null,null,null,null,null,null,null,null,null,null,null,null,null,null,null,null,null,null,null,null,null,null,null,null,null,null,null,null,null,null,null,0,0,0,0,0,{"$error":"#DIV/0!"}]
[{"$error":"#VALUE!"},null,null,null,null,null,null,null,null,null,null,null,null,null,null,null,null,null,null,null,null,null,null,null,null,null,null,null,null,null,null,null,null,null,null,null,null,null,null,null,null,null,null,null,null,null,null,null,null,null,null,null,null,null,null,null,null,null,null,null,null,null,null,null,0,0,0,0,0,{"$error":"#DIV/0!"}]
[{"$error":"#VALUE!"},null,null,null,null,null,null,null,null,null,null,null,null,null,null,null,null,null,null,null,null,null,null,null,null,null,null,null,null,null,null,null,null,null,null,null,null,null,null,null,null,null,null,null,null,null,null,null,null,null,null,null,null,null,null,null,null,null,null,null,null,null,null,null,0,0,0,0,0,{"$error":"#DIV/0!"}]
[{"$error":"#VALUE!"},null,null,null,null,null,null,null,null,null,null,null,null,null,null,null,null,null,null,null,null,null,null,null,null,null,null,null,null,null,null,null,null,null,null,null,null,null,null,null,null,null,null,null,null,null,null,null,null,null,null,null,null,null,null,null,null,null,null,null,null,null,null,null,0,0,0,0,0,{"$error":"#DIV/0!"}]
[{"$error":"#VALUE!"},null,null,null,null,null,null,null,null,null,null,null,null,null,null,null,null,null,null,null,null,null,null,null,null,null,null,null,null,null,null,null,null,null,null,null,null,null,null,null,null,null,null,null,null,null,null,null,null,null,null,null,null,null,null,null,null,null,null,null,null,null,null,null,0,0,0,0,0,{"$error":"#DIV/0!"}]
[{"$error":"#VALUE!"},null,null,null,null,null,null,null,null,null,null,null,null,null,null,null,null,null,null,null,null,null,null,null,null,null,null,null,null,null,null,null,null,null,null,null,null,null,null,null,null,null,null,null,null,null,null,null,null,null,null,null,null,null,null,null,null,null,null,null,null,null,null,null,0,0,0,0,0,{"$error":"#DIV/0!"}]
[{"$error":"#VALUE!"},null,null,null,null,null,null,null,null,null,null,null,null,null,null,null,null,null,null,null,null,null,null,null,null,null,null,null,null,null,null,null,null,null,null,null,null,null,null,null,null,null,null,null,null,null,null,null,null,null,null,null,null,null,null,null,null,null,null,null,null,null,null,null,0,0,0,0,0,{"$error":"#DIV/0!"}]
[{"$error":"#VALUE!"},null,null,null,null,null,null,null,null,null,null,null,null,null,null,null,null,null,null,null,null,null,null,null,null,null,null,null,null,null,null,null,null,null,null,null,null,null,null,null,null,null,null,null,null,null,null,null,null,null,null,null,null,null,null,null,null,null,null,null,null,null,null,null,0,0,0,0,0,{"$error":"#DIV/0!"}]
[{"$error":"#VALUE!"},null,null,null,null,null,null,null,null,null,null,null,null,null,null,null,null,null,null,null,null,null,null,null,null,null,null,null,null,null,null,null,null,null,null,null,null,null,null,null,null,null,null,null,null,null,null,null,null,null,null,null,null,null,null,null,null,null,null,null,null,null,null,null,{"$f":"+BH1072+AJ1072+AG1072+AD1072+AA1072+X1072+U1072+R1072+O1072+L1072+I1072+F1072+C1072+AM1072+AP1072+AS1072+AV1072+AY1072+BB1072+BE1072","v":0},0,0,0,0,{"$error":"#DIV/0!"}]
[{"$error":"#VALUE!"},null,null,null,null,null,null,null,null,null,null,null,null,null,null,null,null,null,null,null,null,null,null,null,null,null,null,null,null,null,null,null,null,null,null,null,null,null,null,null,null,null,null,null,null,null,null,null,null,null,null,null,null,null,null,null,null,null,null,null,null,null,null,null,{"$f":"+BH1073+AJ1073+AG1073+AD1073+AA1073+X1073+U1073+R1073+O1073+L1073+I1073+F1073+C1073+AM1073+AP1073+AS1073+AV1073+AY1073+BB1073+BE1073","v":0},0,0,0,0,{"$error":"#DIV/0!"}]
[{"$error":"#VALUE!"},null,null,null,null,null,null,null,null,null,null,null,null,null,null,null,null,null,null,null,null,null,null,null,null,null,null,null,null,null,null,null,null,null,null,null,null,null,null,null,null,null,null,null,null,null,null,null,null,null,null,null,null,null,null,null,null,null,null,null,null,null,null,null,{"$f":"+BH1074+AJ1074+AG1074+AD1074+AA1074+X1074+U1074+R1074+O1074+L1074+I1074+F1074+C1074+AM1074+AP1074+AS1074+AV1074+AY1074+BB1074+BE1074","v":0},0,0,0,0,{"$error":"#DIV/0!"}]
[{"$error":"#VALUE!"},null,null,null,null,null,null,null,null,null,null,null,null,null,null,null,null,null,null,null,null,null,null,null,null,null,null,null,null,null,null,null,null,null,null,null,null,null,null,null,null,null,null,null,null,null,null,null,null,null,null,null,null,null,null,null,null,null,null,null,null,null,null,null,{"$f":"+BH1075+AJ1075+AG1075+AD1075+AA1075+X1075+U1075+R1075+O1075+L1075+I1075+F1075+C1075+AM1075+AP1075+AS1075+AV1075+AY1075+BB1075+BE1075","v":0},0,0,0,0,{"$error":"#DIV/0!"}]
[{"$error":"#VALUE!"},null,null,null,null,null,null,null,null,null,null,null,null,null,null,null,null,null,null,null,null,null,null,null,null,null,null,null,null,null,null,null,null,null,null,null,null,null,null,null,null,null,null,null,null,null,null,null,null,null,null,null,null,null,null,null,null,null,null,null,null,null,null,null,{"$f":"+BH1076+AJ1076+AG1076+AD1076+AA1076+X1076+U1076+R1076+O1076+L1076+I1076+F1076+C1076+AM1076+AP1076+AS1076+AV1076+AY1076+BB1076+BE1076","v":0},0,0,0,0,{"$error":"#DIV/0!"}]
[{"$error":"#VALUE!"}]
[{"$error":"#VALUE!"}]
[{"$error":"#VALUE!"}]
[{"$error":"#VALUE!"}]
[{"$error":"#VALUE!"}]
[{"$error":"#VALUE!"}]
[{"$error":"#VALUE!"}]
[{"$error":"#VALUE!"}]
[{"$error":"#VALUE!"}]
[{"$error":"#VALUE!"}]
[{"$f":"+A1086+1","v":{"$error":"#VALUE!"}}]
[{"$error":"#VALUE!"}]
[{"$error":"#VALUE!"}]
[{"$error":"#VALUE!"}]
[{"$error":"#VALUE!"}]
[{"$error":"#VALUE!"}]
[{"$error":"#VALUE!"}]
[{"$error":"#VALUE!"}]
[{"$error":"#VALUE!"}]
[{"$error":"#VALUE!"}]
[{"$error":"#VALUE!"}]
[{"$error":"#VALUE!"}]
[{"$error":"#VALUE!"}]
[{"$error":"#VALUE!"},null,null,null,null,null,null,null,null,null,null,null,null,null,null,null,null,null,null,null,null,null,null,null,null,null,null,null,null,null,null,null,null,null,null,null,null,null,null,null,null,null,null,null,null,null,null,null,null,null,null,null,null,null,null,null,null,null,null,null,null,null,null,null,{"$f":"+BH1100+AJ1100+AG1100+AD1100+AA1100+X1100+U1100+R1100+O1100+L1100+I1100+F1100+C1100+AM1100+AP1100+AS1100+AV1100+AY1100+BB1100+BE1100","v":0},0,0,0,0,{"$error":"#DIV/0!"}]
[]
[]
[]
[]
[]
[]
[]
[]
[]
[]
[]
[]
[]
[]
[]
[null,null,null,null,null,null,null,null,null,null,null,null,null,null,null,null,null,null,null,null,null,null,null,null,null,null,null,null,null,null,null,null,null,null,null,null,null,null,null,null,null,null,null,null,null,null,null,null,null,null,null,null,null,null,null,null,null,null,null,null,null,null,null,{"$f":"+BI253BI254:BL1116","v":{"$error":"#NAME?"}}]

{"sheet":"King","index":5,"n_rows":200,"n_cols":46,"rows_kept":200,"cut":false,"hidden":false,"merged":[[43,20,43,21],[43,22,43,23],[43,36,43,37],[43,38,43,39],[43,24,43,25],[43,34,43,35],[43,26,43,27],[43,28,43,29],[43,30,43,31],[43,32,43,33],[43,12,43,13],[43,14,43,15],[43,16,43,17],[43,18,43,19],[43,10,43,11],[67,1,68,1],[43,2,43,3],[43,4,43,5],[43,6,43,7],[43,8,43,9],[57,1,58,1],[59,1,60,1],[61,1,62,1],[63,1,64,1],[65,1,66,1],[47,1,48,1],[49,1,50,1],[51,1,52,1],[53,1,54,1],[55,1,56,1],[45,1,46,1],[89,1,90,1],[79,1,80,1],[81,1,82,1],[83,1,84,1],[85,1,86,1],[87,1,88,1],[69,1,70,1],[71,1,72,1],[73,1,74,1],[75,1,76,1],[77,1,78,1]]}
["KING"]
["Mes"]
[{"$f":"+GENERAL!B6","v":12},null,{"$f":"SUM(C5:C19)","v":58},null,{"$f":"SUM(E5:E20)","v":0}]
[null,null,"Premi","Reptes","Punts","Partides","General"]
[1,"Jordi",{"$f":"+G$41","v":8.5},{"$f":"+H$42","v":11},{"$f":"+H$41","v":27},{"$f":"+G$42","v":20.333333333333332},{"$f":"+G$27","v":80},{"$f":"C5*1000+1000000*G$40-D5+E5/1000+F5/1000000","v":1008489.0270203333},{"$f":"IF(G5<B$3/2,-1,1)*80+D5/1000","v":80.010999999999996}]
[2,"Montse",{"$f":"+Y$41","v":4.5},{"$f":"+Z$42","v":8},{"$f":"+Z$41","v":0},{"$f":"+Y$42","v":14.666666666666666},{"$f":"+Y$27","v":40},{"$f":"C6*1000+1000000*Y$40-D6+E6/1000+F6/1000000","v":1004492.0000146667},80.007999999999996]
[3,"Òscar",{"$f":"+W$41","v":4},{"$f":"+X$42","v":8},{"$f":"+X$41","v":-2},{"$f":"+W$42","v":8.3333333333333339},{"$f":"+W$27","v":20},{"$f":"C7*1000+1000000*W$40-D7+E7/1000+F7/1000000","v":1003991.9980083334},80.007999999999996]
[4,"Núria",{"$f":"+AK$41","v":4},{"$f":"+AL$42","v":10},{"$f":"+AL$41","v":-6},{"$f":"+AK$42","v":15.333333333333334},{"$f":"+AK$27","v":10},{"$f":"C8*1000+1000000*AK$40-D8+E8/1000+F8/1000000","v":1003989.9940153332},80.010000000000005]
[5,"Gemma",{"$f":"+AC$41","v":3.5},{"$f":"+AD$42","v":8},{"$f":"+AD$41","v":-11},{"$f":"+AC$42","v":9.6666666666666661},{"$f":"+AC$27","v":5},{"$f":"C9*1000+1000000*AC$40-D9+E9/1000+F9/1000000","v":1003491.9890096666},80.007999999999996]
[6,"Sebas",{"$f":"+U$41","v":1.5},{"$f":"+V$42","v":8},{"$f":"+V$41","v":-10},{"$f":"+U$42","v":13.333333333333334},{"$f":"+U$27","v":0},{"$f":"C10*1000+1000000*U$40-D10+E10/1000+F10/1000000","v":1001491.9900133333},80.007999999999996]
[7,"Mariajo",{"$f":"+AM$41","v":6},{"$f":"+AN$42","v":7},{"$f":"+AN$41","v":6},{"$f":"+AM$42","v":2.6666666666666665},{"$f":"+AM$27","v":0},{"$f":"C11*1000+1000000*AM$40-D11+E11/1000+F11/1000000","v":5993.006002666667},80.007000000000005]
[8,"Manolo",{"$f":"+AA$41","v":5.5},{"$f":"+AB$42","v":8},{"$f":"+AB$41","v":3},{"$f":"+AA$42","v":3.6666666666666665},{"$f":"+AA$27","v":0},{"$f":"C12*1000+1000000*AA$40-D12+E12/1000+F12/1000000","v":5492.0030036666667},80.007999999999996]
[9,"Carles",{"$f":"+C$41","v":5},{"$f":"+D$42","v":6},{"$f":"+D$41","v":6},{"$f":"+C$42","v":2.6666666666666665},{"$f":"+C$27","v":0},{"$f":"C13*1000+1000000*C$40-D13+E13/1000+F13/1000000","v":4994.006002666667},80.006]
[10,"Caty",{"$f":"+I$41","v":4},{"$f":"+J$42","v":4},{"$f":"+J$41","v":4},{"$f":"+I$42","v":1.3333333333333333},{"$f":"+I$27","v":0},{"$f":"C14*1000+1000000*I$40-D14+E14/1000+F14/1000000","v":3996.0040013333332},80.004000000000005]
[10,"Sergi",{"$f":"+M$41","v":4},{"$f":"+N$42","v":7},{"$f":"+N$41","v":1},{"$f":"+M$42","v":2.6666666666666665},{"$f":"+M$27","v":0},{"$f":"C15*1000+1000000*M$40-D15+E15/1000+F15/1000000","v":3993.0010026666669},80.007000000000005]
[12,"Grau",{"$f":"+AG$41","v":2.5},{"$f":"+AH$42","v":6},{"$f":"+AH$41","v":-1},{"$f":"+AG$42","v":2.3333333333333335},{"$f":"+AG$27","v":0},{"$f":"C16*1000+1000000*AG$40-D16+E16/1000+F16/1000000","v":2493.999002333333},80.006]
[13,"Goretti",{"$f":"+AI$41","v":2.5},{"$f":"+AJ$42","v":7},{"$f":"+AJ$41","v":-2},{"$f":"+AI$42","v":2.3333333333333335},{"$f":"+AI$27","v":0},{"$f":"C17*1000+1000000*AI$40-D17+E17/1000+F17/1000000","v":2492.9980023333333},80.007000000000005]
[14,"Ana B",{"$f":"+S$41","v":2.5},{"$f":"+T$42","v":8},{"$f":"+T$41","v":-3},{"$f":"+S$42","v":2.6666666666666665},{"$f":"+S$27","v":0},{"$f":"C18*1000+1000000*S$40-D18+E18/1000+F18/1000000","v":2491.9970026666665},80.007999999999996]
[15,"Carme",{"$f":"+O$41","v":0},{"$f":"+P$42","v":4},{"$f":"+P$41","v":-4},{"$f":"+O$42","v":1.3333333333333333},{"$f":"+O$27","v":0},{"$f":"C19*1000+1000000*O$40-D19+E19/1000+F19/1000000","v":-4.003998666666666},80.004000000000005]
[16,"Nin",{"$f":"+AE$41","v":0},{"$f":"+AF$42","v":6},{"$f":"+AF$41","v":-8},{"$f":"+AE$42","v":2.6666666666666665},{"$f":"+AE$27","v":0},{"$f":"C20*1000+1000000*AE$40-D20+E20/1000+F20/1000000","v":-6.007997333333333},80.006]
[17,"Cyber X",{"$f":"+Q$41","v":-100000000},{"$f":"+R$42","v":1},{"$f":"+R$41","v":0},{"$f":"+Q$42","v":0},{"$f":"+Q$27","v":0},{"$f":"C21*1000+1000000*Q$40-D21+E21/1000+F21/1000000","v":-100000000001},80.001000000000005]
[18,"Tito",{"$f":"+K$41","v":-100000000},{"$f":"+L$42","v":1},{"$f":"+L$41","v":0},{"$f":"+K$42","v":0},{"$f":"+K$27","v":0},{"$f":"C22*1000+1000000*K$40-D22+E22/1000+F22/1000000","v":-100000000001},80.001000000000005]
[19,"Rosa M.",{"$f":"+E$41","v":-100000000},{"$f":"+F$42","v":1},{"$f":"+F$41","v":0},{"$f":"+E$42","v":0},{"$f":"+E$27","v":0},{"$f":"C23*1000+1000000*E$40-D23+E23/1000+F23/1000000","v":-100000000001},80.001000000000005]
[]
[]
[]
[null,"General",{"$f":"+C28*C29","v":0},{"$f":"+D28*D29","v":2.6666666666666665},0,0,80,20.333333333333332,0,1.3333333333333333,0,0,0,2.6666666666666665,0,1.3333333333333333,0,0,0,2.6666666666666665,0,13.333333333333334,20,8.3333333333333339,{"$f":"+Y28*Y29","v":40},14.666666666666666,0,3.6666666666666665,5,9.6666666666666661,0,2.6666666666666665,0,2.3333333333333335,0,2.3333333333333335,10,15.333333333333334,0,2.6666666666666665]
[null,null,{"$f":"IF($B40>3,1,0)","v":1},{"$f":"IF($B40>3,1,0)","v":1},{"$f":"IF($B40>3,1,0)","v":1},1,1,1,1,1,1,1,1,1,1,1,1,1,1,1,1,1,1,1,{"$f":"IF($B40>3,1,0)","v":1},1,1,1,1,1,1,1,1,1,1,1,1,1,1,1]
[null,null,{"$f":"MAX(C30:C34)","v":0},{"$f":"+C42","v":2.6666666666666665},{"$f":"MAX(E30:E34)","v":0},{"$f":"+E42","v":0},{"$f":"MAX(G30:G34)","v":80},{"$f":"+G42","v":20.333333333333332},{"$f":"MAX(I30:I34)","v":0},{"$f":"+I42","v":1.3333333333333333},{"$f":"MAX(K30:K34)","v":0},{"$f":"+K42","v":0},{"$f":"MAX(M30:M34)","v":0},{"$f":"+M42","v":2.6666666666666665},{"$f":"MAX(O30:O34)","v":0},{"$f":"+O42","v":1.3333333333333333},{"$f":"MAX(Q30:Q34)","v":0},{"$f":"+Q42","v":0},{"$f":"MAX(S30:S34)","v":0},{"$f":"+S42","v":2.6666666666666665},{"$f":"MAX(U30:U34)","v":0},{"$f":"+U42","v":13.333333333333334},{"$f":"MAX(W30:W34)","v":20},{"$f":"+W42","v":8.3333333333333339},{"$f":"MAX(Y30:Y34)","v":40},{"$f":"+Y42","v":14.666666666666666},{"$f":"MAX(AA30:AA34)","v":0},{"$f":"+AA42","v":3.6666666666666665},{"$f":"MAX(AC30:AC34)","v":5},{"$f":"+AC42","v":9.6666666666666661},{"$f":"MAX(AE30:AE34)","v":0},{"$f":"+AE42","v":2.6666666666666665},{"$f":"MAX(AG30:AG34)","v":0},{"$f":"+AG42","v":2.3333333333333335},{"$f":"MAX(AI30:AI34)","v":0},{"$f":"+AI42","v":2.3333333333333335},{"$f":"MAX(AK30:AK34)","v":10},{"$f":"+AK42","v":15.333333333333334},{"$f":"MAX(AM30:AM34)","v":0},{"$f":"+AM42","v":2.6666666666666665}]
[null,null,{"$f":"IF(C$35=5,5,0)","v":0},null,{"$f":"IF(E$35=5,5,0)","v":0},null,{"$f":"IF(G$35=5,5,0)","v":0},null,{"$f":"IF(I$35=5,5,0)","v":0},null,{"$f":"IF(K$35=5,5,0)","v":0},null,{"$f":"IF(M$35=5,5,0)","v":0},null,{"$f":"IF(O$35=5,5,0)","v":0},null,{"$f":"IF(Q$35=5,5,0)","v":0},null,{"$f":"IF(S$35=5,5,0)","v":0},null,{"$f":"IF(U$35=5,5,0)","v":0},null,{"$f":"IF(W$35=5,5,0)","v":0},null,{"$f":"IF(Y$35=5,5,0)","v":0},null,{"$f":"IF(AA$35=5,5,0)","v":0},null,{"$f":"IF(AC$35=5,5,0)","v":5},null,{"$f":"IF(AE$35=5,5,0)","v":0},null,{"$f":"IF(AG$35=5,5,0)","v":0},null,{"$f":"IF(AI$35=5,5,0)","v":0},null,{"$f":"IF(AK$35=5,5,0)","v":0},null,{"$f":"IF(AM$35=5,5,0)","v":0}]
[null,null,{"$f":"IF(C$35=4,10,0)","v":0},null,{"$f":"IF(E$35=4,10,0)","v":0},null,{"$f":"IF(G$35=4,10,0)","v":0},null,{"$f":"IF(I$35=4,10,0)","v":0},null,{"$f":"IF(K$35=4,10,0)","v":0},null,{"$f":"IF(M$35=4,10,0)","v":0},null,{"$f":"IF(O$35=4,10,0)","v":0},null,{"$f":"IF(Q$35=4,10,0)","v":0},null,{"$f":"IF(S$35=4,10,0)","v":0},null,{"$f":"IF(U$35=4,10,0)","v":0},null,{"$f":"IF(W$35=4,10,0)","v":0},null,{"$f":"IF(Y$35=4,10,0)","v":0},null,{"$f":"IF(AA$35=4,10,0)","v":0},null,{"$f":"IF(AC$35=4,10,0)","v":0},null,{"$f":"IF(AE$35=4,10,0)","v":0},null,{"$f":"IF(AG$35=4,10,0)","v":0},null,{"$f":"IF(AI$35=4,10,0)","v":0},null,{"$f":"IF(AK$35=4,10,0)","v":10},null,{"$f":"IF(AM$35=4,10,0)","v":0}]
[null,null,{"$f":"IF(C$35=3,20,0)","v":0},null,{"$f":"IF(E$35=3,20,0)","v":0},null,{"$f":"IF(G$35=3,20,0)","v":0},null,{"$f":"IF(I$35=3,20,0)","v":0},null,{"$f":"IF(K$35=3,20,0)","v":0},null,{"$f":"IF(M$35=3,20,0)","v":0},null,{"$f":"IF(O$35=3,20,0)","v":0},null,{"$f":"IF(Q$35=3,20,0)","v":0},null,{"$f":"IF(S$35=3,20,0)","v":0},null,{"$f":"IF(U$35=3,20,0)","v":0},null,{"$f":"IF(W$35=3,20,0)","v":20},null,{"$f":"IF(Y$35=3,20,0)","v":0},null,{"$f":"IF(AA$35=3,20,0)","v":0},null,{"$f":"IF(AC$35=3,20,0)","v":0},null,{"$f":"IF(AE$35=3,20,0)","v":0},null,{"$f":"IF(AG$35=3,20,0)","v":0},null,{"$f":"IF(AI$35=3,20,0)","v":0},null,{"$f":"IF(AK$35=3,20,0)","v":0},null,{"$f":"IF(AM$35=3,20,0)","v":0}]
[null,null,{"$f":"IF(C$35=2,40,0)","v":0},null,{"$f":"IF(E$35=2,40,0)","v":0},null,{"$f":"IF(G$35=2,40,0)","v":0},null,{"$f":"IF(I$35=2,40,0)","v":0},null,{"$f":"IF(K$35=2,40,0)","v":0},null,{"$f":"IF(M$35=2,40,0)","v":0},null,{"$f":"IF(O$35=2,40,0)","v":0},null,{"$f":"IF(Q$35=2,40,0)","v":0},null,{"$f":"IF(S$35=2,40,0)","v":0},null,{"$f":"IF(U$35=2,40,0)","v":0},null,{"$f":"IF(W$35=2,40,0)","v":0},null,{"$f":"IF(Y$35=2,40,0)","v":40},null,{"$f":"IF(AA$35=2,40,0)","v":0},null,{"$f":"IF(AC$35=2,40,0)","v":0},null,{"$f":"IF(AE$35=2,40,0)","v":0},null,{"$f":"IF(AG$35=2,40,0)","v":0},null,{"$f":"IF(AI$35=2,40,0)","v":0},null,{"$f":"IF(AK$35=2,40,0)","v":0},null,{"$f":"IF(AM$35=2,40,0)","v":0}]
[null,null,{"$f":"IF(C$35=1,80,0)","v":0},null,{"$f":"IF(E$35=1,80,0)","v":0},null,{"$f":"IF(G$35=1,80,0)","v":80},null,{"$f":"IF(I$35=1,80,0)","v":0},null,{"$f":"IF(K$35=1,80,0)","v":0},null,{"$f":"IF(M$35=1,80,0)","v":0},null,{"$f":"IF(O$35=1,80,0)","v":0},null,{"$f":"IF(Q$35=1,80,0)","v":0},null,{"$f":"IF(S$35=1,80,0)","v":0},null,{"$f":"IF(U$35=1,80,0)","v":0},null,{"$f":"IF(W$35=1,80,0)","v":0},null,{"$f":"IF(Y$35=1,80,0)","v":0},null,{"$f":"IF(AA$35=1,80,0)","v":0},null,{"$f":"IF(AC$35=1,80,0)","v":0},null,{"$f":"IF(AE$35=1,80,0)","v":0},null,{"$f":"IF(AG$35=1,80,0)","v":0},null,{"$f":"IF(AI$35=1,80,0)","v":0},null,{"$f":"IF(AK$35=1,80,0)","v":0},null,{"$f":"IF(AM$35=1,80,0)","v":0}]
[null,null,{"$f":"RANK(C36,$C36:$BG36)*C40","v":0},null,{"$f":"RANK(E36,$C36:$BG36)*E40","v":0},null,{"$f":"RANK(G36,$C36:$BG36)*G40","v":1},null,{"$f":"RANK(I36,$C36:$BG36)*I40","v":0},null,{"$f":"RANK(K36,$C36:$BG36)*K40","v":0},null,{"$f":"RANK(M36,$C36:$BG36)*M40","v":0},null,{"$f":"RANK(O36,$C36:$BG36)*O40","v":0},null,{"$f":"RANK(Q36,$C36:$BG36)*Q40","v":0},null,{"$f":"RANK(S36,$C36:$BG36)*S40","v":0},null,{"$f":"RANK(U36,$C36:$BG36)*U40","v":6},null,{"$f":"RANK(W36,$C36:$BG36)*W40","v":3},null,{"$f":"RANK(Y36,$C36:$BG36)*Y40","v":2},null,{"$f":"RANK(AA36,$C36:$BG36)*AA40","v":0},null,{"$f":"RANK(AC36,$C36:$BG36)*AC40","v":5},null,{"$f":"RANK(AE36,$C36:$BG36)*AE40","v":0},null,{"$f":"RANK(AG36,$C36:$BG36)*AG40","v":0},null,{"$f":"RANK(AI36,$C36:$BG36)*AI40","v":0},null,{"$f":"RANK(AK36,$C36:$BG36)*AK40","v":4},null,{"$f":"RANK(AM36,$C36:$BG36)*AM40","v":0}]
[null,null,{"$f":"SUM(C37:C39)+C42/1000","v":-1000588.9973333334},null,{"$f":"SUM(E37:E39)+E42/1000","v":-101000100},null,{"$f":"SUM(G37:G39)+G42/1000","v":8498935.5203333329},null,{"$f":"SUM(I37:I39)+I42/1000","v":-1000391.9986666667},null,{"$f":"SUM(K37:K39)+K42/1000","v":-101000100},null,{"$f":"SUM(M37:M39)+M42/1000","v":-1000694.9973333334},null,{"$f":"SUM(O37:O39)+O42/1000","v":-1000403.9986666667},null,{"$f":"SUM(Q37:Q39)+Q42/1000","v":-101000100},null,{"$f":"SUM(S37:S39)+S42/1000","v":-1000800.4973333334},null,{"$f":"SUM(U37:U39)+U42/1000","v":1499191.5133333334},null,{"$f":"SUM(W37:W39)+W42/1000","v":3999202.0083333333},null,{"$f":"SUM(Y37:Y39)+Y42/1000","v":4499204.5146666663},null,{"$f":"SUM(AA37:AA39)+AA42/1000","v":-1000791.4963333333},null,{"$f":"SUM(AC37:AC39)+AC42/1000","v":3499192.5096666669},null,{"$f":"SUM(AE37:AE39)+AE42/1000","v":-1000607.9973333334},null,{"$f":"SUM(AG37:AG39)+AG42/1000","v":-1000598.4976666666},null,{"$f":"SUM(AI37:AI39)+AI42/1000","v":-1000699.4976666666},null,{"$f":"SUM(AK37:AK39)+AK42/1000","v":3998998.0153333335},null,{"$f":"SUM(AM37:AM39)+AM42/1000","v":-1000687.9973333334}]
[null,null,{"$f":"+D41","v":6},null,{"$f":"+F41","v":0},null,{"$f":"+H41","v":27},null,{"$f":"+J41","v":4},null,{"$f":"+L41","v":0},null,{"$f":"+N41","v":1},null,{"$f":"+P41","v":-4},null,{"$f":"+R41","v":0},null,{"$f":"+T41","v":-3},null,{"$f":"+V41","v":-10},null,{"$f":"+X41","v":-2},null,{"$f":"+Z41","v":0},null,{"$f":"+AB41","v":3},null,{"$f":"+AD41","v":-11},null,{"$f":"+AF41","v":-8},null,{"$f":"+AH41","v":-1},null,{"$f":"+AJ41","v":-2},null,{"$f":"+AL41","v":-6},null,{"$f":"+AN41","v":6}]
[null,null,{"$f":"-D42*100","v":-600},null,{"$f":"-F42*100","v":-100},null,{"$f":"-H42*100","v":-1100},null,{"$f":"-J42*100","v":-400},null,{"$f":"-L42*100","v":-100},null,{"$f":"-N42*100","v":-700},null,{"$f":"-P42*100","v":-400},null,{"$f":"-R42*100","v":-100},null,{"$f":"-T42*100","v":-800},null,{"$f":"-V42*100","v":-800},null,{"$f":"-X42*100","v":-800},null,{"$f":"-Z42*100","v":-800},null,{"$f":"-AB42*100","v":-800},null,{"$f":"-AD42*100","v":-800},null,{"$f":"-AF42*100","v":-600},null,{"$f":"-AH42*100","v":-600},null,{"$f":"-AJ42*100","v":-700},null,{"$f":"-AL42*100","v":-1000},null,{"$f":"-AN42*100","v":-700}]
[null,null,{"$f":"IF(C40=1,C41*C40*1000000+C41,-1000000+C41)","v":-999995},null,{"$f":"IF(E40=1,E41*E40*1000000+E41,-1000000+E41)","v":-101000000},null,{"$f":"IF(G40=1,G41*G40*1000000+G41,-1000000+G41)","v":8500008.5},null,{"$f":"IF(I40=1,I41*I40*1000000+I41,-1000000+I41)","v":-999996},null,{"$f":"IF(K40=1,K41*K40*1000000+K41,-1000000+K41)","v":-101000000},null,{"$f":"IF(M40=1,M41*M40*1000000+M41,-1000000+M41)","v":-999996},null,{"$f":"IF(O40=1,O41*O40*1000000+O41,-1000000+O41)","v":-1000000},null,{"$f":"IF(Q40=1,Q41*Q40*1000000+Q41,-1000000+Q41)","v":-101000000},null,{"$f":"IF(S40=1,S41*S40*1000000+S41,-1000000+S41)","v":-999997.5},null,{"$f":"IF(U40=1,U41*U40*1000000+U41,-1000000+U41)","v":1500001.5},null,{"$f":"IF(W40=1,W41*W40*1000000+W41,-1000000+W41)","v":4000004},null,{"$f":"IF(Y40=1,Y41*Y40*1000000+Y41,-1000000+Y41)","v":4500004.5},null,{"$f":"IF(AA40=1,AA41*AA40*1000000+AA41,-1000000+AA41)","v":-999994.5},null,{"$f":"IF(AC40=1,AC41*AC40*1000000+AC41,-1000000+AC41)","v":3500003.5},null,{"$f":"IF(AE40=1,AE41*AE40*1000000+AE41,-1000000+AE41)","v":-1000000},null,{"$f":"IF(AG40=1,AG41*AG40*1000000+AG41,-1000000+AG41)","v":-999997.5},null,{"$f":"IF(AI40=1,AI41*AI40*1000000+AI41,-1000000+AI41)","v":-999997.5},null,{"$f":"IF(AK40=1,AK41*AK40*1000000+AK41,-1000000+AK41)","v":4000004},null,{"$f":"IF(AM40=1,AM41*AM40*1000000+AM41,-1000000+AM41)","v":-999994}]
["Classificats",{"$f":"SUM(C40:AM40)","v":6},{"$f":"IF(C42>=$A3/2,1,0)","v":0},null,{"$f":"IF(E42>=$A3/2,1,0)","v":0},null,{"$f":"IF(G42>=$A3/2,1,0)","v":1},null,{"$f":"IF(I42>=$A3/2,1,0)","v":0},null,{"$f":"IF(K42>=$A3/2,1,0)","v":0},null,{"$f":"IF(M42>=$A3/2,1,0)","v":0},null,{"$f":"IF(O42>=$A3/2,1,0)","v":0},null,{"$f":"IF(Q42>=$A3/2,1,0)","v":0},null,{"$f":"IF(S42>=$A3/2,1,0)","v":0},null,{"$f":"IF(U42>=$A3/2,1,0)","v":1},null,{"$f":"IF(W42>=$A3/2,1,0)","v":1},null,{"$f":"IF(Y42>=$A3/2,1,0)","v":1},null,{"$f":"IF(AA42>=$A3/2,1,0)","v":0},null,{"$f":"IF(AC42>=$A3/2,1,0)","v":1},null,{"$f":"IF(AE42>=$A3/2,1,0)","v":0},null,{"$f":"IF(AG42>=$A3/2,1,0)","v":0},null,{"$f":"IF(AI42>=$A3/2,1,0)","v":0},null,{"$f":"IF(AK42>=$A3/2,1,0)","v":1},null,{"$f":"IF(AM42>=$A3/2,1,0)","v":0}]
[null,null,{"$f":"IF(SUM(C46:C303)<-1000,-100000000,SUM(C46:C303))","v":5},{"$f":"+D46+D48+D50+D52+D54+D56+D58+D60+D62+D64+D66+D68+D70+D72+D74+D76+D78+D80+D82+D84+D86+D88+D90-D91-D89-D87-D85-D83-D79-D77-D75-D73-D71-D69-D67-D61-D59-D57-D55-D53-D51-D49-D47-D63-D65-D81","v":6},{"$f":"IF(SUM(E46:E303)<-1000,-100000000,SUM(E46:E303))","v":-100000000},{"$f":"+F46+F48+F50+F52+F54+F56+F58+F60+F62+F64+F66+F68+F70+F72+F74+F76+F78+F80+F82+F84+F86+F88+F90-F91-F89-F87-F85-F83-F79-F77-F75-F73-F71-F69-F67-F61-F59-F57-F55-F53-F51-F49-F47-F63-F65-F81","v":0},{"$f":"IF(SUM(G46:G303)<-1000,-100000000,SUM(G46:G303))","v":8.5},{"$f":"+H46+H48+H50+H52+H54+H56+H58+H60+H62+H64+H66+H68+H70+H72+H74+H76+H78+H80+H82+H84+H86+H88+H90-H91-H89-H87-H85-H83-H79-H77-H75-H73-H71-H69-H67-H61-H59-H57-H55-H53-H51-H49-H47-H63-H65-H81","v":27},{"$f":"IF(SUM(I46:I303)<-1000,-100000000,SUM(I46:I303))","v":4},{"$f":"+J46+J48+J50+J52+J54+J56+J58+J60+J62+J64+J66+J68+J70+J72+J74+J76+J78+J80+J82+J84+J86+J88+J90-J91-J89-J87-J85-J83-J79-J77-J75-J73-J71-J69-J67-J61-J59-J57-J55-J53-J51-J49-J47-J63-J65-J81","v":4},{"$f":"IF(SUM(K46:K303)<-1000,-100000000,SUM(K46:K303))","v":-100000000},{"$f":"+L46+L48+L50+L52+L54+L56+L58+L60+L62+L64+L66+L68+L70+L72+L74+L76+L78+L80+L82+L84+L86+L88+L90-L91-L89-L87-L85-L83-L79-L77-L75-L73-L71-L69-L67-L61-L59-L57-L55-L53-L51-L49-L47-L63-L65-L81","v":0},{"$f":"IF(SUM(M46:M303)<-1000,-100000000,SUM(M46:M303))","v":4},{"$f":"+N46+N48+N50+N52+N54+N56+N58+N60+N62+N64+N66+N68+N70+N72+N74+N76+N78+N80+N82+N84+N86+N88+N90-N91-N89-N87-N85-N83-N79-N77-N75-N73-N71-N69-N67-N61-N59-N57-N55-N53-N51-N49-N47-N63-N65-N81","v":1},{"$f":"IF(SUM(O46:O303)<-1000,-100000000,SUM(O46:O303))","v":0},{"$f":"+P46+P48+P50+P52+P54+P56+P58+P60+P62+P64+P66+P68+P70+P72+P74+P76+P78+P80+P82+P84+P86+P88+P90-P91-P89-P87-P85-P83-P79-P77-P75-P73-P71-P69-P67-P61-P59-P57-P55-P53-P51-P49-P47-P63-P65-P81","v":-4},{"$f":"IF(SUM(Q46:Q303)<-1000,-100000000,SUM(Q46:Q303))","v":-100000000},{"$f":"+R46+R48+R50+R52+R54+R56+R58+R60+R62+R64+R66+R68+R70+R72+R74+R76+R78+R80+R82+R84+R86+R88+R90-R91-R89-R87-R85-R83-R79-R77-R75-R73-R71-R69-R67-R61-R59-R57-R55-R53-R51-R49-R47-R63-R65-R81","v":0},{"$f":"IF(SUM(S46:S303)<-1000,-100000000,SUM(S46:S303))","v":2.5},{"$f":"+T46+T48+T50+T52+T54+T56+T58+T60+T62+T64+T66+T68+T70+T72+T74+T76+T78+T80+T82+T84+T86+T88+T90-T91-T89-T87-T85-T83-T79-T77-T75-T73-T71-T69-T67-T61-T59-T57-T55-T53-T51-T49-T47-T63-T65-T81","v":-3},{"$f":"IF(SUM(U46:U303)<-1000,-100000000,SUM(U46:U303))","v":1.5},{"$f":"+V46+V48+V50+V52+V54+V56+V58+V60+V62+V64+V66+V68+V70+V72+V74+V76+V78+V80+V82+V84+V86+V88+V90-V91-V89-V87-V85-V83-V79-V77-V75-V73-V71-V69-V67-V61-V59-V57-V55-V53-V51-V49-V47-V63-V65-V81","v":-10},{"$f":"IF(SUM(W46:W303)<-1000,-100000000,SUM(W46:W303))","v":4},{"$f":"+X46+X48+X50+X52+X54+X56+X58+X60+X62+X64+X66+X68+X70+X72+X74+X76+X78+X80+X82+X84+X86+X88+X90-X91-X89-X87-X85-X83-X79-X77-X75-X73-X71-X69-X67-X61-X59-X57-X55-X53-X51-X49-X47-X63-X65-X81","v":-2},{"$f":"IF(SUM(Y46:Y303)<-1000,-100000000,SUM(Y46:Y303))","v":4.5},{"$f":"+Z46+Z48+Z50+Z52+Z54+Z56+Z58+Z60+Z62+Z64+Z66+Z68+Z70+Z72+Z74+Z76+Z78+Z80+Z82+Z84+Z86+Z88+Z90-Z91-Z89-Z87-Z85-Z83-Z79-Z77-Z75-Z73-Z71-Z69-Z67-Z61-Z59-Z57-Z55-Z53-Z51-Z49-Z47-Z63-Z65-Z81","v":0},{"$f":"IF(SUM(AA46:AA303)<-1000,-100000000,SUM(AA46:AA303))","v":5.5},{"$f":"+AB46+AB48+AB50+AB52+AB54+AB56+AB58+AB60+AB62+AB64+AB66+AB68+AB70+AB72+AB74+AB76+AB78+AB80+AB82+AB84+AB86+AB88+AB90-AB91-AB89-AB87-AB85-AB83-AB79-AB77-AB75-AB73-AB71-AB69-AB67-AB61-AB59-AB57-AB55-AB53-AB51-AB49-AB47-AB63-AB65-AB81","v":3},{"$f":"IF(SUM(AC46:AC303)<-1000,-100000000,SUM(AC46:AC303))","v":3.5},{"$f":"+AD46+AD48+AD50+AD52+AD54+AD56+AD58+AD60+AD62+AD64+AD66+AD68+AD70+AD72+AD74+AD76+AD78+AD80+AD82+AD84+AD86+AD88+AD90-AD91-AD89-AD87-AD85-AD83-AD79-AD77-AD75-AD73-AD71-AD69-AD67-AD61-AD59-AD57-AD55-AD53-AD51-AD49-AD47-AD63-AD65-AD81","v":-11},{"$f":"IF(SUM(AE46:AE303)<-1000,-100000000,SUM(AE46:AE303))","v":0},{"$f":"+AF46+AF48+AF50+AF52+AF54+AF56+AF58+AF60+AF62+AF64+AF66+AF68+AF70+AF72+AF74+AF76+AF78+AF80+AF82+AF84+AF86+AF88+AF90-AF91-AF89-AF87-AF85-AF83-AF79-AF77-AF75-AF73-AF71-AF69-AF67-AF61-AF59-AF57-AF55-AF53-AF51-AF49-AF47-AF63-AF65-AF81","v":-8},{"$f":"IF(SUM(AG46:AG303)<-1000,-100000000,SUM(AG46:AG303))","v":2.5},{"$f":"+AH46+AH48+AH50+AH52+AH54+AH56+AH58+AH60+AH62+AH64+AH66+AH68+AH70+AH72+AH74+AH76+AH78+AH80+AH82+AH84+AH86+AH88+AH90-AH91-AH89-AH87-AH85-AH83-AH79-AH77-AH75-AH73-AH71-AH69-AH67-AH61-AH59-AH57-AH55-AH53-AH51-AH49-AH47-AH63-AH65-AH81","v":-1},{"$f":"IF(SUM(AI46:AI303)<-1000,-100000000,SUM(AI46:AI303))","v":2.5},{"$f":"+AJ46+AJ48+AJ50+AJ52+AJ54+AJ56+AJ58+AJ60+AJ62+AJ64+AJ66+AJ68+AJ70+AJ72+AJ74+AJ76+AJ78+AJ80+AJ82+AJ84+AJ86+AJ88+AJ90-AJ91-AJ89-AJ87-AJ85-AJ83-AJ79-AJ77-AJ75-AJ73-AJ71-AJ69-AJ67-AJ61-AJ59-AJ57-AJ55-AJ53-AJ51-AJ49-AJ47-AJ63-AJ65-AJ81","v":-2},{"$f":"IF(SUM(AK46:AK303)<-1000,-100000000,SUM(AK46:AK303))","v":4},{"$f":"+AL46+AL48+AL50+AL52+AL54+AL56+AL58+AL60+AL62+AL64+AL66+AL68+AL70+AL72+AL74+AL76+AL78+AL80+AL82+AL84+AL86+AL88+AL90-AL91-AL89-AL87-AL85-AL83-AL79-AL77-AL75-AL73-AL71-AL69-AL67-AL61-AL59-AL57-AL55-AL53-AL51-AL49-AL47-AL63-AL65-AL81","v":-6},{"$f":"IF(SUM(AM46:AM303)<-1000,-100000000,SUM(AM46:AM303))","v":6},{"$f":"+AN46+AN48+AN50+AN52+AN54+AN56+AN58+AN60+AN62+AN64+AN66+AN68+AN70+AN72+AN74+AN76+AN78+AN80+AN82+AN84+AN86+AN88+AN90-AN91-AN89-AN87-AN85-AN83-AN79-AN77-AN75-AN73-AN71-AN69-AN67-AN61-AN59-AN57-AN55-AN53-AN51-AN49-AN47-AN63-AN65-AN81","v":6}]
[null,null,{"$f":"SUM(D46:D303)/3","v":2.6666666666666665},{"$f":"COUNT(C46:C91)","v":6},{"$f":"SUM(F46:F303)/3","v":0},{"$f":"COUNT(E46:E91)","v":1},{"$f":"SUM(H46:H303)/3","v":20.333333333333332},{"$f":"COUNT(G46:G91)","v":11},{"$f":"SUM(J46:J303)/3","v":1.3333333333333333},{"$f":"COUNT(I46:I91)","v":4},{"$f":"SUM(L46:L303)/3","v":0},{"$f":"COUNT(K46:K91)","v":1},{"$f":"SUM(N46:N303)/3","v":2.6666666666666665},{"$f":"COUNT(M46:M91)","v":7},{"$f":"SUM(P46:P303)/3","v":1.3333333333333333},{"$f":"COUNT(O46:O91)","v":4},{"$f":"COUNT(R46:R303)/3","v":0},{"$f":"COUNT(Q46:Q91)","v":1},{"$f":"SUM(T46:T303)/3","v":2.6666666666666665},{"$f":"COUNT(S46:S91)","v":8},{"$f":"SUM(V46:V303)/3","v":13.333333333333334},{"$f":"COUNT(U46:U91)","v":8},{"$f":"SUM(X46:X303)/3","v":8.3333333333333339},{"$f":"COUNT(W46:W91)","v":8},{"$f":"SUM(Z46:Z303)/3","v":14.666666666666666},{"$f":"COUNT(Y46:Y91)","v":8},{"$f":"SUM(AB46:AB303)/3","v":3.6666666666666665},{"$f":"COUNT(AA46:AA91)","v":8},{"$f":"SUM(AD46:AD303)/3","v":9.6666666666666661},{"$f":"COUNT(AC46:AC91)","v":8},{"$f":"SUM(AF46:AF303)/3","v":2.6666666666666665},{"$f":"COUNT(AE46:AE91)","v":6},{"$f":"SUM(AH46:AH303)/3","v":2.3333333333333335},{"$f":"COUNT(AG46:AG91)","v":6},{"$f":"SUM(AJ46:AJ303)/3","v":2.3333333333333335},{"$f":"COUNT(AI46:AI91)","v":7},{"$f":"SUM(AL46:AL303)/3","v":15.333333333333334},{"$f":"COUNT(AK46:AK91)","v":10},{"$f":"SUM(AN46:AN303)/3","v":2.6666666666666665},{"$f":"COUNT(AM46:AM91)","v":7}]
[null,null,null,null,null,null,null,null,null,null,null,null,null,null,null,null,null,null,null,null,null,null,null,null,null,null,null,null,null,null,null,null,null,null,null,null,null,null,null,null,{"$f":"MAX(AP46:AP200)","v":108},null,{"$f":"SUM(AQ49:AQ103)","v":57}]
[null,"Nº partida ","Carles",null,"Rosa M.",null,"Jordi",null,"Caty",null,"Tito",null,"Sergi",null,"Carme",null,"Cyber X",null,"Ana B",null,"Sebas",null,"Òscar",null,"Montse",null,"Manolo",null,"Gemma",null,"Nin",null,"Grau",null,"Goretti",null,"Núria",null,"Mariajo",null,{"$f":"COUNT(AO46:AO218)","v":23},"A","B","C"]
[null,null,"Premi","Punts","Premi","Punts","Premi","Punts","Premi","Punts","Premi","Punts","Premi","Punts","Premi","Punts","Premi","Punts","Premi","Punts","Premi","Punts","Premi","Punts","Premi","Punts","Premi","Punts","Premi","Punts","Premi","Punts","Premi","Punts","Premi","Punts","Premi","Punts","Premi","Punts","Data","Timba"]
["G","Carles",null,null,-10000000,null,{"$f":"IF(H46-H47=0,0.5,IF(H46>H47,1,0))","v":0},null,null,null,-10000000,null,{"$f":"IF(N46-N47=0,0.5,IF(N46>N47,1,0))","v":0},null,null,null,-10000000,null,null,null,null,null,null,null,null,null,{"$f":"IF(AB46-AB47=0,0.5,IF(AB46>AB47,1,0))","v":0},null,null,null,{"$f":"IF(AF46-AF47=0,0.5,IF(AF46>AF47,1,0))","v":0},null,null,null,null,null,{"$f":"IF(AL46-AL47=0,0.5,IF(AL46>AL47,1,0))","v":0},null,{"$f":"IF(AN46-AN47=0,0.5,IF(AN46>AN47,1,0))","v":1},1,"2021-10-09",4,{"$f":"+C46+E46+G46+I46++K46++M46+O46+Q46+S46+U46+W46+AK46+AM46+Y46+AC46+AE46+AG46+AI46+AA46","v":-29999999},{"$f":"+D46+F46+H46+J46++L46++N46+P46+R46+T46+V46+X46+AL46+AN46+Z46+AD46+AF46+AH46+AJ46+AB46","v":1},{"$f":"COUNT(C46:AN46)/2","v":5},-10000000]
["P",null,null,null,null,null,null,1,null,null,null,null,null,1,null,null,null,null,null,null,null,null,null,null,null,null,null,2,null,null,null,2,null,null,null,null,null,1,null,0,"2021-11-20",28,0,7,3,{"$f":"+AR47/AS47","v":2.3333333333333335}]
["G","Rosa M.",null,null,null,null,null,null,null,null,null,null,null,null,null,null,null,null,null,null,null,null,null,null,null,null,null,null,null,null,null,null,null,null,null,null,null,null,null,null,"2021-11-25",35,0,0,0,{"$error":"#DIV/0!"}]
["P",null,null,null,null,null,null,null,null,null,null,null,null,null,null,null,null,null,null,null,null,null,null,null,null,null,null,null,null,null,null,null,null,null,null,null,null,null,null,null,"2021-11-25",35,0,0,0,{"$error":"#DIV/0!"}]
["G","Jordi",{"$f":"IF(D50-D51=0,0.5,IF(D50>D51,1,0))","v":1},1,null,null,null,null,null,null,null,null,{"$f":"IF(N50-N51=0,0.5,IF(N50>N51,1,0))","v":0.5},1,{"$f":"IF(P50-P51=0,0.5,IF(P50>P51,1,0))","v":0},null,null,null,{"$f":"IF(T50-T51=0,0.5,IF(T50>T51,1,0))","v":0},null,{"$f":"IF(V50-V51=0,0.5,IF(V50>V51,1,0))","v":0},3,{"$f":"IF(X50-X51=0,0.5,IF(X50>X51,1,0))","v":0},2,{"$f":"IF(Z50-Z51=0,0.5,IF(Z50>Z51,1,0))","v":0},4,null,null,{"$f":"IF(AD50-AD51=0,0.5,IF(AD50>AD51,1,0))","v":0},null,null,null,null,null,{"$f":"IF(AJ50-AJ51=0,0.5,IF(AJ50>AJ51,1,0))","v":0},null,{"$f":"IF(AL50-AL51=0,0.5,IF(AL50>AL51,1,0))","v":0},5,{"$f":"IF(AN50-AN51=0,0.5,IF(AN50>AN51,1,0))","v":1},1,"2021-12-17",41,2.5,17,9,1.8888888888888888]
["P",null,null,null,null,null,null,null,null,null,null,null,null,1,null,1,null,null,null,1,null,9,null,4,null,10,null,null,null,8,null,null,null,null,null,1,null,9,null,0,"2021-12-17",41,0,44,5,8.8000000000000007]
["G","Caty",null,null,null,null,null,null,null,null,null,null,null,null,null,null,null,null,{"$f":"IF(T52-T53=0,0.5,IF(T52>T53,1,0))","v":0},null,null,null,{"$f":"IF(X52-X53=0,0.5,IF(X52>X53,1,0))","v":0},null,{"$f":"IF(Z52-Z53=0,0.5,IF(Z52>Z53,1,0))","v":0},null,null,null,null,null,{"$f":"IF(AF52-AF53=0,0.5,IF(AF52>AF53,1,0))","v":0},null,null,null,null,null,null,null,null,null,"2022-01-09",42,0,0,2,0]
["P",null,null,null,null,null,null,null,null,null,null,null,null,null,null,null,null,null,null,1,null,null,null,1,null,1,null,null,null,null,null,1,null,null,null,null,null,null,null,null,"2022-01-09",42,0,4,2,2]
["G","Tito",null,null,null,null,null,null,null,null,null,null,null,null,null,null,null,null,null,null,null,null,null,null,null,null,null,null,null,null,null,null,null,null,null,null,null,null,null,null,"2022-01-21",46,0,0,0,{"$error":"#DIV/0!"}]
["P",null,null,null,null,null,null,null,null,null,null,null,null,null,null,null,null,null,null,null,null,null,null,null,null,null,null,null,null,null,null,null,null,null,null,null,null,null,null,null,"2022-02-03",47,0,0,0,{"$error":"#DIV/0!"}]
["G","Sergi",{"$f":"IF(D56-D57=0,0.5,IF(D56>D57,1,0))","v":1},1,null,null,{"$f":"IF(H56-H57=0,0.5,IF(H56>H57,1,0))","v":0.5},1,null,null,null,null,null,null,{"$f":"IF(P56-P57=0,0.5,IF(P56>P57,1,0))","v":0},null,null,null,{"$f":"IF(T56-T57=0,0.5,IF(T56>T57,1,0))","v":0},null,null,null,null,null,null,null,null,null,null,null,null,null,null,null,{"$f":"IF(AJ56-AJ57=0,0.5,IF(AJ56>AJ57,1,0))","v":0.5},0.5,{"$f":"IF(AL56-AL57=0,0.5,IF(AL56>AL57,1,0))","v":0},null,{"$f":"IF(AN56-AN57=0,0.5,IF(AN56>AN57,1,0))","v":1},1,"2022-02-19",49,{"$f":"+C56+E56+G56+I56++K56++M56+O56+Q56+S56+U56+W56+AK56+AM56+Y56+AC56+AE56+AG56+AI56+AA56","v":3},3.5,5.5,0.63636363636363635]
["P",null,null,null,null,null,null,1,null,null,null,null,null,null,null,1,null,null,null,1,null,null,null,null,null,null,null,null,null,null,null,null,null,null,null,0.5,null,1,null,0,"2022-02-19",49,0,4.5,3,1.5]
["G","Carme",null,null,null,null,{"$f":"IF(H58-H59=0,0.5,IF(H58>H59,1,0))","v":1},1,null,null,null,null,{"$f":"IF(N58-N59=0,0.5,IF(N58>N59,1,0))","v":1},1,null,null,null,null,{"$f":"IF(T58-T59=0,0.5,IF(T58>T59,1,0))","v":1},1,null,null,null,null,null,null,null,null,null,null,null,null,null,null,{"$f":"IF(AJ58-AJ59=0,0.5,IF(AJ58>AJ59,1,0))","v":1},1,null,null,null,null,"2022-03-04",51,4,{"$f":"+D58+F58+H58+J58++L58++N58+P58+R58+T58+V58+X58+AL58+AN58+Z58+AD58+AF58+AH58+AJ58+AB58","v":4},4,1]
["P",null,null,null,null,null,null,null,null,null,null,null,null,null,null,null,null,null,null,null,null,null,null,null,null,null,null,null,null,null,null,null,null,null,null,null,null,null,null,null,"2022-03-10",52,0,0,{"$f":"COUNT(C59:AN59)/2","v":0},{"$error":"#DIV/0!"}]
["G","Cyber X",null,null,null,null,null,null,null,null,null,null,null,null,null,null,null,null,null,null,null,null,null,null,null,null,null,null,null,null,null,null,null,null,null,null,null,null,null,null,"2022-03-10",52,0,0,0,{"$error":"#DIV/0!"}]
["P",null,null,null,null,null,null,null,null,null,null,null,null,null,null,null,null,null,null,null,null,null,null,null,null,null,null,null,null,null,null,null,null,null,null,null,null,null,null,null,"2022-05-27",64,0,0,0,{"$error":"#DIV/0!"}]
["G","Ana B",null,null,null,null,{"$f":"IF(H62-H63=0,0.5,IF(H62>H63,1,0))","v":1},1,{"$f":"IF(J62-J63=0,0.5,IF(J62>J63,1,0))","v":1},1,null,null,{"$f":"IF(N62-N63=0,0.5,IF(N62>N63,1,0))","v":1},1,{"$f":"IF(P62-P63=0,0.5,IF(P62>P63,1,0))","v":0},null,null,null,null,null,null,null,{"$f":"IF(X62-X63=0,0.5,IF(X62>X63,1,0))","v":0.5},0.5,{"$f":"IF(Z62-Z63=0,0.5,IF(Z62>Z63,1,0))","v":1},1,null,null,null,null,{"$f":"IF(AF62-AF63=0,0.5,IF(AF62>AF63,1,0))","v":0},null,null,null,{"$f":"IF(AJ62-AJ63=0,0.5,IF(AJ62>AJ63,1,0))","v":1},1,null,null,null,null,"2022-06-09",68,{"$f":"+C62+E62+G62+I62++K62++M62+O62+Q62+S62+U62+W62+AK62+AM62+Y62+AC62+AE62+AG62+AI62+AA62","v":5.5},5.5,7,0.7857142857142857]
["P",null,null,null,null,null,null,null,null,null,null,null,null,null,null,1,null,null,null,null,null,null,null,0.5,null,null,null,null,null,null,null,1,null,null,null,null,null,null,null,null,"2022-06-24",75,0,2.5,1.5,1.6666666666666667]
["G","Sebas",null,null,null,null,{"$f":"IF(H64-H65=0,0.5,IF(H64>H65,1,0))","v":1},9,null,null,null,null,null,null,null,null,null,null,null,null,null,null,{"$f":"IF(X64-X65=0,0.5,IF(X64>X65,1,0))","v":1},2,{"$f":"IF(Z64-Z65=0,0.5,IF(Z64>Z65,1,0))","v":0.5},5,{"$f":"IF(AB64-AB65=0,0.5,IF(AB64>AB65,1,0))","v":1},1,{"$f":"IF(AD64-AD65=0,0.5,IF(AD64>AD65,1,0))","v":0.5},2,null,null,{"$f":"IF(AH64-AH65=0,0.5,IF(AH64>AH65,1,0))","v":1},1,null,null,{"$f":"IF(AL64-AL65=0,0.5,IF(AL64>AL65,1,0))","v":0.5},4,{"$f":"IF(AN64-AN65=0,0.5,IF(AN64>AN65,1,0))","v":1},1,"2022-06-25",76,6.5,25,8,3.125]
["P",null,null,null,null,null,null,3,null,null,null,null,null,null,null,null,null,null,null,null,null,null,null,1,null,5,null,null,null,2,null,null,null,null,null,null,null,4,null,null,"2022-09-08",102,0,{"$f":"+D65+F65+H65+J65++L65++N65+P65+R65+T65+V65+X65+AL65+AN65+Z65+AD65+AF65+AH65+AJ65+AB65","v":15},{"$f":"COUNT(C65:AN65)/2","v":2.5},6]
["G","Òscar",null,null,null,null,{"$f":"IF(H66-H67=0,0.5,IF(H66>H67,1,0))","v":1},4,{"$f":"IF(J66-J67=0,0.5,IF(J66>J67,1,0))","v":1},1,null,null,null,null,null,null,null,null,{"$f":"IF(T66-T67=0,0.5,IF(T66>T67,1,0))","v":0.5},0.5,{"$f":"IF(V66-V67=0,0.5,IF(V66>V67,1,0))","v":0},1,null,null,{"$f":"IF(Z66-Z67=0,0.5,IF(Z66>Z67,1,0))","v":1},3,null,null,{"$f":"IF(AD66-AD67=0,0.5,IF(AD66>AD67,1,0))","v":0},2,{"$f":"IF(AF66-AF67=0,0.5,IF(AF66>AF67,1,0))","v":0},null,null,null,null,null,{"$f":"IF(AL66-AL67=0,0.5,IF(AL66>AL67,1,0))","v":0.5},2,null,null,"2022-09-09",103,4,{"$f":"+D66+F66+H66+J66++L66++N66+P66+R66+T66+V66+X66+AL66+AN66+Z66+AD66+AF66+AH66+AJ66+AB66","v":13.5},{"$f":"COUNT(C66:AN66)/2","v":7.5},1.8]
["P",null,null,null,null,null,null,2,null,null,null,null,null,null,null,null,null,null,null,0.5,null,2,null,null,null,1,null,null,null,3,null,1,null,null,null,null,null,2,null,null,"2022-09-17",106,0,{"$f":"+D67+F67+H67+J67++L67++N67+P67+R67+T67+V67+X67+AL67+AN67+Z67+AD67+AF67+AH67+AJ67+AB67","v":11.5},{"$f":"COUNT(C67:AN67)/2","v":3.5},3.2857142857142856]
["G","Montse",null,null,null,null,{"$f":"IF(H68-H69=0,0.5,IF(H68>H69,1,0))","v":1},10,{"$f":"IF(J68-J69=0,0.5,IF(J68>J69,1,0))","v":1},1,null,null,null,null,null,null,null,null,{"$f":"IF(T68-T69=0,0.5,IF(T68>T69,1,0))","v":0},null,{"$f":"IF(V68-V69=0,0.5,IF(V68>V69,1,0))","v":0.5},5,{"$f":"IF(X68-X69=0,0.5,IF(X68>X69,1,0))","v":0},1,null,null,null,null,{"$f":"IF(AD68-AD69=0,0.5,IF(AD68>AD69,1,0))","v":0},null,{"$f":"IF(AF68-AF69=0,0.5,IF(AF68>AF69,1,0))","v":0},null,null,null,null,null,{"$f":"IF(AL68-AL69=0,0.5,IF(AL68>AL69,1,0))","v":1},5,null,null,"2022-09-23",108,3.5,{"$f":"+D68+F68+H68+J68++L68++N68+P68+R68+T68+V68+X68+AL68+AN68+Z68+AD68+AF68+AH68+AJ68+AB68","v":22},{"$f":"COUNT(C68:AN68)/2","v":6.5},{"$f":"+AR68/AS68","v":3.3846153846153846}]
["P",null,null,null,null,null,null,4,null,null,null,null,null,null,null,null,null,null,null,1,null,5,null,3,null,null,null,null,null,4,null,1,null,null,null,null,null,4,null,null,null,null,{"$f":"+C69+E69+G69+I69++K69++M69+O69+Q69+S69+U69+W69+AK69+AM69+Y69+AC69+AE69+AG69+AI69+AA69","v":0},{"$f":"+D69+F69+H69+J69++L69++N69+P69+R69+T69+V69+X69+AL69+AN69+Z69+AD69+AF69+AH69+AJ69+AB69","v":22},{"$f":"COUNT(C69:AN69)/2","v":3.5},{"$f":"+AR69/AS69","v":6.2857142857142856}]
["G","Manolo",{"$f":"IF(D70-D71=0,0.5,IF(D70>D71,1,0))","v":1},2,null,null,null,null,null,null,null,null,null,null,null,null,null,null,null,null,{"$f":"IF(V70-V71=0,0.5,IF(V70>V71,1,0))","v":0},null,null,null,null,null,null,null,{"$f":"IF(AD70-AD71=0,0.5,IF(AD70>AD71,1,0))","v":1},1,{"$f":"IF(AF70-AF71=0,0.5,IF(AF70>AF71,1,0))","v":0},null,{"$f":"IF(AH70-AH71=0,0.5,IF(AH70>AH71,1,0))","v":0.5},1,{"$f":"IF(AJ70-AJ71=0,0.5,IF(AJ70>AJ71,1,0))","v":0},null,{"$f":"IF(AL70-AL71=0,0.5,IF(AL70>AL71,1,0))","v":0},null,{"$f":"IF(AN70-AN71=0,0.5,IF(AN70>AN71,1,0))","v":0},null,null,null,2.5,4,5.5,0.72727272727272729]
["P",null,null,null,null,null,null,null,null,null,null,null,null,null,null,null,null,null,null,null,null,1,null,null,null,null,null,null,null,null,null,2,null,1,null,1,null,1,null,1,null,null,0,7,3,2.3333333333333335]
["G","Gemma",null,null,null,null,{"$f":"IF(H72-H73=0,0.5,IF(H72>H73,1,0))","v":1},8,null,null,null,null,null,null,null,null,null,null,null,null,{"$f":"IF(V72-V73=0,0.5,IF(V72>V73,1,0))","v":0.5},2,{"$f":"IF(X72-X73=0,0.5,IF(X72>X73,1,0))","v":1},3,{"$f":"IF(Z72-Z73=0,0.5,IF(Z72>Z73,1,0))","v":1},4,{"$f":"IF(AB72-AB73=0,0.5,IF(AB72>AB73,1,0))","v":0},null,null,null,null,null,{"$f":"IF(AH72-AH73=0,0.5,IF(AH72>AH73,1,0))","v":0},null,{"$f":"IF(AJ72-AJ73=0,0.5,IF(AJ72>AJ73,1,0))","v":0},null,{"$f":"IF(AL72-AL73=0,0.5,IF(AL72>AL73,1,0))","v":1},3,null,null,null,null,4.5,20,6.5,3.0769230769230771]
["P",null,null,null,null,null,null,null,null,null,null,null,null,null,null,null,null,null,null,null,null,2,null,2,null,null,null,1,null,null,null,null,null,1,null,1,null,2,null,null,null,null,0,9,3,3]
["G","Nin",{"$f":"IF(D74-D75=0,0.5,IF(D74>D75,1,0))","v":1},2,null,null,null,null,{"$f":"IF(J74-J75=0,0.5,IF(J74>J75,1,0))","v":1},1,null,null,null,null,null,null,null,null,{"$f":"IF(T74-T75=0,0.5,IF(T74>T75,1,0))","v":1},1,null,null,{"$f":"IF(X74-X75=0,0.5,IF(X74>X75,1,0))","v":1},1,{"$f":"IF(Z74-Z75=0,0.5,IF(Z74>Z75,1,0))","v":1},1,{"$f":"IF(AB74-AB75=0,0.5,IF(AB74>AB75,1,0))","v":1},2,null,null,null,null,null,null,null,null,null,null,null,null,null,null,6,8,6,1.3333333333333333]
["P",null,null,null,null,null,null,null,null,null,null,null,null,null,null,null,null,null,null,null,null,null,null,null,null,null,null,null,null,null,null,null,null,null,null,null,null,null,null,null,null,null,0,0,0,{"$error":"#DIV/0!"}]
["G","Grau",null,null,null,null,null,null,null,null,null,null,null,null,null,null,null,null,null,null,{"$f":"IF(V76-V77=0,0.5,IF(V76>V77,1,0))","v":0},null,null,null,null,null,{"$f":"IF(AB76-AB77=0,0.5,IF(AB76>AB77,1,0))","v":0.5},1,{"$f":"IF(AD76-AD77=0,0.5,IF(AD76>AD77,1,0))","v":1},1,null,null,null,null,{"$f":"IF(AJ76-AJ77=0,0.5,IF(AJ76>AJ77,1,0))","v":0},null,{"$f":"IF(AL76-AL77=0,0.5,IF(AL76>AL77,1,0))","v":1},1,{"$f":"IF(AN76-AN77=0,0.5,IF(AN76>AN77,1,0))","v":1},1,null,null,3.5,4,5,0.8]
["P",null,null,null,null,null,null,null,null,null,null,null,null,null,null,null,null,null,null,null,null,1,null,null,null,null,null,1,null,null,null,null,null,null,null,1,null,null,null,null,null,null,0,3,1.5,2]
["G","Goretti",null,null,null,null,{"$f":"IF(H78-H79=0,0.5,IF(H78>H79,1,0))","v":1},1,null,null,null,null,{"$f":"IF(N78-N79=0,0.5,IF(N78>N79,1,0))","v":0.5},0.5,{"$f":"IF(P78-P79=0,0.5,IF(P78>P79,1,0))","v":0},null,null,null,{"$f":"IF(T78-T79=0,0.5,IF(T78>T79,1,0))","v":0},null,null,null,null,null,null,null,{"$f":"IF(AB78-AB79=0,0.5,IF(AB78>AB79,1,0))","v":1},1,{"$f":"IF(AD78-AD79=0,0.5,IF(AD78>AD79,1,0))","v":1},1,null,null,{"$f":"IF(AH78-AH79=0,0.5,IF(AH78>AH79,1,0))","v":1},1,null,null,null,null,null,null,null,null,4.5,4.5,6,0.75]
["P",null,null,null,null,null,null,null,null,null,null,null,null,0.5,null,1,null,null,null,1,null,null,null,null,null,null,null,null,null,null,null,null,null,null,null,null,null,null,null,null,null,null,0,2.5,1.5,1.6666666666666667]
["G","Núria",{"$f":"IF(D80-D81=0,0.5,IF(D80>D81,1,0))","v":1},1,null,null,{"$f":"IF(H80-H81=0,0.5,IF(H80>H81,1,0))","v":1},9,null,null,null,null,{"$f":"IF(N80-N81=0,0.5,IF(N80>N81,1,0))","v":1},1,null,null,null,null,null,null,{"$f":"IF(V80-V81=0,0.5,IF(V80>V81,1,0))","v":0.5},4,{"$f":"IF(X80-X81=0,0.5,IF(X80>X81,1,0))","v":0.5},2,{"$f":"IF(Z80-Z81=0,0.5,IF(Z80>Z81,1,0))","v":0},4,{"$f":"IF(AB80-AB81=0,0.5,IF(AB80>AB81,1,0))","v":1},1,{"$f":"IF(AD80-AD81=0,0.5,IF(AD80>AD81,1,0))","v":0},2,null,null,{"$f":"IF(AH80-AH81=0,0.5,IF(AH80>AH81,1,0))","v":0},null,null,null,null,null,{"$f":"IF(AN80-AN81=0,0.5,IF(AN80>AN81,1,0))","v":1},2,null,null,6,26,9.5,2.736842105263158]
["P",null,null,null,null,null,null,5,null,null,null,null,null,null,null,null,null,null,null,null,null,4,null,2,null,5,null,null,null,3,null,null,null,1,null,null,null,null,null,null,null,null,0,20,3,6.666666666666667]
["G","Mariajo",{"$f":"IF(D82-D83=0,0.5,IF(D82>D83,1,0))","v":0},null,null,null,{"$f":"IF(H82-H83=0,0.5,IF(H82>H83,1,0))","v":0},null,null,null,null,null,{"$f":"IF(N82-N83=0,0.5,IF(N82>N83,1,0))","v":0},null,null,null,null,null,null,null,{"$f":"IF(V82-V83=0,0.5,IF(V82>V83,1,0))","v":0},null,null,null,null,null,{"$f":"IF(AB82-AB83=0,0.5,IF(AB82>AB83,1,0))","v":1},1,null,null,null,null,{"$f":"IF(AH82-AH83=0,0.5,IF(AH82>AH83,1,0))","v":0},null,null,null,{"$f":"IF(AL82-AL83=0,0.5,IF(AL82>AL83,1,0))","v":0},null,null,null,null,null,1,1,4,0.25]
["P",null,null,1,null,null,null,1,null,null,null,null,null,1,null,null,null,null,null,null,null,1,null,null,null,null,null,null,null,null,null,null,null,1,null,null,null,2,null,null,null,null,0,7,3,2.3333333333333335]
["G",null,null,null,null,null,null,null,null,null,null,null,null,null,null,null,null,null,null,null,null,null,null,null,null,null,null,null,null,null,null,null,null,null,null,null,null,null,null,null,null,null,0,0,0,{"$error":"#DIV/0!"}]
["P",null,null,null,null,null,null,null,null,null,null,null,null,null,null,null,null,null,null,null,null,null,null,null,null,null,null,null,null,null,null,null,null,null,null,null,null,null,null,null,null,null,0,0,0,{"$error":"#DIV/0!"}]
["G",null,null,null,null,null,null,null,null,null,null,null,null,null,null,null,null,null,null,null,null,null,null,null,null,null,null,null,null,null,null,null,null,null,null,null,null,null,null,null,null,null,0,0,0,{"$error":"#DIV/0!"}]
["P",null,null,null,null,null,null,null,null,null,null,null,null,null,null,null,null,null,null,null,null,null,null,null,null,null,null,null,null,null,null,null,null,null,null,null,null,null,null,null,null,null,0,0,0,{"$error":"#DIV/0!"}]
["G",null,null,null,null,null,null,null,null,null,null,null,null,null,null,null,null,null,null,null,null,null,null,null,null,null,null,null,null,null,null,null,null,null,null,null,null,null,null,null,null,null,{"$f":"+C88+E88+G88+I88++K88++M88+O88+Q88+S88+U88+W88+AK88+AM88+Y88+AC88+AE88+AG88+AI88+AA88","v":0},0,0,{"$error":"#DIV/0!"}]
["P",null,null,null,null,null,null,null,null,null,null,null,null,null,null,null,null,null,null,null,null,null,null,null,null,null,null,null,null,null,null,null,null,null,null,null,null,null,null,null,null,null,0,0,0,{"$error":"#DIV/0!"}]
["G",null,null,null,null,null,null,null,null,null,null,null,null,null,null,null,null,null,null,null,null,null,null,null,null,null,null,null,null,null,null,null,null,null,null,null,null,null,null,null,null,null,0,0,0,{"$error":"#DIV/0!"}]
["P",null,null,null,null,null,null,null,null,null,null,null,null,null,null,null,null,null,null,null,null,null,null,null,null,null,null,null,null,null,null,null,null,null,null,null,null,null,null,null,null,null,{"$f":"+C91+E91+G91+I91++K91++M91+O91+Q91+S91+U91+W91+AK91+AM91+Y91+AC91+AE91+AG91+AI91+AA91","v":0},{"$f":"+D91+F91+H91+J91++L91++N91+P91+R91+T91+V91+X91+AL91+AN91+Z91+AD91+AF91+AH91+AJ91+AB91","v":0},0,{"$error":"#DIV/0!"}]
[{"$f":"+A91+1","v":{"$error":"#VALUE!"}},null,null,null,null,null,null,null,null,null,null,null,null,null,null,null,null,null,null,null,null,null,null,null,null,null,null,null,null,null,null,null,null,null,null,null,null,null,null,null,null,null,0,0,0,{"$error":"#DIV/0!"}]
[{"$error":"#VALUE!"},null,null,null,null,null,null,null,null,null,null,null,null,null,null,null,null,null,null,null,null,null,null,null,null,null,null,null,null,null,null,null,null,null,null,null,null,null,null,null,null,null,0,0,0,{"$error":"#DIV/0!"}]
[{"$error":"#VALUE!"},null,null,null,null,null,null,null,null,null,null,null,null,null,null,null,null,null,null,null,null,null,null,null,null,null,null,null,null,null,null,null,null,null,null,null,null,null,null,null,null,null,0,0,0,{"$error":"#DIV/0!"}]
[{"$error":"#VALUE!"},null,null,null,null,null,null,null,null,null,null,null,null,null,null,null,null,null,null,null,null,null,null,null,null,null,null,null,null,null,null,null,null,null,null,null,null,null,null,null,null,null,0,0,0,{"$error":"#DIV/0!"}]
[{"$error":"#VALUE!"},null,null,null,null,null,null,null,null,null,null,null,null,null,null,null,null,null,null,null,null,null,null,null,null,null,null,null,null,null,null,null,null,null,null,null,null,null,null,null,null,null,0,0,0,{"$error":"#DIV/0!"}]
[{"$error":"#VALUE!"},null,null,null,null,null,null,null,null,null,null,null,null,null,null,null,null,null,null,null,null,null,null,null,null,null,null,null,null,null,null,null,null,null,null,null,null,null,null,null,null,null,0,0,0,{"$error":"#DIV/0!"}]
[{"$error":"#VALUE!"},null,null,null,null,null,null,null,null,null,null,null,null,null,null,null,null,null,null,null,null,null,null,null,null,null,null,null,null,null,null,null,null,null,null,null,null,null,null,null,null,null,0,0,0,{"$error":"#DIV/0!"}]
[{"$error":"#VALUE!"},null,null,null,null,null,null,null,null,null,null,null,null,null,null,null,null,null,null,null,null,null,null,null,null,null,null,null,null,null,null,null,null,null,null,null,null,null,null,null,null,null,0,0,0,{"$error":"#DIV/0!"}]
[{"$error":"#VALUE!"},null,null,null,null,null,null,null,null,null,null,null,null,null,null,null,null,null,null,null,null,null,null,null,null,null,null,null,null,null,null,null,null,null,null,null,null,null,null,null,null,null,0,0,0,{"$error":"#DIV/0!"}]
[{"$error":"#VALUE!"},null,null,null,null,null,null,null,null,null,null,null,null,null,null,null,null,null,null,null,null,null,null,null,null,null,null,null,null,null,null,null,null,null,null,null,null,null,null,null,null,null,0,0,0,{"$error":"#DIV/0!"}]
[{"$error":"#VALUE!"},null,null,null,null,null,null,null,null,null,null,null,null,null,null,null,null,null,null,null,null,null,null,null,null,null,null,null,null,null,null,null,null,null,null,null,null,null,null,null,null,null,0,0,0,{"$error":"#DIV/0!"}]
[{"$error":"#VALUE!"},null,null,null,null,null,null,null,null,null,null,null,null,null,null,null,null,null,null,null,null,null,null,null,null,null,null,null,null,null,null,null,null,null,null,null,null,null,null,null,null,null,0,0,0,{"$error":"#DIV/0!"}]
[{"$error":"#VALUE!"},null,null,null,null,null,null,null,null,null,null,null,null,null,null,null,null,null,null,null,null,null,null,null,null,null,null,null,null,null,null,null,null,null,null,null,null,null,null,null,null,null,0,0,0,{"$error":"#DIV/0!"}]
[{"$error":"#VALUE!"},null,null,null,null,null,null,null,null,null,null,null,null,null,null,null,null,null,null,null,null,null,null,null,null,null,null,null,null,null,null,null,null,null,null,null,null,null,null,null,null,null,{"$f":"+C105+E105+G105+I105++K105++M105+O105+Q105+S105+U105+W105+AK105+AM105+Y105+AC105+AE105+AG105+AI105+AA105","v":0},{"$f":"+D105+F105+H105+J105++L105++N105+P105+R105+T105+V105+X105+AL105+AN105+Z105+AD105+AF105+AH105+AJ105+AB105","v":0},0,{"$error":"#DIV/0!"}]
[{"$error":"#VALUE!"},null,null,null,null,null,null,null,null,null,null,null,null,null,null,null,null,null,null,null,null,null,null,null,null,null,null,null,null,null,null,null,null,null,null,null,null,null,null,null,null,null,0,0,0,{"$error":"#DIV/0!"}]
[{"$error":"#VALUE!"},null,null,null,null,null,null,null,null,null,null,null,null,null,null,null,null,null,null,null,null,null,null,null,null,null,null,null,null,null,null,null,null,null,null,null,null,null,null,null,null,null,0,0,0,{"$error":"#DIV/0!"}]
[{"$error":"#VALUE!"},null,null,null,null,null,null,null,null,null,null,null,null,null,null,null,null,null,null,null,null,null,null,null,null,null,null,null,null,null,null,null,null,null,null,null,null,null,null,null,null,null,0,0,0,{"$error":"#DIV/0!"}]
[{"$error":"#VALUE!"},null,null,null,null,null,null,null,null,null,null,null,null,null,null,null,null,null,null,null,null,null,null,null,null,null,null,null,null,null,null,null,null,null,null,null,null,null,null,null,null,null,0,0,0,{"$error":"#DIV/0!"}]
[{"$error":"#VALUE!"},null,null,null,null,null,null,null,null,null,null,null,null,null,null,null,null,null,null,null,null,null,null,null,null,null,null,null,null,null,null,null,null,null,null,null,null,null,null,null,null,null,0,0,0,{"$error":"#DIV/0!"}]
[{"$error":"#VALUE!"},null,null,null,null,null,null,null,null,null,null,null,null,null,null,null,null,null,null,null,null,null,null,null,null,null,null,null,null,null,null,null,null,null,null,null,null,null,null,null,null,null,0,0,0,{"$error":"#DIV/0!"}]
[{"$f":"+A111+1","v":{"$error":"#VALUE!"}},null,null,null,null,null,null,null,null,null,null,null,null,null,null,null,null,null,null,null,null,null,null,null,null,null,null,null,null,null,null,null,null,null,null,null,null,null,null,null,null,null,0,0,0,{"$error":"#DIV/0!"}]
[{"$error":"#VALUE!"},null,null,null,null,null,null,null,null,null,null,null,null,null,null,null,null,null,null,null,null,null,null,null,null,null,null,null,null,null,null,null,null,null,null,null,null,null,null,null,null,null,0,0,0,{"$error":"#DIV/0!"}]
[{"$error":"#VALUE!"},null,null,null,null,null,null,null,null,null,null,null,null,null,null,null,null,null,null,null,null,null,null,null,null,null,null,null,null,null,null,null,null,null,null,null,null,null,null,null,null,null,0,0,0,{"$error":"#DIV/0!"}]
[{"$error":"#VALUE!"},null,null,null,null,null,null,null,null,null,null,null,null,null,null,null,null,null,null,null,null,null,null,null,null,null,null,null,null,null,null,null,null,null,null,null,null,null,null,null,null,null,0,0,0,{"$error":"#DIV/0!"}]
[{"$error":"#VALUE!"},null,null,null,null,null,null,null,null,null,null,null,null,null,null,null,null,null,null,null,null,null,null,null,null,null,null,null,null,null,null,null,null,null,null,null,null,null,null,null,null,null,0,0,0,{"$error":"#DIV/0!"}]
[{"$error":"#VALUE!"},null,null,null,null,null,null,null,null,null,null,null,null,null,null,null,null,null,null,null,null,null,null,null,null,null,null,null,null,null,null,null,null,null,null,null,null,null,null,null,null,null,0,0,0,{"$error":"#DIV/0!"}]
[{"$error":"#VALUE!"},null,null,null,null,null,null,null,null,null,null,null,null,null,null,null,null,null,null,null,null,null,null,null,null,null,null,null,null,null,null,null,null,null,null,null,null,null,null,null,null,null,0,0,0,{"$error":"#DIV/0!"}]
[{"$error":"#VALUE!"},null,null,null,null,null,null,null,null,null,null,null,null,null,null,null,null,null,null,null,null,null,null,null,null,null,null,null,null,null,null,null,null,null,null,null,null,null,null,null,null,null,0,0,0,{"$error":"#DIV/0!"}]
[{"$error":"#VALUE!"},null,null,null,null,null,null,null,null,null,null,null,null,null,null,null,null,null,null,null,null,null,null,null,null,null,null,null,null,null,null,null,null,null,null,null,null,null,null,null,null,null,0,0,0,{"$error":"#DIV/0!"}]
[{"$error":"#VALUE!"},null,null,null,null,null,null,null,null,null,null,null,null,null,null,null,null,null,null,null,null,null,null,null,null,null,null,null,null,null,null,null,null,null,null,null,null,null,null,null,null,null,0,0,0,{"$error":"#DIV/0!"}]
[{"$error":"#VALUE!"},null,null,null,null,null,null,null,null,null,null,null,null,null,null,null,null,null,null,null,null,null,null,null,null,null,null,null,null,null,null,null,null,null,null,null,null,null,null,null,null,null,0,0,0,{"$error":"#DIV/0!"}]
[{"$error":"#VALUE!"},null,null,null,null,null,null,null,null,null,null,null,null,null,null,null,null,null,null,null,null,null,null,null,null,null,null,null,null,null,null,null,null,null,null,null,null,null,null,null,null,null,0,0,0,{"$error":"#DIV/0!"}]
[{"$error":"#VALUE!"},null,null,null,null,null,null,null,null,null,null,null,null,null,null,null,null,null,null,null,null,null,null,null,null,null,null,null,null,null,null,null,null,null,null,null,null,null,null,null,null,null,0,0,0,{"$error":"#DIV/0!"}]
[{"$error":"#VALUE!"},null,null,null,null,null,null,null,null,null,null,null,null,null,null,null,null,null,null,null,null,null,null,null,null,null,null,null,null,null,null,null,null,null,null,null,null,null,null,null,null,null,0,0,0,{"$error":"#DIV/0!"}]
[{"$error":"#VALUE!"},null,null,null,null,null,null,null,null,null,null,null,null,null,null,null,null,null,null,null,null,null,null,null,null,null,null,null,null,null,null,null,null,null,null,null,null,null,null,null,null,null,0,0,0,{"$error":"#DIV/0!"}]
[{"$error":"#VALUE!"},null,null,null,null,null,null,null,null,null,null,null,null,null,null,null,null,null,null,null,null,null,null,null,null,null,null,null,null,null,null,null,null,null,null,null,null,null,null,null,null,null,0,0,0,{"$error":"#DIV/0!"}]
[{"$error":"#VALUE!"},null,null,null,null,null,null,null,null,null,null,null,null,null,null,null,null,null,null,null,null,null,null,null,null,null,null,null,null,null,null,null,null,null,null,null,null,null,null,null,null,null,0,0,0,{"$error":"#DIV/0!"}]
[{"$error":"#VALUE!"},null,null,null,null,null,null,null,null,null,null,null,null,null,null,null,null,null,null,null,null,null,null,null,null,null,null,null,null,null,null,null,null,null,null,null,null,null,null,null,null,null,0,0,0,{"$error":"#DIV/0!"}]
[{"$error":"#VALUE!"},null,null,null,null,null,null,null,null,null,null,null,null,null,null,null,null,null,null,null,null,null,null,null,null,null,null,null,null,null,null,null,null,null,null,null,null,null,null,null,null,null,0,0,0,{"$error":"#DIV/0!"}]
[{"$error":"#VALUE!"},null,null,null,null,null,null,null,null,null,null,null,null,null,null,null,null,null,null,null,null,null,null,null,null,null,null,null,null,null,null,null,null,null,null,null,null,null,null,null,null,null,0,0,0,{"$error":"#DIV/0!"}]
[{"$error":"#VALUE!"},null,null,null,null,null,null,null,null,null,null,null,null,null,null,null,null,null,null,null,null,null,null,null,null,null,null,null,null,null,null,null,null,null,null,null,null,null,null,null,null,null,0,0,0,{"$error":"#DIV/0!"}]
[{"$error":"#VALUE!"},null,null,null,null,null,null,null,null,null,null,null,null,null,null,null,null,null,null,null,null,null,null,null,null,null,null,null,null,null,null,null,null,null,null,null,null,null,null,null,null,null,0,0,{"$f":"COUNT(C133:AN133)/2","v":0},{"$f":"+AR133/AS133","v":{"$error":"#DIV/0!"}}]
[{"$error":"#VALUE!"},null,null,null,null,null,null,null,null,null,null,null,null,null,null,null,null,null,null,null,null,null,null,null,null,null,null,null,null,null,null,null,null,null,null,null,null,null,null,null,null,null,0,0,0,{"$error":"#DIV/0!"}]
[{"$error":"#VALUE!"},null,null,null,null,null,null,null,null,null,null,null,null,null,null,null,null,null,null,null,null,null,null,null,null,null,null,null,null,null,null,null,null,null,null,null,null,null,null,null,null,null,0,0,0,{"$error":"#DIV/0!"}]
[{"$error":"#VALUE!"},null,null,null,null,null,null,null,null,null,null,null,null,null,null,null,null,null,null,null,null,null,null,null,null,null,null,null,null,null,null,null,null,null,null,null,null,null,null,null,null,null,0,0,0,{"$error":"#DIV/0!"}]
[{"$error":"#VALUE!"},null,null,null,null,null,null,null,null,null,null,null,null,null,null,null,null,null,null,null,null,null,null,null,null,null,null,null,null,null,null,null,null,null,null,null,null,null,null,null,null,null,0,0,0,{"$error":"#DIV/0!"}]
[{"$error":"#VALUE!"},null,null,null,null,null,null,null,null,null,null,null,null,null,null,null,null,null,null,null,null,null,null,null,null,null,null,null,null,null,null,null,null,null,null,null,null,null,null,null,null,null,0,0,0,{"$error":"#DIV/0!"}]
[{"$error":"#VALUE!"},null,null,null,null,null,null,null,null,null,null,null,null,null,null,null,null,null,null,null,null,null,null,null,null,null,null,null,null,null,null,null,null,null,null,null,null,null,null,null,null,null,0,0,0,{"$error":"#DIV/0!"}]
[{"$error":"#VALUE!"},null,null,null,null,null,null,null,null,null,null,null,null,null,null,null,null,null,null,null,null,null,null,null,null,null,null,null,null,null,null,null,null,null,null,null,null,null,null,null,null,null,0,0,0,{"$error":"#DIV/0!"}]
[{"$error":"#VALUE!"},null,null,null,null,null,null,null,null,null,null,null,null,null,null,null,null,null,null,null,null,null,null,null,null,null,null,null,null,null,null,null,null,null,null,null,null,null,null,null,null,null,0,0,0,{"$error":"#DIV/0!"}]
[{"$error":"#VALUE!"},null,null,null,null,null,null,null,null,null,null,null,null,null,null,null,null,null,null,null,null,null,null,null,null,null,null,null,null,null,null,null,null,null,null,null,null,null,null,null,null,null,0,0,0,{"$error":"#DIV/0!"}]
[{"$error":"#VALUE!"},null,null,null,null,null,null,null,null,null,null,null,null,null,null,null,null,null,null,null,null,null,null,null,null,null,null,null,null,null,null,null,null,null,null,null,null,null,null,null,null,null,0,0,0,{"$error":"#DIV/0!"}]
[{"$error":"#VALUE!"},null,null,null,null,null,null,null,null,null,null,null,null,null,null,null,null,null,null,null,null,null,null,null,null,null,null,null,null,null,null,null,null,null,null,null,null,null,null,null,null,null,0,0,0,{"$error":"#DIV/0!"}]
[{"$error":"#VALUE!"},null,null,null,null,null,null,null,null,null,null,null,null,null,null,null,null,null,null,null,null,null,null,null,null,null,null,null,null,null,null,null,null,null,null,null,null,null,null,null,null,null,0,0,0,{"$error":"#DIV/0!"}]
[{"$error":"#VALUE!"},null,null,null,null,null,null,null,null,null,null,null,null,null,null,null,null,null,null,null,null,null,null,null,null,null,null,null,null,null,null,null,null,null,null,null,null,null,null,null,null,null,0,0,0,{"$error":"#DIV/0!"}]
[{"$error":"#VALUE!"},null,null,null,null,null,null,null,null,null,null,null,null,null,null,null,null,null,null,null,null,null,null,null,null,null,null,null,null,null,null,null,null,null,null,null,null,null,null,null,null,null,0,0,0,{"$error":"#DIV/0!"}]
[{"$error":"#VALUE!"},null,null,null,null,null,null,null,null,null,null,null,null,null,null,null,null,null,null,null,null,null,null,null,null,null,null,null,null,null,null,null,null,null,null,null,null,null,null,null,null,null,0,0,0,{"$error":"#DIV/0!"}]
[{"$error":"#VALUE!"},null,null,null,null,null,null,null,null,null,null,null,null,null,null,null,null,null,null,null,null,null,null,null,null,null,null,null,null,null,null,null,null,null,null,null,null,null,null,null,null,null,0,0,0,{"$error":"#DIV/0!"}]
[{"$error":"#VALUE!"},null,null,null,null,null,null,null,null,null,null,null,null,null,null,null,null,null,null,null,null,null,null,null,null,null,null,null,null,null,null,null,null,null,null,null,null,null,null,null,null,null,0,0,0,{"$error":"#DIV/0!"}]
[{"$error":"#VALUE!"},null,null,null,null,null,null,null,null,null,null,null,null,null,null,null,null,null,null,null,null,null,null,null,null,null,null,null,null,null,null,null,null,null,null,null,null,null,null,null,null,null,0,0,0,{"$error":"#DIV/0!"}]
[{"$error":"#VALUE!"},null,null,null,null,null,null,null,null,null,null,null,null,null,null,null,null,null,null,null,null,null,null,null,null,null,null,null,null,null,null,null,null,null,null,null,null,null,null,null,null,null,0,0,0,{"$error":"#DIV/0!"}]
[{"$error":"#VALUE!"},null,null,null,null,null,null,null,null,null,null,null,null,null,null,null,null,null,null,null,null,null,null,null,null,null,null,null,null,null,null,null,null,null,null,null,null,null,null,null,null,null,0,0,0,{"$error":"#DIV/0!"}]
[{"$error":"#VALUE!"},null,null,null,null,null,null,null,null,null,null,null,null,null,null,null,null,null,null,null,null,null,null,null,null,null,null,null,null,null,null,null,null,null,null,null,null,null,null,null,null,null,0,0,0,{"$error":"#DIV/0!"}]
[{"$error":"#VALUE!"},null,null,null,null,null,null,null,null,null,null,null,null,null,null,null,null,null,null,null,null,null,null,null,null,null,null,null,null,null,null,null,null,null,null,null,null,null,null,null,null,null,0,0,0,{"$error":"#DIV/0!"}]
[{"$error":"#VALUE!"},null,null,null,null,null,null,null,null,null,null,null,null,null,null,null,null,null,null,null,null,null,null,null,null,null,null,null,null,null,null,null,null,null,null,null,null,null,null,null,null,null,0,0,0,{"$error":"#DIV/0!"}]
[{"$error":"#VALUE!"},null,null,null,null,null,null,null,null,null,null,null,null,null,null,null,null,null,null,null,null,null,null,null,null,null,null,null,null,null,null,null,null,null,null,null,null,null,null,null,null,null,0,0,0,{"$error":"#DIV/0!"}]
[{"$error":"#VALUE!"},null,null,null,null,null,null,null,null,null,null,null,null,null,null,null,null,null,null,null,null,null,null,null,null,null,null,null,null,null,null,null,null,null,null,null,null,null,null,null,null,null,0,0,0,{"$error":"#DIV/0!"}]
[{"$error":"#VALUE!"},null,null,null,null,null,null,null,null,null,null,null,null,null,null,null,null,null,null,null,null,null,null,null,null,null,null,null,null,null,null,null,null,null,null,null,null,null,null,null,null,null,0,0,0,{"$error":"#DIV/0!"}]
[{"$error":"#VALUE!"},null,null,null,null,null,null,null,null,null,null,null,null,null,null,null,null,null,null,null,null,null,null,null,null,null,null,null,null,null,null,null,null,null,null,null,null,null,null,null,null,null,0,0,0,{"$error":"#DIV/0!"}]
[{"$error":"#VALUE!"},null,null,null,null,null,null,null,null,null,null,null,null,null,null,null,null,null,null,null,null,null,null,null,null,null,null,null,null,null,null,null,null,null,null,null,null,null,null,null,null,null,0,0,0,{"$error":"#DIV/0!"}]
[{"$error":"#VALUE!"},null,null,null,null,null,null,null,null,null,null,null,null,null,null,null,null,null,null,null,null,null,null,null,null,null,null,null,null,null,null,null,null,null,null,null,null,null,null,null,null,null,0,0,0,{"$error":"#DIV/0!"}]
[{"$error":"#VALUE!"},null,null,null,null,null,null,null,null,null,null,null,null,null,null,null,null,null,null,null,null,null,null,null,null,null,null,null,null,null,null,null,null,null,null,null,null,null,null,null,null,null,0,0,0,{"$error":"#DIV/0!"}]
[{"$error":"#VALUE!"},null,null,null,null,null,null,null,null,null,null,null,null,null,null,null,null,null,null,null,null,null,null,null,null,null,null,null,null,null,null,null,null,null,null,null,null,null,null,null,null,null,0,0,0,{"$error":"#DIV/0!"}]
[{"$error":"#VALUE!"},null,null,null,null,null,null,null,null,null,null,null,null,null,null,null,null,null,null,null,null,null,null,null,null,null,null,null,null,null,null,null,null,null,null,null,null,null,null,null,null,null,0,0,0,{"$error":"#DIV/0!"}]
[{"$error":"#VALUE!"},null,null,null,null,null,null,null,null,null,null,null,null,null,null,null,null,null,null,null,null,null,null,null,null,null,null,null,null,null,null,null,null,null,null,null,null,null,null,null,null,null,0,0,0,{"$error":"#DIV/0!"}]
[{"$error":"#VALUE!"},null,null,null,null,null,null,null,null,null,null,null,null,null,null,null,null,null,null,null,null,null,null,null,null,null,null,null,null,null,null,null,null,null,null,null,null,null,null,null,null,null,0,0,0,{"$error":"#DIV/0!"}]
[{"$error":"#VALUE!"},null,null,null,null,null,null,null,null,null,null,null,null,null,null,null,null,null,null,null,null,null,null,null,null,null,null,null,null,null,null,null,null,null,null,null,null,null,null,null,null,null,0,0,0,{"$error":"#DIV/0!"}]
[{"$error":"#VALUE!"},null,null,null,null,null,null,null,null,null,null,null,null,null,null,null,null,null,null,null,null,null,null,null,null,null,null,null,null,null,null,null,null,null,null,null,null,null,null,null,null,null,{"$f":"+C169+E169+G169+I169++K169++M169+O169+Q169+S169+U169+W169+AK169+AM169+Y169+AC169+AE169+AG169+AI169+AA169","v":0},{"$f":"+D169+F169+H169+J169++L169++N169+P169+R169+T169+V169+X169+AL169+AN169+Z169+AD169+AF169+AH169+AJ169+AB169","v":0},0,{"$error":"#DIV/0!"}]
[{"$error":"#VALUE!"},null,null,null,null,null,null,null,null,null,null,null,null,null,null,null,null,null,null,null,null,null,null,null,null,null,null,null,null,null,null,null,null,null,null,null,null,null,null,null,null,null,0,0,0,{"$error":"#DIV/0!"}]
[{"$error":"#VALUE!"},null,null,null,null,null,null,null,null,null,null,null,null,null,null,null,null,null,null,null,null,null,null,null,null,null,null,null,null,null,null,null,null,null,null,null,null,null,null,null,null,null,0,0,0,{"$error":"#DIV/0!"}]
[{"$error":"#VALUE!"},null,null,null,null,null,null,null,null,null,null,null,null,null,null,null,null,null,null,null,null,null,null,null,null,null,null,null,null,null,null,null,null,null,null,null,null,null,null,null,null,null,0,0,0,{"$error":"#DIV/0!"}]
[{"$error":"#VALUE!"},null,null,null,null,null,null,null,null,null,null,null,null,null,null,null,null,null,null,null,null,null,null,null,null,null,null,null,null,null,null,null,null,null,null,null,null,null,null,null,null,null,0,0,0,{"$error":"#DIV/0!"}]
[{"$error":"#VALUE!"},null,null,null,null,null,null,null,null,null,null,null,null,null,null,null,null,null,null,null,null,null,null,null,null,null,null,null,null,null,null,null,null,null,null,null,null,null,null,null,null,null,0,0,0,{"$error":"#DIV/0!"}]
[{"$error":"#VALUE!"},null,null,null,null,null,null,null,null,null,null,null,null,null,null,null,null,null,null,null,null,null,null,null,null,null,null,null,null,null,null,null,null,null,null,null,null,null,null,null,null,null,0,0,0,{"$error":"#DIV/0!"}]
[{"$f":"+A175+1","v":{"$error":"#VALUE!"}},null,null,null,null,null,null,null,null,null,null,null,null,null,null,null,null,null,null,null,null,null,null,null,null,null,null,null,null,null,null,null,null,null,null,null,null,null,null,null,null,null,0,0,0,{"$error":"#DIV/0!"}]
[{"$error":"#VALUE!"},null,null,null,null,null,null,null,null,null,null,null,null,null,null,null,null,null,null,null,null,null,null,null,null,null,null,null,null,null,null,null,null,null,null,null,null,null,null,null,null,null,0,0,0,{"$error":"#DIV/0!"}]
[{"$error":"#VALUE!"},null,null,null,null,null,null,null,null,null,null,null,null,null,null,null,null,null,null,null,null,null,null,null,null,null,null,null,null,null,null,null,null,null,null,null,null,null,null,null,null,null,0,0,0,{"$error":"#DIV/0!"}]
[{"$error":"#VALUE!"},null,null,null,null,null,null,null,null,null,null,null,null,null,null,null,null,null,null,null,null,null,null,null,null,null,null,null,null,null,null,null,null,null,null,null,null,null,null,null,null,null,0,0,0,{"$error":"#DIV/0!"}]
[{"$error":"#VALUE!"},null,null,null,null,null,null,null,null,null,null,null,null,null,null,null,null,null,null,null,null,null,null,null,null,null,null,null,null,null,null,null,null,null,null,null,null,null,null,null,null,null,0,0,0,{"$error":"#DIV/0!"}]
[{"$error":"#VALUE!"},null,null,null,null,null,null,null,null,null,null,null,null,null,null,null,null,null,null,null,null,null,null,null,null,null,null,null,null,null,null,null,null,null,null,null,null,null,null,null,null,null,0,0,0,{"$error":"#DIV/0!"}]
[{"$error":"#VALUE!"},null,null,null,null,null,null,null,null,null,null,null,null,null,null,null,null,null,null,null,null,null,null,null,null,null,null,null,null,null,null,null,null,null,null,null,null,null,null,null,null,null,0,0,0,{"$error":"#DIV/0!"}]
[{"$error":"#VALUE!"},null,null,null,null,null,null,null,null,null,null,null,null,null,null,null,null,null,null,null,null,null,null,null,null,null,null,null,null,null,null,null,null,null,null,null,null,null,null,null,null,null,0,0,0,{"$error":"#DIV/0!"}]
[{"$error":"#VALUE!"},null,null,null,null,null,null,null,null,null,null,null,null,null,null,null,null,null,null,null,null,null,null,null,null,null,null,null,null,null,null,null,null,null,null,null,null,null,null,null,null,null,0,0,0,{"$error":"#DIV/0!"}]
[{"$error":"#VALUE!"},null,null,null,null,null,null,null,null,null,null,null,null,null,null,null,null,null,null,null,null,null,null,null,null,null,null,null,null,null,null,null,null,null,null,null,null,null,null,null,null,null,0,0,0,{"$error":"#DIV/0!"}]
[{"$error":"#VALUE!"},null,null,null,null,null,null,null,null,null,null,null,null,null,null,null,null,null,null,null,null,null,null,null,null,null,null,null,null,null,null,null,null,null,null,null,null,null,null,null,null,null,0,0,0,{"$error":"#DIV/0!"}]
[{"$error":"#VALUE!"},null,null,null,null,null,null,null,null,null,null,null,null,null,null,null,null,null,null,null,null,null,null,null,null,null,null,null,null,null,null,null,null,null,null,null,null,null,null,null,null,null,0,0,0,{"$error":"#DIV/0!"}]
[{"$error":"#VALUE!"},null,null,null,null,null,null,null,null,null,null,null,null,null,null,null,null,null,null,null,null,null,null,null,null,null,null,null,null,null,null,null,null,null,null,null,null,null,null,null,null,null,0,0,0,{"$error":"#DIV/0!"}]
[{"$error":"#VALUE!"},null,null,null,null,null,null,null,null,null,null,null,null,null,null,null,null,null,null,null,null,null,null,null,null,null,null,null,null,null,null,null,null,null,null,null,null,null,null,null,null,null,0,0,0,{"$error":"#DIV/0!"}]
[{"$error":"#VALUE!"},null,null,null,null,null,null,null,null,null,null,null,null,null,null,null,null,null,null,null,null,null,null,null,null,null,null,null,null,null,null,null,null,null,null,null,null,null,null,null,null,null,0,0,0,{"$error":"#DIV/0!"}]
[{"$error":"#VALUE!"},null,null,null,null,null,null,null,null,null,null,null,null,null,null,null,null,null,null,null,null,null,null,null,null,null,null,null,null,null,null,null,null,null,null,null,null,null,null,null,null,null,0,0,0,{"$error":"#DIV/0!"}]
[{"$error":"#VALUE!"},null,null,null,null,null,null,null,null,null,null,null,null,null,null,null,null,null,null,null,null,null,null,null,null,null,null,null,null,null,null,null,null,null,null,null,null,null,null,null,null,null,0,0,0,{"$error":"#DIV/0!"}]
[{"$error":"#VALUE!"},null,null,null,null,null,null,null,null,null,null,null,null,null,null,null,null,null,null,null,null,null,null,null,null,null,null,null,null,null,null,null,null,null,null,null,null,null,null,null,null,null,0,0,0,{"$error":"#DIV/0!"}]
[{"$error":"#VALUE!"},null,null,null,null,null,null,null,null,null,null,null,null,null,null,null,null,null,null,null,null,null,null,null,null,null,null,null,null,null,null,null,null,null,null,null,null,null,null,null,null,null,0,0,0,{"$error":"#DIV/0!"}]
[{"$error":"#VALUE!"},null,null,null,null,null,null,null,null,null,null,null,null,null,null,null,null,null,null,null,null,null,null,null,null,null,null,null,null,null,null,null,null,null,null,null,null,null,null,null,null,null,0,0,0,{"$error":"#DIV/0!"}]
[{"$error":"#VALUE!"},null,null,null,null,null,null,null,null,null,null,null,null,null,null,null,null,null,null,null,null,null,null,null,null,null,null,null,null,null,null,null,null,null,null,null,null,null,null,null,null,null,0,0,0,{"$error":"#DIV/0!"}]
[{"$error":"#VALUE!"},null,null,null,null,null,null,null,null,null,null,null,null,null,null,null,null,null,null,null,null,null,null,null,null,null,null,null,null,null,null,null,null,null,null,null,null,null,null,null,null,null,0,0,{"$f":"COUNT(C197:AN197)/2","v":0},{"$f":"+AR197/AS197","v":{"$error":"#DIV/0!"}}]
[{"$error":"#VALUE!"},null,null,null,null,null,null,null,null,null,null,null,null,null,null,null,null,null,null,null,null,null,null,null,null,null,null,null,null,null,null,null,null,null,null,null,null,null,null,null,null,null,0,0,{"$f":"COUNT(C198:AN198)/2","v":0},{"$f":"+AR198/AS198","v":{"$error":"#DIV/0!"}}]
[{"$error":"#VALUE!"},null,null,null,null,null,null,null,null,null,null,null,null,null,null,null,null,null,null,null,null,null,null,null,null,null,null,null,null,null,null,null,null,null,null,null,null,null,null,null,null,null,0,0,{"$f":"COUNT(C199:AN199)/2","v":0},{"$f":"+AR199/AS199","v":{"$error":"#DIV/0!"}}]
[{"$error":"#VALUE!"},null,null,null,null,null,null,null,null,null,null,null,null,null,null,null,null,null,null,null,null,null,null,null,null,null,null,null,null,null,null,null,null,null,null,null,null,null,null,null,null,null,0,0,{"$f":"COUNT(C200:AN200)/2","v":0},{"$f":"+AR200/AS200","v":{"$error":"#DIV/0!"}}]

{"sheet":"Skull King","index":6,"n_rows":128,"n_cols":35,"rows_kept":128,"cut":false,"hidden":false,"merged":[[38,24,38,25],[38,26,38,27],[38,28,38,29],[38,16,38,17],[38,18,38,19],[38,20,38,21],[38,22,38,23],[38,8,38,9],[38,10,38,11],[38,12,38,13],[38,14,38,15],[38,1,39,1],[38,2,38,3],[38,4,38,5],[38,6,38,7]]}
["SKULL KING"]
["Mes"]
[{"$f":"+GENERAL!B6","v":12},null,{"$f":"SUM(C5:C14)","v":0}]
[null,null,"Premi","Punts","Partides","General"]
[1,"Sergi",{"$f":"+M$36","v":41},{"$f":"+N$37","v":247.77777777777777},{"$f":"+N$36","v":9},{"$f":"+M$22","v":80},{"$f":"IF(E5<A$3/2,-1,1)*8000+C5*100+D5+E5/100","v":12347.867777777778}]
[2,"Carles",{"$f":"+O$36","v":35.5},{"$f":"+P$37","v":205.38461538461539},{"$f":"+P$36","v":13},{"$f":"+O$22","v":40},11755.514615384614]
[3,"Manel",{"$f":"+E$36","v":-27.5},{"$f":"+F$37","v":157.27272727272728},{"$f":"+F$36","v":11},{"$f":"+E$22","v":20},5407.3827272727267]
[4,"Nin",{"$f":"+Y$36","v":-30},{"$f":"+Z$37","v":160},{"$f":"+Z$36","v":9},{"$f":"+Y$22","v":10},5160.09]
[5,"Tito",{"$f":"+U$36","v":9},{"$f":"+V$37","v":236},{"$f":"+V$36","v":5},{"$f":"+U$22","v":0},-6863.95]
[6,"Jeff",{"$f":"+I$36","v":0},{"$f":"+J$37","v":170},{"$f":"+J$36","v":2},{"$f":"+I$22","v":0},-7829.98]
[7,"Jordi",{"$f":"+G$36","v":0},{"$f":"+H$37","v":130},{"$f":"+H$36","v":1},{"$f":"+G$22","v":0},-7869.99]
[8,"Marina",{"$f":"+AA$36","v":-4},{"$f":"+AB$37","v":90},{"$f":"+AB$36","v":2},{"$f":"+AA$22","v":0},-8309.98]
[9,"Alfred",{"$f":"+AC$36","v":-10},{"$f":"+AD$37","v":100},{"$f":"+AD$36","v":1},{"$f":"+AC$22","v":0},-8899.99]
[10,"Mariajo",{"$f":"+Q$36","v":-14},{"$f":"+R$37","v":10},{"$f":"+R$36","v":2},{"$f":"+Q$22","v":0},-9389.98]
[11,"Grau",{"$f":"+S$36","v":-100000000},{"$f":"+T$37","v":1E-4},{"$f":"+T$36","v":0},{"$f":"+S$22","v":0},-10000007999.999901]
[12,"Ester",{"$f":"+K$36","v":-100000000},{"$f":"+L$37","v":1E-4},{"$f":"+L$36","v":0},{"$f":"+K$22","v":0},-10000007999.999901]
[13,"Goretti",{"$f":"+C$36","v":-100000000},{"$f":"+D$37","v":1E-4},{"$f":"+D$36","v":0},{"$f":"+C$22","v":0},-10000007999.999901]
[14,"Xavi",{"$f":"+W$36","v":-100000000},{"$f":"+X$37","v":1E-4},{"$f":"+X$36","v":0},{"$f":"+W$22","v":0},-10000007999.999901]
[]
[]
[]
[null,"General",{"$f":"+C23*C24","v":0},{"$f":"+D23*D24","v":0},20,11,{"$f":"+G23*G24","v":0},1,0,2,0,0,80,9,40,13,0,2,{"$f":"+S23*S24","v":0},0,0,5,0,0,{"$f":"+Y23*Y24","v":10},9,{"$f":"+AA23*AA24","v":0},{"$f":"+AB23*AB24","v":2},0,1]
[null,null,{"$f":"IF($B35>3,1,0)","v":1},{"$f":"IF($B35>3,1,0)","v":1},1,1,{"$f":"IF($B35>3,1,0)","v":1},1,1,1,1,1,1,1,1,1,1,1,1,1,1,1,1,1,1,1,{"$f":"IF($B35>3,1,0)","v":1},{"$f":"IF($B35>3,1,0)","v":1},1,1]
[null,null,{"$f":"MAX(C25:C29)","v":0},{"$f":"+D36","v":0},{"$f":"MAX(E25:E29)","v":20},{"$f":"+F36","v":11},{"$f":"MAX(G25:G29)","v":0},{"$f":"+H36","v":1},{"$f":"MAX(I25:I29)","v":0},{"$f":"+J36","v":2},{"$f":"MAX(K25:K29)","v":0},{"$f":"+L36","v":0},{"$f":"MAX(M25:M29)","v":80},{"$f":"+N36","v":9},{"$f":"MAX(O25:O29)","v":40},{"$f":"+P36","v":13},{"$f":"MAX(Q25:Q29)","v":0},{"$f":"+R36","v":2},{"$f":"MAX(S25:S29)","v":0},{"$f":"+T36","v":0},{"$f":"MAX(U25:U29)","v":0},{"$f":"+V36","v":5},{"$f":"MAX(W25:W29)","v":0},{"$f":"+X36","v":0},{"$f":"MAX(Y25:Y29)","v":10},{"$f":"+Z36","v":9},{"$f":"MAX(AA25:AA29)","v":0},{"$f":"+AB36","v":2},{"$f":"MAX(AC25:AC29)","v":0},{"$f":"+AD36","v":1}]
[null,null,{"$f":"IF(C$30=5,5,0)","v":0},null,{"$f":"IF(E$30=5,5,0)","v":0},null,{"$f":"IF(G$30=5,5,0)","v":0},null,{"$f":"IF(I$30=5,5,0)","v":0},null,{"$f":"IF(K$30=5,5,0)","v":0},null,{"$f":"IF(M$30=5,5,0)","v":0},null,{"$f":"IF(O$30=5,5,0)","v":0},null,{"$f":"IF(Q$30=5,5,0)","v":0},null,{"$f":"IF(S$30=5,5,0)","v":0},null,{"$f":"IF(U$30=5,5,0)","v":0},null,{"$f":"IF(W$30=5,5,0)","v":0},null,{"$f":"IF(Y$30=5,5,0)","v":0},null,{"$f":"IF(AA$30=5,5,0)","v":0},null,{"$f":"IF(AC$30=5,5,0)","v":0}]
[null,null,{"$f":"IF(C$30=4,10,0)","v":0},null,{"$f":"IF(E$30=4,10,0)","v":0},null,{"$f":"IF(G$30=4,10,0)","v":0},null,{"$f":"IF(I$30=4,10,0)","v":0},null,{"$f":"IF(K$30=4,10,0)","v":0},null,{"$f":"IF(M$30=4,10,0)","v":0},null,{"$f":"IF(O$30=4,10,0)","v":0},null,{"$f":"IF(Q$30=4,10,0)","v":0},null,{"$f":"IF(S$30=4,10,0)","v":0},null,{"$f":"IF(U$30=4,10,0)","v":0},null,{"$f":"IF(W$30=4,10,0)","v":0},null,{"$f":"IF(Y$30=4,10,0)","v":10},null,{"$f":"IF(AA$30=4,10,0)","v":0},null,{"$f":"IF(AC$30=4,10,0)","v":0}]
[null,null,{"$f":"IF(C$30=3,20,0)","v":0},null,{"$f":"IF(E$30=3,20,0)","v":20},null,{"$f":"IF(G$30=3,20,0)","v":0},null,{"$f":"IF(I$30=3,20,0)","v":0},null,{"$f":"IF(K$30=3,20,0)","v":0},null,{"$f":"IF(M$30=3,20,0)","v":0},null,{"$f":"IF(O$30=3,20,0)","v":0},null,{"$f":"IF(Q$30=3,20,0)","v":0},null,{"$f":"IF(S$30=3,20,0)","v":0},null,{"$f":"IF(U$30=3,20,0)","v":0},null,{"$f":"IF(W$30=3,20,0)","v":0},null,{"$f":"IF(Y$30=3,20,0)","v":0},null,{"$f":"IF(AA$30=3,20,0)","v":0},null,{"$f":"IF(AC$30=3,20,0)","v":0}]
[null,null,{"$f":"IF(C$30=2,40,0)","v":0},null,{"$f":"IF(E$30=2,40,0)","v":0},null,{"$f":"IF(G$30=2,40,0)","v":0},null,{"$f":"IF(I$30=2,40,0)","v":0},null,{"$f":"IF(K$30=2,40,0)","v":0},null,{"$f":"IF(M$30=2,40,0)","v":0},null,{"$f":"IF(O$30=2,40,0)","v":40},null,{"$f":"IF(Q$30=2,40,0)","v":0},null,{"$f":"IF(S$30=2,40,0)","v":0},null,{"$f":"IF(U$30=2,40,0)","v":0},null,{"$f":"IF(W$30=2,40,0)","v":0},null,{"$f":"IF(Y$30=2,40,0)","v":0},null,{"$f":"IF(AA$30=2,40,0)","v":0},null,{"$f":"IF(AC$30=2,40,0)","v":0}]
[null,null,{"$f":"IF(C$30=1,80,0)","v":0},null,{"$f":"IF(E$30=1,80,0)","v":0},null,{"$f":"IF(G$30=1,80,0)","v":0},null,{"$f":"IF(I$30=1,80,0)","v":0},null,{"$f":"IF(K$30=1,80,0)","v":0},null,{"$f":"IF(M$30=1,80,0)","v":80},null,{"$f":"IF(O$30=1,80,0)","v":0},null,{"$f":"IF(Q$30=1,80,0)","v":0},null,{"$f":"IF(S$30=1,80,0)","v":0},null,{"$f":"IF(U$30=1,80,0)","v":0},null,{"$f":"IF(W$30=1,80,0)","v":0},null,{"$f":"IF(Y$30=1,80,0)","v":0},null,{"$f":"IF(AA$30=1,80,0)","v":0},null,{"$f":"IF(AC$30=1,80,0)","v":0}]
[null,null,{"$f":"RANK(C31,$C31:$BF31)*C35","v":0},null,{"$f":"RANK(E31,$C31:$BF31)*E35","v":3},null,{"$f":"RANK(G31,$C31:$BF31)*G35","v":0},null,{"$f":"RANK(I31,$C31:$BF31)*I35","v":0},null,{"$f":"RANK(K31,$C31:$BF31)*K35","v":0},null,{"$f":"RANK(M31,$C31:$BF31)*M35","v":1},null,{"$f":"RANK(O31,$C31:$BF31)*O35","v":2},null,{"$f":"RANK(Q31,$C31:$BF31)*Q35","v":0},null,{"$f":"RANK(S31,$C31:$BF31)*S35","v":0},null,{"$f":"RANK(U31,$C31:$BF31)*U35","v":0},null,{"$f":"RANK(W31,$C31:$BF31)*W35","v":0},null,{"$f":"RANK(Y31,$C31:$BF31)*Y35","v":4},null,{"$f":"RANK(AA31,$C31:$BF31)*AA35","v":0},null,{"$f":"RANK(AC31,$C31:$BF31)*AC35","v":0}]
[null,null,{"$f":"SUM(C32:C34)","v":-100999999.98999999},null,{"$f":"SUM(E32:E34)","v":-11789.227272727272},null,{"$f":"SUM(G32:G34)","v":-986999},null,{"$f":"SUM(I32:I34)","v":-982998},null,{"$f":"SUM(K32:K34)","v":-100999999.98999999},null,{"$f":"SUM(M32:M34)","v":65827.777777777781},null,{"$f":"SUM(O32:O34)","v":56086.961538461539},null,{"$f":"SUM(Q32:Q34)","v":-999012},null,{"$f":"SUM(S32:S34)","v":-100999999.98999999},null,{"$f":"SUM(U32:U34)","v":-976386},null,{"$f":"SUM(W32:W34)","v":-100999999.98999999},null,{"$f":"SUM(Y32:Y34)","v":-14021},null,{"$f":"SUM(AA32:AA34)","v":-991002},null,{"$f":"SUM(AC32:AC34)","v":-990009}]
[null,null,{"$f":"+D36","v":0},null,{"$f":"+F36","v":11},null,{"$f":"+H36","v":1},null,{"$f":"+J36","v":2},null,{"$f":"+L36","v":0},null,{"$f":"+N36","v":9},null,{"$f":"+P36","v":13},null,{"$f":"+R36","v":2},null,{"$f":"+T36","v":0},null,{"$f":"+V36","v":5},null,{"$f":"+X36","v":0},null,{"$f":"+Z36","v":9},null,{"$f":"+AB36","v":2},null,{"$f":"+AD36","v":1}]
[null,null,{"$f":"D37*100","v":0.01},null,{"$f":"F37*100","v":15727.272727272728},null,{"$f":"H37*100","v":13000},null,{"$f":"J37*100","v":17000},null,{"$f":"L37*100","v":0.01},null,{"$f":"N37*100","v":24777.777777777777},null,{"$f":"P37*100","v":20538.461538461539},null,{"$f":"R37*100","v":1000},null,{"$f":"T37*100","v":0.01},null,{"$f":"V37*100","v":23600},null,{"$f":"X37*100","v":0.01},null,{"$f":"Z37*100","v":16000},null,{"$f":"AB37*100","v":9000},null,{"$f":"AD37*100","v":10000}]
[null,null,{"$f":"IF(C35=1,C36*C35*1000+C36,-1000000+C36)","v":-101000000},null,{"$f":"IF(E35=1,E36*E35*1000+E36,-1000000+E36)","v":-27527.5},null,{"$f":"IF(G35=1,G36*G35*1000+G36,-1000000+G36)","v":-1000000},null,{"$f":"IF(I35=1,I36*I35*1000+I36,-1000000+I36)","v":-1000000},null,{"$f":"IF(K35=1,K36*K35*1000+K36,-1000000+K36)","v":-101000000},null,{"$f":"IF(M35=1,M36*M35*1000+M36,-1000000+M36)","v":41041},null,{"$f":"IF(O35=1,O36*O35*1000+O36,-1000000+O36)","v":35535.5},null,{"$f":"IF(Q35=1,Q36*Q35*1000+Q36,-1000000+Q36)","v":-1000014},null,{"$f":"IF(S35=1,S36*S35*1000+S36,-1000000+S36)","v":-101000000},null,{"$f":"IF(U35=1,U36*U35*1000+U36,-1000000+U36)","v":-999991},null,{"$f":"IF(W35=1,W36*W35*1000+W36,-1000000+W36)","v":-101000000},null,{"$f":"IF(Y35=1,Y36*Y35*1000+Y36,-1000000+Y36)","v":-30030},null,{"$f":"IF(AA35=1,AA36*AA35*1000+AA36,-1000000+AA36)","v":-1000004},null,{"$f":"IF(AC35=1,AC36*AC35*1000+AC36,-1000000+AC36)","v":-1000010}]
["Classificats",{"$f":"SUM(C35:AC35)","v":4},{"$f":"IF(D36>=$A3/2,1,0)","v":0},null,{"$f":"IF(F36>=$A3/2,1,0)","v":1},null,{"$f":"IF(H36>=$A3/2,1,0)","v":0},null,{"$f":"IF(J36>=$A3/2,1,0)","v":0},null,{"$f":"IF(L36>=$A3/2,1,0)","v":0},null,{"$f":"IF(N36>=$A3/2,1,0)","v":1},null,{"$f":"IF(P36>=$A3/2,1,0)","v":1},null,{"$f":"IF(R36>=$A3/2,1,0)","v":0},null,{"$f":"IF(T36>=$A3/2,1,0)","v":0},null,{"$f":"IF(V36>=$A3/2,1,0)","v":0},null,{"$f":"IF(X36>=$A3/2,1,0)","v":0},null,{"$f":"IF(Z36>=$A3/2,1,0)","v":1},null,{"$f":"IF(AB36>=$A3/2,1,0)","v":0},null,{"$f":"IF(AD36>=$A3/2,1,0)","v":0}]
[null,null,{"$f":"IF(SUM(C41:C213)<-1000,-100000000,SUM(C41:C213))","v":-100000000},{"$f":"COUNT(D41:D213)","v":0},{"$f":"IF(SUM(E41:E213)<-1000,-100000000,SUM(E41:E213))","v":-27.5},{"$f":"COUNT(F41:F213)","v":11},{"$f":"IF(SUM(G41:G213)<-1000,-100000000,SUM(G41:G213))","v":0},{"$f":"COUNT(H41:H213)","v":1},{"$f":"IF(SUM(I41:I213)<-1000,-100000000,SUM(I41:I213))","v":0},{"$f":"COUNT(J41:J213)","v":2},{"$f":"IF(SUM(K41:K213)<-1000,-100000000,SUM(K41:K213))","v":-100000000},{"$f":"COUNT(L41:L213)","v":0},{"$f":"IF(SUM(M41:M213)<-1000,-100000000,SUM(M41:M213))","v":41},{"$f":"COUNT(N41:N213)","v":9},{"$f":"IF(SUM(O41:O213)<-1000,-100000000,SUM(O41:O213))","v":35.5},{"$f":"COUNT(P41:P213)","v":13},{"$f":"IF(SUM(Q41:Q213)<-1000,-100000000,SUM(Q41:Q213))","v":-14},{"$f":"COUNT(R41:R213)","v":2},{"$f":"IF(SUM(S41:S213)<-1000,-100000000,SUM(S41:S213))","v":-100000000},{"$f":"COUNT(T41:T213)","v":0},{"$f":"IF(SUM(U41:U213)<-1000,-100000000,SUM(U41:U213))","v":9},{"$f":"COUNT(V41:V213)","v":5},{"$f":"IF(SUM(W41:W213)<-1000,-100000000,SUM(W41:W213))","v":-100000000},{"$f":"COUNT(X41:X213)","v":0},{"$f":"IF(SUM(Y41:Y213)<-1000,-100000000,SUM(Y41:Y213))","v":-30},{"$f":"COUNT(Z41:Z213)","v":9},{"$f":"IF(SUM(AA41:AA213)<-1000,-100000000,SUM(AA41:AA213))","v":-4},{"$f":"COUNT(AB41:AB213)","v":2},{"$f":"IF(SUM(AC41:AC213)<-1000,-100000000,SUM(AC41:AC213))","v":-10},{"$f":"COUNT(AD41:AD213)","v":1}]
[null,null,null,{"$f":"IF(D36=0,0.0001,AVERAGE(D41:D128))","v":1E-4},null,{"$f":"IF(F36=0,0.0001,AVERAGE(F41:F128))","v":157.27272727272728},null,{"$f":"IF(H36=0,0.0001,AVERAGE(H41:H128))","v":130},null,{"$f":"IF(J36=0,0.0001,AVERAGE(J41:J128))","v":170},null,{"$f":"IF(L36=0,0.0001,AVERAGE(L41:L128))","v":1E-4},null,{"$f":"IF(N36=0,0.0001,AVERAGE(N41:N128))","v":247.77777777777777},null,{"$f":"IF(P36=0,0.0001,AVERAGE(P41:P128))","v":205.38461538461539},null,{"$f":"IF(R36=0,0.0001,AVERAGE(R41:R128))","v":10},null,{"$f":"IF(T36=0,0.0001,AVERAGE(T41:T128))","v":1E-4},null,{"$f":"IF(V36=0,0.0001,AVERAGE(V41:V128))","v":236},null,{"$f":"IF(X36=0,0.0001,AVERAGE(X41:X128))","v":1E-4},null,{"$f":"IF(Z36=0,0.0001,AVERAGE(Z41:Z128))","v":160},null,{"$f":"IF(AB36=0,0.0001,AVERAGE(AB41:AB128))","v":90},null,{"$f":"IF(AD36=0,0.0001,AVERAGE(AD41:AD128))","v":100}]
[null,null,null,null,null,null,null,null,null,null,null,null,null,null,null,null,null,null,null,null,null,null,null,null,null,null,null,null,null,null,{"$f":"MAX(AF41:AF100)","v":95}]
[null,"Comentaris","Goretti",null,"Manel",null,"Jordi",null,"Jeff",null,"Ester",null,"Sergi",null,"Carles",null,"Mariajo",null,"Grau",null,"Tito",null,"Xavi",null,"Nin",null,"Marina",null,"Alfred",null,{"$f":"COUNT(AE41:AE128)","v":13},"A","B","C"]
[null,null,"Premi","Punts","Premi","Punts","Premi","Punts","Premi","Punts","Premi","Punts","Premi","Punts","Premi","Punts","Premi","Punts","Premi","Punts","Premi","Punts","Premi","Punts","Premi","Punts","Premi","Punts","Premi","Punts","Data","Timba"]
[1,null,-10000,null,-10,50,null,null,null,null,-10000,null,10,310,4,190,null,null,-10000,null,null,null,-10000,null,-4,160,null,null,null,null,"2022-06-23",73,{"$f":"+AC41+Y41+W41+U41+S41+Q41+O41+M41+K41+I41+G41+E41+C41","v":-40000},{"$f":"COUNT(C41:AD41)/2","v":6},{"$f":"+AG41/AH41","v":-6666.666666666667}]
[{"$f":"+A41+1","v":2},null,null,null,-5,190,null,null,null,null,null,null,10,330,0,210,null,null,null,null,5,230,null,null,-10,130,null,null,null,null,"2022-06-23",73,{"$f":"+AC42+Y42+W42+U42+S42+Q42+O42+M42+K42+I42+G42+E42+C42+AA42","v":0},5,0]
[{"$f":"+A42+1","v":3},null,null,null,-10,50,null,null,null,null,null,null,0,210,5,240,null,null,null,null,-5,140,null,null,10,270,null,null,null,null,"2022-06-23",73,0,5,0]
[4,null,null,null,4,310,null,null,null,null,null,null,10,370,-4,150,null,null,null,null,null,null,null,null,-10,110,null,null,null,null,"2022-06-23",73,0,4,0]
[5,null,null,null,-2.5,180,null,null,null,null,null,null,5,190,-2.5,180,null,null,null,null,10,330,null,null,-10,80,null,null,null,null,"2022-06-24",75,0,5,0]
[6,null,null,null,-10,90,null,null,null,null,null,null,10,290,0,270,null,null,null,null,-5,250,null,null,5,280,null,null,null,null,"2022-06-24",75,0,5,0]
[7,null,null,null,-4,160,null,null,null,null,null,null,-10,60,10,290,null,null,null,null,null,null,null,null,4,190,null,null,null,null,"2022-06-24",75,0,4,0]
[8,null,null,null,10,240,null,null,null,null,null,null,-4,190,4,200,null,null,null,null,null,null,null,null,-10,170,null,null,null,null,"2022-06-25",76,0,4,0]
[9,null,null,null,-10,30,0,130,null,null,null,null,10,280,5,220,null,null,null,null,null,null,null,null,-5,50,null,null,null,null,"2022-07-02",78,0,5,0]
[{"$f":"+A49+1","v":10},null,null,null,0,140,null,null,null,null,null,null,null,null,10,240,-10,0,null,null,null,null,null,null,null,null,null,null,null,null,"2022-07-16",83,{"$f":"+AC50+Y50+W50+U50+S50+Q50+O50+M50+K50+I50+G50+E50+C50+AA50","v":0},{"$f":"COUNT(C50:AD50)/2","v":3},{"$f":"+AG50/AH50","v":0}]
[11,null,null,null,10,290,null,null,null,null,null,null,null,null,-10,10,-4,20,null,null,4,230,null,null,null,null,null,null,null,null,"2022-07-16",83,0,4,0]
[12,null,null,null,null,null,null,null,10,390,null,null,null,null,4,240,null,null,null,null,null,null,null,null,null,null,-4,140,-10,100,"2022-08-19",90,0,4,0]
[13,null,null,null,null,null,null,null,-10,-50,null,null,null,null,10,230,null,null,null,null,null,null,null,null,null,null,0,40,null,null,"2022-08-23",95,0,3,0]
[14,null,null,null,null,null,null,null,null,null,null,null,null,null,null,null,null,null,null,null,null,null,null,null,null,null,null,null,null,null,null,null,0,0,{"$error":"#DIV/0!"}]
[15,null,null,null,null,null,null,null,null,null,null,null,null,null,null,null,null,null,null,null,null,null,null,null,null,null,null,null,null,null,null,null,0,0,{"$error":"#DIV/0!"}]
[16,null,null,null,null,null,null,null,null,null,null,null,null,null,null,null,null,null,null,null,null,null,null,null,null,null,null,null,null,null,null,null,0,0,{"$error":"#DIV/0!"}]
[17,null,null,null,null,null,null,null,null,null,null,null,null,null,null,null,null,null,null,null,null,null,null,null,null,null,null,null,null,null,null,null,0,0,{"$error":"#DIV/0!"}]
[18,null,null,null,null,null,null,null,null,null,null,null,null,null,null,null,null,null,null,null,null,null,null,null,null,null,null,null,null,null,null,null,0,0,{"$error":"#DIV/0!"}]
[19,null,null,null,null,null,null,null,null,null,null,null,null,null,null,null,null,null,null,null,null,null,null,null,null,null,null,null,null,null,null,null,0,0,{"$error":"#DIV/0!"}]
[20,null,null,null,null,null,null,null,null,null,null,null,null,null,null,null,null,null,null,null,null,null,null,null,null,null,null,null,null,null,null,null,0,0,{"$error":"#DIV/0!"}]
[21,null,null,null,null,null,null,null,null,null,null,null,null,null,null,null,null,null,null,null,null,null,null,null,null,null,null,null,null,null,null,null,0,0,{"$error":"#DIV/0!"}]
[22,null,null,null,null,null,null,null,null,null,null,null,null,null,null,null,null,null,null,null,null,null,null,null,null,null,null,null,null,null,null,null,0,0,{"$error":"#DIV/0!"}]
[23,null,null,null,null,null,null,null,null,null,null,null,null,null,null,null,null,null,null,null,null,null,null,null,null,null,null,null,null,null,null,null,0,0,{"$error":"#DIV/0!"}]
[24,null,null,null,null,null,null,null,null,null,null,null,null,null,null,null,null,null,null,null,null,null,null,null,null,null,null,null,null,null,null,null,0,0,{"$error":"#DIV/0!"}]
[25,null,null,null,null,null,null,null,null,null,null,null,null,null,null,null,null,null,null,null,null,null,null,null,null,null,null,null,null,null,null,null,0,0,{"$error":"#DIV/0!"}]
[26,null,null,null,null,null,null,null,null,null,null,null,null,null,null,null,null,null,null,null,null,null,null,null,null,null,null,null,null,null,null,null,0,0,{"$error":"#DIV/0!"}]
[27,null,null,null,null,null,null,null,null,null,null,null,null,null,null,null,null,null,null,null,null,null,null,null,null,null,null,null,null,null,null,null,0,0,{"$error":"#DIV/0!"}]
[28,null,null,null,null,null,null,null,null,null,null,null,null,null,null,null,null,null,null,null,null,null,null,null,null,null,null,null,null,null,null,null,0,0,{"$error":"#DIV/0!"}]
[29]
[30]
[31]
[32]
[33]
[34]
[35]
[36]
[37]
[38]
[39]
[40]
[41]
[42]
[43]
[44]
[45]
[{"$f":"+A85+1","v":46}]
[47]
[48]
[49]
[50]
[51]
[52]
[53]
[54]
[55]
[56]
[57]
[58]
[59]
[60]
[61]
[62]
[63]
[64]
[65]
[66]
[67]
[68]
[69]
[70]
[71]
[72]
[{"$f":"+A112+1","v":73}]
[74]
[75]
[76]
[77]
[78]
[79]
[80]
[81]
[82]
[83]
[84]
[85]
[86]
[87]
[88]

{"sheet":"Kul","index":7,"n_rows":112,"n_cols":40,"rows_kept":112,"cut":false,"hidden":false,"merged":[[39,26,39,27],[39,32,39,33],[39,18,39,19],[39,20,39,21],[39,22,39,23],[39,24,39,25],[39,28,39,29],[39,30,39,31],[39,10,39,11],[39,12,39,13],[39,14,39,15],[39,16,39,17],[39,2,39,3],[39,4,39,5],[39,6,39,7],[39,8,39,9]]}
["KUL"]
["Mes"]
[{"$f":"+GENERAL!B6","v":12},null,{"$f":"SUM(C5:C20)","v":-6}]
[null,null,"Premi","Punts","Partides","General"]
[1,"Jordi",{"$f":"+G$37","v":34},{"$f":"+H$38","v":24},{"$f":"+H$37","v":12},{"$f":"+G$23","v":80},{"$f":"IF(E5<A$3/2,-1,1)*8000+C5*100+D5+E5/100","v":11424.12}]
[2,"Núria",{"$f":"+E$37","v":22},{"$f":"+F$38","v":-5},{"$f":"+F$37","v":9},{"$f":"+E$23","v":40},10195.09]
[3,"Òscar",{"$f":"+AG$37","v":-1},{"$f":"+AH$38","v":19},{"$f":"+AH$37","v":8},{"$f":"+AG$23","v":20},7919.08]
[4,"Gemma",{"$f":"+Y$37","v":-4},{"$f":"+Z$38","v":-14},{"$f":"+Z$37","v":7},{"$f":"+Y$23","v":10},7586.07]
[5,"Sebas",{"$f":"+AC$37","v":-9},{"$f":"+AD$38","v":1},{"$f":"+AD$37","v":8},{"$f":"+AC$23","v":5},7101.08]
[6,"Nogué",{"$f":"+AE$37","v":-29},{"$f":"+AF$38","v":-20},{"$f":"+AF$37","v":6},{"$f":"+AE$23","v":0},5080.0600000000004]
[7,"Goretti",{"$f":"+U$37","v":16},{"$f":"+V$38","v":8},{"$f":"+V$37","v":5},{"$f":"+U$23","v":0},-6391.95]
[8,"Sergi",{"$f":"+M$37","v":8},{"$f":"+N$38","v":0},{"$f":"+N$37","v":3},{"$f":"+M$23","v":0},-7199.97]
[9,"Carles",{"$f":"+O$37","v":4},{"$f":"+P$38","v":15},{"$f":"+P$37","v":2},{"$f":"+O$23","v":0},-7584.98]
[10,"Grau",{"$f":"+K$37","v":3},{"$f":"+L$38","v":-3},{"$f":"+L$37","v":3},{"$f":"+K$23","v":0},-7702.97]
[11,"Caty",{"$f":"+W$37","v":2},{"$f":"+X$38","v":3},{"$f":"+X$37","v":2},{"$f":"+W$23","v":0},-7796.98]
[12,"Manolo",{"$f":"+I$37","v":-2},{"$f":"+J$38","v":3},{"$f":"+J$37","v":3},{"$f":"+I$23","v":0},-8196.9699999999993]
[13,"Mariajo",{"$f":"+Q$37","v":-5},{"$f":"+R$38","v":-5},{"$f":"+R$37","v":5},{"$f":"+Q$23","v":0},-8504.9500000000007]
[14,"Carme",{"$f":"+S$37","v":-10},{"$f":"+T$38","v":-2},{"$f":"+T$37","v":1},{"$f":"+S$23","v":0},-9001.99]
[15,"Ana B",{"$f":"+C$37","v":-13},{"$f":"+D$38","v":-12},{"$f":"+D$37","v":3},{"$f":"+C$23","v":0},-9311.9699999999993]
[16,"Nin",{"$f":"+AA$37","v":-22},{"$f":"+AB$38","v":-12},{"$f":"+AB$37","v":2},{"$f":"+AA$23","v":0},-10211.98]
[]
[]
[null,"General",{"$f":"+C24*C25","v":0},{"$f":"+D24*D25","v":3},40,9,80,12,0,3,0,3,0,3,0,2,0,5,0,1,0,5,0,2,10,7,{"$f":"+AA24*AA25","v":0},2,5,8,0,6,20,8]
[null,null,{"$f":"IF($B36>3,1,0)","v":1},{"$f":"IF($B36>3,1,0)","v":1},1,1,1,1,1,1,1,1,1,1,1,1,1,1,1,1,1,1,1,1,1,1,{"$f":"IF($B36>3,1,0)","v":1},1,1,1,1,1,1,1]
[null,null,{"$f":"MAX(C26:C30)","v":0},{"$f":"+D37","v":3},{"$f":"MAX(E26:E30)","v":40},{"$f":"+F37","v":9},{"$f":"MAX(G26:G30)","v":80},{"$f":"+H37","v":12},{"$f":"MAX(I26:I30)","v":0},{"$f":"+J37","v":3},{"$f":"MAX(K26:K30)","v":0},{"$f":"+L37","v":3},{"$f":"MAX(M26:M30)","v":0},{"$f":"+N37","v":3},{"$f":"MAX(O26:O30)","v":0},{"$f":"+P37","v":2},{"$f":"MAX(Q26:Q30)","v":0},{"$f":"+R37","v":5},{"$f":"MAX(S26:S30)","v":0},{"$f":"+T37","v":1},{"$f":"MAX(U26:U30)","v":0},{"$f":"+V37","v":5},{"$f":"MAX(W26:W30)","v":0},{"$f":"+X37","v":2},{"$f":"MAX(Y26:Y30)","v":10},{"$f":"+Z37","v":7},{"$f":"MAX(AA26:AA30)","v":0},{"$f":"+AB37","v":2},{"$f":"MAX(AC26:AC30)","v":5},{"$f":"+AD37","v":8},{"$f":"MAX(AE26:AE30)","v":0},{"$f":"+AF37","v":6},{"$f":"MAX(AG26:AG30)","v":20},{"$f":"+AH37","v":8}]
[null,null,{"$f":"IF(C$31=5,5,0)","v":0},null,{"$f":"IF(E$31=5,5,0)","v":0},null,{"$f":"IF(G$31=5,5,0)","v":0},null,{"$f":"IF(I$31=5,5,0)","v":0},null,{"$f":"IF(K$31=5,5,0)","v":0},null,{"$f":"IF(M$31=5,5,0)","v":0},null,{"$f":"IF(O$31=5,5,0)","v":0},null,{"$f":"IF(Q$31=5,5,0)","v":0},null,{"$f":"IF(S$31=5,5,0)","v":0},null,{"$f":"IF(U$31=5,5,0)","v":0},null,{"$f":"IF(W$31=5,5,0)","v":0},null,{"$f":"IF(Y$31=5,5,0)","v":0},null,{"$f":"IF(AA$31=5,5,0)","v":0},null,{"$f":"IF(AC$31=5,5,0)","v":5},null,{"$f":"IF(AE$31=5,5,0)","v":0},null,{"$f":"IF(AG$31=5,5,0)","v":0}]
[null,null,{"$f":"IF(C$31=4,10,0)","v":0},null,{"$f":"IF(E$31=4,10,0)","v":0},null,{"$f":"IF(G$31=4,10,0)","v":0},null,{"$f":"IF(I$31=4,10,0)","v":0},null,{"$f":"IF(K$31=4,10,0)","v":0},null,{"$f":"IF(M$31=4,10,0)","v":0},null,{"$f":"IF(O$31=4,10,0)","v":0},null,{"$f":"IF(Q$31=4,10,0)","v":0},null,{"$f":"IF(S$31=4,10,0)","v":0},null,{"$f":"IF(U$31=4,10,0)","v":0},null,{"$f":"IF(W$31=4,10,0)","v":0},null,{"$f":"IF(Y$31=4,10,0)","v":10},null,{"$f":"IF(AA$31=4,10,0)","v":0},null,{"$f":"IF(AC$31=4,10,0)","v":0},null,{"$f":"IF(AE$31=4,10,0)","v":0},null,{"$f":"IF(AG$31=4,10,0)","v":0}]
[null,null,{"$f":"IF(C$31=3,20,0)","v":0},null,{"$f":"IF(E$31=3,20,0)","v":0},null,{"$f":"IF(G$31=3,20,0)","v":0},null,{"$f":"IF(I$31=3,20,0)","v":0},null,{"$f":"IF(K$31=3,20,0)","v":0},null,{"$f":"IF(M$31=3,20,0)","v":0},null,{"$f":"IF(O$31=3,20,0)","v":0},null,{"$f":"IF(Q$31=3,20,0)","v":0},null,{"$f":"IF(S$31=3,20,0)","v":0},null,{"$f":"IF(U$31=3,20,0)","v":0},null,{"$f":"IF(W$31=3,20,0)","v":0},null,{"$f":"IF(Y$31=3,20,0)","v":0},null,{"$f":"IF(AA$31=3,20,0)","v":0},null,{"$f":"IF(AC$31=3,20,0)","v":0},null,{"$f":"IF(AE$31=3,20,0)","v":0},null,{"$f":"IF(AG$31=3,20,0)","v":20}]
[null,null,{"$f":"IF(C$31=2,40,0)","v":0},null,{"$f":"IF(E$31=2,40,0)","v":40},null,{"$f":"IF(G$31=2,40,0)","v":0},null,{"$f":"IF(I$31=2,40,0)","v":0},null,{"$f":"IF(K$31=2,40,0)","v":0},null,{"$f":"IF(M$31=2,40,0)","v":0},null,{"$f":"IF(O$31=2,40,0)","v":0},null,{"$f":"IF(Q$31=2,40,0)","v":0},null,{"$f":"IF(S$31=2,40,0)","v":0},null,{"$f":"IF(U$31=2,40,0)","v":0},null,{"$f":"IF(W$31=2,40,0)","v":0},null,{"$f":"IF(Y$31=2,40,0)","v":0},null,{"$f":"IF(AA$31=2,40,0)","v":0},null,{"$f":"IF(AC$31=2,40,0)","v":0},null,{"$f":"IF(AE$31=2,40,0)","v":0},null,{"$f":"IF(AG$31=2,40,0)","v":0}]
[null,null,{"$f":"IF(C$31=1,80,0)","v":0},null,{"$f":"IF(E$31=1,80,0)","v":0},null,{"$f":"IF(G$31=1,80,0)","v":80},null,{"$f":"IF(I$31=1,80,0)","v":0},null,{"$f":"IF(K$31=1,80,0)","v":0},null,{"$f":"IF(M$31=1,80,0)","v":0},null,{"$f":"IF(O$31=1,80,0)","v":0},null,{"$f":"IF(Q$31=1,80,0)","v":0},null,{"$f":"IF(S$31=1,80,0)","v":0},null,{"$f":"IF(U$31=1,80,0)","v":0},null,{"$f":"IF(W$31=1,80,0)","v":0},null,{"$f":"IF(Y$31=1,80,0)","v":0},null,{"$f":"IF(AA$31=1,80,0)","v":0},null,{"$f":"IF(AC$31=1,80,0)","v":0},null,{"$f":"IF(AE$31=1,80,0)","v":0},null,{"$f":"IF(AG$31=1,80,0)","v":0}]
[null,null,{"$f":"RANK(C32,$C32:$AT32)*C36","v":0},null,{"$f":"RANK(E32,$C32:$AT32)*E36","v":2},null,{"$f":"RANK(G32,$C32:$AT32)*G36","v":1},null,{"$f":"RANK(I32,$C32:$AT32)*I36","v":0},null,{"$f":"RANK(K32,$C32:$AT32)*K36","v":0},null,{"$f":"RANK(M32,$C32:$AT32)*M36","v":0},null,{"$f":"RANK(O32,$C32:$AT32)*O36","v":0},null,{"$f":"RANK(Q32,$C32:$AT32)*Q36","v":0},null,{"$f":"RANK(S32,$C32:$AT32)*S36","v":0},null,{"$f":"RANK(U32,$C32:$AT32)*U36","v":0},null,{"$f":"RANK(W32,$C32:$AT32)*W36","v":0},null,{"$f":"RANK(Y32,$C32:$AT32)*Y36","v":4},null,{"$f":"RANK(AA32,$C32:$AT32)*AA36","v":0},null,{"$f":"RANK(AC32,$C32:$AT32)*AC36","v":5},null,{"$f":"RANK(AE32,$C32:$AT32)*AE36","v":6},null,{"$f":"RANK(AG32,$C32:$AT32)*AG36","v":3}]
[null,null,{"$f":"SUM(C33:C35)","v":-1000130},null,{"$f":"SUM(E33:E35)","v":21981},null,{"$f":"SUM(G33:G35)","v":34286},null,{"$f":"SUM(I33:I35)","v":-999969},null,{"$f":"SUM(K33:K35)","v":-1000024},null,{"$f":"SUM(M33:M35)","v":-999989},null,{"$f":"SUM(O33:O35)","v":-999844},null,{"$f":"SUM(Q33:Q35)","v":-1000050},null,{"$f":"SUM(S33:S35)","v":-1000029},null,{"$f":"SUM(U33:U35)","v":-999899},null,{"$f":"SUM(W33:W35)","v":-999966},null,{"$f":"SUM(Y33:Y35)","v":-4137},null,{"$f":"SUM(AA33:AA35)","v":-1000140},null,{"$f":"SUM(AC33:AC35)","v":-8991},null,{"$f":"SUM(AE33:AE35)","v":-29223},null,{"$f":"SUM(AG33:AG35)","v":-803}]
[null,null,{"$f":"+D37","v":3},null,{"$f":"+F37","v":9},null,{"$f":"+H37","v":12},null,{"$f":"+J37","v":3},null,{"$f":"+L37","v":3},null,{"$f":"+N37","v":3},null,{"$f":"+P37","v":2},null,{"$f":"+R37","v":5},null,{"$f":"+T37","v":1},null,{"$f":"+V37","v":5},null,{"$f":"+X37","v":2},null,{"$f":"+Z37","v":7},null,{"$f":"+AB37","v":2},null,{"$f":"+AD37","v":8},null,{"$f":"+AF37","v":6},null,{"$f":"+AH37","v":8}]
[null,null,{"$f":"D38*10","v":-120},null,{"$f":"F38*10","v":-50},null,{"$f":"H38*10","v":240},null,{"$f":"J38*10","v":30},null,{"$f":"L38*10","v":-30},null,{"$f":"N38*10","v":0},null,{"$f":"P38*10","v":150},null,{"$f":"R38*10","v":-50},null,{"$f":"T38*10","v":-20},null,{"$f":"V38*10","v":80},null,{"$f":"X38*10","v":30},null,{"$f":"Z38*10","v":-140},null,{"$f":"AB38*10","v":-120},null,{"$f":"AD38*10","v":10},null,{"$f":"AF38*10","v":-200},null,{"$f":"AH38*10","v":190}]
[null,null,{"$f":"IF(C36=1,C37*C36*1000+C37,-1000000+C37)","v":-1000013},null,{"$f":"IF(E36=1,E37*E36*1000+E37,-1000000+E37)","v":22022},null,{"$f":"IF(G36=1,G37*G36*1000+G37,-1000000+G37)","v":34034},null,{"$f":"IF(I36=1,I37*I36*1000+I37,-1000000+I37)","v":-1000002},null,{"$f":"IF(K36=1,K37*K36*1000+K37,-1000000+K37)","v":-999997},null,{"$f":"IF(M36=1,M37*M36*1000+M37,-1000000+M37)","v":-999992},null,{"$f":"IF(O36=1,O37*O36*1000+O37,-1000000+O37)","v":-999996},null,{"$f":"IF(Q36=1,Q37*Q36*1000+Q37,-1000000+Q37)","v":-1000005},null,{"$f":"IF(S36=1,S37*S36*1000+S37,-1000000+S37)","v":-1000010},null,{"$f":"IF(U36=1,U37*U36*1000+U37,-1000000+U37)","v":-999984},null,{"$f":"IF(W36=1,W37*W36*1000+W37,-1000000+W37)","v":-999998},null,{"$f":"IF(Y36=1,Y37*Y36*1000+Y37,-1000000+Y37)","v":-4004},null,{"$f":"IF(AA36=1,AA37*AA36*1000+AA37,-1000000+AA37)","v":-1000022},null,{"$f":"IF(AC36=1,AC37*AC36*1000+AC37,-1000000+AC37)","v":-9009},null,{"$f":"IF(AE36=1,AE37*AE36*1000+AE37,-1000000+AE37)","v":-29029},null,{"$f":"IF(AG36=1,AG37*AG36*1000+AG37,-1000000+AG37)","v":-1001}]
["Classificats",{"$f":"SUM(C36:AG36)","v":6},{"$f":"IF(D37>=$A3/2,1,0)","v":0},null,{"$f":"IF(F37>=$A3/2,1,0)","v":1},null,{"$f":"IF(H37>=$A3/2,1,0)","v":1},null,{"$f":"IF(J37>=$A3/2,1,0)","v":0},null,{"$f":"IF(L37>=$A3/2,1,0)","v":0},null,{"$f":"IF(N37>=$A3/2,1,0)","v":0},null,{"$f":"IF(P37>=$A3/2,1,0)","v":0},null,{"$f":"IF(R37>=$A3/2,1,0)","v":0},null,{"$f":"IF(T37>=$A3/2,1,0)","v":0},null,{"$f":"IF(V37>=$A3/2,1,0)","v":0},null,{"$f":"IF(X37>=$A3/2,1,0)","v":0},null,{"$f":"IF(Z37>=$A3/2,1,0)","v":1},null,{"$f":"IF(AB37>=$A3/2,1,0)","v":0},null,{"$f":"IF(AD37>=$A3/2,1,0)","v":1},null,{"$f":"IF(AF37>=$A3/2,1,0)","v":1},null,{"$f":"IF(AH37>=$A3/2,1,0)","v":1}]
[null,null,{"$f":"IF(SUM(C42:C280)<-1000,-100000000,SUM(C42:C280))","v":-13},{"$f":"COUNT(D42:D280)","v":3},{"$f":"IF(SUM(E42:E280)<-1000,-100000000,SUM(E42:E280))","v":22},{"$f":"COUNT(F42:F280)","v":9},{"$f":"IF(SUM(G42:G280)<-1000,-100000000,SUM(G42:G280))","v":34},{"$f":"COUNT(H42:H280)","v":12},{"$f":"IF(SUM(I42:I280)<-1000,-100000000,SUM(I42:I280))","v":-2},{"$f":"COUNT(J42:J280)","v":3},{"$f":"IF(SUM(K42:K280)<-1000,-100000000,SUM(K42:K280))","v":3},{"$f":"COUNT(L42:L280)","v":3},{"$f":"IF(SUM(M42:M280)<-1000,-100000000,SUM(M42:M280))","v":8},{"$f":"COUNT(N42:N280)","v":3},{"$f":"IF(SUM(O42:O280)<-1000,-100000000,SUM(O42:O280))","v":4},{"$f":"COUNT(P42:P280)","v":2},{"$f":"IF(SUM(Q42:Q280)<-1000,-100000000,SUM(Q42:Q280))","v":-5},{"$f":"COUNT(R42:R280)","v":5},{"$f":"IF(SUM(S42:S280)<-1000,-100000000,SUM(S42:S280))","v":-10},{"$f":"COUNT(T42:T280)","v":1},{"$f":"IF(SUM(U42:U280)<-1000,-100000000,SUM(U42:U280))","v":16},{"$f":"COUNT(V42:V280)","v":5},{"$f":"IF(SUM(W42:W280)<-1000,-100000000,SUM(W42:W280))","v":2},{"$f":"COUNT(X42:X280)","v":2},{"$f":"IF(SUM(Y42:Y280)<-1000,-100000000,SUM(Y42:Y280))","v":-4},{"$f":"COUNT(Z42:Z280)","v":7},{"$f":"IF(SUM(AA42:AA280)<-1000,-100000000,SUM(AA42:AA280))","v":-22},{"$f":"COUNT(AB42:AB280)","v":2},{"$f":"IF(SUM(AC42:AC280)<-1000,-100000000,SUM(AC42:AC280))","v":-9},{"$f":"COUNT(AD42:AD280)","v":8},{"$f":"IF(SUM(AE42:AE280)<-1000,-100000000,SUM(AE42:AE280))","v":-29},{"$f":"COUNT(AF42:AF280)","v":6},{"$f":"IF(SUM(AG42:AG280)<-1000,-100000000,SUM(AG42:AG280))","v":-1},{"$f":"COUNT(AH42:AH280)","v":8}]
[null,null,{"$f":"SUM(C42:C174)","v":-13},-12,22,-5,34,24,-2,3,3,-3,8,0,4,15,-5,-5,-10,-2,16,8,2,3,-4,-14,{"$f":"SUM(AA42:AA174)","v":-22},-12,-9,1,-29,-20,-1,19]
[null,null,null,null,null,null,null,null,null,null,null,null,null,null,null,null,null,null,null,null,null,null,null,null,null,null,null,null,null,null,null,null,null,null,{"$f":"MAX(AJ42:AJ101)","v":106}]
[null,"Nº partida ","Ana B",null,"Núria",null,"Jordi",null,"Manolo",null,"Grau",null,"Sergi",null,"Carles",null,"Mariajo",null,"Carme",null,"Goretti",null,"Caty",null,"Gemma",null,"Nin",null,"Sebas",null,"Nogué",null,"Òscar",null,{"$f":"COUNT(AI42:AI195)","v":12},"A","B","C"]
[null,null,"Premi","Punts","Premi","Punts","Premi","Punts","Premi","Punts","Premi","Punts","Premi","Punts","Premi","Punts","Premi","Punts","Premi","Punts","Premi","Punts","Premi","Punts","Premi","Punts","Premi","Punts","Premi","Punts","Premi","Punts","Premi","Punts","Data","Timbes"]
[1,null,-5,-2,10,9,5,3,10,8,5,-3,0,0,null,null,-10,-8,-10,-2,0,-1,null,null,null,null,null,null,-5,-4,null,null,null,null,"2021-11-20",28,{"$f":"+C42+E42+G42+I42++K42++M42+O42+Q42+S42+U42+W42+Y42+AG42+AA42+AC42+AE42","v":0},0,{"$f":"COUNT(C42:AH42)/2","v":10},{"$f":"+AK42/AM42","v":0}]
[{"$f":"+A42+1","v":2},null,null,null,2,1,6,3,null,null,null,null,null,null,null,null,null,null,null,null,null,null,null,null,10,2,null,null,-6,0,-10,-7,-2,1,"2022-01-20",45,0,0,6,0]
[{"$f":"+A43+1","v":3},null,null,null,-6,-8,2,6,null,null,null,null,null,null,null,null,null,null,null,null,null,null,null,null,10,-2,null,null,6,8,-2,1,-10,-5,"2022-01-20",45,0,{"$f":"+D44+F44+H44+J44++L44++N44+P44+R44+T44+V44+X44+Z44+AH44+AB44+AD44+AF44","v":0},6,0]
[4,null,null,null,0,-3,10,9,null,null,null,null,null,null,null,null,null,null,null,null,null,null,null,null,null,null,null,null,-5,-2,5,-4,-10,0,"2022-04-13",58,0,0,5,0]
[5,null,null,null,10,8,2,4,null,null,null,null,null,null,null,null,null,null,null,null,null,null,null,null,-2,-3,null,null,-10,-6,-6,-3,6,0,"2022-04-13",58,{"$f":"+C46+E46+G46+I46++K46++M46+O46+Q46+S46+U46+W46+Y46+AG46+AA46+AC46+AE46","v":0},0,6,0]
[6,null,null,null,-10,-7,2,8,null,null,null,null,null,null,null,null,null,null,null,null,null,null,null,null,-2,-4,null,null,6,-2,-6,-4,10,9,"2022-04-13",58,{"$f":"+C47+E47+G47+I47++K47++M47+O47+Q47+S47+U47+W47+Y47+AG47+AA47+AC47+AE47","v":0},0,6,0]
[7,null,null,null,0,-1,5,0,null,null,null,null,null,null,null,null,null,null,null,null,null,null,null,null,-10,-9,null,null,10,10,null,null,-5,0,"2022-05-27",64,0,0,5,0]
[8,null,null,null,10,-3,-10,-2,null,null,null,null,null,null,null,null,null,null,null,null,null,null,null,null,0,0,null,null,-5,-3,null,null,5,8,"2022-05-27",64,0,0,5,0]
[9,null,null,null,null,null,0,-8,null,null,null,null,null,null,null,null,10,10,null,null,-10,-2,null,null,null,null,null,null,null,null,null,null,null,null,"2022-08-21",91,0,0,3,0]
[10,null,null,null,null,null,0,2,null,null,null,null,null,null,null,null,-10,-10,null,null,10,8,null,null,null,null,null,null,null,null,null,null,null,null,"2022-08-21",91,{"$f":"+C51+E51+G51+I51++K51++M51+O51+Q51+S51+U51+W51+Y51+AG51+AA51+AC51+AE51","v":0},0,{"$f":"COUNT(C51:AH51)/2","v":3},{"$f":"+AK51/AM51","v":0}]
[11,null,-2,-4,6,-1,10,2,-2,1,0,-2,2,-2,-6,4,10,9,null,null,6,-2,2,-1,-10,2,-12,-3,null,null,-10,-3,null,null,"2022-09-17",106,-6,0,13,-0.46153846153846156]
[12,null,-6,-6,null,null,2,-3,-10,-6,-2,2,6,2,10,11,-5,-6,null,null,10,5,0,4,null,null,-10,-9,null,null,null,null,5,6,"2022-09-17",106,0,0,11,0]
[13,null,null,null,null,null,null,null,null,null,null,null,null,null,null,null,null,null,null,null,null,null,null,null,null,null,null,null,null,null,null,null,null,null,null,null,0,0,0,{"$error":"#DIV/0!"}]
[14,null,null,null,null,null,null,null,null,null,null,null,null,null,null,null,null,null,null,null,null,null,null,null,null,null,null,null,null,null,null,null,null,null,null,null,0,0,0,{"$error":"#DIV/0!"}]
[15,null,null,null,null,null,null,null,null,null,null,null,null,null,null,null,null,null,null,null,null,null,null,null,null,null,null,null,null,null,null,null,null,null,null,null,{"$f":"+C56+E56+G56+I56++K56++M56+O56+Q56+S56+U56+W56+Y56+AG56+AA56+AC56+AE56","v":0},0,0,{"$error":"#DIV/0!"}]
[16,null,null,null,null,null,null,null,null,null,null,null,null,null,null,null,null,null,null,null,null,null,null,null,null,null,null,null,null,null,null,null,null,null,null,null,0,0,0,{"$error":"#DIV/0!"}]
[17,null,null,null,null,null,null,null,null,null,null,null,null,null,null,null,null,null,null,null,null,null,null,null,null,null,null,null,null,null,null,null,null,null,null,null,0,0,0,{"$error":"#DIV/0!"}]
[18,null,null,null,null,null,null,null,null,null,null,null,null,null,null,null,null,null,null,null,null,null,null,null,null,null,null,null,null,null,null,null,null,null,null,null,0,0,0,{"$error":"#DIV/0!"}]
[19,null,null,null,null,null,null,null,null,null,null,null,null,null,null,null,null,null,null,null,null,null,null,null,null,null,null,null,null,null,null,null,null,null,null,null,0,0,0,{"$error":"#DIV/0!"}]
[20,null,null,null,null,null,null,null,null,null,null,null,null,null,null,null,null,null,null,null,null,null,null,null,null,null,null,null,null,null,null,null,null,null,null,null,{"$f":"+C61+E61+G61+I61++K61++M61+O61+Q61+S61+U61+W61+Y61+AG61+AA61+AC61+AE61","v":0},0,{"$f":"COUNT(C61:AH61)/2","v":0},{"$f":"+AK61/AM61","v":{"$error":"#DIV/0!"}}]
[21,null,null,null,null,null,null,null,null,null,null,null,null,null,null,null,null,null,null,null,null,null,null,null,null,null,null,null,null,null,null,null,null,null,null,null,0,0,{"$f":"COUNT(C62:AH62)/2","v":0},{"$f":"+AK62/AM62","v":{"$error":"#DIV/0!"}}]
[{"$f":"+A62+1","v":22},null,null,null,null,null,null,null,null,null,null,null,null,null,null,null,null,null,null,null,null,null,null,null,null,null,null,null,null,null,null,null,null,null,null,null,0,0,{"$f":"COUNT(C63:AH63)/2","v":0},{"$f":"+AK63/AM63","v":{"$error":"#DIV/0!"}}]
[23]
[24]
[25]
[26]
[27]
[28]
[29]
[30]
[31]
[{"$f":"+A72+1","v":32}]
[33]
[34]
[35]
[36]
[37]
[38]
[{"$f":"+A79+1","v":39}]
[40]
[41]
[42]
[43]
[44]
[45]
[46]
[47]
[48]
[49]
[50]
[51]
[52]
[53]
[{"$f":"+A94+1","v":54}]
[55]
[56]
[57]
[58]
[59]
[60]
[61]
[62]
[63]
[64]
[65]
[{"$f":"+A106+1","v":66}]
[67]
[68]
[69]
[70]
[71]

{"sheet":"Podrida","index":8,"n_rows":250,"n_cols":55,"rows_kept":250,"cut":false,"hidden":false,"merged":[[82,1,83,1],[84,1,85,1],[86,1,87,1],[72,1,73,1],[74,1,75,1],[76,1,77,1],[78,1,79,1],[80,1,81,1],[62,1,63,1],[64,1,65,1],[66,1,67,1],[68,1,69,1],[70,1,71,1],[52,1,53,1],[54,1,55,1],[56,1,57,1],[58,1,59,1],[60,1,61,1],[42,1,43,1],[44,1,45,1],[46,1,47,1],[48,1,49,1],[50,1,51,1],[40,12,40,13],[40,2,40,3],[40,4,40,5],[40,6,40,7],[40,8,40,9],[40,10,40,11],[40,14,40,15],[40,16,40,17],[40,26,40,27],[40,32,40,33],[40,28,40,29],[40,34,40,35],[40,18,40,19],[40,20,40,21],[40,22,40,23],[40,24,40,25],[40,30,40,31]]}
["PODRIDA"]
["Mes"]
[{"$f":"+GENERAL!B6","v":12},null,{"$f":"SUM(C5:C11)","v":9},null,{"$f":"SUM(E5:E11)","v":0}]
[null,null,"Premi","Reptes","Punts","Partides","General"]
[1,"Sebas",{"$f":"+AC$38","v":2.5},{"$f":"+AD$39","v":3},{"$f":"+AD$38","v":4},{"$f":"+AC$39","v":4},{"$f":"+AC$24","v":0},{"$f":"C5*1000+1000000*Y$40-D5+E5/1000","v":2497.0039999999999}]
[2,"Carles",{"$f":"+O$38","v":2},{"$f":"+P$39","v":2},{"$f":"+P$38","v":2},{"$f":"+O$39","v":0.66666666666666663},{"$f":"+O$24","v":0},{"$f":"C6*1000+1000000*W$40-D6+E6/1000","v":1998.002}]
[3,"Jordi",{"$f":"+G$38","v":2},{"$f":"+H$39","v":3},{"$f":"+H$38","v":2},{"$f":"+G$39","v":4},{"$f":"+G$24","v":0},{"$f":"C7*1000+1000000*G$40-D7+E7/1000","v":1997.002}]
[4,"Nogué",{"$f":"+AE$38","v":1.5},{"$f":"+AF$39","v":3},{"$f":"+AF$38","v":0},{"$f":"+AE$39","v":4},{"$f":"+AE$24","v":0},{"$f":"C8*1000+1000000*AC$40-D8+E8/1000","v":1497}]
[5,"Marina",{"$f":"+S$38","v":1},{"$f":"+T$39","v":2},{"$f":"+T$38","v":0},{"$f":"+S$39","v":0.66666666666666663},{"$f":"+S$24","v":0},{"$f":"C9*1000+1000000*C$40-D9+E9/1000","v":998}]
[6,"Jeff",{"$f":"+I$38","v":0},{"$f":"+J$39","v":2},{"$f":"+J$38","v":-2},{"$f":"+I$39","v":0.66666666666666663},{"$f":"+I$24","v":0},{"$f":"C10*1000+1000000*O$40-D10+E10/1000","v":-2.0019999999999998}]
[7,"Núria",{"$f":"+W$38","v":0},{"$f":"+X$39","v":3},{"$f":"+X$38","v":-6},{"$f":"+W$39","v":4},{"$f":"+W$24","v":0},{"$f":"C11*1000+1000000*AK$40-D11+E11/1000","v":-3.0059999999999998}]
[8,"Tito",{"$f":"+K$38","v":-100000000},{"$f":"+L$39","v":1},{"$f":"+L$38+1","v":1},{"$f":"+K$39","v":0},{"$f":"+U$24","v":0},{"$f":"C12*1000+1000000*Q$40-D12+E12/1000","v":-100000000000.99899}]
[9,"Grau",{"$f":"+AG$38","v":-100000000},{"$f":"+AH$39","v":1},{"$f":"+AH$38","v":0},{"$f":"+AG$39","v":0},{"$f":"+AG$24","v":0},{"$f":"C13*1000+1000000*U$40-D13+E13/1000","v":-100000000001}]
[10,"Ana B",{"$f":"+Q$38","v":-100000000},{"$f":"+R$39","v":1},{"$f":"+R$38","v":0},{"$f":"+Q$39","v":0},{"$f":"+Q$24","v":0},{"$f":"C14*1000+1000000*AA$40-D14+E14/1000","v":-100000000001},null,null,null,null,null,null,null,null,null,null,null,null,null,null,null,null,null,null,null,null,null,null,null,null,null,null,null,null,null,null,null,null,null,null,"Càlcul punts segons partida a 4 jugadors",null,null,null,null,null,null,null,null,null,"Máx.","Mitj.","Factor"]
[11,"Gemma",{"$f":"+AA$38","v":-100000000},{"$f":"+AB$39","v":1},{"$f":"+AB$38","v":0},{"$f":"+AA$39","v":0},{"$f":"+AA$24","v":0},{"$f":"C15*1000+1000000*AM$40-D15+E15/1000","v":-100000000001},null,null,null,null,null,null,null,null,null,null,null,null,null,null,null,null,null,null,null,null,null,null,null,null,null,null,null,null,null,null,null,null,null,null,"2020-02-13",12,40,0.75,null,6,{"$f":"13*3/4","v":9.75},1,1,null,{"$f":"((AV15*AW15*AX15+12)*AY15+AR15*AS15)*AT15","v":412.875},{"$f":"+AQ41","v":1.5555555555555556},1]
[12,"Rosa M",{"$f":"+C$38","v":-100000000},{"$f":"+D$39","v":1},{"$f":"+D$38","v":0},{"$f":"+C$39","v":0},{"$f":"+C$24","v":0},{"$f":"C16*1000+1000000*M$40-D16+E16/1000","v":-100000000001},null,null,null,null,null,null,null,null,null,null,null,null,null,null,null,null,null,null,null,null,null,null,null,null,null,null,null,null,null,null,null,null,null,null,"1-13/13-1/13x4",30,40,0.75,null,18,{"$f":"13*3/4","v":9.75},2,1,null,{"$f":"(AV16*AW16*AX16*AY16+AR16*AS16)*AT16","v":1163.25},{"$f":"+AQ40/0.4","v":0},{"$f":"+BA16/BA15","v":2.8174386920980927}]
[13,"Mariajo",{"$f":"+AI$38","v":-100000000},{"$f":"+AJ$39","v":1},{"$f":"+AJ$38","v":0},{"$f":"+AI$39","v":0},{"$f":"+AI$24","v":0},{"$f":"C17*1000+1000000*AI$40-D17+E17/1000","v":-100000000001},null,null,null,null,null,null,null,null,null,null,null,null,null,null,null,null,null,null,null,null,null,null,null,null,null,null,null,null,null,null,null,null,null,null,"13*4",4,40,0.75,null,4,{"$f":"13*3/4","v":9.75},2,1,null,{"$f":"(AV17*AW17*AX17*AY17+AR17*AS17)*AT17","v":178.5},{"$f":"+AQ37/2.5","v":2.4},{"$f":"+BA17/BA15","v":0.43233424159854678}]
[14,"Sergi",{"$f":"+M$38","v":-100000000},{"$f":"+N$39","v":1},{"$f":"+N$38","v":0},{"$f":"+M$39","v":0},{"$f":"+M$24","v":0},{"$f":"C18*1000+1000000*AG$40-D18+E18/1000","v":-100000000001}]
[15,"Cyber X",{"$f":"+E$38","v":-100000000},{"$f":"+F$39","v":1},{"$f":"+F$38","v":0},{"$f":"+E$39","v":0},{"$f":"+E$24","v":0},{"$f":"C19*1000+1000000*S$40-D19+E19/1000","v":-100000000001}]
[16,"Nin",{"$f":"+U$38","v":-100000000},{"$f":"+V$39","v":1},{"$f":"+V$38","v":0},{"$f":"+U$39","v":0},{"$f":"+U$24","v":0},{"$f":"C20*1000+1000000*AE$40-D20+E20/1000","v":-100000000001}]
[17,"Manolo",{"$f":"+Y$38","v":-100000000},{"$f":"+Z$39","v":1},{"$f":"+Z$38","v":0},{"$f":"+Y$39","v":0},{"$f":"+U$24","v":0},{"$f":"C21*1000+1000000*K$40-D21+E21/1000","v":-100000000001}]
[]
[null,null,null,null,null,null,null,null,null,null,null,null,null,null,null,null,null,null,null,null,null,null,null,null,null,null,null,null,null,null,null,null,null,null,null,null,null,null,null,null,null,null,null,0.4,{"$f":"1/AR23","v":2.5}]
[null,"General",{"$f":"+C25*C26","v":0},{"$f":"+D25*D26","v":0},0,0,0,0,0,0,0,0,0,0,0,0,0,0,0,0,0,0,0,0,0,0,{"$f":"+AA25*AA26","v":0},0,0,0,0,0,0,0,0,0,null,null,null,null,null,null,null,null,{"$error":"#DIV/0!"}]
[null,null,{"$f":"IF($B37>3,1,0)","v":0},{"$f":"IF($B37>3,1,0)","v":0},0,0,0,0,0,0,0,0,0,0,0,0,0,0,0,0,0,0,0,0,0,0,{"$f":"IF($B37>3,1,0)","v":0},0,0,0,0,0,0,0,0,0,null,null,null,null,null,null,null,null,{"$error":"#DIV/0!"}]
[null,null,{"$f":"MAX(C27:C31)","v":0},{"$f":"+D38","v":0},{"$f":"MAX(E27:E31)","v":0},{"$f":"+F38","v":0},{"$f":"MAX(G27:G31)","v":0},{"$f":"+H38","v":2},{"$f":"MAX(I27:I31)","v":0},{"$f":"+J38","v":-2},{"$f":"MAX(K27:K31)","v":0},{"$f":"+L38","v":0},{"$f":"MAX(M27:M31)","v":0},{"$f":"+N38","v":0},{"$f":"MAX(O27:O31)","v":0},{"$f":"+P38","v":2},{"$f":"MAX(Q27:Q31)","v":0},{"$f":"+R38","v":0},{"$f":"MAX(S27:S31)","v":0},{"$f":"+T38","v":0},{"$f":"MAX(U27:U31)","v":0},{"$f":"+V38","v":0},{"$f":"MAX(W27:W31)","v":0},{"$f":"+X38","v":-6},{"$f":"MAX(Y27:Y31)","v":0},{"$f":"+Z38","v":0},{"$f":"MAX(AA27:AA31)","v":0},{"$f":"+AB38","v":0},{"$f":"MAX(AC27:AC31)","v":0},{"$f":"+AD38","v":4},{"$f":"MAX(AE27:AE31)","v":0},{"$f":"+AF38","v":0},{"$f":"MAX(AG27:AG31)","v":0},{"$f":"+AH38","v":0},{"$f":"MAX(AI27:AI31)","v":0},{"$f":"+AJ38","v":0},null,null,null,null,null,null,null,null,{"$error":"#DIV/0!"}]
[null,null,{"$f":"IF(C$32=5,5,0)","v":0},null,{"$f":"IF(E$32=5,5,0)","v":0},null,{"$f":"IF(G$32=5,5,0)","v":0},null,{"$f":"IF(I$32=5,5,0)","v":0},null,{"$f":"IF(K$32=5,5,0)","v":0},null,{"$f":"IF(M$32=5,5,0)","v":0},null,{"$f":"IF(O$32=5,5,0)","v":0},null,{"$f":"IF(Q$32=5,5,0)","v":0},null,{"$f":"IF(S$32=5,5,0)","v":0},null,{"$f":"IF(U$32=5,5,0)","v":0},null,{"$f":"IF(W$32=5,5,0)","v":0},null,{"$f":"IF(Y$32=5,5,0)","v":0},null,{"$f":"IF(AA$32=5,5,0)","v":0},null,{"$f":"IF(AC$32=5,5,0)","v":0},null,{"$f":"IF(AE$32=5,5,0)","v":0},null,{"$f":"IF(AG$32=5,5,0)","v":0},null,{"$f":"IF(AI$32=5,5,0)","v":0},null,null,null,null,null,null,null,null,null,{"$error":"#DIV/0!"}]
[null,null,{"$f":"IF(C$32=4,10,0)","v":0},null,{"$f":"IF(E$32=4,10,0)","v":0},null,{"$f":"IF(G$32=4,10,0)","v":0},null,{"$f":"IF(I$32=4,10,0)","v":0},null,{"$f":"IF(K$32=4,10,0)","v":0},null,{"$f":"IF(M$32=4,10,0)","v":0},null,{"$f":"IF(O$32=4,10,0)","v":0},null,{"$f":"IF(Q$32=4,10,0)","v":0},null,{"$f":"IF(S$32=4,10,0)","v":0},null,{"$f":"IF(U$32=4,10,0)","v":0},null,{"$f":"IF(W$32=4,10,0)","v":0},null,{"$f":"IF(Y$32=4,10,0)","v":0},null,{"$f":"IF(AA$32=4,10,0)","v":0},null,{"$f":"IF(AC$32=4,10,0)","v":0},null,{"$f":"IF(AE$32=4,10,0)","v":0},null,{"$f":"IF(AG$32=4,10,0)","v":0},null,{"$f":"IF(AI$32=4,10,0)","v":0},null,null,null,null,null,null,null,null,null,{"$error":"#DIV/0!"}]
[null,null,{"$f":"IF(C$32=3,20,0)","v":0},null,{"$f":"IF(E$32=3,20,0)","v":0},null,{"$f":"IF(G$32=3,20,0)","v":0},null,{"$f":"IF(I$32=3,20,0)","v":0},null,{"$f":"IF(K$32=3,20,0)","v":0},null,{"$f":"IF(M$32=3,20,0)","v":0},null,{"$f":"IF(O$32=3,20,0)","v":0},null,{"$f":"IF(Q$32=3,20,0)","v":0},null,{"$f":"IF(S$32=3,20,0)","v":0},null,{"$f":"IF(U$32=3,20,0)","v":0},null,{"$f":"IF(W$32=3,20,0)","v":0},null,{"$f":"IF(Y$32=3,20,0)","v":0},null,{"$f":"IF(AA$32=3,20,0)","v":0},null,{"$f":"IF(AC$32=3,20,0)","v":0},null,{"$f":"IF(AE$32=3,20,0)","v":0},null,{"$f":"IF(AG$32=3,20,0)","v":0},null,{"$f":"IF(AI$32=3,20,0)","v":0},null,null,null,null,null,null,null,null,null,{"$error":"#DIV/0!"}]
[null,null,{"$f":"IF(C$32=2,40,0)","v":0},null,{"$f":"IF(E$32=2,40,0)","v":0},null,{"$f":"IF(G$32=2,40,0)","v":0},null,{"$f":"IF(I$32=2,40,0)","v":0},null,{"$f":"IF(K$32=2,40,0)","v":0},null,{"$f":"IF(M$32=2,40,0)","v":0},null,{"$f":"IF(O$32=2,40,0)","v":0},null,{"$f":"IF(Q$32=2,40,0)","v":0},null,{"$f":"IF(S$32=2,40,0)","v":0},null,{"$f":"IF(U$32=2,40,0)","v":0},null,{"$f":"IF(W$32=2,40,0)","v":0},null,{"$f":"IF(Y$32=2,40,0)","v":0},null,{"$f":"IF(AA$32=2,40,0)","v":0},null,{"$f":"IF(AC$32=2,40,0)","v":0},null,{"$f":"IF(AE$32=2,40,0)","v":0},null,{"$f":"IF(AG$32=2,40,0)","v":0},null,{"$f":"IF(AI$32=2,40,0)","v":0},null,null,null,null,null,null,null,null,null,{"$error":"#DIV/0!"}]
[null,null,{"$f":"IF(C$32=1,80,0)","v":0},null,{"$f":"IF(E$32=1,80,0)","v":0},null,{"$f":"IF(G$32=1,80,0)","v":0},null,{"$f":"IF(I$32=1,80,0)","v":0},null,{"$f":"IF(K$32=1,80,0)","v":0},null,{"$f":"IF(M$32=1,80,0)","v":0},null,{"$f":"IF(O$32=1,80,0)","v":0},null,{"$f":"IF(Q$32=1,80,0)","v":0},null,{"$f":"IF(S$32=1,80,0)","v":0},null,{"$f":"IF(U$32=1,80,0)","v":0},null,{"$f":"IF(W$32=1,80,0)","v":0},null,{"$f":"IF(Y$32=1,80,0)","v":0},null,{"$f":"IF(AA$32=1,80,0)","v":0},null,{"$f":"IF(AC$32=1,80,0)","v":0},null,{"$f":"IF(AE$32=1,80,0)","v":0},null,{"$f":"IF(AG$32=1,80,0)","v":0},null,{"$f":"IF(AI$32=1,80,0)","v":0},null,null,null,null,null,null,null,null,null,{"$error":"#DIV/0!"}]
[null,null,{"$f":"RANK(C33,$C33:$AJ33)*C37","v":0},null,{"$f":"RANK(E33,$C33:$AJ33)*E37","v":0},null,{"$f":"RANK(G33,$C33:$AJ33)*G37","v":0},null,{"$f":"RANK(I33,$C33:$AJ33)*I37","v":0},null,{"$f":"RANK(K33,$C33:$AJ33)*K37","v":0},null,{"$f":"RANK(M33,$C33:$AJ33)*M37","v":0},null,{"$f":"RANK(O33,$C33:$AJ33)*O37","v":0},null,{"$f":"RANK(Q33,$C33:$AJ33)*Q37","v":0},null,{"$f":"RANK(S33,$C33:$AJ33)*S37","v":0},null,{"$f":"RANK(U33,$C33:$AJ33)*U37","v":0},null,{"$f":"RANK(W33,$C33:$AJ33)*W37","v":0},null,{"$f":"RANK(Y33,$C33:$AJ33)*Y37","v":0},null,{"$f":"RANK(AA33,$C33:$AJ33)*AA37","v":0},null,{"$f":"RANK(AC33,$C33:$AJ33)*AC37","v":0},null,{"$f":"RANK(AE33,$C33:$AJ33)*AE37","v":0},null,{"$f":"RANK(AG33,$C33:$AJ33)*AG37","v":0},null,{"$f":"RANK(AI33,$C33:$AJ33)*AI37","v":0},null,null,null,null,null,null,null,null,null,{"$error":"#DIV/0!"}]
[null,null,{"$f":"SUM(C34:C36)","v":-100999900},null,{"$f":"SUM(E34:E36)","v":-100999900},null,{"$f":"SUM(G34:G36)","v":-999696},null,{"$f":"SUM(I34:I36)","v":-999802},null,{"$f":"SUM(K34:K36)","v":-100999900},null,{"$f":"SUM(M34:M36)","v":-100999900},null,{"$f":"SUM(O34:O36)","v":-999796},null,{"$f":"SUM(Q34:Q36)","v":-100999900},null,{"$f":"SUM(S34:S36)","v":-999799},null,{"$f":"SUM(U34:U36)","v":-100999900},null,{"$f":"SUM(W34:W36)","v":-999706},null,{"$f":"SUM(Y34:Y36)","v":-100999900},null,{"$f":"SUM(AA34:AA36)","v":-100999900},null,{"$f":"SUM(AC34:AC36)","v":-999693.5},null,{"$f":"SUM(AE34:AE36)","v":-999698.5},null,{"$f":"SUM(AG34:AG36)","v":-100999900},null,{"$f":"SUM(AI34:AI36)","v":-100999900},null,null,null,null,null,null,null,null,null,{"$error":"#DIV/0!"}]
[null,null,{"$f":"+D38","v":0},null,{"$f":"+F38","v":0},null,{"$f":"+H38","v":2},null,{"$f":"+J38","v":-2},null,{"$f":"+L38","v":0},null,{"$f":"+N38","v":0},null,{"$f":"+P38","v":2},null,{"$f":"+R38","v":0},null,{"$f":"+T38","v":0},null,{"$f":"+V38","v":0},null,{"$f":"+X38","v":-6},null,{"$f":"+Z38","v":0},null,{"$f":"+AB38","v":0},null,{"$f":"+AD38","v":4},null,{"$f":"+AF38","v":0},null,{"$f":"+AH38","v":0},null,{"$f":"+AJ38","v":0},null,null,null,null,null,null,null,null,null,{"$error":"#DIV/0!"}]
[null,null,{"$f":"+D39*100","v":100},null,{"$f":"+F39*100","v":100},null,{"$f":"+H39*100","v":300},null,{"$f":"+J39*100","v":200},null,{"$f":"+L39*100","v":100},null,{"$f":"+N39*100","v":100},null,{"$f":"+P39*100","v":200},null,{"$f":"+R39*100","v":100},null,{"$f":"+T39*100","v":200},null,{"$f":"+V39*100","v":100},null,{"$f":"+X39*100","v":300},null,{"$f":"+Z39*100","v":100},null,{"$f":"+AB39*100","v":100},null,{"$f":"+AD39*100","v":300},null,{"$f":"+AF39*100","v":300},null,{"$f":"+AH39*100","v":100},null,{"$f":"+AJ39*100","v":100},null,null,null,null,null,null,null,null,null,{"$error":"#DIV/0!"}]
[null,null,{"$f":"IF(C37=1,C38*C37*10000+C38,-1000000+C38)","v":-101000000},null,{"$f":"IF(E37=1,E38*E37*10000+E38,-1000000+E38)","v":-101000000},null,{"$f":"IF(G37=1,G38*G37*10000+G38,-1000000+G38)","v":-999998},null,{"$f":"IF(I37=1,I38*I37*10000+I38,-1000000+I38)","v":-1000000},null,{"$f":"IF(K37=1,K38*K37*10000+K38,-1000000+K38)","v":-101000000},null,{"$f":"IF(M37=1,M38*M37*10000+M38,-1000000+M38)","v":-101000000},null,{"$f":"IF(O37=1,O38*O37*10000+O38,-1000000+O38)","v":-999998},null,{"$f":"IF(Q37=1,Q38*Q37*10000+Q38,-1000000+Q38)","v":-101000000},null,{"$f":"IF(S37=1,S38*S37*10000+S38,-1000000+S38)","v":-999999},null,{"$f":"IF(U37=1,U38*U37*10000+U38,-1000000+U38)","v":-101000000},null,{"$f":"IF(W37=1,W38*W37*10000+W38,-1000000+W38)","v":-1000000},null,{"$f":"IF(Y37=1,Y38*Y37*10000+Y38,-1000000+Y38)","v":-101000000},null,{"$f":"IF(AA37=1,AA38*AA37*10000+AA38,-1000000+AA38)","v":-101000000},null,{"$f":"IF(AC37=1,AC38*AC37*10000+AC38,-1000000+AC38)","v":-999997.5},null,{"$f":"IF(AE37=1,AE38*AE37*10000+AE38,-1000000+AE38)","v":-999998.5},null,{"$f":"IF(AG37=1,AG38*AG37*10000+AG38,-1000000+AG38)","v":-101000000},null,{"$f":"IF(AI37=1,AI38*AI37*10000+AI38,-1000000+AI38)","v":-101000000},null,null,null,null,null,null,null,null,null,{"$error":"#DIV/0!"}]
["Classificats",{"$f":"SUM(C37:AI37)","v":0},{"$f":"IF(C39>=$A3/2,1,0)","v":0},null,{"$f":"IF(E39>=$A3/2,1,0)","v":0},null,{"$f":"IF(G39>=$A3/2,1,0)","v":0},null,{"$f":"IF(I39>=$A3/2,1,0)","v":0},null,{"$f":"IF(K39>=$A3/2,1,0)","v":0},null,{"$f":"IF(M39>=$A3/2,1,0)","v":0},null,{"$f":"IF(O39>=$A3/2,1,0)","v":0},null,{"$f":"IF(Q39>=$A3/2,1,0)","v":0},null,{"$f":"IF(S39>=$A3/2,1,0)","v":0},null,{"$f":"IF(U39>=$A3/2,1,0)","v":0},null,{"$f":"IF(W39>=$A3/2,1,0)","v":0},null,{"$f":"IF(Y39>=$A3/2,1,0)","v":0},null,{"$f":"IF(AA39>=$A3/2,1,0)","v":0},null,{"$f":"IF(AC39>=$A3/2,1,0)","v":0},null,{"$f":"IF(AE39>=$A3/2,1,0)","v":0},null,{"$f":"IF(AG39>=$A3/2,1,0)","v":0},null,{"$f":"IF(AI39>=$A3/2,1,0)","v":0},null,{"$f":"MAX(AL43:AL99)","v":99},null,null,null,null,null,{"$f":"AVERAGE(AQ47:AQ48)","v":6},{"$f":"+AQ37/AQ41","v":3.8571428571428572},{"$f":"1/AR37","v":0.25925925925925924}]
[null,null,{"$f":"IF(SUM(C43:C300)<-1000,-100000000,SUM(C43:C300))","v":-100000000},{"$f":"+D43+D45+D47+D49+D51+D53+D55+D57+D59+D61+D63+D65+D67+D69+D71+D73+D75+D77+D79+D81+D83+D85+D87-D88-D86-D84-D82-D80-D76-D74-D72-D70-D68-D66-D64-D58-D56-D54-D52-D50-D48-D46-D44-D60-D62-D78","v":0},{"$f":"IF(SUM(E43:E300)<-1000,-100000000,SUM(E43:E300))","v":-100000000},{"$f":"+F43+F45+F47+F49+F51+F53+F55+F57+F59+F61+F63+F65+F67+F69+F71+F73+F75+F77+F79+F81+F83+F85+F87-F88-F86-F84-F82-F80-F76-F74-F72-F70-F68-F66-F64-F58-F56-F54-F52-F50-F48-F46-F44-F60-F62-F78","v":0},{"$f":"IF(SUM(G43:G300)<-1000,-100000000,SUM(G43:G300))","v":2},{"$f":"+H43+H45+H47+H49+H51+H53+H55+H57+H59+H61+H63+H65+H67+H69+H71+H73+H75+H77+H79+H81+H83+H85+H87-H88-H86-H84-H82-H80-H76-H74-H72-H70-H68-H66-H64-H58-H56-H54-H52-H50-H48-H46-H44-H60-H62-H78","v":2},{"$f":"IF(SUM(I43:I300)<-1000,-100000000,SUM(I43:I300))","v":0},{"$f":"+J43+J45+J47+J49+J51+J53+J55+J57+J59+J61+J63+J65+J67+J69+J71+J73+J75+J77+J79+J81+J83+J85+J87-J88-J86-J84-J82-J80-J76-J74-J72-J70-J68-J66-J64-J58-J56-J54-J52-J50-J48-J46-J44-J60-J62-J78","v":-2},{"$f":"IF(SUM(K43:K300)<-1000,-100000000,SUM(K43:K300))","v":-100000000},{"$f":"+L43+L45+L47+L49+L51+L53+L55+L57+L59+L61+L63+L65+L67+L69+L71+L73+L75+L77+L79+L81+L83+L85+L87-L88-L86-L84-L82-L80-L76-L74-L72-L70-L68-L66-L64-L58-L56-L54-L52-L50-L48-L46-L44-L60-L62-L78","v":0},{"$f":"IF(SUM(M43:M300)<-1000,-100000000,SUM(M43:M300))","v":-100000000},{"$f":"+N43+N45+N47+N49+N51+N53+N55+N57+N59+N61+N63+N65+N67+N69+N71+N73+N75+N77+N79+N81+N83+N85+N87-N88-N86-N84-N82-N80-N76-N74-N72-N70-N68-N66-N64-N58-N56-N54-N52-N50-N48-N46-N44-N60-N62-N78","v":0},{"$f":"IF(SUM(O43:O300)<-1000,-100000000,SUM(O43:O300))","v":2},{"$f":"+P43+P45+P47+P49+P51+P53+P55+P57+P59+P61+P63+P65+P67+P69+P71+P73+P75+P77+P79+P81+P83+P85+P87-P88-P86-P84-P82-P80-P76-P74-P72-P70-P68-P66-P64-P58-P56-P54-P52-P50-P48-P46-P44-P60-P62-P78","v":2},{"$f":"IF(SUM(Q43:Q300)<-1000,-100000000,SUM(Q43:Q300))","v":-100000000},{"$f":"+R43+R45+R47+R49+R51+R53+R55+R57+R59+R61+R63+R65+R67+R69+R71+R73+R75+R77+R79+R81+R83+R85+R87-R88-R86-R84-R82-R80-R76-R74-R72-R70-R68-R66-R64-R58-R56-R54-R52-R50-R48-R46-R44-R60-R62-R78","v":0},{"$f":"IF(SUM(S43:S300)<-1000,-100000000,SUM(S43:S300))","v":1},{"$f":"+T43+T45+T47+T49+T51+T53+T55+T57+T59+T61+T63+T65+T67+T69+T71+T73+T75+T77+T79+T81+T83+T85+T87-T88-T86-T84-T82-T80-T76-T74-T72-T70-T68-T66-T64-T58-T56-T54-T52-T50-T48-T46-T44-T60-T62-T78","v":0},{"$f":"IF(SUM(U43:U300)<-1000,-100000000,SUM(U43:U300))","v":-100000000},{"$f":"+V43+V45+V47+V49+V51+V53+V55+V57+V59+V61+V63+V65+V67+V69+V71+V73+V75+V77+V79+V81+V83+V85+V87-V88-V86-V84-V82-V80-V76-V74-V72-V70-V68-V66-V64-V58-V56-V54-V52-V50-V48-V46-V44-V60-V62-V78","v":0},{"$f":"IF(SUM(W43:W300)<-1000,-100000000,SUM(W43:W300))","v":0},{"$f":"+X43+X45+X47+X49+X51+X53+X55+X57+X59+X61+X63+X65+X67+X69+X71+X73+X75+X77+X79+X81+X83+X85+X87-X88-X86-X84-X82-X80-X76-X74-X72-X70-X68-X66-X64-X58-X56-X54-X52-X50-X48-X46-X44-X60-X62-X78","v":-6},{"$f":"IF(SUM(Y43:Y300)<-1000,-100000000,SUM(Y43:Y300))","v":-100000000},{"$f":"+Z43+Z45+Z47+Z49+Z51+Z53+Z55+Z57+Z59+Z61+Z63+Z65+Z67+Z69+Z71+Z73+Z75+Z77+Z79+Z81+Z83+Z85+Z87-Z88-Z86-Z84-Z82-Z80-Z76-Z74-Z72-Z70-Z68-Z66-Z64-Z58-Z56-Z54-Z52-Z50-Z48-Z46-Z44-Z60-Z62-Z78","v":0},{"$f":"IF(SUM(AA43:AA300)<-1000,-100000000,SUM(AA43:AA300))","v":-100000000},{"$f":"+AB43+AB45+AB47+AB49+AB51+AB53+AB55+AB57+AB59+AB61+AB63+AB65+AB67+AB69+AB71+AB73+AB75+AB77+AB79+AB81+AB83+AB85+AB87-AB88-AB86-AB84-AB82-AB80-AB76-AB74-AB72-AB70-AB68-AB66-AB64-AB58-AB56-AB54-AB52-AB50-AB48-AB46-AB44-AB60-AB62-AB78","v":0},{"$f":"IF(SUM(AC43:AC300)<-1000,-100000000,SUM(AC43:AC300))","v":2.5},{"$f":"+AD43+AD45+AD47+AD49+AD51+AD53+AD55+AD57+AD59+AD61+AD63+AD65+AD67+AD69+AD71+AD73+AD75+AD77+AD79+AD81+AD83+AD85+AD87-AD88-AD86-AD84-AD82-AD80-AD76-AD74-AD72-AD70-AD68-AD66-AD64-AD58-AD56-AD54-AD52-AD50-AD48-AD46-AD44-AD60-AD62-AD78","v":4},{"$f":"IF(SUM(AE43:AE300)<-1000,-100000000,SUM(AE43:AE300))","v":1.5},{"$f":"+AF43+AF45+AF47+AF49+AF51+AF53+AF55+AF57+AF59+AF61+AF63+AF65+AF67+AF69+AF71+AF73+AF75+AF77+AF79+AF81+AF83+AF85+AF87-AF88-AF86-AF84-AF82-AF80-AF76-AF74-AF72-AF70-AF68-AF66-AF64-AF58-AF56-AF54-AF52-AF50-AF48-AF46-AF44-AF60-AF62-AF78","v":0},{"$f":"IF(SUM(AG43:AG300)<-1000,-100000000,SUM(AG43:AG300))","v":-100000000},{"$f":"+AH43+AH45+AH47+AH49+AH51+AH53+AH55+AH57+AH59+AH61+AH63+AH65+AH67+AH69+AH71+AH73+AH75+AH77+AH79+AH81+AH83+AH85+AH87-AH88-AH86-AH84-AH82-AH80-AH76-AH74-AH72-AH70-AH68-AH66-AH64-AH58-AH56-AH54-AH52-AH50-AH48-AH46-AH44-AH60-AH62-AH78","v":0},{"$f":"IF(SUM(AI43:AI300)<-1000,-100000000,SUM(AI43:AI300))","v":-100000000},{"$f":"+AJ43+AJ45+AJ47+AJ49+AJ51+AJ53+AJ55+AJ57+AJ59+AJ61+AJ63+AJ65+AJ67+AJ69+AJ71+AJ73+AJ75+AJ77+AJ79+AJ81+AJ83+AJ85+AJ87-AJ88-AJ86-AJ84-AJ82-AJ80-AJ76-AJ74-AJ72-AJ70-AJ68-AJ66-AJ64-AJ58-AJ56-AJ54-AJ52-AJ50-AJ48-AJ46-AJ44-AJ60-AJ62-AJ78","v":0},null,null,null,null,null,null,{"$f":"AVERAGE(AQ41:AQ44)","v":0.51851851851851849}]
[null,null,{"$f":"SUM(D43:D300)/3","v":0},{"$f":"COUNT(C43:C88)","v":1},{"$f":"SUM(F43:F300)/3","v":0},{"$f":"COUNT(E43:E88)","v":1},{"$f":"SUM(H43:H300)/3","v":4},{"$f":"COUNT(G43:G88)","v":3},{"$f":"SUM(J43:J300)/3","v":0.66666666666666663},{"$f":"COUNT(I43:I88)","v":2},{"$f":"SUM(L43:L300)/3","v":0},{"$f":"COUNT(K43:K88)","v":1},{"$f":"SUM(N43:N300)/3","v":0},{"$f":"COUNT(M43:M88)","v":1},{"$f":"SUM(P43:P300)/3","v":0.66666666666666663},{"$f":"COUNT(O43:O88)","v":2},{"$f":"COUNT(R43:R300)/3","v":0},{"$f":"COUNT(Q43:Q88)","v":1},{"$f":"SUM(T43:T300)/3","v":0.66666666666666663},{"$f":"COUNT(S43:S88)","v":2},{"$f":"SUM(V43:V300)/3","v":0},{"$f":"COUNT(U43:U88)","v":1},{"$f":"SUM(X43:X300)/3","v":4},{"$f":"COUNT(W43:W88)","v":3},{"$f":"SUM(Z43:Z300)/3","v":0},{"$f":"COUNT(Y43:Y88)","v":1},{"$f":"SUM(AB43:AB300)/3","v":0},{"$f":"COUNT(AA43:AA88)","v":1},{"$f":"SUM(AD43:AD300)/3","v":4},{"$f":"COUNT(AC43:AC88)","v":3},{"$f":"SUM(AF43:AF300)/3","v":4},{"$f":"COUNT(AE43:AE88)","v":3},{"$f":"SUM(AH43:AH300)/3","v":0},{"$f":"COUNT(AG43:AG88)","v":1},{"$f":"SUM(AJ43:AJ300)/3","v":0},{"$f":"COUNT(AI43:AI88)","v":1},null,null,null,null,null,null,{"$f":"AVERAGE(AQ42:AQ45)","v":0}]
[null,null,null,null,null,null,null,null,null,null,null,null,null,null,null,null,null,null,null,null,null,null,null,null,null,null,null,null,null,null,null,null,null,null,null,null,null,null,null,null,null,null,{"$f":"AVERAGE(AQ43:AQ46)","v":0},{"$f":"+AQ40/AQ41","v":0}]
[null,"Comentaris","Rosa M",null,"Cyber X",null,"Jordi",null,"Jeff",null,"Tito",null,"Sergi",null,"Carles",null,"Ana B",null,"Marina",null,"Nin",null,"Núria",null,"Manolo",null,"Gemma",null,"Sebas",null,"Nogué",null,"Grau",null,"Mariajo",null,{"$f":"COUNT(AK43:AK268)","v":5},"A","B","C",null,{"$f":"SUM(AP43:AP98)","v":0},{"$f":"AVERAGE(AQ49:AQ75)","v":1.5555555555555556}]
[null,null,"Premi","Punts","Premi","Punts","Premi","Punts","Premi","Punts","Premi","Punts","Premi","Punts","Premi","Punts","Premi","Punts","Premi","Punts","Premi","Punts","Premi","Punts","Premi","Punts","Premi","Punts","Premi","Punts","Premi","Punts","Premi","Punts","Premi","Punts","Data","Timbes",null,null,null,"Excés cyber"]
["G","Rosa M",-10000,null,-10000,null,null,null,null,null,-10000,null,-10000,null,null,null,-10000,null,null,null,-10000,null,null,null,-10000,null,-10000,null,null,null,null,null,-10000,null,-10000,null,"2022-02-04",48,{"$f":"+C43+E43+G43+I43++K43++M43+O43+Q43+S43+U43+W43+Y43+AI43+AA43+AG43+AC43+AE43","v":-100000},{"$f":"COUNT(C43:AJ43)/2","v":5},{"$f":"+AM43/AN43","v":-20000},null,{"$f":"+D43+F43+H43+J43+L43+N43+P43+R43+T43+V43+X43+Z43+AH43+AJ43++AF43+AD43+AB43","v":0}]
["P",null,null,null,null,null,null,null,null,null,null,null,null,null,null,null,null,null,null,null,null,null,null,null,null,null,null,null,null,null,null,null,null,null,null,null,"2022-06-16",70,0,0,{"$error":"#DIV/0!"},null,0]
["G","Cyber X",null,null,null,null,null,null,null,null,null,null,null,null,null,null,null,null,null,null,null,null,null,null,null,null,null,null,null,null,null,null,null,null,null,null,"2022-06-16",70,0,0,{"$error":"#DIV/0!"},null,0]
["P",null,null,null,null,null,null,null,null,null,null,null,null,null,null,null,null,null,null,null,null,null,null,null,null,null,null,null,null,null,null,null,null,null,null,null,"2022-06-17",71,0,0,{"$error":"#DIV/0!"},null,0]
["G","Jordi",null,null,null,null,null,null,null,null,null,null,null,null,null,null,null,null,null,null,null,null,{"$f":"IF(X47-X48=0,0.5,IF(X47>X48,1,0))","v":0},1,null,null,null,null,{"$f":"IF(AD47-AD48=0,0.5,IF(AD47>AD48,1,0))","v":0.5},2,{"$f":"IF(AF47-AF48=0,0.5,IF(AF47>AF48,1,0))","v":0.5},2,null,null,null,null,"2022-08-27",99,1,3,0.33333333333333331,null,5]
["P",null,null,null,null,null,null,null,null,null,null,null,null,null,null,null,null,null,null,null,null,null,null,3,null,null,null,null,null,2,null,2,null,null,null,null,null,null,0,1.5,0,null,7]
["G","Jeff",null,null,null,null,null,null,null,null,null,null,null,null,{"$f":"IF(P49-P50=0,0.5,IF(P49>P50,1,0))","v":1},1,null,null,{"$f":"IF(T49-T50=0,0.5,IF(T49>T50,1,0))","v":1},1,null,null,null,null,null,null,null,null,null,null,null,null,null,null,null,null,null,null,2,2,1,null,2]
["P",null,null,null,null,null,null,null,null,null,null,null,null,null,null,null,null,null,null,null,null,null,null,null,null,null,null,null,null,null,null,null,null,null,null,null,null,null,0,0,{"$error":"#DIV/0!"},null,{"$f":"+D50+F50+H50+J50+L50+N50+P50+R50+T50+V50+X50+Z50+AH50+AJ50++AF50+AD50+AB50","v":0}]
["G","Tito",null,null,null,null,null,null,null,null,null,null,null,null,null,null,null,null,null,null,null,null,null,null,null,null,null,null,null,null,null,null,null,null,null,null,null,null,{"$f":"+C51+E51+G51+I51++K51++M51+O51+Q51+S51+U51+W51+Y51+AI51+AA51+AG51+AC51+AE51","v":0},{"$f":"COUNT(C51:AJ51)/2","v":0},{"$f":"+AM51/AN51","v":{"$error":"#DIV/0!"}},null,{"$f":"+D51+F51+H51+J51+L51+N51+P51+R51+T51+V51+X51+Z51+AH51+AJ51++AF51+AD51+AB51","v":0}]
["P",null,null,null,null,null,null,null,null,null,null,null,null,null,null,null,null,null,null,null,null,null,null,null,null,null,null,null,null,null,null,null,null,null,null,null,null,null,0,0,{"$error":"#DIV/0!"},null,0]
["G","Sergi",null,null,null,null,null,null,null,null,null,null,null,null,null,null,null,null,null,null,null,null,null,null,null,null,null,null,null,null,null,null,null,null,null,null,null,null,0,0,{"$error":"#DIV/0!"},null,0]
["P",null,null,null,null,null,null,null,null,null,null,null,null,null,null,null,null,null,null,null,null,null,null,null,null,null,null,null,null,null,null,null,null,null,null,null,null,null,0,0,{"$error":"#DIV/0!"},null,0]
["G","Carles",null,null,null,null,null,null,{"$f":"IF(J55-J56=0,0.5,IF(J55>J56,1,0))","v":0},null,null,null,null,null,null,null,null,null,{"$f":"IF(T55-T56=0,0.5,IF(T55>T56,1,0))","v":0},null,null,null,null,null,null,null,null,null,null,null,null,null,null,null,null,null,null,null,0,1,0,null,0]
["P",null,null,null,null,null,null,null,null,1,null,null,null,null,null,null,null,null,null,1,null,null,null,null,null,null,null,null,null,null,null,null,null,null,null,null,null,null,0,1,0,null,2]
["G","Ana B",null,null,null,null,null,null,null,null,null,null,null,null,null,null,null,null,null,null,null,null,null,null,null,null,null,null,null,null,null,null,null,null,null,null,null,null,0,0,{"$error":"#DIV/0!"},null,0]
["P",null,null,null,null,null,null,null,null,null,null,null,null,null,null,null,null,null,null,null,null,null,null,null,null,null,null,null,null,null,null,null,null,null,null,null,null,null,0,0,{"$error":"#DIV/0!"},null,0]
["G","Marina",null,null,null,null,null,null,{"$f":"IF(J59-J60=0,0.5,IF(J59>J60,1,0))","v":0},null,null,null,null,null,{"$f":"IF(P59-P60=0,0.5,IF(P59>P60,1,0))","v":1},1,null,null,null,null,null,null,null,null,null,null,null,null,null,null,null,null,null,null,null,null,null,null,1,1.5,0.66666666666666663,null,1]
["P",null,null,null,null,null,null,null,null,1,null,null,null,null,null,null,null,null,null,null,null,null,null,null,null,null,null,null,null,null,null,null,null,null,null,null,null,null,0,0.5,0,null,1]
["G","Nin",null,null,null,null,null,null,null,null,null,null,null,null,null,null,null,null,null,null,null,null,null,null,null,null,null,null,null,null,null,null,null,null,null,null,null,null,0,0,{"$error":"#DIV/0!"},null,0]
["P",null,null,null,null,null,null,null,null,null,null,null,null,null,null,null,null,null,null,null,null,null,null,null,null,null,null,null,null,null,null,null,null,null,null,null,null,null,0,0,{"$error":"#DIV/0!"},null,0]
["G","Núria",null,null,null,null,{"$f":"IF(H63-H64=0,0.5,IF(H63>H64,1,0))","v":1},3,null,null,null,null,null,null,null,null,null,null,null,null,null,null,null,null,null,null,null,null,{"$f":"IF(AD63-AD64=0,0.5,IF(AD63>AD64,1,0))","v":1},3,{"$f":"IF(AF63-AF64=0,0.5,IF(AF63>AF64,1,0))","v":1},3,null,null,null,null,null,null,3,3,1,null,9]
["P",null,null,null,null,null,null,1,null,null,null,null,null,null,null,null,null,null,null,null,null,null,null,null,null,null,null,null,null,1,null,1,null,null,null,null,null,null,0,1.5,0,null,3]
["G","Manolo",null,null,null,null,null,null,null,null,null,null,null,null,null,null,null,null,null,null,null,null,null,null,null,null,null,null,null,null,null,null,null,null,null,null,null,null,0,0,{"$error":"#DIV/0!"},null,0]
["P",null,null,null,null,null,null,null,null,null,null,null,null,null,null,null,null,null,null,null,null,null,null,null,null,null,null,null,null,null,null,null,null,null,null,null,null,null,0,0,{"$error":"#DIV/0!"},null,0]
["G","Gemma",null,null,null,null,null,null,null,null,null,null,null,null,null,null,null,null,null,null,null,null,null,null,null,null,null,null,null,null,null,null,null,null,null,null,null,null,0,0,{"$error":"#DIV/0!"},null,0]
["P",null,null,null,null,null,null,null,null,null,null,null,null,null,null,null,null,null,null,null,null,null,null,null,null,null,null,null,null,null,null,null,null,null,null,null,null,null,0,0,{"$error":"#DIV/0!"},null,0]
["G","Sebas",null,null,null,null,{"$f":"IF(H69-H70=0,0.5,IF(H69>H70,1,0))","v":0.5},2,null,null,null,null,null,null,null,null,null,null,null,null,null,null,{"$f":"IF(X69-X70=0,0.5,IF(X69>X70,1,0))","v":0},1,null,null,null,null,null,null,{"$f":"IF(AF69-AF70=0,0.5,IF(AF69>AF70,1,0))","v":0},1,null,null,null,null,null,null,0.5,3,0.16666666666666666,null,4]
["P",null,null,null,null,null,null,2,null,null,null,null,null,null,null,null,null,null,null,null,null,null,null,3,null,null,null,null,null,null,null,3,null,null,null,null,null,null,0,1.5,0,null,8]
["G","Nogué",null,null,null,null,{"$f":"IF(H71-H72=0,0.5,IF(H71>H72,1,0))","v":0.5},2,null,null,null,null,null,null,null,null,null,null,null,null,null,null,{"$f":"IF(X71-X72=0,0.5,IF(X71>X72,1,0))","v":0},1,null,null,null,null,{"$f":"IF(AD71-AD72=0,0.5,IF(AD71>AD72,1,0))","v":1},3,null,null,null,null,null,null,null,null,1.5,3,0.5,null,6]
["P",null,null,null,null,null,null,2,null,null,null,null,null,null,null,null,null,null,null,null,null,null,null,3,null,null,null,null,null,1,null,null,null,null,null,null,null,null,0,1.5,0,null,6]
["G","Grau",null,null,null,null,null,null,null,null,null,null,null,null,null,null,null,null,null,null,null,null,null,null,null,null,null,null,null,null,null,null,null,null,null,null,null,null,0,0,{"$error":"#DIV/0!"},null,0]
["P",null,null,null,null,null,null,null,null,null,null,null,null,null,null,null,null,null,null,null,null,null,null,null,null,null,null,null,null,null,null,null,null,null,null,null,null,null,0,0,{"$error":"#DIV/0!"},null,0]
["G","Mariajo",null,null,null,null,null,null,null,null,null,null,null,null,null,null,null,null,null,null,null,null,null,null,null,null,null,null,null,null,null,null,null,null,null,null,null,null,0,0,{"$error":"#DIV/0!"},null,0]
["P",null,null,null,null,null,null,null,null,null,null,null,null,null,null,null,null,null,null,null,null,null,null,null,null,null,null,null,null,null,null,null,null,null,null,null,null,null,0,0,{"$error":"#DIV/0!"},null,0]
["G","Núria",null,null,null,null,null,null,null,null,null,null,null,null,null,null,null,null,null,null,null,null,null,null,null,null,null,null,null,null,null,null,null,null,null,null,null,null,0,0,{"$error":"#DIV/0!"},null,0]
["P",null,null,null,null,null,null,null,null,null,null,null,null,null,null,null,null,null,null,null,null,null,null,null,null,null,null,null,null,null,null,null,null,null,null,null,null,null,0,0,{"$error":"#DIV/0!"},null,0]
["G","Mariajo",null,null,null,null,null,null,null,null,null,null,null,null,null,null,null,null,null,null,null,null,null,null,null,null,null,null,null,null,null,null,null,null,null,null,null,null,0,{"$f":"COUNT(C79:AJ79)/2","v":0},{"$f":"+AM79/AN79","v":{"$error":"#DIV/0!"}},null,0]
["P",null,null,null,null,null,null,null,null,null,null,null,null,null,null,null,null,null,null,null,null,null,null,null,null,null,null,null,null,null,null,null,null,null,null,null,null,null,0,0,{"$error":"#DIV/0!"},null,0]
["G",null,null,null,null,null,null,null,null,null,null,null,null,null,null,null,null,null,null,null,null,null,null,null,null,null,null,null,null,null,null,null,null,null,null,null,null,null,0,0,{"$error":"#DIV/0!"},null,0]
["P",null,null,null,null,null,null,null,null,null,null,null,null,null,null,null,null,null,null,null,null,null,null,null,null,null,null,null,null,null,null,null,null,null,null,null,null,null,0,0,{"$error":"#DIV/0!"},null,0]
["G",null,null,null,null,null,null,null,null,null,null,null,null,null,null,null,null,null,null,null,null,null,null,null,null,null,null,null,null,null,null,null,null,null,null,null,null,null,0,0,{"$error":"#DIV/0!"},null,0]
["P",null,null,null,null,null,null,null,null,null,null,null,null,null,null,null,null,null,null,null,null,null,null,null,null,null,null,null,null,null,null,null,null,null,null,null,null,null,0,0,{"$error":"#DIV/0!"},null,0]
["G",null,null,null,null,null,null,null,null,null,null,null,null,null,null,null,null,null,null,null,null,null,null,null,null,null,null,null,null,null,null,null,null,null,null,null,null,null,0,0,{"$error":"#DIV/0!"},null,0]
["P",null,null,null,null,null,null,null,null,null,null,null,null,null,null,null,null,null,null,null,null,null,null,null,null,null,null,null,null,null,null,null,null,null,null,null,null,null,0,0,{"$error":"#DIV/0!"},null,0]
["G",null,null,null,null,null,null,null,null,null,null,null,null,null,null,null,null,null,null,null,null,null,null,null,null,null,null,null,null,null,null,null,null,null,null,null,null,null,0,0,{"$error":"#DIV/0!"},null,0]
["P",null,null,null,null,null,null,null,null,null,null,null,null,null,null,null,null,null,null,null,null,null,null,null,null,null,null,null,null,null,null,null,null,null,null,null,null,null,0,0,{"$error":"#DIV/0!"},null,0]
[{"$f":"+A88+1","v":{"$error":"#VALUE!"}},null,null,null,null,null,null,null,null,null,null,null,null,null,null,null,null,null,null,null,null,null,null,null,null,null,null,null,null,null,null,null,null,null,null,null,null,null,0,0,{"$error":"#DIV/0!"},null,0]
[{"$error":"#VALUE!"},null,null,null,null,null,null,null,null,null,null,null,null,null,null,null,null,null,null,null,null,null,null,null,null,null,null,null,null,null,null,null,null,null,null,null,null,null,0,0,{"$error":"#DIV/0!"},null,0]
[{"$error":"#VALUE!"},null,null,null,null,null,null,null,null,null,null,null,null,null,null,null,null,null,null,null,null,null,null,null,null,null,null,null,null,null,null,null,null,null,null,null,null,null,0,0,{"$error":"#DIV/0!"},null,0]
[{"$error":"#VALUE!"},null,null,null,null,null,null,null,null,null,null,null,null,null,null,null,null,null,null,null,null,null,null,null,null,null,null,null,null,null,null,null,null,null,null,null,null,null,0,0,{"$error":"#DIV/0!"},null,0]
[{"$error":"#VALUE!"},null,null,null,null,null,null,null,null,null,null,null,null,null,null,null,null,null,null,null,null,null,null,null,null,null,null,null,null,null,null,null,null,null,null,null,null,null,0,0,{"$error":"#DIV/0!"},null,0]
[{"$error":"#VALUE!"},null,null,null,null,null,null,null,null,null,null,null,null,null,null,null,null,null,null,null,null,null,null,null,null,null,null,null,null,null,null,null,null,null,null,null,null,null,0,0,{"$error":"#DIV/0!"},null,0]
[{"$error":"#VALUE!"},null,null,null,null,null,null,null,null,null,null,null,null,null,null,null,null,null,null,null,null,null,null,null,null,null,null,null,null,null,null,null,null,null,null,null,null,null,0,0,{"$error":"#DIV/0!"},null,0]
[{"$error":"#VALUE!"},null,null,null,null,null,null,null,null,null,null,null,null,null,null,null,null,null,null,null,null,null,null,null,null,null,null,null,null,null,null,null,null,null,null,null,null,null,0,0,{"$error":"#DIV/0!"},null,0]
[{"$error":"#VALUE!"},null,null,null,null,null,null,null,null,null,null,null,null,null,null,null,null,null,null,null,null,null,null,null,null,null,null,null,null,null,null,null,null,null,null,null,null,null,0,0,{"$error":"#DIV/0!"},null,0]
[{"$error":"#VALUE!"},null,null,null,null,null,null,null,null,null,null,null,null,null,null,null,null,null,null,null,null,null,null,null,null,null,null,null,null,null,null,null,null,null,null,null,null,null,0,0,{"$error":"#DIV/0!"},null,0]
[{"$error":"#VALUE!"},null,null,null,null,null,null,null,null,null,null,null,null,null,null,null,null,null,null,null,null,null,null,null,null,null,null,null,null,null,null,null,null,null,null,null,null,null,0,0,{"$error":"#DIV/0!"},null,0]
[{"$error":"#VALUE!"},null,null,null,null,null,null,null,null,null,null,null,null,null,null,null,null,null,null,null,null,null,null,null,null,null,null,null,null,null,null,null,null,null,null,null,null,null,0,0,{"$error":"#DIV/0!"},null,0]
[{"$error":"#VALUE!"},null,null,null,null,null,null,null,null,null,null,null,null,null,null,null,null,null,null,null,null,null,null,null,null,null,null,null,null,null,null,null,null,null,null,null,null,null,0,0,{"$error":"#DIV/0!"},null,0]
[{"$error":"#VALUE!"},null,null,null,null,null,null,null,null,null,null,null,null,null,null,null,null,null,null,null,null,null,null,null,null,null,null,null,null,null,null,null,null,null,null,null,null,null,0,0,{"$error":"#DIV/0!"},null,0]
[{"$error":"#VALUE!"},null,null,null,null,null,null,null,null,null,null,null,null,null,null,null,null,null,null,null,null,null,null,null,null,null,null,null,null,null,null,null,null,null,null,null,null,null,0,0,{"$error":"#DIV/0!"},null,0]
[{"$error":"#VALUE!"},null,null,null,null,null,null,null,null,null,null,null,null,null,null,null,null,null,null,null,null,null,null,null,null,null,null,null,null,null,null,null,null,null,null,null,null,null,0,0,{"$error":"#DIV/0!"},null,0]
[{"$error":"#VALUE!"},null,null,null,null,null,null,null,null,null,null,null,null,null,null,null,null,null,null,null,null,null,null,null,null,null,null,null,null,null,null,null,null,null,null,null,null,null,0,0,{"$error":"#DIV/0!"},null,0]
[{"$error":"#VALUE!"},null,null,null,null,null,null,null,null,null,null,null,null,null,null,null,null,null,null,null,null,null,null,null,null,null,null,null,null,null,null,null,null,null,null,null,null,null,0,0,{"$error":"#DIV/0!"},null,0]
[{"$error":"#VALUE!"},null,null,null,null,null,null,null,null,null,null,null,null,null,null,null,null,null,null,null,null,null,null,null,null,null,null,null,null,null,null,null,null,null,null,null,null,null,0,0,{"$error":"#DIV/0!"},null,0]
[{"$error":"#VALUE!"},null,null,null,null,null,null,null,null,null,null,null,null,null,null,null,null,null,null,null,null,null,null,null,null,null,null,null,null,null,null,null,null,null,null,null,null,null,0,0,{"$error":"#DIV/0!"},null,0]
[{"$f":"+A108+1","v":{"$error":"#VALUE!"}},null,null,null,null,null,null,null,null,null,null,null,null,null,null,null,null,null,null,null,null,null,null,null,null,null,null,null,null,null,null,null,null,null,null,null,null,null,{"$f":"+C109+E109+G109+I109++K109++M109+O109+Q109+S109+U109+W109+Y109+AI109+AA109+AG109+AC109+AE109","v":0},{"$f":"COUNT(C109:AJ109)/2","v":0},{"$f":"+AM109/AN109","v":{"$error":"#DIV/0!"}},null,0]
[{"$error":"#VALUE!"},null,null,null,null,null,null,null,null,null,null,null,null,null,null,null,null,null,null,null,null,null,null,null,null,null,null,null,null,null,null,null,null,null,null,null,null,null,0,0,{"$error":"#DIV/0!"},null,0]
[{"$error":"#VALUE!"},null,null,null,null,null,null,null,null,null,null,null,null,null,null,null,null,null,null,null,null,null,null,null,null,null,null,null,null,null,null,null,null,null,null,null,null,null,0,0,{"$error":"#DIV/0!"},null,0]
[{"$error":"#VALUE!"},null,null,null,null,null,null,null,null,null,null,null,null,null,null,null,null,null,null,null,null,null,null,null,null,null,null,null,null,null,null,null,null,null,null,null,null,null,0,0,{"$error":"#DIV/0!"},null,0]
[{"$error":"#VALUE!"},null,null,null,null,null,null,null,null,null,null,null,null,null,null,null,null,null,null,null,null,null,null,null,null,null,null,null,null,null,null,null,null,null,null,null,null,null,0,0,{"$error":"#DIV/0!"},null,0]
[{"$error":"#VALUE!"},null,null,null,null,null,null,null,null,null,null,null,null,null,null,null,null,null,null,null,null,null,null,null,null,null,null,null,null,null,null,null,null,null,null,null,null,null,0,0,{"$error":"#DIV/0!"},null,0]
[{"$error":"#VALUE!"},null,null,null,null,null,null,null,null,null,null,null,null,null,null,null,null,null,null,null,null,null,null,null,null,null,null,null,null,null,null,null,null,null,null,null,null,null,0,0,{"$error":"#DIV/0!"},null,{"$f":"+D115+F115+H115+J115+L115+N115+P115+R115+T115+V115+X115+Z115+AH115+AJ115++AF115+AD115+AB115","v":0}]
[{"$error":"#VALUE!"},null,null,null,null,null,null,null,null,null,null,null,null,null,null,null,null,null,null,null,null,null,null,null,null,null,null,null,null,null,null,null,null,null,null,null,null,null,0,0,{"$error":"#DIV/0!"},null,0]
[{"$error":"#VALUE!"},null,null,null,null,null,null,null,null,null,null,null,null,null,null,null,null,null,null,null,null,null,null,null,null,null,null,null,null,null,null,null,null,null,null,null,null,null,0,0,{"$error":"#DIV/0!"},null,0]
[{"$error":"#VALUE!"},null,null,null,null,null,null,null,null,null,null,null,null,null,null,null,null,null,null,null,null,null,null,null,null,null,null,null,null,null,null,null,null,null,null,null,null,null,0,0,{"$error":"#DIV/0!"},null,0]
[{"$error":"#VALUE!"},null,null,null,null,null,null,null,null,null,null,null,null,null,null,null,null,null,null,null,null,null,null,null,null,null,null,null,null,null,null,null,null,null,null,null,null,null,0,0,{"$error":"#DIV/0!"},null,0]
[{"$error":"#VALUE!"},null,null,null,null,null,null,null,null,null,null,null,null,null,null,null,null,null,null,null,null,null,null,null,null,null,null,null,null,null,null,null,null,null,null,null,null,null,0,0,{"$error":"#DIV/0!"},null,0]
[{"$error":"#VALUE!"},null,null,null,null,null,null,null,null,null,null,null,null,null,null,null,null,null,null,null,null,null,null,null,null,null,null,null,null,null,null,null,null,null,null,null,null,null,0,0,{"$error":"#DIV/0!"},null,0]
[{"$error":"#VALUE!"},null,null,null,null,null,null,null,null,null,null,null,null,null,null,null,null,null,null,null,null,null,null,null,null,null,null,null,null,null,null,null,null,null,null,null,null,null,{"$f":"+C122+E122+G122+I122++K122++M122+O122+Q122+S122+U122+W122+Y122+AI122+AA122+AG122+AC122+AE122","v":0},{"$f":"COUNT(C122:AJ122)/2","v":0},{"$f":"+AM122/AN122","v":{"$error":"#DIV/0!"}},null,0]
[{"$error":"#VALUE!"},null,null,null,null,null,null,null,null,null,null,null,null,null,null,null,null,null,null,null,null,null,null,null,null,null,null,null,null,null,null,null,null,null,null,null,null,null,0,0,{"$error":"#DIV/0!"},null,0]
[{"$error":"#VALUE!"},null,null,null,null,null,null,null,null,null,null,null,null,null,null,null,null,null,null,null,null,null,null,null,null,null,null,null,null,null,null,null,null,null,null,null,null,null,0,0,{"$error":"#DIV/0!"},null,0]
[{"$error":"#VALUE!"},null,null,null,null,null,null,null,null,null,null,null,null,null,null,null,null,null,null,null,null,null,null,null,null,null,null,null,null,null,null,null,null,null,null,null,null,null,0,0,{"$error":"#DIV/0!"},null,0]
[{"$error":"#VALUE!"},null,null,null,null,null,null,null,null,null,null,null,null,null,null,null,null,null,null,null,null,null,null,null,null,null,null,null,null,null,null,null,null,null,null,null,null,null,0,0,{"$error":"#DIV/0!"},null,0]
[{"$error":"#VALUE!"},null,null,null,null,null,null,null,null,null,null,null,null,null,null,null,null,null,null,null,null,null,null,null,null,null,null,null,null,null,null,null,null,null,null,null,null,null,0,0,{"$error":"#DIV/0!"},null,0]
[{"$error":"#VALUE!"},null,null,null,null,null,null,null,null,null,null,null,null,null,null,null,null,null,null,null,null,null,null,null,null,null,null,null,null,null,null,null,null,null,null,null,null,null,0,0,{"$error":"#DIV/0!"},null,0]
[{"$error":"#VALUE!"},null,null,null,null,null,null,null,null,null,null,null,null,null,null,null,null,null,null,null,null,null,null,null,null,null,null,null,null,null,null,null,null,null,null,null,null,null,0,0,{"$error":"#DIV/0!"},null,0]
[{"$error":"#VALUE!"},null,null,null,null,null,null,null,null,null,null,null,null,null,null,null,null,null,null,null,null,null,null,null,null,null,null,null,null,null,null,null,null,null,null,null,null,null,0,0,{"$error":"#DIV/0!"},null,0]
[{"$error":"#VALUE!"},null,null,null,null,null,null,null,null,null,null,null,null,null,null,null,null,null,null,null,null,null,null,null,null,null,null,null,null,null,null,null,null,null,null,null,null,null,0,0,{"$error":"#DIV/0!"},null,0]
[{"$error":"#VALUE!"},null,null,null,null,null,null,null,null,null,null,null,null,null,null,null,null,null,null,null,null,null,null,null,null,null,null,null,null,null,null,null,null,null,null,null,null,null,0,0,{"$error":"#DIV/0!"},null,0]
[{"$error":"#VALUE!"},null,null,null,null,null,null,null,null,null,null,null,null,null,null,null,null,null,null,null,null,null,null,null,null,null,null,null,null,null,null,null,null,null,null,null,null,null,0,0,{"$error":"#DIV/0!"},null,0]
[{"$error":"#VALUE!"},null,null,null,null,null,null,null,null,null,null,null,null,null,null,null,null,null,null,null,null,null,null,null,null,null,null,null,null,null,null,null,null,null,null,null,null,null,0,0,{"$error":"#DIV/0!"},null,0]
[{"$error":"#VALUE!"},null,null,null,null,null,null,null,null,null,null,null,null,null,null,null,null,null,null,null,null,null,null,null,null,null,null,null,null,null,null,null,null,null,null,null,null,null,0,0,{"$error":"#DIV/0!"},null,0]
[{"$error":"#VALUE!"},null,null,null,null,null,null,null,null,null,null,null,null,null,null,null,null,null,null,null,null,null,null,null,null,null,null,null,null,null,null,null,null,null,null,null,null,null,0,0,{"$error":"#DIV/0!"},null,0]
[{"$error":"#VALUE!"},null,null,null,null,null,null,null,null,null,null,null,null,null,null,null,null,null,null,null,null,null,null,null,null,null,null,null,null,null,null,null,null,null,null,null,null,null,0,0,{"$error":"#DIV/0!"},null,0]
[{"$error":"#VALUE!"},null,null,null,null,null,null,null,null,null,null,null,null,null,null,null,null,null,null,null,null,null,null,null,null,null,null,null,null,null,null,null,null,null,null,null,null,null,0,0,{"$error":"#DIV/0!"},null,0]
[{"$error":"#VALUE!"},null,null,null,null,null,null,null,null,null,null,null,null,null,null,null,null,null,null,null,null,null,null,null,null,null,null,null,null,null,null,null,null,null,null,null,null,null,0,0,{"$error":"#DIV/0!"},null,0]
[{"$error":"#VALUE!"},null,null,null,null,null,null,null,null,null,null,null,null,null,null,null,null,null,null,null,null,null,null,null,null,null,null,null,null,null,null,null,null,null,null,null,null,null,0,0,{"$error":"#DIV/0!"},null,0]
[{"$error":"#VALUE!"},null,null,null,null,null,null,null,null,null,null,null,null,null,null,null,null,null,null,null,null,null,null,null,null,null,null,null,null,null,null,null,null,null,null,null,null,null,0,0,{"$error":"#DIV/0!"},null,0]
[{"$error":"#VALUE!"},null,null,null,null,null,null,null,null,null,null,null,null,null,null,null,null,null,null,null,null,null,null,null,null,null,null,null,null,null,null,null,null,null,null,null,null,null,0,0,{"$error":"#DIV/0!"},null,0]
[{"$error":"#VALUE!"},null,null,null,null,null,null,null,null,null,null,null,null,null,null,null,null,null,null,null,null,null,null,null,null,null,null,null,null,null,null,null,null,null,null,null,null,null,0,0,{"$error":"#DIV/0!"},null,0]
[{"$error":"#VALUE!"},null,null,null,null,null,null,null,null,null,null,null,null,null,null,null,null,null,null,null,null,null,null,null,null,null,null,null,null,null,null,null,null,null,null,null,null,null,0,0,{"$error":"#DIV/0!"},null,0]
[{"$error":"#VALUE!"},null,null,null,null,null,null,null,null,null,null,null,null,null,null,null,null,null,null,null,null,null,null,null,null,null,null,null,null,null,null,null,null,null,null,null,null,null,0,0,{"$error":"#DIV/0!"},null,0]
[{"$error":"#VALUE!"},null,null,null,null,null,null,null,null,null,null,null,null,null,null,null,null,null,null,null,null,null,null,null,null,null,null,null,null,null,null,null,null,null,null,null,null,null,0,0,{"$error":"#DIV/0!"},null,0]
[{"$error":"#VALUE!"},null,null,null,null,null,null,null,null,null,null,null,null,null,null,null,null,null,null,null,null,null,null,null,null,null,null,null,null,null,null,null,null,null,null,null,null,null,0,0,{"$error":"#DIV/0!"},null,0]
[{"$error":"#VALUE!"},null,null,null,null,null,null,null,null,null,null,null,null,null,null,null,null,null,null,null,null,null,null,null,null,null,null,null,null,null,null,null,null,null,null,null,null,null,0,0,{"$error":"#DIV/0!"},null,0]
[{"$error":"#VALUE!"},null,null,null,null,null,null,null,null,null,null,null,null,null,null,null,null,null,null,null,null,null,null,null,null,null,null,null,null,null,null,null,null,null,null,null,null,null,0,0,{"$error":"#DIV/0!"},null,0]
[{"$error":"#VALUE!"},null,null,null,null,null,null,null,null,null,null,null,null,null,null,null,null,null,null,null,null,null,null,null,null,null,null,null,null,null,null,null,null,null,null,null,null,null,0,0,{"$error":"#DIV/0!"},null,0]
[{"$error":"#VALUE!"},null,null,null,null,null,null,null,null,null,null,null,null,null,null,null,null,null,null,null,null,null,null,null,null,null,null,null,null,null,null,null,null,null,null,null,null,null,0,0,{"$error":"#DIV/0!"},null,0]
[{"$error":"#VALUE!"},null,null,null,null,null,null,null,null,null,null,null,null,null,null,null,null,null,null,null,null,null,null,null,null,null,null,null,null,null,null,null,null,null,null,null,null,null,0,0,{"$error":"#DIV/0!"},null,0]
[{"$error":"#VALUE!"},null,null,null,null,null,null,null,null,null,null,null,null,null,null,null,null,null,null,null,null,null,null,null,null,null,null,null,null,null,null,null,null,null,null,null,null,null,0,0,{"$error":"#DIV/0!"},null,0]
[{"$error":"#VALUE!"},null,null,null,null,null,null,null,null,null,null,null,null,null,null,null,null,null,null,null,null,null,null,null,null,null,null,null,null,null,null,null,null,null,null,null,null,null,0,0,{"$error":"#DIV/0!"},null,0]
[{"$error":"#VALUE!"},null,null,null,null,null,null,null,null,null,null,null,null,null,null,null,null,null,null,null,null,null,null,null,null,null,null,null,null,null,null,null,null,null,null,null,null,null,0,0,{"$error":"#DIV/0!"},null,0]
[{"$error":"#VALUE!"},null,null,null,null,null,null,null,null,null,null,null,null,null,null,null,null,null,null,null,null,null,null,null,null,null,null,null,null,null,null,null,null,null,null,null,null,null,0,0,{"$error":"#DIV/0!"},null,0]
[{"$error":"#VALUE!"},null,null,null,null,null,null,null,null,null,null,null,null,null,null,null,null,null,null,null,null,null,null,null,null,null,null,null,null,null,null,null,null,null,null,null,null,null,0,0,{"$error":"#DIV/0!"},null,0]
[{"$error":"#VALUE!"},null,null,null,null,null,null,null,null,null,null,null,null,null,null,null,null,null,null,null,null,null,null,null,null,null,null,null,null,null,null,null,null,null,null,null,null,null,0,0,{"$error":"#DIV/0!"},null,0]
[{"$error":"#VALUE!"},null,null,null,null,null,null,null,null,null,null,null,null,null,null,null,null,null,null,null,null,null,null,null,null,null,null,null,null,null,null,null,null,null,null,null,null,null,0,0,{"$error":"#DIV/0!"},null,0]
[{"$error":"#VALUE!"},null,null,null,null,null,null,null,null,null,null,null,null,null,null,null,null,null,null,null,null,null,null,null,null,null,null,null,null,null,null,null,null,null,null,null,null,null,0,0,{"$error":"#DIV/0!"},null,0]
[{"$error":"#VALUE!"},null,null,null,null,null,null,null,null,null,null,null,null,null,null,null,null,null,null,null,null,null,null,null,null,null,null,null,null,null,null,null,null,null,null,null,null,null,0,0,{"$error":"#DIV/0!"},null,0]
[{"$error":"#VALUE!"},null,null,null,null,null,null,null,null,null,null,null,null,null,null,null,null,null,null,null,null,null,null,null,null,null,null,null,null,null,null,null,null,null,null,null,null,null,0,0,{"$error":"#DIV/0!"},null,0]
[{"$error":"#VALUE!"},null,null,null,null,null,null,null,null,null,null,null,null,null,null,null,null,null,null,null,null,null,null,null,null,null,null,null,null,null,null,null,null,null,null,null,null,null,0,0,{"$error":"#DIV/0!"},null,0]
[{"$error":"#VALUE!"},null,null,null,null,null,null,null,null,null,null,null,null,null,null,null,null,null,null,null,null,null,null,null,null,null,null,null,null,null,null,null,null,null,null,null,null,null,0,0,{"$error":"#DIV/0!"},null,0]
[{"$error":"#VALUE!"},null,null,null,null,null,null,null,null,null,null,null,null,null,null,null,null,null,null,null,null,null,null,null,null,null,null,null,null,null,null,null,null,null,null,null,null,null,0,0,{"$error":"#DIV/0!"},null,0]
[{"$error":"#VALUE!"},null,null,null,null,null,null,null,null,null,null,null,null,null,null,null,null,null,null,null,null,null,null,null,null,null,null,null,null,null,null,null,null,null,null,null,null,null,0,0,{"$error":"#DIV/0!"},null,0]
[{"$error":"#VALUE!"},null,null,null,null,null,null,null,null,null,null,null,null,null,null,null,null,null,null,null,null,null,null,null,null,null,null,null,null,null,null,null,null,null,null,null,null,null,0,0,{"$error":"#DIV/0!"},null,0]
[{"$error":"#VALUE!"},null,null,null,null,null,null,null,null,null,null,null,null,null,null,null,null,null,null,null,null,null,null,null,null,null,null,null,null,null,null,null,null,null,null,null,null,null,0,0,{"$error":"#DIV/0!"},null,0]
[{"$error":"#VALUE!"},null,null,null,null,null,null,null,null,null,null,null,null,null,null,null,null,null,null,null,null,null,null,null,null,null,null,null,null,null,null,null,null,null,null,null,null,null,0,0,{"$error":"#DIV/0!"},null,0]
[{"$error":"#VALUE!"},null,null,null,null,null,null,null,null,null,null,null,null,null,null,null,null,null,null,null,null,null,null,null,null,null,null,null,null,null,null,null,null,null,null,null,null,null,0,0,{"$error":"#DIV/0!"},null,0]
[{"$error":"#VALUE!"},null,null,null,null,null,null,null,null,null,null,null,null,null,null,null,null,null,null,null,null,null,null,null,null,null,null,null,null,null,null,null,null,null,null,null,null,null,0,0,{"$error":"#DIV/0!"},null,0]
[{"$error":"#VALUE!"},null,null,null,null,null,null,null,null,null,null,null,null,null,null,null,null,null,null,null,null,null,null,null,null,null,null,null,null,null,null,null,null,null,null,null,null,null,0,0,{"$error":"#DIV/0!"},null,0]
[{"$f":"+A172+1","v":{"$error":"#VALUE!"}},null,null,null,null,null,null,null,null,null,null,null,null,null,null,null,null,null,null,null,null,null,null,null,null,null,null,null,null,null,null,null,null,null,null,null,null,null,0,0,{"$error":"#DIV/0!"},null,0]
[{"$error":"#VALUE!"},null,null,null,null,null,null,null,null,null,null,null,null,null,null,null,null,null,null,null,null,null,null,null,null,null,null,null,null,null,null,null,null,null,null,null,null,null,0,0,{"$error":"#DIV/0!"},null,0]
[{"$error":"#VALUE!"},null,null,null,null,null,null,null,null,null,null,null,null,null,null,null,null,null,null,null,null,null,null,null,null,null,null,null,null,null,null,null,null,null,null,null,null,null,0,0,{"$error":"#DIV/0!"},null,0]
[{"$error":"#VALUE!"},null,null,null,null,null,null,null,null,null,null,null,null,null,null,null,null,null,null,null,null,null,null,null,null,null,null,null,null,null,null,null,null,null,null,null,null,null,0,0,{"$error":"#DIV/0!"},null,0]
[{"$error":"#VALUE!"},null,null,null,null,null,null,null,null,null,null,null,null,null,null,null,null,null,null,null,null,null,null,null,null,null,null,null,null,null,null,null,null,null,null,null,null,null,0,0,{"$error":"#DIV/0!"},null,0]
[{"$error":"#VALUE!"},null,null,null,null,null,null,null,null,null,null,null,null,null,null,null,null,null,null,null,null,null,null,null,null,null,null,null,null,null,null,null,null,null,null,null,null,null,0,0,{"$error":"#DIV/0!"},null,0]
[{"$error":"#VALUE!"},null,null,null,null,null,null,null,null,null,null,null,null,null,null,null,null,null,null,null,null,null,null,null,null,null,null,null,null,null,null,null,null,null,null,null,null,null,0,0,{"$error":"#DIV/0!"},null,{"$f":"+D179+F179+H179+J179+L179+N179+P179+R179+T179+V179+X179+Z179+AH179+AJ179++AF179+AD179+AB179","v":0}]
[{"$error":"#VALUE!"},null,null,null,null,null,null,null,null,null,null,null,null,null,null,null,null,null,null,null,null,null,null,null,null,null,null,null,null,null,null,null,null,null,null,null,null,null,0,0,{"$error":"#DIV/0!"},null,0]
[{"$error":"#VALUE!"},null,null,null,null,null,null,null,null,null,null,null,null,null,null,null,null,null,null,null,null,null,null,null,null,null,null,null,null,null,null,null,null,null,null,null,null,null,0,0,{"$error":"#DIV/0!"},null,0]
[{"$error":"#VALUE!"},null,null,null,null,null,null,null,null,null,null,null,null,null,null,null,null,null,null,null,null,null,null,null,null,null,null,null,null,null,null,null,null,null,null,null,null,null,0,0,{"$error":"#DIV/0!"},null,0]
[{"$error":"#VALUE!"},null,null,null,null,null,null,null,null,null,null,null,null,null,null,null,null,null,null,null,null,null,null,null,null,null,null,null,null,null,null,null,null,null,null,null,null,null,0,0,{"$error":"#DIV/0!"},null,0]
[{"$error":"#VALUE!"},null,null,null,null,null,null,null,null,null,null,null,null,null,null,null,null,null,null,null,null,null,null,null,null,null,null,null,null,null,null,null,null,null,null,null,null,null,0,0,{"$error":"#DIV/0!"},null,0]
[{"$error":"#VALUE!"},null,null,null,null,null,null,null,null,null,null,null,null,null,null,null,null,null,null,null,null,null,null,null,null,null,null,null,null,null,null,null,null,null,null,null,null,null,0,0,{"$error":"#DIV/0!"},null,0]
[{"$error":"#VALUE!"},null,null,null,null,null,null,null,null,null,null,null,null,null,null,null,null,null,null,null,null,null,null,null,null,null,null,null,null,null,null,null,null,null,null,null,null,null,{"$f":"+C186+E186+G186+I186++K186++M186+O186+Q186+S186+U186+W186+Y186+AI186+AA186+AG186+AC186+AE186","v":0},{"$f":"COUNT(C186:AJ186)/2","v":0},{"$f":"+AM186/AN186","v":{"$error":"#DIV/0!"}},null,0]
[{"$error":"#VALUE!"},null,null,null,null,null,null,null,null,null,null,null,null,null,null,null,null,null,null,null,null,null,null,null,null,null,null,null,null,null,null,null,null,null,null,null,null,null,0,0,{"$error":"#DIV/0!"},null,0]
[{"$error":"#VALUE!"},null,null,null,null,null,null,null,null,null,null,null,null,null,null,null,null,null,null,null,null,null,null,null,null,null,null,null,null,null,null,null,null,null,null,null,null,null,0,0,{"$error":"#DIV/0!"},null,0]
[{"$error":"#VALUE!"},null,null,null,null,null,null,null,null,null,null,null,null,null,null,null,null,null,null,null,null,null,null,null,null,null,null,null,null,null,null,null,null,null,null,null,null,null,0,0,{"$error":"#DIV/0!"},null,0]
[{"$error":"#VALUE!"},null,null,null,null,null,null,null,null,null,null,null,null,null,null,null,null,null,null,null,null,null,null,null,null,null,null,null,null,null,null,null,null,null,null,null,null,null,0,0,{"$error":"#DIV/0!"},null,0]
[{"$error":"#VALUE!"},null,null,null,null,null,null,null,null,null,null,null,null,null,null,null,null,null,null,null,null,null,null,null,null,null,null,null,null,null,null,null,null,null,null,null,null,null,0,0,{"$error":"#DIV/0!"},null,0]
[{"$error":"#VALUE!"},null,null,null,null,null,null,null,null,null,null,null,null,null,null,null,null,null,null,null,null,null,null,null,null,null,null,null,null,null,null,null,null,null,null,null,null,null,0,0,{"$error":"#DIV/0!"},null,0]
[{"$error":"#VALUE!"},null,null,null,null,null,null,null,null,null,null,null,null,null,null,null,null,null,null,null,null,null,null,null,null,null,null,null,null,null,null,null,null,null,null,null,null,null,0,0,{"$error":"#DIV/0!"},null,0]
[{"$error":"#VALUE!"},null,null,null,null,null,null,null,null,null,null,null,null,null,null,null,null,null,null,null,null,null,null,null,null,null,null,null,null,null,null,null,null,null,null,null,null,null,0,0,{"$error":"#DIV/0!"},null,0]
[{"$error":"#VALUE!"},null,null,null,null,null,null,null,null,null,null,null,null,null,null,null,null,null,null,null,null,null,null,null,null,null,null,null,null,null,null,null,null,null,null,null,null,null,0,0,{"$error":"#DIV/0!"},null,0]
[{"$error":"#VALUE!"},null,null,null,null,null,null,null,null,null,null,null,null,null,null,null,null,null,null,null,null,null,null,null,null,null,null,null,null,null,null,null,null,null,null,null,null,null,0,0,{"$error":"#DIV/0!"},null,0]
[{"$error":"#VALUE!"},null,null,null,null,null,null,null,null,null,null,null,null,null,null,null,null,null,null,null,null,null,null,null,null,null,null,null,null,null,null,null,null,null,null,null,null,null,0,0,{"$error":"#DIV/0!"},null,0]
[{"$error":"#VALUE!"},null,null,null,null,null,null,null,null,null,null,null,null,null,null,null,null,null,null,null,null,null,null,null,null,null,null,null,null,null,null,null,null,null,null,null,null,null,0,0,{"$error":"#DIV/0!"},null,0]
[{"$error":"#VALUE!"},null,null,null,null,null,null,null,null,null,null,null,null,null,null,null,null,null,null,null,null,null,null,null,null,null,null,null,null,null,null,null,null,null,null,null,null,null,0,0,{"$error":"#DIV/0!"},null,0]
[{"$error":"#VALUE!"},null,null,null,null,null,null,null,null,null,null,null,null,null,null,null,null,null,null,null,null,null,null,null,null,null,null,null,null,null,null,null,null,null,null,null,null,null,0,0,{"$error":"#DIV/0!"},null,0]
[{"$error":"#VALUE!"},null,null,null,null,null,null,null,null,null,null,null,null,null,null,null,null,null,null,null,null,null,null,null,null,null,null,null,null,null,null,null,null,null,null,null,null,null,0,0,{"$error":"#DIV/0!"},null,0]
[{"$error":"#VALUE!"},null,null,null,null,null,null,null,null,null,null,null,null,null,null,null,null,null,null,null,null,null,null,null,null,null,null,null,null,null,null,null,null,null,null,null,null,null,0,0,{"$error":"#DIV/0!"},null,0]
[{"$error":"#VALUE!"},null,null,null,null,null,null,null,null,null,null,null,null,null,null,null,null,null,null,null,null,null,null,null,null,null,null,null,null,null,null,null,null,null,null,null,null,null,0,0,{"$error":"#DIV/0!"},null,0]
[{"$error":"#VALUE!"},null,null,null,null,null,null,null,null,null,null,null,null,null,null,null,null,null,null,null,null,null,null,null,null,null,null,null,null,null,null,null,null,null,null,null,null,null,0,0,{"$error":"#DIV/0!"},null,0]
[{"$error":"#VALUE!"},null,null,null,null,null,null,null,null,null,null,null,null,null,null,null,null,null,null,null,null,null,null,null,null,null,null,null,null,null,null,null,null,null,null,null,null,null,0,0,{"$error":"#DIV/0!"},null,0]
[{"$error":"#VALUE!"},null,null,null,null,null,null,null,null,null,null,null,null,null,null,null,null,null,null,null,null,null,null,null,null,null,null,null,null,null,null,null,null,null,null,null,null,null,0,0,{"$error":"#DIV/0!"},null,0]
[{"$error":"#VALUE!"},null,null,null,null,null,null,null,null,null,null,null,null,null,null,null,null,null,null,null,null,null,null,null,null,null,null,null,null,null,null,null,null,null,null,null,null,null,0,0,{"$error":"#DIV/0!"},null,0]
[{"$error":"#VALUE!"},null,null,null,null,null,null,null,null,null,null,null,null,null,null,null,null,null,null,null,null,null,null,null,null,null,null,null,null,null,null,null,null,null,null,null,null,null,0,0,{"$error":"#DIV/0!"},null,0]
[{"$error":"#VALUE!"},null,null,null,null,null,null,null,null,null,null,null,null,null,null,null,null,null,null,null,null,null,null,null,null,null,null,null,null,null,null,null,null,null,null,null,null,null,0,0,{"$error":"#DIV/0!"},null,0]
[{"$error":"#VALUE!"},null,null,null,null,null,null,null,null,null,null,null,null,null,null,null,null,null,null,null,null,null,null,null,null,null,null,null,null,null,null,null,null,null,null,null,null,null,0,0,{"$error":"#DIV/0!"},null,0]
[{"$error":"#VALUE!"},null,null,null,null,null,null,null,null,null,null,null,null,null,null,null,null,null,null,null,null,null,null,null,null,null,null,null,null,null,null,null,null,null,null,null,null,null,0,0,{"$error":"#DIV/0!"},null,0]
[{"$error":"#VALUE!"},null,null,null,null,null,null,null,null,null,null,null,null,null,null,null,null,null,null,null,null,null,null,null,null,null,null,null,null,null,null,null,null,null,null,null,null,null,0,0,{"$error":"#DIV/0!"},null,0]
[{"$error":"#VALUE!"},null,null,null,null,null,null,null,null,null,null,null,null,null,null,null,null,null,null,null,null,null,null,null,null,null,null,null,null,null,null,null,null,null,null,null,null,null,0,0,{"$error":"#DIV/0!"},null,0]
[{"$error":"#VALUE!"},null,null,null,null,null,null,null,null,null,null,null,null,null,null,null,null,null,null,null,null,null,null,null,null,null,null,null,null,null,null,null,null,null,null,null,null,null,0,0,{"$error":"#DIV/0!"},null,0]
[{"$error":"#VALUE!"},null,null,null,null,null,null,null,null,null,null,null,null,null,null,null,null,null,null,null,null,null,null,null,null,null,null,null,null,null,null,null,null,null,null,null,null,null,0,0,{"$error":"#DIV/0!"},null,0]
[{"$error":"#VALUE!"},null,null,null,null,null,null,null,null,null,null,null,null,null,null,null,null,null,null,null,null,null,null,null,null,null,null,null,null,null,null,null,null,null,null,null,null,null,0,0,{"$error":"#DIV/0!"},null,0]
[{"$error":"#VALUE!"},null,null,null,null,null,null,null,null,null,null,null,null,null,null,null,null,null,null,null,null,null,null,null,null,null,null,null,null,null,null,null,null,null,null,null,null,null,0,0,{"$error":"#DIV/0!"},null,0]
[{"$error":"#VALUE!"},null,null,null,null,null,null,null,null,null,null,null,null,null,null,null,null,null,null,null,null,null,null,null,null,null,null,null,null,null,null,null,null,null,null,null,null,null,0,0,{"$error":"#DIV/0!"},null,0]
[{"$error":"#VALUE!"},null,null,null,null,null,null,null,null,null,null,null,null,null,null,null,null,null,null,null,null,null,null,null,null,null,null,null,null,null,null,null,null,null,null,null,null,null,0,0,{"$error":"#DIV/0!"},null,0]
[{"$error":"#VALUE!"},null,null,null,null,null,null,null,null,null,null,null,null,null,null,null,null,null,null,null,null,null,null,null,null,null,null,null,null,null,null,null,null,null,null,null,null,null,0,0,{"$error":"#DIV/0!"},null,0]
[{"$error":"#VALUE!"},null,null,null,null,null,null,null,null,null,null,null,null,null,null,null,null,null,null,null,null,null,null,null,null,null,null,null,null,null,null,null,null,null,null,null,null,null,0,0,{"$error":"#DIV/0!"},null,0]
[{"$error":"#VALUE!"},null,null,null,null,null,null,null,null,null,null,null,null,null,null,null,null,null,null,null,null,null,null,null,null,null,null,null,null,null,null,null,null,null,null,null,null,null,0,0,{"$error":"#DIV/0!"},null,0]
[{"$error":"#VALUE!"},null,null,null,null,null,null,null,null,null,null,null,null,null,null,null,null,null,null,null,null,null,null,null,null,null,null,null,null,null,null,null,null,null,null,null,null,null,0,0,{"$error":"#DIV/0!"},null,0]
[{"$error":"#VALUE!"},null,null,null,null,null,null,null,null,null,null,null,null,null,null,null,null,null,null,null,null,null,null,null,null,null,null,null,null,null,null,null,null,null,null,null,null,null,0,0,{"$error":"#DIV/0!"},null,0]
[{"$error":"#VALUE!"},null,null,null,null,null,null,null,null,null,null,null,null,null,null,null,null,null,null,null,null,null,null,null,null,null,null,null,null,null,null,null,null,null,null,null,null,null,0,0,{"$error":"#DIV/0!"},null,0]
[{"$error":"#VALUE!"},null,null,null,null,null,null,null,null,null,null,null,null,null,null,null,null,null,null,null,null,null,null,null,null,null,null,null,null,null,null,null,null,null,null,null,null,null,0,0,{"$error":"#DIV/0!"},null,0]
[{"$error":"#VALUE!"},null,null,null,null,null,null,null,null,null,null,null,null,null,null,null,null,null,null,null,null,null,null,null,null,null,null,null,null,null,null,null,null,null,null,null,null,null,0,0,{"$error":"#DIV/0!"},null,0]
[{"$error":"#VALUE!"},null,null,null,null,null,null,null,null,null,null,null,null,null,null,null,null,null,null,null,null,null,null,null,null,null,null,null,null,null,null,null,null,null,null,null,null,null,0,0,{"$error":"#DIV/0!"},null,0]
[{"$error":"#VALUE!"},null,null,null,null,null,null,null,null,null,null,null,null,null,null,null,null,null,null,null,null,null,null,null,null,null,null,null,null,null,null,null,null,null,null,null,null,null,0,0,{"$error":"#DIV/0!"},null,0]
[{"$error":"#VALUE!"},null,null,null,null,null,null,null,null,null,null,null,null,null,null,null,null,null,null,null,null,null,null,null,null,null,null,null,null,null,null,null,null,null,null,null,null,null,0,0,{"$error":"#DIV/0!"},null,0]
[{"$error":"#VALUE!"},null,null,null,null,null,null,null,null,null,null,null,null,null,null,null,null,null,null,null,null,null,null,null,null,null,null,null,null,null,null,null,null,null,null,null,null,null,0,0,{"$error":"#DIV/0!"},null,0]
[{"$error":"#VALUE!"},null,null,null,null,null,null,null,null,null,null,null,null,null,null,null,null,null,null,null,null,null,null,null,null,null,null,null,null,null,null,null,null,null,null,null,null,null,0,0,{"$error":"#DIV/0!"},null,0]
[{"$error":"#VALUE!"},null,null,null,null,null,null,null,null,null,null,null,null,null,null,null,null,null,null,null,null,null,null,null,null,null,null,null,null,null,null,null,null,null,null,null,null,null,0,0,{"$error":"#DIV/0!"},null,0]
[{"$error":"#VALUE!"},null,null,null,null,null,null,null,null,null,null,null,null,null,null,null,null,null,null,null,null,null,null,null,null,null,null,null,null,null,null,null,null,null,null,null,null,null,0,0,{"$error":"#DIV/0!"},null,0]
[{"$error":"#VALUE!"},null,null,null,null,null,null,null,null,null,null,null,null,null,null,null,null,null,null,null,null,null,null,null,null,null,null,null,null,null,null,null,null,null,null,null,null,null,0,0,{"$error":"#DIV/0!"},null,0]
[{"$error":"#VALUE!"},null,null,null,null,null,null,null,null,null,null,null,null,null,null,null,null,null,null,null,null,null,null,null,null,null,null,null,null,null,null,null,null,null,null,null,null,null,0,0,{"$error":"#DIV/0!"},null,0]
[{"$f":"+A236+1","v":{"$error":"#VALUE!"}},null,null,null,null,null,null,null,null,null,null,null,null,null,null,null,null,null,null,null,null,null,null,null,null,null,null,null,null,null,null,null,null,null,null,null,null,null,0,0,{"$error":"#DIV/0!"},null,0]
[{"$error":"#VALUE!"},null,null,null,null,null,null,null,null,null,null,null,null,null,null,null,null,null,null,null,null,null,null,null,null,null,null,null,null,null,null,null,null,null,null,null,null,null,0,0,{"$error":"#DIV/0!"},null,0]
[{"$error":"#VALUE!"},null,null,null,null,null,null,null,null,null,null,null,null,null,null,null,null,null,null,null,null,null,null,null,null,null,null,null,null,null,null,null,null,null,null,null,null,null,0,0,{"$error":"#DIV/0!"},null,0]
[{"$error":"#VALUE!"},null,null,null,null,null,null,null,null,null,null,null,null,null,null,null,null,null,null,null,null,null,null,null,null,null,null,null,null,null,null,null,null,null,null,null,null,null,0,0,{"$error":"#DIV/0!"},null,0]
[{"$error":"#VALUE!"},null,null,null,null,null,null,null,null,null,null,null,null,null,null,null,null,null,null,null,null,null,null,null,null,null,null,null,null,null,null,null,null,null,null,null,null,null,0,0,{"$error":"#DIV/0!"},null,0]
[{"$error":"#VALUE!"},null,null,null,null,null,null,null,null,null,null,null,null,null,null,null,null,null,null,null,null,null,null,null,null,null,null,null,null,null,null,null,null,null,null,null,null,null,0,0,{"$error":"#DIV/0!"},null,0]
[{"$error":"#VALUE!"},null,null,null,null,null,null,null,null,null,null,null,null,null,null,null,null,null,null,null,null,null,null,null,null,null,null,null,null,null,null,null,null,null,null,null,null,null,0,0,{"$error":"#DIV/0!"},null,{"$f":"+D243+F243+H243+J243+L243+N243+P243+R243+T243+V243+X243+Z243+AH243+AJ243++AF243+AD243+AB243","v":0}]
[{"$error":"#VALUE!"},null,null,null,null,null,null,null,null,null,null,null,null,null,null,null,null,null,null,null,null,null,null,null,null,null,null,null,null,null,null,null,null,null,null,null,null,null,0,0,{"$error":"#DIV/0!"},null,0]
[{"$error":"#VALUE!"},null,null,null,null,null,null,null,null,null,null,null,null,null,null,null,null,null,null,null,null,null,null,null,null,null,null,null,null,null,null,null,null,null,null,null,null,null,0,0,{"$error":"#DIV/0!"},null,0]
[{"$error":"#VALUE!"},null,null,null,null,null,null,null,null,null,null,null,null,null,null,null,null,null,null,null,null,null,null,null,null,null,null,null,null,null,null,null,null,null,null,null,null,null,0,0,{"$error":"#DIV/0!"},null,0]
[{"$error":"#VALUE!"},null,null,null,null,null,null,null,null,null,null,null,null,null,null,null,null,null,null,null,null,null,null,null,null,null,null,null,null,null,null,null,null,null,null,null,null,null,0,0,{"$error":"#DIV/0!"},null,0]
[{"$error":"#VALUE!"},null,null,null,null,null,null,null,null,null,null,null,null,null,null,null,null,null,null,null,null,null,null,null,null,null,null,null,null,null,null,null,null,null,null,null,null,null,0,0,{"$error":"#DIV/0!"},null,0]
[{"$error":"#VALUE!"},null,null,null,null,null,null,null,null,null,null,null,null,null,null,null,null,null,null,null,null,null,null,null,null,null,null,null,null,null,null,null,null,null,null,null,null,null,0,0,{"$error":"#DIV/0!"},null,0]
[{"$error":"#VALUE!"},null,null,null,null,null,null,null,null,null,null,null,null,null,null,null,null,null,null,null,null,null,null,null,null,null,null,null,null,null,null,null,null,null,null,null,null,null,{"$f":"+C250+E250+G250+I250++K250++M250+O250+Q250+S250+U250+W250+Y250+AI250+AA250+AG250+AC250+AE250","v":0},{"$f":"COUNT(C250:AJ250)/2","v":0},{"$f":"+AM250/AN250","v":{"$error":"#DIV/0!"}},null,0]

{"sheet":"Cors","index":9,"n_rows":250,"n_cols":55,"rows_kept":250,"cut":false,"hidden":false,"merged":[[80,1,81,1],[82,1,83,1],[84,1,85,1],[86,1,87,1],[68,1,69,1],[70,1,71,1],[72,1,73,1],[74,1,75,1],[76,1,77,1],[78,1,79,1],[66,1,67,1],[44,1,45,1],[46,1,47,1],[48,1,49,1],[50,1,51,1],[52,1,53,1],[54,1,55,1],[56,1,57,1],[58,1,59,1],[60,1,61,1],[62,1,63,1],[64,1,65,1],[40,26,40,27],[40,28,40,29],[40,30,40,31],[40,32,40,33],[40,34,40,35],[42,1,43,1],[40,14,40,15],[40,16,40,17],[40,18,40,19],[40,20,40,21],[40,22,40,23],[40,24,40,25],[40,2,40,3],[40,4,40,5],[40,6,40,7],[40,8,40,9],[40,10,40,11],[40,12,40,13]]}
["CORS"]
["Mes"]
[{"$f":"+GENERAL!B6","v":12},null,{"$f":"SUM(C5:C9)","v":9},null,{"$f":"SUM(E5:E9)","v":1}]
[null,null,"Premi","Reptes","Punts","Partides","General"]
[1,"Manolo",{"$f":"+Y$38","v":3.5},{"$f":"+Z$39","v":4},{"$f":"+Z$38","v":4},{"$f":"+Y$39","v":2},{"$f":"+U$24","v":0},{"$f":"C5*1000+1000000*K$40-D5+E5/1000","v":3496.0039999999999}]
[2,"Carles",{"$f":"+O$38","v":2},{"$f":"+P$39","v":4},{"$f":"+P$38","v":0},{"$f":"+O$39","v":2},{"$f":"+O$24","v":0},{"$f":"C6*1000+1000000*W$40-D6+E6/1000","v":1996}]
[3,"Nin",{"$f":"+U$38","v":1.5},{"$f":"+V$39","v":4},{"$f":"+V$38","v":-2},{"$f":"+U$39","v":2},{"$f":"+U$24","v":0},{"$f":"C7*1000+1000000*AE$40-D7+E7/1000","v":1495.998}]
[4,"Tito",{"$f":"+K$38","v":1},{"$f":"+L$39","v":3},{"$f":"+L$38+1","v":0},{"$f":"+K$39","v":1},{"$f":"+U$24","v":0},{"$f":"C8*1000+1000000*Q$40-D8+E8/1000","v":997}]
[5,"Cyber X",{"$f":"+E$38","v":1},{"$f":"+F$39","v":3},{"$f":"+F$38","v":-1},{"$f":"+E$39","v":1},{"$f":"+E$24","v":0},{"$f":"C9*1000+1000000*S$40-D9+E9/1000","v":996.99900000000002}]
[6,"Sebas",{"$f":"+AC$38","v":-100000000},{"$f":"+AD$39","v":1},{"$f":"+AD$38","v":0},{"$f":"+AC$39","v":0},{"$f":"+AC$24","v":0},{"$f":"C10*1000+1000000*Y$40-D10+E10/1000","v":-100000000001}]
[7,"Ana B",{"$f":"+Q$38","v":-100000000},{"$f":"+R$39","v":1},{"$f":"+R$38","v":0},{"$f":"+Q$39","v":0},{"$f":"+Q$24","v":0},{"$f":"C11*1000+1000000*AA$40-D11+E11/1000","v":-100000000001}]
[8,"Gemma",{"$f":"+AA$38","v":-100000000},{"$f":"+AB$39","v":1},{"$f":"+AB$38","v":0},{"$f":"+AA$39","v":0},{"$f":"+AA$24","v":0},{"$f":"C12*1000+1000000*AM$40-D12+E12/1000","v":-100000000001}]
[9,"Grau",{"$f":"+AG$38","v":-100000000},{"$f":"+AH$39","v":1},{"$f":"+AH$38","v":0},{"$f":"+AG$39","v":0},{"$f":"+AG$24","v":0},{"$f":"C13*1000+1000000*U$40-D13+E13/1000","v":-100000000001}]
[10,"Jeff",{"$f":"+I$38","v":-100000000},{"$f":"+J$39","v":1},{"$f":"+J$38","v":0},{"$f":"+I$39","v":0},{"$f":"+I$24","v":0},{"$f":"C14*1000+1000000*O$40-D14+E14/1000","v":-100000000001},null,null,null,null,null,null,null,null,null,null,null,null,null,null,null,null,null,null,null,null,null,null,null,null,null,null,null,null,null,null,null,null,null,null,"Càlcul punts segons partida a 4 jugadors",null,null,null,null,null,null,null,null,null,"Máx.","Mitj.","Factor"]
[11,"Jordi",{"$f":"+G$38","v":-100000000},{"$f":"+H$39","v":1},{"$f":"+H$38","v":0},{"$f":"+G$39","v":0},{"$f":"+G$24","v":0},{"$f":"C15*1000+1000000*G$40-D15+E15/1000","v":-100000000001},null,null,null,null,null,null,null,null,null,null,null,null,null,null,null,null,null,null,null,null,null,null,null,null,null,null,null,null,null,null,null,null,null,null,"2020-02-13",12,40,0.75,null,6,{"$f":"13*3/4","v":9.75},1,1,null,{"$f":"((AV15*AW15*AX15+12)*AY15+AR15*AS15)*AT15","v":412.875},{"$f":"+AQ41","v":0.77777777777777779},1]
[12,"Mariajo",{"$f":"+AI$38","v":-100000000},{"$f":"+AJ$39","v":1},{"$f":"+AJ$38","v":0},{"$f":"+AI$39","v":0},{"$f":"+AI$24","v":0},{"$f":"C16*1000+1000000*AI$40-D16+E16/1000","v":-100000000001},null,null,null,null,null,null,null,null,null,null,null,null,null,null,null,null,null,null,null,null,null,null,null,null,null,null,null,null,null,null,null,null,null,null,"1-13/13-1/13x4",30,40,0.75,null,18,{"$f":"13*3/4","v":9.75},2,1,null,{"$f":"(AV16*AW16*AX16*AY16+AR16*AS16)*AT16","v":1163.25},{"$f":"+AQ40/0.4","v":1.875},{"$f":"+BA16/BA15","v":2.8174386920980927}]
[13,"Marina",{"$f":"+S$38","v":-100000000},{"$f":"+T$39","v":1},{"$f":"+T$38","v":0},{"$f":"+S$39","v":0},{"$f":"+S$24","v":0},{"$f":"C17*1000+1000000*C$40-D17+E17/1000","v":-100000000001},null,null,null,null,null,null,null,null,null,null,null,null,null,null,null,null,null,null,null,null,null,null,null,null,null,null,null,null,null,null,null,null,null,null,"13*4",4,40,0.75,null,4,{"$f":"13*3/4","v":9.75},2,1,null,{"$f":"(AV17*AW17*AX17*AY17+AR17*AS17)*AT17","v":178.5},{"$f":"+AQ37/2.5","v":0},{"$f":"+BA17/BA15","v":0.43233424159854678}]
[14,"Nogué",{"$f":"+AE$38","v":-100000000},{"$f":"+AF$39","v":1},{"$f":"+AF$38","v":0},{"$f":"+AE$39","v":0},{"$f":"+AE$24","v":0},{"$f":"C18*1000+1000000*AC$40-D18+E18/1000","v":-100000000001}]
[15,"úria",{"$f":"+W$38","v":-100000000},{"$f":"+X$39","v":1},{"$f":"+X$38","v":0},{"$f":"+W$39","v":0},{"$f":"+W$24","v":0},{"$f":"C19*1000+1000000*AK$40-D19+E19/1000","v":-100000000001}]
[16,"Rosa M",{"$f":"+C$38","v":-100000000},{"$f":"+D$39","v":1},{"$f":"+D$38","v":0},{"$f":"+C$39","v":0},{"$f":"+C$24","v":0},{"$f":"C20*1000+1000000*M$40-D20+E20/1000","v":-100000000001}]
[17,"Sergi",{"$f":"+M$38","v":-100000000},{"$f":"+N$39","v":1},{"$f":"+N$38","v":0},{"$f":"+M$39","v":0},{"$f":"+M$24","v":0},{"$f":"C21*1000+1000000*AG$40-D21+E21/1000","v":-100000000001}]
[]
[null,null,null,null,null,null,null,null,null,null,null,null,null,null,null,null,null,null,null,null,null,null,null,null,null,null,null,null,null,null,null,null,null,null,null,null,null,null,null,null,null,null,null,0.4,{"$f":"1/AR23","v":2.5}]
[null,"General",{"$f":"+C25*C26","v":0},{"$f":"+D25*D26","v":0},0,0,0,0,0,0,0,0,0,0,0,0,0,0,0,0,0,0,0,0,0,0,0,0,0,0,0,0,0,0,0,0,null,null,null,null,null,null,null,null,{"$error":"#DIV/0!"}]
[null,null,{"$f":"IF($B37>3,1,0)","v":0},{"$f":"IF($B37>3,1,0)","v":0},0,0,0,0,0,0,0,0,0,0,0,0,0,0,0,0,0,0,0,0,0,0,0,0,0,0,0,0,0,0,0,0,null,null,null,null,null,null,null,null,{"$error":"#DIV/0!"}]
[null,null,{"$f":"MAX(C27:C31)","v":0},{"$f":"+D38","v":0},{"$f":"MAX(E27:E31)","v":0},{"$f":"+F38","v":-1},{"$f":"MAX(G27:G31)","v":0},{"$f":"+H38","v":0},{"$f":"MAX(I27:I31)","v":0},{"$f":"+J38","v":0},{"$f":"MAX(K27:K31)","v":0},{"$f":"+L38","v":-1},{"$f":"MAX(M27:M31)","v":0},{"$f":"+N38","v":0},{"$f":"MAX(O27:O31)","v":0},{"$f":"+P38","v":0},{"$f":"MAX(Q27:Q31)","v":0},{"$f":"+R38","v":0},{"$f":"MAX(S27:S31)","v":0},{"$f":"+T38","v":0},{"$f":"MAX(U27:U31)","v":0},{"$f":"+V38","v":-2},{"$f":"MAX(W27:W31)","v":0},{"$f":"+X38","v":0},{"$f":"MAX(Y27:Y31)","v":0},{"$f":"+Z38","v":4},{"$f":"MAX(AA27:AA31)","v":0},{"$f":"+AB38","v":0},{"$f":"MAX(AC27:AC31)","v":0},{"$f":"+AD38","v":0},{"$f":"MAX(AE27:AE31)","v":0},{"$f":"+AF38","v":0},{"$f":"MAX(AG27:AG31)","v":0},{"$f":"+AH38","v":0},{"$f":"MAX(AI27:AI31)","v":0},{"$f":"+AJ38","v":0},null,null,null,null,null,null,null,null,{"$error":"#DIV/0!"}]
[null,null,{"$f":"IF(C$32=5,5,0)","v":0},null,{"$f":"IF(E$32=5,5,0)","v":0},null,{"$f":"IF(G$32=5,5,0)","v":0},null,{"$f":"IF(I$32=5,5,0)","v":0},null,{"$f":"IF(K$32=5,5,0)","v":0},null,{"$f":"IF(M$32=5,5,0)","v":0},null,{"$f":"IF(O$32=5,5,0)","v":0},null,{"$f":"IF(Q$32=5,5,0)","v":0},null,{"$f":"IF(S$32=5,5,0)","v":0},null,{"$f":"IF(U$32=5,5,0)","v":0},null,{"$f":"IF(W$32=5,5,0)","v":0},null,{"$f":"IF(Y$32=5,5,0)","v":0},null,{"$f":"IF(AA$32=5,5,0)","v":0},null,{"$f":"IF(AC$32=5,5,0)","v":0},null,{"$f":"IF(AE$32=5,5,0)","v":0},null,{"$f":"IF(AG$32=5,5,0)","v":0},null,{"$f":"IF(AI$32=5,5,0)","v":0},null,null,null,null,null,null,null,null,null,{"$error":"#DIV/0!"}]
[null,null,{"$f":"IF(C$32=4,10,0)","v":0},null,{"$f":"IF(E$32=4,10,0)","v":0},null,{"$f":"IF(G$32=4,10,0)","v":0},null,{"$f":"IF(I$32=4,10,0)","v":0},null,{"$f":"IF(K$32=4,10,0)","v":0},null,{"$f":"IF(M$32=4,10,0)","v":0},null,{"$f":"IF(O$32=4,10,0)","v":0},null,{"$f":"IF(Q$32=4,10,0)","v":0},null,{"$f":"IF(S$32=4,10,0)","v":0},null,{"$f":"IF(U$32=4,10,0)","v":0},null,{"$f":"IF(W$32=4,10,0)","v":0},null,{"$f":"IF(Y$32=4,10,0)","v":0},null,{"$f":"IF(AA$32=4,10,0)","v":0},null,{"$f":"IF(AC$32=4,10,0)","v":0},null,{"$f":"IF(AE$32=4,10,0)","v":0},null,{"$f":"IF(AG$32=4,10,0)","v":0},null,{"$f":"IF(AI$32=4,10,0)","v":0},null,null,null,null,null,null,null,null,null,{"$error":"#DIV/0!"}]
[null,null,{"$f":"IF(C$32=3,20,0)","v":0},null,{"$f":"IF(E$32=3,20,0)","v":0},null,{"$f":"IF(G$32=3,20,0)","v":0},null,{"$f":"IF(I$32=3,20,0)","v":0},null,{"$f":"IF(K$32=3,20,0)","v":0},null,{"$f":"IF(M$32=3,20,0)","v":0},null,{"$f":"IF(O$32=3,20,0)","v":0},null,{"$f":"IF(Q$32=3,20,0)","v":0},null,{"$f":"IF(S$32=3,20,0)","v":0},null,{"$f":"IF(U$32=3,20,0)","v":0},null,{"$f":"IF(W$32=3,20,0)","v":0},null,{"$f":"IF(Y$32=3,20,0)","v":0},null,{"$f":"IF(AA$32=3,20,0)","v":0},null,{"$f":"IF(AC$32=3,20,0)","v":0},null,{"$f":"IF(AE$32=3,20,0)","v":0},null,{"$f":"IF(AG$32=3,20,0)","v":0},null,{"$f":"IF(AI$32=3,20,0)","v":0},null,null,null,null,null,null,null,null,null,{"$error":"#DIV/0!"}]
[null,null,{"$f":"IF(C$32=2,40,0)","v":0},null,{"$f":"IF(E$32=2,40,0)","v":0},null,{"$f":"IF(G$32=2,40,0)","v":0},null,{"$f":"IF(I$32=2,40,0)","v":0},null,{"$f":"IF(K$32=2,40,0)","v":0},null,{"$f":"IF(M$32=2,40,0)","v":0},null,{"$f":"IF(O$32=2,40,0)","v":0},null,{"$f":"IF(Q$32=2,40,0)","v":0},null,{"$f":"IF(S$32=2,40,0)","v":0},null,{"$f":"IF(U$32=2,40,0)","v":0},null,{"$f":"IF(W$32=2,40,0)","v":0},null,{"$f":"IF(Y$32=2,40,0)","v":0},null,{"$f":"IF(AA$32=2,40,0)","v":0},null,{"$f":"IF(AC$32=2,40,0)","v":0},null,{"$f":"IF(AE$32=2,40,0)","v":0},null,{"$f":"IF(AG$32=2,40,0)","v":0},null,{"$f":"IF(AI$32=2,40,0)","v":0},null,null,null,null,null,null,null,null,null,{"$error":"#DIV/0!"}]
[null,null,{"$f":"IF(C$32=1,80,0)","v":0},null,{"$f":"IF(E$32=1,80,0)","v":0},null,{"$f":"IF(G$32=1,80,0)","v":0},null,{"$f":"IF(I$32=1,80,0)","v":0},null,{"$f":"IF(K$32=1,80,0)","v":0},null,{"$f":"IF(M$32=1,80,0)","v":0},null,{"$f":"IF(O$32=1,80,0)","v":0},null,{"$f":"IF(Q$32=1,80,0)","v":0},null,{"$f":"IF(S$32=1,80,0)","v":0},null,{"$f":"IF(U$32=1,80,0)","v":0},null,{"$f":"IF(W$32=1,80,0)","v":0},null,{"$f":"IF(Y$32=1,80,0)","v":0},null,{"$f":"IF(AA$32=1,80,0)","v":0},null,{"$f":"IF(AC$32=1,80,0)","v":0},null,{"$f":"IF(AE$32=1,80,0)","v":0},null,{"$f":"IF(AG$32=1,80,0)","v":0},null,{"$f":"IF(AI$32=1,80,0)","v":0},null,null,null,null,null,null,null,null,null,{"$error":"#DIV/0!"}]
[null,null,{"$f":"RANK(C33,$C33:$AJ33)*C37","v":0},null,{"$f":"RANK(E33,$C33:$AJ33)*E37","v":0},null,{"$f":"RANK(G33,$C33:$AJ33)*G37","v":0},null,{"$f":"RANK(I33,$C33:$AJ33)*I37","v":0},null,{"$f":"RANK(K33,$C33:$AJ33)*K37","v":0},null,{"$f":"RANK(M33,$C33:$AJ33)*M37","v":0},null,{"$f":"RANK(O33,$C33:$AJ33)*O37","v":0},null,{"$f":"RANK(Q33,$C33:$AJ33)*Q37","v":0},null,{"$f":"RANK(S33,$C33:$AJ33)*S37","v":0},null,{"$f":"RANK(U33,$C33:$AJ33)*U37","v":0},null,{"$f":"RANK(W33,$C33:$AJ33)*W37","v":0},null,{"$f":"RANK(Y33,$C33:$AJ33)*Y37","v":0},null,{"$f":"RANK(AA33,$C33:$AJ33)*AA37","v":0},null,{"$f":"RANK(AC33,$C33:$AJ33)*AC37","v":0},null,{"$f":"RANK(AE33,$C33:$AJ33)*AE37","v":0},null,{"$f":"RANK(AG33,$C33:$AJ33)*AG37","v":0},null,{"$f":"RANK(AI33,$C33:$AJ33)*AI37","v":0},null,null,null,null,null,null,null,null,null,{"$error":"#DIV/0!"}]
[null,null,{"$f":"SUM(C34:C36)","v":-100999900},null,{"$f":"SUM(E34:E36)","v":-999700},null,{"$f":"SUM(G34:G36)","v":-100999900},null,{"$f":"SUM(I34:I36)","v":-100999900},null,{"$f":"SUM(K34:K36)","v":-999700},null,{"$f":"SUM(M34:M36)","v":-100999900},null,{"$f":"SUM(O34:O36)","v":-999598},null,{"$f":"SUM(Q34:Q36)","v":-100999900},null,{"$f":"SUM(S34:S36)","v":-100999900},null,{"$f":"SUM(U34:U36)","v":-999600.5},null,{"$f":"SUM(W34:W36)","v":-100999900},null,{"$f":"SUM(Y34:Y36)","v":-999592.5},null,{"$f":"SUM(AA34:AA36)","v":-100999900},null,{"$f":"SUM(AC34:AC36)","v":-100999900},null,{"$f":"SUM(AE34:AE36)","v":-100999900},null,{"$f":"SUM(AG34:AG36)","v":-100999900},null,{"$f":"SUM(AI34:AI36)","v":-100999900},null,null,null,null,null,null,null,null,null,{"$error":"#DIV/0!"}]
[null,null,{"$f":"+D38","v":0},null,{"$f":"+F38","v":-1},null,{"$f":"+H38","v":0},null,{"$f":"+J38","v":0},null,{"$f":"+L38","v":-1},null,{"$f":"+N38","v":0},null,{"$f":"+P38","v":0},null,{"$f":"+R38","v":0},null,{"$f":"+T38","v":0},null,{"$f":"+V38","v":-2},null,{"$f":"+X38","v":0},null,{"$f":"+Z38","v":4},null,{"$f":"+AB38","v":0},null,{"$f":"+AD38","v":0},null,{"$f":"+AF38","v":0},null,{"$f":"+AH38","v":0},null,{"$f":"+AJ38","v":0},null,null,null,null,null,null,null,null,null,{"$error":"#DIV/0!"}]
[null,null,{"$f":"+D39*100","v":100},null,{"$f":"+F39*100","v":300},null,{"$f":"+H39*100","v":100},null,{"$f":"+J39*100","v":100},null,{"$f":"+L39*100","v":300},null,{"$f":"+N39*100","v":100},null,{"$f":"+P39*100","v":400},null,{"$f":"+R39*100","v":100},null,{"$f":"+T39*100","v":100},null,{"$f":"+V39*100","v":400},null,{"$f":"+X39*100","v":100},null,{"$f":"+Z39*100","v":400},null,{"$f":"+AB39*100","v":100},null,{"$f":"+AD39*100","v":100},null,{"$f":"+AF39*100","v":100},null,{"$f":"+AH39*100","v":100},null,{"$f":"+AJ39*100","v":100},null,null,null,null,null,null,null,null,null,{"$error":"#DIV/0!"}]
[null,null,{"$f":"IF(C37=1,C38*C37*10000+C38,-1000000+C38)","v":-101000000},null,{"$f":"IF(E37=1,E38*E37*10000+E38,-1000000+E38)","v":-999999},null,{"$f":"IF(G37=1,G38*G37*10000+G38,-1000000+G38)","v":-101000000},null,{"$f":"IF(I37=1,I38*I37*10000+I38,-1000000+I38)","v":-101000000},null,{"$f":"IF(K37=1,K38*K37*10000+K38,-1000000+K38)","v":-999999},null,{"$f":"IF(M37=1,M38*M37*10000+M38,-1000000+M38)","v":-101000000},null,{"$f":"IF(O37=1,O38*O37*10000+O38,-1000000+O38)","v":-999998},null,{"$f":"IF(Q37=1,Q38*Q37*10000+Q38,-1000000+Q38)","v":-101000000},null,{"$f":"IF(S37=1,S38*S37*10000+S38,-1000000+S38)","v":-101000000},null,{"$f":"IF(U37=1,U38*U37*10000+U38,-1000000+U38)","v":-999998.5},null,{"$f":"IF(W37=1,W38*W37*10000+W38,-1000000+W38)","v":-101000000},null,{"$f":"IF(Y37=1,Y38*Y37*10000+Y38,-1000000+Y38)","v":-999996.5},null,{"$f":"IF(AA37=1,AA38*AA37*10000+AA38,-1000000+AA38)","v":-101000000},null,{"$f":"IF(AC37=1,AC38*AC37*10000+AC38,-1000000+AC38)","v":-101000000},null,{"$f":"IF(AE37=1,AE38*AE37*10000+AE38,-1000000+AE38)","v":-101000000},null,{"$f":"IF(AG37=1,AG38*AG37*10000+AG38,-1000000+AG38)","v":-101000000},null,{"$f":"IF(AI37=1,AI38*AI37*10000+AI38,-1000000+AI38)","v":-101000000},null,null,null,null,null,null,null,null,null,{"$error":"#DIV/0!"}]
["Classificats",{"$f":"SUM(C37:AI37)","v":0},{"$f":"IF(C39>=$A3/2,1,0)","v":0},null,{"$f":"IF(E39>=$A3/2,1,0)","v":0},null,{"$f":"IF(G39>=$A3/2,1,0)","v":0},null,{"$f":"IF(I39>=$A3/2,1,0)","v":0},null,{"$f":"IF(K39>=$A3/2,1,0)","v":0},null,{"$f":"IF(M39>=$A3/2,1,0)","v":0},null,{"$f":"IF(O39>=$A3/2,1,0)","v":0},null,{"$f":"IF(Q39>=$A3/2,1,0)","v":0},null,{"$f":"IF(S39>=$A3/2,1,0)","v":0},null,{"$f":"IF(U39>=$A3/2,1,0)","v":0},null,{"$f":"IF(W39>=$A3/2,1,0)","v":0},null,{"$f":"IF(Y39>=$A3/2,1,0)","v":0},null,{"$f":"IF(AA39>=$A3/2,1,0)","v":0},null,{"$f":"IF(AC39>=$A3/2,1,0)","v":0},null,{"$f":"IF(AE39>=$A3/2,1,0)","v":0},null,{"$f":"IF(AG39>=$A3/2,1,0)","v":0},null,{"$f":"IF(AI39>=$A3/2,1,0)","v":0},null,{"$f":"MAX(AL43:AL99)","v":99},null,null,null,null,null,{"$f":"AVERAGE(AQ47:AQ48)","v":0},{"$f":"+AQ37/AQ41","v":0},{"$f":"1/AR37","v":{"$error":"#DIV/0!"}}]
[null,null,{"$f":"IF(SUM(C43:C300)<-1000,-100000000,SUM(C43:C300))","v":-100000000},{"$f":"+D43+D45+D47+D49+D51+D53+D55+D57+D59+D61+D63+D65+D67+D69+D71+D73+D75+D77+D79+D81+D83+D85+D87-D88-D86-D84-D82-D80-D76-D74-D72-D70-D68-D66-D64-D58-D56-D54-D52-D50-D48-D46-D44-D60-D62-D78","v":0},{"$f":"IF(SUM(E43:E300)<-1000,-100000000,SUM(E43:E300))","v":1},{"$f":"+F43+F45+F47+F49+F51+F53+F55+F57+F59+F61+F63+F65+F67+F69+F71+F73+F75+F77+F79+F81+F83+F85+F87-F88-F86-F84-F82-F80-F76-F74-F72-F70-F68-F66-F64-F58-F56-F54-F52-F50-F48-F46-F44-F60-F62-F78","v":-1},{"$f":"IF(SUM(G43:G300)<-1000,-100000000,SUM(G43:G300))","v":-100000000},{"$f":"+H43+H45+H47+H49+H51+H53+H55+H57+H59+H61+H63+H65+H67+H69+H71+H73+H75+H77+H79+H81+H83+H85+H87-H88-H86-H84-H82-H80-H76-H74-H72-H70-H68-H66-H64-H58-H56-H54-H52-H50-H48-H46-H44-H60-H62-H78","v":0},{"$f":"IF(SUM(I43:I300)<-1000,-100000000,SUM(I43:I300))","v":-100000000},{"$f":"+J43+J45+J47+J49+J51+J53+J55+J57+J59+J61+J63+J65+J67+J69+J71+J73+J75+J77+J79+J81+J83+J85+J87-J88-J86-J84-J82-J80-J76-J74-J72-J70-J68-J66-J64-J58-J56-J54-J52-J50-J48-J46-J44-J60-J62-J78","v":0},{"$f":"IF(SUM(K43:K300)<-1000,-100000000,SUM(K43:K300))","v":1},{"$f":"+L43+L45+L47+L49+L51+L53+L55+L57+L59+L61+L63+L65+L67+L69+L71+L73+L75+L77+L79+L81+L83+L85+L87-L88-L86-L84-L82-L80-L76-L74-L72-L70-L68-L66-L64-L58-L56-L54-L52-L50-L48-L46-L44-L60-L62-L78","v":-1},{"$f":"IF(SUM(M43:M300)<-1000,-100000000,SUM(M43:M300))","v":-100000000},{"$f":"+N43+N45+N47+N49+N51+N53+N55+N57+N59+N61+N63+N65+N67+N69+N71+N73+N75+N77+N79+N81+N83+N85+N87-N88-N86-N84-N82-N80-N76-N74-N72-N70-N68-N66-N64-N58-N56-N54-N52-N50-N48-N46-N44-N60-N62-N78","v":0},{"$f":"IF(SUM(O43:O300)<-1000,-100000000,SUM(O43:O300))","v":2},{"$f":"+P43+P45+P47+P49+P51+P53+P55+P57+P59+P61+P63+P65+P67+P69+P71+P73+P75+P77+P79+P81+P83+P85+P87-P88-P86-P84-P82-P80-P76-P74-P72-P70-P68-P66-P64-P58-P56-P54-P52-P50-P48-P46-P44-P60-P62-P78","v":0},{"$f":"IF(SUM(Q43:Q300)<-1000,-100000000,SUM(Q43:Q300))","v":-100000000},{"$f":"+R43+R45+R47+R49+R51+R53+R55+R57+R59+R61+R63+R65+R67+R69+R71+R73+R75+R77+R79+R81+R83+R85+R87-R88-R86-R84-R82-R80-R76-R74-R72-R70-R68-R66-R64-R58-R56-R54-R52-R50-R48-R46-R44-R60-R62-R78","v":0},{"$f":"IF(SUM(S43:S300)<-1000,-100000000,SUM(S43:S300))","v":-100000000},{"$f":"+T43+T45+T47+T49+T51+T53+T55+T57+T59+T61+T63+T65+T67+T69+T71+T73+T75+T77+T79+T81+T83+T85+T87-T88-T86-T84-T82-T80-T76-T74-T72-T70-T68-T66-T64-T58-T56-T54-T52-T50-T48-T46-T44-T60-T62-T78","v":0},{"$f":"IF(SUM(U43:U300)<-1000,-100000000,SUM(U43:U300))","v":1.5},{"$f":"+V43+V45+V47+V49+V51+V53+V55+V57+V59+V61+V63+V65+V67+V69+V71+V73+V75+V77+V79+V81+V83+V85+V87-V88-V86-V84-V82-V80-V76-V74-V72-V70-V68-V66-V64-V58-V56-V54-V52-V50-V48-V46-V44-V60-V62-V78","v":-2},{"$f":"IF(SUM(W43:W300)<-1000,-100000000,SUM(W43:W300))","v":-100000000},{"$f":"+X43+X45+X47+X49+X51+X53+X55+X57+X59+X61+X63+X65+X67+X69+X71+X73+X75+X77+X79+X81+X83+X85+X87-X88-X86-X84-X82-X80-X76-X74-X72-X70-X68-X66-X64-X58-X56-X54-X52-X50-X48-X46-X44-X60-X62-X78","v":0},{"$f":"IF(SUM(Y43:Y300)<-1000,-100000000,SUM(Y43:Y300))","v":3.5},{"$f":"+Z43+Z45+Z47+Z49+Z51+Z53+Z55+Z57+Z59+Z61+Z63+Z65+Z67+Z69+Z71+Z73+Z75+Z77+Z79+Z81+Z83+Z85+Z87-Z88-Z86-Z84-Z82-Z80-Z76-Z74-Z72-Z70-Z68-Z66-Z64-Z58-Z56-Z54-Z52-Z50-Z48-Z46-Z44-Z60-Z62-Z78","v":4},{"$f":"IF(SUM(AA43:AA300)<-1000,-100000000,SUM(AA43:AA300))","v":-100000000},{"$f":"+AB43+AB45+AB47+AB49+AB51+AB53+AB55+AB57+AB59+AB61+AB63+AB65+AB67+AB69+AB71+AB73+AB75+AB77+AB79+AB81+AB83+AB85+AB87-AB88-AB86-AB84-AB82-AB80-AB76-AB74-AB72-AB70-AB68-AB66-AB64-AB58-AB56-AB54-AB52-AB50-AB48-AB46-AB44-AB60-AB62-AB78","v":0},{"$f":"IF(SUM(AC43:AC300)<-1000,-100000000,SUM(AC43:AC300))","v":-100000000},{"$f":"+AD43+AD45+AD47+AD49+AD51+AD53+AD55+AD57+AD59+AD61+AD63+AD65+AD67+AD69+AD71+AD73+AD75+AD77+AD79+AD81+AD83+AD85+AD87-AD88-AD86-AD84-AD82-AD80-AD76-AD74-AD72-AD70-AD68-AD66-AD64-AD58-AD56-AD54-AD52-AD50-AD48-AD46-AD44-AD60-AD62-AD78","v":0},{"$f":"IF(SUM(AE43:AE300)<-1000,-100000000,SUM(AE43:AE300))","v":-100000000},{"$f":"+AF43+AF45+AF47+AF49+AF51+AF53+AF55+AF57+AF59+AF61+AF63+AF65+AF67+AF69+AF71+AF73+AF75+AF77+AF79+AF81+AF83+AF85+AF87-AF88-AF86-AF84-AF82-AF80-AF76-AF74-AF72-AF70-AF68-AF66-AF64-AF58-AF56-AF54-AF52-AF50-AF48-AF46-AF44-AF60-AF62-AF78","v":0},{"$f":"IF(SUM(AG43:AG300)<-1000,-100000000,SUM(AG43:AG300))","v":-100000000},{"$f":"+AH43+AH45+AH47+AH49+AH51+AH53+AH55+AH57+AH59+AH61+AH63+AH65+AH67+AH69+AH71+AH73+AH75+AH77+AH79+AH81+AH83+AH85+AH87-AH88-AH86-AH84-AH82-AH80-AH76-AH74-AH72-AH70-AH68-AH66-AH64-AH58-AH56-AH54-AH52-AH50-AH48-AH46-AH44-AH60-AH62-AH78","v":0},{"$f":"IF(SUM(AI43:AI300)<-1000,-100000000,SUM(AI43:AI300))","v":-100000000},{"$f":"+AJ43+AJ45+AJ47+AJ49+AJ51+AJ53+AJ55+AJ57+AJ59+AJ61+AJ63+AJ65+AJ67+AJ69+AJ71+AJ73+AJ75+AJ77+AJ79+AJ81+AJ83+AJ85+AJ87-AJ88-AJ86-AJ84-AJ82-AJ80-AJ76-AJ74-AJ72-AJ70-AJ68-AJ66-AJ64-AJ58-AJ56-AJ54-AJ52-AJ50-AJ48-AJ46-AJ44-AJ60-AJ62-AJ78","v":0},null,null,null,null,null,null,{"$f":"AVERAGE(AQ41:AQ44)","v":0.25925925925925924}]
[null,null,{"$f":"SUM(D43:D300)/3","v":0},{"$f":"COUNT(C43:C88)","v":1},{"$f":"SUM(F43:F300)/3","v":1},{"$f":"COUNT(E43:E88)","v":3},{"$f":"SUM(H43:H300)/3","v":0},{"$f":"COUNT(G43:G88)","v":1},{"$f":"SUM(J43:J300)/3","v":0},{"$f":"COUNT(I43:I88)","v":1},{"$f":"SUM(L43:L300)/3","v":1},{"$f":"COUNT(K43:K88)","v":3},{"$f":"SUM(N43:N300)/3","v":0},{"$f":"COUNT(M43:M88)","v":1},{"$f":"SUM(P43:P300)/3","v":2},{"$f":"COUNT(O43:O88)","v":4},{"$f":"COUNT(R43:R300)/3","v":0},{"$f":"COUNT(Q43:Q88)","v":1},{"$f":"SUM(T43:T300)/3","v":0},{"$f":"COUNT(S43:S88)","v":1},{"$f":"SUM(V43:V300)/3","v":2},{"$f":"COUNT(U43:U88)","v":4},{"$f":"SUM(X43:X300)/3","v":0},{"$f":"COUNT(W43:W88)","v":1},{"$f":"SUM(Z43:Z300)/3","v":2},{"$f":"COUNT(Y43:Y88)","v":4},{"$f":"SUM(AB43:AB300)/3","v":0},{"$f":"COUNT(AA43:AA88)","v":1},{"$f":"SUM(AD43:AD300)/3","v":0},{"$f":"COUNT(AC43:AC88)","v":1},{"$f":"SUM(AF43:AF300)/3","v":0},{"$f":"COUNT(AE43:AE88)","v":1},{"$f":"SUM(AH43:AH300)/3","v":0},{"$f":"COUNT(AG43:AG88)","v":1},{"$f":"SUM(AJ43:AJ300)/3","v":0},{"$f":"COUNT(AI43:AI88)","v":1},null,null,null,null,null,null,{"$f":"AVERAGE(AQ42:AQ45)","v":0.66666666666666663}]
[null,null,null,null,null,null,null,null,null,null,null,null,null,null,null,null,null,null,null,null,null,null,null,null,null,null,null,null,null,null,null,null,null,null,null,null,null,null,null,null,null,null,{"$f":"AVERAGE(AQ43:AQ46)","v":0.75},{"$f":"+AQ40/AQ41","v":0.9642857142857143}]
[null,"Comentaris","Rosa M",null,"Cyber X",null,"Jordi",null,"Jeff",null,"Tito",null,"Sergi",null,"Carles",null,"Ana B",null,"Marina",null,"Nin",null,"Núria",null,"Manolo",null,"Gemma",null,"Sebas",null,"Nogué",null,"Grau",null,"Mariajo",null,{"$f":"COUNT(AK43:AK268)","v":5},"A","B","C",null,{"$f":"SUM(AP43:AP98)","v":0},{"$f":"AVERAGE(AQ49:AQ75)","v":0.77777777777777779}]
[null,null,"Premi","Punts","Premi","Punts","Premi","Punts","Premi","Punts","Premi","Punts","Premi","Punts","Premi","Punts","Premi","Punts","Premi","Punts","Premi","Punts","Premi","Punts","Premi","Punts","Premi","Punts","Premi","Punts","Premi","Punts","Premi","Punts","Premi","Punts","Data","Timbes",null,null,null,"Excés cyber"]
["G","Rosa M",-10000,null,null,null,-10000,null,-10000,null,null,null,-10000,null,null,null,-10000,null,-10000,null,null,null,-10000,null,null,null,-10000,null,-10000,null,-10000,null,-10000,null,-10000,null,"2022-02-04",48,{"$f":"+C43+E43+G43+I43++K43++M43+O43+Q43+S43+U43+W43+Y43+AI43+AA43+AG43+AC43+AE43","v":-120000},{"$f":"COUNT(C43:AJ43)/2","v":6},{"$f":"+AM43/AN43","v":-20000},null,{"$f":"+D43+F43+H43+J43+L43+N43+P43+R43+T43+V43+X43+Z43+AH43+AJ43++AF43+AD43+AB43","v":0}]
["P",null,null,null,null,null,null,null,null,null,null,null,null,null,null,null,null,null,null,null,null,null,null,null,null,null,null,null,null,null,null,null,null,null,null,null,"2022-06-16",70,0,0,{"$error":"#DIV/0!"},null,0]
["G","Cyber X",null,null,null,null,null,null,null,null,null,null,null,null,{"$f":"IF(P45-P46=0,0.5,IF(P45>P46,1,0))","v":1},1,null,null,null,null,{"$f":"IF(V45-V46=0,0.5,IF(V45>V46,1,0))","v":0},null,null,null,{"$f":"IF(Z45-Z46=0,0.5,IF(Z45>Z46,1,0))","v":1},1,null,null,null,null,null,null,null,null,null,null,"2022-06-16",70,2,2.5,0.8,null,2]
["P",null,null,null,null,null,null,null,null,null,null,null,null,null,null,null,null,null,null,null,null,1,null,null,null,null,null,null,null,null,null,null,null,null,null,null,"2022-06-17",71,0,0.5,0,null,1]
["G","Jordi",null,null,null,null,null,null,null,null,null,null,null,null,null,null,null,null,null,null,null,null,null,null,null,null,null,null,null,null,null,null,null,null,null,null,"2022-08-27",99,0,0,{"$error":"#DIV/0!"},null,0]
["P",null,null,null,null,null,null,null,null,null,null,null,null,null,null,null,null,null,null,null,null,null,null,null,null,null,null,null,null,null,null,null,null,null,null,null,null,null,0,0,{"$error":"#DIV/0!"},null,0]
["G","Jeff",null,null,null,null,null,null,null,null,null,null,null,null,null,null,null,null,null,null,null,null,null,null,null,null,null,null,null,null,null,null,null,null,null,null,null,null,0,0,{"$error":"#DIV/0!"},null,0]
["P",null,null,null,null,null,null,null,null,null,null,null,null,null,null,null,null,null,null,null,null,null,null,null,null,null,null,null,null,null,null,null,null,null,null,null,null,null,0,0,{"$error":"#DIV/0!"},null,{"$f":"+D50+F50+H50+J50+L50+N50+P50+R50+T50+V50+X50+Z50+AH50+AJ50++AF50+AD50+AB50","v":0}]
["G","Tito",null,null,null,null,null,null,null,null,null,null,null,null,{"$f":"IF(P51-P52=0,0.5,IF(P51>P52,1,0))","v":0},null,null,null,null,null,{"$f":"IF(V51-V52=0,0.5,IF(V51>V52,1,0))","v":1},1,null,null,{"$f":"IF(Z51-Z52=0,0.5,IF(Z51>Z52,1,0))","v":1},1,null,null,null,null,null,null,null,null,null,null,null,null,2,2.5,0.8,null,{"$f":"+D51+F51+H51+J51+L51+N51+P51+R51+T51+V51+X51+Z51+AH51+AJ51++AF51+AD51+AB51","v":2}]
["P",null,null,null,null,null,null,null,null,null,null,null,null,null,null,1,null,null,null,null,null,null,null,null,null,null,null,null,null,null,null,null,null,null,null,null,null,null,0,0.5,0,null,1]
["G","Sergi",null,null,null,null,null,null,null,null,null,null,null,null,null,null,null,null,null,null,null,null,null,null,null,null,null,null,null,null,null,null,null,null,null,null,null,null,0,0,{"$error":"#DIV/0!"},null,0]
["P",null,null,null,null,null,null,null,null,null,null,null,null,null,null,null,null,null,null,null,null,null,null,null,null,null,null,null,null,null,null,null,null,null,null,null,null,null,0,0,{"$error":"#DIV/0!"},null,0]
["G","Carles",null,null,{"$f":"IF(F55-F56=0,0.5,IF(F55>F56,1,0))","v":0},null,null,null,null,null,{"$f":"IF(L55-L56=0,0.5,IF(L55>L56,1,0))","v":1},1,null,null,null,null,null,null,null,null,{"$f":"IF(V55-V56=0,0.5,IF(V55>V56,1,0))","v":0.5},1,null,null,{"$f":"IF(Z55-Z56=0,0.5,IF(Z55>Z56,1,0))","v":0.5},1,null,null,null,null,null,null,null,null,null,null,null,null,2,3.5,0.5714285714285714,null,3]
["P",null,null,null,null,1,null,null,null,null,null,null,null,null,null,null,null,null,null,null,null,1,null,null,null,1,null,null,null,null,null,null,null,null,null,null,null,null,0,1.5,0,null,3]
["G","Ana B",null,null,null,null,null,null,null,null,null,null,null,null,null,null,null,null,null,null,null,null,null,null,null,null,null,null,null,null,null,null,null,null,null,null,null,null,0,0,{"$error":"#DIV/0!"},null,0]
["P",null,null,null,null,null,null,null,null,null,null,null,null,null,null,null,null,null,null,null,null,null,null,null,null,null,null,null,null,null,null,null,null,null,null,null,null,null,0,0,{"$error":"#DIV/0!"},null,0]
["G","Marina",null,null,null,null,null,null,null,null,null,null,null,null,null,null,null,null,null,null,null,null,null,null,null,null,null,null,null,null,null,null,null,null,null,null,null,null,0,0,{"$error":"#DIV/0!"},null,0]
["P",null,null,null,null,null,null,null,null,null,null,null,null,null,null,null,null,null,null,null,null,null,null,null,null,null,null,null,null,null,null,null,null,null,null,null,null,null,0,0,{"$error":"#DIV/0!"},null,0]
["G","Nin",null,null,{"$f":"IF(F61-F62=0,0.5,IF(F61>F62,1,0))","v":1},1,null,null,null,null,{"$f":"IF(L61-L62=0,0.5,IF(L61>L62,1,0))","v":0},null,null,null,{"$f":"IF(P61-P62=0,0.5,IF(P61>P62,1,0))","v":0.5},1,null,null,null,null,null,null,null,null,{"$f":"IF(Z61-Z62=0,0.5,IF(Z61>Z62,1,0))","v":1},2,null,null,null,null,null,null,null,null,null,null,null,null,2.5,3.5,0.7142857142857143,null,4]
["P",null,null,null,null,null,null,null,null,null,null,1,null,null,null,1,null,null,null,null,null,null,null,null,null,null,null,null,null,null,null,null,null,null,null,null,null,null,0,1,0,null,2]
["G","Núria",null,null,null,null,null,null,null,null,null,null,null,null,null,null,null,null,null,null,null,null,null,null,null,null,null,null,null,null,null,null,null,null,null,null,null,null,0,0,{"$error":"#DIV/0!"},null,0]
["P",null,null,null,null,null,null,null,null,null,null,null,null,null,null,null,null,null,null,null,null,null,null,null,null,null,null,null,null,null,null,null,null,null,null,null,null,null,0,0,{"$error":"#DIV/0!"},null,0]
["G","Manolo",null,null,{"$f":"IF(F65-F66=0,0.5,IF(F65>F66,1,0))","v":0},null,null,null,null,null,{"$f":"IF(L65-L66=0,0.5,IF(L65>L66,1,0))","v":0},null,null,null,{"$f":"IF(P65-P66=0,0.5,IF(P65>P66,1,0))","v":0.5},1,null,null,null,null,{"$f":"IF(V65-V66=0,0.5,IF(V65>V66,1,0))","v":0},null,null,null,null,null,null,null,null,null,null,null,null,null,null,null,null,null,0.5,2.5,0.2,null,1]
["P",null,null,null,null,1,null,null,null,null,null,1,null,null,null,1,null,null,null,null,null,2,null,null,null,null,null,null,null,null,null,null,null,null,null,null,null,null,0,2,0,null,5]
["G","Gemma",null,null,null,null,null,null,null,null,null,null,null,null,null,null,null,null,null,null,null,null,null,null,null,null,null,null,null,null,null,null,null,null,null,null,null,null,0,0,{"$error":"#DIV/0!"},null,0]
["P",null,null,null,null,null,null,null,null,null,null,null,null,null,null,null,null,null,null,null,null,null,null,null,null,null,null,null,null,null,null,null,null,null,null,null,null,null,0,0,{"$error":"#DIV/0!"},null,0]
["G","Sebas",null,null,null,null,null,null,null,null,null,null,null,null,null,null,null,null,null,null,null,null,null,null,null,null,null,null,null,null,null,null,null,null,null,null,null,null,0,0,{"$error":"#DIV/0!"},null,0]
["P",null,null,null,null,null,null,null,null,null,null,null,null,null,null,null,null,null,null,null,null,null,null,null,null,null,null,null,null,null,null,null,null,null,null,null,null,null,0,0,{"$error":"#DIV/0!"},null,0]
["G","Nogué",null,null,null,null,null,null,null,null,null,null,null,null,null,null,null,null,null,null,null,null,null,null,null,null,null,null,null,null,null,null,null,null,null,null,null,null,0,0,{"$error":"#DIV/0!"},null,0]
["P",null,null,null,null,null,null,null,null,null,null,null,null,null,null,null,null,null,null,null,null,null,null,null,null,null,null,null,null,null,null,null,null,null,null,null,null,null,0,0,{"$error":"#DIV/0!"},null,0]
["G","Grau",null,null,null,null,null,null,null,null,null,null,null,null,null,null,null,null,null,null,null,null,null,null,null,null,null,null,null,null,null,null,null,null,null,null,null,null,0,0,{"$error":"#DIV/0!"},null,0]
["P",null,null,null,null,null,null,null,null,null,null,null,null,null,null,null,null,null,null,null,null,null,null,null,null,null,null,null,null,null,null,null,null,null,null,null,null,null,0,0,{"$error":"#DIV/0!"},null,0]
["G","Mariajo",null,null,null,null,null,null,null,null,null,null,null,null,null,null,null,null,null,null,null,null,null,null,null,null,null,null,null,null,null,null,null,null,null,null,null,null,0,0,{"$error":"#DIV/0!"},null,0]
["P",null,null,null,null,null,null,null,null,null,null,null,null,null,null,null,null,null,null,null,null,null,null,null,null,null,null,null,null,null,null,null,null,null,null,null,null,null,0,0,{"$error":"#DIV/0!"},null,0]
["G","Núria",null,null,null,null,null,null,null,null,null,null,null,null,null,null,null,null,null,null,null,null,null,null,null,null,null,null,null,null,null,null,null,null,null,null,null,null,0,0,{"$error":"#DIV/0!"},null,0]
["P",null,null,null,null,null,null,null,null,null,null,null,null,null,null,null,null,null,null,null,null,null,null,null,null,null,null,null,null,null,null,null,null,null,null,null,null,null,0,0,{"$error":"#DIV/0!"},null,0]
["G","Mariajo",null,null,null,null,null,null,null,null,null,null,null,null,null,null,null,null,null,null,null,null,null,null,null,null,null,null,null,null,null,null,null,null,null,null,null,null,0,0,{"$error":"#DIV/0!"},null,0]
["P",null,null,null,null,null,null,null,null,null,null,null,null,null,null,null,null,null,null,null,null,null,null,null,null,null,null,null,null,null,null,null,null,null,null,null,null,null,0,0,{"$error":"#DIV/0!"},null,0]
["G",null,null,null,null,null,null,null,null,null,null,null,null,null,null,null,null,null,null,null,null,null,null,null,null,null,null,null,null,null,null,null,null,null,null,null,null,null,0,0,{"$error":"#DIV/0!"},null,0]
["P",null,null,null,null,null,null,null,null,null,null,null,null,null,null,null,null,null,null,null,null,null,null,null,null,null,null,null,null,null,null,null,null,null,null,null,null,null,0,0,{"$error":"#DIV/0!"},null,0]
["G",null,null,null,null,null,null,null,null,null,null,null,null,null,null,null,null,null,null,null,null,null,null,null,null,null,null,null,null,null,null,null,null,null,null,null,null,null,0,0,{"$error":"#DIV/0!"},null,0]
["P",null,null,null,null,null,null,null,null,null,null,null,null,null,null,null,null,null,null,null,null,null,null,null,null,null,null,null,null,null,null,null,null,null,null,null,null,null,0,0,{"$error":"#DIV/0!"},null,0]
["G",null,null,null,null,null,null,null,null,null,null,null,null,null,null,null,null,null,null,null,null,null,null,null,null,null,null,null,null,null,null,null,null,null,null,null,null,null,0,0,{"$error":"#DIV/0!"},null,0]
["P",null,null,null,null,null,null,null,null,null,null,null,null,null,null,null,null,null,null,null,null,null,null,null,null,null,null,null,null,null,null,null,null,null,null,null,null,null,0,0,{"$error":"#DIV/0!"},null,0]
["G",null,null,null,null,null,null,null,null,null,null,null,null,null,null,null,null,null,null,null,null,null,null,null,null,null,null,null,null,null,null,null,null,null,null,null,null,null,0,0,{"$error":"#DIV/0!"},null,0]
["P",null,null,null,null,null,null,null,null,null,null,null,null,null,null,null,null,null,null,null,null,null,null,null,null,null,null,null,null,null,null,null,null,null,null,null,null,null,0,0,{"$error":"#DIV/0!"},null,0]
[{"$f":"+A88+1","v":{"$error":"#VALUE!"}},null,null,null,null,null,null,null,null,null,null,null,null,null,null,null,null,null,null,null,null,null,null,null,null,null,null,null,null,null,null,null,null,null,null,null,null,null,0,0,{"$error":"#DIV/0!"},null,0]
[{"$error":"#VALUE!"},null,null,null,null,null,null,null,null,null,null,null,null,null,null,null,null,null,null,null,null,null,null,null,null,null,null,null,null,null,null,null,null,null,null,null,null,null,0,0,{"$error":"#DIV/0!"},null,0]
[{"$error":"#VALUE!"},null,null,null,null,null,null,null,null,null,null,null,null,null,null,null,null,null,null,null,null,null,null,null,null,null,null,null,null,null,null,null,null,null,null,null,null,null,0,0,{"$error":"#DIV/0!"},null,0]
[{"$error":"#VALUE!"},null,null,null,null,null,null,null,null,null,null,null,null,null,null,null,null,null,null,null,null,null,null,null,null,null,null,null,null,null,null,null,null,null,null,null,null,null,0,0,{"$error":"#DIV/0!"},null,0]
[{"$error":"#VALUE!"},null,null,null,null,null,null,null,null,null,null,null,null,null,null,null,null,null,null,null,null,null,null,null,null,null,null,null,null,null,null,null,null,null,null,null,null,null,0,0,{"$error":"#DIV/0!"},null,0]
[{"$error":"#VALUE!"},null,null,null,null,null,null,null,null,null,null,null,null,null,null,null,null,null,null,null,null,null,null,null,null,null,null,null,null,null,null,null,null,null,null,null,null,null,0,0,{"$error":"#DIV/0!"},null,0]
[{"$error":"#VALUE!"},null,null,null,null,null,null,null,null,null,null,null,null,null,null,null,null,null,null,null,null,null,null,null,null,null,null,null,null,null,null,null,null,null,null,null,null,null,0,0,{"$error":"#DIV/0!"},null,0]
[{"$error":"#VALUE!"},null,null,null,null,null,null,null,null,null,null,null,null,null,null,null,null,null,null,null,null,null,null,null,null,null,null,null,null,null,null,null,null,null,null,null,null,null,0,0,{"$error":"#DIV/0!"},null,0]
[{"$error":"#VALUE!"},null,null,null,null,null,null,null,null,null,null,null,null,null,null,null,null,null,null,null,null,null,null,null,null,null,null,null,null,null,null,null,null,null,null,null,null,null,0,0,{"$error":"#DIV/0!"},null,0]
[{"$error":"#VALUE!"},null,null,null,null,null,null,null,null,null,null,null,null,null,null,null,null,null,null,null,null,null,null,null,null,null,null,null,null,null,null,null,null,null,null,null,null,null,0,0,{"$error":"#DIV/0!"},null,0]
[{"$error":"#VALUE!"},null,null,null,null,null,null,null,null,null,null,null,null,null,null,null,null,null,null,null,null,null,null,null,null,null,null,null,null,null,null,null,null,null,null,null,null,null,0,0,{"$error":"#DIV/0!"},null,0]
[{"$error":"#VALUE!"},null,null,null,null,null,null,null,null,null,null,null,null,null,null,null,null,null,null,null,null,null,null,null,null,null,null,null,null,null,null,null,null,null,null,null,null,null,0,0,{"$error":"#DIV/0!"},null,0]
[{"$error":"#VALUE!"},null,null,null,null,null,null,null,null,null,null,null,null,null,null,null,null,null,null,null,null,null,null,null,null,null,null,null,null,null,null,null,null,null,null,null,null,null,0,0,{"$error":"#DIV/0!"},null,0]
[{"$error":"#VALUE!"},null,null,null,null,null,null,null,null,null,null,null,null,null,null,null,null,null,null,null,null,null,null,null,null,null,null,null,null,null,null,null,null,null,null,null,null,null,0,0,{"$error":"#DIV/0!"},null,0]
[{"$error":"#VALUE!"},null,null,null,null,null,null,null,null,null,null,null,null,null,null,null,null,null,null,null,null,null,null,null,null,null,null,null,null,null,null,null,null,null,null,null,null,null,0,0,{"$error":"#DIV/0!"},null,0]
[{"$error":"#VALUE!"},null,null,null,null,null,null,null,null,null,null,null,null,null,null,null,null,null,null,null,null,null,null,null,null,null,null,null,null,null,null,null,null,null,null,null,null,null,0,0,{"$error":"#DIV/0!"},null,0]
[{"$error":"#VALUE!"},null,null,null,null,null,null,null,null,null,null,null,null,null,null,null,null,null,null,null,null,null,null,null,null,null,null,null,null,null,null,null,null,null,null,null,null,null,0,0,{"$error":"#DIV/0!"},null,0]
[{"$error":"#VALUE!"},null,null,null,null,null,null,null,null,null,null,null,null,null,null,null,null,null,null,null,null,null,null,null,null,null,null,null,null,null,null,null,null,null,null,null,null,null,0,0,{"$error":"#DIV/0!"},null,0]
[{"$error":"#VALUE!"},null,null,null,null,null,null,null,null,null,null,null,null,null,null,null,null,null,null,null,null,null,null,null,null,null,null,null,null,null,null,null,null,null,null,null,null,null,{"$f":"+C107+E107+G107+I107++K107++M107+O107+Q107+S107+U107+W107+Y107+AI107+AA107+AG107+AC107+AE107","v":0},{"$f":"COUNT(C107:AJ107)/2","v":0},{"$f":"+AM107/AN107","v":{"$error":"#DIV/0!"}},null,0]
[{"$error":"#VALUE!"},null,null,null,null,null,null,null,null,null,null,null,null,null,null,null,null,null,null,null,null,null,null,null,null,null,null,null,null,null,null,null,null,null,null,null,null,null,0,0,{"$error":"#DIV/0!"},null,0]
[{"$error":"#VALUE!"},null,null,null,null,null,null,null,null,null,null,null,null,null,null,null,null,null,null,null,null,null,null,null,null,null,null,null,null,null,null,null,null,null,null,null,null,null,0,0,{"$error":"#DIV/0!"},null,0]
[{"$error":"#VALUE!"},null,null,null,null,null,null,null,null,null,null,null,null,null,null,null,null,null,null,null,null,null,null,null,null,null,null,null,null,null,null,null,null,null,null,null,null,null,0,0,{"$error":"#DIV/0!"},null,0]
[{"$error":"#VALUE!"},null,null,null,null,null,null,null,null,null,null,null,null,null,null,null,null,null,null,null,null,null,null,null,null,null,null,null,null,null,null,null,null,null,null,null,null,null,0,0,{"$error":"#DIV/0!"},null,0]
[{"$error":"#VALUE!"},null,null,null,null,null,null,null,null,null,null,null,null,null,null,null,null,null,null,null,null,null,null,null,null,null,null,null,null,null,null,null,null,null,null,null,null,null,0,0,{"$error":"#DIV/0!"},null,0]
[{"$error":"#VALUE!"},null,null,null,null,null,null,null,null,null,null,null,null,null,null,null,null,null,null,null,null,null,null,null,null,null,null,null,null,null,null,null,null,null,null,null,null,null,0,0,{"$error":"#DIV/0!"},null,0]
[{"$error":"#VALUE!"},null,null,null,null,null,null,null,null,null,null,null,null,null,null,null,null,null,null,null,null,null,null,null,null,null,null,null,null,null,null,null,null,null,null,null,null,null,0,0,{"$error":"#DIV/0!"},null,0]
[{"$error":"#VALUE!"},null,null,null,null,null,null,null,null,null,null,null,null,null,null,null,null,null,null,null,null,null,null,null,null,null,null,null,null,null,null,null,null,null,null,null,null,null,0,0,{"$error":"#DIV/0!"},null,{"$f":"+D115+F115+H115+J115+L115+N115+P115+R115+T115+V115+X115+Z115+AH115+AJ115++AF115+AD115+AB115","v":0}]
[{"$error":"#VALUE!"},null,null,null,null,null,null,null,null,null,null,null,null,null,null,null,null,null,null,null,null,null,null,null,null,null,null,null,null,null,null,null,null,null,null,null,null,null,0,0,{"$error":"#DIV/0!"},null,0]
[{"$error":"#VALUE!"},null,null,null,null,null,null,null,null,null,null,null,null,null,null,null,null,null,null,null,null,null,null,null,null,null,null,null,null,null,null,null,null,null,null,null,null,null,0,0,{"$error":"#DIV/0!"},null,0]
[{"$error":"#VALUE!"},null,null,null,null,null,null,null,null,null,null,null,null,null,null,null,null,null,null,null,null,null,null,null,null,null,null,null,null,null,null,null,null,null,null,null,null,null,0,0,{"$error":"#DIV/0!"},null,0]
[{"$error":"#VALUE!"},null,null,null,null,null,null,null,null,null,null,null,null,null,null,null,null,null,null,null,null,null,null,null,null,null,null,null,null,null,null,null,null,null,null,null,null,null,0,0,{"$error":"#DIV/0!"},null,0]
[{"$error":"#VALUE!"},null,null,null,null,null,null,null,null,null,null,null,null,null,null,null,null,null,null,null,null,null,null,null,null,null,null,null,null,null,null,null,null,null,null,null,null,null,0,0,{"$error":"#DIV/0!"},null,0]
[{"$error":"#VALUE!"},null,null,null,null,null,null,null,null,null,null,null,null,null,null,null,null,null,null,null,null,null,null,null,null,null,null,null,null,null,null,null,null,null,null,null,null,null,0,0,{"$error":"#DIV/0!"},null,0]
[{"$error":"#VALUE!"},null,null,null,null,null,null,null,null,null,null,null,null,null,null,null,null,null,null,null,null,null,null,null,null,null,null,null,null,null,null,null,null,null,null,null,null,null,0,0,{"$error":"#DIV/0!"},null,0]
[{"$error":"#VALUE!"},null,null,null,null,null,null,null,null,null,null,null,null,null,null,null,null,null,null,null,null,null,null,null,null,null,null,null,null,null,null,null,null,null,null,null,null,null,0,0,{"$error":"#DIV/0!"},null,0]
[{"$error":"#VALUE!"},null,null,null,null,null,null,null,null,null,null,null,null,null,null,null,null,null,null,null,null,null,null,null,null,null,null,null,null,null,null,null,null,null,null,null,null,null,0,0,{"$error":"#DIV/0!"},null,0]
[{"$error":"#VALUE!"},null,null,null,null,null,null,null,null,null,null,null,null,null,null,null,null,null,null,null,null,null,null,null,null,null,null,null,null,null,null,null,null,null,null,null,null,null,0,0,{"$error":"#DIV/0!"},null,0]
[{"$error":"#VALUE!"},null,null,null,null,null,null,null,null,null,null,null,null,null,null,null,null,null,null,null,null,null,null,null,null,null,null,null,null,null,null,null,null,null,null,null,null,null,0,0,{"$error":"#DIV/0!"},null,0]
[{"$error":"#VALUE!"},null,null,null,null,null,null,null,null,null,null,null,null,null,null,null,null,null,null,null,null,null,null,null,null,null,null,null,null,null,null,null,null,null,null,null,null,null,0,0,{"$error":"#DIV/0!"},null,0]
[{"$error":"#VALUE!"},null,null,null,null,null,null,null,null,null,null,null,null,null,null,null,null,null,null,null,null,null,null,null,null,null,null,null,null,null,null,null,null,null,null,null,null,null,0,0,{"$error":"#DIV/0!"},null,0]
[{"$error":"#VALUE!"},null,null,null,null,null,null,null,null,null,null,null,null,null,null,null,null,null,null,null,null,null,null,null,null,null,null,null,null,null,null,null,null,null,null,null,null,null,0,0,{"$error":"#DIV/0!"},null,0]
[{"$error":"#VALUE!"},null,null,null,null,null,null,null,null,null,null,null,null,null,null,null,null,null,null,null,null,null,null,null,null,null,null,null,null,null,null,null,null,null,null,null,null,null,0,0,{"$error":"#DIV/0!"},null,0]
[{"$error":"#VALUE!"},null,null,null,null,null,null,null,null,null,null,null,null,null,null,null,null,null,null,null,null,null,null,null,null,null,null,null,null,null,null,null,null,null,null,null,null,null,0,0,{"$error":"#DIV/0!"},null,0]
[{"$error":"#VALUE!"},null,null,null,null,null,null,null,null,null,null,null,null,null,null,null,null,null,null,null,null,null,null,null,null,null,null,null,null,null,null,null,null,null,null,null,null,null,0,0,{"$error":"#DIV/0!"},null,0]
[{"$error":"#VALUE!"},null,null,null,null,null,null,null,null,null,null,null,null,null,null,null,null,null,null,null,null,null,null,null,null,null,null,null,null,null,null,null,null,null,null,null,null,null,0,0,{"$error":"#DIV/0!"},null,0]
[{"$error":"#VALUE!"},null,null,null,null,null,null,null,null,null,null,null,null,null,null,null,null,null,null,null,null,null,null,null,null,null,null,null,null,null,null,null,null,null,null,null,null,null,0,0,{"$error":"#DIV/0!"},null,0]
[{"$error":"#VALUE!"},null,null,null,null,null,null,null,null,null,null,null,null,null,null,null,null,null,null,null,null,null,null,null,null,null,null,null,null,null,null,null,null,null,null,null,null,null,0,0,{"$error":"#DIV/0!"},null,0]
[{"$error":"#VALUE!"},null,null,null,null,null,null,null,null,null,null,null,null,null,null,null,null,null,null,null,null,null,null,null,null,null,null,null,null,null,null,null,null,null,null,null,null,null,0,0,{"$error":"#DIV/0!"},null,0]
[{"$error":"#VALUE!"},null,null,null,null,null,null,null,null,null,null,null,null,null,null,null,null,null,null,null,null,null,null,null,null,null,null,null,null,null,null,null,null,null,null,null,null,null,0,0,{"$error":"#DIV/0!"},null,0]
[{"$error":"#VALUE!"},null,null,null,null,null,null,null,null,null,null,null,null,null,null,null,null,null,null,null,null,null,null,null,null,null,null,null,null,null,null,null,null,null,null,null,null,null,0,0,{"$error":"#DIV/0!"},null,0]
[{"$error":"#VALUE!"},null,null,null,null,null,null,null,null,null,null,null,null,null,null,null,null,null,null,null,null,null,null,null,null,null,null,null,null,null,null,null,null,null,null,null,null,null,0,0,{"$error":"#DIV/0!"},null,0]
[{"$error":"#VALUE!"},null,null,null,null,null,null,null,null,null,null,null,null,null,null,null,null,null,null,null,null,null,null,null,null,null,null,null,null,null,null,null,null,null,null,null,null,null,0,0,{"$error":"#DIV/0!"},null,0]
[{"$error":"#VALUE!"},null,null,null,null,null,null,null,null,null,null,null,null,null,null,null,null,null,null,null,null,null,null,null,null,null,null,null,null,null,null,null,null,null,null,null,null,null,0,0,{"$error":"#DIV/0!"},null,0]
[{"$error":"#VALUE!"},null,null,null,null,null,null,null,null,null,null,null,null,null,null,null,null,null,null,null,null,null,null,null,null,null,null,null,null,null,null,null,null,null,null,null,null,null,0,0,{"$error":"#DIV/0!"},null,0]
[{"$error":"#VALUE!"},null,null,null,null,null,null,null,null,null,null,null,null,null,null,null,null,null,null,null,null,null,null,null,null,null,null,null,null,null,null,null,null,null,null,null,null,null,0,0,{"$error":"#DIV/0!"},null,0]
[{"$error":"#VALUE!"},null,null,null,null,null,null,null,null,null,null,null,null,null,null,null,null,null,null,null,null,null,null,null,null,null,null,null,null,null,null,null,null,null,null,null,null,null,0,0,{"$error":"#DIV/0!"},null,0]
[{"$error":"#VALUE!"},null,null,null,null,null,null,null,null,null,null,null,null,null,null,null,null,null,null,null,null,null,null,null,null,null,null,null,null,null,null,null,null,null,null,null,null,null,0,0,{"$error":"#DIV/0!"},null,0]
[{"$error":"#VALUE!"},null,null,null,null,null,null,null,null,null,null,null,null,null,null,null,null,null,null,null,null,null,null,null,null,null,null,null,null,null,null,null,null,null,null,null,null,null,0,0,{"$error":"#DIV/0!"},null,0]
[{"$error":"#VALUE!"},null,null,null,null,null,null,null,null,null,null,null,null,null,null,null,null,null,null,null,null,null,null,null,null,null,null,null,null,null,null,null,null,null,null,null,null,null,0,0,{"$error":"#DIV/0!"},null,0]
[{"$error":"#VALUE!"},null,null,null,null,null,null,null,null,null,null,null,null,null,null,null,null,null,null,null,null,null,null,null,null,null,null,null,null,null,null,null,null,null,null,null,null,null,0,0,{"$error":"#DIV/0!"},null,0]
[{"$error":"#VALUE!"},null,null,null,null,null,null,null,null,null,null,null,null,null,null,null,null,null,null,null,null,null,null,null,null,null,null,null,null,null,null,null,null,null,null,null,null,null,0,0,{"$error":"#DIV/0!"},null,0]
[{"$error":"#VALUE!"},null,null,null,null,null,null,null,null,null,null,null,null,null,null,null,null,null,null,null,null,null,null,null,null,null,null,null,null,null,null,null,null,null,null,null,null,null,0,0,{"$error":"#DIV/0!"},null,0]
[{"$error":"#VALUE!"},null,null,null,null,null,null,null,null,null,null,null,null,null,null,null,null,null,null,null,null,null,null,null,null,null,null,null,null,null,null,null,null,null,null,null,null,null,0,0,{"$error":"#DIV/0!"},null,0]
[{"$error":"#VALUE!"},null,null,null,null,null,null,null,null,null,null,null,null,null,null,null,null,null,null,null,null,null,null,null,null,null,null,null,null,null,null,null,null,null,null,null,null,null,0,0,{"$error":"#DIV/0!"},null,0]
[{"$f":"+A152+1","v":{"$error":"#VALUE!"}},null,null,null,null,null,null,null,null,null,null,null,null,null,null,null,null,null,null,null,null,null,null,null,null,null,null,null,null,null,null,null,null,null,null,null,null,null,0,0,{"$error":"#DIV/0!"},null,0]
[{"$error":"#VALUE!"},null,null,null,null,null,null,null,null,null,null,null,null,null,null,null,null,null,null,null,null,null,null,null,null,null,null,null,null,null,null,null,null,null,null,null,null,null,0,0,{"$error":"#DIV/0!"},null,0]
[{"$error":"#VALUE!"},null,null,null,null,null,null,null,null,null,null,null,null,null,null,null,null,null,null,null,null,null,null,null,null,null,null,null,null,null,null,null,null,null,null,null,null,null,0,0,{"$error":"#DIV/0!"},null,0]
[{"$error":"#VALUE!"},null,null,null,null,null,null,null,null,null,null,null,null,null,null,null,null,null,null,null,null,null,null,null,null,null,null,null,null,null,null,null,null,null,null,null,null,null,0,0,{"$error":"#DIV/0!"},null,0]
[{"$error":"#VALUE!"},null,null,null,null,null,null,null,null,null,null,null,null,null,null,null,null,null,null,null,null,null,null,null,null,null,null,null,null,null,null,null,null,null,null,null,null,null,0,0,{"$error":"#DIV/0!"},null,0]
[{"$error":"#VALUE!"},null,null,null,null,null,null,null,null,null,null,null,null,null,null,null,null,null,null,null,null,null,null,null,null,null,null,null,null,null,null,null,null,null,null,null,null,null,0,0,{"$error":"#DIV/0!"},null,0]
[{"$error":"#VALUE!"},null,null,null,null,null,null,null,null,null,null,null,null,null,null,null,null,null,null,null,null,null,null,null,null,null,null,null,null,null,null,null,null,null,null,null,null,null,0,0,{"$error":"#DIV/0!"},null,0]
[{"$error":"#VALUE!"},null,null,null,null,null,null,null,null,null,null,null,null,null,null,null,null,null,null,null,null,null,null,null,null,null,null,null,null,null,null,null,null,null,null,null,null,null,0,0,{"$error":"#DIV/0!"},null,0]
[{"$error":"#VALUE!"},null,null,null,null,null,null,null,null,null,null,null,null,null,null,null,null,null,null,null,null,null,null,null,null,null,null,null,null,null,null,null,null,null,null,null,null,null,0,0,{"$error":"#DIV/0!"},null,0]
[{"$error":"#VALUE!"},null,null,null,null,null,null,null,null,null,null,null,null,null,null,null,null,null,null,null,null,null,null,null,null,null,null,null,null,null,null,null,null,null,null,null,null,null,0,0,{"$error":"#DIV/0!"},null,0]
[{"$error":"#VALUE!"},null,null,null,null,null,null,null,null,null,null,null,null,null,null,null,null,null,null,null,null,null,null,null,null,null,null,null,null,null,null,null,null,null,null,null,null,null,0,0,{"$error":"#DIV/0!"},null,0]
[{"$error":"#VALUE!"},null,null,null,null,null,null,null,null,null,null,null,null,null,null,null,null,null,null,null,null,null,null,null,null,null,null,null,null,null,null,null,null,null,null,null,null,null,0,0,{"$error":"#DIV/0!"},null,0]
[{"$error":"#VALUE!"},null,null,null,null,null,null,null,null,null,null,null,null,null,null,null,null,null,null,null,null,null,null,null,null,null,null,null,null,null,null,null,null,null,null,null,null,null,0,0,{"$error":"#DIV/0!"},null,0]
[{"$error":"#VALUE!"},null,null,null,null,null,null,null,null,null,null,null,null,null,null,null,null,null,null,null,null,null,null,null,null,null,null,null,null,null,null,null,null,null,null,null,null,null,0,0,{"$error":"#DIV/0!"},null,0]
[{"$error":"#VALUE!"},null,null,null,null,null,null,null,null,null,null,null,null,null,null,null,null,null,null,null,null,null,null,null,null,null,null,null,null,null,null,null,null,null,null,null,null,null,0,0,{"$error":"#DIV/0!"},null,0]
[{"$error":"#VALUE!"},null,null,null,null,null,null,null,null,null,null,null,null,null,null,null,null,null,null,null,null,null,null,null,null,null,null,null,null,null,null,null,null,null,null,null,null,null,0,0,{"$error":"#DIV/0!"},null,0]
[{"$error":"#VALUE!"},null,null,null,null,null,null,null,null,null,null,null,null,null,null,null,null,null,null,null,null,null,null,null,null,null,null,null,null,null,null,null,null,null,null,null,null,null,0,0,{"$error":"#DIV/0!"},null,0]
[{"$error":"#VALUE!"},null,null,null,null,null,null,null,null,null,null,null,null,null,null,null,null,null,null,null,null,null,null,null,null,null,null,null,null,null,null,null,null,null,null,null,null,null,0,0,{"$error":"#DIV/0!"},null,0]
[{"$error":"#VALUE!"},null,null,null,null,null,null,null,null,null,null,null,null,null,null,null,null,null,null,null,null,null,null,null,null,null,null,null,null,null,null,null,null,null,null,null,null,null,{"$f":"+C171+E171+G171+I171++K171++M171+O171+Q171+S171+U171+W171+Y171+AI171+AA171+AG171+AC171+AE171","v":0},{"$f":"COUNT(C171:AJ171)/2","v":0},{"$f":"+AM171/AN171","v":{"$error":"#DIV/0!"}},null,0]
[{"$error":"#VALUE!"},null,null,null,null,null,null,null,null,null,null,null,null,null,null,null,null,null,null,null,null,null,null,null,null,null,null,null,null,null,null,null,null,null,null,null,null,null,0,0,{"$error":"#DIV/0!"},null,0]
[{"$error":"#VALUE!"},null,null,null,null,null,null,null,null,null,null,null,null,null,null,null,null,null,null,null,null,null,null,null,null,null,null,null,null,null,null,null,null,null,null,null,null,null,0,0,{"$error":"#DIV/0!"},null,0]
[{"$error":"#VALUE!"},null,null,null,null,null,null,null,null,null,null,null,null,null,null,null,null,null,null,null,null,null,null,null,null,null,null,null,null,null,null,null,null,null,null,null,null,null,0,0,{"$error":"#DIV/0!"},null,0]
[{"$error":"#VALUE!"},null,null,null,null,null,null,null,null,null,null,null,null,null,null,null,null,null,null,null,null,null,null,null,null,null,null,null,null,null,null,null,null,null,null,null,null,null,0,0,{"$error":"#DIV/0!"},null,0]
[{"$error":"#VALUE!"},null,null,null,null,null,null,null,null,null,null,null,null,null,null,null,null,null,null,null,null,null,null,null,null,null,null,null,null,null,null,null,null,null,null,null,null,null,0,0,{"$error":"#DIV/0!"},null,0]
[{"$error":"#VALUE!"},null,null,null,null,null,null,null,null,null,null,null,null,null,null,null,null,null,null,null,null,null,null,null,null,null,null,null,null,null,null,null,null,null,null,null,null,null,0,0,{"$error":"#DIV/0!"},null,0]
[{"$error":"#VALUE!"},null,null,null,null,null,null,null,null,null,null,null,null,null,null,null,null,null,null,null,null,null,null,null,null,null,null,null,null,null,null,null,null,null,null,null,null,null,0,0,{"$error":"#DIV/0!"},null,0]
[{"$error":"#VALUE!"},null,null,null,null,null,null,null,null,null,null,null,null,null,null,null,null,null,null,null,null,null,null,null,null,null,null,null,null,null,null,null,null,null,null,null,null,null,0,0,{"$error":"#DIV/0!"},null,{"$f":"+D179+F179+H179+J179+L179+N179+P179+R179+T179+V179+X179+Z179+AH179+AJ179++AF179+AD179+AB179","v":0}]
[{"$error":"#VALUE!"},null,null,null,null,null,null,null,null,null,null,null,null,null,null,null,null,null,null,null,null,null,null,null,null,null,null,null,null,null,null,null,null,null,null,null,null,null,0,0,{"$error":"#DIV/0!"},null,0]
[{"$error":"#VALUE!"},null,null,null,null,null,null,null,null,null,null,null,null,null,null,null,null,null,null,null,null,null,null,null,null,null,null,null,null,null,null,null,null,null,null,null,null,null,0,0,{"$error":"#DIV/0!"},null,0]
[{"$error":"#VALUE!"},null,null,null,null,null,null,null,null,null,null,null,null,null,null,null,null,null,null,null,null,null,null,null,null,null,null,null,null,null,null,null,null,null,null,null,null,null,0,0,{"$error":"#DIV/0!"},null,0]
[{"$error":"#VALUE!"},null,null,null,null,null,null,null,null,null,null,null,null,null,null,null,null,null,null,null,null,null,null,null,null,null,null,null,null,null,null,null,null,null,null,null,null,null,0,0,{"$error":"#DIV/0!"},null,0]
[{"$error":"#VALUE!"},null,null,null,null,null,null,null,null,null,null,null,null,null,null,null,null,null,null,null,null,null,null,null,null,null,null,null,null,null,null,null,null,null,null,null,null,null,0,0,{"$error":"#DIV/0!"},null,0]
[{"$error":"#VALUE!"},null,null,null,null,null,null,null,null,null,null,null,null,null,null,null,null,null,null,null,null,null,null,null,null,null,null,null,null,null,null,null,null,null,null,null,null,null,0,0,{"$error":"#DIV/0!"},null,0]
[{"$error":"#VALUE!"},null,null,null,null,null,null,null,null,null,null,null,null,null,null,null,null,null,null,null,null,null,null,null,null,null,null,null,null,null,null,null,null,null,null,null,null,null,0,0,{"$error":"#DIV/0!"},null,0]
[{"$error":"#VALUE!"},null,null,null,null,null,null,null,null,null,null,null,null,null,null,null,null,null,null,null,null,null,null,null,null,null,null,null,null,null,null,null,null,null,null,null,null,null,0,0,{"$error":"#DIV/0!"},null,0]
[{"$error":"#VALUE!"},null,null,null,null,null,null,null,null,null,null,null,null,null,null,null,null,null,null,null,null,null,null,null,null,null,null,null,null,null,null,null,null,null,null,null,null,null,0,0,{"$error":"#DIV/0!"},null,0]
[{"$error":"#VALUE!"},null,null,null,null,null,null,null,null,null,null,null,null,null,null,null,null,null,null,null,null,null,null,null,null,null,null,null,null,null,null,null,null,null,null,null,null,null,0,0,{"$error":"#DIV/0!"},null,0]
[{"$error":"#VALUE!"},null,null,null,null,null,null,null,null,null,null,null,null,null,null,null,null,null,null,null,null,null,null,null,null,null,null,null,null,null,null,null,null,null,null,null,null,null,0,0,{"$error":"#DIV/0!"},null,0]
[{"$error":"#VALUE!"},null,null,null,null,null,null,null,null,null,null,null,null,null,null,null,null,null,null,null,null,null,null,null,null,null,null,null,null,null,null,null,null,null,null,null,null,null,0,0,{"$error":"#DIV/0!"},null,0]
[{"$error":"#VALUE!"},null,null,null,null,null,null,null,null,null,null,null,null,null,null,null,null,null,null,null,null,null,null,null,null,null,null,null,null,null,null,null,null,null,null,null,null,null,0,0,{"$error":"#DIV/0!"},null,0]
[{"$error":"#VALUE!"},null,null,null,null,null,null,null,null,null,null,null,null,null,null,null,null,null,null,null,null,null,null,null,null,null,null,null,null,null,null,null,null,null,null,null,null,null,0,0,{"$error":"#DIV/0!"},null,0]
[{"$error":"#VALUE!"},null,null,null,null,null,null,null,null,null,null,null,null,null,null,null,null,null,null,null,null,null,null,null,null,null,null,null,null,null,null,null,null,null,null,null,null,null,0,0,{"$error":"#DIV/0!"},null,0]
[{"$error":"#VALUE!"},null,null,null,null,null,null,null,null,null,null,null,null,null,null,null,null,null,null,null,null,null,null,null,null,null,null,null,null,null,null,null,null,null,null,null,null,null,0,0,{"$error":"#DIV/0!"},null,0]
[{"$error":"#VALUE!"},null,null,null,null,null,null,null,null,null,null,null,null,null,null,null,null,null,null,null,null,null,null,null,null,null,null,null,null,null,null,null,null,null,null,null,null,null,0,0,{"$error":"#DIV/0!"},null,0]
[{"$error":"#VALUE!"},null,null,null,null,null,null,null,null,null,null,null,null,null,null,null,null,null,null,null,null,null,null,null,null,null,null,null,null,null,null,null,null,null,null,null,null,null,0,0,{"$error":"#DIV/0!"},null,0]
[{"$error":"#VALUE!"},null,null,null,null,null,null,null,null,null,null,null,null,null,null,null,null,null,null,null,null,null,null,null,null,null,null,null,null,null,null,null,null,null,null,null,null,null,0,0,{"$error":"#DIV/0!"},null,0]
[{"$error":"#VALUE!"},null,null,null,null,null,null,null,null,null,null,null,null,null,null,null,null,null,null,null,null,null,null,null,null,null,null,null,null,null,null,null,null,null,null,null,null,null,0,0,{"$error":"#DIV/0!"},null,0]
[{"$error":"#VALUE!"},null,null,null,null,null,null,null,null,null,null,null,null,null,null,null,null,null,null,null,null,null,null,null,null,null,null,null,null,null,null,null,null,null,null,null,null,null,0,0,{"$error":"#DIV/0!"},null,0]
[{"$error":"#VALUE!"},null,null,null,null,null,null,null,null,null,null,null,null,null,null,null,null,null,null,null,null,null,null,null,null,null,null,null,null,null,null,null,null,null,null,null,null,null,0,0,{"$error":"#DIV/0!"},null,0]
[{"$error":"#VALUE!"},null,null,null,null,null,null,null,null,null,null,null,null,null,null,null,null,null,null,null,null,null,null,null,null,null,null,null,null,null,null,null,null,null,null,null,null,null,0,0,{"$error":"#DIV/0!"},null,0]
[{"$error":"#VALUE!"},null,null,null,null,null,null,null,null,null,null,null,null,null,null,null,null,null,null,null,null,null,null,null,null,null,null,null,null,null,null,null,null,null,null,null,null,null,0,0,{"$error":"#DIV/0!"},null,0]
[{"$error":"#VALUE!"},null,null,null,null,null,null,null,null,null,null,null,null,null,null,null,null,null,null,null,null,null,null,null,null,null,null,null,null,null,null,null,null,null,null,null,null,null,0,0,{"$error":"#DIV/0!"},null,0]
[{"$error":"#VALUE!"},null,null,null,null,null,null,null,null,null,null,null,null,null,null,null,null,null,null,null,null,null,null,null,null,null,null,null,null,null,null,null,null,null,null,null,null,null,0,0,{"$error":"#DIV/0!"},null,0]
[{"$error":"#VALUE!"},null,null,null,null,null,null,null,null,null,null,null,null,null,null,null,null,null,null,null,null,null,null,null,null,null,null,null,null,null,null,null,null,null,null,null,null,null,0,0,{"$error":"#DIV/0!"},null,0]
[{"$error":"#VALUE!"},null,null,null,null,null,null,null,null,null,null,null,null,null,null,null,null,null,null,null,null,null,null,null,null,null,null,null,null,null,null,null,null,null,null,null,null,null,0,0,{"$error":"#DIV/0!"},null,0]
[{"$error":"#VALUE!"},null,null,null,null,null,null,null,null,null,null,null,null,null,null,null,null,null,null,null,null,null,null,null,null,null,null,null,null,null,null,null,null,null,null,null,null,null,0,0,{"$error":"#DIV/0!"},null,0]
[{"$error":"#VALUE!"},null,null,null,null,null,null,null,null,null,null,null,null,null,null,null,null,null,null,null,null,null,null,null,null,null,null,null,null,null,null,null,null,null,null,null,null,null,0,0,{"$error":"#DIV/0!"},null,0]
[{"$error":"#VALUE!"},null,null,null,null,null,null,null,null,null,null,null,null,null,null,null,null,null,null,null,null,null,null,null,null,null,null,null,null,null,null,null,null,null,null,null,null,null,0,0,{"$error":"#DIV/0!"},null,0]
[{"$error":"#VALUE!"},null,null,null,null,null,null,null,null,null,null,null,null,null,null,null,null,null,null,null,null,null,null,null,null,null,null,null,null,null,null,null,null,null,null,null,null,null,0,0,{"$error":"#DIV/0!"},null,0]
[{"$error":"#VALUE!"},null,null,null,null,null,null,null,null,null,null,null,null,null,null,null,null,null,null,null,null,null,null,null,null,null,null,null,null,null,null,null,null,null,null,null,null,null,0,0,{"$error":"#DIV/0!"},null,0]
[{"$error":"#VALUE!"},null,null,null,null,null,null,null,null,null,null,null,null,null,null,null,null,null,null,null,null,null,null,null,null,null,null,null,null,null,null,null,null,null,null,null,null,null,0,0,{"$error":"#DIV/0!"},null,0]
[{"$error":"#VALUE!"},null,null,null,null,null,null,null,null,null,null,null,null,null,null,null,null,null,null,null,null,null,null,null,null,null,null,null,null,null,null,null,null,null,null,null,null,null,0,0,{"$error":"#DIV/0!"},null,0]
[{"$error":"#VALUE!"},null,null,null,null,null,null,null,null,null,null,null,null,null,null,null,null,null,null,null,null,null,null,null,null,null,null,null,null,null,null,null,null,null,null,null,null,null,0,0,{"$error":"#DIV/0!"},null,0]
[{"$error":"#VALUE!"},null,null,null,null,null,null,null,null,null,null,null,null,null,null,null,null,null,null,null,null,null,null,null,null,null,null,null,null,null,null,null,null,null,null,null,null,null,0,0,{"$error":"#DIV/0!"},null,0]
[{"$f":"+A216+1","v":{"$error":"#VALUE!"}},null,null,null,null,null,null,null,null,null,null,null,null,null,null,null,null,null,null,null,null,null,null,null,null,null,null,null,null,null,null,null,null,null,null,null,null,null,0,0,{"$error":"#DIV/0!"},null,0]
[{"$error":"#VALUE!"},null,null,null,null,null,null,null,null,null,null,null,null,null,null,null,null,null,null,null,null,null,null,null,null,null,null,null,null,null,null,null,null,null,null,null,null,null,0,0,{"$error":"#DIV/0!"},null,0]
[{"$error":"#VALUE!"},null,null,null,null,null,null,null,null,null,null,null,null,null,null,null,null,null,null,null,null,null,null,null,null,null,null,null,null,null,null,null,null,null,null,null,null,null,0,0,{"$error":"#DIV/0!"},null,0]
[{"$error":"#VALUE!"},null,null,null,null,null,null,null,null,null,null,null,null,null,null,null,null,null,null,null,null,null,null,null,null,null,null,null,null,null,null,null,null,null,null,null,null,null,0,0,{"$error":"#DIV/0!"},null,0]
[{"$error":"#VALUE!"},null,null,null,null,null,null,null,null,null,null,null,null,null,null,null,null,null,null,null,null,null,null,null,null,null,null,null,null,null,null,null,null,null,null,null,null,null,0,0,{"$error":"#DIV/0!"},null,0]
[{"$error":"#VALUE!"},null,null,null,null,null,null,null,null,null,null,null,null,null,null,null,null,null,null,null,null,null,null,null,null,null,null,null,null,null,null,null,null,null,null,null,null,null,0,0,{"$error":"#DIV/0!"},null,0]
[{"$error":"#VALUE!"},null,null,null,null,null,null,null,null,null,null,null,null,null,null,null,null,null,null,null,null,null,null,null,null,null,null,null,null,null,null,null,null,null,null,null,null,null,0,0,{"$error":"#DIV/0!"},null,0]
[{"$error":"#VALUE!"},null,null,null,null,null,null,null,null,null,null,null,null,null,null,null,null,null,null,null,null,null,null,null,null,null,null,null,null,null,null,null,null,null,null,null,null,null,0,0,{"$error":"#DIV/0!"},null,0]
[{"$error":"#VALUE!"},null,null,null,null,null,null,null,null,null,null,null,null,null,null,null,null,null,null,null,null,null,null,null,null,null,null,null,null,null,null,null,null,null,null,null,null,null,0,0,{"$error":"#DIV/0!"},null,0]
[{"$error":"#VALUE!"},null,null,null,null,null,null,null,null,null,null,null,null,null,null,null,null,null,null,null,null,null,null,null,null,null,null,null,null,null,null,null,null,null,null,null,null,null,0,0,{"$error":"#DIV/0!"},null,0]
[{"$error":"#VALUE!"},null,null,null,null,null,null,null,null,null,null,null,null,null,null,null,null,null,null,null,null,null,null,null,null,null,null,null,null,null,null,null,null,null,null,null,null,null,0,0,{"$error":"#DIV/0!"},null,0]
[{"$error":"#VALUE!"},null,null,null,null,null,null,null,null,null,null,null,null,null,null,null,null,null,null,null,null,null,null,null,null,null,null,null,null,null,null,null,null,null,null,null,null,null,0,0,{"$error":"#DIV/0!"},null,0]
[{"$error":"#VALUE!"},null,null,null,null,null,null,null,null,null,null,null,null,null,null,null,null,null,null,null,null,null,null,null,null,null,null,null,null,null,null,null,null,null,null,null,null,null,0,0,{"$error":"#DIV/0!"},null,0]
[{"$error":"#VALUE!"},null,null,null,null,null,null,null,null,null,null,null,null,null,null,null,null,null,null,null,null,null,null,null,null,null,null,null,null,null,null,null,null,null,null,null,null,null,0,0,{"$error":"#DIV/0!"},null,0]
[{"$error":"#VALUE!"},null,null,null,null,null,null,null,null,null,null,null,null,null,null,null,null,null,null,null,null,null,null,null,null,null,null,null,null,null,null,null,null,null,null,null,null,null,0,0,{"$error":"#DIV/0!"},null,0]
[{"$error":"#VALUE!"},null,null,null,null,null,null,null,null,null,null,null,null,null,null,null,null,null,null,null,null,null,null,null,null,null,null,null,null,null,null,null,null,null,null,null,null,null,0,0,{"$error":"#DIV/0!"},null,0]
[{"$error":"#VALUE!"},null,null,null,null,null,null,null,null,null,null,null,null,null,null,null,null,null,null,null,null,null,null,null,null,null,null,null,null,null,null,null,null,null,null,null,null,null,0,0,{"$error":"#DIV/0!"},null,0]
[{"$error":"#VALUE!"},null,null,null,null,null,null,null,null,null,null,null,null,null,null,null,null,null,null,null,null,null,null,null,null,null,null,null,null,null,null,null,null,null,null,null,null,null,0,0,{"$error":"#DIV/0!"},null,0]
[{"$error":"#VALUE!"},null,null,null,null,null,null,null,null,null,null,null,null,null,null,null,null,null,null,null,null,null,null,null,null,null,null,null,null,null,null,null,null,null,null,null,null,null,{"$f":"+C235+E235+G235+I235++K235++M235+O235+Q235+S235+U235+W235+Y235+AI235+AA235+AG235+AC235+AE235","v":0},{"$f":"COUNT(C235:AJ235)/2","v":0},{"$f":"+AM235/AN235","v":{"$error":"#DIV/0!"}},null,0]
[{"$error":"#VALUE!"},null,null,null,null,null,null,null,null,null,null,null,null,null,null,null,null,null,null,null,null,null,null,null,null,null,null,null,null,null,null,null,null,null,null,null,null,null,0,0,{"$error":"#DIV/0!"},null,0]
[{"$error":"#VALUE!"},null,null,null,null,null,null,null,null,null,null,null,null,null,null,null,null,null,null,null,null,null,null,null,null,null,null,null,null,null,null,null,null,null,null,null,null,null,0,0,{"$error":"#DIV/0!"},null,0]
[{"$error":"#VALUE!"},null,null,null,null,null,null,null,null,null,null,null,null,null,null,null,null,null,null,null,null,null,null,null,null,null,null,null,null,null,null,null,null,null,null,null,null,null,0,0,{"$error":"#DIV/0!"},null,0]
[{"$error":"#VALUE!"},null,null,null,null,null,null,null,null,null,null,null,null,null,null,null,null,null,null,null,null,null,null,null,null,null,null,null,null,null,null,null,null,null,null,null,null,null,0,0,{"$error":"#DIV/0!"},null,0]
[{"$error":"#VALUE!"},null,null,null,null,null,null,null,null,null,null,null,null,null,null,null,null,null,null,null,null,null,null,null,null,null,null,null,null,null,null,null,null,null,null,null,null,null,0,0,{"$error":"#DIV/0!"},null,0]
[{"$error":"#VALUE!"},null,null,null,null,null,null,null,null,null,null,null,null,null,null,null,null,null,null,null,null,null,null,null,null,null,null,null,null,null,null,null,null,null,null,null,null,null,0,0,{"$error":"#DIV/0!"},null,0]
[{"$error":"#VALUE!"},null,null,null,null,null,null,null,null,null,null,null,null,null,null,null,null,null,null,null,null,null,null,null,null,null,null,null,null,null,null,null,null,null,null,null,null,null,0,0,{"$error":"#DIV/0!"},null,0]
[{"$error":"#VALUE!"},null,null,null,null,null,null,null,null,null,null,null,null,null,null,null,null,null,null,null,null,null,null,null,null,null,null,null,null,null,null,null,null,null,null,null,null,null,0,0,{"$error":"#DIV/0!"},null,{"$f":"+D243+F243+H243+J243+L243+N243+P243+R243+T243+V243+X243+Z243+AH243+AJ243++AF243+AD243+AB243","v":0}]
[{"$error":"#VALUE!"},null,null,null,null,null,null,null,null,null,null,null,null,null,null,null,null,null,null,null,null,null,null,null,null,null,null,null,null,null,null,null,null,null,null,null,null,null,0,0,{"$error":"#DIV/0!"},null,0]
[{"$error":"#VALUE!"},null,null,null,null,null,null,null,null,null,null,null,null,null,null,null,null,null,null,null,null,null,null,null,null,null,null,null,null,null,null,null,null,null,null,null,null,null,0,0,{"$error":"#DIV/0!"},null,0]
[{"$error":"#VALUE!"},null,null,null,null,null,null,null,null,null,null,null,null,null,null,null,null,null,null,null,null,null,null,null,null,null,null,null,null,null,null,null,null,null,null,null,null,null,0,0,{"$error":"#DIV/0!"},null,0]
[{"$error":"#VALUE!"},null,null,null,null,null,null,null,null,null,null,null,null,null,null,null,null,null,null,null,null,null,null,null,null,null,null,null,null,null,null,null,null,null,null,null,null,null,0,0,{"$error":"#DIV/0!"},null,0]
[{"$error":"#VALUE!"},null,null,null,null,null,null,null,null,null,null,null,null,null,null,null,null,null,null,null,null,null,null,null,null,null,null,null,null,null,null,null,null,null,null,null,null,null,0,0,{"$error":"#DIV/0!"},null,0]
[{"$error":"#VALUE!"},null,null,null,null,null,null,null,null,null,null,null,null,null,null,null,null,null,null,null,null,null,null,null,null,null,null,null,null,null,null,null,null,null,null,null,null,null,0,0,{"$error":"#DIV/0!"},null,0]
[{"$error":"#VALUE!"},null,null,null,null,null,null,null,null,null,null,null,null,null,null,null,null,null,null,null,null,null,null,null,null,null,null,null,null,null,null,null,null,null,null,null,null,null,{"$f":"+C250+E250+G250+I250++K250++M250+O250+Q250+S250+U250+W250+Y250+AI250+AA250+AG250+AC250+AE250","v":0},{"$f":"COUNT(C250:AJ250)/2","v":0},{"$f":"+AM250/AN250","v":{"$error":"#DIV/0!"}},null,0]

{"sheet":"7 i mig","index":10,"n_rows":61,"n_cols":36,"rows_kept":61,"cut":false,"hidden":false,"merged":[[38,12,38,13],[38,2,38,3],[38,4,38,5],[38,6,38,7],[38,8,38,9],[38,10,38,11],[38,26,38,27],[38,28,38,29],[38,14,38,15],[38,16,38,17],[38,18,38,19],[38,20,38,21],[38,22,38,23],[38,24,38,25]]}
["7 i mig"]
["Mes"]
[{"$f":"+GENERAL!B6","v":12},null,{"$f":"SUM(C5:C7)","v":0}]
[null,null,"Premi","Punts","Partides","General"]
[1,"Carles",{"$f":"+O$36","v":10},{"$f":"+P$37","v":7},{"$f":"+P$36","v":1},{"$f":"+O$22","v":0},{"$f":"IF(E5<A$3/2,-1,1)*80+C5","v":-70}]
[2,"Manel",{"$f":"+E$36","v":0},{"$f":"+F$37","v":-1},{"$f":"+F$36","v":1},{"$f":"+E$22","v":0},-80]
[3,"Nin",{"$f":"+Y$36","v":-10},{"$f":"+Z$37","v":-6},{"$f":"+Z$36","v":1},{"$f":"+Y$22","v":0},-90]
[4,"Jordi",{"$f":"+G$36","v":-100000000},{"$f":"+H$37","v":0},{"$f":"+H$36","v":0},{"$f":"+G$22","v":0},-100000080]
[5,"Mariajo",{"$f":"+Q$36","v":-100000000},{"$f":"+R$37","v":0},{"$f":"+R$36","v":0},{"$f":"+Q$22","v":0},-100000080]
[6,"Sergi",{"$f":"+M$36","v":-100000000},{"$f":"+N$37","v":0},{"$f":"+N$36","v":0},{"$f":"+M$22","v":0},-100000080]
[7,"Marga",{"$f":"+AC$36","v":-100000000},{"$f":"+AD$37","v":0},{"$f":"+AD$36","v":0},{"$f":"+AC$22","v":0},-100000080]
[8,"MªJosé",{"$f":"+I$36","v":-100000000},{"$f":"+J$37","v":0},{"$f":"+J$36","v":0},{"$f":"+I$22","v":0},-100000080]
[9,"Goretti",{"$f":"+K$36","v":-100000000},{"$f":"+L$37","v":0},{"$f":"+L$36","v":0},{"$f":"+K$22","v":0},-100000080]
[10,"Xavi",{"$f":"+W$36","v":-100000000},{"$f":"+X$37","v":0},{"$f":"+X$36","v":0},{"$f":"+W$22","v":0},-100000080]
[11,"Isabel",{"$f":"+AA$36","v":-100000000},{"$f":"+AB$37","v":0},{"$f":"+AB$36","v":0},{"$f":"+AA$22","v":0},-100000080]
[12,"Iglesias",{"$f":"+S$36","v":-100000000},{"$f":"+T$37","v":0},{"$f":"+T$36","v":0},{"$f":"+S$22","v":0},-100000080]
[13,"Pablo",{"$f":"+C$36","v":-100000000},{"$f":"+D$37","v":0},{"$f":"+D$36","v":0},{"$f":"+C$22","v":0},-100000080]
[14,"Sylvain",{"$f":"+U$36","v":-100000000},{"$f":"+V$37","v":0},{"$f":"+V$36","v":0},{"$f":"+U$22","v":0},-100000080]
[]
[]
[]
[null,"General",{"$f":"+C23*C24","v":0},{"$f":"+D23*D24","v":0},0,0,0,0,0,0,0,0,0,0,0,0,0,0,0,0,0,0,0,0,0,0,{"$f":"+AA23*AA24","v":0},{"$f":"+AB23*AB24","v":0},0,0]
[null,null,{"$f":"IF($B35>3,1,0)","v":0},{"$f":"IF($B35>3,1,0)","v":0},0,0,0,0,0,0,0,0,0,0,0,0,0,0,0,0,0,0,0,0,0,0,{"$f":"IF($B35>3,1,0)","v":0},{"$f":"IF($B35>3,1,0)","v":0},0,0]
[null,null,{"$f":"MAX(C25:C29)","v":0},{"$f":"+D36","v":0},{"$f":"MAX(E25:E29)","v":0},{"$f":"+F36","v":1},{"$f":"MAX(G25:G29)","v":0},{"$f":"+H36","v":0},{"$f":"MAX(I25:I29)","v":0},{"$f":"+J36","v":0},{"$f":"MAX(K25:K29)","v":0},{"$f":"+L36","v":0},{"$f":"MAX(M25:M29)","v":0},{"$f":"+N36","v":0},{"$f":"MAX(O25:O29)","v":0},{"$f":"+P36","v":1},{"$f":"MAX(Q25:Q29)","v":0},{"$f":"+R36","v":0},{"$f":"MAX(S25:S29)","v":0},{"$f":"+T36","v":0},{"$f":"MAX(U25:U29)","v":0},{"$f":"+V36","v":0},{"$f":"MAX(W25:W29)","v":0},{"$f":"+X36","v":0},{"$f":"MAX(Y25:Y29)","v":0},{"$f":"+Z36","v":1},{"$f":"MAX(AA25:AA29)","v":0},{"$f":"+AB36","v":0},{"$f":"MAX(AC25:AC29)","v":0},{"$f":"+AD36","v":0}]
[null,null,{"$f":"IF(C$30=5,5,0)","v":0},null,{"$f":"IF(E$30=5,5,0)","v":0},null,{"$f":"IF(G$30=5,5,0)","v":0},null,{"$f":"IF(I$30=5,5,0)","v":0},null,{"$f":"IF(K$30=5,5,0)","v":0},null,{"$f":"IF(M$30=5,5,0)","v":0},null,{"$f":"IF(O$30=5,5,0)","v":0},null,{"$f":"IF(Q$30=5,5,0)","v":0},null,{"$f":"IF(S$30=5,5,0)","v":0},null,{"$f":"IF(U$30=5,5,0)","v":0},null,{"$f":"IF(W$30=5,5,0)","v":0},null,{"$f":"IF(Y$30=5,5,0)","v":0},null,{"$f":"IF(AA$30=5,5,0)","v":0},null,{"$f":"IF(AC$30=5,5,0)","v":0}]
[null,null,{"$f":"IF(C$30=4,10,0)","v":0},null,{"$f":"IF(E$30=4,10,0)","v":0},null,{"$f":"IF(G$30=4,10,0)","v":0},null,{"$f":"IF(I$30=4,10,0)","v":0},null,{"$f":"IF(K$30=4,10,0)","v":0},null,{"$f":"IF(M$30=4,10,0)","v":0},null,{"$f":"IF(O$30=4,10,0)","v":0},null,{"$f":"IF(Q$30=4,10,0)","v":0},null,{"$f":"IF(S$30=4,10,0)","v":0},null,{"$f":"IF(U$30=4,10,0)","v":0},null,{"$f":"IF(W$30=4,10,0)","v":0},null,{"$f":"IF(Y$30=4,10,0)","v":0},null,{"$f":"IF(AA$30=4,10,0)","v":0},null,{"$f":"IF(AC$30=4,10,0)","v":0}]
[null,null,{"$f":"IF(C$30=3,20,0)","v":0},null,{"$f":"IF(E$30=3,20,0)","v":0},null,{"$f":"IF(G$30=3,20,0)","v":0},null,{"$f":"IF(I$30=3,20,0)","v":0},null,{"$f":"IF(K$30=3,20,0)","v":0},null,{"$f":"IF(M$30=3,20,0)","v":0},null,{"$f":"IF(O$30=3,20,0)","v":0},null,{"$f":"IF(Q$30=3,20,0)","v":0},null,{"$f":"IF(S$30=3,20,0)","v":0},null,{"$f":"IF(U$30=3,20,0)","v":0},null,{"$f":"IF(W$30=3,20,0)","v":0},null,{"$f":"IF(Y$30=3,20,0)","v":0},null,{"$f":"IF(AA$30=3,20,0)","v":0},null,{"$f":"IF(AC$30=3,20,0)","v":0}]
[null,null,{"$f":"IF(C$30=2,40,0)","v":0},null,{"$f":"IF(E$30=2,40,0)","v":0},null,{"$f":"IF(G$30=2,40,0)","v":0},null,{"$f":"IF(I$30=2,40,0)","v":0},null,{"$f":"IF(K$30=2,40,0)","v":0},null,{"$f":"IF(M$30=2,40,0)","v":0},null,{"$f":"IF(O$30=2,40,0)","v":0},null,{"$f":"IF(Q$30=2,40,0)","v":0},null,{"$f":"IF(S$30=2,40,0)","v":0},null,{"$f":"IF(U$30=2,40,0)","v":0},null,{"$f":"IF(W$30=2,40,0)","v":0},null,{"$f":"IF(Y$30=2,40,0)","v":0},null,{"$f":"IF(AA$30=2,40,0)","v":0},null,{"$f":"IF(AC$30=2,40,0)","v":0}]
[null,null,{"$f":"IF(C$30=1,80,0)","v":0},null,{"$f":"IF(E$30=1,80,0)","v":0},null,{"$f":"IF(G$30=1,80,0)","v":0},null,{"$f":"IF(I$30=1,80,0)","v":0},null,{"$f":"IF(K$30=1,80,0)","v":0},null,{"$f":"IF(M$30=1,80,0)","v":0},null,{"$f":"IF(O$30=1,80,0)","v":0},null,{"$f":"IF(Q$30=1,80,0)","v":0},null,{"$f":"IF(S$30=1,80,0)","v":0},null,{"$f":"IF(U$30=1,80,0)","v":0},null,{"$f":"IF(W$30=1,80,0)","v":0},null,{"$f":"IF(Y$30=1,80,0)","v":0},null,{"$f":"IF(AA$30=1,80,0)","v":0},null,{"$f":"IF(AC$30=1,80,0)","v":0}]
[null,null,{"$f":"RANK(C31,$C31:$AP31)*C35","v":0},null,{"$f":"RANK(E31,$C31:$AP31)*E35","v":0},null,{"$f":"RANK(G31,$C31:$AP31)*G35","v":0},null,{"$f":"RANK(I31,$C31:$AP31)*I35","v":0},null,{"$f":"RANK(K31,$C31:$AP31)*K35","v":0},null,{"$f":"RANK(M31,$C31:$AP31)*M35","v":0},null,{"$f":"RANK(O31,$C31:$AP31)*O35","v":0},null,{"$f":"RANK(Q31,$C31:$AP31)*Q35","v":0},null,{"$f":"RANK(S31,$C31:$AP31)*S35","v":0},null,{"$f":"RANK(U31,$C31:$AP31)*U35","v":0},null,{"$f":"RANK(W31,$C31:$AP31)*W35","v":0},null,{"$f":"RANK(Y31,$C31:$AP31)*Y35","v":0},null,{"$f":"RANK(AA31,$C31:$AP31)*AA35","v":0},null,{"$f":"RANK(AC31,$C31:$AP31)*AC35","v":0}]
[null,null,{"$f":"SUM(C32:C34)","v":-101000000},null,{"$f":"SUM(E32:E34)","v":-1000009},null,{"$f":"SUM(G32:G34)","v":-101000000},null,{"$f":"SUM(I32:I34)","v":-101000000},null,{"$f":"SUM(K32:K34)","v":-101000000},null,{"$f":"SUM(M32:M34)","v":-101000000},null,{"$f":"SUM(O32:O34)","v":-999919},null,{"$f":"SUM(Q32:Q34)","v":-101000000},null,{"$f":"SUM(S32:S34)","v":-101000000},null,{"$f":"SUM(U32:U34)","v":-101000000},null,{"$f":"SUM(W32:W34)","v":-101000000},null,{"$f":"SUM(Y32:Y34)","v":-1000069},null,{"$f":"SUM(AA32:AA34)","v":-101000000},null,{"$f":"SUM(AC32:AC34)","v":-101000000}]
[null,null,{"$f":"+D36","v":0},null,{"$f":"+F36","v":1},null,{"$f":"+H36","v":0},null,{"$f":"+J36","v":0},null,{"$f":"+L36","v":0},null,{"$f":"+N36","v":0},null,{"$f":"+P36","v":1},null,{"$f":"+R36","v":0},null,{"$f":"+T36","v":0},null,{"$f":"+V36","v":0},null,{"$f":"+X36","v":0},null,{"$f":"+Z36","v":1},null,{"$f":"+AB36","v":0},null,{"$f":"+AD36","v":0}]
[null,null,{"$f":"D37*10","v":0},null,{"$f":"F37*10","v":-10},null,{"$f":"H37*10","v":0},null,{"$f":"J37*10","v":0},null,{"$f":"L37*10","v":0},null,{"$f":"N37*10","v":0},null,{"$f":"P37*10","v":70},null,{"$f":"R37*10","v":0},null,{"$f":"T37*10","v":0},null,{"$f":"V37*10","v":0},null,{"$f":"X37*10","v":0},null,{"$f":"Z37*10","v":-60},null,{"$f":"AB37*10","v":0},null,{"$f":"AD37*10","v":0}]
[null,null,{"$f":"IF(C35=1,C36*C35*1000+C36,-1000000+C36)","v":-101000000},null,{"$f":"IF(E35=1,E36*E35*1000+E36,-1000000+E36)","v":-1000000},null,{"$f":"IF(G35=1,G36*G35*1000+G36,-1000000+G36)","v":-101000000},null,{"$f":"IF(I35=1,I36*I35*1000+I36,-1000000+I36)","v":-101000000},null,{"$f":"IF(K35=1,K36*K35*1000+K36,-1000000+K36)","v":-101000000},null,{"$f":"IF(M35=1,M36*M35*1000+M36,-1000000+M36)","v":-101000000},null,{"$f":"IF(O35=1,O36*O35*1000+O36,-1000000+O36)","v":-999990},null,{"$f":"IF(Q35=1,Q36*Q35*1000+Q36,-1000000+Q36)","v":-101000000},null,{"$f":"IF(S35=1,S36*S35*1000+S36,-1000000+S36)","v":-101000000},null,{"$f":"IF(U35=1,U36*U35*1000+U36,-1000000+U36)","v":-101000000},null,{"$f":"IF(W35=1,W36*W35*1000+W36,-1000000+W36)","v":-101000000},null,{"$f":"IF(Y35=1,Y36*Y35*1000+Y36,-1000000+Y36)","v":-1000010},null,{"$f":"IF(AA35=1,AA36*AA35*1000+AA36,-1000000+AA36)","v":-101000000},null,{"$f":"IF(AC35=1,AC36*AC35*1000+AC36,-1000000+AC36)","v":-101000000}]
["Classificats",{"$f":"SUM(C35:AC35)","v":0},{"$f":"IF(D36>=$A3/2,1,0)","v":0},null,{"$f":"IF(F36>=$A3/2,1,0)","v":0},null,{"$f":"IF(H36>=$A3/2,1,0)","v":0},null,{"$f":"IF(J36>=$A3/2,1,0)","v":0},null,{"$f":"IF(L36>=$A3/2,1,0)","v":0},null,{"$f":"IF(N36>=$A3/2,1,0)","v":0},null,{"$f":"IF(P36>=$A3/2,1,0)","v":0},null,{"$f":"IF(R36>=$A3/2,1,0)","v":0},null,{"$f":"IF(T36>=$A3/2,1,0)","v":0},null,{"$f":"IF(V36>=$A3/2,1,0)","v":0},null,{"$f":"IF(X36>=$A3/2,1,0)","v":0},null,{"$f":"IF(Z36>=$A3/2,1,0)","v":0},null,{"$f":"IF(AB36>=$A3/2,1,0)","v":0},null,{"$f":"IF(AD36>=$A3/2,1,0)","v":0},null,{"$f":"MAX(AF38:AF97)","v":76}]
[null,null,{"$f":"IF(SUM(C41:C279)<-1000,-100000000,SUM(C41:C279))","v":-100000000},{"$f":"COUNT(D41:D279)","v":0},{"$f":"IF(SUM(E41:E279)<-1000,-100000000,SUM(E41:E279))","v":0},{"$f":"COUNT(F41:F279)","v":1},{"$f":"IF(SUM(G41:G279)<-1000,-100000000,SUM(G41:G279))","v":-100000000},{"$f":"COUNT(H41:H279)","v":0},{"$f":"IF(SUM(I41:I279)<-1000,-100000000,SUM(I41:I279))","v":-100000000},{"$f":"COUNT(J41:J279)","v":0},{"$f":"IF(SUM(K41:K279)<-1000,-100000000,SUM(K41:K279))","v":-100000000},{"$f":"COUNT(L41:L279)","v":0},{"$f":"IF(SUM(M41:M279)<-1000,-100000000,SUM(M41:M279))","v":-100000000},{"$f":"COUNT(N41:N279)","v":0},{"$f":"IF(SUM(O41:O279)<-1000,-100000000,SUM(O41:O279))","v":10},{"$f":"COUNT(P41:P279)","v":1},{"$f":"IF(SUM(Q41:Q279)<-1000,-100000000,SUM(Q41:Q279))","v":-100000000},{"$f":"COUNT(R41:R279)","v":0},{"$f":"IF(SUM(S41:S279)<-1000,-100000000,SUM(S41:S279))","v":-100000000},{"$f":"COUNT(T41:T279)","v":0},{"$f":"IF(SUM(U41:U279)<-1000,-100000000,SUM(U41:U279))","v":-100000000},{"$f":"COUNT(V41:V279)","v":0},{"$f":"IF(SUM(W41:W279)<-1000,-100000000,SUM(W41:W279))","v":-100000000},{"$f":"COUNT(X41:X279)","v":0},{"$f":"IF(SUM(Y41:Y279)<-1000,-100000000,SUM(Y41:Y279))","v":-10},{"$f":"COUNT(Z41:Z279)","v":1},{"$f":"IF(SUM(AA41:AA279)<-1000,-100000000,SUM(AA41:AA279))","v":-100000000},{"$f":"COUNT(AB41:AB279)","v":0},{"$f":"IF(SUM(AC41:AC279)<-1000,-100000000,SUM(AC41:AC279))","v":-100000000},{"$f":"COUNT(AD41:AD279)","v":0}]
[null,null,{"$f":"SUM(C41:C173)","v":-100000000},0,0,-1,-100000000,0,-100000000,0,-100000000,0,-100000000,0,10,7,-100000000,0,-100000000,0,-100000000,0,-100000000,0,-10,-6,{"$f":"SUM(AA41:AA173)","v":-100000000},{"$f":"SUM(AB41:AB173)","v":0},-100000000,0]
[]
[null,"Nº partida ","Pablo",null,"Manel",null,"Jordi",null,"MªJosé",null,"Goretti",null,"Sergi",null,"Carles",null,"Mariajo",null,"Iglesias",null,"Martín",null,"Xavi",null,"Nin",null,"Isabel",null,"Marga",null,{"$f":"COUNT(AE41:AE194)","v":1},"A","B","C"]
[null,null,"Premi","Punts","Premi","Punts","Premi","Punts","Premi","Punts","Premi","Punts","Premi","Punts","Premi","Punts","Premi","Punts","Premi","Punts","Premi","Punts","Premi","Punts","Premi","Punts","Premi","Punts",null,null,"Data","Timbes"]
[1,null,-100000000,null,0,-1,-100000000,null,-100000000,null,-100000000,null,-100000000,null,10,7,-100000000,null,-100000000,null,-100000000,null,-100000000,null,-10,-6,-100000000,null,-100000000,null,"2022-06-25",76,{"$f":"+C41+E41+G41+I41++K41++M41+O41+Q41+S41+U41+W41+Y41+AC41+AA41","v":-1100000000},0,{"$f":"COUNT(C41:AD41)/2","v":8.5},{"$f":"+AG41/AI41","v":-129411764.70588236}]
[{"$f":"+A41+1","v":2},null,null,null,null,null,null,null,null,null,null,null,null,null,null,null,null,null,null,null,null,null,null,null,null,null,null,null,null,null,null,null,0,0,{"$f":"COUNT(C42:AD42)/2","v":0},{"$f":"+AG42/AI42","v":{"$error":"#DIV/0!"}}]
[{"$f":"+A42+1","v":3},null,null,null,null,null,null,null,null,null,null,null,null,null,null,null,null,null,null,null,null,null,null,null,null,null,null,null,null,null,null,null,0,0,{"$f":"COUNT(C43:AD43)/2","v":0},{"$f":"+AG43/AI43","v":{"$error":"#DIV/0!"}}]
[4]
[5]
[6]
[7]
[8]
[9]
[10]
[11]
[12]
[13]
[14]
[15]
[16]
[17]
[18]
[19]
[20]
[21]

{"sheet":"Black Jack","index":11,"n_rows":61,"n_cols":36,"rows_kept":61,"cut":false,"hidden":false,"merged":[[38,26,38,27],[38,28,38,29],[38,18,38,19],[38,20,38,21],[38,22,38,23],[38,24,38,25],[38,10,38,11],[38,12,38,13],[38,14,38,15],[38,16,38,17],[38,2,38,3],[38,4,38,5],[38,6,38,7],[38,8,38,9]]}
["BLACK JACK"]
["Mes"]
[{"$f":"+GENERAL!B6","v":12},null,{"$f":"SUM(C5:C8)","v":0}]
[null,null,"Premi","Punts","Partides","General"]
[1,"Manel",{"$f":"+E$36","v":10},{"$f":"+F$37","v":10.5},{"$f":"+F$36","v":1},{"$f":"+E$22","v":0},{"$f":"IF(E5<A$3/2,-1,1)*80+C5","v":-70}]
[2,"Nin",{"$f":"+U$36","v":4},{"$f":"+V$37","v":-3},{"$f":"+V$36","v":1},{"$f":"+U$22","v":0},-76]
[3,"Carles",{"$f":"+O$36","v":-4},{"$f":"+P$37","v":-8.5},{"$f":"+P$36","v":1},{"$f":"+O$22","v":0},-84]
[4,"Sergi",{"$f":"+M$36","v":-10},{"$f":"+N$37","v":-32},{"$f":"+N$36","v":1},{"$f":"+M$22","v":0},-90]
[5,"Jordi",{"$f":"+G$36","v":-100000000},{"$f":"+H$37","v":0},{"$f":"+H$36","v":0},{"$f":"+G$22","v":0},-100000080]
[6,"Mercè",{"$f":"+Y$36","v":-100000000},{"$f":"+Z$37","v":0},{"$f":"+Z$36","v":0},{"$f":"+Y$22","v":0},-100000080]
[7,"Mariajo",{"$f":"+Q$36","v":-100000000},{"$f":"+R$37","v":0},{"$f":"+R$36","v":0},{"$f":"+Q$22","v":0},-100000080]
[8,"Marga",{"$f":"+AC$36","v":-100000000},{"$f":"+AD$37","v":0},{"$f":"+AD$36","v":0},{"$f":"+AC$22","v":0},-100000080]
[9,"MªJosé",{"$f":"+I$36","v":-100000000},{"$f":"+J$37","v":0},{"$f":"+J$36","v":0},{"$f":"+I$22","v":0},-100000080]
[10,"Goretti",{"$f":"+K$36","v":-100000000},{"$f":"+L$37","v":0},{"$f":"+L$36","v":0},{"$f":"+K$22","v":0},-100000080]
[11,"Xavi",{"$f":"+W$36","v":-100000000},{"$f":"+X$37","v":0},{"$f":"+X$36","v":0},{"$f":"+W$22","v":0},-100000080]
[12,"Isabel",{"$f":"+AA$36","v":-100000000},{"$f":"+AB$37","v":0},{"$f":"+AB$36","v":0},{"$f":"+AA$22","v":0},-100000080]
[13,"Iglesias",{"$f":"+S$36","v":-100000000},{"$f":"+T$37","v":0},{"$f":"+T$36","v":0},{"$f":"+S$22","v":0},-100000080]
[14,"Pablo",{"$f":"+C$36","v":-100000000},{"$f":"+D$37","v":0},{"$f":"+D$36","v":0},{"$f":"+C$22","v":0},-100000080]
[]
[]
[]
[null,"General",{"$f":"+C23*C24","v":0},{"$f":"+D23*D24","v":0},0,0,0,0,0,0,0,0,0,0,0,0,0,0,0,0,0,0,0,0,0,0,{"$f":"+AA23*AA24","v":0},{"$f":"+AB23*AB24","v":0},0,0]
[null,null,{"$f":"IF($B35>3,1,0)","v":0},{"$f":"IF($B35>3,1,0)","v":0},0,0,0,0,0,0,0,0,0,0,0,0,0,0,0,0,0,0,0,0,0,0,{"$f":"IF($B35>3,1,0)","v":0},{"$f":"IF($B35>3,1,0)","v":0},0,0]
[null,null,{"$f":"MAX(C25:C29)","v":0},{"$f":"+D36","v":0},{"$f":"MAX(E25:E29)","v":0},{"$f":"+F36","v":1},{"$f":"MAX(G25:G29)","v":0},{"$f":"+H36","v":0},{"$f":"MAX(I25:I29)","v":0},{"$f":"+J36","v":0},{"$f":"MAX(K25:K29)","v":0},{"$f":"+L36","v":0},{"$f":"MAX(M25:M29)","v":0},{"$f":"+N36","v":1},{"$f":"MAX(O25:O29)","v":0},{"$f":"+P36","v":1},{"$f":"MAX(Q25:Q29)","v":0},{"$f":"+R36","v":0},{"$f":"MAX(S25:S29)","v":0},{"$f":"+T36","v":0},{"$f":"MAX(U25:U29)","v":0},{"$f":"+V36","v":1},{"$f":"MAX(W25:W29)","v":0},{"$f":"+X36","v":0},{"$f":"MAX(Y25:Y29)","v":0},{"$f":"+Z36","v":0},{"$f":"MAX(AA25:AA29)","v":0},{"$f":"+AB36","v":0},{"$f":"MAX(AC25:AC29)","v":0},{"$f":"+AD36","v":0}]
[null,null,{"$f":"IF(C$30=5,5,0)","v":0},null,{"$f":"IF(E$30=5,5,0)","v":0},null,{"$f":"IF(G$30=5,5,0)","v":0},null,{"$f":"IF(I$30=5,5,0)","v":0},null,{"$f":"IF(K$30=5,5,0)","v":0},null,{"$f":"IF(M$30=5,5,0)","v":0},null,{"$f":"IF(O$30=5,5,0)","v":0},null,{"$f":"IF(Q$30=5,5,0)","v":0},null,{"$f":"IF(S$30=5,5,0)","v":0},null,{"$f":"IF(U$30=5,5,0)","v":0},null,{"$f":"IF(W$30=5,5,0)","v":0},null,{"$f":"IF(Y$30=5,5,0)","v":0},null,{"$f":"IF(AA$30=5,5,0)","v":0},null,{"$f":"IF(AC$30=5,5,0)","v":0}]
[null,null,{"$f":"IF(C$30=4,10,0)","v":0},null,{"$f":"IF(E$30=4,10,0)","v":0},null,{"$f":"IF(G$30=4,10,0)","v":0},null,{"$f":"IF(I$30=4,10,0)","v":0},null,{"$f":"IF(K$30=4,10,0)","v":0},null,{"$f":"IF(M$30=4,10,0)","v":0},null,{"$f":"IF(O$30=4,10,0)","v":0},null,{"$f":"IF(Q$30=4,10,0)","v":0},null,{"$f":"IF(S$30=4,10,0)","v":0},null,{"$f":"IF(U$30=4,10,0)","v":0},null,{"$f":"IF(W$30=4,10,0)","v":0},null,{"$f":"IF(Y$30=4,10,0)","v":0},null,{"$f":"IF(AA$30=4,10,0)","v":0},null,{"$f":"IF(AC$30=4,10,0)","v":0}]
[null,null,{"$f":"IF(C$30=3,20,0)","v":0},null,{"$f":"IF(E$30=3,20,0)","v":0},null,{"$f":"IF(G$30=3,20,0)","v":0},null,{"$f":"IF(I$30=3,20,0)","v":0},null,{"$f":"IF(K$30=3,20,0)","v":0},null,{"$f":"IF(M$30=3,20,0)","v":0},null,{"$f":"IF(O$30=3,20,0)","v":0},null,{"$f":"IF(Q$30=3,20,0)","v":0},null,{"$f":"IF(S$30=3,20,0)","v":0},null,{"$f":"IF(U$30=3,20,0)","v":0},null,{"$f":"IF(W$30=3,20,0)","v":0},null,{"$f":"IF(Y$30=3,20,0)","v":0},null,{"$f":"IF(AA$30=3,20,0)","v":0},null,{"$f":"IF(AC$30=3,20,0)","v":0}]
[null,null,{"$f":"IF(C$30=2,40,0)","v":0},null,{"$f":"IF(E$30=2,40,0)","v":0},null,{"$f":"IF(G$30=2,40,0)","v":0},null,{"$f":"IF(I$30=2,40,0)","v":0},null,{"$f":"IF(K$30=2,40,0)","v":0},null,{"$f":"IF(M$30=2,40,0)","v":0},null,{"$f":"IF(O$30=2,40,0)","v":0},null,{"$f":"IF(Q$30=2,40,0)","v":0},null,{"$f":"IF(S$30=2,40,0)","v":0},null,{"$f":"IF(U$30=2,40,0)","v":0},null,{"$f":"IF(W$30=2,40,0)","v":0},null,{"$f":"IF(Y$30=2,40,0)","v":0},null,{"$f":"IF(AA$30=2,40,0)","v":0},null,{"$f":"IF(AC$30=2,40,0)","v":0}]
[null,null,{"$f":"IF(C$30=1,80,0)","v":0},null,{"$f":"IF(E$30=1,80,0)","v":0},null,{"$f":"IF(G$30=1,80,0)","v":0},null,{"$f":"IF(I$30=1,80,0)","v":0},null,{"$f":"IF(K$30=1,80,0)","v":0},null,{"$f":"IF(M$30=1,80,0)","v":0},null,{"$f":"IF(O$30=1,80,0)","v":0},null,{"$f":"IF(Q$30=1,80,0)","v":0},null,{"$f":"IF(S$30=1,80,0)","v":0},null,{"$f":"IF(U$30=1,80,0)","v":0},null,{"$f":"IF(W$30=1,80,0)","v":0},null,{"$f":"IF(Y$30=1,80,0)","v":0},null,{"$f":"IF(AA$30=1,80,0)","v":0},null,{"$f":"IF(AC$30=1,80,0)","v":0}]
[null,null,{"$f":"RANK(C31,$C31:$AP31)*C35","v":0},null,{"$f":"RANK(E31,$C31:$AP31)*E35","v":0},null,{"$f":"RANK(G31,$C31:$AP31)*G35","v":0},null,{"$f":"RANK(I31,$C31:$AP31)*I35","v":0},null,{"$f":"RANK(K31,$C31:$AP31)*K35","v":0},null,{"$f":"RANK(M31,$C31:$AP31)*M35","v":0},null,{"$f":"RANK(O31,$C31:$AP31)*O35","v":0},null,{"$f":"RANK(Q31,$C31:$AP31)*Q35","v":0},null,{"$f":"RANK(S31,$C31:$AP31)*S35","v":0},null,{"$f":"RANK(U31,$C31:$AP31)*U35","v":0},null,{"$f":"RANK(W31,$C31:$AP31)*W35","v":0},null,{"$f":"RANK(Y31,$C31:$AP31)*Y35","v":0},null,{"$f":"RANK(AA31,$C31:$AP31)*AA35","v":0},null,{"$f":"RANK(AC31,$C31:$AP31)*AC35","v":0}]
[null,null,{"$f":"SUM(C32:C34)","v":-101000000},null,{"$f":"SUM(E32:E34)","v":-999884},null,{"$f":"SUM(G32:G34)","v":-101000000},null,{"$f":"SUM(I32:I34)","v":-101000000},null,{"$f":"SUM(K32:K34)","v":-101000000},null,{"$f":"SUM(M32:M34)","v":-1000329},null,{"$f":"SUM(O32:O34)","v":-1000088},null,{"$f":"SUM(Q32:Q34)","v":-101000000},null,{"$f":"SUM(S32:S34)","v":-101000000},null,{"$f":"SUM(U32:U34)","v":-1000025},null,{"$f":"SUM(W32:W34)","v":-101000000},null,{"$f":"SUM(Y32:Y34)","v":-101000000},null,{"$f":"SUM(AA32:AA34)","v":-101000000},null,{"$f":"SUM(AC32:AC34)","v":-101000000}]
[null,null,{"$f":"+D36","v":0},null,{"$f":"+F36","v":1},null,{"$f":"+H36","v":0},null,{"$f":"+J36","v":0},null,{"$f":"+L36","v":0},null,{"$f":"+N36","v":1},null,{"$f":"+P36","v":1},null,{"$f":"+R36","v":0},null,{"$f":"+T36","v":0},null,{"$f":"+V36","v":1},null,{"$f":"+X36","v":0},null,{"$f":"+Z36","v":0},null,{"$f":"+AB36","v":0},null,{"$f":"+AD36","v":0}]
[null,null,{"$f":"D37*10","v":0},null,{"$f":"F37*10","v":105},null,{"$f":"H37*10","v":0},null,{"$f":"J37*10","v":0},null,{"$f":"L37*10","v":0},null,{"$f":"N37*10","v":-320},null,{"$f":"P37*10","v":-85},null,{"$f":"R37*10","v":0},null,{"$f":"T37*10","v":0},null,{"$f":"V37*10","v":-30},null,{"$f":"X37*10","v":0},null,{"$f":"Z37*10","v":0},null,{"$f":"AB37*10","v":0},null,{"$f":"AD37*10","v":0}]
[null,null,{"$f":"IF(C35=1,C36*C35*1000+C36,-1000000+C36)","v":-101000000},null,{"$f":"IF(E35=1,E36*E35*1000+E36,-1000000+E36)","v":-999990},null,{"$f":"IF(G35=1,G36*G35*1000+G36,-1000000+G36)","v":-101000000},null,{"$f":"IF(I35=1,I36*I35*1000+I36,-1000000+I36)","v":-101000000},null,{"$f":"IF(K35=1,K36*K35*1000+K36,-1000000+K36)","v":-101000000},null,{"$f":"IF(M35=1,M36*M35*1000+M36,-1000000+M36)","v":-1000010},null,{"$f":"IF(O35=1,O36*O35*1000+O36,-1000000+O36)","v":-1000004},null,{"$f":"IF(Q35=1,Q36*Q35*1000+Q36,-1000000+Q36)","v":-101000000},null,{"$f":"IF(S35=1,S36*S35*1000+S36,-1000000+S36)","v":-101000000},null,{"$f":"IF(U35=1,U36*U35*1000+U36,-1000000+U36)","v":-999996},null,{"$f":"IF(W35=1,W36*W35*1000+W36,-1000000+W36)","v":-101000000},null,{"$f":"IF(Y35=1,Y36*Y35*1000+Y36,-1000000+Y36)","v":-101000000},null,{"$f":"IF(AA35=1,AA36*AA35*1000+AA36,-1000000+AA36)","v":-101000000},null,{"$f":"IF(AC35=1,AC36*AC35*1000+AC36,-1000000+AC36)","v":-101000000}]
["Classificats",{"$f":"SUM(C35:AC35)","v":0},{"$f":"IF(D36>=$A3/2,1,0)","v":0},null,{"$f":"IF(F36>=$A3/2,1,0)","v":0},null,{"$f":"IF(H36>=$A3/2,1,0)","v":0},null,{"$f":"IF(J36>=$A3/2,1,0)","v":0},null,{"$f":"IF(L36>=$A3/2,1,0)","v":0},null,{"$f":"IF(N36>=$A3/2,1,0)","v":0},null,{"$f":"IF(P36>=$A3/2,1,0)","v":0},null,{"$f":"IF(R36>=$A3/2,1,0)","v":0},null,{"$f":"IF(T36>=$A3/2,1,0)","v":0},null,{"$f":"IF(V36>=$A3/2,1,0)","v":0},null,{"$f":"IF(X36>=$A3/2,1,0)","v":0},null,{"$f":"IF(Z36>=$A3/2,1,0)","v":0},null,{"$f":"IF(AB36>=$A3/2,1,0)","v":0},null,{"$f":"IF(AD36>=$A3/2,1,0)","v":0},null,{"$f":"MAX(AF38:AF97)","v":76}]
[null,null,{"$f":"IF(SUM(C41:C279)<-1000,-100000000,SUM(C41:C279))","v":-100000000},{"$f":"COUNT(D41:D279)","v":0},{"$f":"IF(SUM(E41:E279)<-1000,-100000000,SUM(E41:E279))","v":10},{"$f":"COUNT(F41:F279)","v":1},{"$f":"IF(SUM(G41:G279)<-1000,-100000000,SUM(G41:G279))","v":-100000000},{"$f":"COUNT(H41:H279)","v":0},{"$f":"IF(SUM(I41:I279)<-1000,-100000000,SUM(I41:I279))","v":-100000000},{"$f":"COUNT(J41:J279)","v":0},{"$f":"IF(SUM(K41:K279)<-1000,-100000000,SUM(K41:K279))","v":-100000000},{"$f":"COUNT(L41:L279)","v":0},{"$f":"IF(SUM(M41:M279)<-1000,-100000000,SUM(M41:M279))","v":-10},{"$f":"COUNT(N41:N279)","v":1},{"$f":"IF(SUM(O41:O279)<-1000,-100000000,SUM(O41:O279))","v":-4},{"$f":"COUNT(P41:P279)","v":1},{"$f":"IF(SUM(Q41:Q279)<-1000,-100000000,SUM(Q41:Q279))","v":-100000000},{"$f":"COUNT(R41:R279)","v":0},{"$f":"IF(SUM(S41:S279)<-1000,-100000000,SUM(S41:S279))","v":-100000000},{"$f":"COUNT(T41:T279)","v":0},{"$f":"IF(SUM(U41:U279)<-1000,-100000000,SUM(U41:U279))","v":4},{"$f":"COUNT(V41:V279)","v":1},{"$f":"IF(SUM(W41:W279)<-1000,-100000000,SUM(W41:W279))","v":-100000000},{"$f":"COUNT(X41:X279)","v":0},{"$f":"IF(SUM(Y41:Y279)<-1000,-100000000,SUM(Y41:Y279))","v":-100000000},{"$f":"COUNT(Z41:Z279)","v":0},{"$f":"IF(SUM(AA41:AA279)<-1000,-100000000,SUM(AA41:AA279))","v":-100000000},{"$f":"COUNT(AB41:AB279)","v":0},{"$f":"IF(SUM(AC41:AC279)<-1000,-100000000,SUM(AC41:AC279))","v":-100000000},{"$f":"COUNT(AD41:AD279)","v":0}]
[null,null,{"$f":"SUM(C41:C173)","v":-100000000},0,10,10.5,-100000000,0,-100000000,0,-100000000,0,-10,-32,-4,-8.5,-100000000,0,-100000000,0,4,-3,-100000000,0,-100000000,0,{"$f":"SUM(AA41:AA173)","v":-100000000},{"$f":"SUM(AB41:AB173)","v":0},-100000000,0]
[]
[null,"Nº partida ","Pablo",null,"Manel",null,"Jordi",null,"MªJosé",null,"Goretti",null,"Sergi",null,"Carles",null,"Mariajo",null,"Iglesias",null,"Nin",null,"Xavi",null,"Mercè",null,"Isabel",null,"Marga",null,{"$f":"COUNT(AE41:AE194)","v":1},"A","B","C"]
[null,null,"Premi","Punts","Premi","Punts","Premi","Punts","Premi","Punts","Premi","Punts","Premi","Punts","Premi","Punts","Premi","Punts","Premi","Punts","Premi","Punts","Premi","Punts","Premi","Punts","Premi","Punts",null,null,"Data","Timbes"]
[1,null,-100000000,null,10,10.5,-100000000,null,-100000000,null,-100000000,null,-10,-32,-4,-8.5,-100000000,null,-100000000,null,4,-3,-100000000,null,-100000000,null,-100000000,null,-100000000,null,"2022-06-25",76,{"$f":"+C41+E41+G41+I41++K41++M41+O41+Q41+S41+U41+W41+Y41+AC41+AA41","v":-1000000000},-33,{"$f":"COUNT(C41:AD41)/2","v":9},{"$f":"+AG41/AI41","v":-111111111.1111111}]
[{"$f":"+A41+1","v":2},null,null,null,null,null,null,null,null,null,null,null,null,null,null,null,null,null,null,null,null,null,null,null,null,null,null,null,null,null,null,null,0,0,{"$f":"COUNT(C42:AD42)/2","v":0},{"$f":"+AG42/AI42","v":{"$error":"#DIV/0!"}}]
[{"$f":"+A42+1","v":3},null,null,null,null,null,null,null,null,null,null,null,null,null,null,null,null,null,null,null,null,null,null,null,null,null,null,null,null,null,null,null,0,0,{"$f":"COUNT(C43:AD43)/2","v":0},{"$f":"+AG43/AI43","v":{"$error":"#DIV/0!"}}]
[4]
[5]
[6]
[7]
[8]
[9]
[10]
[11]
[12]
[13]
[14]
[15]
[16]
[17]
[18]
[19]
[20]
[21]

{"sheet":"Texas","index":12,"n_rows":103,"n_cols":44,"rows_kept":103,"cut":false,"hidden":false,"merged":[[41,36,41,37],[41,18,41,19],[41,20,41,21],[41,22,41,23],[41,24,41,25],[41,26,41,27],[41,32,41,33],[41,34,41,35],[41,14,41,15],[41,16,41,17],[41,28,41,29],[41,30,41,31],[41,2,41,3],[41,4,41,5],[41,6,41,7],[41,8,41,9],[41,10,41,11],[41,12,41,13]]}
["POKER TEXAS"]
["Mes"]
[{"$f":"+GENERAL!B6","v":12},null,{"$f":"SUM(C5:C8)","v":0}]
[null,null,"Premi","Punts","Partides","General"]
[1,"Carles",{"$f":"+O$39","v":10},{"$f":"+P$40","v":30.5},{"$f":"+P$39","v":1},{"$f":"+O$25","v":0},{"$f":"IF(E5<A$3/2,-1,1)*80+C5","v":-70}]
[2,"Nin",{"$f":"+AE$39","v":4},{"$f":"+AF$40","v":25.5},{"$f":"+AF$39","v":1},{"$f":"+AE$25","v":0},-76]
[3,"Manolo",{"$f":"+U$39","v":-4},{"$f":"+V$40","v":-28},{"$f":"+V$39","v":1},{"$f":"+U$25","v":0},-84]
[4,"Sergi",{"$f":"+M$39","v":-10},{"$f":"+N$40","v":-28},{"$f":"+N$39","v":1},{"$f":"+M$25","v":0},-90]
[5,"David",{"$f":"+E$39","v":-100000000},{"$f":"+F$40","v":0},{"$f":"+F$39","v":0},{"$f":"+E$25","v":0},-100000080]
[6,"Gerard",{"$f":"+I$39","v":-100000000},{"$f":"+J$40","v":0},{"$f":"+J$39","v":0},{"$f":"+I$25","v":0},-100000080]
[7,"Goretti",{"$f":"+AG$39","v":-100000000},{"$f":"+AH$40","v":0},{"$f":"+AH$39","v":0},{"$f":"+AG$25","v":0},-100000080]
[8,"Grau",{"$f":"+K$39","v":-100000000},{"$f":"+L$40","v":0},{"$f":"+L$39","v":0},{"$f":"+K$25","v":0},-100000080]
[9,"Iglesias",{"$f":"+S$39","v":-100000000},{"$f":"+T$40","v":0},{"$f":"+T$39","v":0},{"$f":"+S$25","v":0},-100000080]
[10,"Joan Carles",{"$f":"+C$39","v":-100000000},{"$f":"+D$40","v":0},{"$f":"+D$39","v":0},{"$f":"+C$25","v":0},-100000080]
[11,"Jordi",{"$f":"+G$39","v":-100000000},{"$f":"+H$40","v":0},{"$f":"+H$39","v":0},{"$f":"+G$25","v":0},-100000080]
[11,"Lucía",{"$f":"+Y$39","v":-100000000},{"$f":"+Z$40","v":0},{"$f":"+Z$39","v":0},{"$f":"+Y$25","v":0},-100000080]
[11,"Mariajo",{"$f":"+Q$39","v":-100000000},{"$f":"+R$40","v":0},{"$f":"+R$39","v":0},{"$f":"+Q$25","v":0},-100000080]
[14,"Pol",{"$f":"+AK$39","v":-100000000},{"$f":"+AL$40","v":0},{"$f":"+AL$39","v":0},{"$f":"+AK$25","v":0},-100000080]
[15,"Salvadó",{"$f":"+AA$39","v":-100000000},{"$f":"+AB$40","v":0},{"$f":"+AB$39","v":0},{"$f":"+AA26","v":0},-100000080]
[16,"Tito",{"$f":"+AI$39","v":-100000000},{"$f":"+AJ$40","v":0},{"$f":"+AJ$39","v":0},{"$f":"+AI$25","v":0},-100000080]
[17,"Trivi",{"$f":"+AC$39","v":-100000000},{"$f":"+AD$40","v":0},{"$f":"+AD$39","v":0},{"$f":"+AC$25","v":0},-100000080]
[18,"Xavi",{"$f":"+W$39","v":-100000000},{"$f":"+X$40","v":0},{"$f":"+X$39","v":0},{"$f":"+W$25","v":0},-100000080]
[]
[]
[null,"General",{"$f":"+C26*C27","v":0},{"$f":"+D26*D27","v":0},0,0,0,0,0,0,0,0,0,0,0,0,0,0,0,0,0,0,0,0,0,0,{"$f":"+AA26*AA27","v":0},0,0,0,0,0,0,0,0,0,0,0]
[null,null,{"$f":"IF($B38>3,1,0)","v":0},{"$f":"IF($B38>3,1,0)","v":0},0,0,0,0,0,0,0,0,0,0,0,0,0,0,0,0,0,0,0,0,0,0,{"$f":"IF($B38>3,1,0)","v":0},0,0,0,0,0,0,0,0,0,0,0]
[null,null,{"$f":"MAX(C28:C32)","v":0},{"$f":"+D39","v":0},{"$f":"MAX(E28:E32)","v":0},{"$f":"+F39","v":0},{"$f":"MAX(G28:G32)","v":0},{"$f":"+H39","v":0},{"$f":"MAX(I28:I32)","v":0},{"$f":"+J39","v":0},{"$f":"MAX(K28:K32)","v":0},{"$f":"+L39","v":0},{"$f":"MAX(M28:M32)","v":0},{"$f":"+N39","v":1},{"$f":"MAX(O28:O32)","v":0},{"$f":"+P39","v":1},{"$f":"MAX(Q28:Q32)","v":0},{"$f":"+R39","v":0},{"$f":"MAX(S28:S32)","v":0},{"$f":"+T39","v":0},{"$f":"MAX(U28:U32)","v":0},{"$f":"+V39","v":1},{"$f":"MAX(W28:W32)","v":0},{"$f":"+X39","v":0},{"$f":"MAX(Y28:Y32)","v":0},{"$f":"+Z39","v":0},{"$f":"MAX(AA28:AA32)","v":0},{"$f":"+AB39","v":0},{"$f":"MAX(AC28:AC32)","v":0},{"$f":"+AD39","v":0},{"$f":"MAX(AE28:AE32)","v":0},{"$f":"+AF39","v":1},{"$f":"MAX(AG28:AG32)","v":0},{"$f":"+AH39","v":0},{"$f":"MAX(AI28:AI32)","v":0},{"$f":"+AJ39","v":0},{"$f":"MAX(AK28:AK32)","v":0},{"$f":"+AL39","v":0}]
[null,null,{"$f":"IF(C$33=5,5,0)","v":0},null,{"$f":"IF(E$33=5,5,0)","v":0},null,{"$f":"IF(G$33=5,5,0)","v":0},null,{"$f":"IF(I$33=5,5,0)","v":0},null,{"$f":"IF(K$33=5,5,0)","v":0},null,{"$f":"IF(M$33=5,5,0)","v":0},null,{"$f":"IF(O$33=5,5,0)","v":0},null,{"$f":"IF(Q$33=5,5,0)","v":0},null,{"$f":"IF(S$33=5,5,0)","v":0},null,{"$f":"IF(U$33=5,5,0)","v":0},null,{"$f":"IF(W$33=5,5,0)","v":0},null,{"$f":"IF(Y$33=5,5,0)","v":0},null,{"$f":"IF(AA$33=5,5,0)","v":0},null,{"$f":"IF(AC$33=5,5,0)","v":0},null,{"$f":"IF(AE$33=5,5,0)","v":0},null,{"$f":"IF(AG$33=5,5,0)","v":0},null,{"$f":"IF(AI$33=5,5,0)","v":0},null,{"$f":"IF(AK$33=5,5,0)","v":0}]
[null,null,{"$f":"IF(C$33=4,10,0)","v":0},null,{"$f":"IF(E$33=4,10,0)","v":0},null,{"$f":"IF(G$33=4,10,0)","v":0},null,{"$f":"IF(I$33=4,10,0)","v":0},null,{"$f":"IF(K$33=4,10,0)","v":0},null,{"$f":"IF(M$33=4,10,0)","v":0},null,{"$f":"IF(O$33=4,10,0)","v":0},null,{"$f":"IF(Q$33=4,10,0)","v":0},null,{"$f":"IF(S$33=4,10,0)","v":0},null,{"$f":"IF(U$33=4,10,0)","v":0},null,{"$f":"IF(W$33=4,10,0)","v":0},null,{"$f":"IF(Y$33=4,10,0)","v":0},null,{"$f":"IF(AA$33=4,10,0)","v":0},null,{"$f":"IF(AC$33=4,10,0)","v":0},null,{"$f":"IF(AE$33=4,10,0)","v":0},null,{"$f":"IF(AG$33=4,10,0)","v":0},null,{"$f":"IF(AI$33=4,10,0)","v":0},null,{"$f":"IF(AK$33=4,10,0)","v":0}]
[null,null,{"$f":"IF(C$33=3,20,0)","v":0},null,{"$f":"IF(E$33=3,20,0)","v":0},null,{"$f":"IF(G$33=3,20,0)","v":0},null,{"$f":"IF(I$33=3,20,0)","v":0},null,{"$f":"IF(K$33=3,20,0)","v":0},null,{"$f":"IF(M$33=3,20,0)","v":0},null,{"$f":"IF(O$33=3,20,0)","v":0},null,{"$f":"IF(Q$33=3,20,0)","v":0},null,{"$f":"IF(S$33=3,20,0)","v":0},null,{"$f":"IF(U$33=3,20,0)","v":0},null,{"$f":"IF(W$33=3,20,0)","v":0},null,{"$f":"IF(Y$33=3,20,0)","v":0},null,{"$f":"IF(AA$33=3,20,0)","v":0},null,{"$f":"IF(AC$33=3,20,0)","v":0},null,{"$f":"IF(AE$33=3,20,0)","v":0},null,{"$f":"IF(AG$33=3,20,0)","v":0},null,{"$f":"IF(AI$33=3,20,0)","v":0},null,{"$f":"IF(AK$33=3,20,0)","v":0}]
[null,null,{"$f":"IF(C$33=2,40,0)","v":0},null,{"$f":"IF(E$33=2,40,0)","v":0},null,{"$f":"IF(G$33=2,40,0)","v":0},null,{"$f":"IF(I$33=2,40,0)","v":0},null,{"$f":"IF(K$33=2,40,0)","v":0},null,{"$f":"IF(M$33=2,40,0)","v":0},null,{"$f":"IF(O$33=2,40,0)","v":0},null,{"$f":"IF(Q$33=2,40,0)","v":0},null,{"$f":"IF(S$33=2,40,0)","v":0},null,{"$f":"IF(U$33=2,40,0)","v":0},null,{"$f":"IF(W$33=2,40,0)","v":0},null,{"$f":"IF(Y$33=2,40,0)","v":0},null,{"$f":"IF(AA$33=2,40,0)","v":0},null,{"$f":"IF(AC$33=2,40,0)","v":0},null,{"$f":"IF(AE$33=2,40,0)","v":0},null,{"$f":"IF(AG$33=2,40,0)","v":0},null,{"$f":"IF(AI$33=2,40,0)","v":0},null,{"$f":"IF(AK$33=2,40,0)","v":0}]
[null,null,{"$f":"IF(C$33=1,80,0)","v":0},null,{"$f":"IF(E$33=1,80,0)","v":0},null,{"$f":"IF(G$33=1,80,0)","v":0},null,{"$f":"IF(I$33=1,80,0)","v":0},null,{"$f":"IF(K$33=1,80,0)","v":0},null,{"$f":"IF(M$33=1,80,0)","v":0},null,{"$f":"IF(O$33=1,80,0)","v":0},null,{"$f":"IF(Q$33=1,80,0)","v":0},null,{"$f":"IF(S$33=1,80,0)","v":0},null,{"$f":"IF(U$33=1,80,0)","v":0},null,{"$f":"IF(W$33=1,80,0)","v":0},null,{"$f":"IF(Y$33=1,80,0)","v":0},null,{"$f":"IF(AA$33=1,80,0)","v":0},null,{"$f":"IF(AC$33=1,80,0)","v":0},null,{"$f":"IF(AE$33=1,80,0)","v":0},null,{"$f":"IF(AG$33=1,80,0)","v":0},null,{"$f":"IF(AI$33=1,80,0)","v":0},null,{"$f":"IF(AK$33=1,80,0)","v":0}]
[null,null,{"$f":"RANK(C34,$C34:$AX34)*C38","v":0},null,{"$f":"RANK(E34,$C34:$AX34)*E38","v":0},null,{"$f":"RANK(G34,$C34:$AX34)*G38","v":0},null,{"$f":"RANK(I34,$C34:$AX34)*I38","v":0},null,{"$f":"RANK(K34,$C34:$AX34)*K38","v":0},null,{"$f":"RANK(M34,$C34:$AX34)*M38","v":0},null,{"$f":"RANK(O34,$C34:$AX34)*O38","v":0},null,{"$f":"RANK(Q34,$C34:$AX34)*Q38","v":0},null,{"$f":"RANK(S34,$C34:$AX34)*S38","v":0},null,{"$f":"RANK(U34,$C34:$AX34)*U38","v":0},null,{"$f":"RANK(W34,$C34:$AX34)*W38","v":0},null,{"$f":"RANK(Y34,$C34:$AX34)*Y38","v":0},null,{"$f":"RANK(AA34,$C34:$AX34)*AA38","v":0},null,{"$f":"RANK(AC34,$C34:$AX34)*AC38","v":0},null,{"$f":"RANK(AE34,$C34:$AX34)*AE38","v":0},null,{"$f":"RANK(AG34,$C34:$AX34)*AG38","v":0},null,{"$f":"RANK(AI34,$C34:$AX34)*AI38","v":0},null,{"$f":"RANK(AK34,$C34:$AX34)*AK38","v":0}]
[null,null,{"$f":"SUM(C35:C37)","v":-101000000},null,{"$f":"SUM(E35:E37)","v":-101000000},null,{"$f":"SUM(G35:G37)","v":-101000000},null,{"$f":"SUM(I35:I37)","v":-101000000},null,{"$f":"SUM(K35:K37)","v":-101000000},null,{"$f":"SUM(M35:M37)","v":-1000289},null,{"$f":"SUM(O35:O37)","v":-999684},null,{"$f":"SUM(Q35:Q37)","v":-101000000},null,{"$f":"SUM(S35:S37)","v":-101000000},null,{"$f":"SUM(U35:U37)","v":-1000283},null,{"$f":"SUM(W35:W37)","v":-101000000},null,{"$f":"SUM(Y35:Y37)","v":-101000000},null,{"$f":"SUM(AA35:AA37)","v":-101000000},null,{"$f":"SUM(AC35:AC37)","v":-101000000},null,{"$f":"SUM(AE35:AE37)","v":-999740},null,{"$f":"SUM(AG35:AG37)","v":-101000000},null,{"$f":"SUM(AI35:AI37)","v":-101000000},null,{"$f":"SUM(AK35:AK37)","v":-101000000}]
[null,null,{"$f":"+D39","v":0},null,{"$f":"+F39","v":0},null,{"$f":"+H39","v":0},null,{"$f":"+J39","v":0},null,{"$f":"+L39","v":0},null,{"$f":"+N39","v":1},null,{"$f":"+P39","v":1},null,{"$f":"+R39","v":0},null,{"$f":"+T39","v":0},null,{"$f":"+V39","v":1},null,{"$f":"+X39","v":0},null,{"$f":"+Z39","v":0},null,{"$f":"+AB39","v":0},null,{"$f":"+AD39","v":0},null,{"$f":"+AF39","v":1},null,{"$f":"+AH39","v":0},null,{"$f":"+AJ39","v":0},null,{"$f":"+AL39","v":0}]
[null,null,{"$f":"D40*10","v":0},null,{"$f":"F40*10","v":0},null,{"$f":"H40*10","v":0},null,{"$f":"J40*10","v":0},null,{"$f":"L40*10","v":0},null,{"$f":"N40*10","v":-280},null,{"$f":"P40*10","v":305},null,{"$f":"R40*10","v":0},null,{"$f":"T40*10","v":0},null,{"$f":"V40*10","v":-280},null,{"$f":"X40*10","v":0},null,{"$f":"Z40*10","v":0},null,{"$f":"AB40*10","v":0},null,{"$f":"AD40*10","v":0},null,{"$f":"AF40*10","v":255},null,{"$f":"AH40*10","v":0},null,{"$f":"AJ40*10","v":0},null,{"$f":"AL40*10","v":0}]
[null,null,{"$f":"IF(C38=1,C39*C38*10000+C39,-1000000+C39)","v":-101000000},null,{"$f":"IF(E38=1,E39*E38*10000+E39,-1000000+E39)","v":-101000000},null,{"$f":"IF(G38=1,G39*G38*10000+G39,-1000000+G39)","v":-101000000},null,{"$f":"IF(I38=1,I39*I38*10000+I39,-1000000+I39)","v":-101000000},null,{"$f":"IF(K38=1,K39*K38*10000+K39,-1000000+K39)","v":-101000000},null,{"$f":"IF(M38=1,M39*M38*10000+M39,-1000000+M39)","v":-1000010},null,{"$f":"IF(O38=1,O39*O38*10000+O39,-1000000+O39)","v":-999990},null,{"$f":"IF(Q38=1,Q39*Q38*10000+Q39,-1000000+Q39)","v":-101000000},null,{"$f":"IF(S38=1,S39*S38*10000+S39,-1000000+S39)","v":-101000000},null,{"$f":"IF(U38=1,U39*U38*10000+U39,-1000000+U39)","v":-1000004},null,{"$f":"IF(W38=1,W39*W38*10000+W39,-1000000+W39)","v":-101000000},null,{"$f":"IF(Y38=1,Y39*Y38*10000+Y39,-1000000+Y39)","v":-101000000},null,{"$f":"IF(AA38=1,AA39*AA38*10000+AA39,-1000000+AA39)","v":-101000000},null,{"$f":"IF(AC38=1,AC39*AC38*10000+AC39,-1000000+AC39)","v":-101000000},null,{"$f":"IF(AE38=1,AE39*AE38*10000+AE39,-1000000+AE39)","v":-999996},null,{"$f":"IF(AG38=1,AG39*AG38*10000+AG39,-1000000+AG39)","v":-101000000},null,{"$f":"IF(AI38=1,AI39*AI38*10000+AI39,-1000000+AI39)","v":-101000000},null,{"$f":"IF(AK38=1,AK39*AK38*10000+AK39,-1000000+AK39)","v":-101000000}]
["Classificats",{"$f":"SUM(C38:AK38)","v":0},{"$f":"IF(D39>=$A3/2,1,0)","v":0},null,{"$f":"IF(F39>=$A3/2,1,0)","v":0},null,{"$f":"IF(H39>=$A3/2,1,0)","v":0},null,{"$f":"IF(J39>=$A3/2,1,0)","v":0},null,{"$f":"IF(L39>=$A3/2,1,0)","v":0},null,{"$f":"IF(N39>=$A3/2,1,0)","v":0},null,{"$f":"IF(P39>=$A3/2,1,0)","v":0},null,{"$f":"IF(R39>=$A3/2,1,0)","v":0},null,{"$f":"IF(T39>=$A3/2,1,0)","v":0},null,{"$f":"IF(V39>=$A3/2,1,0)","v":0},null,{"$f":"IF(X39>=$A3/2,1,0)","v":0},null,{"$f":"IF(Z39>=$A3/2,1,0)","v":0},null,{"$f":"IF(AB39>=$A3/2,1,0)","v":0},null,{"$f":"IF(AD39>=$A3/2,1,0)","v":0},null,{"$f":"IF(AF39>=$A3/2,1,0)","v":0},null,{"$f":"IF(AH39>=$A3/2,1,0)","v":0},null,{"$f":"IF(AJ39>=$A3/2,1,0)","v":0},null,{"$f":"IF(AL39>=$A3/2,1,0)","v":0}]
[null,null,{"$f":"IF(SUM(C44:C209)<-1000,-100000000,SUM(C44:C209))","v":-100000000},{"$f":"COUNT(D44:D209)","v":0},{"$f":"IF(SUM(E44:E209)<-1000,-100000000,SUM(E44:E209))","v":-100000000},{"$f":"COUNT(F44:F209)","v":0},{"$f":"IF(SUM(G44:G209)<-1000,-100000000,SUM(G44:G209))","v":-100000000},{"$f":"COUNT(H44:H209)","v":0},{"$f":"IF(SUM(I44:I209)<-1000,-100000000,SUM(I44:I209))","v":-100000000},{"$f":"COUNT(J44:J209)","v":0},{"$f":"IF(SUM(K44:K209)<-1000,-100000000,SUM(K44:K209))","v":-100000000},{"$f":"COUNT(L44:L209)","v":0},{"$f":"IF(SUM(M44:M209)<-1000,-100000000,SUM(M44:M209))","v":-10},{"$f":"COUNT(N44:N209)","v":1},{"$f":"IF(SUM(O44:O209)<-1000,-100000000,SUM(O44:O209))","v":10},{"$f":"COUNT(P44:P209)","v":1},{"$f":"IF(SUM(Q44:Q209)<-1000,-100000000,SUM(Q44:Q209))","v":-100000000},{"$f":"COUNT(R44:R209)","v":0},{"$f":"IF(SUM(S44:S209)<-1000,-100000000,SUM(S44:S209))","v":-100000000},{"$f":"COUNT(T44:T209)","v":0},{"$f":"IF(SUM(U44:U209)<-1000,-100000000,SUM(U44:U209))","v":-4},{"$f":"COUNT(V44:V209)","v":1},{"$f":"IF(SUM(W44:W209)<-1000,-100000000,SUM(W44:W209))","v":-100000000},{"$f":"COUNT(X44:X209)","v":0},{"$f":"IF(SUM(Y44:Y209)<-1000,-100000000,SUM(Y44:Y209))","v":-100000000},{"$f":"COUNT(Z44:Z209)","v":0},{"$f":"IF(SUM(AA44:AA209)<-1000,-100000000,SUM(AA44:AA209))","v":-100000000},{"$f":"COUNT(AB44:AB209)","v":0},{"$f":"IF(SUM(AC44:AC209)<-1000,-100000000,SUM(AC44:AC209))","v":-100000000},{"$f":"COUNT(AD44:AD209)","v":0},{"$f":"IF(SUM(AE44:AE209)<-1000,-100000000,SUM(AE44:AE209))","v":4},{"$f":"COUNT(AF44:AF209)","v":1},{"$f":"IF(SUM(AG44:AG209)<-1000,-100000000,SUM(AG44:AG209))","v":-100000000},{"$f":"COUNT(AH44:AH209)","v":0},{"$f":"IF(SUM(AI44:AI209)<-1000,-100000000,SUM(AI44:AI209))","v":-100000000},{"$f":"COUNT(AJ44:AJ209)","v":0},{"$f":"IF(SUM(AK44:AK209)<-1000,-100000000,SUM(AK44:AK209))","v":-100000000},{"$f":"COUNT(AL44:AL209)","v":0}]
[null,null,{"$f":"SUM(C44:C103)","v":-100000000},0,-100000000,0,-100000000,0,-100000000,0,-100000000,0,-10,-28,10,30.5,{"$f":"SUM(Q44:Q103)","v":-100000000},0,-100000000,0,-4,-28,-100000000,0,-100000000,0,-100000000,0,-100000000,0,4,25.5,-100000000,0,-100000000,0,-100000000,0]
[null,null,null,null,null,null,null,null,null,null,null,null,null,null,null,null,null,null,null,null,null,null,null,null,null,null,null,null,null,null,null,null,null,null,null,null,null,null,{"$f":"MAX(AN44:AN103)","v":76}]
[null,"Nº partida ","Joan Carles",null,"David",null,"Jordi",null,"Gerard",null,"Grau",null,"Sergi",null,"Carles",null,"Mariajo",null,"Iglesias",null,"Manolo",null,"Xavi",null,"Lucía",null,"Salvadó",null,"Trivi",null,"Nin",null,"Goretti",null,"Tito",null,"Pol",null,{"$f":"COUNT(AM44:AM124)","v":1},"A","B","C"]
[null,null,"Premi","Punts","Premi","Punts","Premi","Punts","Premi","Punts","Premi","Punts","Premi","Punts","Premi","Punts","Premi","Punts","Premi","Punts","Premi","Punts","Premi","Punts","Premi","Punts","Premi","Punts","Premi","Punts","Premi","Punts","Premi","Punts","Premi","Punts","Premi","Punts","Data","Timbes"]
[1,null,-100000000,null,-100000000,null,-100000000,null,-100000000,null,-100000000,null,-10,-28,10,30.5,-100000000,null,-100000000,null,-4,-28,-100000000,null,-100000000,null,-100000000,null,-100000000,null,4,25.5,-100000000,null,-100000000,null,-100000000,null,"2022-06-25",76,{"$f":"+C44+E44+G44+I44++K44++M44+O44+Q44+S44+U44+W44+Y44+AK44+AA44+AC44+AE44+AG44+AI44","v":-1400000000},{"$f":"+D44+F44+H44+J44++L44++N44+P44+R44+T44+V44+X44+Z44+AL44+AB44+AD44+AF44+AH44+AJ44","v":0},{"$f":"COUNT(C44:AL44)/2","v":11},{"$f":"+AO44/AQ44","v":-127272727.27272727}]
[{"$f":"+A44+1","v":2},null,null,null,null,null,null,null,null,null,null,null,null,null,null,null,null,null,null,null,null,null,null,null,null,null,null,null,null,null,null,null,null,null,null,null,null,null,null,null,{"$f":"+C45+E45+G45+I45++K45++M45+O45+Q45+S45+U45+W45+Y45+AK45+AA45+AC45+AE45+AG45+AI45","v":0},0,0,{"$f":"+AO45/AQ45","v":{"$error":"#DIV/0!"}}]
[{"$f":"+A45+1","v":3},null,null,null,null,null,null,null,null,null,null,null,null,null,null,null,null,null,null,null,null,null,null,null,null,null,null,null,null,null,null,null,null,null,null,null,null,null,null,null,0,0,0,{"$error":"#DIV/0!"}]
[4,null,null,null,null,null,null,null,null,null,null,null,null,null,null,null,null,null,null,null,null,null,null,null,null,null,null,null,null,null,null,null,null,null,null,null,null,null,null,null,0,0,0,{"$error":"#DIV/0!"}]
[5,null,null,null,null,null,null,null,null,null,null,null,null,null,null,null,null,null,null,null,null,null,null,null,null,null,null,null,null,null,null,null,null,null,null,null,null,null,null,null,0,0,0,{"$error":"#DIV/0!"}]
[6,null,null,null,null,null,null,null,null,null,null,null,null,null,null,null,null,null,null,null,null,null,null,null,null,null,null,null,null,null,null,null,null,null,null,null,null,null,null,null,0,0,0,{"$error":"#DIV/0!"}]
[7,null,null,null,null,null,null,null,null,null,null,null,null,null,null,null,null,null,null,null,null,null,null,null,null,null,null,null,null,null,null,null,null,null,null,null,null,null,null,null,0,0,0,{"$error":"#DIV/0!"}]
[8,null,null,null,null,null,null,null,null,null,null,null,null,null,null,null,null,null,null,null,null,null,null,null,null,null,null,null,null,null,null,null,null,null,null,null,null,null,null,null,0,0,0,{"$error":"#DIV/0!"}]
[9,null,null,null,null,null,null,null,null,null,null,null,null,null,null,null,null,null,null,null,null,null,null,null,null,null,null,null,null,null,null,null,null,null,null,null,null,null,null,null,0,0,0,{"$error":"#DIV/0!"}]
[10,null,null,null,null,null,null,null,null,null,null,null,null,null,null,null,null,null,null,null,null,null,null,null,null,null,null,null,null,null,null,null,null,null,null,null,null,null,null,null,0,0,0,{"$error":"#DIV/0!"}]
[11,null,null,null,null,null,null,null,null,null,null,null,null,null,null,null,null,null,null,null,null,null,null,null,null,null,null,null,null,null,null,null,null,null,null,null,null,null,null,null,0,0,0,{"$error":"#DIV/0!"}]
[12,null,null,null,null,null,null,null,null,null,null,null,null,null,null,null,null,null,null,null,null,null,null,null,null,null,null,null,null,null,null,null,null,null,null,null,null,null,null,null,0,0,0,{"$error":"#DIV/0!"}]
[13,null,null,null,null,null,null,null,null,null,null,null,null,null,null,null,null,null,null,null,null,null,null,null,null,null,null,null,null,null,null,null,null,null,null,null,null,null,null,null,0,0,0,{"$error":"#DIV/0!"}]
[14,null,null,null,null,null,null,null,null,null,null,null,null,null,null,null,null,null,null,null,null,null,null,null,null,null,null,null,null,null,null,null,null,null,null,null,null,null,null,null,0,0,0,{"$error":"#DIV/0!"}]
[15,null,null,null,null,null,null,null,null,null,null,null,null,null,null,null,null,null,null,null,null,null,null,null,null,null,null,null,null,null,null,null,null,null,null,null,null,null,null,null,0,0,0,{"$error":"#DIV/0!"}]
[16,null,null,null,null,null,null,null,null,null,null,null,null,null,null,null,null,null,null,null,null,null,null,null,null,null,null,null,null,null,null,null,null,null,null,null,null,null,null,null,0,0,0,{"$error":"#DIV/0!"}]
[17,null,null,null,null,null,null,null,null,null,null,null,null,null,null,null,null,null,null,null,null,null,null,null,null,null,null,null,null,null,null,null,null,null,null,null,null,null,null,null,0,0,0,{"$error":"#DIV/0!"}]
[18,null,null,null,null,null,null,null,null,null,null,null,null,null,null,null,null,null,null,null,null,null,null,null,null,null,null,null,null,null,null,null,null,null,null,null,null,null,null,null,0,0,0,{"$error":"#DIV/0!"}]
[19]
[20]
[21]
[22]
[23]
[24]
[25]
[26]
[27]
[28]
[29]
[30]
[31]
[32]
[33]
[34]
[35]
[36]
[37]
[38]
[39]
[40]
[41]
[42]
[43]
[44]
[45]
[46]
[47]
[48]
[49]
[50]
[51]
[52]
[53]
[54]
[55]
[56]
[57]
[58]
[59]
[60]

{"sheet":"Pumba","index":13,"n_rows":156,"n_cols":58,"rows_kept":156,"cut":false,"hidden":false,"merged":[[40,17,40,19],[40,2,40,4],[40,5,40,7],[40,8,40,10],[40,11,40,13],[40,14,40,16],[40,47,40,49],[40,20,40,22],[40,23,40,25],[40,50,40,52],[40,26,40,28],[40,29,40,31],[40,32,40,34],[40,41,40,43],[40,35,40,37],[40,38,40,40],[40,44,40,46]]}
["PUMBA"]
["Mes"]
[{"$f":"+GENERAL!B6","v":12},null,{"$f":"SUM(C5:C9)","v":0}]
[null,null,"Premi","Punts","Partides","General"]
[1,"Carles",{"$f":"+U$38","v":20},{"$f":"+U$39","v":8.9499999999999993},{"$f":"+V$38","v":4},{"$f":"+U$24","v":0},{"$f":"IF(E5<A$3/2,-1,1)*800+C5","v":-780}]
[2,"Manolo",{"$f":"+O$38","v":0},{"$f":"+O$39","v":10.4},{"$f":"+P$38","v":4},{"$f":"+O$24","v":0},{"$f":"IF(E6<A$3/2,-1,1)*800+C6","v":-800}]
[3,"Mariajo",{"$f":"+X$38","v":0},{"$f":"+X$39","v":12.25},{"$f":"+Y$38","v":2},{"$f":"+X$24","v":0},{"$f":"IF(E7<A$3/2,-1,1)*800+C7","v":-800}]
[4,"Sergi",{"$f":"+R$38","v":-6},{"$f":"+R$39","v":14.5},{"$f":"+S$38","v":2},{"$f":"+R$24","v":0},{"$f":"IF(E8<A$3/2,-1,1)*800+C8","v":-806}]
[5,"Nin",{"$f":"+L$38","v":-14},{"$f":"+L$39","v":20.875},{"$f":"+M$38","v":2},{"$f":"+L$24","v":0},{"$f":"IF(E9<A$3/2,-1,1)*800+C9","v":-814}]
[6,"Sebas",{"$f":"+AJ$38","v":-100000000},{"$f":"+AJ$39","v":0},{"$f":"+AK$38","v":0},{"$f":"+AJ$24","v":0},{"$f":"IF(E10<A$3/2,-1,1)*800+C10","v":-100000800}]
[7,"Jordi",{"$f":"+I$38","v":-100000000},{"$f":"+I$39","v":0},{"$f":"+J$38","v":0},{"$f":"+I$24","v":0},-100000800]
[8,"Gemma",{"$f":"+C$38","v":-100000000},{"$f":"+C$39","v":0},{"$f":"+D$38","v":0},{"$f":"+C$24","v":0},-100000800]
[9,"Montse",{"$f":"+AM$38","v":-100000000},{"$f":"+AM$39","v":0},{"$f":"+AN$38","v":0},{"$f":"+AM$24","v":0},-100000800]
[10,"Tito",{"$f":"+AV$38","v":-100000000},{"$f":"+AV$39","v":0},{"$f":"+AW$38","v":0},{"$f":"+AV$24","v":0},-100000800]
[11,"Goretti",{"$f":"+AS$38","v":-100000000},{"$f":"+AS$39","v":0},{"$f":"+AT$38","v":0},{"$f":"+AS$24","v":0},-100000800]
[12,"Lucía",{"$f":"+AP$38","v":-100000000},{"$f":"+AP$39","v":0},{"$f":"+AQ$38","v":0},{"$f":"+AP$24","v":0},-100000800]
[13,"Grau",{"$f":"+AY$38","v":-100000000},{"$f":"+AY$39","v":0},{"$f":"+AZ$38","v":0},{"$f":"+AY$24","v":0},-100000800]
[14,"Angie",{"$f":"+F$38","v":-100000000},{"$f":"+F$39","v":0},{"$f":"+G$38","v":0},{"$f":"+F$24","v":0},-100000800]
[15,"Xavi",{"$f":"+AG$38","v":-100000000},{"$f":"+AG$39","v":0},{"$f":"+AH$38","v":0},{"$f":"+AG$24","v":0},-100000800]
[16,"Martín",{"$f":"+AD$38","v":-100000000},{"$f":"+AD$39","v":0},{"$f":"+AE$38","v":0},{"$f":"+AD$24","v":0},-100000800]
[17,"Iglesias",{"$f":"+AA$38","v":-100000000},{"$f":"+AA$39","v":0},{"$f":"+AB$38","v":0},{"$f":"+AA$24","v":0},-100000800]
[]
[]
[null,"General",{"$f":"+C25*C26","v":0},{"$f":"+D25*D26","v":0},null,{"$f":"+F25*F26","v":0},{"$f":"+G25*G26","v":0},null,{"$f":"+I25*I26","v":0},{"$f":"+J25*J26","v":0},null,{"$f":"L25*L26","v":0},{"$f":"+M25*M26","v":0},null,{"$f":"+O25*O26","v":0},{"$f":"+P25*P26","v":0},null,{"$f":"+R25*R26","v":0},{"$f":"+S25*S26","v":0},null,{"$f":"+U25*U26","v":0},{"$f":"+V25*V26","v":0},null,{"$f":"+X25*X26","v":0},{"$f":"+Y25*Y26","v":0},null,{"$f":"+AA25*AA26","v":0},{"$f":"+AB25*AB26","v":0},null,{"$f":"+AD25*AD26","v":0},{"$f":"+AE25*AE26","v":0},null,{"$f":"+AG25*AG26","v":0},{"$f":"+AH25*AH26","v":0},null,{"$f":"+AJ25*AJ26","v":0},{"$f":"+AK25*AK26","v":0},null,{"$f":"+AM25*AM26","v":0},{"$f":"+AN25*AN26","v":0},null,{"$f":"+AP25*AP26","v":0},{"$f":"+AQ25*AQ26","v":0},null,{"$f":"+AS25*AS26","v":0},{"$f":"+AT25*AT26","v":0},null,{"$f":"+AV25*AV26","v":0},{"$f":"+AW25*AW26","v":0},null,{"$f":"+AY25*AY26","v":0},{"$f":"+AZ25*AZ26","v":0}]
[null,null,{"$f":"IF($B37>3,1,0)","v":0},{"$f":"IF($B37>3,1,0)","v":0},null,0,0,null,{"$f":"IF($B37>3,1,0)","v":0},0,null,0,0,null,0,0,null,0,0,null,0,0,null,0,0,null,0,0,null,0,0,null,0,0,null,{"$f":"IF($B37>3,1,0)","v":0},{"$f":"IF($B37>3,1,0)","v":0},null,{"$f":"IF($B37>3,1,0)","v":0},{"$f":"IF($B37>3,1,0)","v":0},null,0,0,null,{"$f":"IF($B37>3,1,0)","v":0},{"$f":"IF($B37>3,1,0)","v":0},null,{"$f":"IF($B37>3,1,0)","v":0},{"$f":"IF($B37>3,1,0)","v":0},null,0,0]
[null,null,{"$f":"MAX(C27:C31)","v":0},{"$f":"+D38","v":0},null,{"$f":"MAX(F27:F31)","v":0},{"$f":"+G38","v":0},null,{"$f":"MAX(I27:I31)","v":0},{"$f":"+J38","v":0},null,{"$f":"MAX(L27:L31)","v":0},{"$f":"+M38","v":2},null,{"$f":"MAX(O27:O31)","v":0},{"$f":"+P38","v":4},null,{"$f":"MAX(R27:R31)","v":0},{"$f":"+S38","v":2},null,{"$f":"MAX(U27:U31)","v":0},{"$f":"+V38","v":4},null,{"$f":"MAX(X27:X31)","v":0},{"$f":"+Y38","v":2},null,{"$f":"MAX(AA27:AA31)","v":0},{"$f":"+AB38","v":0},null,{"$f":"MAX(AD27:AD31)","v":0},{"$f":"+AE38","v":0},null,{"$f":"MAX(AG27:AG31)","v":0},{"$f":"+AH38","v":0},null,{"$f":"MAX(AJ27:AJ31)","v":0},{"$f":"+AK38","v":0},null,{"$f":"MAX(AM27:AM31)","v":0},{"$f":"+AN38","v":0},null,{"$f":"MAX(AP27:AP31)","v":0},{"$f":"+AQ38","v":0},null,{"$f":"MAX(AS27:AS31)","v":0},{"$f":"+AT38","v":0},null,{"$f":"MAX(AV27:AV31)","v":0},{"$f":"+AW38","v":0},null,{"$f":"MAX(AY27:AY31)","v":0},{"$f":"+AZ38","v":0}]
[null,null,{"$f":"IF(C$32=5,5,0)","v":0},null,null,{"$f":"IF(F$32=5,5,0)","v":0},null,null,{"$f":"IF(I$32=5,5,0)","v":0},null,null,{"$f":"IF(L$32=5,5,0)","v":0},null,null,{"$f":"IF(O$32=5,5,0)","v":0},null,null,{"$f":"IF(R$32=5,5,0)","v":0},null,null,{"$f":"IF(U$32=5,5,0)","v":0},null,null,{"$f":"IF(X$32=5,5,0)","v":0},null,null,{"$f":"IF(AA$32=5,5,0)","v":0},null,null,{"$f":"IF(AD$32=5,5,0)","v":0},null,null,{"$f":"IF(AG$32=5,5,0)","v":0},null,null,{"$f":"IF(AJ$32=5,5,0)","v":0},null,null,{"$f":"IF(AM$32=5,5,0)","v":0},null,null,{"$f":"IF(AP$32=5,5,0)","v":0},null,null,{"$f":"IF(AS$32=5,5,0)","v":0},null,null,{"$f":"IF(AV$32=5,5,0)","v":0},null,null,{"$f":"IF(AY$32=5,5,0)","v":0}]
[null,null,{"$f":"IF(C$32=4,10,0)","v":0},null,null,{"$f":"IF(F$32=4,10,0)","v":0},null,null,{"$f":"IF(I$32=4,10,0)","v":0},null,null,{"$f":"IF(L$32=4,10,0)","v":0},null,null,{"$f":"IF(O$32=4,10,0)","v":0},null,null,{"$f":"IF(R$32=4,10,0)","v":0},null,null,{"$f":"IF(U$32=4,10,0)","v":0},null,null,{"$f":"IF(X$32=4,10,0)","v":0},null,null,{"$f":"IF(AA$32=4,10,0)","v":0},null,null,{"$f":"IF(AD$32=4,10,0)","v":0},null,null,{"$f":"IF(AG$32=4,10,0)","v":0},null,null,{"$f":"IF(AJ$32=4,10,0)","v":0},null,null,{"$f":"IF(AM$32=4,10,0)","v":0},null,null,{"$f":"IF(AP$32=4,10,0)","v":0},null,null,{"$f":"IF(AS$32=4,10,0)","v":0},null,null,{"$f":"IF(AV$32=4,10,0)","v":0},null,null,{"$f":"IF(AY$32=4,10,0)","v":0}]
[null,null,{"$f":"IF(C$32=3,20,0)","v":0},null,null,{"$f":"IF(F$32=3,20,0)","v":0},null,null,{"$f":"IF(I$32=3,20,0)","v":0},null,null,{"$f":"IF(L$32=3,20,0)","v":0},null,null,{"$f":"IF(O$32=3,20,0)","v":0},null,null,{"$f":"IF(R$32=3,20,0)","v":0},null,null,{"$f":"IF(U$32=3,20,0)","v":0},null,null,{"$f":"IF(X$32=3,20,0)","v":0},null,null,{"$f":"IF(AA$32=3,20,0)","v":0},null,null,{"$f":"IF(AD$32=3,20,0)","v":0},null,null,{"$f":"IF(AG$32=3,20,0)","v":0},null,null,{"$f":"IF(AJ$32=3,20,0)","v":0},null,null,{"$f":"IF(AM$32=3,20,0)","v":0},null,null,{"$f":"IF(AP$32=3,20,0)","v":0},null,null,{"$f":"IF(AS$32=3,20,0)","v":0},null,null,{"$f":"IF(AV$32=3,20,0)","v":0},null,null,{"$f":"IF(AY$32=3,20,0)","v":0}]
[null,null,{"$f":"IF(C$32=2,40,0)","v":0},null,null,{"$f":"IF(F$32=2,40,0)","v":0},null,null,{"$f":"IF(I$32=2,40,0)","v":0},null,null,{"$f":"IF(L$32=2,40,0)","v":0},null,null,{"$f":"IF(O$32=2,40,0)","v":0},null,null,{"$f":"IF(R$32=2,40,0)","v":0},null,null,{"$f":"IF(U$32=2,40,0)","v":0},null,null,{"$f":"IF(X$32=2,40,0)","v":0},null,null,{"$f":"IF(AA$32=2,40,0)","v":0},null,null,{"$f":"IF(AD$32=2,40,0)","v":0},null,null,{"$f":"IF(AG$32=2,40,0)","v":0},null,null,{"$f":"IF(AJ$32=2,40,0)","v":0},null,null,{"$f":"IF(AM$32=2,40,0)","v":0},null,null,{"$f":"IF(AP$32=2,40,0)","v":0},null,null,{"$f":"IF(AS$32=2,40,0)","v":0},null,null,{"$f":"IF(AV$32=2,40,0)","v":0},null,null,{"$f":"IF(AY$32=2,40,0)","v":0}]
[null,null,{"$f":"IF(C$32=1,80,0)","v":0},null,null,{"$f":"IF(F$32=1,80,0)","v":0},null,null,{"$f":"IF(I$32=1,80,0)","v":0},null,null,{"$f":"IF(L$32=1,80,0)","v":0},null,null,{"$f":"IF(O$32=1,80,0)","v":0},null,null,{"$f":"IF(R$32=1,80,0)","v":0},null,null,{"$f":"IF(U$32=1,80,0)","v":0},null,null,{"$f":"IF(X$32=1,80,0)","v":0},null,null,{"$f":"IF(AA$32=1,80,0)","v":0},null,null,{"$f":"IF(AD$32=1,80,0)","v":0},null,null,{"$f":"IF(AG$32=1,80,0)","v":0},null,null,{"$f":"IF(AJ$32=1,80,0)","v":0},null,null,{"$f":"IF(AM$32=1,80,0)","v":0},null,null,{"$f":"IF(AP$32=1,80,0)","v":0},null,null,{"$f":"IF(AS$32=1,80,0)","v":0},null,null,{"$f":"IF(AV$32=1,80,0)","v":0},null,null,{"$f":"IF(AY$32=1,80,0)","v":0}]
[null,null,{"$f":"RANK(C33,$C33:$AZ33)*C37","v":0},null,null,{"$f":"RANK(F33,$C33:$AZ33)*F37","v":0},null,null,{"$f":"RANK(I33,$C33:$AZ33)*I37","v":0},null,null,{"$f":"RANK(L33,$C33:$AZ33)*L37","v":0},null,null,{"$f":"RANK(O33,$C33:$AZ33)*O37","v":0},null,null,{"$f":"RANK(R33,$C33:$AZ33)*R37","v":0},null,null,{"$f":"RANK(U33,$C33:$AZ33)*U37","v":0},null,null,{"$f":"RANK(X33,$C33:$AZ33)*X37","v":0},null,null,{"$f":"RANK(AA33,$C33:$AZ33)*AA37","v":0},null,null,{"$f":"RANK(AD33,$C33:$AZ33)*AD37","v":0},null,null,{"$f":"RANK(AG33,$C33:$AZ33)*AG37","v":0},null,null,{"$f":"RANK(AJ33,$C33:$AZ33)*AJ37","v":0},null,null,{"$f":"RANK(AM33,$C33:$AZ33)*AM37","v":0},null,null,{"$f":"RANK(AP33,$C33:$AZ33)*AP37","v":0},null,null,{"$f":"RANK(AS33,$C33:$AZ33)*AS37","v":0},null,null,{"$f":"RANK(AV33,$C33:$AZ33)*AV37","v":0},null,null,{"$f":"RANK(AY33,$C33:$AZ33)*AY37","v":0}]
[null,null,{"$f":"SUM(C34:C36)","v":-1000000},null,null,{"$f":"SUM(F34:F36)","v":-1000000},null,null,{"$f":"SUM(I34:I36)","v":-1000000},null,null,{"$f":"SUM(L34:L36)","v":-1002085.5},null,null,{"$f":"SUM(O34:O36)","v":-1001036},null,null,{"$f":"SUM(R34:R36)","v":-1001448},null,null,{"$f":"SUM(U34:U36)","v":-1000891},null,null,{"$f":"SUM(X34:X36)","v":-1001223},null,null,{"$f":"SUM(AA34:AA36)","v":-1000000},null,null,{"$f":"SUM(AD34:AD36)","v":-1000000},null,null,{"$f":"SUM(AG34:AG36)","v":-1000000},null,null,{"$f":"SUM(AJ34:AJ36)","v":-1000000},null,null,{"$f":"SUM(AM34:AM36)","v":-1000000},null,null,{"$f":"SUM(AP34:AP36)","v":-1000000},null,null,{"$f":"SUM(AS34:AS36)","v":-1000000},null,null,{"$f":"SUM(AV34:AV36)","v":-1000000},null,null,{"$f":"SUM(AY34:AY36)","v":-1000000}]
[null,null,{"$f":"+D38","v":0},null,null,{"$f":"+G38","v":0},null,null,{"$f":"+J38","v":0},null,null,{"$f":"+M38","v":2},null,null,{"$f":"+P38","v":4},null,null,{"$f":"+S38","v":2},null,null,{"$f":"+V38","v":4},null,null,{"$f":"+Y38","v":2},null,null,{"$f":"+AB38","v":0},null,null,{"$f":"+AE38","v":0},null,null,{"$f":"+AH38","v":0},null,null,{"$f":"+AK38","v":0},null,null,{"$f":"+AN38","v":0},null,null,{"$f":"+AQ38","v":0},null,null,{"$f":"+AT38","v":0},null,null,{"$f":"+AW38","v":0},null,null,{"$f":"+AZ38","v":0}]
[null,null,{"$f":"-C39*100","v":0},null,null,{"$f":"-F39*100","v":0},null,null,{"$f":"-I39*100","v":0},null,null,{"$f":"-L39*100","v":-2087.5},null,null,{"$f":"-O39*100","v":-1040},null,null,{"$f":"-R39*100","v":-1450},null,null,{"$f":"-U39*100","v":-894.99999999999989},null,null,{"$f":"-X39*100","v":-1225},null,null,{"$f":"-AA39*100","v":0},null,null,{"$f":"-AD39*100","v":0},null,null,{"$f":"-AG39*100","v":0},null,null,{"$f":"-AJ39*100","v":0},null,null,{"$f":"-AM39*100","v":0},null,null,{"$f":"-AP39*100","v":0},null,null,{"$f":"-AS39*100","v":0},null,null,{"$f":"-AV39*100","v":0},null,null,{"$f":"-AY39*100","v":0}]
[null,null,{"$f":"IF(D38-$A3/2<0,-1000000,C38*C37*10000+C38)","v":-1000000},null,null,{"$f":"IF(G38-$A3/2<0,-1000000,F38*F37*10000+F38)","v":-1000000},null,null,{"$f":"IF(J38-$A3/2<0,-1000000,I38*I37*10000+I38)","v":-1000000},null,null,{"$f":"IF(M38-$A3/2<0,-1000000,L38*L37*10000+L38)","v":-1000000},null,null,{"$f":"IF(P38-$A3/2<0,-1000000,O38*O37*10000+O38)","v":-1000000},null,null,{"$f":"IF(S38-$A3/2<0,-1000000,R38*R37*10000+R38)","v":-1000000},null,null,{"$f":"IF(V38-$A3/2<0,-1000000,U38*U37*10000+U38)","v":-1000000},null,null,{"$f":"IF(Y38-$A3/2<0,-1000000,X38*X37*10000+X38)","v":-1000000},null,null,{"$f":"IF(AB38-$A3/2<0,-1000000,AA38*AA37*10000+AA38)","v":-1000000},null,null,{"$f":"IF(AE38-$A3/2<0,-1000000,AD38*AD37*10000+AD38)","v":-1000000},null,null,{"$f":"IF(AH38-$A3/2<0,-1000000,AG38*AG37*10000+AG38)","v":-1000000},null,null,{"$f":"IF(AK38-$A3/2<0,-1000000,AJ38*AJ37*10000+AJ38)","v":-1000000},null,null,{"$f":"IF(AN38-$A3/2<0,-1000000,AM38*AM37*10000+AM38)","v":-1000000},null,null,{"$f":"IF(AQ38-$A3/2<0,-1000000,AP38*AP37*10000+AP38)","v":-1000000},null,null,{"$f":"IF(AT38-$A3/2<0,-1000000,AS38*AS37*10000+AS38)","v":-1000000},null,null,{"$f":"IF(AW38-$A3/2<0,-1000000,AV38*AV37*10000+AV38)","v":-1000000},null,null,{"$f":"IF(AZ38-$A3/2<0,-1000000,AY38*AY37*10000+AY38)","v":-1000000}]
["Classificats",{"$f":"SUM(C37:AY37)","v":0},{"$f":"IF(D38>=$A3/2,1,0)","v":0},null,null,{"$f":"IF(G38>=$A3/2,1,0)","v":0},null,null,{"$f":"IF(J38>=$A3/2,1,0)","v":0},null,null,{"$f":"IF(M38>=$A3/2,1,0)","v":0},null,null,{"$f":"IF(P38>=$A3/2,1,0)","v":0},null,null,{"$f":"IF(S38>=$A3/2,1,0)","v":0},null,null,{"$f":"IF(V38>=$A3/2,1,0)","v":0},null,null,{"$f":"IF(Y38>=$A3/2,1,0)","v":0},null,null,{"$f":"IF(AB38>=$A3/2,1,0)","v":0},null,null,{"$f":"IF(AE38>=$A3/2,1,0)","v":0},null,null,{"$f":"IF(AH38>=$A3/2,1,0)","v":0},null,null,{"$f":"IF(AK38>=$A3/2,1,0)","v":0},null,null,{"$f":"IF(AN38>=$A3/2,1,0)","v":0},null,null,{"$f":"IF(AQ38>=$A3/2,1,0)","v":0},null,null,{"$f":"IF(AT38>=$A3/2,1,0)","v":0},null,null,{"$f":"IF(AW38>=$A3/2,1,0)","v":0},null,null,{"$f":"IF(AZ38>=$A3/2,1,0)","v":0}]
[null,null,{"$f":"IF(SUM(C43:C241)<-1000,-100000000,SUM(C43:C241))","v":-100000000},{"$f":"COUNT(D43:D241)","v":0},null,{"$f":"IF(SUM(F43:F241)<-1000,-100000000,SUM(F43:F241))","v":-100000000},{"$f":"COUNT(G43:G241)","v":0},null,{"$f":"IF(SUM(I43:I241)<-1000,-100000000,SUM(I43:I241))","v":-100000000},{"$f":"COUNT(J43:J241)","v":0},null,{"$f":"IF(SUM(L43:L241)<-1000,-100000000,SUM(L43:L241))","v":-14},{"$f":"COUNT(M43:M241)","v":2},null,{"$f":"IF(SUM(O43:O241)<-1000,-100000000,SUM(O43:O241))","v":0},{"$f":"COUNT(P43:P241)","v":4},null,{"$f":"IF(SUM(R43:R241)<-1000,-100000000,SUM(R43:R241))","v":-6},{"$f":"COUNT(S43:S241)","v":2},null,{"$f":"IF(SUM(U43:U241)<-1000,-100000000,SUM(U43:U241))","v":20},{"$f":"COUNT(V43:V241)","v":4},null,{"$f":"IF(SUM(X43:X241)<-1000,-100000000,SUM(X43:X241))","v":0},{"$f":"COUNT(Y43:Y241)","v":2},null,{"$f":"IF(SUM(AA43:AA241)<-1000,-100000000,SUM(AA43:AA241))","v":-100000000},{"$f":"COUNT(AB43:AB241)","v":0},null,{"$f":"IF(SUM(AD43:AD241)<-1000,-100000000,SUM(AD43:AD241))","v":-100000000},{"$f":"COUNT(AE43:AE241)","v":0},null,{"$f":"IF(SUM(AG43:AG241)<-1000,-100000000,SUM(AG43:AG241))","v":-100000000},{"$f":"COUNT(AH43:AH241)","v":0},null,{"$f":"IF(SUM(AJ43:AJ241)<-1000,-100000000,SUM(AJ43:AJ241))","v":-100000000},{"$f":"COUNT(AK43:AK241)","v":0},null,{"$f":"IF(SUM(AM43:AM241)<-1000,-100000000,SUM(AM43:AM241))","v":-100000000},{"$f":"COUNT(AN43:AN241)","v":0},null,{"$f":"IF(SUM(AP43:AP241)<-1000,-100000000,SUM(AP43:AP241))","v":-100000000},{"$f":"COUNT(AQ43:AQ241)","v":0},null,{"$f":"IF(SUM(AS43:AS241)<-1000,-100000000,SUM(AS43:AS241))","v":-100000000},{"$f":"COUNT(AT43:AT241)","v":0},null,{"$f":"IF(SUM(AV43:AV241)<-1000,-100000000,SUM(AV43:AV241))","v":-100000000},{"$f":"COUNT(AW43:AW241)","v":0},null,{"$f":"IF(SUM(AY43:AY241)<-1000,-100000000,SUM(AY43:AY241))","v":-100000000},{"$f":"COUNT(AZ43:AZ241)","v":0},null,null,"A"]
[null,null,{"$f":"+D39/E39","v":0},{"$f":"SUM(D43:D156)","v":0},{"$f":"SUM(E43:E156)","v":-1},{"$f":"+G39/H39","v":0},{"$f":"SUM(G43:G156)","v":0},{"$f":"SUM(H43:H156)","v":-1},{"$f":"+J39/K39","v":0},{"$f":"SUM(J43:J156)","v":0},{"$f":"SUM(K43:K156)","v":-1},{"$f":"+M39/N39","v":20.875},{"$f":"SUM(M43:M156)","v":167},{"$f":"SUM(N43:N156)","v":8},{"$f":"+P39/Q39","v":10.4},{"$f":"SUM(P43:P156)","v":208},{"$f":"SUM(Q43:Q156)","v":20},{"$f":"+S39/T39","v":14.5},{"$f":"SUM(S43:S156)","v":116},{"$f":"SUM(T43:T156)","v":8},{"$f":"+V39/W39","v":8.9499999999999993},{"$f":"SUM(V43:V156)","v":179},{"$f":"SUM(W43:W156)","v":20},{"$f":"+Y39/Z39","v":12.25},{"$f":"SUM(Y43:Y156)","v":147},{"$f":"SUM(Z43:Z156)","v":12},{"$f":"+AB39/AC39","v":0},{"$f":"SUM(AB43:AB156)","v":0},{"$f":"SUM(AC43:AC156)","v":-1},{"$f":"+AE39/AF39","v":0},{"$f":"SUM(AE43:AE156)","v":0},{"$f":"SUM(AF43:AF156)","v":-1},{"$f":"+AH39/AI39","v":0},{"$f":"SUM(AH43:AH156)","v":0},{"$f":"SUM(AI43:AI156)","v":-1},{"$f":"+AK39/AL39","v":0},{"$f":"SUM(AK43:AK156)","v":0},{"$f":"SUM(AL43:AL156)","v":-1},{"$f":"+AN39/AO39","v":0},{"$f":"SUM(AN43:AN156)","v":0},{"$f":"SUM(AO43:AO156)","v":-1},{"$f":"+AQ39/AR39","v":0},{"$f":"SUM(AQ43:AQ156)","v":0},{"$f":"SUM(AR43:AR156)","v":-1},{"$f":"+AT39/AU39","v":0},{"$f":"SUM(AT43:AT156)","v":0},{"$f":"SUM(AU43:AU156)","v":-1},{"$f":"+AW39/AX39","v":0},{"$f":"SUM(AW43:AW156)","v":0},{"$f":"SUM(AX43:AX156)","v":-1},{"$f":"+AZ39/BA39","v":0},{"$f":"SUM(AZ43:AZ156)","v":0},{"$f":"SUM(BA43:BA156)","v":-1},null,"B"]
[null,null,null,null,null,null,null,null,{"$f":"COUNTIF(I43:I62,10)","v":0},null,null,null,null,null,null,null,null,{"$f":"COUNTIF(R43:R62,10)","v":0},null,null,{"$f":"COUNTIF(U43:U62,10)","v":2},null,null,{"$f":"COUNTIF(X43:X62,10)","v":1},null,null,null,null,null,null,null,null,null,null,null,null,null,null,null,null,null,{"$f":"COUNTIF(AP43:AP62,10)","v":0},null,null,{"$f":"COUNTIF(AS43:AS62,10)","v":0},null,null,{"$f":"COUNTIF(AV43:AV62,10)","v":0},null,null,{"$f":"COUNTIF(AY43:AY62,10)","v":0},null,null,{"$f":"MAX(BC43:BC102)","v":83}]
[null,"Nº partida ","Gemma",null,null,"Angie",null,null,"Jordi",null,null,"Nin",null,null,"Manolo",null,null,"Sergi",null,null,"Carles",null,null,"Mariajo",null,null,"Iglesias",null,null,"Martin",null,null,"Xavi",null,null,"Sebas",null,null,"Montse",null,null,"Lucía",null,null,"Goretti",null,null,"Tito",null,null,"Grau",null,null,{"$f":"COUNT(BB43:BB156)","v":4},"A","B","C"]
[null,"5 copes","Premi","Punts",null,"Premi","Punts",null,"Premi","Punts",null,"Premi","Punts",null,"Premi","Punts",null,"Premi","Punts",null,"Premi","Punts",null,"Premi","Punts",null,"Premi","Punts",null,"Premi","Punts",null,"Premi","Punts",null,"Premi","Punts",null,"Premi","Punts",null,"Premi","Punts",null,"Premi","Punts",null,"Premi","Punts",null,"Premi","Punts",null,"Data","Timba"]
[1,null,-10000,null,-1,-10000,null,-1,-10000,null,-1,-10,90,4,-4,42,4,4,32,4,10,29,4,null,null,null,-10000,null,-1,-10000,null,-1,-10000,null,-1,-10000,null,-1,-10000,null,-1,-10000,null,-1,-10000,null,-1,-10000,null,-1,-10000,null,-1,"2022-06-23",73,{"$f":"+AY43+AP43+AG43+AD43+AA43+X43+U43+R43+O43+L43+I43+F43+C43+AJ43+AM43+AS43+AV43","v":-120000},{"$f":"COUNT(C43:BA43)/3","v":12},{"$f":"+BD43/BE43","v":-10000}]
[{"$f":"+A43+1","v":2},null,null,null,null,null,null,null,null,null,null,-4,77,4,4,47,4,-10,84,4,10,35,4,null,null,null,null,null,null,null,null,null,null,null,null,null,null,null,null,null,null,null,null,null,null,null,null,null,null,null,null,null,null,"2022-06-24",75,0,4,0]
[{"$f":"+A44+1","v":3},null,null,null,null,null,null,null,null,null,null,null,null,null,10,38,6,null,null,null,0,42,6,-10,79,6,null,null,null,null,null,null,null,null,null,null,null,null,null,null,null,null,null,null,null,null,null,null,null,null,null,null,null,"2022-07-16",83,0,3,0]
[4,null,null,null,null,null,null,null,null,null,null,null,null,null,-10,81,6,null,null,null,0,73,6,10,68,6,null,null,null,null,null,null,null,null,null,null,null,null,null,null,null,null,null,null,null,null,null,null,null,null,null,null,null,"2022-07-16",83,0,3,0]
[5,null,null,null,null,null,null,null,null,null,null,null,null,null,null,null,null,null,null,null,null,null,null,null,null,null,null,null,null,null,null,null,null,null,null,null,null,null,null,null,null,null,null,null,null,null,null,null,null,null,null,null,null,null,null,0,0,{"$error":"#DIV/0!"}]
[6,null,null,null,null,null,null,null,null,null,null,null,null,null,null,null,null,null,null,null,null,null,null,null,null,null,null,null,null,null,null,null,null,null,null,null,null,null,null,null,null,null,null,null,null,null,null,null,null,null,null,null,null,null,null,0,0,{"$error":"#DIV/0!"}]
[7,null,null,null,null,null,null,null,null,null,null,null,null,null,null,null,null,null,null,null,null,null,null,null,null,null,null,null,null,null,null,null,null,null,null,null,null,null,null,null,null,null,null,null,null,null,null,null,null,null,null,null,null,null,null,0,0,{"$error":"#DIV/0!"}]
[8,null,null,null,null,null,null,null,null,null,null,null,null,null,null,null,null,null,null,null,null,null,null,null,null,null,null,null,null,null,null,null,null,null,null,null,null,null,null,null,null,null,null,null,null,null,null,null,null,null,null,null,null,null,null,0,0,{"$error":"#DIV/0!"}]
[9,null,null,null,null,null,null,null,null,null,null,null,null,null,null,null,null,null,null,null,null,null,null,null,null,null,null,null,null,null,null,null,null,null,null,null,null,null,null,null,null,null,null,null,null,null,null,null,null,null,null,null,null,null,null,0,0,{"$error":"#DIV/0!"}]
[10,null,null,null,null,null,null,null,null,null,null,null,null,null,null,null,null,null,null,null,null,null,null,null,null,null,null,null,null,null,null,null,null,null,null,null,null,null,null,null,null,null,null,null,null,null,null,null,null,null,null,null,null,null,null,0,0,{"$error":"#DIV/0!"}]
[11,null,null,null,null,null,null,null,null,null,null,null,null,null,null,null,null,null,null,null,null,null,null,null,null,null,null,null,null,null,null,null,null,null,null,null,null,null,null,null,null,null,null,null,null,null,null,null,null,null,null,null,null,null,null,0,0,{"$error":"#DIV/0!"}]
[12,null,null,null,null,null,null,null,null,null,null,null,null,null,null,null,null,null,null,null,null,null,null,null,null,null,null,null,null,null,null,null,null,null,null,null,null,null,null,null,null,null,null,null,null,null,null,null,null,null,null,null,null,null,null,0,0,{"$error":"#DIV/0!"}]
[13,null,null,null,null,null,null,null,null,null,null,null,null,null,null,null,null,null,null,null,null,null,null,null,null,null,null,null,null,null,null,null,null,null,null,null,null,null,null,null,null,null,null,null,null,null,null,null,null,null,null,null,null,null,null,0,0,{"$error":"#DIV/0!"}]
[14,null,null,null,null,null,null,null,null,null,null,null,null,null,null,null,null,null,null,null,null,null,null,null,null,null,null,null,null,null,null,null,null,null,null,null,null,null,null,null,null,null,null,null,null,null,null,null,null,null,null,null,null,null,null,0,0,{"$error":"#DIV/0!"}]
[15,null,null,null,null,null,null,null,null,null,null,null,null,null,null,null,null,null,null,null,null,null,null,null,null,null,null,null,null,null,null,null,null,null,null,null,null,null,null,null,null,null,null,null,null,null,null,null,null,null,null,null,null,null,null,0,0,{"$error":"#DIV/0!"}]
[16,null,null,null,null,null,null,null,null,null,null,null,null,null,null,null,null,null,null,null,null,null,null,null,null,null,null,null,null,null,null,null,null,null,null,null,null,null,null,null,null,null,null,null,null,null,null,null,null,null,null,null,null,null,null,0,0,{"$error":"#DIV/0!"}]
[17,null,null,null,null,null,null,null,null,null,null,null,null,null,null,null,null,null,null,null,null,null,null,null,null,null,null,null,null,null,null,null,null,null,null,null,null,null,null,null,null,null,null,null,null,null,null,null,null,null,null,null,null,null,null,0,0,{"$error":"#DIV/0!"}]
[18,null,null,null,null,null,null,null,null,null,null,null,null,null,null,null,null,null,null,null,null,null,null,null,null,null,null,null,null,null,null,null,null,null,null,null,null,null,null,null,null,null,null,null,null,null,null,null,null,null,null,null,null,null,null,0,0,{"$error":"#DIV/0!"}]
[19,null,null,null,null,null,null,null,null,null,null,null,null,null,null,null,null,null,null,null,null,null,null,null,null,null,null,null,null,null,null,null,null,null,null,null,null,null,null,null,null,null,null,null,null,null,null,null,null,null,null,null,null,null,null,0,0,{"$error":"#DIV/0!"}]
[20,null,null,null,null,null,null,null,null,null,null,null,null,null,null,null,null,null,null,null,null,null,null,null,null,null,null,null,null,null,null,null,null,null,null,null,null,null,null,null,null,null,null,null,null,null,null,null,null,null,null,null,null,null,null,0,0,{"$error":"#DIV/0!"}]
[21,null,null,null,null,null,null,null,null,null,null,null,null,null,null,null,null,null,null,null,null,null,null,null,null,null,null,null,null,null,null,null,null,null,null,null,null,null,null,null,null,null,null,null,null,null,null,null,null,null,null,null,null,null,null,0,0,{"$error":"#DIV/0!"}]
[22,null,null,null,null,null,null,null,null,null,null,null,null,null,null,null,null,null,null,null,null,null,null,null,null,null,null,null,null,null,null,null,null,null,null,null,null,null,null,null,null,null,null,null,null,null,null,null,null,null,null,null,null,null,null,0,0,{"$error":"#DIV/0!"}]
[23,null,null,null,null,null,null,null,null,null,null,null,null,null,null,null,null,null,null,null,null,null,null,null,null,null,null,null,null,null,null,null,null,null,null,null,null,null,null,null,null,null,null,null,null,null,null,null,null,null,null,null,null,null,null,0,0,{"$error":"#DIV/0!"}]
[24,null,null,null,null,null,null,null,null,null,null,null,null,null,null,null,null,null,null,null,null,null,null,null,null,null,null,null,null,null,null,null,null,null,null,null,null,null,null,null,null,null,null,null,null,null,null,null,null,null,null,null,null,null,null,{"$f":"+AY66+AP66+AG66+AD66+AA66+X66+U66+R66+O66+L66+I66+F66+C66+AJ66+AM66+AS66+AV66","v":0},0,{"$error":"#DIV/0!"}]
[25,null,null,null,null,null,null,null,null,null,null,null,null,null,null,null,null,null,null,null,null,null,null,null,null,null,null,null,null,null,null,null,null,null,null,null,null,null,null,null,null,null,null,null,null,null,null,null,null,null,null,null,null,null,null,{"$f":"+AY67+AP67+AG67+AD67+AA67+X67+U67+R67+O67+L67+I67+F67+C67+AJ67+AM67+AS67+AV67","v":0},{"$f":"COUNT(C67:BA67)/3","v":0},{"$f":"+BD67/BE67","v":{"$error":"#DIV/0!"}}]
[26,null,null,null,null,null,null,null,null,null,null,null,null,null,null,null,null,null,null,null,null,null,null,null,null,null,null,null,null,null,null,null,null,null,null,null,null,null,null,null,null,null,null,null,null,null,null,null,null,null,null,null,null,null,null,{"$f":"+AY68+AP68+AG68+AD68+AA68+X68+U68+R68+O68+L68+I68+F68+C68+AJ68+AM68+AS68+AV68","v":0},{"$f":"COUNT(C68:BA68)/3","v":0},{"$f":"+BD68/BE68","v":{"$error":"#DIV/0!"}}]
[27,null,null,null,null,null,null,null,null,null,null,null,null,null,null,null,null,null,null,null,null,null,null,null,null,null,null,null,null,null,null,null,null,null,null,null,null,null,null,null,null,null,null,null,null,null,null,null,null,null,null,null,null,null,null,{"$f":"+AY69+AP69+AG69+AD69+AA69+X69+U69+R69+O69+L69+I69+F69+C69+AJ69+AM69+AS69+AV69","v":0},{"$f":"COUNT(C69:BA69)/3","v":0},{"$f":"+BD69/BE69","v":{"$error":"#DIV/0!"}}]
[28]
[29]
[30]
[31]
[32]
[33]
[34]
[35]
[36]
[37]
[38]
[39]
[40]
[41]
[42]
[43]
[44]
[45]
[{"$f":"+A87+1","v":46}]
[47]
[48]
[49]
[50]
[51]
[52]
[53]
[54]
[55]
[56]
[57]
[58]
[59]
[60]
[61]
[62]
[63]
[64]
[65]
[66]
[67]
[68]
[69]
[70]
[71]
[72]
[{"$f":"+A114+1","v":73}]
[74]
[75]
[76]
[77]
[78]
[79]
[80]
[81]
[82]
[83]
[84]
[85]
[86]
[87]
[88]
[89]
[90]
[91]
[92]
[93]
[94]
[95]
[96]
[97]
[98]
[99]
[100]
[101]
[102]
[103]
[104]
[105]
[106]
[107]
[108]
[109]
[110]
[111]
[112]
[113]
[114]

{"sheet":"Mus","index":14,"n_rows":75,"n_cols":36,"rows_kept":75,"cut":false,"hidden":false,"merged":[[38,2,38,3],[38,4,38,5],[38,6,38,7],[38,8,38,9],[38,10,38,11],[38,12,38,13],[38,14,38,15],[38,16,38,17],[38,26,38,27],[38,28,38,29],[38,18,38,19],[38,20,38,21],[38,22,38,23],[38,24,38,25]]}
["MUS"]
["Mes"]
[{"$f":"+GENERAL!B6","v":12},null,{"$f":"SUM(C5:C10)","v":-200000000}]
[null,null,"Premi","Punts","Partides","General"]
[1,"Carles",{"$f":"+O$36","v":7},{"$f":"+P$37","v":2},{"$f":"+P$36","v":1},{"$f":"+O$22","v":0},{"$f":"IF(E5<A$3/2,-1,1)*80+C5","v":-73}]
[2,"Sergi",{"$f":"+M$36","v":7},{"$f":"+N$37","v":2},{"$f":"+N$36","v":1},{"$f":"+M$22","v":0},-73]
[3,"Lucía",{"$f":"+Y$36","v":-7},{"$f":"+Z$37","v":-2},{"$f":"+Z$36","v":1},{"$f":"+Y$22","v":0},-87]
[4,"Manolo",{"$f":"+E$36","v":-7},{"$f":"+F$37","v":-2},{"$f":"+F$36","v":1},{"$f":"+E$22","v":0},-87]
[5,"Mariajo",{"$f":"+Q$36","v":-100000000},{"$f":"+R$37","v":0},{"$f":"+R$36","v":0},{"$f":"+Q$22","v":0},-100000080]
[6,"Grau",{"$f":"+AC$36","v":-100000000},{"$f":"+AD$37","v":0},{"$f":"+AD$36","v":0},{"$f":"+AC$22","v":0},-100000080]
[7,"Jordi",{"$f":"+G$36","v":-100000000},{"$f":"+H$37","v":0},{"$f":"+H$36","v":0},{"$f":"+G$22","v":0},-100000080]
[8,"Goretti",{"$f":"+C$36","v":-100000000},{"$f":"+D$37","v":0},{"$f":"+D$36","v":0},{"$f":"+C$22","v":0},-100000080]
[9,"Joan Carles",{"$f":"+K$36","v":-100000000},{"$f":"+L$37","v":0},{"$f":"+L$36","v":0},{"$f":"+K$22","v":0},-100000080]
[10,"Martin",{"$f":"+U$36","v":-100000000},{"$f":"+V$37","v":0},{"$f":"+V$36","v":0},{"$f":"+U$22","v":0},-100000080]
[11,"Xavi",{"$f":"+W$36","v":-100000000},{"$f":"+X$37","v":0},{"$f":"+X$36","v":0},{"$f":"+W$22","v":0},-100000080]
[12,"Iglesias",{"$f":"+S$36","v":-100000000},{"$f":"+T$37","v":0},{"$f":"+T$36","v":0},{"$f":"+S$22","v":0},-100000080]
[13,"MªJosé",{"$f":"+I$36","v":-100000000},{"$f":"+J$37","v":0},{"$f":"+J$36","v":0},{"$f":"+I$22","v":0},-100000080]
[14,"Knobel",{"$f":"+AA$36","v":-100000000},{"$f":"+AB$37","v":0},{"$f":"+AB$36","v":0},{"$f":"+AA22","v":0},-100000080]
[]
[]
[]
[null,"General",{"$f":"+C23*C24","v":0},{"$f":"+D23*D24","v":0},0,0,0,0,0,0,0,0,0,0,0,0,0,0,0,0,0,0,0,0,0,0,{"$f":"+AA23*AA24","v":0},{"$f":"+AB23*AB24","v":0},0,0]
[null,null,{"$f":"IF($B35>3,1,0)","v":0},{"$f":"IF($B35>3,1,0)","v":0},0,0,0,0,0,0,0,0,0,0,0,0,0,0,0,0,0,0,0,0,0,0,{"$f":"IF($B35>3,1,0)","v":0},{"$f":"IF($B35>3,1,0)","v":0},0,0]
[null,null,{"$f":"MAX(C25:C29)","v":0},{"$f":"+D36","v":0},{"$f":"MAX(E25:E29)","v":0},{"$f":"+F36","v":1},{"$f":"MAX(G25:G29)","v":0},{"$f":"+H36","v":0},{"$f":"MAX(I25:I29)","v":0},{"$f":"+J36","v":0},{"$f":"MAX(K25:K29)","v":0},{"$f":"+L36","v":0},{"$f":"MAX(M25:M29)","v":0},{"$f":"+N36","v":1},{"$f":"MAX(O25:O29)","v":0},{"$f":"+P36","v":1},{"$f":"MAX(Q25:Q29)","v":0},{"$f":"+R36","v":0},{"$f":"MAX(S25:S29)","v":0},{"$f":"+T36","v":0},{"$f":"MAX(U25:U29)","v":0},{"$f":"+V36","v":0},{"$f":"MAX(W25:W29)","v":0},{"$f":"+X36","v":0},{"$f":"MAX(Y25:Y29)","v":0},{"$f":"+Z36","v":1},{"$f":"MAX(AA25:AA29)","v":0},{"$f":"+AB36","v":0},{"$f":"MAX(AC25:AC29)","v":0},{"$f":"+AD36","v":0}]
[null,null,{"$f":"IF(C$30=5,5,0)","v":0},null,{"$f":"IF(E$30=5,5,0)","v":0},null,{"$f":"IF(G$30=5,5,0)","v":0},null,{"$f":"IF(I$30=5,5,0)","v":0},null,{"$f":"IF(K$30=5,5,0)","v":0},null,{"$f":"IF(M$30=5,5,0)","v":0},null,{"$f":"IF(O$30=5,5,0)","v":0},null,{"$f":"IF(Q$30=5,5,0)","v":0},null,{"$f":"IF(S$30=5,5,0)","v":0},null,{"$f":"IF(U$30=5,5,0)","v":0},null,{"$f":"IF(W$30=5,5,0)","v":0},null,{"$f":"IF(Y$30=5,5,0)","v":0},null,{"$f":"IF(AA$30=5,5,0)","v":0},null,{"$f":"IF(AC$30=5,5,0)","v":0}]
[null,null,{"$f":"IF(C$30=4,10,0)","v":0},null,{"$f":"IF(E$30=4,10,0)","v":0},null,{"$f":"IF(G$30=4,10,0)","v":0},null,{"$f":"IF(I$30=4,10,0)","v":0},null,{"$f":"IF(K$30=4,10,0)","v":0},null,{"$f":"IF(M$30=4,10,0)","v":0},null,{"$f":"IF(O$30=4,10,0)","v":0},null,{"$f":"IF(Q$30=4,10,0)","v":0},null,{"$f":"IF(S$30=4,10,0)","v":0},null,{"$f":"IF(U$30=4,10,0)","v":0},null,{"$f":"IF(W$30=4,10,0)","v":0},null,{"$f":"IF(Y$30=4,10,0)","v":0},null,{"$f":"IF(AA$30=4,10,0)","v":0},null,{"$f":"IF(AC$30=4,10,0)","v":0}]
[null,null,{"$f":"IF(C$30=3,20,0)","v":0},null,{"$f":"IF(E$30=3,20,0)","v":0},null,{"$f":"IF(G$30=3,20,0)","v":0},null,{"$f":"IF(I$30=3,20,0)","v":0},null,{"$f":"IF(K$30=3,20,0)","v":0},null,{"$f":"IF(M$30=3,20,0)","v":0},null,{"$f":"IF(O$30=3,20,0)","v":0},null,{"$f":"IF(Q$30=3,20,0)","v":0},null,{"$f":"IF(S$30=3,20,0)","v":0},null,{"$f":"IF(U$30=3,20,0)","v":0},null,{"$f":"IF(W$30=3,20,0)","v":0},null,{"$f":"IF(Y$30=3,20,0)","v":0},null,{"$f":"IF(AA$30=3,20,0)","v":0},null,{"$f":"IF(AC$30=3,20,0)","v":0}]
[null,null,{"$f":"IF(C$30=2,40,0)","v":0},null,{"$f":"IF(E$30=2,40,0)","v":0},null,{"$f":"IF(G$30=2,40,0)","v":0},null,{"$f":"IF(I$30=2,40,0)","v":0},null,{"$f":"IF(K$30=2,40,0)","v":0},null,{"$f":"IF(M$30=2,40,0)","v":0},null,{"$f":"IF(O$30=2,40,0)","v":0},null,{"$f":"IF(Q$30=2,40,0)","v":0},null,{"$f":"IF(S$30=2,40,0)","v":0},null,{"$f":"IF(U$30=2,40,0)","v":0},null,{"$f":"IF(W$30=2,40,0)","v":0},null,{"$f":"IF(Y$30=2,40,0)","v":0},null,{"$f":"IF(AA$30=2,40,0)","v":0},null,{"$f":"IF(AC$30=2,40,0)","v":0}]
[null,null,{"$f":"IF(C$30=1,80,0)","v":0},null,{"$f":"IF(E$30=1,80,0)","v":0},null,{"$f":"IF(G$30=1,80,0)","v":0},null,{"$f":"IF(I$30=1,80,0)","v":0},null,{"$f":"IF(K$30=1,80,0)","v":0},null,{"$f":"IF(M$30=1,80,0)","v":0},null,{"$f":"IF(O$30=1,80,0)","v":0},null,{"$f":"IF(Q$30=1,80,0)","v":0},null,{"$f":"IF(S$30=1,80,0)","v":0},null,{"$f":"IF(U$30=1,80,0)","v":0},null,{"$f":"IF(W$30=1,80,0)","v":0},null,{"$f":"IF(Y$30=1,80,0)","v":0},null,{"$f":"IF(AA$30=1,80,0)","v":0},null,{"$f":"IF(AC$30=1,80,0)","v":0}]
[null,null,{"$f":"RANK(C31,$C31:$AP31)*C35","v":0},null,{"$f":"RANK(E31,$C31:$AP31)*E35","v":0},null,{"$f":"RANK(G31,$C31:$AP31)*G35","v":0},null,{"$f":"RANK(I31,$C31:$AP31)*I35","v":0},null,{"$f":"RANK(K31,$C31:$AP31)*K35","v":0},null,{"$f":"RANK(M31,$C31:$AP31)*M35","v":0},null,{"$f":"RANK(O31,$C31:$AP31)*O35","v":0},null,{"$f":"RANK(Q31,$C31:$AP31)*Q35","v":0},null,{"$f":"RANK(S31,$C31:$AP31)*S35","v":0},null,{"$f":"RANK(U31,$C31:$AP31)*U35","v":0},null,{"$f":"RANK(W31,$C31:$AP31)*W35","v":0},null,{"$f":"RANK(Y31,$C31:$AP31)*Y35","v":0},null,{"$f":"RANK(AA31,$C31:$AP31)*AA35","v":0},null,{"$f":"RANK(AC31,$C31:$AP31)*AC35","v":0}]
[null,null,{"$f":"SUM(C32:C34)","v":-101000000},null,{"$f":"SUM(E32:E34)","v":-1000026},null,{"$f":"SUM(G32:G34)","v":-101000000},null,{"$f":"SUM(I32:I34)","v":-101000000},null,{"$f":"SUM(K32:K34)","v":-101000000},null,{"$f":"SUM(M32:M34)","v":-999972},null,{"$f":"SUM(O32:O34)","v":-999972},null,{"$f":"SUM(Q32:Q34)","v":-101000000},null,{"$f":"SUM(S32:S34)","v":-101000000},null,{"$f":"SUM(U32:U34)","v":-101000000},null,{"$f":"SUM(W32:W34)","v":-101000000},null,{"$f":"SUM(Y32:Y34)","v":-1000026},null,{"$f":"SUM(AA32:AA34)","v":-101000000},null,{"$f":"SUM(AC32:AC34)","v":-101000000}]
[null,null,{"$f":"+D36","v":0},null,{"$f":"+F36","v":1},null,{"$f":"+H36","v":0},null,{"$f":"+J36","v":0},null,{"$f":"+L36","v":0},null,{"$f":"+N36","v":1},null,{"$f":"+P36","v":1},null,{"$f":"+R36","v":0},null,{"$f":"+T36","v":0},null,{"$f":"+V36","v":0},null,{"$f":"+X36","v":0},null,{"$f":"+Z36","v":1},null,{"$f":"+AB36","v":0},null,{"$f":"+AD36","v":0}]
[null,null,{"$f":"D37*10","v":0},null,{"$f":"F37*10","v":-20},null,{"$f":"H37*10","v":0},null,{"$f":"J37*10","v":0},null,{"$f":"L37*10","v":0},null,{"$f":"N37*10","v":20},null,{"$f":"P37*10","v":20},null,{"$f":"R37*10","v":0},null,{"$f":"T37*10","v":0},null,{"$f":"V37*10","v":0},null,{"$f":"X37*10","v":0},null,{"$f":"Z37*10","v":-20},null,{"$f":"AB37*10","v":0},null,{"$f":"AD37*10","v":0}]
[null,null,{"$f":"IF(C35=1,C36*C35*10000+C36,-1000000+C36)","v":-101000000},null,{"$f":"IF(E35=1,E36*E35*10000+E36,-1000000+E36)","v":-1000007},null,{"$f":"IF(G35=1,G36*G35*10000+G36,-1000000+G36)","v":-101000000},null,{"$f":"IF(I35=1,I36*I35*10000+I36,-1000000+I36)","v":-101000000},null,{"$f":"IF(K35=1,K36*K35*10000+K36,-1000000+K36)","v":-101000000},null,{"$f":"IF(M35=1,M36*M35*10000+M36,-1000000+M36)","v":-999993},null,{"$f":"IF(O35=1,O36*O35*10000+O36,-1000000+O36)","v":-999993},null,{"$f":"IF(Q35=1,Q36*Q35*10000+Q36,-1000000+Q36)","v":-101000000},null,{"$f":"IF(S35=1,S36*S35*10000+S36,-1000000+S36)","v":-101000000},null,{"$f":"IF(U35=1,U36*U35*10000+U36,-1000000+U36)","v":-101000000},null,{"$f":"IF(W35=1,W36*W35*10000+W36,-1000000+W36)","v":-101000000},null,{"$f":"IF(Y35=1,Y36*Y35*10000+Y36,-1000000+Y36)","v":-1000007},null,{"$f":"IF(AA35=1,AA36*AA35*10000+AA36,-1000000+AA36)","v":-101000000},null,{"$f":"IF(AC35=1,AC36*AC35*10000+AC36,-1000000+AC36)","v":-101000000}]
["Classificats",{"$f":"SUM(C35:AC35)","v":0},{"$f":"IF(D36>=$A3/2,1,0)","v":0},null,{"$f":"IF(F36>=$A3/2,1,0)","v":0},null,{"$f":"IF(H36>=$A3/2,1,0)","v":0},null,{"$f":"IF(J36>=$A3/2,1,0)","v":0},null,{"$f":"IF(L36>=$A3/2,1,0)","v":0},null,{"$f":"IF(N36>=$A3/2,1,0)","v":0},null,{"$f":"IF(P36>=$A3/2,1,0)","v":0},null,{"$f":"IF(R36>=$A3/2,1,0)","v":0},null,{"$f":"IF(T36>=$A3/2,1,0)","v":0},null,{"$f":"IF(V36>=$A3/2,1,0)","v":0},null,{"$f":"IF(X36>=$A3/2,1,0)","v":0},null,{"$f":"IF(Z36>=$A3/2,1,0)","v":0},null,{"$f":"IF(AB36>=$A3/2,1,0)","v":0},null,{"$f":"IF(AD36>=$A3/2,1,0)","v":0}]
[null,null,{"$f":"IF(SUM(C41:C248)<-1000,-100000000,SUM(C41:C248))","v":-100000000},{"$f":"COUNT(D41:D248)","v":0},{"$f":"IF(SUM(E41:E248)<-1000,-100000000,SUM(E41:E248))","v":-7},{"$f":"COUNT(F41:F248)","v":1},{"$f":"IF(SUM(G41:G248)<-1000,-100000000,SUM(G41:G248))","v":-100000000},{"$f":"COUNT(H41:H248)","v":0},{"$f":"IF(SUM(I41:I248)<-1000,-100000000,SUM(I41:I248))","v":-100000000},{"$f":"COUNT(J41:J248)","v":0},{"$f":"IF(SUM(K41:K248)<-1000,-100000000,SUM(K41:K248))","v":-100000000},{"$f":"COUNT(L41:L248)","v":0},{"$f":"IF(SUM(M41:M248)<-1000,-100000000,SUM(M41:M248))","v":7},{"$f":"COUNT(N41:N248)","v":1},{"$f":"IF(SUM(O41:O248)<-1000,-100000000,SUM(O41:O248))","v":7},{"$f":"COUNT(P41:P248)","v":1},{"$f":"IF(SUM(Q41:Q248)<-1000,-100000000,SUM(Q41:Q248))","v":-100000000},{"$f":"COUNT(R41:R248)","v":0},{"$f":"IF(SUM(S41:S248)<-1000,-100000000,SUM(S41:S248))","v":-100000000},{"$f":"COUNT(T41:T248)","v":0},{"$f":"IF(SUM(U41:U248)<-1000,-100000000,SUM(U41:U248))","v":-100000000},{"$f":"COUNT(V41:V248)","v":0},{"$f":"IF(SUM(W41:W248)<-1000,-100000000,SUM(W41:W248))","v":-100000000},{"$f":"COUNT(X41:X248)","v":0},{"$f":"IF(SUM(Y41:Y248)<-1000,-100000000,SUM(Y41:Y248))","v":-7},{"$f":"COUNT(Z41:Z248)","v":1},{"$f":"IF(SUM(AA41:AA248)<-1000,-100000000,SUM(AA41:AA248))","v":-100000000},{"$f":"COUNT(AB41:AB248)","v":0},{"$f":"IF(SUM(AC41:AC248)<-1000,-100000000,SUM(AC41:AC248))","v":-100000000},{"$f":"COUNT(AD41:AD248)","v":0}]
[null,null,{"$f":"SUM(C41:C142)","v":-100000000},0,-7,-2,-100000000,0,-100000000,0,-100000000,0,7,2,7,2,-100000000,0,-100000000,0,-100000000,0,-100000000,0,-7,-2,{"$f":"SUM(AA41:AA142)","v":-100000000},{"$f":"SUM(AB41:AB142)","v":0},-100000000,0]
[null,null,null,null,null,null,null,null,null,null,null,null,null,null,null,null,null,null,null,null,null,null,null,null,null,null,null,null,null,null,{"$f":"MAX(AF41:AF100)","v":76}]
[null,"Nº partida ","Goretti",null,"Manolo",null,"Jordi",null,"MªJosé",null,"Joan Carles",null,"Sergi",null,"Carles",null,"Mariajo",null,"Iglesias",null,"Martin",null,"Xavi",null,"Niin",null,"Knobel",null,"Grau",null,{"$f":"COUNT(AE41:AE163)","v":1},"A","B","C"]
[null,null,"Premi","Punts","Premi","Punts","Premi","Punts","Premi","Punts","Premi","Punts","Premi","Punts","Premi","Punts","Premi","Punts","Premi","Punts","Premi","Punts","Premi","Punts","Premi","Punts","Premi","Punts","Premi","Punts","Data","Timbes"]
[1,null,-100000000,null,-7,-2,-100000000,null,-100000000,null,-100000000,null,7,2,7,2,-100000000,null,-100000000,null,-100000000,null,-100000000,null,-7,-2,-100000000,null,-100000000,null,"2022-06-25",76,{"$f":"+C41+E41+G41+I41++K41++M41+O41+Q41+S41+U41+W41+Y41+AC41+AA41","v":-1000000000},0,{"$f":"COUNT(C41:AD41)/2","v":9},{"$f":"+AG41/AI41","v":-111111111.1111111}]
[{"$f":"+A41+1","v":2},null,null,null,null,null,null,null,null,null,null,null,null,null,null,null,null,null,null,null,null,null,null,null,null,null,null,null,null,null,null,null,0,0,{"$f":"COUNT(C42:AD42)/2","v":0},{"$f":"+AG42/AI42","v":{"$error":"#DIV/0!"}}]
[{"$f":"+A42+1","v":3},null,null,null,null,null,null,null,null,null,null,null,null,null,null,null,null,null,null,null,null,null,null,null,null,null,null,null,null,null,null,null,0,0,0,{"$error":"#DIV/0!"}]
[4,null,null,null,null,null,null,null,null,null,null,null,null,null,null,null,null,null,null,null,null,null,null,null,null,null,null,null,null,null,null,null,0,0,0,{"$error":"#DIV/0!"}]
[5,null,null,null,null,null,null,null,null,null,null,null,null,null,null,null,null,null,null,null,null,null,null,null,null,null,null,null,null,null,null,null,0,0,0,{"$error":"#DIV/0!"}]
[6,null,null,null,null,null,null,null,null,null,null,null,null,null,null,null,null,null,null,null,null,null,null,null,null,null,null,null,null,null,null,null,0,0,0,{"$error":"#DIV/0!"}]
[7,null,null,null,null,null,null,null,null,null,null,null,null,null,null,null,null,null,null,null,null,null,null,null,null,null,null,null,null,null,null,null,0,0,0,{"$error":"#DIV/0!"}]
[8,null,null,null,null,null,null,null,null,null,null,null,null,null,null,null,null,null,null,null,null,null,null,null,null,null,null,null,null,null,null,null,0,0,0,{"$error":"#DIV/0!"}]
[9]
[10]
[11]
[12]
[13]
[14]
[15]
[16]
[17]
[18]
[19]
[20]
[21]
[22]
[23]
[24]
[25]
[26]
[27]
[{"$f":"+A67+1","v":28}]
[29]
[30]
[31]
[32]
[33]
[34]
[35]

{"sheet":"Tarot","index":15,"n_rows":240,"n_cols":67,"rows_kept":240,"cut":false,"hidden":false,"merged":[[42,56,42,58],[42,38,42,40],[42,41,42,43],[42,44,42,46],[42,47,42,49],[42,50,42,52],[42,53,42,55],[42,35,42,37],[42,2,42,4],[42,5,42,7],[42,8,42,10],[42,11,42,13],[42,14,42,16],[42,17,42,19],[42,20,42,22],[42,23,42,25],[42,26,42,28],[42,29,42,31],[42,32,42,34]]}
["TAROT"]
["Mes"]
[{"$f":"+GENERAL!B6","v":12},null,{"$f":"SUM(C5:C10)","v":-600000000}]
[null,null,"Premi","Punts","Partides","General"]
[1,"Nin",{"$f":"+AY$40","v":-100000000},{"$f":"+AY$41","v":1},{"$f":"+AZ$40","v":0},{"$f":"+AY$26","v":0},{"$f":"IF(E5<A$3/2,-1,1)*800+C5+D5/1000","v":-100000799.999}]
[2,"Jordi",{"$f":"+I$40","v":-100000000},{"$f":"+I$41","v":1},{"$f":"+J$40","v":0},{"$f":"+I$26","v":0},-100000799.999]
[3,"Sergi",{"$f":"+R$40","v":-100000000},{"$f":"+R$41","v":1},{"$f":"+S$40","v":0},{"$f":"+R$26","v":0},-100000799.999]
[4,"Carles",{"$f":"+U$40","v":-100000000},{"$f":"+U$41","v":1},{"$f":"+V$40","v":0},{"$f":"+U$26","v":0},-100000799.999]
[5,"Mariajo",{"$f":"+X$40","v":-100000000},{"$f":"+X$41","v":1},{"$f":"+Y$40","v":0},{"$f":"+X$26","v":0},-100000799.999]
[6,"Grau",{"$f":"+AV$40","v":-100000000},{"$f":"+AV$41","v":1},{"$f":"+AW$40","v":0},{"$f":"+AV$26","v":0},-100000799.999]
[7,"Manolo",{"$f":"+AM$40","v":-100000000},{"$f":"+AM$41","v":1},{"$f":"+AN$40","v":0},{"$f":"+AM$26","v":0},-100000799.999,null,null,null,null,null,null,null,null,null,null,null,null,null,null,null,null,null,null," "]
[8,"Goretti",{"$f":"+AS$40","v":-100000000},{"$f":"+AS$41","v":1},{"$f":"+AT$40","v":0},{"$f":"+AS$26","v":0},-100000799.999]
[9,"Joan Carles",{"$f":"+O$40","v":0},{"$f":"+O$41","v":0},{"$f":"+P$40","v":0},{"$f":"+O$26","v":0},-800]
[10,"Marina",{"$f":"+BE$40","v":-100000000},{"$f":"+BE$41","v":1},{"$f":"+BF$40","v":0},{"$f":"+BE$26","v":0},-100000799.999]
[11,"Xavi",{"$f":"+AG$40","v":-100000000},{"$f":"+AG$41","v":1},{"$f":"+AH$40","v":0},{"$f":"+AG$26","v":0},-100000799.999]
[12,"Josep Mª",{"$f":"+L$40","v":-100000000},{"$f":"+L$41","v":1},{"$f":"+M$40","v":0},{"$f":"+L$26","v":0},-100000799.999]
[13,"Tina",{"$f":"+AP$40","v":-100000000},{"$f":"+AP$41","v":1},{"$f":"+AQ$40","v":0},{"$f":"+AP$26","v":0},-100000799.999]
[14,"David",{"$f":"+AD$40","v":-100000000},{"$f":"+AD$41","v":1},{"$f":"+AE$40","v":0},{"$f":"+AD$26","v":0},-100000799.999]
[15,"Otins",{"$f":"+C$40","v":-100000000},{"$f":"+C$41","v":1},{"$f":"+D$40","v":0},{"$f":"+C$26","v":0},-100000799.999]
[16,"Martín",{"$f":"+F$40","v":-100000000},{"$f":"+F$41","v":1},{"$f":"+G$40","v":0},{"$f":"+F$26","v":0},-100000799.999]
[17,"Iglesias",{"$f":"+AA$40","v":-100000000},{"$f":"+AA$41","v":1},{"$f":"+AB$40","v":0},{"$f":"+AA$26","v":0},-100000799.999]
[18,"Salvadó",{"$f":"+AJ$40","v":-100000000},{"$f":"+AJ$41","v":1},{"$f":"+AK$40","v":0},{"$f":"+AJ$26","v":0},-100000799.999]
[19,"Jorge",{"$f":"+BB$40","v":-100000000},{"$f":"+BB$41","v":1},{"$f":"+BC$40","v":0},{"$f":"+BB$26","v":0},-100000799.999]
[]
[]
[null,"General",{"$f":"+C27*C28","v":0},{"$f":"+D27*D28","v":0},null,{"$f":"+F27*F28","v":0},{"$f":"+G27*G28","v":0},null,{"$f":"+I27*I28","v":0},{"$f":"+J27*J28","v":0},null,{"$f":"+L27*L28","v":0},{"$f":"+M27*M28","v":0},null,{"$f":"+O27*O28","v":0},{"$f":"+P27*P28","v":0},null,{"$f":"+R27*R28","v":0},{"$f":"+S27*S28","v":0},null,{"$f":"+U27*U28","v":0},{"$f":"+V27*V28","v":0},null,{"$f":"+X27*X28","v":0},{"$f":"+Y27*Y28","v":0},null,{"$f":"+AA27*AA28","v":0},{"$f":"+AB27*AB28","v":0},null,{"$f":"+AD27*AD28","v":0},{"$f":"+AE27*AE28","v":0},null,{"$f":"+AG27*AG28","v":0},{"$f":"+AH27*AH28","v":0},null,{"$f":"+AJ27*AJ28","v":0},{"$f":"+AK27*AK28","v":0},null,{"$f":"+AM27*AM28","v":0},{"$f":"+AN27*AN28","v":0},null,{"$f":"+AP27*AP28","v":0},{"$f":"+AQ27*AQ28","v":0},null,{"$f":"+AS27*AS28","v":0},{"$f":"+AT27*AT28","v":0},null,{"$f":"+AV27*AV28","v":0},{"$f":"+AW27*AW28","v":0},null,{"$f":"+AY27*AY28","v":0},{"$f":"+AZ27*AZ28","v":0},null,{"$f":"+BB27*BB28","v":0},{"$f":"+BC27*BC28","v":0},null,{"$f":"+BE27*BE28","v":0},{"$f":"+BF27*BF28","v":0}]
[null,null,{"$f":"IF($B39>3,1,0)","v":0},{"$f":"IF($B39>3,1,0)","v":0},null,{"$f":"IF($B39>3,1,0)","v":0},{"$f":"IF($B39>3,1,0)","v":0},null,{"$f":"IF($B39>3,1,0)","v":0},{"$f":"IF($B39>3,1,0)","v":0},null,{"$f":"IF($B39>3,1,0)","v":0},{"$f":"IF($B39>3,1,0)","v":0},null,{"$f":"IF($B39>3,1,0)","v":0},{"$f":"IF($B39>3,1,0)","v":0},null,{"$f":"IF($B39>3,1,0)","v":0},{"$f":"IF($B39>3,1,0)","v":0},null,{"$f":"IF($B39>3,1,0)","v":0},{"$f":"IF($B39>3,1,0)","v":0},null,{"$f":"IF($B39>3,1,0)","v":0},{"$f":"IF($B39>3,1,0)","v":0},null,{"$f":"IF($B39>3,1,0)","v":0},{"$f":"IF($B39>3,1,0)","v":0},null,{"$f":"IF($B39>3,1,0)","v":0},{"$f":"IF($B39>3,1,0)","v":0},null,{"$f":"IF($B39>3,1,0)","v":0},{"$f":"IF($B39>3,1,0)","v":0},null,{"$f":"IF($B39>3,1,0)","v":0},{"$f":"IF($B39>3,1,0)","v":0},null,{"$f":"IF($B39>3,1,0)","v":0},{"$f":"IF($B39>3,1,0)","v":0},null,{"$f":"IF($B39>3,1,0)","v":0},{"$f":"IF($B39>3,1,0)","v":0},null,{"$f":"IF($B39>3,1,0)","v":0},{"$f":"IF($B39>3,1,0)","v":0},null,{"$f":"IF($B39>3,1,0)","v":0},{"$f":"IF($B39>3,1,0)","v":0},null,{"$f":"IF($B39>3,1,0)","v":0},{"$f":"IF($B39>3,1,0)","v":0},null,{"$f":"IF($B39>3,1,0)","v":0},{"$f":"IF($B39>3,1,0)","v":0},null,{"$f":"IF($B39>3,1,0)","v":0},{"$f":"IF($B39>3,1,0)","v":0}]
[null,null,{"$f":"MAX(C29:C33)","v":0},{"$f":"+D40","v":0},null,{"$f":"MAX(F29:F33)","v":0},{"$f":"+G40","v":0},null,{"$f":"MAX(I29:I33)","v":0},{"$f":"+J40","v":0},null,{"$f":"MAX(L29:L33)","v":0},{"$f":"+M40","v":0},null,{"$f":"MAX(O29:O33)","v":0},{"$f":"+P40","v":0},null,{"$f":"MAX(R29:R33)","v":0},{"$f":"+S40","v":0},null,{"$f":"MAX(U29:U33)","v":0},{"$f":"+V40","v":0},null,{"$f":"MAX(X29:X33)","v":0},{"$f":"+Y40","v":0},null,{"$f":"MAX(AA29:AA33)","v":0},{"$f":"+AB40","v":0},null,{"$f":"MAX(AD29:AD33)","v":0},{"$f":"+AE40","v":0},null,{"$f":"MAX(AG29:AG33)","v":0},{"$f":"+AH40","v":0},null,{"$f":"MAX(AJ29:AJ33)","v":0},{"$f":"+AK40","v":0},null,{"$f":"MAX(AM29:AM33)","v":0},{"$f":"+AN40","v":0},null,{"$f":"MAX(AP29:AP33)","v":0},{"$f":"+AQ40","v":0},null,{"$f":"MAX(AS29:AS33)","v":0},{"$f":"+AT40","v":0},null,{"$f":"MAX(AV29:AV33)","v":0},{"$f":"+AW40","v":0},null,{"$f":"MAX(AY29:AY33)","v":0},{"$f":"+AZ40","v":0},null,{"$f":"MAX(BB29:BB33)","v":0},{"$f":"+BC40","v":0},null,{"$f":"MAX(BE29:BE33)","v":0},{"$f":"+BF40","v":0}]
[null,null,{"$f":"IF(C$34=5,5,0)","v":0},null,null,{"$f":"IF(F$34=5,5,0)","v":0},null,null,{"$f":"IF(I$34=5,5,0)","v":0},null,null,{"$f":"IF(L$34=5,5,0)","v":0},null,null,{"$f":"IF(O$34=5,5,0)","v":0},null,null,{"$f":"IF(R$34=5,5,0)","v":0},null,null,{"$f":"IF(U$34=5,5,0)","v":0},null,null,{"$f":"IF(X$34=5,5,0)","v":0},null,null,{"$f":"IF(AA$34=5,5,0)","v":0},null,null,{"$f":"IF(AD$34=5,5,0)","v":0},null,null,{"$f":"IF(AG$34=5,5,0)","v":0},null,null,{"$f":"IF(AJ$34=5,5,0)","v":0},null,null,{"$f":"IF(AM$34=5,5,0)","v":0},null,null,{"$f":"IF(AP$34=5,5,0)","v":0},null,null,{"$f":"IF(AS$34=5,5,0)","v":0},null,null,{"$f":"IF(AV$34=5,5,0)","v":0},null,null,{"$f":"IF(AY$34=5,5,0)","v":0},null,null,{"$f":"IF(BB$34=5,5,0)","v":0},null,null,{"$f":"IF(BE$34=5,5,0)","v":0}]
[null,null,{"$f":"IF(C$34=4,10,0)","v":0},null,null,{"$f":"IF(F$34=4,10,0)","v":0},null,null,{"$f":"IF(I$34=4,10,0)","v":0},null,null,{"$f":"IF(L$34=4,10,0)","v":0},null,null,{"$f":"IF(O$34=4,10,0)","v":0},null,null,{"$f":"IF(R$34=4,10,0)","v":0},null,null,{"$f":"IF(U$34=4,10,0)","v":0},null,null,{"$f":"IF(X$34=4,10,0)","v":0},null,null,{"$f":"IF(AA$34=4,10,0)","v":0},null,null,{"$f":"IF(AD$34=4,10,0)","v":0},null,null,{"$f":"IF(AG$34=4,10,0)","v":0},null,null,{"$f":"IF(AJ$34=4,10,0)","v":0},null,null,{"$f":"IF(AM$34=4,10,0)","v":0},null,null,{"$f":"IF(AP$34=4,10,0)","v":0},null,null,{"$f":"IF(AS$34=4,10,0)","v":0},null,null,{"$f":"IF(AV$34=4,10,0)","v":0},null,null,{"$f":"IF(AY$34=4,10,0)","v":0},null,null,{"$f":"IF(BB$34=4,10,0)","v":0},null,null,{"$f":"IF(BE$34=4,10,0)","v":0}]
[null,null,{"$f":"IF(C$34=3,20,0)","v":0},null,null,{"$f":"IF(F$34=3,20,0)","v":0},null,null,{"$f":"IF(I$34=3,20,0)","v":0},null,null,{"$f":"IF(L$34=3,20,0)","v":0},null,null,{"$f":"IF(O$34=3,20,0)","v":0},null,null,{"$f":"IF(R$34=3,20,0)","v":0},null,null,{"$f":"IF(U$34=3,20,0)","v":0},null,null,{"$f":"IF(X$34=3,20,0)","v":0},null,null,{"$f":"IF(AA$34=3,20,0)","v":0},null,null,{"$f":"IF(AD$34=3,20,0)","v":0},null,null,{"$f":"IF(AG$34=3,20,0)","v":0},null,null,{"$f":"IF(AJ$34=3,20,0)","v":0},null,null,{"$f":"IF(AM$34=3,20,0)","v":0},null,null,{"$f":"IF(AP$34=3,20,0)","v":0},null,null,{"$f":"IF(AS$34=3,20,0)","v":0},null,null,{"$f":"IF(AV$34=3,20,0)","v":0},null,null,{"$f":"IF(AY$34=3,20,0)","v":0},null,null,{"$f":"IF(BB$34=3,20,0)","v":0},null,null,{"$f":"IF(BE$34=3,20,0)","v":0}]
[null,null,{"$f":"IF(C$34=2,40,0)","v":0},null,null,{"$f":"IF(F$34=2,40,0)","v":0},null,null,{"$f":"IF(I$34=2,40,0)","v":0},null,null,{"$f":"IF(L$34=2,40,0)","v":0},null,null,{"$f":"IF(O$34=2,40,0)","v":0},null,null,{"$f":"IF(R$34=2,40,0)","v":0},null,null,{"$f":"IF(U$34=2,40,0)","v":0},null,null,{"$f":"IF(X$34=2,40,0)","v":0},null,null,{"$f":"IF(AA$34=2,40,0)","v":0},null,null,{"$f":"IF(AD$34=2,40,0)","v":0},null,null,{"$f":"IF(AG$34=2,40,0)","v":0},null,null,{"$f":"IF(AJ$34=2,40,0)","v":0},null,null,{"$f":"IF(AM$34=2,40,0)","v":0},null,null,{"$f":"IF(AP$34=2,40,0)","v":0},null,null,{"$f":"IF(AS$34=2,40,0)","v":0},null,null,{"$f":"IF(AV$34=2,40,0)","v":0},null,null,{"$f":"IF(AY$34=2,40,0)","v":0},null,null,{"$f":"IF(BB$34=2,40,0)","v":0},null,null,{"$f":"IF(BE$34=2,40,0)","v":0}]
[null,null,{"$f":"IF(C$34=1,80,0)","v":0},null,null,{"$f":"IF(F$34=1,80,0)","v":0},null,null,{"$f":"IF(I$34=1,80,0)","v":0},null,null,{"$f":"IF(L$34=1,80,0)","v":0},null,null,{"$f":"IF(O$34=1,80,0)","v":0},null,null,{"$f":"IF(R$34=1,80,0)","v":0},null,null,{"$f":"IF(U$34=1,80,0)","v":0},null,null,{"$f":"IF(X$34=1,80,0)","v":0},null,null,{"$f":"IF(AA$34=1,80,0)","v":0},null,null,{"$f":"IF(AD$34=1,80,0)","v":0},null,null,{"$f":"IF(AG$34=1,80,0)","v":0},null,null,{"$f":"IF(AJ$34=1,80,0)","v":0},null,null,{"$f":"IF(AM$34=1,80,0)","v":0},null,null,{"$f":"IF(AP$34=1,80,0)","v":0},null,null,{"$f":"IF(AS$34=1,80,0)","v":0},null,null,{"$f":"IF(AV$34=1,80,0)","v":0},null,null,{"$f":"IF(AY$34=1,80,0)","v":0},null,null,{"$f":"IF(BB$34=1,80,0)","v":0},null,null,{"$f":"IF(BE$34=1,80,0)","v":0}]
[null,null,{"$f":"RANK(C35,$C35:$BF35)*C39","v":0},null,null,{"$f":"RANK(F35,$C35:$BF35)*F39","v":0},null,null,{"$f":"RANK(I35,$C35:$BF35)*I39","v":0},null,null,{"$f":"RANK(L35,$C35:$BF35)*L39","v":0},null,null,{"$f":"RANK(O35,$C35:$BF35)*O39","v":0},null,null,{"$f":"RANK(R35,$C35:$BF35)*R39","v":0},null,null,{"$f":"RANK(U35,$C35:$BF35)*U39","v":0},null,null,{"$f":"RANK(X35,$C35:$BF35)*X39","v":0},null,null,{"$f":"RANK(AA35,$C35:$BF35)*AA39","v":0},null,null,{"$f":"RANK(AD35,$C35:$BF35)*AD39","v":0},null,null,{"$f":"RANK(AG35,$C35:$BF35)*AG39","v":0},null,null,{"$f":"RANK(AJ35,$C35:$BF35)*AJ39","v":0},null,null,{"$f":"RANK(AM35,$C35:$BF35)*AM39","v":0},null,null,{"$f":"RANK(AP35,$C35:$BF35)*AP39","v":0},null,null,{"$f":"RANK(AS35,$C35:$BF35)*AS39","v":0},null,null,{"$f":"RANK(AV35,$C35:$BF35)*AV39","v":0},null,null,{"$f":"RANK(AY35,$C35:$BF35)*AY39","v":0},null,null,{"$f":"RANK(BB35,$C35:$BF35)*BB39","v":0},null,null,{"$f":"RANK(BE35,$C35:$BF35)*BE39","v":0}]
[null,null,{"$f":"SUM(C36:C38)","v":-999999900},null,null,{"$f":"SUM(F36:F38)","v":-999999900},null,null,{"$f":"SUM(I36:I38)","v":-999999900},null,null,{"$f":"SUM(L36:L38)","v":-999999900},null,null,{"$f":"SUM(O36:O38)","v":-1000000000},null,null,{"$f":"SUM(R36:R38)","v":-999999900},null,null,{"$f":"SUM(U36:U38)","v":-999999900},null,null,{"$f":"SUM(X36:X38)","v":-999999900},null,null,{"$f":"SUM(AA36:AA38)","v":-999999900},null,null,{"$f":"SUM(AD36:AD38)","v":-999999900},null,null,{"$f":"SUM(AG36:AG38)","v":-999999900},null,null,{"$f":"SUM(AJ36:AJ38)","v":-999999998},null,null,{"$f":"SUM(AM36:AM38)","v":-999999900},null,null,{"$f":"SUM(AP36:AP38)","v":-999999998},null,null,{"$f":"SUM(AS36:AS38)","v":-999999900},null,null,{"$f":"SUM(AV36:AV38)","v":-999999900},null,null,{"$f":"SUM(AY36:AY38)","v":-999999900},null,null,{"$f":"SUM(BB36:BB38)","v":-9999900},null,null,{"$f":"SUM(BE36:BE38)","v":-9999900}]
[null,null,{"$f":"+D40","v":0},null,null,{"$f":"+G40","v":0},null,null,{"$f":"+J40","v":0},null,null,{"$f":"+M40","v":0},null,null,{"$f":"+P40","v":0},null,null,{"$f":"+S40","v":0},null,null,{"$f":"+V40","v":0},null,null,{"$f":"+Y40","v":0},null,null,{"$f":"+AB40","v":0},null,null,{"$f":"+AE40","v":0},null,null,{"$f":"+AH40","v":0},null,null,{"$f":"+AK40","v":0},null,null,{"$f":"+AN40","v":0},null,null,{"$f":"+AQ40","v":0},null,null,{"$f":"+AT40","v":0},null,null,{"$f":"+AW40","v":0},null,null,{"$f":"+AZ40","v":0},null,null,{"$f":"+BC40","v":0},null,null,{"$f":"+BF40","v":0}]
[null,null,{"$f":"+C41*100","v":100},null,null,{"$f":"+F41*100","v":100},null,null,{"$f":"+I41*100","v":100},null,null,{"$f":"+L41*100","v":100},null,null,{"$f":"+O41*100","v":0},null,null,{"$f":"+R41*100","v":100},null,null,{"$f":"+U41*100","v":100},null,null,{"$f":"+X41*100","v":100},null,null,{"$f":"+AA41*100","v":100},null,null,{"$f":"+AD41*100","v":100},null,null,{"$f":"+AG41*100","v":100},null,null,{"$f":"+AJ41*2","v":2},null,null,{"$f":"+AM41*100","v":100},null,null,{"$f":"+AP41*2","v":2},null,null,{"$f":"+AS41*100","v":100},null,null,{"$f":"+AV41*100","v":100},null,null,{"$f":"+AY41*100","v":100},null,null,{"$f":"+BB41*100","v":100},null,null,{"$f":"+BE41*100","v":100}]
[null,null,{"$f":"IF(D40-$A3/2<0,-1000000000,C40*C39*100000+C40)","v":-1000000000},null,null,{"$f":"IF(G40-$A3/2<0,-1000000000,F40*F39*100000+F40)","v":-1000000000},null,null,{"$f":"IF(J40-$A3/2<0,-1000000000,I40*I39*100000+I40)","v":-1000000000},null,null,{"$f":"IF(M40-$A3/2<0,-1000000000,L40*L39*100000+L40)","v":-1000000000},null,null,{"$f":"IF(P40-$A3/2<0,-1000000000,O40*O39*100000+O40)","v":-1000000000},null,null,{"$f":"IF(S40-$A3/2<0,-1000000000,R40*R39*100000+R40)","v":-1000000000},null,null,{"$f":"IF(V40-$A3/2<0,-1000000000,U40*U39*100000+U40)","v":-1000000000},null,null,{"$f":"IF(Y40-$A3/2<0,-1000000000,X40*X39*100000+X40)","v":-1000000000},null,null,{"$f":"IF(AB40-$A3/2<0,-1000000000,AA40*AA39*100000+AA40)","v":-1000000000},null,null,{"$f":"IF(AE40-$A3/2<0,-1000000000,AD40*AD39*100000+AD40)","v":-1000000000},null,null,{"$f":"IF(AH40-$A3/2<0,-1000000000,AG40*AG39*100000+AG40)","v":-1000000000},null,null,{"$f":"IF(AK40-$A3/2<0,-1000000000,AJ40*AJ39*100000+AJ40)","v":-1000000000},null,null,{"$f":"IF(AN40-$A3/2<0,-1000000000,AM40*AM39*100000+AM40)","v":-1000000000},null,null,{"$f":"IF(AQ40-$A3/2<0,-1000000000,AP40*AP39*100000+AP40)","v":-1000000000},null,null,{"$f":"IF(AT40-$A3/2<0,-1000000000,AS40*AS39*100000+AS40)","v":-1000000000},null,null,{"$f":"IF(AW40-$A3/2<0,-1000000000,AV40*AV39*100000+AV40)","v":-1000000000},null,null,{"$f":"IF(AZ40-$A3/2<0,-1000000000,AY40*AY39*100000+AY40)","v":-1000000000},null,null,{"$f":"IF(BC40-$A3/2<0,-10000000,BB40*BB39*100000+BB40)","v":-10000000},null,null,{"$f":"IF(BF40-$A3/2<0,-10000000,BE40*BE39*100000+BE40)","v":-10000000}]
["Classificats",{"$f":"SUM(C39:BE39)","v":0},{"$f":"IF(D40>=$A3/2,1,0)","v":0},null,null,{"$f":"IF(G40>=$A3/2,1,0)","v":0},null,null,{"$f":"IF(J40>=$A3/2,1,0)","v":0},null,null,{"$f":"IF(M40>=$A3/2,1,0)","v":0},null,null,{"$f":"IF(P40>=$A3/2,1,0)","v":0},null,null,{"$f":"IF(S40>=$A3/2,1,0)","v":0},null,null,{"$f":"IF(V40>=$A3/2,1,0)","v":0},null,null,{"$f":"IF(Y40>=$A3/2,1,0)","v":0},null,null,{"$f":"IF(AB40>=$A3/2,1,0)","v":0},null,null,{"$f":"IF(AE40>=$A3/2,1,0)","v":0},null,null,{"$f":"IF(AH40>=$A3/2,1,0)","v":0},null,null,{"$f":"IF(AK40>=$A3/2,1,0)","v":0},null,null,{"$f":"IF(AN40>=$A3/2,1,0)","v":0},null,null,{"$f":"IF(AQ40>=$A3/2,1,0)","v":0},null,null,{"$f":"IF(AT40>=$A3/2,1,0)","v":0},null,null,{"$f":"IF(AW40>=$A3/2,1,0)","v":0},null,null,{"$f":"IF(AZ40>=$A3/2,1,0)","v":0},null,null,{"$f":"IF(BC40>=$A3/2,1,0)","v":0},null,null,{"$f":"IF(BF40>=$A3/2,1,0)","v":0}]
[null,null,{"$f":"IF(SUM(C45:C240)<-1000,-100000000,SUM(C45:C240))","v":-100000000},{"$f":"COUNT(D45:D240)","v":0},null,{"$f":"IF(SUM(F45:F240)<-1000,-100000000,SUM(F45:F240))","v":-100000000},{"$f":"COUNT(G45:G240)","v":0},null,{"$f":"IF(SUM(I45:I240)<-1000,-100000000,SUM(I45:I240))","v":-100000000},{"$f":"COUNT(J45:J240)","v":0},null,{"$f":"IF(SUM(L45:L240)<-1000,-100000000,SUM(L45:L240))","v":-100000000},{"$f":"COUNT(M45:M240)","v":0},null,{"$f":"IF(SUM(O45:O240)<-1000,-100000000,SUM(O45:O240))","v":0},{"$f":"COUNT(P45:P240)","v":0},null,{"$f":"IF(SUM(R45:R240)<-1000,-100000000,SUM(R45:R240))","v":-100000000},{"$f":"COUNT(S45:S240)","v":0},null,{"$f":"IF(SUM(U45:U240)<-1000,-100000000,SUM(U45:U240))","v":-100000000},{"$f":"COUNT(V45:V240)","v":0},null,{"$f":"IF(SUM(X45:X240)<-1000,-100000000,SUM(X45:X240))","v":-100000000},{"$f":"COUNT(Y45:Y240)","v":0},null,{"$f":"IF(SUM(AA45:AA240)<-1000,-100000000,SUM(AA45:AA240))","v":-100000000},{"$f":"COUNT(AB45:AB240)","v":0},null,{"$f":"IF(SUM(AD45:AD240)<-1000,-100000000,SUM(AD45:AD240))","v":-100000000},{"$f":"COUNT(AE45:AE240)","v":0},null,{"$f":"IF(SUM(AG45:AG240)<-1000,-100000000,SUM(AG45:AG240))","v":-100000000},{"$f":"COUNT(AH45:AH240)","v":0},null,{"$f":"IF(SUM(AJ45:AJ240)<-1000,-100000000,SUM(AJ45:AJ240))","v":-100000000},{"$f":"COUNT(AK45:AK240)","v":0},null,{"$f":"IF(SUM(AM45:AM240)<-1000,-100000000,SUM(AM45:AM240))","v":-100000000},{"$f":"COUNT(AN45:AN240)","v":0},null,{"$f":"IF(SUM(AP45:AP240)<-1000,-100000000,SUM(AP45:AP240))","v":-100000000},{"$f":"COUNT(AQ45:AQ240)","v":0},null,{"$f":"IF(SUM(AS45:AS240)<-1000,-100000000,SUM(AS45:AS240))","v":-100000000},{"$f":"COUNT(AT45:AT240)","v":0},null,{"$f":"IF(SUM(AV45:AV240)<-1000,-100000000,SUM(AV45:AV240))","v":-100000000},{"$f":"COUNT(AW45:AW240)","v":0},null,{"$f":"IF(SUM(AY45:AY240)<-1000,-100000000,SUM(AY45:AY240))","v":-100000000},{"$f":"COUNT(AZ45:AZ240)","v":0},null,{"$f":"IF(SUM(BB45:BB240)<-1000,-100000000,SUM(BB45:BB240))","v":-100000000},{"$f":"COUNT(BC45:BC240)","v":0},null,{"$f":"IF(SUM(BE45:BE240)<-1000,-100000000,SUM(BE45:BE240))","v":-100000000},{"$f":"COUNT(BF45:BF240)","v":0},null,null,"A"]
[null,null,{"$f":"+D41-E41","v":1},{"$f":"SUM(D45:D240)","v":0},{"$f":"SUM(E45:E240)","v":-1},{"$f":"+G41-H41","v":1},{"$f":"SUM(G45:G240)","v":0},{"$f":"SUM(H45:H240)","v":-1},{"$f":"+J41-K41","v":1},{"$f":"SUM(J45:J240)","v":0},{"$f":"SUM(K45:K240)","v":-1},{"$f":"+M41-N41","v":1},{"$f":"SUM(M45:M240)","v":0},{"$f":"SUM(N45:N240)","v":-1},{"$f":"+P41-Q41","v":0},{"$f":"SUM(P45:P240)","v":0},{"$f":"SUM(Q45:Q240)","v":0},{"$f":"+S41-T41","v":1},{"$f":"SUM(S45:S240)","v":0},{"$f":"SUM(T45:T240)","v":-1},{"$f":"+V41-W41","v":1},{"$f":"SUM(V45:V240)","v":0},{"$f":"SUM(W45:W240)","v":-1},{"$f":"+Y41-Z41","v":1},{"$f":"SUM(Y45:Y240)","v":0},{"$f":"SUM(Z45:Z240)","v":-1},{"$f":"+AB41-AC41","v":1},{"$f":"SUM(AB45:AB240)","v":0},{"$f":"SUM(AC45:AC240)","v":-1},{"$f":"+AE41-AF41","v":1},{"$f":"SUM(AE45:AE240)","v":0},{"$f":"SUM(AF45:AF240)","v":-1},{"$f":"+AH41-AI41","v":1},{"$f":"SUM(AH45:AH240)","v":0},{"$f":"SUM(AI45:AI240)","v":-1},{"$f":"+AK41-AL41","v":1},{"$f":"SUM(AK45:AK240)","v":0},{"$f":"SUM(AL45:AL240)","v":-1},{"$f":"+AN41-AO41","v":1},{"$f":"SUM(AN45:AN240)","v":0},{"$f":"SUM(AO45:AO240)","v":-1},{"$f":"+AQ41-AR41","v":1},{"$f":"SUM(AQ45:AQ240)","v":0},{"$f":"SUM(AR45:AR240)","v":-1},{"$f":"+AT41-AU41","v":1},{"$f":"SUM(AT45:AT240)","v":0},{"$f":"SUM(AU45:AU240)","v":-1},{"$f":"+AW41-AX41","v":1},{"$f":"SUM(AW45:AW240)","v":0},{"$f":"SUM(AX45:AX240)","v":-1},{"$f":"+AZ41-BA41","v":1},{"$f":"SUM(AZ45:AZ240)","v":0},{"$f":"SUM(BA45:BA240)","v":-1},{"$f":"+BC41-BD41","v":1},{"$f":"SUM(BC45:BC240)","v":0},{"$f":"SUM(BD45:BD240)","v":-1},{"$f":"+BF41-BG41","v":1},{"$f":"SUM(BF45:BF240)","v":0},{"$f":"SUM(BG45:BG240)","v":-1},null,"B"]
[null,null,{"$f":"COUNTIF(C45:C64,10)","v":0},null,null,{"$f":"COUNTIF(F45:F64,10)","v":0},null,null,{"$f":"COUNTIF(I45:I64,10)","v":0},null,null,null,null,null,null,null,null,{"$f":"COUNTIF(R45:R64,10)","v":0},null,null,{"$f":"COUNTIF(U45:U64,10)","v":0},null,null,{"$f":"COUNTIF(X45:X64,10)","v":0},null,null,{"$f":"COUNTIF(AA45:AA64,10)","v":0},null,null,{"$f":"COUNTIF(AD45:AD64,10)","v":0},null,null,{"$f":"COUNTIF(AG45:AG64,10)","v":0},null,null,{"$f":"COUNTIF(AJ45:AJ64,10)","v":0},null,null,{"$f":"COUNTIF(AM45:AM64,10)","v":0},null,null,null,null,null,{"$f":"COUNTIF(AS45:AS64,10)","v":0},null,null,{"$f":"COUNTIF(AV45:AV64,10)","v":0},null,null,{"$f":"COUNTIF(AY45:AY64,10)","v":0},null,null,null,null,null,null,null,null,{"$f":"MAX(BI45:BI104)","v":0}]
[null,"Nº partida ","Otins",null,null,"Martin",null,null,"Jordi",null,null,"Josep Mª",null,null,"Joan Carles",null,null,"Sergi",null,null,"Carles",null,null,"Mariajo",null,null,"Iglesias",null,null,"David",null,null,"Xavi",null,null,"Salvadó",null,null,"Manolo",null,null,"Tina",null,null,"Goretti",null,null,"Grau",null,null,"Nin",null,null,"Jorge",null,null,"Marina",null,null,{"$f":"COUNT(BH45:BH255)","v":0},"A","B","C"]
[null,"5 copes","Premi","Punts",null,"Premi","Punts",null,"Premi","Punts",null,"Premi","Punts",null,"Premi","Punts",null,"Premi","Punts",null,"Premi","Punts",null,"Premi","Punts",null,"Premi","Punts",null,"Premi","Punts",null,"Premi","Punts",null,"Premi","Punts",null,"Premi","Punts",null,"Premi","Punts",null,"Premi","Punts",null,"Premi","Punts",null,"Premi","Punts",null,"Premi","Punts",null,"Premi","Punts",null,"Data","Timba"]
[1,null,-10000,null,-1,-10000,null,-1,-10000,null,-1,-10000,null,-1,null,null,null,-10000,null,-1,-10000,null,-1,-10000,null,-1,-10000,null,-1,-10000,null,-1,-10000,null,-1,-10000,null,-1,-10000,null,-1,-10000,null,-1,-10000,null,-1,-10000,null,-1,-10000,null,-1,-10000,null,-1,-10000,null,-1,null,null,{"$f":"+BE45+AJ45+AG45+AD45+AA45+X45+U45+R45+O45+L45+I45+F45+C45+AM45+AP45+AS45+AV45+AY45+BB45","v":-180000},0,-18,{"$f":"+BK45-BL45","v":18},{"$f":"COUNT(C45:BG45)/3","v":12},{"$f":"+BJ45/BN45","v":-15000}]
[{"$f":"+A45+1","v":2},null,null,null,null,null,null,null,null,null,null,null,null,null,null,null,null,null,null,null,null,null,null,null,null,null,null,null,null,null,null,null,null,null,null,null,null,null,null,null,null,null,null,null,null,null,null,null,null,null,null,null,null,null,null,null,null,null,null,null,null,0,0,0,0,0,{"$error":"#DIV/0!"}]
[{"$f":"+A46+1","v":3},null,null,null,null,null,null,null,null,null,null,null,null,null,null,null,null,null,null,null,null,null,null,null,null,null,null,null,null,null,null,null,null,null,null,null,null,null,null,null,null,null,null,null,null,null,null,null,null,null,null,null,null,null,null,null,null,null,null,null,null,0,0,0,0,0,{"$error":"#DIV/0!"}]
[4,null,null,null,null,null,null,null,null,null,null,null,null,null,null,null,null,null,null,null,null,null,null,null,null,null,null,null,null,null,null,null,null,null,null,null,null,null,null,null,null,null,null,null,null,null,null,null,null,null,null,null,null,null,null,null,null,null,null,null,null,0,0,0,0,0,{"$error":"#DIV/0!"}]
[5,null,null,null,null,null,null,null,null,null,null,null,null,null,null,null,null,null,null,null,null,null,null,null,null,null,null,null,null,null,null,null,null,null,null,null,null,null,null,null,null,null,null,null,null,null,null,null,null,null,null,null,null,null,null,null,null,null,null,null,null,0,0,0,0,0,{"$error":"#DIV/0!"}]
[6,null,null,null,null,null,null,null,null,null,null,null,null,null,null,null,null,null,null,null,null,null,null,null,null,null,null,null,null,null,null,null,null,null,null,null,null,null,null,null,null,null,null,null,null,null,null,null,null,null,null,null,null,null,null,null,null,null,null,null,null,0,0,0,0,0,{"$error":"#DIV/0!"}]
[7,null,null,null,null,null,null,null,null,null,null,null,null,null,null,null,null,null,null,null,null,null,null,null,null,null,null,null,null,null,null,null,null,null,null,null,null,null,null,null,null,null,null,null,null,null,null,null,null,null,null,null,null,null,null,null,null,null,null,null,null,0,0,0,0,0,{"$error":"#DIV/0!"}]
[8,null,null,null,null,null,null,null,null,null,null,null,null,null,null,null,null,null,null,null,null,null,null,null,null,null,null,null,null,null,null,null,null,null,null,null,null,null,null,null,null,null,null,null,null,null,null,null,null,null,null,null,null,null,null,null,null,null,null,null,null,0,0,0,0,0,{"$error":"#DIV/0!"}]
[9,null,null,null,null,null,null,null,null,null,null,null,null,null,null,null,null,null,null,null,null,null,null,null,null,null,null,null,null,null,null,null,null,null,null,null,null,null,null,null,null,null,null,null,null,null,null,null,null,null,null,null,null,null,null,null,null,null,null,null,null,0,0,0,0,0,{"$error":"#DIV/0!"}]
[10,null,null,null,null,null,null,null,null,null,null,null,null,null,null,null,null,null,null,null,null,null,null,null,null,null,null,null,null,null,null,null,null,null,null,null,null,null,null,null,null,null,null,null,null,null,null,null,null,null,null,null,null,null,null,null,null,null,null,null,null,0,0,0,0,0,{"$error":"#DIV/0!"}]
[11,null,null,null,null,null,null,null,null,null,null,null,null,null,null,null,null,null,null,null,null,null,null,null,null,null,null,null,null,null,null,null,null,null,null,null,null,null,null,null,null,null,null,null,null,null,null,null,null,null,null,null,null,null,null,null,null,null,null,null,null,0,0,0,0,0,{"$error":"#DIV/0!"}]
[12,null,null,null,null,null,null,null,null,null,null,null,null,null,null,null,null,null,null,null,null,null,null,null,null,null,null,null,null,null,null,null,null,null,null,null,null,null,null,null,null,null,null,null,null,null,null,null,null,null,null,null,null,null,null,null,null,null,null,null,null,0,0,0,0,0,{"$error":"#DIV/0!"}]
[13,null,null,null,null,null,null,null,null,null,null,null,null,null,null,null,null,null,null,null,null,null,null,null,null,null,null,null,null,null,null,null,null,null,null,null,null,null,null,null,null,null,null,null,null,null,null,null,null,null,null,null,null,null,null,null,null,null,null,null,null,0,0,0,0,0,{"$error":"#DIV/0!"}]
[14,null,null,null,null,null,null,null,null,null,null,null,null,null,null,null,null,null,null,null,null,null,null,null,null,null,null,null,null,null,null,null,null,null,null,null,null,null,null,null,null,null,null,null,null,null,null,null,null,null,null,null,null,null,null,null,null,null,null,null,null,0,0,0,0,0,{"$error":"#DIV/0!"}]
[15,null,null,null,null,null,null,null,null,null,null,null,null,null,null,null,null,null,null,null,null,null,null,null,null,null,null,null,null,null,null,null,null,null,null,null,null,null,null,null,null,null,null,null,null,null,null,null,null,null,null,null,null,null,null,null,null,null,null,null,null,0,0,0,0,0,{"$error":"#DIV/0!"}]
[16,null,null,null,null,null,null,null,null,null,null,null,null,null,null,null,null,null,null,null,null,null,null,null,null,null,null,null,null,null,null,null,null,null,null,null,null,null,null,null,null,null,null,null,null,null,null,null,null,null,null,null,null,null,null,null,null,null,null,null,null,0,0,0,0,0,{"$error":"#DIV/0!"}]
[17,null,null,null,null,null,null,null,null,null,null,null,null,null,null,null,null,null,null,null,null,null,null,null,null,null,null,null,null,null,null,null,null,null,null,null,null,null,null,null,null,null,null,null,null,null,null,null,null,null,null,null,null,null,null,null,null,null,null,null,null,0,0,0,0,0,{"$error":"#DIV/0!"}]
[18,null,null,null,null,null,null,null,null,null,null,null,null,null,null,null,null,null,null,null,null,null,null,null,null,null,null,null,null,null,null,null,null,null,null,null,null,null,null,null,null,null,null,null,null,null,null,null,null,null,null,null,null,null,null,null,null,null,null,null,null,0,0,0,0,0,{"$error":"#DIV/0!"}]
[19,null,null,null,null,null,null,null,null,null,null,null,null,null,null,null,null,null,null,null,null,null,null,null,null,null,null,null,null,null,null,null,null,null,null,null,null,null,null,null,null,null,null,null,null,null,null,null,null,null,null,null,null,null,null,null,null,null,null,null,null,0,0,0,0,0,{"$error":"#DIV/0!"}]
[20,null,null,null,null,null,null,null,null,null,null,null,null,null,null,null,null,null,null,null,null,null,null,null,null,null,null,null,null,null,null,null,null,null,null,null,null,null,null,null,null,null,null,null,null,null,null,null,null,null,null,null,null,null,null,null,null,null,null,null,null,{"$f":"+BE64+AJ64+AG64+AD64+AA64+X64+U64+R64+O64+L64+I64+F64+C64+AM64+AP64+AS64+AV64+AY64+BB64","v":0},0,0,0,0,{"$error":"#DIV/0!"}]
[21,null,null,null,null,null,null,null,null,null,null,null,null,null,null,null,null,null,null,null,null,null,null,null,null,null,null,null,null,null,null,null,null,null,null,null,null,null,null,null,null,null,null,null,null,null,null,null,null,null,null,null,null,null,null,null,null,null,null,null,null,0,0,0,0,0,{"$error":"#DIV/0!"}]
[22,null,null,null,null,null,null,null,null,null,null,null,null,null,null,null,null,null,null,null,null,null,null,null,null,null,null,null,null,null,null,null,null,null,null,null,null,null,null,null,null,null,null,null,null,null,null,null,null,null,null,null,null,null,null,null,null,null,null,null,null,0,0,0,0,0,{"$error":"#DIV/0!"}]
[23,null,null,null,null,null,null,null,null,null,null,null,null,null,null,null,null,null,null,null,null,null,null,null,null,null,null,null,null,null,null,null,null,null,null,null,null,null,null,null,null,null,null,null,null,null,null,null,null,null,null,null,null,null,null,null,null,null,null,null,null,0,0,0,0,0,{"$error":"#DIV/0!"}]
[24,null,null,null,null,null,null,null,null,null,null,null,null,null,null,null,null,null,null,null,null,null,null,null,null,null,null,null,null,null,null,null,null,null,null,null,null,null,null,null,null,null,null,null,null,null,null,null,null,null,null,null,null,null,null,null,null,null,null,null,null,0,0,0,0,0,{"$error":"#DIV/0!"}]
[25,null,null,null,null,null,null,null,null,null,null,null,null,null,null,null,null,null,null,null,null,null,null,null,null,null,null,null,null,null,null,null,null,null,null,null,null,null,null,null,null,null,null,null,null,null,null,null,null,null,null,null,null,null,null,null,null,null,null,null,null,0,0,0,0,0,{"$error":"#DIV/0!"}]
[26,null,null,null,null,null,null,null,null,null,null,null,null,null,null,null,null,null,null,null,null,null,null,null,null,null,null,null,null,null,null,null,null,null,null,null,null,null,null,null,null,null,null,null,null,null,null,null,null,null,null,null,null,null,null,null,null,null,null,null,null,0,0,0,0,0,{"$error":"#DIV/0!"}]
[27,null,null,null,null,null,null,null,null,null,null,null,null,null,null,null,null,null,null,null,null,null,null,null,null,null,null,null,null,null,null,null,null,null,null,null,null,null,null,null,null,null,null,null,null,null,null,null,null,null,null,null,null,null,null,null,null,null,null,null,null,0,0,0,0,0,{"$error":"#DIV/0!"}]
[28,null,null,null,null,null,null,null,null,null,null,null,null,null,null,null,null,null,null,null,null,null,null,null,null,null,null,null,null,null,null,null,null,null,null,null,null,null,null,null,null,null,null,null,null,null,null,null,null,null,null,null,null,null,null,null,null,null,null,null,null,0,0,0,0,0,{"$error":"#DIV/0!"}]
[29,null,null,null,null,null,null,null,null,null,null,null,null,null,null,null,null,null,null,null,null,null,null,null,null,null,null,null,null,null,null,null,null,null,null,null,null,null,null,null,null,null,null,null,null,null,null,null,null,null,null,null,null,null,null,null,null,null,null,null,null,0,0,0,0,0,{"$error":"#DIV/0!"}]
[30,null,null,null,null,null,null,null,null,null,null,null,null,null,null,null,null,null,null,null,null,null,null,null,null,null,null,null,null,null,null,null,null,null,null,null,null,null,null,null,null,null,null,null,null,null,null,null,null,null,null,null,null,null,null,null,null,null,null,null,null,0,0,0,0,0,{"$error":"#DIV/0!"}]
[31,null,null,null,null,null,null,null,null,null,null,null,null,null,null,null,null,null,null,null,null,null,null,null,null,null,null,null,null,null,null,null,null,null,null,null,null,null,null,null,null,null,null,null,null,null,null,null,null,null,null,null,null,null,null,null,null,null,null,null,null,0,0,0,0,0,{"$error":"#DIV/0!"}]
[32,null,null,null,null,null,null,null,null,null,null,null,null,null,null,null,null,null,null,null,null,null,null,null,null,null,null,null,null,null,null,null,null,null,null,null,null,null,null,null,null,null,null,null,null,null,null,null,null,null,null,null,null,null,null,null,null,null,null,null,null,0,0,0,0,0,{"$error":"#DIV/0!"}]
[33]
[34]
[35]
[36]
[37]
[38]
[39]
[40]
[41]
[42]
[43]
[44]
[45]
[{"$f":"+A89+1","v":46}]
[47]
[48]
[49]
[50]
[51]
[52]
[53]
[54]
[55]
[56]
[57]
[58]
[59]
[60]
[61]
[62]
[63]
[64]
[65]
[66]
[{"$f":"+A110+1","v":67}]
[68]
[69]
[70]
[71]
[72]
[73]
[74]
[75]
[76]
[77]
[78]
[79]
[80]
[81]
[82]
[83]
[84]
[85]
[86]
[87]
[88]
[89]
[90]
[91]
[92]
[93]
[94]
[95]
[96]
[97]
[98]
[99]
[100]
[101]
[102]
[103]
[104]
[105]
[106]
[107]
[108]
[109]
[110]
[111]
[112]
[113]
[114]
[115]
[116]
[117]
[118]
[119]
[120]
[121]
[122]
[123]
[124]
[125]
[126]
[127]
[128]
[129]
[130]
[{"$f":"+A174+1","v":131}]
[132]
[133]
[134]
[135]
[136]
[{"$f":"+A180+1","v":137}]
[{"$f":"+A181+1","v":138}]
[{"$f":"+A182+1","v":139}]
[{"$f":"+A183+1","v":140}]
[141]
[142]
[143]
[144]
[145]
[146]
[147]
[148]
[149]
[150]
[151]
[152]
[153]
[154]
[155]
[156]
[157]
[158]
[159]
[160]
[161]
[162]
[163]
[164]
[165]
[166]
[167]
[168]
[169]
[170]
[171]
[172]
[173]
[174]
[175]
[176]
[177]
[178]
[179]
[180]
[181]
[182]
[183]
[184]
[185]
[186]
[187]
[188]
[189]
[190]
[191]
[192]
[193]
[194]
[195]
[196]

{"sheet":"4 Duros","index":16,"n_rows":103,"n_cols":44,"rows_kept":103,"cut":false,"hidden":false,"merged":[[41,34,41,35],[41,36,41,37],[41,26,41,27],[41,28,41,29],[41,30,41,31],[41,32,41,33],[41,22,41,23],[41,24,41,25],[41,10,41,11],[41,12,41,13],[41,14,41,15],[41,16,41,17],[41,20,41,21],[41,2,41,3],[41,4,41,5],[41,6,41,7],[41,8,41,9],[41,18,41,19]]}
["4 DUROS"]
["Mes"]
[{"$f":"+GENERAL!B6","v":12},null,{"$f":"SUM(C5:C8)","v":-400000000}]
[null,null,"Premi","Punts","Partides","General"]
[1,"Joan",{"$f":"+I$39","v":-100000000},{"$f":"+J$40","v":0},{"$f":"+J$39","v":0},{"$f":"+I$25","v":0},{"$f":"IF(E5<A$3/2,-1,1)*8000+C5*100+D5+E5/100","v":-10000008000}]
[2,"Rosa",{"$f":"+E$39","v":-100000000},{"$f":"+F$40","v":0},{"$f":"+F$39","v":0},{"$f":"+E$25","v":0},-10000008000]
[3,"Jordi",{"$f":"+G$39","v":-100000000},{"$f":"+H$40","v":0},{"$f":"+H$39","v":0},{"$f":"+G$25","v":0},-10000008000]
[4,"Anna P.",{"$f":"+K$39","v":-100000000},{"$f":"+L$40","v":0},{"$f":"+L$39","v":0},{"$f":"+K$25","v":0},-10000008000]
[5,"Manel",{"$f":"+AE$39","v":-100000000},{"$f":"+AF$40","v":0},{"$f":"+AF$39","v":0},{"$f":"+AE$25","v":0},-10000008000]
[6,"Carles",{"$f":"+O$39","v":-100000000},{"$f":"+P$40","v":0},{"$f":"+P$39","v":0},{"$f":"+O$25","v":0},-10000008000]
[7,"Goretti",{"$f":"+AG$39","v":-100000000},{"$f":"+AH$40","v":0},{"$f":"+AH$39","v":0},{"$f":"+AG$25","v":0},-10000008000]
[8,"Grau",{"$f":"+C$39","v":-100000000},{"$f":"+D$40","v":0},{"$f":"+D$39","v":0},{"$f":"+C$25","v":0},-10000008000]
[9,"Mariajo",{"$f":"+Q$39","v":-100000000},{"$f":"+R$40","v":0},{"$f":"+R$39","v":0},{"$f":"+Q$25","v":0},-10000008000]
[10,"Sergi",{"$f":"+M$39","v":-100000000},{"$f":"+N$40","v":0},{"$f":"+N$39","v":0},{"$f":"+M$25","v":0},-10000008000]
[11,"Lucía",{"$f":"+Y$39","v":-100000000},{"$f":"+Z$40","v":0},{"$f":"+Z$39","v":0},{"$f":"+Y$25","v":0},-10000008000]
[12,"Xavi",{"$f":"+W$39","v":-100000000},{"$f":"+X$40","v":0},{"$f":"+X$39","v":0},{"$f":"+W$25","v":0},-10000008000]
[13,"Serra",{"$f":"+AK$39","v":-100000000},{"$f":"+AL$40","v":0},{"$f":"+AL$39","v":0},{"$f":"+AK$25","v":0},-10000008000]
[14,"Iglesias",{"$f":"+S$39","v":-100000000},{"$f":"+T$40","v":0},{"$f":"+T$39","v":0},{"$f":"+S$25","v":0},-10000008000]
[15,"Sylvain",{"$f":"+U$39","v":-100000000},{"$f":"+V$40","v":0},{"$f":"+V$39","v":0},{"$f":"+U$25","v":0},-10000008000]
[16,"Jorge",{"$f":"+AI$39","v":-100000000},{"$f":"+AJ$40","v":0},{"$f":"+AJ$39","v":0},{"$f":"+AI$25","v":0},-10000008000]
[17,"Knobel",{"$f":"+AA$39","v":-100000000},{"$f":"+AB$40","v":0},{"$f":"+AB$39","v":0},{"$f":"+AA28","v":0},-10000008000]
[18,"Taberner",{"$f":"+AC$39","v":-100000000},{"$f":"+AD$40","v":0},{"$f":"+AD$39","v":0},{"$f":"+AC$25","v":0},-10000008000]
[]
[]
[null,"General",{"$f":"+C26*C27","v":0},{"$f":"+D26*D27","v":0},0,0,0,0,0,0,0,0,0,0,0,0,0,0,0,0,0,0,0,0,0,0,0,0,0,0,0,0,0,0,0,0,0,0]
[null,null,{"$f":"IF($B38>3,1,0)","v":0},{"$f":"IF($B38>3,1,0)","v":0},0,0,0,0,0,0,0,0,0,0,0,0,0,0,0,0,0,0,0,0,0,0,0,0,0,0,0,0,0,0,0,0,0,0]
[null,null,{"$f":"MAX(C28:C32)","v":0},{"$f":"+D39","v":0},{"$f":"MAX(E28:E32)","v":0},{"$f":"+F39","v":0},{"$f":"MAX(G28:G32)","v":0},{"$f":"+H39","v":0},{"$f":"MAX(I28:I32)","v":0},{"$f":"+J39","v":0},{"$f":"MAX(K28:K32)","v":0},{"$f":"+L39","v":0},{"$f":"MAX(M28:M32)","v":0},{"$f":"+N39","v":0},{"$f":"MAX(O28:O32)","v":0},{"$f":"+P39","v":0},{"$f":"MAX(Q28:Q32)","v":0},{"$f":"+R39","v":0},{"$f":"MAX(S28:S32)","v":0},{"$f":"+T39","v":0},{"$f":"MAX(U28:U32)","v":0},{"$f":"+V39","v":0},{"$f":"MAX(W28:W32)","v":0},{"$f":"+X39","v":0},{"$f":"MAX(Y28:Y32)","v":0},{"$f":"+Z39","v":0},{"$f":"MAX(AA28:AA32)","v":0},{"$f":"+AB39","v":0},{"$f":"MAX(AC28:AC32)","v":0},{"$f":"+AD39","v":0},{"$f":"MAX(AE28:AE32)","v":0},{"$f":"+AF39","v":0},{"$f":"MAX(AG28:AG32)","v":0},{"$f":"+AH39","v":0},{"$f":"MAX(AI28:AI32)","v":0},{"$f":"+AJ39","v":0},{"$f":"MAX(AK28:AK32)","v":0},{"$f":"+AL39","v":0}]
[null,null,{"$f":"IF(C$33=5,5,0)","v":0},null,{"$f":"IF(E$33=5,5,0)","v":0},null,{"$f":"IF(G$33=5,5,0)","v":0},null,{"$f":"IF(I$33=5,5,0)","v":0},null,{"$f":"IF(K$33=5,5,0)","v":0},null,{"$f":"IF(M$33=5,5,0)","v":0},null,{"$f":"IF(O$33=5,5,0)","v":0},null,{"$f":"IF(Q$33=5,5,0)","v":0},null,{"$f":"IF(S$33=5,5,0)","v":0},null,{"$f":"IF(U$33=5,5,0)","v":0},null,{"$f":"IF(W$33=5,5,0)","v":0},null,{"$f":"IF(Y$33=5,5,0)","v":0},null,{"$f":"IF(AA$33=5,5,0)","v":0},null,{"$f":"IF(AC$33=5,5,0)","v":0},null,{"$f":"IF(AE$33=5,5,0)","v":0},null,{"$f":"IF(AG$33=5,5,0)","v":0},null,{"$f":"IF(AI$33=5,5,0)","v":0},null,{"$f":"IF(AK$33=5,5,0)","v":0}]
[null,null,{"$f":"IF(C$33=4,10,0)","v":0},null,{"$f":"IF(E$33=4,10,0)","v":0},null,{"$f":"IF(G$33=4,10,0)","v":0},null,{"$f":"IF(I$33=4,10,0)","v":0},null,{"$f":"IF(K$33=4,10,0)","v":0},null,{"$f":"IF(M$33=4,10,0)","v":0},null,{"$f":"IF(O$33=4,10,0)","v":0},null,{"$f":"IF(Q$33=4,10,0)","v":0},null,{"$f":"IF(S$33=4,10,0)","v":0},null,{"$f":"IF(U$33=4,10,0)","v":0},null,{"$f":"IF(W$33=4,10,0)","v":0},null,{"$f":"IF(Y$33=4,10,0)","v":0},null,{"$f":"IF(AA$33=4,10,0)","v":0},null,{"$f":"IF(AC$33=4,10,0)","v":0},null,{"$f":"IF(AE$33=4,10,0)","v":0},null,{"$f":"IF(AG$33=4,10,0)","v":0},null,{"$f":"IF(AI$33=4,10,0)","v":0},null,{"$f":"IF(AK$33=4,10,0)","v":0}]
[null,null,{"$f":"IF(C$33=3,20,0)","v":0},null,{"$f":"IF(E$33=3,20,0)","v":0},null,{"$f":"IF(G$33=3,20,0)","v":0},null,{"$f":"IF(I$33=3,20,0)","v":0},null,{"$f":"IF(K$33=3,20,0)","v":0},null,{"$f":"IF(M$33=3,20,0)","v":0},null,{"$f":"IF(O$33=3,20,0)","v":0},null,{"$f":"IF(Q$33=3,20,0)","v":0},null,{"$f":"IF(S$33=3,20,0)","v":0},null,{"$f":"IF(U$33=3,20,0)","v":0},null,{"$f":"IF(W$33=3,20,0)","v":0},null,{"$f":"IF(Y$33=3,20,0)","v":0},null,{"$f":"IF(AA$33=3,20,0)","v":0},null,{"$f":"IF(AC$33=3,20,0)","v":0},null,{"$f":"IF(AE$33=3,20,0)","v":0},null,{"$f":"IF(AG$33=3,20,0)","v":0},null,{"$f":"IF(AI$33=3,20,0)","v":0},null,{"$f":"IF(AK$33=3,20,0)","v":0}]
[null,null,{"$f":"IF(C$33=2,40,0)","v":0},null,{"$f":"IF(E$33=2,40,0)","v":0},null,{"$f":"IF(G$33=2,40,0)","v":0},null,{"$f":"IF(I$33=2,40,0)","v":0},null,{"$f":"IF(K$33=2,40,0)","v":0},null,{"$f":"IF(M$33=2,40,0)","v":0},null,{"$f":"IF(O$33=2,40,0)","v":0},null,{"$f":"IF(Q$33=2,40,0)","v":0},null,{"$f":"IF(S$33=2,40,0)","v":0},null,{"$f":"IF(U$33=2,40,0)","v":0},null,{"$f":"IF(W$33=2,40,0)","v":0},null,{"$f":"IF(Y$33=2,40,0)","v":0},null,{"$f":"IF(AA$33=2,40,0)","v":0},null,{"$f":"IF(AC$33=2,40,0)","v":0},null,{"$f":"IF(AE$33=2,40,0)","v":0},null,{"$f":"IF(AG$33=2,40,0)","v":0},null,{"$f":"IF(AI$33=2,40,0)","v":0},null,{"$f":"IF(AK$33=2,40,0)","v":0}]
[null,null,{"$f":"IF(C$33=1,80,0)","v":0},null,{"$f":"IF(E$33=1,80,0)","v":0},null,{"$f":"IF(G$33=1,80,0)","v":0},null,{"$f":"IF(I$33=1,80,0)","v":0},null,{"$f":"IF(K$33=1,80,0)","v":0},null,{"$f":"IF(M$33=1,80,0)","v":0},null,{"$f":"IF(O$33=1,80,0)","v":0},null,{"$f":"IF(Q$33=1,80,0)","v":0},null,{"$f":"IF(S$33=1,80,0)","v":0},null,{"$f":"IF(U$33=1,80,0)","v":0},null,{"$f":"IF(W$33=1,80,0)","v":0},null,{"$f":"IF(Y$33=1,80,0)","v":0},null,{"$f":"IF(AA$33=1,80,0)","v":0},null,{"$f":"IF(AC$33=1,80,0)","v":0},null,{"$f":"IF(AE$33=1,80,0)","v":0},null,{"$f":"IF(AG$33=1,80,0)","v":0},null,{"$f":"IF(AI$33=1,80,0)","v":0},null,{"$f":"IF(AK$33=1,80,0)","v":0}]
[null,null,{"$f":"RANK(C34,$C34:$AX34)*C38","v":0},null,{"$f":"RANK(E34,$C34:$AX34)*E38","v":0},null,{"$f":"RANK(G34,$C34:$AX34)*G38","v":0},null,{"$f":"RANK(I34,$C34:$AX34)*I38","v":0},null,{"$f":"RANK(K34,$C34:$AX34)*K38","v":0},null,{"$f":"RANK(M34,$C34:$AX34)*M38","v":0},null,{"$f":"RANK(O34,$C34:$AX34)*O38","v":0},null,{"$f":"RANK(Q34,$C34:$AX34)*Q38","v":0},null,{"$f":"RANK(S34,$C34:$AX34)*S38","v":0},null,{"$f":"RANK(U34,$C34:$AX34)*U38","v":0},null,{"$f":"RANK(W34,$C34:$AX34)*W38","v":0},null,{"$f":"RANK(Y34,$C34:$AX34)*Y38","v":0},null,{"$f":"RANK(AA34,$C34:$AX34)*AA38","v":0},null,{"$f":"RANK(AC34,$C34:$AX34)*AC38","v":0},null,{"$f":"RANK(AE34,$C34:$AX34)*AE38","v":0},null,{"$f":"RANK(AG34,$C34:$AX34)*AG38","v":0},null,{"$f":"RANK(AI34,$C34:$AX34)*AI38","v":0},null,{"$f":"RANK(AK34,$C34:$AX34)*AK38","v":0}]
[null,null,{"$f":"SUM(C35:C37)","v":-101000000},null,{"$f":"SUM(E35:E37)","v":-101000000},null,{"$f":"SUM(G35:G37)","v":-101000000},null,{"$f":"SUM(I35:I37)","v":-101000000},null,{"$f":"SUM(K35:K37)","v":-101000000},null,{"$f":"SUM(M35:M37)","v":-101000000},null,{"$f":"SUM(O35:O37)","v":-101000000},null,{"$f":"SUM(Q35:Q37)","v":-101000000},null,{"$f":"SUM(S35:S37)","v":-101000000},null,{"$f":"SUM(U35:U37)","v":-101000000},null,{"$f":"SUM(W35:W37)","v":-101000000},null,{"$f":"SUM(Y35:Y37)","v":-101000000},null,{"$f":"SUM(AA35:AA37)","v":-101000000},null,{"$f":"SUM(AC35:AC37)","v":-101000000},null,{"$f":"SUM(AE35:AE37)","v":-101000000},null,{"$f":"SUM(AG35:AG37)","v":-101000000},null,{"$f":"SUM(AI35:AI37)","v":-101000000},null,{"$f":"SUM(AK35:AK37)","v":-101000000}]
[null,null,{"$f":"+D39","v":0},null,{"$f":"+F39","v":0},null,{"$f":"+H39","v":0},null,{"$f":"+J39","v":0},null,{"$f":"+L39","v":0},null,{"$f":"+N39","v":0},null,{"$f":"+P39","v":0},null,{"$f":"+R39","v":0},null,{"$f":"+T39","v":0},null,{"$f":"+V39","v":0},null,{"$f":"+X39","v":0},null,{"$f":"+Z39","v":0},null,{"$f":"+AB39","v":0},null,{"$f":"+AD39","v":0},null,{"$f":"+AF39","v":0},null,{"$f":"+AH39","v":0},null,{"$f":"+AJ39","v":0},null,{"$f":"+AL39","v":0}]
[null,null,{"$f":"D40*10","v":0},null,{"$f":"F40*10","v":0},null,{"$f":"H40*10","v":0},null,{"$f":"J40*10","v":0},null,{"$f":"L40*10","v":0},null,{"$f":"N40*10","v":0},null,{"$f":"P40*10","v":0},null,{"$f":"R40*10","v":0},null,{"$f":"T40*10","v":0},null,{"$f":"V40*10","v":0},null,{"$f":"X40*10","v":0},null,{"$f":"Z40*10","v":0},null,{"$f":"AB40*10","v":0},null,{"$f":"AD40*10","v":0},null,{"$f":"AF40*10","v":0},null,{"$f":"AH40*10","v":0},null,{"$f":"AJ40*10","v":0},null,{"$f":"AL40*10","v":0}]
[null,null,{"$f":"IF(C38=1,C39*C38*10000+C39,-1000000+C39)","v":-101000000},null,{"$f":"IF(E38=1,E39*E38*10000+E39,-1000000+E39)","v":-101000000},null,{"$f":"IF(G38=1,G39*G38*10000+G39,-1000000+G39)","v":-101000000},null,{"$f":"IF(I38=1,I39*I38*10000+I39,-1000000+I39)","v":-101000000},null,{"$f":"IF(K38=1,K39*K38*10000+K39,-1000000+K39)","v":-101000000},null,{"$f":"IF(M38=1,M39*M38*10000+M39,-1000000+M39)","v":-101000000},null,{"$f":"IF(O38=1,O39*O38*10000+O39,-1000000+O39)","v":-101000000},null,{"$f":"IF(Q38=1,Q39*Q38*10000+Q39,-1000000+Q39)","v":-101000000},null,{"$f":"IF(S38=1,S39*S38*10000+S39,-1000000+S39)","v":-101000000},null,{"$f":"IF(U38=1,U39*U38*10000+U39,-1000000+U39)","v":-101000000},null,{"$f":"IF(W38=1,W39*W38*10000+W39,-1000000+W39)","v":-101000000},null,{"$f":"IF(Y38=1,Y39*Y38*10000+Y39,-1000000+Y39)","v":-101000000},null,{"$f":"IF(AA38=1,AA39*AA38*10000+AA39,-1000000+AA39)","v":-101000000},null,{"$f":"IF(AC38=1,AC39*AC38*10000+AC39,-1000000+AC39)","v":-101000000},null,{"$f":"IF(AE38=1,AE39*AE38*10000+AE39,-1000000+AE39)","v":-101000000},null,{"$f":"IF(AG38=1,AG39*AG38*10000+AG39,-1000000+AG39)","v":-101000000},null,{"$f":"IF(AI38=1,AI39*AI38*10000+AI39,-1000000+AI39)","v":-101000000},null,{"$f":"IF(AK38=1,AK39*AK38*10000+AK39,-1000000+AK39)","v":-101000000}]
["Classificats",{"$f":"SUM(C38:AK38)","v":0},{"$f":"IF(D39>=$A3/2,1,0)","v":0},null,{"$f":"IF(F39>=$A3/2,1,0)","v":0},null,{"$f":"IF(H39>=$A3/2,1,0)","v":0},null,{"$f":"IF(J39>=$A3/2,1,0)","v":0},null,{"$f":"IF(L39>=$A3/2,1,0)","v":0},null,{"$f":"IF(N39>=$A3/2,1,0)","v":0},null,{"$f":"IF(P39>=$A3/2,1,0)","v":0},null,{"$f":"IF(R39>=$A3/2,1,0)","v":0},null,{"$f":"IF(T39>=$A3/2,1,0)","v":0},null,{"$f":"IF(V39>=$A3/2,1,0)","v":0},null,{"$f":"IF(X39>=$A3/2,1,0)","v":0},null,{"$f":"IF(Z39>=$A3/2,1,0)","v":0},null,{"$f":"IF(AB39>=$A3/2,1,0)","v":0},null,{"$f":"IF(AD39>=$A3/2,1,0)","v":0},null,{"$f":"IF(AF39>=$A3/2,1,0)","v":0},null,{"$f":"IF(AH39>=$A3/2,1,0)","v":0},null,{"$f":"IF(AJ39>=$A3/2,1,0)","v":0},null,{"$f":"IF(AL39>=$A3/2,1,0)","v":0}]
[null,null,{"$f":"IF(SUM(C44:C209)<-1000,-100000000,SUM(C44:C209))","v":-100000000},{"$f":"COUNT(D44:D209)","v":0},{"$f":"IF(SUM(E44:E209)<-1000,-100000000,SUM(E44:E209))","v":-100000000},{"$f":"COUNT(F44:F209)","v":0},{"$f":"IF(SUM(G44:G209)<-1000,-100000000,SUM(G44:G209))","v":-100000000},{"$f":"COUNT(H44:H209)","v":0},{"$f":"IF(SUM(I44:I209)<-1000,-100000000,SUM(I44:I209))","v":-100000000},{"$f":"COUNT(J44:J209)","v":0},{"$f":"IF(SUM(K44:K209)<-1000,-100000000,SUM(K44:K209))","v":-100000000},{"$f":"COUNT(L44:L209)","v":0},{"$f":"IF(SUM(M44:M209)<-1000,-100000000,SUM(M44:M209))","v":-100000000},{"$f":"COUNT(N44:N209)","v":0},{"$f":"IF(SUM(O44:O209)<-1000,-100000000,SUM(O44:O209))","v":-100000000},{"$f":"COUNT(P44:P209)","v":0},{"$f":"IF(SUM(Q44:Q209)<-1000,-100000000,SUM(Q44:Q209))","v":-100000000},{"$f":"COUNT(R44:R209)","v":0},{"$f":"IF(SUM(S44:S209)<-1000,-100000000,SUM(S44:S209))","v":-100000000},{"$f":"COUNT(T44:T209)","v":0},{"$f":"IF(SUM(U44:U209)<-1000,-100000000,SUM(U44:U209))","v":-100000000},{"$f":"COUNT(V44:V209)","v":0},{"$f":"IF(SUM(W44:W209)<-1000,-100000000,SUM(W44:W209))","v":-100000000},{"$f":"COUNT(X44:X209)","v":0},{"$f":"IF(SUM(Y44:Y209)<-1000,-100000000,SUM(Y44:Y209))","v":-100000000},{"$f":"COUNT(Z44:Z209)","v":0},{"$f":"IF(SUM(AA44:AA209)<-1000,-100000000,SUM(AA44:AA209))","v":-100000000},{"$f":"COUNT(AB44:AB209)","v":0},{"$f":"IF(SUM(AC44:AC209)<-1000,-100000000,SUM(AC44:AC209))","v":-100000000},{"$f":"COUNT(AD44:AD209)","v":0},{"$f":"IF(SUM(AE44:AE209)<-1000,-100000000,SUM(AE44:AE209))","v":-100000000},{"$f":"COUNT(AF44:AF209)","v":0},{"$f":"IF(SUM(AG44:AG209)<-1000,-100000000,SUM(AG44:AG209))","v":-100000000},{"$f":"COUNT(AH44:AH209)","v":0},{"$f":"IF(SUM(AI44:AI209)<-1000,-100000000,SUM(AI44:AI209))","v":-100000000},{"$f":"COUNT(AJ44:AJ209)","v":0},{"$f":"IF(SUM(AK44:AK209)<-1000,-100000000,SUM(AK44:AK209))","v":-100000000},{"$f":"COUNT(AL44:AL209)","v":0}]
[null,null,{"$f":"SUM(C44:C103)","v":-100000000},0,-100000000,0,-100000000,0,-100000000,0,-100000000,0,-100000000,0,-100000000,0,-100000000,0,-100000000,0,-100000000,0,-100000000,0,-100000000,0,-100000000,0,-100000000,0,-100000000,0,-100000000,0,-100000000,0,-100000000,0]
[null,null,null,null,null,null,null,null,null,null,null,null,null,null,null,null,null,null,null,null,null,null,null,null,null,null,null,null,null,null,null,null,null,null,null,null,null,null,{"$f":"MAX(AN44:AN103)","v":0}]
[null,"Nº partida ","Grau",null,"Rosa",null,"Jordi",null,"Joan",null,"Anna P.",null,"Sergi",null,"Carles",null,"Mariajo",null,"Iglesias",null,"Martín",null,"Xavi",null,"Lucía",null,"Knobel",null,"Taberner",null,"Manel",null,"Goretti",null,"Jorge",null,"Serra",null,{"$f":"COUNT(AM44:AM124)","v":0},"A","B","C"]
[null,null,"Premi","Punts","Premi","Punts","Premi","Punts","Premi","Punts","Premi","Punts","Premi","Punts","Premi","Punts","Premi","Punts","Premi","Punts","Premi","Punts","Premi","Punts","Premi","Punts","Premi","Punts","Premi","Punts","Premi","Punts","Premi","Punts","Premi","Punts","Premi","Punts","Data","Timbes"]
[1,null,-100000000,null,-100000000,null,-100000000,null,-100000000,null,-100000000,null,-100000000,null,-100000000,null,-100000000,null,-100000000,null,-100000000,null,-100000000,null,-100000000,null,-100000000,null,-100000000,null,-100000000,null,-100000000,null,-100000000,null,-100000000,null,null,null,{"$f":"+C44+E44+G44+I44++K44++M44+O44+Q44+S44+U44+W44+Y44+AK44+AA44+AC44+AE44+AG44+AI44","v":-1800000000},0,{"$f":"COUNT(C44:AL44)/2","v":9},{"$f":"+AO44/AQ44","v":-200000000}]
[{"$f":"+A44+1","v":2},null,null,null,null,null,null,null,null,null,null,null,null,null,null,null,null,null,null,null,null,null,null,null,null,null,null,null,null,null,null,null,null,null,null,null,null,null,null,null,0,0,{"$f":"COUNT(C45:AL45)/2","v":0},{"$f":"+AO45/AQ45","v":{"$error":"#DIV/0!"}}]
[{"$f":"+A45+1","v":3},null,null,null,null,null,null,null,null,null,null,null,null,null,null,null,null,null,null,null,null,null,null,null,null,null,null,null,null,null,null,null,null,null,null,null,null,null,null,null,0,0,{"$f":"COUNT(C46:AL46)/2","v":0},{"$f":"+AO46/AQ46","v":{"$error":"#DIV/0!"}}]
[4]
[5]
[6]
[7]
[8]
[9]
[10]
[11]
[12]
[13]
[14]
[15]
[16]
[17]
[18]
[19]
[20]
[21]
[22]
[23]
[24]
[25]
[26]
[27]
[28]
[29]
[30]
[31]
[32]
[33]
[34]
[35]
[36]
[37]
[38]
[39]
[40]
[41]
[42]
[43]
[44]
[45]
[46]
[47]
[48]
[49]
[50]
[51]
[52]
[53]
[54]
[55]
[56]
[57]
[58]
[59]
[60]

{"sheet":"Guinyot","index":17,"n_rows":156,"n_cols":58,"rows_kept":156,"cut":false,"hidden":false,"merged":[[40,35,40,37],[40,2,40,4],[40,5,40,7],[40,8,40,10],[40,11,40,13],[40,14,40,16],[40,17,40,19],[40,20,40,22],[40,23,40,25],[40,26,40,28],[40,29,40,31],[40,32,40,34],[40,38,40,40],[40,41,40,43],[40,44,40,46],[40,47,40,49],[40,50,40,52]]}
["GUINYOT"]
["Mes"]
[{"$f":"+GENERAL!B6","v":12},null,{"$f":"SUM(C5:C8)","v":-400000000}]
[null,null,"Premi","Punts","Partides","General"]
[1,"Carles",{"$f":"+U$38","v":-100000000},{"$f":"+U$39","v":0},{"$f":"+V$38","v":0},{"$f":"+U$24","v":0},{"$f":"IF(E5<A$3/2,-1,1)*800+C5","v":-100000800}]
[2,"Mariajo",{"$f":"+X$38","v":-100000000},{"$f":"+X$39","v":0},{"$f":"+Y$38","v":0},{"$f":"+X$24","v":0},-100000800]
[3,"Sergi",{"$f":"+R$38","v":-100000000},{"$f":"+R$39","v":0},{"$f":"+S$38","v":0},{"$f":"+R$24","v":0},-100000800]
[4,"Manolo",{"$f":"+O$38","v":-100000000},{"$f":"+O$39","v":0},{"$f":"+P$38","v":0},{"$f":"+O$24","v":0},-100000800]
[5,"Jordi",{"$f":"+I$38","v":-100000000},{"$f":"+I$39","v":0},{"$f":"+J$38","v":0},{"$f":"+I$24","v":0},-100000800]
[6,"Grau",{"$f":"+AY$38","v":-100000000},{"$f":"+AY$39","v":0},{"$f":"+AZ$38","v":0},{"$f":"+AY$24","v":0},-100000800]
[7,"Angie",{"$f":"+F$38","v":-100000000},{"$f":"+F$39","v":0},{"$f":"+G$38","v":0},{"$f":"+F$24","v":0},-100000800]
[8,"Mercè",{"$f":"+AP$38","v":-100000000},{"$f":"+AP$39","v":0},{"$f":"+AQ$38","v":0},{"$f":"+AP$24","v":0},-100000800]
[9,"Katy",{"$f":"+AJ$38","v":-100000000},{"$f":"+AJ$39","v":0},{"$f":"+AK$38","v":0},{"$f":"+AJ$24","v":0},-100000800]
[10,"Goretti",{"$f":"+AS$38","v":-100000000},{"$f":"+AS$39","v":0},{"$f":"+AT$38","v":0},{"$f":"+AS$24","v":0},-100000800]
[11,"Palafox",{"$f":"+L$38","v":-100000000},{"$f":"+L$39","v":0},{"$f":"+M$38","v":0},{"$f":"+L$24","v":0},-100000800]
[12,"Coralie",{"$f":"+AM$38","v":-100000000},{"$f":"+AM$39","v":0},{"$f":"+AN$38","v":0},{"$f":"+AM$24","v":0},-100000800]
[13,"Xavi",{"$f":"+AG$38","v":-100000000},{"$f":"+AG$39","v":0},{"$f":"+AH$38","v":0},{"$f":"+AG$24","v":0},-100000800]
[14,"Martín",{"$f":"+AD$38","v":-100000000},{"$f":"+AD$39","v":0},{"$f":"+AE$38","v":0},{"$f":"+AD$24","v":0},-100000800]
[15,"Iglesias",{"$f":"+AA$38","v":-100000000},{"$f":"+AA$39","v":0},{"$f":"+AB$38","v":0},{"$f":"+AA$24","v":0},-100000800]
[16,"Salvadó",{"$f":"+C$38","v":-100000000},{"$f":"+C$39","v":0},{"$f":"+D$38","v":0},{"$f":"+C$24","v":0},-100000800]
[17,"Jorge",{"$f":"+AV$38","v":-100000000},{"$f":"+AV$39","v":0},{"$f":"+AW$38","v":0},{"$f":"+AU$24","v":0},-100000800]
[]
[]
[null,"General",{"$f":"+C25*C26","v":0},{"$f":"+D25*D26","v":0},null,{"$f":"+F25*F26","v":0},{"$f":"+G25*G26","v":0},null,{"$f":"+I25*I26","v":0},{"$f":"+J25*J26","v":0},null,{"$f":"L25*L26","v":0},{"$f":"+M25*M26","v":0},null,{"$f":"+O25*O26","v":0},{"$f":"+P25*P26","v":0},null,{"$f":"+R25*R26","v":0},{"$f":"+S25*S26","v":0},null,{"$f":"+U25*U26","v":0},{"$f":"+V25*V26","v":0},null,{"$f":"+X25*X26","v":0},{"$f":"+Y25*Y26","v":0},null,{"$f":"+AA25*AA26","v":0},{"$f":"+AB25*AB26","v":0},null,{"$f":"+AD25*AD26","v":0},{"$f":"+AE25*AE26","v":0},null,{"$f":"+AG25*AG26","v":0},{"$f":"+AH25*AH26","v":0},null,{"$f":"+AJ25*AJ26","v":0},{"$f":"+AK25*AK26","v":0},null,{"$f":"+AM25*AM26","v":0},{"$f":"+AN25*AN26","v":0},null,{"$f":"+AP25*AP26","v":0},{"$f":"+AQ25*AQ26","v":0},null,{"$f":"+AS25*AS26","v":0},{"$f":"+AT25*AT26","v":0},null,{"$f":"+AV25*AV26","v":0},{"$f":"+AW25*AW26","v":0},null,{"$f":"+AY25*AY26","v":0},{"$f":"+AZ25*AZ26","v":0}]
[null,null,{"$f":"IF($B37>3,1,0)","v":0},{"$f":"IF($B37>3,1,0)","v":0},null,0,0,null,{"$f":"IF($B37>3,1,0)","v":0},0,null,0,0,null,0,0,null,0,0,null,0,0,null,0,0,null,0,0,null,0,0,null,0,0,null,{"$f":"IF($B37>3,1,0)","v":0},{"$f":"IF($B37>3,1,0)","v":0},null,{"$f":"IF($B37>3,1,0)","v":0},{"$f":"IF($B37>3,1,0)","v":0},null,0,0,null,{"$f":"IF($B37>3,1,0)","v":0},{"$f":"IF($B37>3,1,0)","v":0},null,{"$f":"IF($B37>3,1,0)","v":0},{"$f":"IF($B37>3,1,0)","v":0},null,0,0]
[null,null,{"$f":"MAX(C27:C31)","v":0},{"$f":"+D38","v":0},null,{"$f":"MAX(F27:F31)","v":0},{"$f":"+G38","v":0},null,{"$f":"MAX(I27:I31)","v":0},{"$f":"+J38","v":0},null,{"$f":"MAX(L27:L31)","v":0},{"$f":"+M38","v":0},null,{"$f":"MAX(O27:O31)","v":0},{"$f":"+P38","v":0},null,{"$f":"MAX(R27:R31)","v":0},{"$f":"+S38","v":0},null,{"$f":"MAX(U27:U31)","v":0},{"$f":"+V38","v":0},null,{"$f":"MAX(X27:X31)","v":0},{"$f":"+Y38","v":0},null,{"$f":"MAX(AA27:AA31)","v":0},{"$f":"+AB38","v":0},null,{"$f":"MAX(AD27:AD31)","v":0},{"$f":"+AE38","v":0},null,{"$f":"MAX(AG27:AG31)","v":0},{"$f":"+AH38","v":0},null,{"$f":"MAX(AJ27:AJ31)","v":0},{"$f":"+AK38","v":0},null,{"$f":"MAX(AM27:AM31)","v":0},{"$f":"+AN38","v":0},null,{"$f":"MAX(AP27:AP31)","v":0},{"$f":"+AQ38","v":0},null,{"$f":"MAX(AS27:AS31)","v":0},{"$f":"+AT38","v":0},null,{"$f":"MAX(AV27:AV31)","v":0},{"$f":"+AW38","v":0},null,{"$f":"MAX(AY27:AY31)","v":0},{"$f":"+AZ38","v":0}]
[null,null,{"$f":"IF(C$32=5,5,0)","v":0},null,null,{"$f":"IF(F$32=5,5,0)","v":0},null,null,{"$f":"IF(I$32=5,5,0)","v":0},null,null,{"$f":"IF(L$32=5,5,0)","v":0},null,null,{"$f":"IF(O$32=5,5,0)","v":0},null,null,{"$f":"IF(R$32=5,5,0)","v":0},null,null,{"$f":"IF(U$32=5,5,0)","v":0},null,null,{"$f":"IF(X$32=5,5,0)","v":0},null,null,{"$f":"IF(AA$32=5,5,0)","v":0},null,null,{"$f":"IF(AD$32=5,5,0)","v":0},null,null,{"$f":"IF(AG$32=5,5,0)","v":0},null,null,{"$f":"IF(AJ$32=5,5,0)","v":0},null,null,{"$f":"IF(AM$32=5,5,0)","v":0},null,null,{"$f":"IF(AP$32=5,5,0)","v":0},null,null,{"$f":"IF(AS$32=5,5,0)","v":0},null,null,{"$f":"IF(AV$32=5,5,0)","v":0},null,null,{"$f":"IF(AY$32=5,5,0)","v":0}]
[null,null,{"$f":"IF(C$32=4,10,0)","v":0},null,null,{"$f":"IF(F$32=4,10,0)","v":0},null,null,{"$f":"IF(I$32=4,10,0)","v":0},null,null,{"$f":"IF(L$32=4,10,0)","v":0},null,null,{"$f":"IF(O$32=4,10,0)","v":0},null,null,{"$f":"IF(R$32=4,10,0)","v":0},null,null,{"$f":"IF(U$32=4,10,0)","v":0},null,null,{"$f":"IF(X$32=4,10,0)","v":0},null,null,{"$f":"IF(AA$32=4,10,0)","v":0},null,null,{"$f":"IF(AD$32=4,10,0)","v":0},null,null,{"$f":"IF(AG$32=4,10,0)","v":0},null,null,{"$f":"IF(AJ$32=4,10,0)","v":0},null,null,{"$f":"IF(AM$32=4,10,0)","v":0},null,null,{"$f":"IF(AP$32=4,10,0)","v":0},null,null,{"$f":"IF(AS$32=4,10,0)","v":0},null,null,{"$f":"IF(AV$32=4,10,0)","v":0},null,null,{"$f":"IF(AY$32=4,10,0)","v":0}]
[null,null,{"$f":"IF(C$32=3,20,0)","v":0},null,null,{"$f":"IF(F$32=3,20,0)","v":0},null,null,{"$f":"IF(I$32=3,20,0)","v":0},null,null,{"$f":"IF(L$32=3,20,0)","v":0},null,null,{"$f":"IF(O$32=3,20,0)","v":0},null,null,{"$f":"IF(R$32=3,20,0)","v":0},null,null,{"$f":"IF(U$32=3,20,0)","v":0},null,null,{"$f":"IF(X$32=3,20,0)","v":0},null,null,{"$f":"IF(AA$32=3,20,0)","v":0},null,null,{"$f":"IF(AD$32=3,20,0)","v":0},null,null,{"$f":"IF(AG$32=3,20,0)","v":0},null,null,{"$f":"IF(AJ$32=3,20,0)","v":0},null,null,{"$f":"IF(AM$32=3,20,0)","v":0},null,null,{"$f":"IF(AP$32=3,20,0)","v":0},null,null,{"$f":"IF(AS$32=3,20,0)","v":0},null,null,{"$f":"IF(AV$32=3,20,0)","v":0},null,null,{"$f":"IF(AY$32=3,20,0)","v":0}]
[null,null,{"$f":"IF(C$32=2,40,0)","v":0},null,null,{"$f":"IF(F$32=2,40,0)","v":0},null,null,{"$f":"IF(I$32=2,40,0)","v":0},null,null,{"$f":"IF(L$32=2,40,0)","v":0},null,null,{"$f":"IF(O$32=2,40,0)","v":0},null,null,{"$f":"IF(R$32=2,40,0)","v":0},null,null,{"$f":"IF(U$32=2,40,0)","v":0},null,null,{"$f":"IF(X$32=2,40,0)","v":0},null,null,{"$f":"IF(AA$32=2,40,0)","v":0},null,null,{"$f":"IF(AD$32=2,40,0)","v":0},null,null,{"$f":"IF(AG$32=2,40,0)","v":0},null,null,{"$f":"IF(AJ$32=2,40,0)","v":0},null,null,{"$f":"IF(AM$32=2,40,0)","v":0},null,null,{"$f":"IF(AP$32=2,40,0)","v":0},null,null,{"$f":"IF(AS$32=2,40,0)","v":0},null,null,{"$f":"IF(AV$32=2,40,0)","v":0},null,null,{"$f":"IF(AY$32=2,40,0)","v":0}]
[null,null,{"$f":"IF(C$32=1,80,0)","v":0},null,null,{"$f":"IF(F$32=1,80,0)","v":0},null,null,{"$f":"IF(I$32=1,80,0)","v":0},null,null,{"$f":"IF(L$32=1,80,0)","v":0},null,null,{"$f":"IF(O$32=1,80,0)","v":0},null,null,{"$f":"IF(R$32=1,80,0)","v":0},null,null,{"$f":"IF(U$32=1,80,0)","v":0},null,null,{"$f":"IF(X$32=1,80,0)","v":0},null,null,{"$f":"IF(AA$32=1,80,0)","v":0},null,null,{"$f":"IF(AD$32=1,80,0)","v":0},null,null,{"$f":"IF(AG$32=1,80,0)","v":0},null,null,{"$f":"IF(AJ$32=1,80,0)","v":0},null,null,{"$f":"IF(AM$32=1,80,0)","v":0},null,null,{"$f":"IF(AP$32=1,80,0)","v":0},null,null,{"$f":"IF(AS$32=1,80,0)","v":0},null,null,{"$f":"IF(AV$32=1,80,0)","v":0},null,null,{"$f":"IF(AY$32=1,80,0)","v":0}]
[null,null,{"$f":"RANK(C33,$C33:$AZ33)*C37","v":0},null,null,{"$f":"RANK(F33,$C33:$AZ33)*F37","v":0},null,null,{"$f":"RANK(I33,$C33:$AZ33)*I37","v":0},null,null,{"$f":"RANK(L33,$C33:$AZ33)*L37","v":0},null,null,{"$f":"RANK(O33,$C33:$AZ33)*O37","v":0},null,null,{"$f":"RANK(R33,$C33:$AZ33)*R37","v":0},null,null,{"$f":"RANK(U33,$C33:$AZ33)*U37","v":0},null,null,{"$f":"RANK(X33,$C33:$AZ33)*X37","v":0},null,null,{"$f":"RANK(AA33,$C33:$AZ33)*AA37","v":0},null,null,{"$f":"RANK(AD33,$C33:$AZ33)*AD37","v":0},null,null,{"$f":"RANK(AG33,$C33:$AZ33)*AG37","v":0},null,null,{"$f":"RANK(AJ33,$C33:$AZ33)*AJ37","v":0},null,null,{"$f":"RANK(AM33,$C33:$AZ33)*AM37","v":0},null,null,{"$f":"RANK(AP33,$C33:$AZ33)*AP37","v":0},null,null,{"$f":"RANK(AS33,$C33:$AZ33)*AS37","v":0},null,null,{"$f":"RANK(AV33,$C33:$AZ33)*AV37","v":0},null,null,{"$f":"RANK(AY33,$C33:$AZ33)*AY37","v":0}]
[null,null,{"$f":"SUM(C34:C36)","v":-1000000},null,null,{"$f":"SUM(F34:F36)","v":-1000000},null,null,{"$f":"SUM(I34:I36)","v":-1000000},null,null,{"$f":"SUM(L34:L36)","v":-1000000},null,null,{"$f":"SUM(O34:O36)","v":-1000000},null,null,{"$f":"SUM(R34:R36)","v":-1000000},null,null,{"$f":"SUM(U34:U36)","v":-1000000},null,null,{"$f":"SUM(X34:X36)","v":-1000000},null,null,{"$f":"SUM(AA34:AA36)","v":-1000000},null,null,{"$f":"SUM(AD34:AD36)","v":-1000000},null,null,{"$f":"SUM(AG34:AG36)","v":-1000000},null,null,{"$f":"SUM(AJ34:AJ36)","v":-1000000},null,null,{"$f":"SUM(AM34:AM36)","v":-1000000},null,null,{"$f":"SUM(AP34:AP36)","v":-1000000},null,null,{"$f":"SUM(AS34:AS36)","v":-1000000},null,null,{"$f":"SUM(AV34:AV36)","v":-1000000},null,null,{"$f":"SUM(AY34:AY36)","v":-1000000}]
[null,null,{"$f":"+D38","v":0},null,null,{"$f":"+G38","v":0},null,null,{"$f":"+J38","v":0},null,null,{"$f":"+M38","v":0},null,null,{"$f":"+P38","v":0},null,null,{"$f":"+S38","v":0},null,null,{"$f":"+V38","v":0},null,null,{"$f":"+Y38","v":0},null,null,{"$f":"+AB38","v":0},null,null,{"$f":"+AE38","v":0},null,null,{"$f":"+AH38","v":0},null,null,{"$f":"+AK38","v":0},null,null,{"$f":"+AN38","v":0},null,null,{"$f":"+AQ38","v":0},null,null,{"$f":"+AT38","v":0},null,null,{"$f":"+AW38","v":0},null,null,{"$f":"+AZ38","v":0}]
[null,null,{"$f":"-C39*100","v":0},null,null,{"$f":"-F39*100","v":0},null,null,{"$f":"-I39*100","v":0},null,null,{"$f":"-L39*100","v":0},null,null,{"$f":"-O39*100","v":0},null,null,{"$f":"-R39*100","v":0},null,null,{"$f":"-U39*100","v":0},null,null,{"$f":"-X39*100","v":0},null,null,{"$f":"-AA39*100","v":0},null,null,{"$f":"-AD39*100","v":0},null,null,{"$f":"-AG39*100","v":0},null,null,{"$f":"-AJ39*100","v":0},null,null,{"$f":"-AM39*100","v":0},null,null,{"$f":"-AP39*100","v":0},null,null,{"$f":"-AS39*100","v":0},null,null,{"$f":"-AV39*100","v":0},null,null,{"$f":"-AY39*100","v":0}]
[null,null,{"$f":"IF(D38-$A3/2<0,-1000000,C38*C37*10000+C38)","v":-1000000},null,null,{"$f":"IF(G38-$A3/2<0,-1000000,F38*F37*10000+F38)","v":-1000000},null,null,{"$f":"IF(J38-$A3/2<0,-1000000,I38*I37*10000+I38)","v":-1000000},null,null,{"$f":"IF(M38-$A3/2<0,-1000000,L38*L37*10000+L38)","v":-1000000},null,null,{"$f":"IF(P38-$A3/2<0,-1000000,O38*O37*10000+O38)","v":-1000000},null,null,{"$f":"IF(S38-$A3/2<0,-1000000,R38*R37*10000+R38)","v":-1000000},null,null,{"$f":"IF(V38-$A3/2<0,-1000000,U38*U37*10000+U38)","v":-1000000},null,null,{"$f":"IF(Y38-$A3/2<0,-1000000,X38*X37*10000+X38)","v":-1000000},null,null,{"$f":"IF(AB38-$A3/2<0,-1000000,AA38*AA37*10000+AA38)","v":-1000000},null,null,{"$f":"IF(AE38-$A3/2<0,-1000000,AD38*AD37*10000+AD38)","v":-1000000},null,null,{"$f":"IF(AH38-$A3/2<0,-1000000,AG38*AG37*10000+AG38)","v":-1000000},null,null,{"$f":"IF(AK38-$A3/2<0,-1000000,AJ38*AJ37*10000+AJ38)","v":-1000000},null,null,{"$f":"IF(AN38-$A3/2<0,-1000000,AM38*AM37*10000+AM38)","v":-1000000},null,null,{"$f":"IF(AQ38-$A3/2<0,-1000000,AP38*AP37*10000+AP38)","v":-1000000},null,null,{"$f":"IF(AT38-$A3/2<0,-1000000,AS38*AS37*10000+AS38)","v":-1000000},null,null,{"$f":"IF(AW38-$A3/2<0,-1000000,AV38*AV37*10000+AV38)","v":-1000000},null,null,{"$f":"IF(AZ38-$A3/2<0,-1000000,AY38*AY37*10000+AY38)","v":-1000000}]
["Classificats",{"$f":"SUM(C37:AY37)","v":0},{"$f":"IF(D38>=$A3/2,1,0)","v":0},null,null,{"$f":"IF(G38>=$A3/2,1,0)","v":0},null,null,{"$f":"IF(J38>=$A3/2,1,0)","v":0},null,null,{"$f":"IF(M38>=$A3/2,1,0)","v":0},null,null,{"$f":"IF(P38>=$A3/2,1,0)","v":0},null,null,{"$f":"IF(S38>=$A3/2,1,0)","v":0},null,null,{"$f":"IF(V38>=$A3/2,1,0)","v":0},null,null,{"$f":"IF(Y38>=$A3/2,1,0)","v":0},null,null,{"$f":"IF(AB38>=$A3/2,1,0)","v":0},null,null,{"$f":"IF(AE38>=$A3/2,1,0)","v":0},null,null,{"$f":"IF(AH38>=$A3/2,1,0)","v":0},null,null,{"$f":"IF(AK38>=$A3/2,1,0)","v":0},null,null,{"$f":"IF(AN38>=$A3/2,1,0)","v":0},null,null,{"$f":"IF(AQ38>=$A3/2,1,0)","v":0},null,null,{"$f":"IF(AT38>=$A3/2,1,0)","v":0},null,null,{"$f":"IF(AW38>=$A3/2,1,0)","v":0},null,null,{"$f":"IF(AZ38>=$A3/2,1,0)","v":0}]
[null,null,{"$f":"IF(SUM(C43:C241)<-1000,-100000000,SUM(C43:C241))","v":-100000000},{"$f":"COUNT(D43:D241)","v":0},null,{"$f":"IF(SUM(F43:F241)<-1000,-100000000,SUM(F43:F241))","v":-100000000},{"$f":"COUNT(G43:G241)","v":0},null,{"$f":"IF(SUM(I43:I241)<-1000,-100000000,SUM(I43:I241))","v":-100000000},{"$f":"COUNT(J43:J241)","v":0},null,{"$f":"IF(SUM(L43:L241)<-1000,-100000000,SUM(L43:L241))","v":-100000000},{"$f":"COUNT(M43:M241)","v":0},null,{"$f":"IF(SUM(O43:O241)<-1000,-100000000,SUM(O43:O241))","v":-100000000},{"$f":"COUNT(P43:P241)","v":0},null,{"$f":"IF(SUM(R43:R241)<-1000,-100000000,SUM(R43:R241))","v":-100000000},{"$f":"COUNT(S43:S241)","v":0},null,{"$f":"IF(SUM(U43:U241)<-1000,-100000000,SUM(U43:U241))","v":-100000000},{"$f":"COUNT(V43:V241)","v":0},null,{"$f":"IF(SUM(X43:X241)<-1000,-100000000,SUM(X43:X241))","v":-100000000},{"$f":"COUNT(Y43:Y241)","v":0},null,{"$f":"IF(SUM(AA43:AA241)<-1000,-100000000,SUM(AA43:AA241))","v":-100000000},{"$f":"COUNT(AB43:AB241)","v":0},null,{"$f":"IF(SUM(AD43:AD241)<-1000,-100000000,SUM(AD43:AD241))","v":-100000000},{"$f":"COUNT(AE43:AE241)","v":0},null,{"$f":"IF(SUM(AG43:AG241)<-1000,-100000000,SUM(AG43:AG241))","v":-100000000},{"$f":"COUNT(AH43:AH241)","v":0},null,{"$f":"IF(SUM(AJ43:AJ241)<-1000,-100000000,SUM(AJ43:AJ241))","v":-100000000},{"$f":"COUNT(AK43:AK241)","v":0},null,{"$f":"IF(SUM(AM43:AM241)<-1000,-100000000,SUM(AM43:AM241))","v":-100000000},{"$f":"COUNT(AN43:AN241)","v":0},null,{"$f":"IF(SUM(AP43:AP241)<-1000,-100000000,SUM(AP43:AP241))","v":-100000000},{"$f":"COUNT(AQ43:AQ241)","v":0},null,{"$f":"IF(SUM(AS43:AS241)<-1000,-100000000,SUM(AS43:AS241))","v":-100000000},{"$f":"COUNT(AT43:AT241)","v":0},null,{"$f":"IF(SUM(AV43:AV241)<-1000,-100000000,SUM(AV43:AV241))","v":-100000000},{"$f":"COUNT(AW43:AW241)","v":0},null,{"$f":"IF(SUM(AY43:AY241)<-1000,-100000000,SUM(AY43:AY241))","v":-100000000},{"$f":"COUNT(AZ43:AZ241)","v":0},null,null,"A"]
[null,null,{"$f":"+D39/E39","v":0},{"$f":"SUM(D43:D156)","v":0},{"$f":"SUM(E43:E156)","v":-1},{"$f":"+G39/H39","v":0},{"$f":"SUM(G43:G156)","v":0},{"$f":"SUM(H43:H156)","v":-1},{"$f":"+J39/K39","v":0},{"$f":"SUM(J43:J156)","v":0},{"$f":"SUM(K43:K156)","v":-1},{"$f":"+M39/N39","v":0},{"$f":"SUM(M43:M156)","v":0},{"$f":"SUM(N43:N156)","v":-1},{"$f":"+P39/Q39","v":0},{"$f":"SUM(P43:P156)","v":0},{"$f":"SUM(Q43:Q156)","v":-1},{"$f":"+S39/T39","v":0},{"$f":"SUM(S43:S156)","v":0},{"$f":"SUM(T43:T156)","v":-1},{"$f":"+V39/W39","v":0},{"$f":"SUM(V43:V156)","v":0},{"$f":"SUM(W43:W156)","v":-1},{"$f":"+Y39/Z39","v":0},{"$f":"SUM(Y43:Y156)","v":0},{"$f":"SUM(Z43:Z156)","v":-1},{"$f":"+AB39/AC39","v":0},{"$f":"SUM(AB43:AB156)","v":0},{"$f":"SUM(AC43:AC156)","v":-1},{"$f":"+AE39/AF39","v":0},{"$f":"SUM(AE43:AE156)","v":0},{"$f":"SUM(AF43:AF156)","v":-1},{"$f":"+AH39/AI39","v":0},{"$f":"SUM(AH43:AH156)","v":0},{"$f":"SUM(AI43:AI156)","v":-1},{"$f":"+AK39/AL39","v":0},{"$f":"SUM(AK43:AK156)","v":0},{"$f":"SUM(AL43:AL156)","v":-1},{"$f":"+AN39/AO39","v":0},{"$f":"SUM(AN43:AN156)","v":0},{"$f":"SUM(AO43:AO156)","v":-1},{"$f":"+AQ39/AR39","v":0},{"$f":"SUM(AQ43:AQ156)","v":0},{"$f":"SUM(AR43:AR156)","v":-1},{"$f":"+AT39/AU39","v":0},{"$f":"SUM(AT43:AT156)","v":0},{"$f":"SUM(AU43:AU156)","v":-1},{"$f":"+AW39/AX39","v":0},{"$f":"SUM(AW43:AW156)","v":0},{"$f":"SUM(AX43:AX156)","v":-1},{"$f":"+AZ39/BA39","v":0},{"$f":"SUM(AZ43:AZ156)","v":0},{"$f":"SUM(BA43:BA156)","v":-1},null,"B"]
[null,null,null,null,null,null,null,null,{"$f":"COUNTIF(I43:I62,10)","v":0},null,null,null,null,null,null,null,null,{"$f":"COUNTIF(R43:R62,10)","v":0},null,null,{"$f":"COUNTIF(U43:U62,10)","v":0},null,null,{"$f":"COUNTIF(X43:X62,10)","v":0},null,null,null,null,null,null,null,null,null,null,null,null,null,null,null,null,null,{"$f":"COUNTIF(AP43:AP62,10)","v":0},null,null,{"$f":"COUNTIF(AS43:AS62,10)","v":0},null,null,null,null,null,{"$f":"COUNTIF(AY43:AY62,10)","v":0},null,null,{"$f":"MAX(BC43:BC102)","v":0}]
[null,"Nº partida ","Salvadó",null,null,"Angie",null,null,"Jordi",null,null,"Palafox",null,null,"Manolo",null,null,"Sergi",null,null,"Carles",null,null,"Mariajo",null,null,"Iglesias",null,null,"Martin",null,null,"Xavi",null,null,"Katy",null,null,"Coralie",null,null,"Mercè",null,null,"Goretti",null,null,"Jorge",null,null,"Grau",null,null,{"$f":"COUNT(BB43:BB156)","v":0},"A","B","C"]
[null,"5 copes","Premi","Punts",null,"Premi","Punts",null,"Premi","Punts",null,"Premi","Punts",null,"Premi","Punts",null,"Premi","Punts",null,"Premi","Punts",null,"Premi","Punts",null,"Premi","Punts",null,"Premi","Punts",null,"Premi","Punts",null,"Premi","Punts",null,"Premi","Punts",null,"Premi","Punts",null,"Premi","Punts",null,"Premi","Punts",null,"Premi","Punts",null,"Data","Timba"]
[1,null,-10000,null,-1,-10000,null,-1,-10000,null,-1,-10000,null,-1,-10000,null,-1,-10000,null,-1,-10000,null,-1,-10000,null,-1,-10000,null,-1,-10000,null,-1,-10000,null,-1,-10000,null,-1,-10000,null,-1,-10000,null,-1,-10000,null,-1,-10000,null,-1,-10000,null,-1,null,null,{"$f":"+AY43+AP43+AG43+AD43+AA43+X43+U43+R43+O43+L43+I43+F43+C43+AJ43+AM43+AS43+AV43","v":-170000},{"$f":"COUNT(C43:BA43)/3","v":11.333333333333334},{"$f":"+BD43/BE43","v":-15000}]
[{"$f":"+A43+1","v":2},null,null,null,null,null,null,null,null,null,null,null,null,null,null,null,null,null,null,null,null,null,null,null,null,null,null,null,null,null,null,null,null,null,null,null,null,null,null,null,null,null,null,null,null,null,null,null,null,null,null,null,null,null,null,0,0,{"$error":"#DIV/0!"}]
[{"$f":"+A44+1","v":3},null,null,null,null,null,null,null,null,null,null,null,null,null,null,null,null,null,null,null,null,null,null,null,null,null,null,null,null,null,null,null,null,null,null,null,null,null,null,null,null,null,null,null,null,null,null,null,null,null,null,null,null,null,null,0,0,{"$error":"#DIV/0!"}]
[4,null,null,null,null,null,null,null,null,null,null,null,null,null,null,null,null,null,null,null,null,null,null,null,null,null,null,null,null,null,null,null,null,null,null,null,null,null,null,null,null,null,null,null,null,null,null,null,null,null,null,null,null,null,null,0,0,{"$error":"#DIV/0!"}]
[5,null,null,null,null,null,null,null,null,null,null,null,null,null,null,null,null,null,null,null,null,null,null,null,null,null,null,null,null,null,null,null,null,null,null,null,null,null,null,null,null,null,null,null,null,null,null,null,null,null,null,null,null,null,null,0,0,{"$error":"#DIV/0!"}]
[6,null,null,null,null,null,null,null,null,null,null,null,null,null,null,null,null,null,null,null,null,null,null,null,null,null,null,null,null,null,null,null,null,null,null,null,null,null,null,null,null,null,null,null,null,null,null,null,null,null,null,null,null,null,null,0,0,{"$error":"#DIV/0!"}]
[7,null,null,null,null,null,null,null,null,null,null,null,null,null,null,null,null,null,null,null,null,null,null,null,null,null,null,null,null,null,null,null,null,null,null,null,null,null,null,null,null,null,null,null,null,null,null,null,null,null,null,null,null,null,null,0,0,{"$error":"#DIV/0!"}]
[8,null,null,null,null,null,null,null,null,null,null,null,null,null,null,null,null,null,null,null,null,null,null,null,null,null,null,null,null,null,null,null,null,null,null,null,null,null,null,null,null,null,null,null,null,null,null,null,null,null,null,null,null,null,null,0,0,{"$error":"#DIV/0!"}]
[9,null,null,null,null,null,null,null,null,null,null,null,null,null,null,null,null,null,null,null,null,null,null,null,null,null,null,null,null,null,null,null,null,null,null,null,null,null,null,null,null,null,null,null,null,null,null,null,null,null,null,null,null,null,null,0,0,{"$error":"#DIV/0!"}]
[10,null,null,null,null,null,null,null,null,null,null,null,null,null,null,null,null,null,null,null,null,null,null,null,null,null,null,null,null,null,null,null,null,null,null,null,null,null,null,null,null,null,null,null,null,null,null,null,null,null,null,null,null,null,null,0,0,{"$error":"#DIV/0!"}]
[11,null,null,null,null,null,null,null,null,null,null,null,null,null,null,null,null,null,null,null,null,null,null,null,null,null,null,null,null,null,null,null,null,null,null,null,null,null,null,null,null,null,null,null,null,null,null,null,null,null,null,null,null,null,null,0,0,{"$error":"#DIV/0!"}]
[12,null,null,null,null,null,null,null,null,null,null,null,null,null,null,null,null,null,null,null,null,null,null,null,null,null,null,null,null,null,null,null,null,null,null,null,null,null,null,null,null,null,null,null,null,null,null,null,null,null,null,null,null,null,null,0,0,{"$error":"#DIV/0!"}]
[13,null,null,null,null,null,null,null,null,null,null,null,null,null,null,null,null,null,null,null,null,null,null,null,null,null,null,null,null,null,null,null,null,null,null,null,null,null,null,null,null,null,null,null,null,null,null,null,null,null,null,null,null,null,null,0,0,{"$error":"#DIV/0!"}]
[14,null,null,null,null,null,null,null,null,null,null,null,null,null,null,null,null,null,null,null,null,null,null,null,null,null,null,null,null,null,null,null,null,null,null,null,null,null,null,null,null,null,null,null,null,null,null,null,null,null,null,null,null,null,null,0,0,{"$error":"#DIV/0!"}]
[15,null,null,null,null,null,null,null,null,null,null,null,null,null,null,null,null,null,null,null,null,null,null,null,null,null,null,null,null,null,null,null,null,null,null,null,null,null,null,null,null,null,null,null,null,null,null,null,null,null,null,null,null,null,null,0,0,{"$error":"#DIV/0!"}]
[16,null,null,null,null,null,null,null,null,null,null,null,null,null,null,null,null,null,null,null,null,null,null,null,null,null,null,null,null,null,null,null,null,null,null,null,null,null,null,null,null,null,null,null,null,null,null,null,null,null,null,null,null,null,null,0,0,{"$error":"#DIV/0!"}]
[17,null,null,null,null,null,null,null,null,null,null,null,null,null,null,null,null,null,null,null,null,null,null,null,null,null,null,null,null,null,null,null,null,null,null,null,null,null,null,null,null,null,null,null,null,null,null,null,null,null,null,null,null,null,null,0,0,{"$error":"#DIV/0!"}]
[18,null,null,null,null,null,null,null,null,null,null,null,null,null,null,null,null,null,null,null,null,null,null,null,null,null,null,null,null,null,null,null,null,null,null,null,null,null,null,null,null,null,null,null,null,null,null,null,null,null,null,null,null,null,null,0,0,{"$error":"#DIV/0!"}]
[19,null,null,null,null,null,null,null,null,null,null,null,null,null,null,null,null,null,null,null,null,null,null,null,null,null,null,null,null,null,null,null,null,null,null,null,null,null,null,null,null,null,null,null,null,null,null,null,null,null,null,null,null,null,null,0,0,{"$error":"#DIV/0!"}]
[20,null,null,null,null,null,null,null,null,null,null,null,null,null,null,null,null,null,null,null,null,null,null,null,null,null,null,null,null,null,null,null,null,null,null,null,null,null,null,null,null,null,null,null,null,null,null,null,null,null,null,null,null,null,null,0,0,{"$error":"#DIV/0!"}]
[21,null,null,null,null,null,null,null,null,null,null,null,null,null,null,null,null,null,null,null,null,null,null,null,null,null,null,null,null,null,null,null,null,null,null,null,null,null,null,null,null,null,null,null,null,null,null,null,null,null,null,null,null,null,null,0,0,{"$error":"#DIV/0!"}]
[22,null,null,null,null,null,null,null,null,null,null,null,null,null,null,null,null,null,null,null,null,null,null,null,null,null,null,null,null,null,null,null,null,null,null,null,null,null,null,null,null,null,null,null,null,null,null,null,null,null,null,null,null,null,null,0,0,{"$error":"#DIV/0!"}]
[23,null,null,null,null,null,null,null,null,null,null,null,null,null,null,null,null,null,null,null,null,null,null,null,null,null,null,null,null,null,null,null,null,null,null,null,null,null,null,null,null,null,null,null,null,null,null,null,null,null,null,null,null,null,null,0,0,{"$error":"#DIV/0!"}]
[24,null,null,null,null,null,null,null,null,null,null,null,null,null,null,null,null,null,null,null,null,null,null,null,null,null,null,null,null,null,null,null,null,null,null,null,null,null,null,null,null,null,null,null,null,null,null,null,null,null,null,null,null,null,null,{"$f":"+AY66+AP66+AG66+AD66+AA66+X66+U66+R66+O66+L66+I66+F66+C66+AJ66+AM66+AS66+AV66","v":0},0,{"$error":"#DIV/0!"}]
[25,null,null,null,null,null,null,null,null,null,null,null,null,null,null,null,null,null,null,null,null,null,null,null,null,null,null,null,null,null,null,null,null,null,null,null,null,null,null,null,null,null,null,null,null,null,null,null,null,null,null,null,null,null,null,{"$f":"+AY67+AP67+AG67+AD67+AA67+X67+U67+R67+O67+L67+I67+F67+C67+AJ67+AM67+AS67+AV67","v":0},{"$f":"COUNT(C67:BA67)/3","v":0},{"$f":"+BD67/BE67","v":{"$error":"#DIV/0!"}}]
[26,null,null,null,null,null,null,null,null,null,null,null,null,null,null,null,null,null,null,null,null,null,null,null,null,null,null,null,null,null,null,null,null,null,null,null,null,null,null,null,null,null,null,null,null,null,null,null,null,null,null,null,null,null,null,{"$f":"+AY68+AP68+AG68+AD68+AA68+X68+U68+R68+O68+L68+I68+F68+C68+AJ68+AM68+AS68+AV68","v":0},{"$f":"COUNT(C68:BA68)/3","v":0},{"$f":"+BD68/BE68","v":{"$error":"#DIV/0!"}}]
[27,null,null,null,null,null,null,null,null,null,null,null,null,null,null,null,null,null,null,null,null,null,null,null,null,null,null,null,null,null,null,null,null,null,null,null,null,null,null,null,null,null,null,null,null,null,null,null,null,null,null,null,null,null,null,{"$f":"+AY69+AP69+AG69+AD69+AA69+X69+U69+R69+O69+L69+I69+F69+C69+AJ69+AM69+AS69+AV69","v":0},{"$f":"COUNT(C69:BA69)/3","v":0},{"$f":"+BD69/BE69","v":{"$error":"#DIV/0!"}}]
[28]
[29]
[30]
[31]
[32]
[33]
[34]
[35]
[36]
[37]
[38]
[39]
[40]
[41]
[42]
[43]
[44]
[45]
[{"$f":"+A87+1","v":46}]
[47]
[48]
[49]
[50]
[51]
[52]
[53]
[54]
[55]
[56]
[57]
[58]
[59]
[60]
[61]
[62]
[63]
[64]
[65]
[66]
[{"$f":"+A108+1","v":67}]
[68]
[69]
[70]
[71]
[72]
[73]
[74]
[75]
[76]
[77]
[78]
[79]
[80]
[81]
[82]
[83]
[84]
[85]
[86]
[87]
[88]
[89]
[90]
[91]
[92]
[93]
[94]
[95]
[96]
[97]
[98]
[99]
[100]
[101]
[102]
[103]
[104]
[105]
[106]
[107]
[108]
[109]
[110]
[111]
[112]
[113]
[114]

{"sheet":"Tute","index":18,"n_rows":68,"n_cols":67,"rows_kept":68,"cut":false,"hidden":false,"merged":[[42,2,42,4],[42,5,42,7],[42,8,42,10],[42,11,42,13],[42,32,42,34],[42,35,42,37],[42,14,42,16],[42,17,42,19],[42,20,42,22],[42,23,42,25],[42,26,42,28],[42,29,42,31],[42,50,42,52],[42,53,42,55],[42,56,42,58],[42,38,42,40],[42,41,42,43],[42,44,42,46],[42,47,42,49]]}
["TUTE"]
["Mes"]
[{"$f":"+GENERAL!B6","v":12},null,{"$f":"SUM(C5:C8)","v":-400000000}]
[null,null,"Premi","Punts","Partides","General"]
[1,"Grau",{"$f":"+C$40","v":-100000000},{"$f":"+C$41","v":1},{"$f":"+D$40","v":0},{"$f":"+C$26","v":0},{"$f":"IF(E5<A$3/2,-1,1)*800+C5+D5/1000","v":-100000799.999}]
[2,"Manolo",{"$f":"+AM$40","v":-100000000},{"$f":"+AM$41","v":1},{"$f":"+AN$40","v":0},{"$f":"+AM$26","v":0},-100000799.999]
[3,"Carles",{"$f":"+U$40","v":-100000000},{"$f":"+U$41","v":1},{"$f":"+V$40","v":0},{"$f":"+U$26","v":0},-100000799.999]
[4,"Tito",{"$f":"+F$40","v":-100000000},{"$f":"+F$41","v":1},{"$f":"+G$40","v":0},{"$f":"+F$26","v":0},-100000799.999]
[5,"Goretti",{"$f":"+AV$40","v":-100000000},{"$f":"+AV$41","v":1},{"$f":"+AW$40","v":0},{"$f":"+AV$26","v":0},-100000799.999]
[6,"Mariajo",{"$f":"+X$40","v":-100000000},{"$f":"+X$41","v":1},{"$f":"+Y$40","v":0},{"$f":"+X$26","v":0},-100000799.999]
[7,"Jordi",{"$f":"+I$40","v":-100000000},{"$f":"+I$41","v":1},{"$f":"+J$40","v":0},{"$f":"+I$26","v":0},-100000799.999]
[8,"Sergi",{"$f":"+R$40","v":-100000000},{"$f":"+R$41","v":1},{"$f":"+S$40","v":0},{"$f":"+R$26","v":0},-100000799.999]
[9,"Mercè",{"$f":"+AY$40","v":-100000000},{"$f":"+AY$41","v":1},{"$f":"+AZ$40","v":0},{"$f":"+AY$26","v":0},-100000799.999]
[10,"Xavi",{"$f":"+AG$40","v":-100000000},{"$f":"+AG$41","v":1},{"$f":"+AH$40","v":0},{"$f":"+AG$26","v":0},-100000799.999]
[11,"Iglesias",{"$f":"+AA$40","v":-100000000},{"$f":"+AA$41","v":1},{"$f":"+AB$40","v":0},{"$f":"+AA$26","v":0},-100000799.999]
[12,"Sylvain",{"$f":"+AD$40","v":-100000000},{"$f":"+AD$41","v":1},{"$f":"+AE$40","v":0},{"$f":"+AD$26","v":0},-100000799.999]
[13,"Pol",{"$f":"+O$40","v":-100000000},{"$f":"+O$41","v":1},{"$f":"+P$40","v":0},{"$f":"+O$26","v":0},-100000799.999]
[14,"MªJosé",{"$f":"+L$40","v":-100000000},{"$f":"+L$41","v":1},{"$f":"+M$40","v":0},{"$f":"+L$26","v":0},-100000799.999]
[15,"Taberner",{"$f":"+AP$40","v":-100000000},{"$f":"+AP$41","v":1},{"$f":"+AQ$40","v":0},{"$f":"+AP$26","v":0},-100000799.999]
[16,"Salvadó",{"$f":"+AJ$40","v":-100000000},{"$f":"+AJ$41","v":1},{"$f":"+AK$40","v":0},{"$f":"+AJ$26","v":0},-100000799.999]
[17,"Agata",{"$f":"+AS$40","v":-100000000},{"$f":"+AS$41","v":1},{"$f":"+AT$40","v":0},{"$f":"+AS$26","v":0},-100000799.999]
[18,"Caty",{"$f":"+BE$40","v":-100000000},{"$f":"+BE$41","v":1},{"$f":"+BF$40","v":0},{"$f":"+BE$26","v":0},-100000799.999]
[]
[]
[]
[null,"General",{"$f":"+C27*C28","v":0},{"$f":"+D27*D28","v":0},null,{"$f":"+F27*F28","v":0},{"$f":"+G27*G28","v":0},null,{"$f":"+I27*I28","v":0},{"$f":"+J27*J28","v":0},null,{"$f":"+L27*L28","v":0},{"$f":"+M27*M28","v":0},null,{"$f":"+O27*O28","v":0},{"$f":"+P27*P28","v":0},null,{"$f":"+R27*R28","v":0},{"$f":"+S27*S28","v":0},null,{"$f":"+U27*U28","v":0},{"$f":"+V27*V28","v":0},null,{"$f":"+X27*X28","v":0},{"$f":"+Y27*Y28","v":0},null,{"$f":"+AA27*AA28","v":0},{"$f":"+AB27*AB28","v":0},null,{"$f":"+AD27*AD28","v":0},{"$f":"+AE27*AE28","v":0},null,{"$f":"+AG27*AG28","v":0},{"$f":"+AH27*AH28","v":0},null,{"$f":"+AJ27*AJ28","v":0},{"$f":"+AK27*AK28","v":0},null,{"$f":"+AM27*AM28","v":0},{"$f":"+AN27*AN28","v":0},null,{"$f":"+AP27*AP28","v":0},{"$f":"+AQ27*AQ28","v":0},null,{"$f":"+AS27*AS28","v":0},{"$f":"+AT27*AT28","v":0},null,{"$f":"+AV27*AV28","v":0},{"$f":"+AW27*AW28","v":0},null,{"$f":"+AY27*AY28","v":0},{"$f":"+AZ27*AZ28","v":0},null,{"$f":"+BB27*BB28","v":0},{"$f":"+BC27*BC28","v":0},null,{"$f":"+BE27*BE28","v":0},{"$f":"+BF27*BF28","v":0}]
[null,null,{"$f":"IF($B39>3,1,0)","v":0},{"$f":"IF($B39>3,1,0)","v":0},null,{"$f":"IF($B39>3,1,0)","v":0},{"$f":"IF($B39>3,1,0)","v":0},null,{"$f":"IF($B39>3,1,0)","v":0},{"$f":"IF($B39>3,1,0)","v":0},null,{"$f":"IF($B39>3,1,0)","v":0},{"$f":"IF($B39>3,1,0)","v":0},null,{"$f":"IF($B39>3,1,0)","v":0},{"$f":"IF($B39>3,1,0)","v":0},null,{"$f":"IF($B39>3,1,0)","v":0},{"$f":"IF($B39>3,1,0)","v":0},null,{"$f":"IF($B39>3,1,0)","v":0},{"$f":"IF($B39>3,1,0)","v":0},null,{"$f":"IF($B39>3,1,0)","v":0},{"$f":"IF($B39>3,1,0)","v":0},null,{"$f":"IF($B39>3,1,0)","v":0},{"$f":"IF($B39>3,1,0)","v":0},null,{"$f":"IF($B39>3,1,0)","v":0},{"$f":"IF($B39>3,1,0)","v":0},null,{"$f":"IF($B39>3,1,0)","v":0},{"$f":"IF($B39>3,1,0)","v":0},null,{"$f":"IF($B39>3,1,0)","v":0},{"$f":"IF($B39>3,1,0)","v":0},null,{"$f":"IF($B39>3,1,0)","v":0},{"$f":"IF($B39>3,1,0)","v":0},null,{"$f":"IF($B39>3,1,0)","v":0},{"$f":"IF($B39>3,1,0)","v":0},null,{"$f":"IF($B39>3,1,0)","v":0},{"$f":"IF($B39>3,1,0)","v":0},null,{"$f":"IF($B39>3,1,0)","v":0},{"$f":"IF($B39>3,1,0)","v":0},null,{"$f":"IF($B39>3,1,0)","v":0},{"$f":"IF($B39>3,1,0)","v":0},null,{"$f":"IF($B39>3,1,0)","v":0},{"$f":"IF($B39>3,1,0)","v":0},null,{"$f":"IF($B39>3,1,0)","v":0},{"$f":"IF($B39>3,1,0)","v":0}]
[null,null,{"$f":"MAX(C29:C33)","v":0},{"$f":"+D40","v":0},null,{"$f":"MAX(F29:F33)","v":0},{"$f":"+G40","v":0},null,{"$f":"MAX(I29:I33)","v":0},{"$f":"+J40","v":0},null,{"$f":"MAX(L29:L33)","v":0},{"$f":"+M40","v":0},null,{"$f":"MAX(O29:O33)","v":0},{"$f":"+P40","v":0},null,{"$f":"MAX(R29:R33)","v":0},{"$f":"+S40","v":0},null,{"$f":"MAX(U29:U33)","v":0},{"$f":"+V40","v":0},null,{"$f":"MAX(X29:X33)","v":0},{"$f":"+Y40","v":0},null,{"$f":"MAX(AA29:AA33)","v":0},{"$f":"+AB40","v":0},null,{"$f":"MAX(AD29:AD33)","v":0},{"$f":"+AE40","v":0},null,{"$f":"MAX(AG29:AG33)","v":0},{"$f":"+AH40","v":0},null,{"$f":"MAX(AJ29:AJ33)","v":0},{"$f":"+AK40","v":0},null,{"$f":"MAX(AM29:AM33)","v":0},{"$f":"+AN40","v":0},null,{"$f":"MAX(AP29:AP33)","v":0},{"$f":"+AQ40","v":0},null,{"$f":"MAX(AS29:AS33)","v":0},{"$f":"+AT40","v":0},null,{"$f":"MAX(AV29:AV33)","v":0},{"$f":"+AW40","v":0},null,{"$f":"MAX(AY29:AY33)","v":0},{"$f":"+AZ40","v":0},null,{"$f":"MAX(BB29:BB33)","v":0},{"$f":"+BC40","v":0},null,{"$f":"MAX(BE29:BE33)","v":0},{"$f":"+BF40","v":0}]
[null,null,{"$f":"IF(C$34=5,5,0)","v":0},null,null,{"$f":"IF(F$34=5,5,0)","v":0},null,null,{"$f":"IF(I$34=5,5,0)","v":0},null,null,{"$f":"IF(L$34=5,5,0)","v":0},null,null,{"$f":"IF(O$34=5,5,0)","v":0},null,null,{"$f":"IF(R$34=5,5,0)","v":0},null,null,{"$f":"IF(U$34=5,5,0)","v":0},null,null,{"$f":"IF(X$34=5,5,0)","v":0},null,null,{"$f":"IF(AA$34=5,5,0)","v":0},null,null,{"$f":"IF(AD$34=5,5,0)","v":0},null,null,{"$f":"IF(AG$34=5,5,0)","v":0},null,null,{"$f":"IF(AJ$34=5,5,0)","v":0},null,null,{"$f":"IF(AM$34=5,5,0)","v":0},null,null,{"$f":"IF(AP$34=5,5,0)","v":0},null,null,{"$f":"IF(AS$34=5,5,0)","v":0},null,null,{"$f":"IF(AV$34=5,5,0)","v":0},null,null,{"$f":"IF(AY$34=5,5,0)","v":0},null,null,{"$f":"IF(BB$34=5,5,0)","v":0},null,null,{"$f":"IF(BE$34=5,5,0)","v":0}]
[null,null,{"$f":"IF(C$34=4,10,0)","v":0},null,null,{"$f":"IF(F$34=4,10,0)","v":0},null,null,{"$f":"IF(I$34=4,10,0)","v":0},null,null,{"$f":"IF(L$34=4,10,0)","v":0},null,null,{"$f":"IF(O$34=4,10,0)","v":0},null,null,{"$f":"IF(R$34=4,10,0)","v":0},null,null,{"$f":"IF(U$34=4,10,0)","v":0},null,null,{"$f":"IF(X$34=4,10,0)","v":0},null,null,{"$f":"IF(AA$34=4,10,0)","v":0},null,null,{"$f":"IF(AD$34=4,10,0)","v":0},null,null,{"$f":"IF(AG$34=4,10,0)","v":0},null,null,{"$f":"IF(AJ$34=4,10,0)","v":0},null,null,{"$f":"IF(AM$34=4,10,0)","v":0},null,null,{"$f":"IF(AP$34=4,10,0)","v":0},null,null,{"$f":"IF(AS$34=4,10,0)","v":0},null,null,{"$f":"IF(AV$34=4,10,0)","v":0},null,null,{"$f":"IF(AY$34=4,10,0)","v":0},null,null,{"$f":"IF(BB$34=4,10,0)","v":0},null,null,{"$f":"IF(BE$34=4,10,0)","v":0}]
[null,null,{"$f":"IF(C$34=3,20,0)","v":0},null,null,{"$f":"IF(F$34=3,20,0)","v":0},null,null,{"$f":"IF(I$34=3,20,0)","v":0},null,null,{"$f":"IF(L$34=3,20,0)","v":0},null,null,{"$f":"IF(O$34=3,20,0)","v":0},null,null,{"$f":"IF(R$34=3,20,0)","v":0},null,null,{"$f":"IF(U$34=3,20,0)","v":0},null,null,{"$f":"IF(X$34=3,20,0)","v":0},null,null,{"$f":"IF(AA$34=3,20,0)","v":0},null,null,{"$f":"IF(AD$34=3,20,0)","v":0},null,null,{"$f":"IF(AG$34=3,20,0)","v":0},null,null,{"$f":"IF(AJ$34=3,20,0)","v":0},null,null,{"$f":"IF(AM$34=3,20,0)","v":0},null,null,{"$f":"IF(AP$34=3,20,0)","v":0},null,null,{"$f":"IF(AS$34=3,20,0)","v":0},null,null,{"$f":"IF(AV$34=3,20,0)","v":0},null,null,{"$f":"IF(AY$34=3,20,0)","v":0},null,null,{"$f":"IF(BB$34=3,20,0)","v":0},null,null,{"$f":"IF(BE$34=3,20,0)","v":0}]
[null,null,{"$f":"IF(C$34=2,40,0)","v":0},null,null,{"$f":"IF(F$34=2,40,0)","v":0},null,null,{"$f":"IF(I$34=2,40,0)","v":0},null,null,{"$f":"IF(L$34=2,40,0)","v":0},null,null,{"$f":"IF(O$34=2,40,0)","v":0},null,null,{"$f":"IF(R$34=2,40,0)","v":0},null,null,{"$f":"IF(U$34=2,40,0)","v":0},null,null,{"$f":"IF(X$34=2,40,0)","v":0},null,null,{"$f":"IF(AA$34=2,40,0)","v":0},null,null,{"$f":"IF(AD$34=2,40,0)","v":0},null,null,{"$f":"IF(AG$34=2,40,0)","v":0},null,null,{"$f":"IF(AJ$34=2,40,0)","v":0},null,null,{"$f":"IF(AM$34=2,40,0)","v":0},null,null,{"$f":"IF(AP$34=2,40,0)","v":0},null,null,{"$f":"IF(AS$34=2,40,0)","v":0},null,null,{"$f":"IF(AV$34=2,40,0)","v":0},null,null,{"$f":"IF(AY$34=2,40,0)","v":0},null,null,{"$f":"IF(BB$34=2,40,0)","v":0},null,null,{"$f":"IF(BE$34=2,40,0)","v":0}]
[null,null,{"$f":"IF(C$34=1,80,0)","v":0},null,null,{"$f":"IF(F$34=1,80,0)","v":0},null,null,{"$f":"IF(I$34=1,80,0)","v":0},null,null,{"$f":"IF(L$34=1,80,0)","v":0},null,null,{"$f":"IF(O$34=1,80,0)","v":0},null,null,{"$f":"IF(R$34=1,80,0)","v":0},null,null,{"$f":"IF(U$34=1,80,0)","v":0},null,null,{"$f":"IF(X$34=1,80,0)","v":0},null,null,{"$f":"IF(AA$34=1,80,0)","v":0},null,null,{"$f":"IF(AD$34=1,80,0)","v":0},null,null,{"$f":"IF(AG$34=1,80,0)","v":0},null,null,{"$f":"IF(AJ$34=1,80,0)","v":0},null,null,{"$f":"IF(AM$34=1,80,0)","v":0},null,null,{"$f":"IF(AP$34=1,80,0)","v":0},null,null,{"$f":"IF(AS$34=1,80,0)","v":0},null,null,{"$f":"IF(AV$34=1,80,0)","v":0},null,null,{"$f":"IF(AY$34=1,80,0)","v":0},null,null,{"$f":"IF(BB$34=1,80,0)","v":0},null,null,{"$f":"IF(BE$34=1,80,0)","v":0}]
[null,null,{"$f":"RANK(C35,$C35:$BF35)*C39","v":0},null,null,{"$f":"RANK(F35,$C35:$BF35)*F39","v":0},null,null,{"$f":"RANK(I35,$C35:$BF35)*I39","v":0},null,null,{"$f":"RANK(L35,$C35:$BF35)*L39","v":0},null,null,{"$f":"RANK(O35,$C35:$BF35)*O39","v":0},null,null,{"$f":"RANK(R35,$C35:$BF35)*R39","v":0},null,null,{"$f":"RANK(U35,$C35:$BF35)*U39","v":0},null,null,{"$f":"RANK(X35,$C35:$BF35)*X39","v":0},null,null,{"$f":"RANK(AA35,$C35:$BF35)*AA39","v":0},null,null,{"$f":"RANK(AD35,$C35:$BF35)*AD39","v":0},null,null,{"$f":"RANK(AG35,$C35:$BF35)*AG39","v":0},null,null,{"$f":"RANK(AJ35,$C35:$BF35)*AJ39","v":0},null,null,{"$f":"RANK(AM35,$C35:$BF35)*AM39","v":0},null,null,{"$f":"RANK(AP35,$C35:$BF35)*AP39","v":0},null,null,{"$f":"RANK(AS35,$C35:$BF35)*AS39","v":0},null,null,{"$f":"RANK(AV35,$C35:$BF35)*AV39","v":0},null,null,{"$f":"RANK(AY35,$C35:$BF35)*AY39","v":0},null,null,{"$f":"RANK(BB35,$C35:$BF35)*BB39","v":0},null,null,{"$f":"RANK(BE35,$C35:$BF35)*BE39","v":0}]
[null,null,{"$f":"SUM(C36:C38)","v":-999999900},null,null,{"$f":"SUM(F36:F38)","v":-999999900},null,null,{"$f":"SUM(I36:I38)","v":-999999900},null,null,{"$f":"SUM(L36:L38)","v":-999999900},null,null,{"$f":"SUM(O36:O38)","v":-999999900},null,null,{"$f":"SUM(R36:R38)","v":-999999900},null,null,{"$f":"SUM(U36:U38)","v":-999999900},null,null,{"$f":"SUM(X36:X38)","v":-999999900},null,null,{"$f":"SUM(AA36:AA38)","v":-999999900},null,null,{"$f":"SUM(AD36:AD38)","v":-999999900},null,null,{"$f":"SUM(AG36:AG38)","v":-999999900},null,null,{"$f":"SUM(AJ36:AJ38)","v":-999999900},null,null,{"$f":"SUM(AM36:AM38)","v":-999999900},null,null,{"$f":"SUM(AP36:AP38)","v":-999999900},null,null,{"$f":"SUM(AS36:AS38)","v":-999999998},null,null,{"$f":"SUM(AV36:AV38)","v":-999999900},null,null,{"$f":"SUM(AY36:AY38)","v":-999999900},null,null,{"$f":"SUM(BB36:BB38)","v":-9999998},null,null,{"$f":"SUM(BE36:BE38)","v":-9999998}]
[null,null,{"$f":"+D40","v":0},null,null,{"$f":"+G40","v":0},null,null,{"$f":"+J40","v":0},null,null,{"$f":"+M40","v":0},null,null,{"$f":"+P40","v":0},null,null,{"$f":"+S40","v":0},null,null,{"$f":"+V40","v":0},null,null,{"$f":"+Y40","v":0},null,null,{"$f":"+AB40","v":0},null,null,{"$f":"+AE40","v":0},null,null,{"$f":"+AH40","v":0},null,null,{"$f":"+AK40","v":0},null,null,{"$f":"+AN40","v":0},null,null,{"$f":"+AQ40","v":0},null,null,{"$f":"+AT40","v":0},null,null,{"$f":"+AW40","v":0},null,null,{"$f":"+AZ40","v":0},null,null,{"$f":"+BC40","v":0},null,null,{"$f":"+BF40","v":0}]
[null,null,{"$f":"+C41*100","v":100},null,null,{"$f":"+F41*100","v":100},null,null,{"$f":"+I41*100","v":100},null,null,{"$f":"+L41*100","v":100},null,null,{"$f":"+O41*100","v":100},null,null,{"$f":"+R41*100","v":100},null,null,{"$f":"+U41*100","v":100},null,null,{"$f":"+X41*100","v":100},null,null,{"$f":"+AA41*100","v":100},null,null,{"$f":"+AD41*100","v":100},null,null,{"$f":"+AG41*100","v":100},null,null,{"$f":"+AJ41*100","v":100},null,null,{"$f":"+AM41*100","v":100},null,null,{"$f":"+AP41*100","v":100},null,null,{"$f":"+AS41*2","v":2},null,null,{"$f":"+AV41*100","v":100},null,null,{"$f":"+AY41*100","v":100},null,null,{"$f":"+BB41*2","v":2},null,null,{"$f":"+BE41*2","v":2}]
[null,null,{"$f":"IF(D40-$A3/2<0,-1000000000,C40*C39*100000+C40)","v":-1000000000},null,null,{"$f":"IF(G40-$A3/2<0,-1000000000,F40*F39*100000+F40)","v":-1000000000},null,null,{"$f":"IF(J40-$A3/2<0,-1000000000,I40*I39*100000+I40)","v":-1000000000},null,null,{"$f":"IF(M40-$A3/2<0,-1000000000,L40*L39*100000+L40)","v":-1000000000},null,null,{"$f":"IF(P40-$A3/2<0,-1000000000,O40*O39*100000+O40)","v":-1000000000},null,null,{"$f":"IF(S40-$A3/2<0,-1000000000,R40*R39*100000+R40)","v":-1000000000},null,null,{"$f":"IF(V40-$A3/2<0,-1000000000,U40*U39*100000+U40)","v":-1000000000},null,null,{"$f":"IF(Y40-$A3/2<0,-1000000000,X40*X39*100000+X40)","v":-1000000000},null,null,{"$f":"IF(AB40-$A3/2<0,-1000000000,AA40*AA39*100000+AA40)","v":-1000000000},null,null,{"$f":"IF(AE40-$A3/2<0,-1000000000,AD40*AD39*100000+AD40)","v":-1000000000},null,null,{"$f":"IF(AH40-$A3/2<0,-1000000000,AG40*AG39*100000+AG40)","v":-1000000000},null,null,{"$f":"IF(AK40-$A3/2<0,-1000000000,AJ40*AJ39*100000+AJ40)","v":-1000000000},null,null,{"$f":"IF(AN40-$A3/2<0,-1000000000,AM40*AM39*100000+AM40)","v":-1000000000},null,null,{"$f":"IF(AQ40-$A3/2<0,-1000000000,AP40*AP39*100000+AP40)","v":-1000000000},null,null,{"$f":"IF(AT40-$A3/2<0,-1000000000,AS40*AS39*100000+AS40)","v":-1000000000},null,null,{"$f":"IF(AW40-$A3/2<0,-1000000000,AV40*AV39*100000+AV40)","v":-1000000000},null,null,{"$f":"IF(AZ40-$A3/2<0,-1000000000,AY40*AY39*100000+AY40)","v":-1000000000},null,null,{"$f":"IF(BC40-$A3/2<0,-10000000,BB40*BB39*100000+BB40)","v":-10000000},null,null,{"$f":"IF(BF40-$A3/2<0,-10000000,BE40*BE39*100000+BE40)","v":-10000000}]
["Classificats",{"$f":"SUM(C39:BE39)","v":0},{"$f":"IF(D40>=$A3/2,1,0)","v":0},null,null,{"$f":"IF(G40>=$A3/2,1,0)","v":0},null,null,{"$f":"IF(J40>=$A3/2,1,0)","v":0},null,null,{"$f":"IF(M40>=$A3/2,1,0)","v":0},null,null,{"$f":"IF(P40>=$A3/2,1,0)","v":0},null,null,{"$f":"IF(S40>=$A3/2,1,0)","v":0},null,null,{"$f":"IF(V40>=$A3/2,1,0)","v":0},null,null,{"$f":"IF(Y40>=$A3/2,1,0)","v":0},null,null,{"$f":"IF(AB40>=$A3/2,1,0)","v":0},null,null,{"$f":"IF(AE40>=$A3/2,1,0)","v":0},null,null,{"$f":"IF(AH40>=$A3/2,1,0)","v":0},null,null,{"$f":"IF(AK40>=$A3/2,1,0)","v":0},null,null,{"$f":"IF(AN40>=$A3/2,1,0)","v":0},null,null,{"$f":"IF(AQ40>=$A3/2,1,0)","v":0},null,null,{"$f":"IF(AT40>=$A3/2,1,0)","v":0},null,null,{"$f":"IF(AW40>=$A3/2,1,0)","v":0},null,null,{"$f":"IF(AZ40>=$A3/2,1,0)","v":0},null,null,{"$f":"IF(BC40>=$A3/2,1,0)","v":0},null,null,{"$f":"IF(BF40>=$A3/2,1,0)","v":0}]
[null,null,{"$f":"IF(SUM(C45:C68)<-1000,-100000000,SUM(C45:C68))","v":-100000000},{"$f":"COUNT(D45:D68)","v":0},null,{"$f":"IF(SUM(F45:F68)<-1000,-100000000,SUM(F45:F68))","v":-100000000},{"$f":"COUNT(G45:G68)","v":0},null,{"$f":"IF(SUM(I45:I68)<-1000,-100000000,SUM(I45:I68))","v":-100000000},{"$f":"COUNT(J45:J68)","v":0},null,{"$f":"IF(SUM(L45:L68)<-1000,-100000000,SUM(L45:L68))","v":-100000000},{"$f":"COUNT(M45:M68)","v":0},null,{"$f":"IF(SUM(O45:O68)<-1000,-100000000,SUM(O45:O68))","v":-100000000},{"$f":"COUNT(P45:P68)","v":0},null,{"$f":"IF(SUM(R45:R68)<-1000,-100000000,SUM(R45:R68))","v":-100000000},{"$f":"COUNT(S45:S68)","v":0},null,{"$f":"IF(SUM(U45:U68)<-1000,-100000000,SUM(U45:U68))","v":-100000000},{"$f":"COUNT(V45:V68)","v":0},null,{"$f":"IF(SUM(X45:X68)<-1000,-100000000,SUM(X45:X68))","v":-100000000},{"$f":"COUNT(Y45:Y68)","v":0},null,{"$f":"IF(SUM(AA45:AA68)<-1000,-100000000,SUM(AA45:AA68))","v":-100000000},{"$f":"COUNT(AB45:AB68)","v":0},null,{"$f":"IF(SUM(AD45:AD68)<-1000,-100000000,SUM(AD45:AD68))","v":-100000000},{"$f":"COUNT(AE45:AE68)","v":0},null,{"$f":"IF(SUM(AG45:AG68)<-1000,-100000000,SUM(AG45:AG68))","v":-100000000},{"$f":"COUNT(AH45:AH68)","v":0},null,{"$f":"IF(SUM(AJ45:AJ68)<-1000,-100000000,SUM(AJ45:AJ68))","v":-100000000},{"$f":"COUNT(AK45:AK68)","v":0},null,{"$f":"IF(SUM(AM45:AM68)<-1000,-100000000,SUM(AM45:AM68))","v":-100000000},{"$f":"COUNT(AN45:AN68)","v":0},null,{"$f":"IF(SUM(AP45:AP68)<-1000,-100000000,SUM(AP45:AP68))","v":-100000000},{"$f":"COUNT(AQ45:AQ68)","v":0},null,{"$f":"IF(SUM(AS45:AS68)<-1000,-100000000,SUM(AS45:AS68))","v":-100000000},{"$f":"COUNT(AT45:AT68)","v":0},null,{"$f":"IF(SUM(AV45:AV68)<-1000,-100000000,SUM(AV45:AV68))","v":-100000000},{"$f":"COUNT(AW45:AW68)","v":0},null,{"$f":"IF(SUM(AY45:AY68)<-1000,-100000000,SUM(AY45:AY68))","v":-100000000},{"$f":"COUNT(AZ45:AZ68)","v":0},null,{"$f":"IF(SUM(BB45:BB68)<-1000,-100000000,SUM(BB45:BB68))","v":-100000000},{"$f":"COUNT(BC45:BC68)","v":0},null,{"$f":"IF(SUM(BE45:BE68)<-1000,-100000000,SUM(BE45:BE68))","v":-100000000},{"$f":"COUNT(BF45:BF68)","v":0},null,null,"A"]
[null,null,{"$f":"+D41-E41","v":1},{"$f":"SUM(D45:D68)","v":0},{"$f":"SUM(E45:E68)","v":-1},{"$f":"+G41-H41","v":1},{"$f":"SUM(G45:G68)","v":0},{"$f":"SUM(H45:H68)","v":-1},{"$f":"+J41-K41","v":1},{"$f":"SUM(J45:J68)","v":0},{"$f":"SUM(K45:K68)","v":-1},{"$f":"+M41-N41","v":1},{"$f":"SUM(M45:M68)","v":0},{"$f":"SUM(N45:N68)","v":-1},{"$f":"+P41-Q41","v":1},{"$f":"SUM(P45:P68)","v":0},{"$f":"SUM(Q45:Q68)","v":-1},{"$f":"+S41-T41","v":1},{"$f":"SUM(S45:S68)","v":0},{"$f":"SUM(T45:T68)","v":-1},{"$f":"+V41-W41","v":1},{"$f":"SUM(V45:V68)","v":0},{"$f":"SUM(W45:W68)","v":-1},{"$f":"+Y41-Z41","v":1},{"$f":"SUM(Y45:Y68)","v":0},{"$f":"SUM(Z45:Z68)","v":-1},{"$f":"+AB41-AC41","v":1},{"$f":"SUM(AB45:AB68)","v":0},{"$f":"SUM(AC45:AC68)","v":-1},{"$f":"+AE41-AF41","v":1},{"$f":"SUM(AE45:AE68)","v":0},{"$f":"SUM(AF45:AF68)","v":-1},{"$f":"+AH41-AI41","v":1},{"$f":"SUM(AH45:AH68)","v":0},{"$f":"SUM(AI45:AI68)","v":-1},{"$f":"+AK41-AL41","v":1},{"$f":"SUM(AK45:AK68)","v":0},{"$f":"SUM(AL45:AL68)","v":-1},{"$f":"+AN41-AO41","v":1},{"$f":"SUM(AN45:AN68)","v":0},{"$f":"SUM(AO45:AO68)","v":-1},{"$f":"+AQ41-AR41","v":1},{"$f":"SUM(AQ45:AQ68)","v":0},{"$f":"SUM(AR45:AR68)","v":-1},{"$f":"+AT41-AU41","v":1},{"$f":"SUM(AT45:AT68)","v":0},{"$f":"SUM(AU45:AU68)","v":-1},{"$f":"+AW41-AX41","v":1},{"$f":"SUM(AW45:AW68)","v":0},{"$f":"SUM(AX45:AX68)","v":-1},{"$f":"+AZ41-BA41","v":1},{"$f":"SUM(AZ45:AZ68)","v":0},{"$f":"SUM(BA45:BA68)","v":-1},{"$f":"+BC41-BD41","v":1},{"$f":"SUM(BC45:BC68)","v":0},{"$f":"SUM(BD45:BD68)","v":-1},{"$f":"+BF41-BG41","v":1},{"$f":"SUM(BF45:BF68)","v":0},{"$f":"SUM(BG45:BG68)","v":-1},null,"B"]
[null,null,null,null,null,null,null,null,null,null,null,null,null,null,null,null,null,null,null,null,null,null,null,null,null,null,null,null,null,null,null,null,null,null,null,null,null,null,null,null,null,null,null,null,null,null,null,null,null,null,null,null,null,null,null,null,null,null,null,{"$f":"MAX(BI45:BI104)","v":0}]
[null,"Nº partida ","Grau",null,null,"Tito",null,null,"Jordi",null,null,"MªJosé",null,null,"Pol",null,null,"Sergi",null,null,"Carles",null,null,"Mariajo",null,null,"Iglesias",null,null,"Martín",null,null,"Xavi",null,null,"Salvadó",null,null,"Manolo",null,null,"Taberner",null,null,"Agata",null,null,"Goretti",null,null,"Mercè",null,null,null,null,null,"Caty",null,null,{"$f":"COUNT(BH45:BH83)","v":0},"A","B","C"]
[null,"5 copes","Premi","Punts",null,"Premi","Punts",null,"Premi","Punts",null,"Premi","Punts",null,"Premi","Punts",null,"Premi","Punts",null,"Premi","Punts",null,"Premi","Punts",null,"Premi","Punts",null,"Premi","Punts",null,"Premi","Punts",null,"Premi","Punts",null,"Premi","Punts",null,"Premi","Punts",null,"Premi","Punts",null,"Premi","Punts",null,"Premi","Punts",null,"Premi","Punts",null,"Premi","Punts",null,"Data","Timba"]
[1,null,-10000,null,-1,-10000,null,-1,-10000,null,-1,-10000,null,-1,-10000,null,-1,-10000,null,-1,-10000,null,-1,-10000,null,-1,-10000,null,-1,-10000,null,-1,-10000,null,-1,-10000,null,-1,-10000,null,-1,-10000,null,-1,-10000,null,-1,-10000,null,-1,-10000,null,-1,-10000,null,-1,-10000,null,-1,null,null,{"$f":"+BE45+AJ45+AG45+AD45+AA45+X45+U45+R45+O45+L45+I45+F45+C45+AM45+AP45+AS45+AV45+AY45+BB45","v":-190000},0,-19,{"$f":"+BK45-BL45","v":19},{"$f":"COUNT(C45:BG45)/3","v":12.666666666666666},{"$f":"+BJ45/BN45","v":-15000}]
[{"$f":"+A45+1","v":2},null,null,null,null,null,null,null,null,null,null,null,null,null,null,null,null,null,null,null,null,null,null,null,null,null,null,null,null,null,null,null,null,null,null,null,null,null,null,null,null,null,null,null,null,null,null,null,null,null,null,null,null,null,null,null,null,null,null,null,null,0,0,0,0,0,{"$error":"#DIV/0!"}]
[{"$f":"+A46+1","v":3},null,null,null,null,null,null,null,null,null,null,null,null,null,null,null,null,null,null,null,null,null,null,null,null,null,null,null,null,null,null,null,null,null,null,null,null,null,null,null,null,null,null,null,null,null,null,null,null,null,null,null,null,null,null,null,null,null,null,null,null,0,0,0,0,0,{"$error":"#DIV/0!"}]
[4,null,null,null,null,null,null,null,null,null,null,null,null,null,null,null,null,null,null,null,null,null,null,null,null,null,null,null,null,null,null,null,null,null,null,null,null,null,null,null,null,null,null,null,null,null,null,null,null,null,null,null,null,null,null,null,null,null,null,null,null,0,0,0,0,0,{"$error":"#DIV/0!"}]
[5,null,null,null,null,null,null,null,null,null,null,null,null,null,null,null,null,null,null,null,null,null,null,null,null,null,null,null,null,null,null,null,null,null,null,null,null,null,null,null,null,null,null,null,null,null,null,null,null,null,null,null,null,null,null,null,null,null,null,null,null,0,0,0,0,0,{"$error":"#DIV/0!"}]
[6,null,null,null,null,null,null,null,null,null,null,null,null,null,null,null,null,null,null,null,null,null,null,null,null,null,null,null,null,null,null,null,null,null,null,null,null,null,null,null,null,null,null,null,null,null,null,null,null,null,null,null,null,null,null,null,null,null,null,null,null,0,0,0,0,0,{"$error":"#DIV/0!"}]
[7,null,null,null,null,null,null,null,null,null,null,null,null,null,null,null,null,null,null,null,null,null,null,null,null,null,null,null,null,null,null,null,null,null,null,null,null,null,null,null,null,null,null,null,null,null,null,null,null,null,null,null,null,null,null,null,null,null,null,null,null,0,0,0,0,0,{"$error":"#DIV/0!"}]
[8,null,null,null,null,null,null,null,null,null,null,null,null,null,null,null,null,null,null,null,null,null,null,null,null,null,null,null,null,null,null,null,null,null,null,null,null,null,null,null,null,null,null,null,null,null,null,null,null,null,null,null,null,null,null,null,null,null,null,null,null,0,0,0,0,0,{"$error":"#DIV/0!"}]
[9]
[10]
[11]
[12]
[13]
[14]
[15]
[16]
[17]
[18]
[19]
[20]
[21]
[22]
[23]
[24]

{"sheet":"Julepe","index":19,"n_rows":86,"n_cols":43,"rows_kept":86,"cut":false,"hidden":false,"merged":[[39,34,39,35],[39,8,39,9],[39,10,39,11],[39,12,39,13],[39,14,39,15],[39,16,39,17],[39,18,39,19],[39,30,39,31],[39,20,39,21],[39,22,39,23],[39,32,39,33],[39,28,39,29],[39,2,39,3],[39,4,39,5],[39,6,39,7],[39,24,39,25],[39,26,39,27]]}
["JULEPE"]
["Mes"]
[{"$f":"+GENERAL!B6","v":12},null,{"$f":"SUM(C5:C11)","v":-700000000}]
[null,null,"Premi","Punts","Partides","General"]
[1,"Carles",{"$f":"+O$37","v":-100000000},{"$f":"+P$38","v":0},{"$f":"+P$37","v":0},{"$f":"+O$23","v":0},{"$f":"IF(E5<A$3/2,-1,1)*80+C5","v":-100000080}]
[2,"Sergi",{"$f":"+M$37","v":-100000000},{"$f":"+N$38","v":0},{"$f":"+N$37","v":0},{"$f":"+M$23","v":0},-100000080]
[3,"Manel",{"$f":"+C$37","v":-100000000},{"$f":"+D$38","v":0},{"$f":"+D$37","v":0},{"$f":"+C$23","v":0},-100000080]
[4,"Jordi",{"$f":"+G$37","v":-100000000},{"$f":"+H$38","v":0},{"$f":"+H$37","v":0},{"$f":"+G$23","v":0},-100000080]
[5,"Mariajo",{"$f":"+Q$37","v":-100000000},{"$f":"+R$38","v":0},{"$f":"+R$37","v":0},{"$f":"+Q$23","v":0},-100000080]
[6,"Katy",{"$f":"+E$37","v":-100000000},{"$f":"+F$38","v":0},{"$f":"+F$37","v":0},{"$f":"+E$23","v":0},-100000080]
[7,"Grau",{"$f":"+AI$37","v":-100000000},{"$f":"+AJ$38","v":0},{"$f":"+AJ$37","v":0},{"$f":"+AI$23","v":0},-100000080]
[8,"Mercè",{"$f":"+Y$37","v":-100000000},{"$f":"+Z$38","v":0},{"$f":"+Z$37","v":0},{"$f":"+Y$23","v":0},-100000080]
[9,"Xavi",{"$f":"+W$37","v":-100000000},{"$f":"+X$38","v":0},{"$f":"+X$37","v":0},{"$f":"+W$23","v":0},-100000080]
[10,"Iglesias",{"$f":"+S$37","v":-100000000},{"$f":"+T$38","v":0},{"$f":"+T$37","v":0},{"$f":"+S$23","v":0},-100000080]
[11,"Goretti",{"$f":"+AC$37","v":-100000000},{"$f":"+AD$38","v":0},{"$f":"+AD$37","v":0},{"$f":"+AC$23","v":0},-100000080]
[12,"Ester",{"$f":"+AA$37","v":-100000000},{"$f":"+AB$38","v":0},{"$f":"+AB$37","v":0},{"$f":"+AA$23","v":0},-100000080]
[13,"Montiel",{"$f":"+K$37","v":-100000000},{"$f":"+L$38","v":0},{"$f":"+L$37","v":0},{"$f":"+K$23","v":0},-100000080]
[14,"Sylvain",{"$f":"+U$37","v":-100000000},{"$f":"+V$38","v":0},{"$f":"+V$37","v":0},{"$f":"+U$23","v":0},-100000080]
[15,"Jorge",{"$f":"+AG$37","v":-100000000},{"$f":"+AH$38","v":0},{"$f":"+AH$37","v":0},{"$f":"+AG$23","v":0},-100000080]
[16,"Geli",{"$f":"+AE$37","v":-100000000},{"$f":"+AF$38","v":0},{"$f":"+AF$37","v":0},{"$f":"+AE$23","v":0},-100000080]
[14,"MªJosé",{"$f":"+I$37","v":-100000000},{"$f":"+J$38","v":0},{"$f":"+J$37","v":0},{"$f":"+I$23","v":0},-100000080]
[]
[null,"General",{"$f":"+C24*C25","v":0},{"$f":"+D24*D25","v":0},0,0,0,0,0,0,0,0,0,0,0,0,0,0,0,0,0,0,0,0,0,0,{"$f":"+AA24*AA25","v":0},0,0,0,{"$f":"+AE24*AE25","v":0},{"$f":"+AF24*AF25","v":0},0,0,0,0]
[null,null,{"$f":"IF($B36>3,1,0)","v":0},{"$f":"IF($B36>3,1,0)","v":0},0,0,0,0,0,0,0,0,0,0,0,0,0,0,0,0,0,0,0,0,0,0,{"$f":"IF($B36>3,1,0)","v":0},0,0,0,{"$f":"IF($B36>3,1,0)","v":0},{"$f":"IF($B36>3,1,0)","v":0},0,0,0,0]
[null,null,{"$f":"MAX(C26:C30)","v":0},{"$f":"+D37","v":0},{"$f":"MAX(E26:E30)","v":0},{"$f":"+F37","v":0},{"$f":"MAX(G26:G30)","v":0},{"$f":"+H37","v":0},{"$f":"MAX(I26:I30)","v":0},{"$f":"+J37","v":0},{"$f":"MAX(K26:K30)","v":0},{"$f":"+L37","v":0},{"$f":"MAX(M26:M30)","v":0},{"$f":"+N37","v":0},{"$f":"MAX(O26:O30)","v":0},{"$f":"+P37","v":0},{"$f":"MAX(Q26:Q30)","v":0},{"$f":"+R37","v":0},{"$f":"MAX(S26:S30)","v":0},{"$f":"+T37","v":0},{"$f":"MAX(U26:U30)","v":0},{"$f":"+V37","v":0},{"$f":"MAX(W26:W30)","v":0},{"$f":"+X37","v":0},{"$f":"MAX(Y26:Y30)","v":0},{"$f":"+Z37","v":0},{"$f":"MAX(AA26:AA30)","v":0},{"$f":"+AB37","v":0},{"$f":"MAX(AC26:AC30)","v":0},{"$f":"+AD37","v":0},{"$f":"MAX(AE26:AE30)","v":0},{"$f":"+AF37","v":0},{"$f":"MAX(AG26:AG30)","v":0},{"$f":"+AH37","v":0},{"$f":"MAX(AI26:AI30)","v":0},{"$f":"+AJ37","v":0}]
[null,null,{"$f":"IF(C$31=5,5,0)","v":0},null,{"$f":"IF(E$31=5,5,0)","v":0},null,{"$f":"IF(G$31=5,5,0)","v":0},null,{"$f":"IF(I$31=5,5,0)","v":0},null,{"$f":"IF(K$31=5,5,0)","v":0},null,{"$f":"IF(M$31=5,5,0)","v":0},null,{"$f":"IF(O$31=5,5,0)","v":0},null,{"$f":"IF(Q$31=5,5,0)","v":0},null,{"$f":"IF(S$31=5,5,0)","v":0},null,{"$f":"IF(U$31=5,5,0)","v":0},null,{"$f":"IF(W$31=5,5,0)","v":0},null,{"$f":"IF(Y$31=5,5,0)","v":0},null,{"$f":"IF(AA$31=5,5,0)","v":0},null,{"$f":"IF(AC$31=5,5,0)","v":0},null,{"$f":"IF(AE$31=5,5,0)","v":0},null,{"$f":"IF(AG$31=5,5,0)","v":0},null,{"$f":"IF(AI$31=5,5,0)","v":0}]
[null,null,{"$f":"IF(C$31=4,10,0)","v":0},null,{"$f":"IF(E$31=4,10,0)","v":0},null,{"$f":"IF(G$31=4,10,0)","v":0},null,{"$f":"IF(I$31=4,10,0)","v":0},null,{"$f":"IF(K$31=4,10,0)","v":0},null,{"$f":"IF(M$31=4,10,0)","v":0},null,{"$f":"IF(O$31=4,10,0)","v":0},null,{"$f":"IF(Q$31=4,10,0)","v":0},null,{"$f":"IF(S$31=4,10,0)","v":0},null,{"$f":"IF(U$31=4,10,0)","v":0},null,{"$f":"IF(W$31=4,10,0)","v":0},null,{"$f":"IF(Y$31=4,10,0)","v":0},null,{"$f":"IF(AA$31=4,10,0)","v":0},null,{"$f":"IF(AC$31=4,10,0)","v":0},null,{"$f":"IF(AE$31=4,10,0)","v":0},null,{"$f":"IF(AG$31=4,10,0)","v":0},null,{"$f":"IF(AI$31=4,10,0)","v":0}]
[null,null,{"$f":"IF(C$31=3,20,0)","v":0},null,{"$f":"IF(E$31=3,20,0)","v":0},null,{"$f":"IF(G$31=3,20,0)","v":0},null,{"$f":"IF(I$31=3,20,0)","v":0},null,{"$f":"IF(K$31=3,20,0)","v":0},null,{"$f":"IF(M$31=3,20,0)","v":0},null,{"$f":"IF(O$31=3,20,0)","v":0},null,{"$f":"IF(Q$31=3,20,0)","v":0},null,{"$f":"IF(S$31=3,20,0)","v":0},null,{"$f":"IF(U$31=3,20,0)","v":0},null,{"$f":"IF(W$31=3,20,0)","v":0},null,{"$f":"IF(Y$31=3,20,0)","v":0},null,{"$f":"IF(AA$31=3,20,0)","v":0},null,{"$f":"IF(AC$31=3,20,0)","v":0},null,{"$f":"IF(AE$31=3,20,0)","v":0},null,{"$f":"IF(AG$31=3,20,0)","v":0},null,{"$f":"IF(AI$31=3,20,0)","v":0}]
[null,null,{"$f":"IF(C$31=2,40,0)","v":0},null,{"$f":"IF(E$31=2,40,0)","v":0},null,{"$f":"IF(G$31=2,40,0)","v":0},null,{"$f":"IF(I$31=2,40,0)","v":0},null,{"$f":"IF(K$31=2,40,0)","v":0},null,{"$f":"IF(M$31=2,40,0)","v":0},null,{"$f":"IF(O$31=2,40,0)","v":0},null,{"$f":"IF(Q$31=2,40,0)","v":0},null,{"$f":"IF(S$31=2,40,0)","v":0},null,{"$f":"IF(U$31=2,40,0)","v":0},null,{"$f":"IF(W$31=2,40,0)","v":0},null,{"$f":"IF(Y$31=2,40,0)","v":0},null,{"$f":"IF(AA$31=2,40,0)","v":0},null,{"$f":"IF(AC$31=2,40,0)","v":0},null,{"$f":"IF(AE$31=2,40,0)","v":0},null,{"$f":"IF(AG$31=2,40,0)","v":0},null,{"$f":"IF(AI$31=2,40,0)","v":0}]
[null,null,{"$f":"IF(C$31=1,80,0)","v":0},null,{"$f":"IF(E$31=1,80,0)","v":0},null,{"$f":"IF(G$31=1,80,0)","v":0},null,{"$f":"IF(I$31=1,80,0)","v":0},null,{"$f":"IF(K$31=1,80,0)","v":0},null,{"$f":"IF(M$31=1,80,0)","v":0},null,{"$f":"IF(O$31=1,80,0)","v":0},null,{"$f":"IF(Q$31=1,80,0)","v":0},null,{"$f":"IF(S$31=1,80,0)","v":0},null,{"$f":"IF(U$31=1,80,0)","v":0},null,{"$f":"IF(W$31=1,80,0)","v":0},null,{"$f":"IF(Y$31=1,80,0)","v":0},null,{"$f":"IF(AA$31=1,80,0)","v":0},null,{"$f":"IF(AC$31=1,80,0)","v":0},null,{"$f":"IF(AE$31=1,80,0)","v":0},null,{"$f":"IF(AG$31=1,80,0)","v":0},null,{"$f":"IF(AI$31=1,80,0)","v":0}]
[null,null,{"$f":"RANK(C32,$C32:$AV32)*C36","v":0},null,{"$f":"RANK(E32,$C32:$AV32)*E36","v":0},null,{"$f":"RANK(G32,$C32:$AV32)*G36","v":0},null,{"$f":"RANK(I32,$C32:$AV32)*I36","v":0},null,{"$f":"RANK(K32,$C32:$AV32)*K36","v":0},null,{"$f":"RANK(M32,$C32:$AV32)*M36","v":0},null,{"$f":"RANK(O32,$C32:$AV32)*O36","v":0},null,{"$f":"RANK(Q32,$C32:$AV32)*Q36","v":0},null,{"$f":"RANK(S32,$C32:$AV32)*S36","v":0},null,{"$f":"RANK(U32,$C32:$AV32)*U36","v":0},null,{"$f":"RANK(W32,$C32:$AV32)*W36","v":0},null,{"$f":"RANK(Y32,$C32:$AV32)*Y36","v":0},null,{"$f":"RANK(AA32,$C32:$AV32)*AA36","v":0},null,{"$f":"RANK(AC32,$C32:$AV32)*AC36","v":0},null,{"$f":"RANK(AE32,$C32:$AV32)*AE36","v":0},null,{"$f":"RANK(AG32,$C32:$AV32)*AG36","v":0},null,{"$f":"RANK(AI32,$C32:$AV32)*AI36","v":0}]
[null,null,{"$f":"SUM(C33:C35)","v":-101000000},null,{"$f":"SUM(E33:E35)","v":-101000000},null,{"$f":"SUM(G33:G35)","v":-101000000},null,{"$f":"SUM(I33:I35)","v":-101000000},null,{"$f":"SUM(K33:K35)","v":-101000000},null,{"$f":"SUM(M33:M35)","v":-101000000},null,{"$f":"SUM(O33:O35)","v":-101000000},null,{"$f":"SUM(Q33:Q35)","v":-101000000},null,{"$f":"SUM(S33:S35)","v":-101000000},null,{"$f":"SUM(U33:U35)","v":-101000000},null,{"$f":"SUM(W33:W35)","v":-101000000},null,{"$f":"SUM(Y33:Y35)","v":-101000000},null,{"$f":"SUM(AA33:AA35)","v":-101000000},null,{"$f":"SUM(AC33:AC35)","v":-101000000},null,{"$f":"SUM(AE33:AE35)","v":-101000000},null,{"$f":"SUM(AG33:AG35)","v":-101000000},null,{"$f":"SUM(AI33:AI35)","v":-101000000}]
[null,null,{"$f":"+D37","v":0},null,{"$f":"+F37","v":0},null,{"$f":"+H37","v":0},null,{"$f":"+J37","v":0},null,{"$f":"+L37","v":0},null,{"$f":"+N37","v":0},null,{"$f":"+P37","v":0},null,{"$f":"+R37","v":0},null,{"$f":"+T37","v":0},null,{"$f":"+V37","v":0},null,{"$f":"+X37","v":0},null,{"$f":"+Z37","v":0},null,{"$f":"+AB37","v":0},null,{"$f":"+AD37","v":0},null,{"$f":"+AF37","v":0},null,{"$f":"+AH37","v":0},null,{"$f":"+AJ37","v":0}]
[null,null,{"$f":"D38*10","v":0},null,{"$f":"F38*10","v":0},null,{"$f":"H38*10","v":0},null,{"$f":"J38*10","v":0},null,{"$f":"L38*10","v":0},null,{"$f":"N38*10","v":0},null,{"$f":"P38*10","v":0},null,{"$f":"R38*10","v":0},null,{"$f":"T38*10","v":0},null,{"$f":"V38*10","v":0},null,{"$f":"X38*10","v":0},null,{"$f":"Z38*10","v":0},null,{"$f":"AB38*10","v":0},null,{"$f":"AD38*10","v":0},null,{"$f":"AF38*10","v":0},null,{"$f":"AH38*10","v":0},null,{"$f":"AJ38*10","v":0}]
[null,null,{"$f":"IF(C36=1,C37*C36*1000+C37,-1000000+C37)","v":-101000000},null,{"$f":"IF(E36=1,E37*E36*1000+E37,-1000000+E37)","v":-101000000},null,{"$f":"IF(G36=1,G37*G36*1000+G37,-1000000+G37)","v":-101000000},null,{"$f":"IF(I36=1,I37*I36*1000+I37,-1000000+I37)","v":-101000000},null,{"$f":"IF(K36=1,K37*K36*1000+K37,-1000000+K37)","v":-101000000},null,{"$f":"IF(M36=1,M37*M36*1000+M37,-1000000+M37)","v":-101000000},null,{"$f":"IF(O36=1,O37*O36*1000+O37,-1000000+O37)","v":-101000000},null,{"$f":"IF(Q36=1,Q37*Q36*1000+Q37,-1000000+Q37)","v":-101000000},null,{"$f":"IF(S36=1,S37*S36*1000+S37,-1000000+S37)","v":-101000000},null,{"$f":"IF(U36=1,U37*U36*1000+U37,-1000000+U37)","v":-101000000},null,{"$f":"IF(W36=1,W37*W36*1000+W37,-1000000+W37)","v":-101000000},null,{"$f":"IF(Y36=1,Y37*Y36*1000+Y37,-1000000+Y37)","v":-101000000},null,{"$f":"IF(AA36=1,AA37*AA36*1000+AA37,-1000000+AA37)","v":-101000000},null,{"$f":"IF(AC36=1,AC37*AC36*1000+AC37,-1000000+AC37)","v":-101000000},null,{"$f":"IF(AE36=1,AE37*AE36*1000+AE37,-1000000+AE37)","v":-101000000},null,{"$f":"IF(AG36=1,AG37*AG36*1000+AG37,-1000000+AG37)","v":-101000000},null,{"$f":"IF(AI36=1,AI37*AI36*1000+AI37,-1000000+AI37)","v":-101000000}]
["Classificats",{"$f":"SUM(C36:AI36)","v":0},{"$f":"IF(D37>=$A3/2,1,0)","v":0},null,{"$f":"IF(F37>=$A3/2,1,0)","v":0},null,{"$f":"IF(H37>=$A3/2,1,0)","v":0},null,{"$f":"IF(J37>=$A3/2,1,0)","v":0},null,{"$f":"IF(L37>=$A3/2,1,0)","v":0},null,{"$f":"IF(N37>=$A3/2,1,0)","v":0},null,{"$f":"IF(P37>=$A3/2,1,0)","v":0},null,{"$f":"IF(R37>=$A3/2,1,0)","v":0},null,{"$f":"IF(T37>=$A3/2,1,0)","v":0},null,{"$f":"IF(V37>=$A3/2,1,0)","v":0},null,{"$f":"IF(X37>=$A3/2,1,0)","v":0},null,{"$f":"IF(Z37>=$A3/2,1,0)","v":0},null,{"$f":"IF(AB37>=$A3/2,1,0)","v":0},null,{"$f":"IF(AD37>=$A3/2,1,0)","v":0},null,{"$f":"IF(AF37>=$A3/2,1,0)","v":0},null,{"$f":"IF(AH37>=$A3/2,1,0)","v":0},null,{"$f":"IF(AJ37>=$A3/2,1,0)","v":0}]
[null,null,{"$f":"IF(SUM(C42:C192)<-1000,-100000000,SUM(C42:C192))","v":-100000000},{"$f":"COUNT(D42:D192)","v":0},{"$f":"IF(SUM(E42:E192)<-1000,-100000000,SUM(E42:E192))","v":-100000000},{"$f":"COUNT(F42:F192)","v":0},{"$f":"IF(SUM(G42:G192)<-1000,-100000000,SUM(G42:G192))","v":-100000000},{"$f":"COUNT(H42:H192)","v":0},{"$f":"IF(SUM(I42:I192)<-1000,-100000000,SUM(I42:I192))","v":-100000000},{"$f":"COUNT(J42:J192)","v":0},{"$f":"IF(SUM(K42:K192)<-1000,-100000000,SUM(K42:K192))","v":-100000000},{"$f":"COUNT(L42:L192)","v":0},{"$f":"IF(SUM(M42:M192)<-1000,-100000000,SUM(M42:M192))","v":-100000000},{"$f":"COUNT(N42:N192)","v":0},{"$f":"IF(SUM(O42:O192)<-1000,-100000000,SUM(O42:O192))","v":-100000000},{"$f":"COUNT(P42:P192)","v":0},{"$f":"IF(SUM(Q42:Q192)<-1000,-100000000,SUM(Q42:Q192))","v":-100000000},{"$f":"COUNT(R42:R192)","v":0},{"$f":"IF(SUM(S42:S192)<-1000,-100000000,SUM(S42:S192))","v":-100000000},{"$f":"COUNT(T42:T192)","v":0},{"$f":"IF(SUM(U42:U192)<-1000,-100000000,SUM(U42:U192))","v":-100000000},{"$f":"COUNT(V42:V192)","v":0},{"$f":"IF(SUM(W42:W192)<-1000,-100000000,SUM(W42:W192))","v":-100000000},{"$f":"COUNT(X42:X192)","v":0},{"$f":"IF(SUM(Y42:Y192)<-1000,-100000000,SUM(Y42:Y192))","v":-100000000},{"$f":"COUNT(Z42:Z192)","v":0},{"$f":"IF(SUM(AA42:AA192)<-1000,-100000000,SUM(AA42:AA192))","v":-100000000},{"$f":"COUNT(AB42:AB192)","v":0},{"$f":"IF(SUM(AC42:AC192)<-1000,-100000000,SUM(AC42:AC192))","v":-100000000},{"$f":"COUNT(AD42:AD192)","v":0},{"$f":"IF(SUM(AE42:AE192)<-1000,-100000000,SUM(AE42:AE192))","v":-100000000},{"$f":"COUNT(AF42:AF192)","v":0},{"$f":"IF(SUM(AG42:AG192)<-1000,-100000000,SUM(AG42:AG192))","v":-100000000},{"$f":"COUNT(AH42:AH192)","v":0},{"$f":"IF(SUM(AI42:AI192)<-1000,-100000000,SUM(AI42:AI192))","v":-100000000},{"$f":"COUNT(AJ42:AJ192)","v":0}]
[null,null,{"$f":"SUM(C42:C86)","v":-10000000},0,-10000000,0,-10000000,0,-10000000,0,-10000000,0,-10000000,0,-10000000,0,-10000000,0,-10000000,0,-10000000,0,-10000000,0,-10000000,0,{"$f":"SUM(AA42:AA86)","v":-10000000},0,-10000000,0,{"$f":"SUM(AE42:AE86)","v":-10000000},{"$f":"SUM(AF42:AF86)","v":0},-10000000,0,-10000000,0]
[null,null,null,null,null,null,null,null,null,null,null,null,null,null,null,null,null,null,null,null,null,null,null,null,null,null,null,null,null,null,null,null,null,null,null,null,{"$f":"MAX(AL42:AL101)","v":0}]
[null,"Nº partida ","Manel",null,"Katy",null,"Jordi",null,"MªJosé",null,"Montiel",null,"Sergi",null,"Carles",null,"Mariajo",null,"Iglesias",null,"Martín",null,"Xavi",null,"Mercè",null,"Ester",null,"Goretti",null,"Geli",null,"Jorge",null,"Grau",null,{"$f":"COUNT(AK42:AK107)","v":0},"A","B","C"]
[null,null,"Premi","Punts","Premi","Punts","Premi","Punts","Premi","Punts","Premi","Punts","Premi","Punts","Premi","Punts","Premi","Punts","Premi","Punts","Premi","Punts","Premi","Punts","Premi","Punts","Premi","Punts","Premi","Punts","Premi","Punts","Premi","Punts",null,null,"Data","Timbes"]
[1,null,-10000000,null,-10000000,null,-10000000,null,-10000000,null,-10000000,null,-10000000,null,-10000000,null,-10000000,null,-10000000,null,-10000000,null,-10000000,null,-10000000,null,-10000000,null,-10000000,null,-10000000,null,-10000000,null,-10000000,null,null,null,{"$f":"+C42+E42+G42+I42++K42++M42+O42+Q42+S42+U42+AA42+AC42+AG42+W42+Y42+AI42+AE42","v":-170000000},{"$f":"+D42+F42+H42+J42++L42++N42+P42+R42+T42+V42+X42+Z42+AJ42+AB42+AD42+AH42","v":0},{"$f":"COUNT(C42:AJ42)/2","v":8.5},{"$f":"+AM42/AO42","v":-20000000}]
[{"$f":"+A42+1","v":2},null,null,null,null,null,null,null,null,null,null,null,null,null,null,null,null,null,null,null,null,null,null,null,null,null,null,null,null,null,null,null,null,null,null,null,null,null,0,{"$f":"+D43+F43+H43+J43++L43++N43+P43+R43+T43+V43+X43+Z43+AJ43+AB43+AD43+AH43","v":0},{"$f":"COUNT(C43:AJ43)/2","v":0},{"$f":"+AM43/AO43","v":{"$error":"#DIV/0!"}},"Pot de 1 fitxa"]
[{"$f":"+A43+1","v":3},null,null,null,null,null,null,null,null,null,null,null,null,null,null,null,null,null,null,null,null,null,null,null,null,null,null,null,null,null,null,null,null,null,null,null,null,null,0,{"$f":"+D44+F44+H44+J44++L44++N44+P44+R44+T44+V44+X44+Z44+AJ44+AB44+AD44+AH44","v":0},0,{"$error":"#DIV/0!"}]
[4,null,null,null,null,null,null,null,null,null,null,null,null,null,null,null,null,null,null,null,null,null,null,null,null,null,null,null,null,null,null,null,null,null,null,null,null,null,0,{"$f":"+D45+F45+H45+J45++L45++N45+P45+R45+T45+V45+X45+Z45+AJ45+AB45+AD45+AH45","v":0},0,{"$error":"#DIV/0!"}]
[5,null,null,null,null,null,null,null,null,null,null,null,null,null,null,null,null,null,null,null,null,null,null,null,null,null,null,null,null,null,null,null,null,null,null,null,null,null,0,{"$f":"+D46+F46+H46+J46++L46++N46+P46+R46+T46+V46+X46+Z46+AJ46+AB46+AD46+AH46+AF46","v":0},0,{"$error":"#DIV/0!"}]
[6,null,null,null,null,null,null,null,null,null,null,null,null,null,null,null,null,null,null,null,null,null,null,null,null,null,null,null,null,null,null,null,null,null,null,null,null,null,0,{"$f":"+D47+F47+H47+J47++L47++N47+P47+R47+T47+V47+X47+Z47+AJ47+AB47+AD47+AH47","v":0},0,{"$error":"#DIV/0!"}]
[7,null,null,null,null,null,null,null,null,null,null,null,null,null,null,null,null,null,null,null,null,null,null,null,null,null,null,null,null,null,null,null,null,null,null,null,null,null,0,0,0,{"$error":"#DIV/0!"}]
[8,null,null,null,null,null,null,null,null,null,null,null,null,null,null,null,null,null,null,null,null,null,null,null,null,null,null,null,null,null,null,null,null,null,null,null,null,null,0,0,0,{"$error":"#DIV/0!"}]
[9,null,null,null,null,null,null,null,null,null,null,null,null,null,null,null,null,null,null,null,null,null,null,null,null,null,null,null,null,null,null,null,null,null,null,null,null,null,0,0,0,{"$error":"#DIV/0!"}]
[10,null,null,null,null,null,null,null,null,null,null,null,null,null,null,null,null,null,null,null,null,null,null,null,null,null,null,null,null,null,null,null,null,null,null,null,null,null,0,0,0,{"$error":"#DIV/0!"}]
[11,null,null,null,null,null,null,null,null,null,null,null,null,null,null,null,null,null,null,null,null,null,null,null,null,null,null,null,null,null,null,null,null,null,null,null,null,null,0,0,0,{"$error":"#DIV/0!"}]
[12,null,null,null,null,null,null,null,null,null,null,null,null,null,null,null,null,null,null,null,null,null,null,null,null,null,null,null,null,null,null,null,null,null,null,null,null,null,0,0,0,{"$error":"#DIV/0!"}]
[13,null,null,null,null,null,null,null,null,null,null,null,null,null,null,null,null,null,null,null,null,null,null,null,null,null,null,null,null,null,null,null,null,null,null,null,null,null,0,0,0,{"$error":"#DIV/0!"}]
[14,null,null,null,null,null,null,null,null,null,null,null,null,null,null,null,null,null,null,null,null,null,null,null,null,null,null,null,null,null,null,null,null,null,null,null,null,null,0,0,0,{"$error":"#DIV/0!"}]
[15,null,null,null,null,null,null,null,null,null,null,null,null,null,null,null,null,null,null,null,null,null,null,null,null,null,null,null,null,null,null,null,null,null,null,null,null,null,0,0,{"$f":"COUNT(C56:AJ56)/2","v":0},{"$f":"+AM56/AO56","v":{"$error":"#DIV/0!"}}]
[16,null,null,null,null,null,null,null,null,null,null,null,null,null,null,null,null,null,null,null,null,null,null,null,null,null,null,null,null,null,null,null,null,null,null,null,null,null,0,0,{"$f":"COUNT(C57:AJ57)/2","v":0},{"$f":"+AM57/AO57","v":{"$error":"#DIV/0!"}}]
[17,null,null,null,null,null,null,null,null,null,null,null,null,null,null,null,null,null,null,null,null,null,null,null,null,null,null,null,null,null,null,null,null,null,null,null,null,null,0,0,{"$f":"COUNT(C58:AJ58)/2","v":0},{"$f":"+AM58/AO58","v":{"$error":"#DIV/0!"}}]
[18]
[19]
[20]
[21]
[22]
[23]
[24]
[25]
[26]
[27]
[28]
[29]
[30]
[31]
[32]
[33]
[34]
[35]
[36]
[37]
[38]
[39]
[40]
[41]
[42]
[43]
[44]
[45]

{"sheet":"Omaha","index":20,"n_rows":70,"n_cols":38,"rows_kept":70,"cut":false,"hidden":false,"merged":[[38,2,38,3],[38,4,38,5],[38,6,38,7],[38,8,38,9],[38,10,38,11],[38,12,38,13],[38,14,38,15],[38,16,38,17],[38,30,38,31],[38,28,38,29],[38,18,38,19],[38,20,38,21],[38,22,38,23],[38,24,38,25],[38,26,38,27]]}
["POKER OMAHA"]
["Mes"]
[{"$f":"+GENERAL!B6","v":12},null,{"$f":"SUM(C5:C13)","v":-900000000}]
[null,null,"Premi","Punts","Partides","General"]
[1,"Carles",{"$f":"+O$36","v":-100000000},{"$f":"+P$37","v":0},{"$f":"+P$36","v":0},{"$f":"+O$22","v":0},{"$f":"IF(E5<A$3/2,-1,1)*80+C5","v":-100000080}]
[2,"Goretti",{"$f":"+AC$36","v":-100000000},{"$f":"+AD$37","v":0},{"$f":"+AD$36","v":0},{"$f":"+AC$22","v":0},-100000080]
[3,"Grau",{"$f":"+S$36","v":-100000000},{"$f":"+T$37","v":0},{"$f":"+T$36","v":0},{"$f":"+S$22","v":0},-100000080]
[4,"Mercè",{"$f":"+Y$36","v":-100000000},{"$f":"+Z$37","v":0},{"$f":"+Z$36","v":0},{"$f":"+Y$22","v":0},-100000080]
[5,"Sergi",{"$f":"+M$36","v":-100000000},{"$f":"+N$37","v":0},{"$f":"+N$36","v":0},{"$f":"+M$22","v":0},-100000080]
[6,"Jordi",{"$f":"+G$36","v":-100000000},{"$f":"+H$37","v":0},{"$f":"+H$36","v":0},{"$f":"+G$22","v":0},-100000080]
[7,"Katy",{"$f":"+E$36","v":-100000000},{"$f":"+F$37","v":0},{"$f":"+F$36","v":0},{"$f":"+E$22","v":0},-100000080]
[8,"Mariajo",{"$f":"+Q$36","v":-100000000},{"$f":"+R$37","v":0},{"$f":"+R$36","v":0},{"$f":"+Q$22","v":0},-100000080]
[9,"Manolo",{"$f":"AA$36","v":-100000000},{"$f":"+AB$37","v":0},{"$f":"+AB$36","v":0},{"$f":"+AA$22","v":0},-100000080]
[10,"Joan Carles",{"$f":"+U$36","v":-100000000},{"$f":"+V$37","v":0},{"$f":"+V$36","v":0},{"$f":"+U$22","v":0},-100000080]
[11,"Jorge",{"$f":"+C$36","v":-100000000},{"$f":"+D$37","v":0},{"$f":"+D$36","v":0},{"$f":"+C$22","v":0},-100000080]
[12,"Alícia",{"$f":"+AE$36","v":-100000000},{"$f":"+AF$37","v":0},{"$f":"+AF$36","v":0},{"$f":"+AE$22","v":0},-100000080]
[13,"Xavi",{"$f":"+W$36","v":-100000000},{"$f":"+X$37","v":0},{"$f":"+X$36","v":0},{"$f":"+W$22","v":0},-100000080]
[14,"MªJosé",{"$f":"+I$36","v":0},{"$f":"+J$37","v":0},{"$f":"+J$36","v":0},{"$f":"+I$22","v":0},-80]
[15,"Pol",{"$f":"+K$36","v":0},{"$f":"+L$37","v":0},{"$f":"+L$36","v":0},{"$f":"+K$22","v":0},-80]
[]
[]
[null,"General",{"$f":"+C23*C24","v":0},{"$f":"+D23*D24","v":0},0,0,0,0,0,0,0,0,0,0,0,0,0,0,0,0,0,0,0,0,0,0,{"$f":"+AA23*AA24","v":0},{"$f":"+AB23*AB24","v":0},{"$f":"+AC23*AC24","v":0},{"$f":"+AD23*AD24","v":0},0,0]
[null,null,{"$f":"IF($B35>3,1,0)","v":0},{"$f":"IF($B35>3,1,0)","v":0},0,0,0,0,0,0,0,0,0,0,0,0,0,0,0,0,0,0,0,0,0,0,{"$f":"IF($B35>3,1,0)","v":0},{"$f":"IF($B35>3,1,0)","v":0},{"$f":"IF($B35>3,1,0)","v":0},{"$f":"IF($B35>3,1,0)","v":0},0,0]
[null,null,{"$f":"MAX(C25:C29)","v":0},{"$f":"+D36","v":0},{"$f":"MAX(E25:E29)","v":0},{"$f":"+F36","v":0},{"$f":"MAX(G25:G29)","v":0},{"$f":"+H36","v":0},{"$f":"MAX(I25:I29)","v":0},{"$f":"+J36","v":0},{"$f":"MAX(K25:K29)","v":0},{"$f":"+L36","v":0},{"$f":"MAX(M25:M29)","v":0},{"$f":"+N36","v":0},{"$f":"MAX(O25:O29)","v":0},{"$f":"+P36","v":0},{"$f":"MAX(Q25:Q29)","v":0},{"$f":"+R36","v":0},{"$f":"MAX(S25:S29)","v":0},{"$f":"+T36","v":0},{"$f":"MAX(U25:U29)","v":0},{"$f":"+V36","v":0},{"$f":"MAX(W25:W29)","v":0},{"$f":"+X36","v":0},{"$f":"MAX(Y25:Y29)","v":0},{"$f":"+Z36","v":0},{"$f":"MAX(AA25:AA29)","v":0},{"$f":"+AB36","v":0},{"$f":"MAX(AC25:AC29)","v":0},{"$f":"+AD36","v":0},{"$f":"MAX(AE25:AE29)","v":0},{"$f":"+AF36","v":0}]
[null,null,{"$f":"IF(C$30=5,5,0)","v":0},null,{"$f":"IF(E$30=5,5,0)","v":0},null,{"$f":"IF(G$30=5,5,0)","v":0},null,{"$f":"IF(I$30=5,5,0)","v":0},null,{"$f":"IF(K$30=5,5,0)","v":0},null,{"$f":"IF(M$30=5,5,0)","v":0},null,{"$f":"IF(O$30=5,5,0)","v":0},null,{"$f":"IF(Q$30=5,5,0)","v":0},null,{"$f":"IF(S$30=5,5,0)","v":0},null,{"$f":"IF(U$30=5,5,0)","v":0},null,{"$f":"IF(W$30=5,5,0)","v":0},null,{"$f":"IF(Y$30=5,5,0)","v":0},null,{"$f":"IF(AA$30=5,5,0)","v":0},null,{"$f":"IF(AC$30=5,5,0)","v":0},null,{"$f":"IF(AE$30=5,5,0)","v":0}]
[null,null,{"$f":"IF(C$30=4,10,0)","v":0},null,{"$f":"IF(E$30=4,10,0)","v":0},null,{"$f":"IF(G$30=4,10,0)","v":0},null,{"$f":"IF(I$30=4,10,0)","v":0},null,{"$f":"IF(K$30=4,10,0)","v":0},null,{"$f":"IF(M$30=4,10,0)","v":0},null,{"$f":"IF(O$30=4,10,0)","v":0},null,{"$f":"IF(Q$30=4,10,0)","v":0},null,{"$f":"IF(S$30=4,10,0)","v":0},null,{"$f":"IF(U$30=4,10,0)","v":0},null,{"$f":"IF(W$30=4,10,0)","v":0},null,{"$f":"IF(Y$30=4,10,0)","v":0},null,{"$f":"IF(AA$30=4,10,0)","v":0},null,{"$f":"IF(AC$30=4,10,0)","v":0},null,{"$f":"IF(AE$30=4,10,0)","v":0}]
[null,null,{"$f":"IF(C$30=3,20,0)","v":0},null,{"$f":"IF(E$30=3,20,0)","v":0},null,{"$f":"IF(G$30=3,20,0)","v":0},null,{"$f":"IF(I$30=3,20,0)","v":0},null,{"$f":"IF(K$30=3,20,0)","v":0},null,{"$f":"IF(M$30=3,20,0)","v":0},null,{"$f":"IF(O$30=3,20,0)","v":0},null,{"$f":"IF(Q$30=3,20,0)","v":0},null,{"$f":"IF(S$30=3,20,0)","v":0},null,{"$f":"IF(U$30=3,20,0)","v":0},null,{"$f":"IF(W$30=3,20,0)","v":0},null,{"$f":"IF(Y$30=3,20,0)","v":0},null,{"$f":"IF(AA$30=3,20,0)","v":0},null,{"$f":"IF(AC$30=3,20,0)","v":0},null,{"$f":"IF(AE$30=3,20,0)","v":0}]
[null,null,{"$f":"IF(C$30=2,40,0)","v":0},null,{"$f":"IF(E$30=2,40,0)","v":0},null,{"$f":"IF(G$30=2,40,0)","v":0},null,{"$f":"IF(I$30=2,40,0)","v":0},null,{"$f":"IF(K$30=2,40,0)","v":0},null,{"$f":"IF(M$30=2,40,0)","v":0},null,{"$f":"IF(O$30=2,40,0)","v":0},null,{"$f":"IF(Q$30=2,40,0)","v":0},null,{"$f":"IF(S$30=2,40,0)","v":0},null,{"$f":"IF(U$30=2,40,0)","v":0},null,{"$f":"IF(W$30=2,40,0)","v":0},null,{"$f":"IF(Y$30=2,40,0)","v":0},null,{"$f":"IF(AA$30=2,40,0)","v":0},null,{"$f":"IF(AC$30=2,40,0)","v":0},null,{"$f":"IF(AE$30=2,40,0)","v":0}]
[null,null,{"$f":"IF(C$30=1,80,0)","v":0},null,{"$f":"IF(E$30=1,80,0)","v":0},null,{"$f":"IF(G$30=1,80,0)","v":0},null,{"$f":"IF(I$30=1,80,0)","v":0},null,{"$f":"IF(K$30=1,80,0)","v":0},null,{"$f":"IF(M$30=1,80,0)","v":0},null,{"$f":"IF(O$30=1,80,0)","v":0},null,{"$f":"IF(Q$30=1,80,0)","v":0},null,{"$f":"IF(S$30=1,80,0)","v":0},null,{"$f":"IF(U$30=1,80,0)","v":0},null,{"$f":"IF(W$30=1,80,0)","v":0},null,{"$f":"IF(Y$30=1,80,0)","v":0},null,{"$f":"IF(AA$30=1,80,0)","v":0},null,{"$f":"IF(AC$30=1,80,0)","v":0},null,{"$f":"IF(AE$30=1,80,0)","v":0}]
[null,null,{"$f":"RANK(C31,$C31:$AR31)*C35","v":0},null,{"$f":"RANK(E31,$C31:$AR31)*E35","v":0},null,{"$f":"RANK(G31,$C31:$AR31)*G35","v":0},null,{"$f":"RANK(I31,$C31:$AR31)*I35","v":0},null,{"$f":"RANK(K31,$C31:$AR31)*K35","v":0},null,{"$f":"RANK(M31,$C31:$AR31)*M35","v":0},null,{"$f":"RANK(O31,$C31:$AR31)*O35","v":0},null,{"$f":"RANK(Q31,$C31:$AR31)*Q35","v":0},null,{"$f":"RANK(S31,$C31:$AR31)*S35","v":0},null,{"$f":"RANK(U31,$C31:$AR31)*U35","v":0},null,{"$f":"RANK(W31,$C31:$AR31)*W35","v":0},null,{"$f":"RANK(Y31,$C31:$AR31)*Y35","v":0},null,{"$f":"RANK(AA31,$C31:$AR31)*AA35","v":0},null,{"$f":"RANK(AC31,$C31:$AR31)*AC35","v":0},null,{"$f":"RANK(AE31,$C31:$AR31)*AE35","v":0}]
[null,null,{"$f":"SUM(C32:C34)","v":-200000000},null,{"$f":"SUM(E32:E34)","v":-200000000},null,{"$f":"SUM(G32:G34)","v":-200000000},null,{"$f":"SUM(I32:I34)","v":-100000000},null,{"$f":"SUM(K32:K34)","v":-100000000},null,{"$f":"SUM(M32:M34)","v":-200000000},null,{"$f":"SUM(O32:O34)","v":-200000000},null,{"$f":"SUM(Q32:Q34)","v":-200000000},null,{"$f":"SUM(S32:S34)","v":-200000000},null,{"$f":"SUM(U32:U34)","v":-200000000},null,{"$f":"SUM(W32:W34)","v":-200000000},null,{"$f":"SUM(Y32:Y34)","v":-200000000},null,{"$f":"SUM(AA32:AA34)","v":-200000000},null,{"$f":"SUM(AC32:AC34)","v":-200000000},null,{"$f":"SUM(AE32:AE34)","v":-200000000}]
[null,null,{"$f":"+D36","v":0},null,{"$f":"+F36","v":0},null,{"$f":"+H36","v":0},null,{"$f":"+J36","v":0},null,{"$f":"+L36","v":0},null,{"$f":"+N36","v":0},null,{"$f":"+P36","v":0},null,{"$f":"+R36","v":0},null,{"$f":"+T36","v":0},null,{"$f":"+V36","v":0},null,{"$f":"+X36","v":0},null,{"$f":"+Z36","v":0},null,{"$f":"+AB36","v":0},null,{"$f":"+AD36","v":0},null,{"$f":"+AF36","v":0}]
[null,null,{"$f":"D37*10","v":0},null,{"$f":"F37*10","v":0},null,{"$f":"H37*10","v":0},null,{"$f":"J37*10","v":0},null,{"$f":"L37*10","v":0},null,{"$f":"N37*10","v":0},null,{"$f":"P37*10","v":0},null,{"$f":"R37*10","v":0},null,{"$f":"T37*10","v":0},null,{"$f":"V37*10","v":0},null,{"$f":"X37*10","v":0},null,{"$f":"Z37*10","v":0},null,{"$f":"AB37*10","v":0},null,{"$f":"AD37*10","v":0},null,{"$f":"AF37*10","v":0}]
[null,null,{"$f":"IF(C35=1,C36*C35*100000+C36,-100000000+C36)","v":-200000000},null,{"$f":"IF(E35=1,E36*E35*100000+E36,-100000000+E36)","v":-200000000},null,{"$f":"IF(G35=1,G36*G35*100000+G36,-100000000+G36)","v":-200000000},null,{"$f":"IF(I35=1,I36*I35*100000+I36,-100000000+I36)","v":-100000000},null,{"$f":"IF(K35=1,K36*K35*100000+K36,-100000000+K36)","v":-100000000},null,{"$f":"IF(M35=1,M36*M35*100000+M36,-100000000+M36)","v":-200000000},null,{"$f":"IF(O35=1,O36*O35*100000+O36,-100000000+O36)","v":-200000000},null,{"$f":"IF(Q35=1,Q36*Q35*100000+Q36,-100000000+Q36)","v":-200000000},null,{"$f":"IF(S35=1,S36*S35*100000+S36,-100000000+S36)","v":-200000000},null,{"$f":"IF(U35=1,U36*U35*100000+U36,-100000000+U36)","v":-200000000},null,{"$f":"IF(W35=1,W36*W35*100000+W36,-100000000+W36)","v":-200000000},null,{"$f":"IF(Y35=1,Y36*Y35*100000+Y36,-100000000+Y36)","v":-200000000},null,{"$f":"IF(AA35=1,AA36*AA35*100000+AA36,-100000000+AA36)","v":-200000000},null,{"$f":"IF(AC35=1,AC36*AC35*100000+AC36,-100000000+AC36)","v":-200000000},null,{"$f":"IF(AE35=1,AE36*AE35*100000+AE36,-100000000+AE36)","v":-200000000}]
["Classificats",{"$f":"SUM(C35:AE35)","v":0},{"$f":"IF(D36>=$A3/2,1,0)","v":0},null,{"$f":"IF(F36>=$A3/2,1,0)","v":0},null,{"$f":"IF(H36>=$A3/2,1,0)","v":0},null,{"$f":"IF(J36>=$A3/2,1,0)","v":0},null,{"$f":"IF(L36>=$A3/2,1,0)","v":0},null,{"$f":"IF(N36>=$A3/2,1,0)","v":0},null,{"$f":"IF(P36>=$A3/2,1,0)","v":0},null,{"$f":"IF(R36>=$A3/2,1,0)","v":0},null,{"$f":"IF(T36>=$A3/2,1,0)","v":0},null,{"$f":"IF(V36>=$A3/2,1,0)","v":0},null,{"$f":"IF(X36>=$A3/2,1,0)","v":0},null,{"$f":"IF(Z36>=$A3/2,1,0)","v":0},null,{"$f":"IF(AB36>=$A3/2,1,0)","v":0},null,{"$f":"IF(AD36>=$A3/2,1,0)","v":0},null,{"$f":"IF(AF36>=$A3/2,1,0)","v":0}]
[null,null,{"$f":"IF(SUM(C41:C187)<-1000,-100000000,SUM(C41:C187))","v":-100000000},{"$f":"COUNT(D41:D187)","v":0},{"$f":"IF(SUM(E41:E187)<-1000,-100000000,SUM(E41:E187))","v":-100000000},{"$f":"COUNT(F41:F187)","v":0},{"$f":"IF(SUM(G41:G187)<-1000,-100000000,SUM(G41:G187))","v":-100000000},{"$f":"COUNT(H41:H187)","v":0},{"$f":"IF(SUM(I41:I187)<-1000,-100000000,SUM(I41:I187))","v":0},{"$f":"COUNT(J41:J187)","v":0},{"$f":"IF(SUM(K41:K187)<-1000,-100000000,SUM(K41:K187))","v":0},{"$f":"COUNT(L41:L187)","v":0},{"$f":"IF(SUM(M41:M187)<-1000,-100000000,SUM(M41:M187))","v":-100000000},{"$f":"COUNT(N41:N187)","v":0},{"$f":"IF(SUM(O41:O187)<-1000,-100000000,SUM(O41:O187))","v":-100000000},{"$f":"COUNT(P41:P187)","v":0},{"$f":"IF(SUM(Q41:Q187)<-1000,-100000000,SUM(Q41:Q187))","v":-100000000},{"$f":"COUNT(R41:R187)","v":0},{"$f":"IF(SUM(S41:S187)<-1000,-100000000,SUM(S41:S187))","v":-100000000},{"$f":"COUNT(T41:T187)","v":0},{"$f":"IF(SUM(U41:U187)<-1000,-100000000,SUM(U41:U187))","v":-100000000},{"$f":"COUNT(V41:V187)","v":0},{"$f":"IF(SUM(W41:W187)<-1000,-100000000,SUM(W41:W187))","v":-100000000},{"$f":"COUNT(X41:X187)","v":0},{"$f":"IF(SUM(Y41:Y187)<-1000,-100000000,SUM(Y41:Y187))","v":-100000000},{"$f":"COUNT(Z41:Z187)","v":0},{"$f":"IF(SUM(AA41:AA187)<-1000,-100000000,SUM(AA41:AA187))","v":-100000000},{"$f":"COUNT(AB41:AB187)","v":0},{"$f":"IF(SUM(AC41:AC187)<-1000,-100000000,SUM(AC41:AC187))","v":-100000000},{"$f":"COUNT(AD41:AD187)","v":0},{"$f":"IF(SUM(AE41:AE187)<-1000,-100000000,SUM(AE41:AE187))","v":-100000000},{"$f":"COUNT(AF41:AF187)","v":0}]
[null,null,{"$f":"SUM(C41:C81)","v":-100000000},0,-100000000,0,-100000000,0,0,0,0,0,-100000000,0,-100000000,0,-100000000,0,-100000000,0,-100000000,0,-100000000,0,-100000000,0,{"$f":"SUM(AA41:AA81)","v":-100000000},{"$f":"SUM(AB41:AB81)","v":0},{"$f":"SUM(AC41:AC81)","v":-100000000},{"$f":"SUM(AD41:AD81)","v":0},-100000000,0]
[null,null,null,null,null,null,null,null,null,null,null,null,null,null,null,null,null,null,null,null,null,null,null,null,null,null,null,null,null,null,null,null,{"$f":"MAX(AH41:AH100)","v":0}]
[null,"Nº partida ","Jorge",null,"Katy",null,"Jordi",null,"MªJosé",null,"Pol",null,"Sergi",null,"Carles",null,"Mariajo",null,"Grau",null,"Joan Carles",null,"Xavi",null,"Mercè",null,"Manolo",null,"Goretti",null,"Alícia",null,{"$f":"COUNT(AG41:AG102)","v":0},"A","B","C"]
[null,null,"Premi","Punts","Premi","Punts","Premi","Punts","Premi","Punts","Premi","Punts","Premi","Punts","Premi","Punts","Premi","Punts","Premi","Punts","Premi","Punts","Premi","Punts","Premi","Punts","Premi","Punts","Premi","Punts","Premi","Punts","Data","Timbes"]
[1,null,-100000000,null,-100000000,null,-100000000,null,null,null,null,null,-100000000,null,-100000000,null,-100000000,null,-100000000,null,-100000000,null,-100000000,null,-100000000,null,-100000000,null,-100000000,null,-100000000,null,null,null,{"$f":"+C41+E41+G41+I41++K41++M41+O41+Q41+S41+U41+W41+Y41+AE41+AC41+AA41","v":-1300000000},{"$f":"+D41+F41+H41+J41++L41++N41+P41+R41+T41+V41+X41+Z41+AF41+AD41+AB41","v":0},{"$f":"COUNT(C41:AF41)/2","v":6.5},{"$f":"+AI41/AK41","v":-200000000}]
[{"$f":"+A41+1","v":2},null,null,null,null,null,null,null,null,null,null,null,null,null,null,null,null,null,null,null,null,null,null,null,null,null,null,null,null,null,null,null,null,null,0,0,{"$f":"COUNT(C42:AF42)/2","v":0},{"$f":"+AI42/AK42","v":{"$error":"#DIV/0!"}}]
[{"$f":"+A42+1","v":3},null,null,null,null,null,null,null,null,null,null,null,null,null,null,null,null,null,null,null,null,null,null,null,null,null,null,null,null,null,null,null,null,null,0,0,0,{"$error":"#DIV/0!"}]
[4,null,null,null,null,null,null,null,null,null,null,null,null,null,null,null,null,null,null,null,null,null,null,null,null,null,null,null,null,null,null,null,null,null,0,0,0,{"$error":"#DIV/0!"}]
[5,null,null,null,null,null,null,null,null,null,null,null,null,null,null,null,null,null,null,null,null,null,null,null,null,null,null,null,null,null,null,null,null,null,0,0,0,{"$error":"#DIV/0!"}]
[6,null,null,null,null,null,null,null,null,null,null,null,null,null,null,null,null,null,null,null,null,null,null,null,null,null,null,null,null,null,null,null,null,null,0,0,0,{"$error":"#DIV/0!"}]
[7,null,null,null,null,null,null,null,null,null,null,null,null,null,null,null,null,null,null,null,null,null,null,null,null,null,null,null,null,null,null,null,null,null,0,0,0,{"$error":"#DIV/0!"}]
[8,null,null,null,null,null,null,null,null,null,null,null,null,null,null,null,null,null,null,null,null,null,null,null,null,null,null,null,null,null,null,null,null,null,0,0,0,{"$error":"#DIV/0!"}]
[9,null,null,null,null,null,null,null,null,null,null,null,null,null,null,null,null,null,null,null,null,null,null,null,null,null,null,null,null,null,null,null,null,null,0,0,0,{"$error":"#DIV/0!"}]
[10,null,null,null,null,null,null,null,null,null,null,null,null,null,null,null,null,null,null,null,null,null,null,null,null,null,null,null,null,null,null,null,null,null,0,0,0,{"$error":"#DIV/0!"}]
[11,null,null,null,null,null,null,null,null,null,null,null,null,null,null,null,null,null,null,null,null,null,null,null,null,null,null,null,null,null,null,null,null,null,0,0,0,{"$error":"#DIV/0!"}]
[12,null,null,null,null,null,null,null,null,null,null,null,null,null,null,null,null,null,null,null,null,null,null,null,null,null,null,null,null,null,null,null,null,null,0,0,0,{"$error":"#DIV/0!"}]
[13,null,null,null,null,null,null,null,null,null,null,null,null,null,null,null,null,null,null,null,null,null,null,null,null,null,null,null,null,null,null,null,null,null,0,0,0,{"$error":"#DIV/0!"}]
[14]
[15]
[16]
[17]
[18]
[19]
[20]
[21]
[22]
[23]
[24]
[25]
[26]
[27]
[28]
[29]
[30]

{"sheet":"Pocha","index":21,"n_rows":173,"n_cols":41,"rows_kept":173,"cut":false,"hidden":false,"merged":[[40,12,40,13],[40,2,40,3],[40,4,40,5],[40,6,40,7],[40,8,40,9],[40,10,40,11],[40,28,40,29],[40,14,40,15],[40,16,40,17],[40,34,40,35],[40,18,40,19],[40,20,40,21],[40,22,40,23],[40,24,40,25],[40,30,40,31],[40,32,40,33],[40,26,40,27]]}
["POCHA"]
["Mes"]
[{"$f":"+GENERAL!B6","v":12},null,{"$f":"SUM(C5:C9)","v":-500000000}]
[null,null,"Premi","Punts","Partides","General"]
[1,"alaf",{"$f":"+O$38","v":-100000000},{"$f":"+P$39","v":1E-4},{"$f":"+P$38","v":0},{"$f":"+O$24","v":0},{"$f":"IF(E5<A$3/2,-1,1)*800000+C5*1000+D5*10+E5","v":-100000799999.99899}]
[2,"Jordi",{"$f":"+G$38","v":-100000000},{"$f":"+H$39","v":1E-4},{"$f":"+H$38","v":0},{"$f":"+G$24","v":0},{"$f":"IF(E6<A$3/2,-1,1)*800000+C6*1000+D6*10+E6","v":-100000799999.99899}]
[3,"Grau",{"$f":"+AC$38","v":-100000000},{"$f":"+AD$39","v":1E-4},{"$f":"+AD$38","v":0},{"$f":"+AC$24","v":0},{"$f":"IF(E7<A$3/2,-1,1)*800000+C7*1000+D7*10+E7","v":-100000799999.99899}]
[4,"Manel",{"$f":"+C$38","v":-100000000},{"$f":"+D$39","v":1E-4},{"$f":"+D$38","v":0},{"$f":"+C$24","v":0},{"$f":"IF(E8<A$3/2,-1,1)*800000+C8*1000+D8*10+E8","v":-100000799999.99899}]
[5,"Mariajo",{"$f":"+Q$38","v":-100000000},{"$f":"+R$39","v":1E-4},{"$f":"+R$38","v":0},{"$f":"+Q$24","v":0},{"$f":"IF(E9<A$3/2,-1,1)*800000+C9*1000+D9*10+E9","v":-100000799999.99899}]
[6,"Eli",{"$f":"+Y$38","v":-100000000},{"$f":"+Z$39","v":1E-4},{"$f":"+Z$38","v":0},{"$f":"+Y$24","v":0},{"$f":"IF(E10<A$3/2,-1,1)*800+C10*1000+D10*10+E10","v":-100000000799.99899}]
[7,"Mercè",{"$f":"+AE$38","v":-100000000},{"$f":"+AF$39","v":1E-4},{"$f":"+AF$38","v":0},{"$f":"+AE$24","v":0},{"$f":"IF(E11<A$3/2,-1,1)*800000+C11*1000+D11*10+E11","v":-100000799999.99899}]
[8,"Sergi",{"$f":"+M$38","v":-100000000},{"$f":"+N$39","v":1E-4},{"$f":"+N$38","v":0},{"$f":"+M$24","v":0},-100000799999.99899]
[9,"Goretti",{"$f":"+K$38","v":-100000000},{"$f":"+L$39","v":1E-4},{"$f":"+L$38","v":0},{"$f":"+K$24","v":0},-100000799999.99899]
[10,"Joan Carles",{"$f":"+AA$38","v":-100000000},{"$f":"+AB$39","v":1E-4},{"$f":"+AB$38","v":0},{"$f":"+AA$24","v":0},-100000799999.99899]
[11,"Xavi",{"$f":"+W$38","v":-100000000},{"$f":"+X$39","v":1E-4},{"$f":"+X$38","v":0},{"$f":"+W$24","v":0},-100000799999.99899]
[12,"Martín",{"$f":"+U$38","v":-100000000},{"$f":"+V$39","v":1E-4},{"$f":"+V$38","v":0},{"$f":"+U$24","v":0},-100000799999.99899]
[13,"Pol",{"$f":"+AI$38","v":-100000000},{"$f":"+AJ$39","v":1E-4},{"$f":"+AJ$38","v":0},{"$f":"+AI$24","v":0},-100000799999.99899]
[14,"Iglesias",{"$f":"+S$38","v":-100000000},{"$f":"+T$39","v":1E-4},{"$f":"+T$38","v":0},{"$f":"+S$24","v":0},-100000799999.99899]
[15,"MªJosé",{"$f":"+I$38","v":-100000000},{"$f":"+J$39","v":1E-4},{"$f":"+J$38","v":0},{"$f":"+I$24","v":0},-100000799999.99899]
[16,"Salvadó",{"$f":"+AG$38","v":-100000000},{"$f":"+AH$39","v":1E-4},{"$f":"+AH$38","v":0},{"$f":"+AG$24","v":0},-100000799999.99899]
[17,"Pepe",{"$f":"+E$38","v":-100000000},{"$f":"+F$39","v":1E-4},{"$f":"+F$38","v":0},{"$f":"+E$24","v":0},-100000799999.99899]
[]
[]
[null,"General",{"$f":"+C25*C26","v":0},{"$f":"+D25*D26","v":0},0,0,0,0,0,0,0,0,0,0,0,0,0,0,0,0,0,0,0,0,0,0,{"$f":"+AA25*AA26","v":0},0,0,0,0,0,0,0,0,0]
[null,null,{"$f":"IF($B37>3,1,0)","v":0},{"$f":"IF($B37>3,1,0)","v":0},0,0,0,0,0,0,0,0,0,0,0,0,0,0,0,0,0,0,0,0,0,0,{"$f":"IF($B37>3,1,0)","v":0},0,0,0,0,0,0,0,0,0]
[null,null,{"$f":"MAX(C27:C31)","v":0},{"$f":"+D38","v":0},{"$f":"MAX(E27:E31)","v":0},{"$f":"+F38","v":0},{"$f":"MAX(G27:G31)","v":0},{"$f":"+H38","v":0},{"$f":"MAX(I27:I31)","v":0},{"$f":"+J38","v":0},{"$f":"MAX(K27:K31)","v":0},{"$f":"+L38","v":0},{"$f":"MAX(M27:M31)","v":0},{"$f":"+N38","v":0},{"$f":"MAX(O27:O31)","v":0},{"$f":"+P38","v":0},{"$f":"MAX(Q27:Q31)","v":0},{"$f":"+R38","v":0},{"$f":"MAX(S27:S31)","v":0},{"$f":"+T38","v":0},{"$f":"MAX(U27:U31)","v":0},{"$f":"+V38","v":0},{"$f":"MAX(W27:W31)","v":0},{"$f":"+X38","v":0},{"$f":"MAX(Y27:Y31)","v":0},{"$f":"+Z38","v":0},{"$f":"MAX(AA27:AA31)","v":0},{"$f":"+AB38","v":0},{"$f":"MAX(AC27:AC31)","v":0},{"$f":"+AD38","v":0},{"$f":"MAX(AE27:AE31)","v":0},{"$f":"+AF38","v":0},{"$f":"MAX(AG27:AG31)","v":0},{"$f":"+AH38","v":0},{"$f":"MAX(AI27:AI31)","v":0},{"$f":"+AJ38","v":0}]
[null,null,{"$f":"IF(C$32=5,5,0)","v":0},null,{"$f":"IF(E$32=5,5,0)","v":0},null,{"$f":"IF(G$32=5,5,0)","v":0},null,{"$f":"IF(I$32=5,5,0)","v":0},null,{"$f":"IF(K$32=5,5,0)","v":0},null,{"$f":"IF(M$32=5,5,0)","v":0},null,{"$f":"IF(O$32=5,5,0)","v":0},null,{"$f":"IF(Q$32=5,5,0)","v":0},null,{"$f":"IF(S$32=5,5,0)","v":0},null,{"$f":"IF(U$32=5,5,0)","v":0},null,{"$f":"IF(W$32=5,5,0)","v":0},null,{"$f":"IF(Y$32=5,5,0)","v":0},null,{"$f":"IF(AA$32=5,5,0)","v":0},null,{"$f":"IF(AC$32=5,5,0)","v":0},null,{"$f":"IF(AE$32=5,5,0)","v":0},null,{"$f":"IF(AG$32=5,5,0)","v":0},null,{"$f":"IF(AI$32=5,5,0)","v":0}]
[null,null,{"$f":"IF(C$32=4,10,0)","v":0},null,{"$f":"IF(E$32=4,10,0)","v":0},null,{"$f":"IF(G$32=4,10,0)","v":0},null,{"$f":"IF(I$32=4,10,0)","v":0},null,{"$f":"IF(K$32=4,10,0)","v":0},null,{"$f":"IF(M$32=4,10,0)","v":0},null,{"$f":"IF(O$32=4,10,0)","v":0},null,{"$f":"IF(Q$32=4,10,0)","v":0},null,{"$f":"IF(S$32=4,10,0)","v":0},null,{"$f":"IF(U$32=4,10,0)","v":0},null,{"$f":"IF(W$32=4,10,0)","v":0},null,{"$f":"IF(Y$32=4,10,0)","v":0},null,{"$f":"IF(AA$32=4,10,0)","v":0},null,{"$f":"IF(AC$32=4,10,0)","v":0},null,{"$f":"IF(AE$32=4,10,0)","v":0},null,{"$f":"IF(AG$32=4,10,0)","v":0},null,{"$f":"IF(AI$32=4,10,0)","v":0}]
[null,null,{"$f":"IF(C$32=3,20,0)","v":0},null,{"$f":"IF(E$32=3,20,0)","v":0},null,{"$f":"IF(G$32=3,20,0)","v":0},null,{"$f":"IF(I$32=3,20,0)","v":0},null,{"$f":"IF(K$32=3,20,0)","v":0},null,{"$f":"IF(M$32=3,20,0)","v":0},null,{"$f":"IF(O$32=3,20,0)","v":0},null,{"$f":"IF(Q$32=3,20,0)","v":0},null,{"$f":"IF(S$32=3,20,0)","v":0},null,{"$f":"IF(U$32=3,20,0)","v":0},null,{"$f":"IF(W$32=3,20,0)","v":0},null,{"$f":"IF(Y$32=3,20,0)","v":0},null,{"$f":"IF(AA$32=3,20,0)","v":0},null,{"$f":"IF(AC$32=3,20,0)","v":0},null,{"$f":"IF(AE$32=3,20,0)","v":0},null,{"$f":"IF(AG$32=3,20,0)","v":0},null,{"$f":"IF(AI$32=3,20,0)","v":0}]
[null,null,{"$f":"IF(C$32=2,40,0)","v":0},null,{"$f":"IF(E$32=2,40,0)","v":0},null,{"$f":"IF(G$32=2,40,0)","v":0},null,{"$f":"IF(I$32=2,40,0)","v":0},null,{"$f":"IF(K$32=2,40,0)","v":0},null,{"$f":"IF(M$32=2,40,0)","v":0},null,{"$f":"IF(O$32=2,40,0)","v":0},null,{"$f":"IF(Q$32=2,40,0)","v":0},null,{"$f":"IF(S$32=2,40,0)","v":0},null,{"$f":"IF(U$32=2,40,0)","v":0},null,{"$f":"IF(W$32=2,40,0)","v":0},null,{"$f":"IF(Y$32=2,40,0)","v":0},null,{"$f":"IF(AA$32=2,40,0)","v":0},null,{"$f":"IF(AC$32=2,40,0)","v":0},null,{"$f":"IF(AE$32=2,40,0)","v":0},null,{"$f":"IF(AG$32=2,40,0)","v":0},null,{"$f":"IF(AI$32=2,40,0)","v":0}]
[null,null,{"$f":"IF(C$32=1,80,0)","v":0},null,{"$f":"IF(E$32=1,80,0)","v":0},null,{"$f":"IF(G$32=1,80,0)","v":0},null,{"$f":"IF(I$32=1,80,0)","v":0},null,{"$f":"IF(K$32=1,80,0)","v":0},null,{"$f":"IF(M$32=1,80,0)","v":0},null,{"$f":"IF(O$32=1,80,0)","v":0},null,{"$f":"IF(Q$32=1,80,0)","v":0},null,{"$f":"IF(S$32=1,80,0)","v":0},null,{"$f":"IF(U$32=1,80,0)","v":0},null,{"$f":"IF(W$32=1,80,0)","v":0},null,{"$f":"IF(Y$32=1,80,0)","v":0},null,{"$f":"IF(AA$32=1,80,0)","v":0},null,{"$f":"IF(AC$32=1,80,0)","v":0},null,{"$f":"IF(AE$32=1,80,0)","v":0},null,{"$f":"IF(AG$32=1,80,0)","v":0},null,{"$f":"IF(AI$32=1,80,0)","v":0}]
[null,null,{"$f":"RANK(C33,$C33:$BF33)*C37","v":0},null,{"$f":"RANK(E33,$C33:$BF33)*E37","v":0},null,{"$f":"RANK(G33,$C33:$BF33)*G37","v":0},null,{"$f":"RANK(I33,$C33:$BF33)*I37","v":0},null,{"$f":"RANK(K33,$C33:$BF33)*K37","v":0},null,{"$f":"RANK(M33,$C33:$BF33)*M37","v":0},null,{"$f":"RANK(O33,$C33:$BF33)*O37","v":0},null,{"$f":"RANK(Q33,$C33:$BF33)*Q37","v":0},null,{"$f":"RANK(S33,$C33:$BF33)*S37","v":0},null,{"$f":"RANK(U33,$C33:$BF33)*U37","v":0},null,{"$f":"RANK(W33,$C33:$BF33)*W37","v":0},null,{"$f":"RANK(Y33,$C33:$BF33)*Y37","v":0},null,{"$f":"RANK(AA33,$C33:$BF33)*AA37","v":0},null,{"$f":"RANK(AC33,$C33:$BF33)*AC37","v":0},null,{"$f":"RANK(AE33,$C33:$BF33)*AE37","v":0},null,{"$f":"RANK(AG33,$C33:$BF33)*AG37","v":0},null,{"$f":"RANK(AI33,$C33:$BF33)*AI37","v":0}]
[null,null,{"$f":"SUM(C34:C36)","v":-100999999.98999999},null,{"$f":"SUM(E34:E36)","v":-100999999.98999999},null,{"$f":"SUM(G34:G36)","v":-100999999.98999999},null,{"$f":"SUM(I34:I36)","v":-100999999.98999999},null,{"$f":"SUM(K34:K36)","v":-100999999.98999999},null,{"$f":"SUM(M34:M36)","v":-100999999.98999999},null,{"$f":"SUM(O34:O36)","v":-100999999.98999999},null,{"$f":"SUM(Q34:Q36)","v":-100999999.98999999},null,{"$f":"SUM(S34:S36)","v":-100999999.98999999},null,{"$f":"SUM(U34:U36)","v":-100999999.98999999},null,{"$f":"SUM(W34:W36)","v":-100999999.98999999},null,{"$f":"SUM(Y34:Y36)","v":-100999999.98999999},null,{"$f":"SUM(AA34:AA36)","v":-100999999.98999999},null,{"$f":"SUM(AC34:AC36)","v":-100999999.98999999},null,{"$f":"SUM(AE34:AE36)","v":-100999999.98999999},null,{"$f":"SUM(AG34:AG36)","v":-100999999.98999999},null,{"$f":"SUM(AI34:AI36)","v":-100999999.98999999}]
[null,null,{"$f":"+D38","v":0},null,{"$f":"+F38","v":0},null,{"$f":"+H38","v":0},null,{"$f":"+J38","v":0},null,{"$f":"+L38","v":0},null,{"$f":"+N38","v":0},null,{"$f":"+P38","v":0},null,{"$f":"+R38","v":0},null,{"$f":"+T38","v":0},null,{"$f":"+V38","v":0},null,{"$f":"+X38","v":0},null,{"$f":"+Z38","v":0},null,{"$f":"+AB38","v":0},null,{"$f":"+AD38","v":0},null,{"$f":"+AF38","v":0},null,{"$f":"+AH38","v":0},null,{"$f":"+AJ38","v":0}]
[null,null,{"$f":"+D39*100","v":0.01},null,{"$f":"+F39*100","v":0.01},null,{"$f":"+H39*100","v":0.01},null,{"$f":"+J39*100","v":0.01},null,{"$f":"+L39*100","v":0.01},null,{"$f":"+N39*100","v":0.01},null,{"$f":"+P39*100","v":0.01},null,{"$f":"+R39*100","v":0.01},null,{"$f":"+T39*100","v":0.01},null,{"$f":"+V39*100","v":0.01},null,{"$f":"+X39*100","v":0.01},null,{"$f":"+Z39*100","v":0.01},null,{"$f":"+AB39*100","v":0.01},null,{"$f":"+AD39*100","v":0.01},null,{"$f":"+AF39*100","v":0.01},null,{"$f":"+AH39*100","v":0.01},null,{"$f":"+AJ39*100","v":0.01}]
[null,null,{"$f":"IF(C37=1,C38*C37*10000+C38,-1000000+C38)","v":-101000000},null,{"$f":"IF(E37=1,E38*E37*10000+E38,-1000000+E38)","v":-101000000},null,{"$f":"IF(G37=1,G38*G37*10000+G38,-1000000+G38)","v":-101000000},null,{"$f":"IF(I37=1,I38*I37*10000+I38,-1000000+I38)","v":-101000000},null,{"$f":"IF(K37=1,K38*K37*10000+K38,-1000000+K38)","v":-101000000},null,{"$f":"IF(M37=1,M38*M37*10000+M38,-1000000+M38)","v":-101000000},null,{"$f":"IF(O37=1,O38*O37*10000+O38,-1000000+O38)","v":-101000000},null,{"$f":"IF(Q37=1,Q38*Q37*10000+Q38,-1000000+Q38)","v":-101000000},null,{"$f":"IF(S37=1,S38*S37*10000+S38,-1000000+S38)","v":-101000000},null,{"$f":"IF(U37=1,U38*U37*10000+U38,-1000000+U38)","v":-101000000},null,{"$f":"IF(W37=1,W38*W37*10000+W38,-1000000+W38)","v":-101000000},null,{"$f":"IF(Y37=1,Y38*Y37*10000+Y38,-1000000+Y38)","v":-101000000},null,{"$f":"IF(AA37=1,AA38*AA37*10000+AA38,-1000000+AA38)","v":-101000000},null,{"$f":"IF(AC37=1,AC38*AC37*10000+AC38,-1000000+AC38)","v":-101000000},null,{"$f":"IF(AE37=1,AE38*AE37*10000+AE38,-1000000+AE38)","v":-101000000},null,{"$f":"IF(AG37=1,AG38*AG37*10000+AG38,-1000000+AG38)","v":-101000000},null,{"$f":"IF(AI37=1,AI38*AI37*10000+AI38,-1000000+AI38)","v":-101000000}]
["Classificats",{"$f":"SUM(C37:AI37)","v":0},{"$f":"IF(D38>=$A3/2,1,0)","v":0},null,{"$f":"IF(F38>=$A3/2,1,0)","v":0},null,{"$f":"IF(H38>=$A3/2,1,0)","v":0},null,{"$f":"IF(J38>=$A3/2,1,0)","v":0},null,{"$f":"IF(L38>=$A3/2,1,0)","v":0},null,{"$f":"IF(N38>=$A3/2,1,0)","v":0},null,{"$f":"IF(P38>=$A3/2,1,0)","v":0},null,{"$f":"IF(R38>=$A3/2,1,0)","v":0},null,{"$f":"IF(T38>=$A3/2,1,0)","v":0},null,{"$f":"IF(V38>=$A3/2,1,0)","v":0},null,{"$f":"IF(X38>=$A3/2,1,0)","v":0},null,{"$f":"IF(Z38>=$A3/2,1,0)","v":0},null,{"$f":"IF(AB38>=$A3/2,1,0)","v":0},null,{"$f":"IF(AD38>=$A3/2,1,0)","v":0},null,{"$f":"IF(AF38>=$A3/2,1,0)","v":0},null,{"$f":"IF(AH38>=$A3/2,1,0)","v":0},null,{"$f":"IF(AJ38>=$A3/2,1,0)","v":0}]
[null,null,{"$f":"IF(SUM(C43:C281)<-1000,-100000000,SUM(C43:C281))","v":-100000000},{"$f":"COUNT(D43:D281)","v":0},{"$f":"IF(SUM(E43:E281)<-1000,-100000000,SUM(E43:E281))","v":-100000000},{"$f":"COUNT(F43:F281)","v":0},{"$f":"IF(SUM(G43:G281)<-1000,-100000000,SUM(G43:G281))","v":-100000000},{"$f":"COUNT(H43:H281)","v":0},{"$f":"IF(SUM(I43:I281)<-1000,-100000000,SUM(I43:I281))","v":-100000000},{"$f":"COUNT(J43:J281)","v":0},{"$f":"IF(SUM(K43:K281)<-1000,-100000000,SUM(K43:K281))","v":-100000000},{"$f":"COUNT(L43:L281)","v":0},{"$f":"IF(SUM(M43:M281)<-1000,-100000000,SUM(M43:M281))","v":-100000000},{"$f":"COUNT(N43:N281)","v":0},{"$f":"IF(SUM(O43:O281)<-1000,-100000000,SUM(O43:O281))","v":-100000000},{"$f":"COUNT(P43:P281)","v":0},{"$f":"IF(SUM(Q43:Q281)<-1000,-100000000,SUM(Q43:Q281))","v":-100000000},{"$f":"COUNT(R43:R281)","v":0},{"$f":"IF(SUM(S43:S281)<-1000,-100000000,SUM(S43:S281))","v":-100000000},{"$f":"COUNT(T43:T281)","v":0},{"$f":"IF(SUM(U43:U281)<-1000,-100000000,SUM(U43:U281))","v":-100000000},{"$f":"COUNT(V43:V281)","v":0},{"$f":"IF(SUM(W43:W281)<-1000,-100000000,SUM(W43:W281))","v":-100000000},{"$f":"COUNT(X43:X281)","v":0},{"$f":"IF(SUM(Y43:Y281)<-1000,-100000000,SUM(Y43:Y281))","v":-100000000},{"$f":"COUNT(Z43:Z281)","v":0},{"$f":"IF(SUM(AA43:AA281)<-1000,-100000000,SUM(AA43:AA281))","v":-100000000},{"$f":"COUNT(AB43:AB281)","v":0},{"$f":"IF(SUM(AC43:AC281)<-1000,-100000000,SUM(AC43:AC281))","v":-100000000},{"$f":"COUNT(AD43:AD281)","v":0},{"$f":"IF(SUM(AE43:AE281)<-1000,-100000000,SUM(AE43:AE281))","v":-100000000},{"$f":"COUNT(AF43:AF281)","v":0},{"$f":"IF(SUM(AG43:AG281)<-1000,-100000000,SUM(AG43:AG281))","v":-100000000},{"$f":"COUNT(AH43:AH281)","v":0},{"$f":"IF(SUM(AI43:AI281)<-1000,-100000000,SUM(AI43:AI281))","v":-100000000},{"$f":"COUNT(AJ43:AJ281)","v":0}]
[null,null,null,{"$f":"IF(D38=0,0.0001,AVERAGE(D43:D178))","v":1E-4},null,{"$f":"IF(F38=0,0.0001,AVERAGE(F43:F178))","v":1E-4},null,{"$f":"IF(H38=0,0.0001,AVERAGE(H43:H178))","v":1E-4},null,{"$f":"IF(J38=0,0.0001,AVERAGE(J43:J178))","v":1E-4},null,{"$f":"IF(L38=0,0.0001,AVERAGE(L43:L178))","v":1E-4},null,{"$f":"IF(N38=0,0.0001,AVERAGE(N43:N178))","v":1E-4},null,{"$f":"IF(P38=0,0.0001,AVERAGE(P43:P178))","v":1E-4},null,{"$f":"IF(R38=0,0.0001,AVERAGE(R43:R178))","v":1E-4},null,{"$f":"IF(T38=0,0.0001,AVERAGE(T43:T178))","v":1E-4},null,{"$f":"IF(V38=0,0.0001,AVERAGE(V43:V178))","v":1E-4},null,{"$f":"IF(X38=0,0.0001,AVERAGE(X43:X178))","v":1E-4},null,{"$f":"IF(Z38=0,0.0001,AVERAGE(Z43:Z178))","v":1E-4},null,{"$f":"IF(AB38=0,0.0001,AVERAGE(AB43:AB178))","v":1E-4},null,{"$f":"IF(AD38=0,0.0001,AVERAGE(AD43:AD178))","v":1E-4},null,{"$f":"IF(AF38=0,0.0001,AVERAGE(AF43:AF178))","v":1E-4},null,{"$f":"IF(AH38=0,0.0001,AVERAGE(AH43:AH178))","v":1E-4},null,{"$f":"IF(AJ38=0,0.0001,AVERAGE(AJ43:AJ178))","v":1E-4}]
[null,null,null,null,null,null,null,null,null,null,null,null,null,null,null,null,null,null,null,null,null,null,null,null,null,null,null,null,null,null,null,null,null,null,null,null,{"$f":"MAX(AL43:AL102)","v":0}]
[null,"Nº partida ","Manel",null,"Pepe",null,"Jordi",null,"MªJosé",null,"Goretti",null,"Sergi",null,"Carles",null,"Mariajo",null,"Iglesias",null,"Martín",null,"Xavi",null,"Ester",null,"Joan Carles",null,"Grau",null,"Mercè",null,"Salvadó",null,"Pol",null,{"$f":"COUNT(AK43:AK196)","v":0},"A","B","C"]
[null,null,"Premi","Punts","Premi","Punts","Premi","Punts","Premi","Punts","Premi","Punts","Premi","Punts","Premi","Punts","Premi","Punts","Premi","Punts","Premi","Punts","Premi","Punts","Premi","Punts","Premi","Punts","Premi","Punts","Premi","Punts","Premi","Punts","Premi","Punts","Data","Timbes"]
[1,null,-10000,null,-10000,null,-10000,null,-10000,null,-10000,null,-10000,null,-10000,null,-10000,null,-10000,null,-10000,null,-10000,null,-10000,null,-10000,null,-10000,null,-10000,null,-10000,null,-10000,null,null,null,{"$f":"+C43+E43+G43+I43++K43++M43+O43+Q43+S43+U43+W43+Y43+AI43+AE43+AG43+AA43+AC43","v":-170000},{"$f":"COUNT(C43:AJ43)/2","v":8.5},{"$f":"+AM43/AN43","v":-20000}]
[{"$f":"+A43+1","v":2},null,null,null,null,null,null,null,null,null,null,null,null,null,null,null,null,null,null,null,null,null,null,null,null,null,null,null,null,null,null,null,null,null,null,null,null,null,{"$f":"+C44+E44+G44+I44++K44++M44+O44+Q44+S44+U44+W44+Y44+AI44+AE44+AG44+AA44+AC44","v":0},{"$f":"COUNT(C44:AJ44)/2","v":0},{"$f":"+AM44/AN44","v":{"$error":"#DIV/0!"}}]
[{"$f":"+A44+1","v":3},null,null,null,null,null,null,null,null,null,null,null,null,null,null,null,null,null,null,null,null,null,null,null,null,null,null,null,null,null,null,null,null,null,null,null,null,null,{"$f":"+C45+E45+G45+I45++K45++M45+O45+Q45+S45+U45+W45+Y45+AI45+AE45+AG45+AA45+AC45","v":0},{"$f":"COUNT(C45:AJ45)/2","v":0},{"$f":"+AM45/AN45","v":{"$error":"#DIV/0!"}}]
[4,null,null,null,null,null,null,null,null,null,null,null,null,null,null,null,null,null,null,null,null,null,null,null,null,null,null,null,null,null,null,null,null,null,null,null,null,null,{"$f":"+C46+E46+G46+I46++K46++M46+O46+Q46+S46+U46+W46+Y46+AI46+AE46+AG46+AA46+AC46","v":0},{"$f":"COUNT(C46:AJ46)/2","v":0},{"$f":"+AM46/AN46","v":{"$error":"#DIV/0!"}}]
[5,null,null,null,null,null,null,null,null,null,null,null,null,null,null,null,null,null,null,null,null,null,null,null,null,null,null,null,null,null,null,null,null,null,null,null,null,null,{"$f":"+C47+E47+G47+I47++K47++M47+O47+Q47+S47+U47+W47+Y47+AI47+AE47+AG47+AA47+AC47","v":0},{"$f":"COUNT(C47:AJ47)/2","v":0},{"$f":"+AM47/AN47","v":{"$error":"#DIV/0!"}}]
[6]
[7]
[8]
[9]
[10]
[11]
[12]
[13]
[14]
[15]
[16]
[17]
[18]
[19]
[20]
[21]
[22]
[23]
[24]
[25]
[26]
[27]
[28]
[29]
[{"$f":"+A71+1","v":30}]
[31]
[32]
[33]
[34]
[35]
[36]
[37]
[38]
[39]
[40]
[41]
[42]
[43]
[44]
[45]
[46]
[47]
[48]
[49]
[50]
[51]
[52]
[53]
[54]
[55]
[56]
[57]
[58]
[59]
[60]
[61]
[62]
[63]
[64]
[{"$f":"+A106+1","v":65}]
[66]
[67]
[68]
[69]
[70]
[71]
[72]
[73]
[74]
[75]
[76]
[77]
[78]
[79]
[80]
[81]
[82]
[83]
[84]
[85]
[86]
[87]
[88]
[89]
[90]
[91]
[92]
[93]
[94]
[95]
[96]
[97]
[98]
[99]
[100]
[101]
[102]
[103]
[104]
[105]
[106]
[107]
[108]
[109]
[110]
[111]
[112]
[113]
[114]
[115]
[116]
[117]
[118]
[119]
[120]
[121]
[122]
[123]
[124]
[125]
[126]
[127]
[128]
[{"$f":"+A170+1","v":129}]
[{"$f":"+A171+1","v":130}]
[{"$f":"+A172+1","v":131}]

{"sheet":"Buti3","index":22,"n_rows":122,"n_cols":49,"rows_kept":122,"cut":false,"hidden":false,"merged":[[38,2,38,4],[38,5,38,7],[38,8,38,10],[38,11,38,13],[38,14,38,16],[38,17,38,19],[38,20,38,22],[38,23,38,25],[38,41,38,43],[38,26,38,28],[38,29,38,31],[38,32,38,34],[38,35,38,37],[38,38,38,40]]}
["BUTI3"]
["Mes"]
[{"$f":"+GENERAL!B6","v":12},null,{"$f":"SUM(C5:C7)","v":-300000000}]
[null,null,"Premi","Punts","Partides","General"]
[1,"Mariajo",{"$f":"+X$36","v":-100000000},{"$f":"+X$37","v":0},{"$f":"+Y$36","v":0},{"$f":"+X$22","v":0},{"$f":"IF(E5<A$3/2,-10,1)*80+C5+D5/1000","v":-100000800}]
[2,"Goretti",{"$f":"+C$36","v":-100000000},{"$f":"+C$37","v":0},{"$f":"+D$36","v":0},{"$f":"+C$22","v":0},-100000800]
[3,"Grau",{"$f":"+AM$36","v":-100000000},{"$f":"+AM$37","v":0},{"$f":"+AN$36","v":0},{"$f":"+AM$22","v":0},-100000800]
[4,"Jordi",{"$f":"+I$36","v":-100000000},{"$f":"+I$37","v":0},{"$f":"+J$36","v":0},{"$f":"+I$22","v":0},-100000800]
[5,"Sergi",{"$f":"+R$36","v":-100000000},{"$f":"+R$37","v":0},{"$f":"+S$36","v":0},{"$f":"+R$22","v":0},-100000800]
[6,"Estela",{"$f":"+F$36","v":-100000000},{"$f":"+F$37","v":0},{"$f":"+G$36","v":0},{"$f":"+F$22","v":0},-100000800]
[7,"Mercè",{"$f":"+AJ$36","v":-100000000},{"$f":"+AJ$37","v":0},{"$f":"+AK$36","v":0},{"$f":"+AJ$22","v":0},-100000800]
[8,"Carles",{"$f":"+U$36","v":-100000000},{"$f":"+U$37","v":0},{"$f":"+V$36","v":0},{"$f":"+U$22","v":0},-100000800]
[9,"Xavi",{"$f":"+AG$36","v":-100000000},{"$f":"+AG$37","v":0},{"$f":"+AH$36","v":0},{"$f":"+AG$22","v":0},-100000800]
[10,"Iglesias",{"$f":"+AA$36","v":-100000000},{"$f":"+AA$37","v":0},{"$f":"+AB$36","v":0},{"$f":"+AA$22","v":0},-100000800]
[11,"Martín",{"$f":"+AD$36","v":-100000000},{"$f":"+AD$37","v":0},{"$f":"+AE$36","v":0},{"$f":"+AD$22","v":0},-100000800]
[12,"Marc",{"$f":"+O$36","v":-100000000},{"$f":"+O$37","v":0},{"$f":"+P$36","v":0},{"$f":"+O$22","v":0},-100000800]
[13,"MªJosé",{"$f":"+L$36","v":-100000000},{"$f":"+L$37","v":0},{"$f":"+M$36","v":0},{"$f":"+L$22","v":0},-100000800]
[14,"Salvadó",{"$f":"+AP$36","v":-100000000},{"$f":"+AP$37","v":0},{"$f":"+AQ$36","v":0},{"$f":"+AP$22","v":0},-100000800]
[]
[]
[]
[null,"General",{"$f":"+C23*C24","v":0},{"$f":"+D23*D24","v":0},null,0,0,null,{"$f":"+I23*I24","v":0},0,null,0,0,null,0,0,null,0,0,null,0,0,null,0,0,null,{"$f":"+AA23*AA24","v":0},0,null,0,0,null,0,0,null,{"$f":"+AJ23*AJ24","v":0},0,null,{"$f":"+AM23*AM24","v":0},{"$f":"+AN23*AN24","v":0},null,0,0]
[null,null,{"$f":"IF($B35>3,1,0)","v":0},{"$f":"IF($B35>3,1,0)","v":0},null,{"$f":"IF($B35>3,1,0)","v":0},{"$f":"IF($B35>3,1,0)","v":0},null,{"$f":"IF($B35>3,1,0)","v":0},{"$f":"IF($B35>3,1,0)","v":0},null,{"$f":"IF($B35>3,1,0)","v":0},{"$f":"IF($B35>3,1,0)","v":0},null,{"$f":"IF($B35>3,1,0)","v":0},{"$f":"IF($B35>3,1,0)","v":0},null,{"$f":"IF($B35>3,1,0)","v":0},{"$f":"IF($B35>3,1,0)","v":0},null,{"$f":"IF($B35>3,1,0)","v":0},{"$f":"IF($B35>3,1,0)","v":0},null,{"$f":"IF($B35>3,1,0)","v":0},{"$f":"IF($B35>3,1,0)","v":0},null,{"$f":"IF($B35>3,1,0)","v":0},{"$f":"IF($B35>3,1,0)","v":0},null,{"$f":"IF($B35>3,1,0)","v":0},{"$f":"IF($B35>3,1,0)","v":0},null,{"$f":"IF($B35>3,1,0)","v":0},{"$f":"IF($B35>3,1,0)","v":0},null,{"$f":"IF($B35>3,1,0)","v":0},{"$f":"IF($B35>3,1,0)","v":0},null,{"$f":"IF($B35>3,1,0)","v":0},{"$f":"IF($B35>3,1,0)","v":0},null,{"$f":"IF($B35>3,1,0)","v":0},{"$f":"IF($B35>3,1,0)","v":0}]
[null,null,{"$f":"MAX(C25:C29)","v":0},{"$f":"+D36","v":0},null,{"$f":"MAX(F25:F29)","v":0},{"$f":"+G36","v":0},null,{"$f":"MAX(I25:I29)","v":0},{"$f":"+J36","v":0},null,{"$f":"MAX(L25:L29)","v":0},{"$f":"+M36","v":0},null,{"$f":"MAX(O25:O29)","v":0},{"$f":"+P36","v":0},null,{"$f":"MAX(R25:R29)","v":0},{"$f":"+S36","v":0},null,{"$f":"MAX(U25:U29)","v":0},{"$f":"+V36","v":0},null,{"$f":"MAX(X25:X29)","v":0},{"$f":"+Y36","v":0},null,{"$f":"MAX(AA25:AA29)","v":0},{"$f":"+AB36","v":0},null,{"$f":"MAX(AD25:AD29)","v":0},{"$f":"+AE36","v":0},null,{"$f":"MAX(AG25:AG29)","v":0},{"$f":"+AH36","v":0},null,{"$f":"MAX(AJ25:AJ29)","v":0},{"$f":"+AK36","v":0},null,{"$f":"MAX(AM25:AM29)","v":0},{"$f":"+AN36","v":0},null,{"$f":"MAX(AP25:AP29)","v":0},{"$f":"+AQ36","v":0}]
[null,null,{"$f":"IF(C$30=5,5,0)","v":0},null,null,{"$f":"IF(F$30=5,5,0)","v":0},null,null,{"$f":"IF(I$30=5,5,0)","v":0},null,null,{"$f":"IF(L$30=5,5,0)","v":0},null,null,{"$f":"IF(O$30=5,5,0)","v":0},null,null,{"$f":"IF(R$30=5,5,0)","v":0},null,null,{"$f":"IF(U$30=5,5,0)","v":0},null,null,{"$f":"IF(X$30=5,5,0)","v":0},null,null,{"$f":"IF(AA$30=5,5,0)","v":0},null,null,{"$f":"IF(AD$30=5,5,0)","v":0},null,null,{"$f":"IF(AG$30=5,5,0)","v":0},null,null,{"$f":"IF(AJ$30=5,5,0)","v":0},null,null,{"$f":"IF(AM$30=5,5,0)","v":0},null,null,{"$f":"IF(AP$30=5,5,0)","v":0}]
[null,null,{"$f":"IF(C$30=4,10,0)","v":0},null,null,{"$f":"IF(F$30=4,10,0)","v":0},null,null,{"$f":"IF(I$30=4,10,0)","v":0},null,null,{"$f":"IF(L$30=4,10,0)","v":0},null,null,{"$f":"IF(O$30=4,10,0)","v":0},null,null,{"$f":"IF(R$30=4,10,0)","v":0},null,null,{"$f":"IF(U$30=4,10,0)","v":0},null,null,{"$f":"IF(X$30=4,10,0)","v":0},null,null,{"$f":"IF(AA$30=4,10,0)","v":0},null,null,{"$f":"IF(AD$30=4,10,0)","v":0},null,null,{"$f":"IF(AG$30=4,10,0)","v":0},null,null,{"$f":"IF(AJ$30=4,10,0)","v":0},null,null,{"$f":"IF(AM$30=4,10,0)","v":0},null,null,{"$f":"IF(AP$30=4,10,0)","v":0}]
[null,null,{"$f":"IF(C$30=3,20,0)","v":0},null,null,{"$f":"IF(F$30=3,20,0)","v":0},null,null,{"$f":"IF(I$30=3,20,0)","v":0},null,null,{"$f":"IF(L$30=3,20,0)","v":0},null,null,{"$f":"IF(O$30=3,20,0)","v":0},null,null,{"$f":"IF(R$30=3,20,0)","v":0},null,null,{"$f":"IF(U$30=3,20,0)","v":0},null,null,{"$f":"IF(X$30=3,20,0)","v":0},null,null,{"$f":"IF(AA$30=3,20,0)","v":0},null,null,{"$f":"IF(AD$30=3,20,0)","v":0},null,null,{"$f":"IF(AG$30=3,20,0)","v":0},null,null,{"$f":"IF(AJ$30=3,20,0)","v":0},null,null,{"$f":"IF(AM$30=3,20,0)","v":0},null,null,{"$f":"IF(AP$30=3,20,0)","v":0}]
[null,null,{"$f":"IF(C$30=2,40,0)","v":0},null,null,{"$f":"IF(F$30=2,40,0)","v":0},null,null,{"$f":"IF(I$30=2,40,0)","v":0},null,null,{"$f":"IF(L$30=2,40,0)","v":0},null,null,{"$f":"IF(O$30=2,40,0)","v":0},null,null,{"$f":"IF(R$30=2,40,0)","v":0},null,null,{"$f":"IF(U$30=2,40,0)","v":0},null,null,{"$f":"IF(X$30=2,40,0)","v":0},null,null,{"$f":"IF(AA$30=2,40,0)","v":0},null,null,{"$f":"IF(AD$30=2,40,0)","v":0},null,null,{"$f":"IF(AG$30=2,40,0)","v":0},null,null,{"$f":"IF(AJ$30=2,40,0)","v":0},null,null,{"$f":"IF(AM$30=2,40,0)","v":0},null,null,{"$f":"IF(AP$30=2,40,0)","v":0}]
[null,null,{"$f":"IF(C$30=1,80,0)","v":0},null,null,{"$f":"IF(F$30=1,80,0)","v":0},null,null,{"$f":"IF(I$30=1,80,0)","v":0},null,null,{"$f":"IF(L$30=1,80,0)","v":0},null,null,{"$f":"IF(O$30=1,80,0)","v":0},null,null,{"$f":"IF(R$30=1,80,0)","v":0},null,null,{"$f":"IF(U$30=1,80,0)","v":0},null,null,{"$f":"IF(X$30=1,80,0)","v":0},null,null,{"$f":"IF(AA$30=1,80,0)","v":0},null,null,{"$f":"IF(AD$30=1,80,0)","v":0},null,null,{"$f":"IF(AG$30=1,80,0)","v":0},null,null,{"$f":"IF(AJ$30=1,80,0)","v":0},null,null,{"$f":"IF(AM$30=1,80,0)","v":0},null,null,{"$f":"IF(AP$30=1,80,0)","v":0}]
[null,null,{"$f":"RANK(C31,$C31:$AQ31)*C35","v":0},null,null,{"$f":"RANK(F31,$C31:$AQ31)*F35","v":0},null,null,{"$f":"RANK(I31,$C31:$AQ31)*I35","v":0},null,null,{"$f":"RANK(L31,$C31:$AQ31)*L35","v":0},null,null,{"$f":"RANK(O31,$C31:$AQ31)*O35","v":0},null,null,{"$f":"RANK(R31,$C31:$AQ31)*R35","v":0},null,null,{"$f":"RANK(U31,$C31:$AQ31)*U35","v":0},null,null,{"$f":"RANK(X31,$C31:$AQ31)*X35","v":0},null,null,{"$f":"RANK(AA31,$C31:$AQ31)*AA35","v":0},null,null,{"$f":"RANK(AD31,$C31:$AQ31)*AD35","v":0},null,null,{"$f":"RANK(AG31,$C31:$AQ31)*AG35","v":0},null,null,{"$f":"RANK(AJ31,$C31:$AQ31)*AJ35","v":0},null,null,{"$f":"RANK(AM31,$C31:$AQ31)*AM35","v":0},null,null,{"$f":"RANK(AP31,$C31:$AQ31)*AP35","v":0}]
[null,null,{"$f":"SUM(C32:C34)","v":-101000000},null,null,{"$f":"SUM(F32:F34)","v":-101000000},null,null,{"$f":"SUM(I32:I34)","v":-101000000},null,null,{"$f":"SUM(L32:L34)","v":-101000000},null,null,{"$f":"SUM(O32:O34)","v":-101000000},null,null,{"$f":"SUM(R32:R34)","v":-101000000},null,null,{"$f":"SUM(U32:U34)","v":-101000000},null,null,{"$f":"SUM(X32:X34)","v":-101000000},null,null,{"$f":"SUM(AA32:AA34)","v":-101000000},null,null,{"$f":"SUM(AD32:AD34)","v":-101000000},null,null,{"$f":"SUM(AG32:AG34)","v":-101000000},null,null,{"$f":"SUM(AJ32:AJ34)","v":-101000000},null,null,{"$f":"SUM(AM32:AM34)","v":-101000000},null,null,{"$f":"SUM(AP32:AP34)","v":-101000000}]
[null,null,{"$f":"+D36","v":0},null,null,{"$f":"+G36","v":0},null,null,{"$f":"+J36","v":0},null,null,{"$f":"+M36","v":0},null,null,{"$f":"+P36","v":0},null,null,{"$f":"+S36","v":0},null,null,{"$f":"+V36","v":0},null,null,{"$f":"+Y36","v":0},null,null,{"$f":"+AB36","v":0},null,null,{"$f":"+AE36","v":0},null,null,{"$f":"+AH36","v":0},null,null,{"$f":"+AK36","v":0},null,null,{"$f":"+AN36","v":0},null,null,{"$f":"+AQ36","v":0}]
[null,null,{"$f":"+C37*2","v":0},null,null,{"$f":"+F37*2","v":0},null,null,{"$f":"+I37*2","v":0},null,null,{"$f":"+L37*2","v":0},null,null,{"$f":"+O37*2","v":0},null,null,{"$f":"+R37*2","v":0},null,null,{"$f":"+U37*2","v":0},null,null,{"$f":"+X37*2","v":0},null,null,{"$f":"+AA37*2","v":0},null,null,{"$f":"+AD37*2","v":0},null,null,{"$f":"+AG37*2","v":0},null,null,{"$f":"+AJ37*2","v":0},null,null,{"$f":"+AM37*2","v":0},null,null,{"$f":"+AP37*2","v":0}]
[null,null,{"$f":"IF(C35=1,C36*C35*1000+C36,-1000000+C36)","v":-101000000},null,null,{"$f":"IF(F35=1,F36*F35*1000+F36,-1000000+F36)","v":-101000000},null,null,{"$f":"IF(I35=1,I36*I35*1000+I36,-1000000+I36)","v":-101000000},null,null,{"$f":"IF(L35=1,L36*L35*1000+L36,-1000000+L36)","v":-101000000},null,null,{"$f":"IF(O35=1,O36*O35*1000+O36,-1000000+O36)","v":-101000000},null,null,{"$f":"IF(R35=1,R36*R35*1000+R36,-1000000+R36)","v":-101000000},null,null,{"$f":"IF(U35=1,U36*U35*1000+U36,-1000000+U36)","v":-101000000},null,null,{"$f":"IF(X35=1,X36*X35*1000+X36,-1000000+X36)","v":-101000000},null,null,{"$f":"IF(AA35=1,AA36*AA35*1000+AA36,-1000000+AA36)","v":-101000000},null,null,{"$f":"IF(AD35=1,AD36*AD35*1000+AD36,-1000000+AD36)","v":-101000000},null,null,{"$f":"IF(AG35=1,AG36*AG35*1000+AG36,-1000000+AG36)","v":-101000000},null,null,{"$f":"IF(AJ35=1,AJ36*AJ35*1000+AJ36,-1000000+AJ36)","v":-101000000},null,null,{"$f":"IF(AM35=1,AM36*AM35*1000+AM36,-1000000+AM36)","v":-101000000},null,null,{"$f":"IF(AP35=1,AP36*AP35*1000+AP36,-1000000+AP36)","v":-101000000}]
["Classificats",{"$f":"SUM(C35:AP35)","v":0},{"$f":"IF(D36>=$A3/2,1,0)","v":0},null,null,{"$f":"IF(G36>=$A3/2,1,0)","v":0},null,null,{"$f":"IF(J36>=$A3/2,1,0)","v":0},null,null,{"$f":"IF(M36>=$A3/2,1,0)","v":0},null,null,{"$f":"IF(P36>=$A3/2,1,0)","v":0},null,null,{"$f":"IF(S36>=$A3/2,1,0)","v":0},null,null,{"$f":"IF(V36>=$A3/2,1,0)","v":0},null,null,{"$f":"IF(Y36>=$A3/2,1,0)","v":0},null,null,{"$f":"IF(AB36>=$A3/2,1,0)","v":0},null,null,{"$f":"IF(AE36>=$A3/2,1,0)","v":0},null,null,{"$f":"IF(AH36>=$A3/2,1,0)","v":0},null,null,{"$f":"IF(AK36>=$A3/2,1,0)","v":0},null,null,{"$f":"IF(AN36>=$A3/2,1,0)","v":0},null,null,{"$f":"IF(AQ36>=$A3/2,1,0)","v":0}]
[null,null,{"$f":"IF(SUM(C41:C207)<-1000,-100000000,SUM(C41:C207))","v":-100000000},{"$f":"COUNT(D41:D207)","v":0},null,{"$f":"IF(SUM(F41:F207)<-1000,-100000000,SUM(F41:F207))","v":-100000000},{"$f":"COUNT(G41:G207)","v":0},null,{"$f":"IF(SUM(I41:I207)<-1000,-100000000,SUM(I41:I207))","v":-100000000},{"$f":"COUNT(J41:J207)","v":0},null,{"$f":"IF(SUM(L41:L207)<-1000,-100000000,SUM(L41:L207))","v":-100000000},{"$f":"COUNT(M41:M207)","v":0},null,{"$f":"IF(SUM(O41:O207)<-1000,-100000000,SUM(O41:O207))","v":-100000000},{"$f":"COUNT(P41:P207)","v":0},null,{"$f":"IF(SUM(R41:R207)<-1000,-100000000,SUM(R41:R207))","v":-100000000},{"$f":"COUNT(S41:S207)","v":0},null,{"$f":"IF(SUM(U41:U207)<-1000,-100000000,SUM(U41:U207))","v":-100000000},{"$f":"COUNT(V41:V207)","v":0},null,{"$f":"IF(SUM(X41:X207)<-1000,-100000000,SUM(X41:X207))","v":-100000000},{"$f":"COUNT(Y41:Y207)","v":0},null,{"$f":"IF(SUM(AA41:AA207)<-1000,-100000000,SUM(AA41:AA207))","v":-100000000},{"$f":"COUNT(AB41:AB207)","v":0},null,{"$f":"IF(SUM(AD41:AD207)<-1000,-100000000,SUM(AD41:AD207))","v":-100000000},{"$f":"COUNT(AE41:AE207)","v":0},null,{"$f":"IF(SUM(AG41:AG207)<-1000,-100000000,SUM(AG41:AG207))","v":-100000000},{"$f":"COUNT(AH41:AH207)","v":0},null,{"$f":"IF(SUM(AJ41:AJ207)<-1000,-100000000,SUM(AJ41:AJ207))","v":-100000000},{"$f":"COUNT(AK41:AK207)","v":0},null,{"$f":"IF(SUM(AM41:AM207)<-1000,-100000000,SUM(AM41:AM207))","v":-100000000},{"$f":"COUNT(AN41:AN207)","v":0},null,{"$f":"IF(SUM(AP41:AP207)<-1000,-100000000,SUM(AP41:AP207))","v":-100000000},{"$f":"COUNT(AQ41:AQ207)","v":0},null,null,"A"]
[null,null,{"$f":"+D37-E37","v":0},{"$f":"SUM(D41:D122)","v":0},{"$f":"SUM(E41:E122)","v":0},{"$f":"+G37-H37","v":0},{"$f":"SUM(G41:G122)","v":0},{"$f":"SUM(H41:H122)","v":0},{"$f":"+J37-K37","v":0},{"$f":"SUM(J41:J122)","v":0},{"$f":"SUM(K41:K122)","v":0},{"$f":"+M37-N37","v":0},{"$f":"SUM(M41:M122)","v":0},{"$f":"SUM(N41:N122)","v":0},{"$f":"+P37-Q37","v":0},{"$f":"SUM(P41:P122)","v":0},{"$f":"SUM(Q41:Q122)","v":0},{"$f":"+S37-T37","v":0},{"$f":"SUM(S41:S122)","v":0},{"$f":"SUM(T41:T122)","v":0},{"$f":"+V37-W37","v":0},{"$f":"SUM(V41:V122)","v":0},{"$f":"SUM(W41:W122)","v":0},{"$f":"+Y37-Z37","v":0},{"$f":"SUM(Y41:Y122)","v":0},{"$f":"SUM(Z41:Z122)","v":0},{"$f":"+AB37-AC37","v":0},{"$f":"SUM(AB41:AB122)","v":0},{"$f":"SUM(AC41:AC122)","v":0},{"$f":"+AE37-AF37","v":0},{"$f":"SUM(AE41:AE122)","v":0},{"$f":"SUM(AF41:AF122)","v":0},{"$f":"+AH37-AI37","v":0},{"$f":"SUM(AH41:AH122)","v":0},{"$f":"SUM(AI41:AI122)","v":0},{"$f":"+AK37-AL37","v":0},{"$f":"SUM(AK41:AK122)","v":0},{"$f":"SUM(AL41:AL122)","v":0},{"$f":"+AN37-AO37","v":0},{"$f":"SUM(AN41:AN122)","v":0},{"$f":"SUM(AO41:AO122)","v":0},{"$f":"+AQ37-AR37","v":0},{"$f":"SUM(AQ41:AQ122)","v":0},{"$f":"SUM(AR41:AR122)","v":0},null,"B"]
[null,null,null,null,null,null,null,null,null,null,null,null,null,null,null,null,null,null,null,null,null,null,null,null,null,null,null,null,null,null,null,null,null,null,null,null,null,null,null,null,null,null,null,null,{"$f":"MAX(AT41:AT100)","v":0}]
[null,"Nº partida ","Goretti",null,null,"Otins",null,null,"Jordi",null,null,"MªJosé",null,null,"Marc",null,null,"Sergi",null,null,"Carles",null,null,"Mariajo",null,null,"Iglesias",null,null,"Martín",null,null,"Xavi",null,null,"Mercè",null,null,"Grau",null,null,"Salvadó",null,null,{"$f":"COUNT(AS41:AS122)","v":0},"A","B","C"]
[null,"5 copes","Premi","Punts",null,"Premi","Punts",null,"Premi","Punts",null,"Premi","Punts",null,"Premi","Punts",null,"Premi","Punts",null,"Premi","Punts",null,"Premi","Punts",null,"Premi","Punts",null,"Premi","Punts",null,"Premi","Punts",null,"Premi","Punts",null,"Premi","Punts",null,"Premi","Punts",null,"Data","Timba"]
[1,null,-10000,null,null,-10000,null,null,-10000,null,null,-10000,null,null,-10000,null,null,-10000,null,null,-10000,null,null,-10000,null,null,-10000,null,null,-10000,null,null,-10000,null,null,-10000,null,null,-10000,null,null,-10000,null,null,null,null,{"$f":"+AP41+AJ41+AG41+AD41+AA41+X41+U41+R41+O41+L41+I41+F41+C41+AM41","v":-140000},{"$f":"COUNT(C41:AR41)/2","v":7},{"$f":"+AQ41+AK41+AH41+AE41+AB41+Y41+V41+S41+P41+M41+J41+G41+D41+AN41","v":0}]
[{"$f":"+A41+1","v":2},null,null,null,null,null,null,null,null,null,null,null,null,null,null,null,null,null,null,null,null,null,null,null,null,null,null,null,null,null,null,null,null,null,null,null,null,null,null,null,null,null,null,null,null,null,0,0,0]
[3,null,null,null,null,null,null,null,null,null,null,null,null,null,null,null,null,null,null,null,null,null,null,null,null,null,null,null,null,null,null,null,null,null,null,null,null,null,null,null,null,null,null,null,null,null,0,0,0]
[4,null,null,null,null,null,null,null,null,null,null,null,null,null,null,null,null,null,null,null,null,null,null,null,null,null,null,null,null,null,null,null,null,null,null,null,null,null,null,null,null,null,null,null,null,null,0,0,0]
[5,null,null,null,null,null,null,null,null,null,null,null,null,null,null,null,null,null,null,null,null,null,null,null,null,null,null,null,null,null,null,null,null,null,null,null,null,null,null,null,null,null,null,null,null,null,0,0,0]
[6,null,null,null,null,null,null,null,null,null,null,null,null,null,null,null,null,null,null,null,null,null,null,null,null,null,null,null,null,null,null,null,null,null,null,null,null,null,null,null,null,null,null,null,null,null,0,0,0]
[7]
[8]
[9]
[10]
[11]
[12]
[13]
[14]
[15]
[16]
[17]
[18]
[19]
[20]
[21]
[22]
[23]
[24]
[25]
[26]
[27]
[28]
[29]
[30]
[31]
[32]
[33]
[{"$f":"+A73+1","v":34}]
[35]
[36]
[37]
[38]
[39]
[40]
[41]
[42]
[43]
[44]
[45]
[46]
[47]
[48]
[49]
[50]
[51]
[52]
[53]
[54]
[55]
[56]
[57]
[58]
[59]
[60]
[61]
[62]
[63]
[64]
[65]
[{"$f":"+A105+1","v":66}]
[67]
[68]
[69]
[70]
[71]
[72]
[{"$f":"+A112+1","v":73}]
[74]
[75]
[76]
[77]
[78]
[79]
[80]
[81]
[82]

{"sheet":"Truc","index":23,"n_rows":68,"n_cols":55,"rows_kept":68,"cut":false,"hidden":false,"merged":[[39,47,39,49],[39,26,39,28],[39,29,39,31],[39,32,39,34],[39,35,39,37],[39,38,39,40],[39,41,39,43],[39,44,39,46],[39,14,39,16],[39,17,39,19],[39,20,39,22],[39,23,39,25],[39,2,39,4],[39,5,39,7],[39,8,39,10],[39,11,39,13]]}
["TRUC"]
["Mes"]
[{"$f":"+GENERAL!B6","v":12},null,{"$f":"SUM(C5:C10)","v":-600000000}]
[null,null,"Diferencia","Punts","Partides","General"]
[1,"Carles",{"$f":"+U$37","v":-100000000},{"$f":"+U$38","v":1},{"$f":"+V$37","v":0},{"$f":"+U$23-(80-140/3)","v":-33.333333333333336},{"$f":"IF(E5<A$3/2,-1,1)*80+C5+D5/1000","v":-100000079.999}]
[2,"Mariajo",{"$f":"+X$37","v":-100000000},{"$f":"+X$38","v":1},{"$f":"+Y$37","v":0},{"$f":"+X$23-(80-140/3)","v":-33.333333333333336},-100000079.999]
[2,"Manolo",{"$f":"+F$37","v":-100000000},{"$f":"+F$38","v":1},{"$f":"+G$37","v":0},{"$f":"+F$23-(80-140/3)","v":-33.333333333333336},-100000079.999]
[4,"Jordi",{"$f":"+I$37","v":-100000000},{"$f":"+I$38","v":1},{"$f":"+J$37","v":0},{"$f":"+I$23-5","v":-5},-100000079.999]
[4,"Mercè",{"$f":"+C$37","v":-100000000},{"$f":"+C$38","v":1},{"$f":"+D$37","v":0},{"$f":"+C$23-5","v":-5},-100000079.999]
[6,"Sergi",{"$f":"+R$37","v":-100000000},{"$f":"+R$38","v":1},{"$f":"+S$37","v":0},{"$f":"+R$23-5","v":-5},-100000079.999]
[7,"Jimmy",{"$f":"+AV$37","v":-100000000},{"$f":"+AV$38","v":1},{"$f":"+AW$37","v":0},{"$f":"+AV$23","v":0},-100000079.999]
[8,"Iglesias",{"$f":"+AA$37","v":-100000000},{"$f":"+AA$38","v":1},{"$f":"+AB$37","v":0},{"$f":"+AA$23","v":0},-100000079.999]
[9,"Martín",{"$f":"+AD$37","v":-100000000},{"$f":"+AD$38","v":1},{"$f":"+AE$37","v":0},{"$f":"+AD$23","v":0},-100000079.999]
[10,"Xavi",{"$f":"+AG$37","v":-100000000},{"$f":"+AG$38","v":1},{"$f":"+AH$37","v":0},{"$f":"+AG$23","v":0},-100000079.999]
[11,"MªJosé",{"$f":"+L$37","v":-100000000},{"$f":"+L$38","v":1},{"$f":"+M$37","v":0},{"$f":"+L$23","v":0},-100000079.999]
[12,"Goretti",{"$f":"+AP$37","v":-100000000},{"$f":"+AP$38","v":1},{"$f":"+AQ$37","v":0},{"$f":"+AP$23","v":0},-100000079.999]
[13,"Ester",{"$f":"+O$37","v":-100000000},{"$f":"+O$38","v":1},{"$f":"+P$37","v":0},{"$f":"+O$23","v":0},-100000079.999]
[14,"Marga",{"$f":"+AS$37","v":-100000000},{"$f":"+AS$38","v":1},{"$f":"+AT$37","v":0},{"$f":"+AS$23","v":0},-100000079.999]
[15,"Jorge",{"$f":"+AM$37","v":-100000000},{"$f":"+AM$38","v":1},{"$f":"+AN$37","v":0},{"$f":"+AM$23","v":0},-100000079.999]
[16,"Allan",{"$f":"+AJ$37","v":-100000000},{"$f":"+AJ$38","v":1},{"$f":"+AK$37","v":0},{"$f":"+AJ$23","v":0},-100000079.999]
[]
[]
[null,"General",{"$f":"+C24*C25","v":0},{"$f":"+D24*D25","v":0},null,{"$f":"+F24*F25","v":0},{"$f":"+G24*G25","v":0},null,{"$f":"+I24*I25","v":0},{"$f":"+J24*J25","v":0},null,{"$f":"+L24*L25","v":0},{"$f":"+M24*M25","v":0},null,{"$f":"+O24*O25","v":0},{"$f":"+P24*P25","v":0},null,{"$f":"+R24*R25","v":0},{"$f":"+S24*S25","v":0},null,{"$f":"+U24*U25","v":0},{"$f":"+V24*V25","v":0},null,{"$f":"+X24*X25","v":0},{"$f":"+Y24*Y25","v":0},null,{"$f":"+AA24*AA25","v":0},{"$f":"+AB24*AB25","v":0},null,{"$f":"+AD24*AD25","v":0},{"$f":"+AE24*AE25","v":0},null,{"$f":"+AG24*AG25","v":0},{"$f":"+AH24*AH25","v":0},null,{"$f":"+AJ24*AJ25","v":0},{"$f":"+AK24*AK25","v":0},null,{"$f":"+AM24*AM25","v":0},{"$f":"+AN24*AN25","v":0},null,{"$f":"+AP24*AP25","v":0},{"$f":"+AQ24*AQ25","v":0},null,{"$f":"+AS24*AS25","v":0},{"$f":"+AT24*AT25","v":0},null,{"$f":"+AV24*AV25","v":0},{"$f":"+AW24*AW25","v":0}]
[null,null,{"$f":"IF($B36>3,1,0)","v":0},{"$f":"IF($B36>3,1,0)","v":0},null,{"$f":"IF($B36>3,1,0)","v":0},{"$f":"IF($B36>3,1,0)","v":0},null,{"$f":"IF($B36>3,1,0)","v":0},{"$f":"IF($B36>3,1,0)","v":0},null,{"$f":"IF($B36>3,1,0)","v":0},{"$f":"IF($B36>3,1,0)","v":0},null,{"$f":"IF($B36>3,1,0)","v":0},{"$f":"IF($B36>3,1,0)","v":0},null,{"$f":"IF($B36>3,1,0)","v":0},{"$f":"IF($B36>3,1,0)","v":0},null,{"$f":"IF($B36>3,1,0)","v":0},{"$f":"IF($B36>3,1,0)","v":0},null,{"$f":"IF($B36>3,1,0)","v":0},{"$f":"IF($B36>3,1,0)","v":0},null,{"$f":"IF($B36>3,1,0)","v":0},{"$f":"IF($B36>3,1,0)","v":0},null,{"$f":"IF($B36>3,1,0)","v":0},{"$f":"IF($B36>3,1,0)","v":0},null,{"$f":"IF($B36>3,1,0)","v":0},{"$f":"IF($B36>3,1,0)","v":0},null,{"$f":"IF($B36>3,1,0)","v":0},{"$f":"IF($B36>3,1,0)","v":0},null,{"$f":"IF($B36>3,1,0)","v":0},{"$f":"IF($B36>3,1,0)","v":0},null,{"$f":"IF($B36>3,1,0)","v":0},{"$f":"IF($B36>3,1,0)","v":0},null,{"$f":"IF($B36>3,1,0)","v":0},{"$f":"IF($B36>3,1,0)","v":0},null,{"$f":"IF($B36>3,1,0)","v":0},{"$f":"IF($B36>3,1,0)","v":0}]
[null,null,{"$f":"MAX(C26:C30)","v":0},{"$f":"+D37","v":0},null,{"$f":"MAX(F26:F30)","v":0},{"$f":"+G37","v":0},null,{"$f":"MAX(I26:I30)","v":0},{"$f":"+J37","v":0},null,{"$f":"MAX(L26:L30)","v":0},{"$f":"+M37","v":0},null,{"$f":"MAX(O26:O30)","v":0},{"$f":"+P37","v":0},null,{"$f":"MAX(R26:R30)","v":0},{"$f":"+S37","v":0},null,{"$f":"MAX(U26:U30)","v":0},{"$f":"+V37","v":0},null,{"$f":"MAX(X26:X30)","v":0},{"$f":"+Y37","v":0},null,{"$f":"MAX(AA26:AA30)","v":0},{"$f":"+AB37","v":0},null,{"$f":"MAX(AD26:AD30)","v":0},{"$f":"+AE37","v":0},null,{"$f":"MAX(AG26:AG30)","v":0},{"$f":"+AH37","v":0},null,{"$f":"MAX(AJ26:AJ30)","v":0},{"$f":"+AK37","v":0},null,{"$f":"MAX(AM26:AM30)","v":0},{"$f":"+AN37","v":0},null,{"$f":"MAX(AP26:AP30)","v":0},{"$f":"+AQ37","v":0},null,{"$f":"MAX(AS26:AS30)","v":0},{"$f":"+AT37","v":0},null,{"$f":"MAX(AV26:AV30)","v":0},{"$f":"+AW37","v":0}]
[null,null,{"$f":"IF(C$31=5,5,0)","v":0},null,null,{"$f":"IF(F$31=5,5,0)","v":0},null,null,{"$f":"IF(I$31=5,5,0)","v":0},null,null,{"$f":"IF(L$31=5,5,0)","v":0},null,null,{"$f":"IF(O$31=5,5,0)","v":0},null,null,{"$f":"IF(R$31=5,5,0)","v":0},null,null,{"$f":"IF(U$31=5,5,0)","v":0},null,null,{"$f":"IF(X$31=5,5,0)","v":0},null,null,{"$f":"IF(AA$31=5,5,0)","v":0},null,null,{"$f":"IF(AD$31=5,5,0)","v":0},null,null,{"$f":"IF(AG$31=5,5,0)","v":0},null,null,{"$f":"IF(AJ$31=5,5,0)","v":0},null,null,{"$f":"IF(AM$31=5,5,0)","v":0},null,null,{"$f":"IF(AP$31=5,5,0)","v":0},null,null,{"$f":"IF(AS$31=5,5,0)","v":0},null,null,{"$f":"IF(AV$31=5,5,0)","v":0}]
[null,null,{"$f":"IF(C$31=4,10,0)","v":0},null,null,{"$f":"IF(F$31=4,10,0)","v":0},null,null,{"$f":"IF(I$31=4,10,0)","v":0},null,null,{"$f":"IF(L$31=4,10,0)","v":0},null,null,{"$f":"IF(O$31=4,10,0)","v":0},null,null,{"$f":"IF(R$31=4,10,0)","v":0},null,null,{"$f":"IF(U$31=4,10,0)","v":0},null,null,{"$f":"IF(X$31=4,10,0)","v":0},null,null,{"$f":"IF(AA$31=4,10,0)","v":0},null,null,{"$f":"IF(AD$31=4,10,0)","v":0},null,null,{"$f":"IF(AG$31=4,10,0)","v":0},null,null,{"$f":"IF(AJ$31=4,10,0)","v":0},null,null,{"$f":"IF(AM$31=4,10,0)","v":0},null,null,{"$f":"IF(AP$31=4,10,0)","v":0},null,null,{"$f":"IF(AS$31=4,10,0)","v":0},null,null,{"$f":"IF(AV$31=4,10,0)","v":0}]
[null,null,{"$f":"IF(C$31=3,20,0)","v":0},null,null,{"$f":"IF(F$31=3,20,0)","v":0},null,null,{"$f":"IF(I$31=3,20,0)","v":0},null,null,{"$f":"IF(L$31=3,20,0)","v":0},null,null,{"$f":"IF(O$31=3,20,0)","v":0},null,null,{"$f":"IF(R$31=3,20,0)","v":0},null,null,{"$f":"IF(U$31=3,20,0)","v":0},null,null,{"$f":"IF(X$31=3,20,0)","v":0},null,null,{"$f":"IF(AA$31=3,20,0)","v":0},null,null,{"$f":"IF(AD$31=3,20,0)","v":0},null,null,{"$f":"IF(AG$31=3,20,0)","v":0},null,null,{"$f":"IF(AJ$31=3,20,0)","v":0},null,null,{"$f":"IF(AM$31=3,20,0)","v":0},null,null,{"$f":"IF(AP$31=3,20,0)","v":0},null,null,{"$f":"IF(AS$31=3,20,0)","v":0},null,null,{"$f":"IF(AV$31=3,20,0)","v":0}]
[null,null,{"$f":"IF(C$31=2,40,0)","v":0},null,null,{"$f":"IF(F$31=2,40,0)","v":0},null,null,{"$f":"IF(I$31=2,40,0)","v":0},null,null,{"$f":"IF(L$31=2,40,0)","v":0},null,null,{"$f":"IF(O$31=2,40,0)","v":0},null,null,{"$f":"IF(R$31=2,40,0)","v":0},null,null,{"$f":"IF(U$31=2,40,0)","v":0},null,null,{"$f":"IF(X$31=2,40,0)","v":0},null,null,{"$f":"IF(AA$31=2,40,0)","v":0},null,null,{"$f":"IF(AD$31=2,40,0)","v":0},null,null,{"$f":"IF(AG$31=2,40,0)","v":0},null,null,{"$f":"IF(AJ$31=2,40,0)","v":0},null,null,{"$f":"IF(AM$31=2,40,0)","v":0},null,null,{"$f":"IF(AP$31=2,40,0)","v":0},null,null,{"$f":"IF(AS$31=2,40,0)","v":0},null,null,{"$f":"IF(AV$31=2,40,0)","v":0}]
[null,null,{"$f":"IF(C$31=1,80,0)","v":0},null,null,{"$f":"IF(F$31=1,80,0)","v":0},null,null,{"$f":"IF(I$31=1,80,0)","v":0},null,null,{"$f":"IF(L$31=1,80,0)","v":0},null,null,{"$f":"IF(O$31=1,80,0)","v":0},null,null,{"$f":"IF(R$31=1,80,0)","v":0},null,null,{"$f":"IF(U$31=1,80,0)","v":0},null,null,{"$f":"IF(X$31=1,80,0)","v":0},null,null,{"$f":"IF(AA$31=1,80,0)","v":0},null,null,{"$f":"IF(AD$31=1,80,0)","v":0},null,null,{"$f":"IF(AG$31=1,80,0)","v":0},null,null,{"$f":"IF(AJ$31=1,80,0)","v":0},null,null,{"$f":"IF(AM$31=1,80,0)","v":0},null,null,{"$f":"IF(AP$31=1,80,0)","v":0},null,null,{"$f":"IF(AS$31=1,80,0)","v":0},null,null,{"$f":"IF(AV$31=1,80,0)","v":0}]
[null,null,{"$f":"RANK(C32,$C32:$AW32)*C36","v":0},null,null,{"$f":"RANK(F32,$C32:$AW32)*F36","v":0},null,null,{"$f":"RANK(I32,$C32:$AW32)*I36","v":0},null,null,{"$f":"RANK(L32,$C32:$AW32)*L36","v":0},null,null,{"$f":"RANK(O32,$C32:$AW32)*O36","v":0},null,null,{"$f":"RANK(R32,$C32:$AW32)*R36","v":0},null,null,{"$f":"RANK(U32,$C32:$AW32)*U36","v":0},null,null,{"$f":"RANK(X32,$C32:$AW32)*X36","v":0},null,null,{"$f":"RANK(AA32,$C32:$AW32)*AA36","v":0},null,null,{"$f":"RANK(AD32,$C32:$AW32)*AD36","v":0},null,null,{"$f":"RANK(AG32,$C32:$AW32)*AG36","v":0},null,null,{"$f":"RANK(AJ32,$C32:$AW32)*AJ36","v":0},null,null,{"$f":"RANK(AM32,$C32:$AW32)*AM36","v":0},null,null,{"$f":"RANK(AP32,$C32:$AW32)*AP36","v":0},null,null,{"$f":"RANK(AS32,$C32:$AW32)*AS36","v":0},null,null,{"$f":"RANK(AV32,$C32:$AW32)*AV36","v":0}]
[null,null,{"$f":"SUM(C33:C35)","v":-999980},null,null,{"$f":"SUM(F33:F35)","v":-999980},null,null,{"$f":"SUM(I33:I35)","v":-999980},null,null,{"$f":"SUM(L33:L35)","v":-999980},null,null,{"$f":"SUM(O33:O35)","v":-999980},null,null,{"$f":"SUM(R33:R35)","v":-999980},null,null,{"$f":"SUM(U33:U35)","v":-999980},null,null,{"$f":"SUM(X33:X35)","v":-999980},null,null,{"$f":"SUM(AA33:AA35)","v":-999980},null,null,{"$f":"SUM(AD33:AD35)","v":-999980},null,null,{"$f":"SUM(AG33:AG35)","v":-999980},null,null,{"$f":"SUM(AJ33:AJ35)","v":-999980},null,null,{"$f":"SUM(AM33:AM35)","v":-999980},null,null,{"$f":"SUM(AP33:AP35)","v":-999980},null,null,{"$f":"SUM(AS33:AS35)","v":-999980},null,null,{"$f":"SUM(AV33:AV35)","v":-999980}]
[null,null,{"$f":"+D37","v":0},null,null,{"$f":"+G37","v":0},null,null,{"$f":"+J37","v":0},null,null,{"$f":"+M37","v":0},null,null,{"$f":"+P37","v":0},null,null,{"$f":"+S37","v":0},null,null,{"$f":"+V37","v":0},null,null,{"$f":"+Y37","v":0},null,null,{"$f":"+AB37","v":0},null,null,{"$f":"+AE37","v":0},null,null,{"$f":"+AH37","v":0},null,null,{"$f":"+AK37","v":0},null,null,{"$f":"+AN37","v":0},null,null,{"$f":"+AQ37","v":0},null,null,{"$f":"+AT37","v":0},null,null,{"$f":"+AW37","v":0}]
[null,null,{"$f":"+C38*20","v":20},null,null,{"$f":"+F38*20","v":20},null,null,{"$f":"+I38*20","v":20},null,null,{"$f":"+L38*20","v":20},null,null,{"$f":"+O38*20","v":20},null,null,{"$f":"+R38*20","v":20},null,null,{"$f":"+U38*20","v":20},null,null,{"$f":"+X38*20","v":20},null,null,{"$f":"+AA38*20","v":20},null,null,{"$f":"+AD38*20","v":20},null,null,{"$f":"+AG38*20","v":20},null,null,{"$f":"+AJ38*20","v":20},null,null,{"$f":"+AM38*20","v":20},null,null,{"$f":"+AP38*20","v":20},null,null,{"$f":"+AS38*20","v":20},null,null,{"$f":"+AV38*20","v":20}]
[null,null,{"$f":"IF(D37-$A3/2<0,-1000000,C37*C36*10000+C37)","v":-1000000},null,null,{"$f":"IF(G37-$A3/2<0,-1000000,F37*F36*10000+F37)","v":-1000000},null,null,{"$f":"IF(J37-$A3/2<0,-1000000,I37*I36*10000+I37)","v":-1000000},null,null,{"$f":"IF(M37-$A3/2<0,-1000000,L37*L36*10000+L37)","v":-1000000},null,null,{"$f":"IF(P37-$A3/2<0,-1000000,O37*O36*10000+O37)","v":-1000000},null,null,{"$f":"IF(S37-$A3/2<0,-1000000,R37*R36*10000+R37)","v":-1000000},null,null,{"$f":"IF(V37-$A3/2<0,-1000000,U37*U36*10000+U37)","v":-1000000},null,null,{"$f":"IF(Y37-$A3/2<0,-1000000,X37*X36*10000+X37)","v":-1000000},null,null,{"$f":"IF(AB37-$A3/2<0,-1000000,AA37*AA36*10000+AA37)","v":-1000000},null,null,{"$f":"IF(AE37-$A3/2<0,-1000000,AD37*AD36*10000+AD37)","v":-1000000},null,null,{"$f":"IF(AH37-$A3/2<0,-1000000,AG37*AG36*10000+AG37)","v":-1000000},null,null,{"$f":"IF(AK37-$A3/2<0,-1000000,AJ37*AJ36*10000+AJ37)","v":-1000000},null,null,{"$f":"IF(AN37-$A3/2<0,-1000000,AM37*AM36*10000+AM37)","v":-1000000},null,null,{"$f":"IF(AQ37-$A3/2<0,-1000000,AP37*AP36*10000+AP37)","v":-1000000},null,null,{"$f":"IF(AT37-$A3/2<0,-1000000,AS37*AS36*10000+AS37)","v":-1000000},null,null,{"$f":"IF(AW37-$A3/2<0,-1000000,AV37*AV36*10000+AV37)","v":-1000000}]
["Classificats",{"$f":"SUM(C36:AV36)","v":0},{"$f":"IF(D37>=$A3/2,1,0)","v":0},null,null,{"$f":"IF(G37>=$A3/2,1,0)","v":0},null,null,{"$f":"IF(J37>=$A3/2,1,0)","v":0},null,null,{"$f":"IF(M37>=$A3/2,1,0)","v":0},null,null,{"$f":"IF(P37>=$A3/2,1,0)","v":0},null,null,{"$f":"IF(S37>=$A3/2,1,0)","v":0},null,null,{"$f":"IF(V37>=$A3/2,1,0)","v":0},null,null,{"$f":"IF(Y37>=$A3/2,1,0)","v":0},null,null,{"$f":"IF(AB37>=$A3/2,1,0)","v":0},null,null,{"$f":"IF(AE37>=$A3/2,1,0)","v":0},null,null,{"$f":"IF(AH37>=$A3/2,1,0)","v":0},null,null,{"$f":"IF(AK37>=$A3/2,1,0)","v":0},null,null,{"$f":"IF(AN37>=$A3/2,1,0)","v":0},null,null,{"$f":"IF(AQ37>=$A3/2,1,0)","v":0},null,null,{"$f":"IF(AT37>=$A3/2,1,0)","v":0},null,null,{"$f":"IF(AW37>=$A3/2,1,0)","v":0}]
[null,null,{"$f":"IF(SUM(C42:C153)<-1000,-100000000,SUM(C42:C153))","v":-100000000},{"$f":"COUNT(D42:D153)","v":0},null,{"$f":"IF(SUM(F42:F153)<-1000,-100000000,SUM(F42:F153))","v":-100000000},{"$f":"COUNT(G42:G153)","v":0},null,{"$f":"IF(SUM(I42:I153)<-1000,-100000000,SUM(I42:I153))","v":-100000000},{"$f":"COUNT(J42:J153)","v":0},null,{"$f":"IF(SUM(L42:L153)<-1000,-100000000,SUM(L42:L153))","v":-100000000},{"$f":"COUNT(M42:M153)","v":0},null,{"$f":"IF(SUM(O42:O153)<-1000,-100000000,SUM(O42:O153))","v":-100000000},{"$f":"COUNT(P42:P153)","v":0},null,{"$f":"IF(SUM(R42:R153)<-1000,-100000000,SUM(R42:R153))","v":-100000000},{"$f":"COUNT(S42:S153)","v":0},null,{"$f":"IF(SUM(U42:U153)<-1000,-100000000,SUM(U42:U153))","v":-100000000},{"$f":"COUNT(V42:V153)","v":0},null,{"$f":"IF(SUM(X42:X153)<-1000,-100000000,SUM(X42:X153))","v":-100000000},{"$f":"COUNT(Y42:Y153)","v":0},null,{"$f":"IF(SUM(AA42:AA153)<-1000,-100000000,SUM(AA42:AA153))","v":-100000000},{"$f":"COUNT(AB42:AB153)","v":0},null,{"$f":"IF(SUM(AD42:AD153)<-1000,-100000000,SUM(AD42:AD153))","v":-100000000},{"$f":"COUNT(AE42:AE153)","v":0},null,{"$f":"IF(SUM(AG42:AG153)<-1000,-100000000,SUM(AG42:AG153))","v":-100000000},{"$f":"COUNT(AH42:AH153)","v":0},null,{"$f":"IF(SUM(AJ42:AJ153)<-1000,-100000000,SUM(AJ42:AJ153))","v":-100000000},{"$f":"COUNT(AK42:AK153)","v":0},null,{"$f":"IF(SUM(AM42:AM153)<-1000,-100000000,SUM(AM42:AM153))","v":-100000000},{"$f":"COUNT(AN42:AN153)","v":0},null,{"$f":"IF(SUM(AP42:AP153)<-1000,-100000000,SUM(AP42:AP153))","v":-100000000},{"$f":"COUNT(AQ42:AQ153)","v":0},null,{"$f":"IF(SUM(AS42:AS153)<-1000,-100000000,SUM(AS42:AS153))","v":-100000000},{"$f":"COUNT(AT42:AT153)","v":0},null,{"$f":"IF(SUM(AV42:AV153)<-1000,-100000000,SUM(AV42:AV153))","v":-100000000},{"$f":"COUNT(AW42:AW153)","v":0},null,null,"A"]
[null,null,{"$f":"+D38-E38","v":1},{"$f":"SUM(D42:D168)","v":0},{"$f":"SUM(E42:E168)","v":-1},{"$f":"+G38-H38","v":1},{"$f":"SUM(G42:G168)","v":0},{"$f":"SUM(H42:H168)","v":-1},{"$f":"+J38-K38","v":1},{"$f":"SUM(J42:J168)","v":0},{"$f":"SUM(K42:K168)","v":-1},{"$f":"+M38-N38","v":1},{"$f":"SUM(M42:M168)","v":0},{"$f":"SUM(N42:N168)","v":-1},{"$f":"+P38-Q38","v":1},{"$f":"SUM(P42:P168)","v":0},{"$f":"SUM(Q42:Q168)","v":-1},{"$f":"+S38-T38","v":1},{"$f":"SUM(S42:S168)","v":0},{"$f":"SUM(T42:T168)","v":-1},{"$f":"+V38-W38","v":1},{"$f":"SUM(V42:V168)","v":0},{"$f":"SUM(W42:W168)","v":-1},{"$f":"+Y38-Z38","v":1},{"$f":"SUM(Y42:Y168)","v":0},{"$f":"SUM(Z42:Z168)","v":-1},{"$f":"+AB38-AC38","v":1},{"$f":"SUM(AB42:AB168)","v":0},{"$f":"SUM(AC42:AC168)","v":-1},{"$f":"+AE38-AF38","v":1},{"$f":"SUM(AE42:AE168)","v":0},{"$f":"SUM(AF42:AF168)","v":-1},{"$f":"+AH38-AI38","v":1},{"$f":"SUM(AH42:AH168)","v":0},{"$f":"SUM(AI42:AI168)","v":-1},{"$f":"+AK38-AL38","v":1},{"$f":"SUM(AK42:AK168)","v":0},{"$f":"SUM(AL42:AL168)","v":-1},{"$f":"+AN38-AO38","v":1},{"$f":"SUM(AN42:AN168)","v":0},{"$f":"SUM(AO42:AO168)","v":-1},{"$f":"+AQ38-AR38","v":1},{"$f":"SUM(AQ42:AQ168)","v":0},{"$f":"SUM(AR42:AR168)","v":-1},{"$f":"+AT38-AU38","v":1},{"$f":"SUM(AT42:AT168)","v":0},{"$f":"SUM(AU42:AU168)","v":-1},{"$f":"+AW38-AX38","v":1},{"$f":"SUM(AW42:AW168)","v":0},{"$f":"SUM(AX42:AX168)","v":-1},null,"B"]
[null,null,null,null,null,null,null,null,null,null,null,null,null,null,null,null,null,null,null,null,null,null,null,null,null,null,null,null,null,null,null,null,null,null,null,null,null,null,null,null,null,null,null,null,null,null,null,null,null,null,{"$f":"MAX(AZ42:AZ101)","v":0}]
[null,"Nº partida ","Mercè",null,null,"Manolo",null,null,"Jordi",null,null,"MªJosé",null,null,"Ester",null,null,"Sergi",null,null,"Carles",null,null,"Mariajo",null,null,"Iglesias",null,null,"Martín",null,null,"Xavi",null,null,"Allan",null,null,"Jorge",null,null,"Goretti",null,null,"Marga",null,null,"Jimmy",null,null,{"$f":"COUNT(AY42:AY68)","v":0},"A","B","C"]
[null,"5 copes","Premi","Punts",null,"Premi","Punts",null,"Premi","Punts",null,"Premi","Punts",null,"Premi","Punts",null,"Premi","Punts",null,"Premi","Punts",null,"Premi","Punts",null,"Premi","Punts",null,"Premi","Punts",null,"Premi","Punts",null,"Premi","Punts",null,"Premi","Punts",null,"Premi","Punts",null,"Premi","Punts",null,"Premi","Punts",null,"Data","Timba"]
[1,null,-10000,null,-1,-10000,null,-1,-10000,null,-1,-10000,null,-1,-10000,null,-1,-10000,null,-1,-10000,null,-1,-10000,null,-1,-10000,null,-1,-10000,null,-1,-10000,null,-1,-10000,null,-1,-10000,null,-1,-10000,null,-1,-10000,null,-1,-10000,null,-1,null,null,{"$f":"+AV42+AJ42+AG42+AD42+AA42+X42+U42+R42+O42+L42+I42+F42+C42+AM42+AP42+AS42","v":-160000},{"$f":"COUNT(C42:AX42)/3","v":10.666666666666666},{"$f":"+BA42/BB42","v":-15000}]
[{"$f":"+A42+1","v":2},null,null,null,null,null,null,null,null,null,null,null,null,null,null,null,null,null,null,null,null,null,null,null,null,null,null,null,null,null,null,null,null,null,null,null,null,null,null,null,null,null,null,null,null,null,null,null,null,null,null,null,0,{"$f":"COUNT(C43:AX43)/3","v":0},{"$f":"+BA43/BB43","v":{"$error":"#DIV/0!"}}]
[{"$f":"+A43+1","v":3},null,null,null,null,null,null,null,null,null,null,null,null,null,null,null,null,null,null,null,null,null,null,null,null,null,null,null,null,null,null,null,null,null,null,null,null,null,null,null,null,null,null,null,null,null,null,null,null,null,null,null,0,{"$f":"COUNT(C44:AX44)/3","v":0},{"$f":"+BA44/BB44","v":{"$error":"#DIV/0!"}}]
[4,null,null,null,null,null,null,null,null,null,null,null,null,null,null,null,null,null,null,null,null,null,null,null,null,null,null,null,null,null,null,null,null,null,null,null,null,null,null,null,null,null,null,null,null,null,null,null,null,null,null,null,0,{"$f":"COUNT(C45:AX45)/3","v":0},{"$f":"+BA45/BB45","v":{"$error":"#DIV/0!"}}]
[5,null,null,null,null,null,null,null,null,null,null,null,null,null,null,null,null,null,null,null,null,null,null,null,null,null,null,null,null,null,null,null,null,null,null,null,null,null,null,null,null,null,null,null,null,null,null,null,null,null,null,null,0,0,{"$error":"#DIV/0!"}]
[6,null,null,null,null,null,null,null,null,null,null,null,null,null,null,null,null,null,null,null,null,null,null,null,null,null,null,null,null,null,null,null,null,null,null,null,null,null,null,null,null,null,null,null,null,null,null,null,null,null,null,null,0,0,{"$error":"#DIV/0!"}]
[7,null,null,null,null,null,null,null,null,null,null,null,null,null,null,null,null,null,null,null,null,null,null,null,null,null,null,null,null,null,null,null,null,null,null,null,null,null,null,null,null,null,null,null,null,null,null,null,null,null,null,null,0,0,{"$error":"#DIV/0!"}]
[8,null,null,null,null,null,null,null,null,null,null,null,null,null,null,null,null,null,null,null,null,null,null,null,null,null,null,null,null,null,null,null,null,null,null,null,null,null,null,null,null,null,null,null,null,null,null,null,null,null,null,null,0,0,{"$error":"#DIV/0!"}]
[9,null,null,null,null,null,null,null,null,null,null,null,null,null,null,null,null,null,null,null,null,null,null,null,null,null,null,null,null,null,null,null,null,null,null,null,null,null,null,null,null,null,null,null,null,null,null,null,null,null,null,null,0,0,{"$error":"#DIV/0!"}]
[10,null,null,null,null,null,null,null,null,null,null,null,null,null,null,null,null,null,null,null,null,null,null,null,null,null,null,null,null,null,null,null,null,null,null,null,null,null,null,null,null,null,null,null,null,null,null,null,null,null,null,null,0,0,{"$error":"#DIV/0!"}]
[11,null,null,null,null,null,null,null,null,null,null,null,null,null,null,null,null,null,null,null,null,null,null,null,null,null,null,null,null,null,null,null,null,null,null,null,null,null,null,null,null,null,null,null,null,null,null,null,null,null,null,null,0,0,{"$error":"#DIV/0!"}]
[12,null,null,null,null,null,null,null,null,null,null,null,null,null,null,null,null,null,null,null,null,null,null,null,null,null,null,null,null,null,null,null,null,null,null,null,null,null,null,null,null,null,null,null,null,null,null,null,null,null,null,null,0,0,{"$error":"#DIV/0!"}]
[13,null,null,null,null,null,null,null,null,null,null,null,null,null,null,null,null,null,null,null,null,null,null,null,null,null,null,null,null,null,null,null,null,null,null,null,null,null,null,null,null,null,null,null,null,null,null,null,null,null,null,null,0,0,{"$error":"#DIV/0!"}]
[14,null,null,null,null,null,null,null,null,null,null,null,null,null,null,null,null,null,null,null,null,null,null,null,null,null,null,null,null,null,null,null,null,null,null,null,null,null,null,null,null,null,null,null,null,null,null,null,null,null,null,null,0,0,{"$error":"#DIV/0!"}]
[15,null,null,null,null,null,null,null,null,null,null,null,null,null,null,null,null,null,null,null,null,null,null,null,null,null,null,null,null,null,null,null,null,null,null,null,null,null,null,null,null,null,null,null,null,null,null,null,null,null,null,null,0,0,{"$error":"#DIV/0!"}]
[16,null,null,null,null,null,null,null,null,null,null,null,null,null,null,null,null,null,null,null,null,null,null,null,null,null,null,null,null,null,null,null,null,null,null,null,null,null,null,null,null,null,null,null,null,null,null,null,null,null,null,null,{"$f":"+AV57+AJ57+AG57+AD57+AA57+X57+U57+R57+O57+L57+I57+F57+C57+AM57+AP57+AS57","v":0},0,{"$error":"#DIV/0!"}]
[17,null,null,null,null,null,null,null,null,null,null,null,null,null,null,null,null,null,null,null,null,null,null,null,null,null,null,null,null,null,null,null,null,null,null,null,null,null,null,null,null,null,null,null,null,null,null,null,null,null,null,null,{"$f":"+AV58+AJ58+AG58+AD58+AA58+X58+U58+R58+O58+L58+I58+F58+C58+AM58+AP58+AS58","v":0},0,{"$error":"#DIV/0!"}]
[18,null,null,null,null,null,null,null,null,null,null,null,null,null,null,null,null,null,null,null,null,null,null,null,null,null,null,null,null,null,null,null,null,null,null,null,null,null,null,null,null,null,null,null,null,null,null,null,null,null,null,null,{"$f":"+AV59+AJ59+AG59+AD59+AA59+X59+U59+R59+O59+L59+I59+F59+C59+AM59+AP59+AS59","v":0},0,{"$error":"#DIV/0!"}]
[19,null,null,null,null,null,null,null,null,null,null,null,null,null,null,null,null,null,null,null,null,null,null,null,null,null,null,null,null,null,null,null,null,null,null,null,null,null,null,null,null,null,null,null,null,null,null,null,null,null,null,null,{"$f":"+AV60+AJ60+AG60+AD60+AA60+X60+U60+R60+O60+L60+I60+F60+C60+AM60+AP60+AS60","v":0},0,{"$error":"#DIV/0!"}]
[20]
[21]
[22]
[23]
[24]
[25]
[26]
[27]

{"sheet":"Escombra","index":24,"n_rows":105,"n_cols":45,"rows_kept":105,"cut":false,"hidden":false,"merged":[[43,34,43,35],[43,36,43,37],[43,38,43,39],[43,26,43,27],[43,28,43,29],[43,30,43,31],[43,32,43,33],[43,22,43,23],[43,24,43,25],[43,10,43,11],[43,12,43,13],[43,14,43,15],[43,16,43,17],[43,20,43,21],[43,2,43,3],[43,4,43,5],[43,6,43,7],[43,8,43,9],[43,18,43,19]]}
["ESCOMBRA"]
["Mes"]
[{"$f":"+GENERAL!B6","v":12},null,{"$f":"SUM(C5:C7)","v":-300000000}]
[null,null,"Premi","Punts","Partides","General"]
[1,"Carles",{"$f":"+C$41","v":-100000000},{"$f":"+D$42","v":1E-4},{"$f":"+D$41","v":0},{"$f":"+C$27","v":0},{"$f":"IF(E5<A$3/2,-1,1)*80+C5","v":-100000080}]
[2,"Mercè",{"$f":"+Y$41","v":-100000000},{"$f":"+Z$42","v":1E-4},{"$f":"+Z$41","v":0},{"$f":"+Y$27","v":0},-100000080]
[3,"Jordi",{"$f":"+G$41","v":-100000000},{"$f":"+H$42","v":1E-4},{"$f":"+H$41","v":0},{"$f":"+G$27","v":0},-100000080]
[4,"Manolo",{"$f":"+S$41","v":-100000000},{"$f":"+T$42","v":1E-4},{"$f":"+T$41","v":0},{"$f":"+S$27","v":0},-100000080]
[5,"Mariajo",{"$f":"+AM$41","v":-100000000},{"$f":"+AN$42","v":1E-4},{"$f":"+AN$41","v":0},{"$f":"+AM$27","v":0},-100000080]
[6,"Grau",{"$f":"+AG$41","v":-100000000},{"$f":"+AH$42","v":1E-4},{"$f":"+AH$41","v":0},{"$f":"+AG$27","v":0},-100000080]
[7,"Joan Carles",{"$f":"+AA$41","v":-100000000},{"$f":"+AB$42","v":1E-4},{"$f":"+AB$41","v":0},{"$f":"+AA$27","v":0},-100000080]
[8,"Tina",{"$f":"+AC$41","v":-100000000},{"$f":"+AD$42","v":1E-4},{"$f":"+AD$41","v":0},{"$f":"+AC$27","v":0},-100000080]
[9,"Sergi",{"$f":"+M$41","v":-100000000},{"$f":"+N$42","v":1E-4},{"$f":"+N$41","v":0},{"$f":"+M$27","v":0},-100000080]
[10,"David",{"$f":"+E$41","v":-100000000},{"$f":"+F$42","v":1E-4},{"$f":"+F$41","v":0},{"$f":"+E$27","v":0},-100000080]
[11,"Baulenas",{"$f":"+K$41","v":-100000000},{"$f":"+L$42","v":1E-4},{"$f":"+L$41","v":0},{"$f":"+K$27","v":0},-100000080]
[12,"Xavi",{"$f":"+W$41","v":-100000000},{"$f":"+X$42","v":1E-4},{"$f":"+X$41","v":0},{"$f":"+W$27","v":0},-100000080]
[13,"Martín",{"$f":"+U$41","v":-100000000},{"$f":"+V$42","v":1E-4},{"$f":"+V$41","v":0},{"$f":"+U$27","v":0},-100000080]
[14,"Goretti",{"$f":"+AI$41","v":-100000000},{"$f":"+AJ$42","v":1E-4},{"$f":"+AJ$41","v":0},{"$f":"+AI$27","v":0},-100000080]
[15,"Agata",{"$f":"+AE$41","v":-100000000},{"$f":"+AF$42","v":1E-4},{"$f":"+AF$41","v":0},{"$f":"+AE$27","v":0},-100000080]
[16,"Iglesias",{"$f":"+AK$41","v":-100000000},{"$f":"+AL$42","v":1E-4},{"$f":"+AL$41","v":0},{"$f":"+AK$27","v":0},-100000080]
[17,"MªJosé",{"$f":"+I$41","v":-100000000},{"$f":"+J$42","v":1E-4},{"$f":"+J$41","v":0},{"$f":"+I$27","v":0},-100000080]
[18,"Axel",{"$f":"+O$41","v":-100000000},{"$f":"+P$42","v":1E-4},{"$f":"+P$41","v":0},{"$f":"+O$27","v":0},-100000080]
[19,"Eli",{"$f":"+Q$41","v":-100000000},{"$f":"+R$42","v":1E-4},{"$f":"+R$41","v":0},{"$f":"+Q$27","v":0},-100000080]
[]
[]
[]
[null,"General",{"$f":"+C28*C29","v":0},{"$f":"+D28*D29","v":0},0,0,0,0,0,0,0,0,0,0,0,0,0,0,0,0,0,0,0,0,0,0,0,0,0,0,0,0,0,0,0,0,0,0,0,0]
[null,null,{"$f":"IF($B40>3,1,0)","v":0},{"$f":"IF($B40>3,1,0)","v":0},{"$f":"IF($B40>3,1,0)","v":0},0,0,0,0,0,0,0,0,0,0,0,0,0,0,0,0,0,0,0,0,0,0,0,0,0,0,0,0,0,0,0,0,0,0,0]
[null,null,{"$f":"MAX(C30:C34)","v":0},{"$f":"+D41","v":0},{"$f":"MAX(E30:E34)","v":0},{"$f":"+F41","v":0},{"$f":"MAX(G30:G34)","v":0},{"$f":"+H41","v":0},{"$f":"MAX(I30:I34)","v":0},{"$f":"+J41","v":0},{"$f":"MAX(K30:K34)","v":0},{"$f":"+L41","v":0},{"$f":"MAX(M30:M34)","v":0},{"$f":"+N41","v":0},{"$f":"MAX(O30:O34)","v":0},{"$f":"+P41","v":0},{"$f":"MAX(Q30:Q34)","v":0},{"$f":"+R41","v":0},{"$f":"MAX(S30:S34)","v":0},{"$f":"+T41","v":0},{"$f":"MAX(U30:U34)","v":0},{"$f":"+V41","v":0},{"$f":"MAX(W30:W34)","v":0},{"$f":"+X41","v":0},{"$f":"MAX(Y30:Y34)","v":0},{"$f":"+Z41","v":0},{"$f":"MAX(AA30:AA34)","v":0},{"$f":"+AB41","v":0},{"$f":"MAX(AC30:AC34)","v":0},{"$f":"+AD41","v":0},{"$f":"MAX(AE30:AE34)","v":0},{"$f":"+AF41","v":0},{"$f":"MAX(AG30:AG34)","v":0},{"$f":"+AH41","v":0},{"$f":"MAX(AI30:AI34)","v":0},{"$f":"+AJ41","v":0},{"$f":"MAX(AK30:AK34)","v":0},{"$f":"+AL41","v":0},{"$f":"MAX(AM30:AM34)","v":0},{"$f":"+AN41","v":0}]
[null,null,{"$f":"IF(C$35=5,5,0)","v":0},null,{"$f":"IF(E$35=5,5,0)","v":0},null,{"$f":"IF(G$35=5,5,0)","v":0},null,{"$f":"IF(I$35=5,5,0)","v":0},null,{"$f":"IF(K$35=5,5,0)","v":0},null,{"$f":"IF(M$35=5,5,0)","v":0},null,{"$f":"IF(O$35=5,5,0)","v":0},null,{"$f":"IF(Q$35=5,5,0)","v":0},null,{"$f":"IF(S$35=5,5,0)","v":0},null,{"$f":"IF(U$35=5,5,0)","v":0},null,{"$f":"IF(W$35=5,5,0)","v":0},null,{"$f":"IF(Y$35=5,5,0)","v":0},null,{"$f":"IF(AA$35=5,5,0)","v":0},null,{"$f":"IF(AC$35=5,5,0)","v":0},null,{"$f":"IF(AE$35=5,5,0)","v":0},null,{"$f":"IF(AG$35=5,5,0)","v":0},null,{"$f":"IF(AI$35=5,5,0)","v":0},null,{"$f":"IF(AK$35=5,5,0)","v":0},null,{"$f":"IF(AM$35=5,5,0)","v":0}]
[null,null,{"$f":"IF(C$35=4,10,0)","v":0},null,{"$f":"IF(E$35=4,10,0)","v":0},null,{"$f":"IF(G$35=4,10,0)","v":0},null,{"$f":"IF(I$35=4,10,0)","v":0},null,{"$f":"IF(K$35=4,10,0)","v":0},null,{"$f":"IF(M$35=4,10,0)","v":0},null,{"$f":"IF(O$35=4,10,0)","v":0},null,{"$f":"IF(Q$35=4,10,0)","v":0},null,{"$f":"IF(S$35=4,10,0)","v":0},null,{"$f":"IF(U$35=4,10,0)","v":0},null,{"$f":"IF(W$35=4,10,0)","v":0},null,{"$f":"IF(Y$35=4,10,0)","v":0},null,{"$f":"IF(AA$35=4,10,0)","v":0},null,{"$f":"IF(AC$35=4,10,0)","v":0},null,{"$f":"IF(AE$35=4,10,0)","v":0},null,{"$f":"IF(AG$35=4,10,0)","v":0},null,{"$f":"IF(AI$35=4,10,0)","v":0},null,{"$f":"IF(AK$35=4,10,0)","v":0},null,{"$f":"IF(AM$35=4,10,0)","v":0}]
[null,null,{"$f":"IF(C$35=3,20,0)","v":0},null,{"$f":"IF(E$35=3,20,0)","v":0},null,{"$f":"IF(G$35=3,20,0)","v":0},null,{"$f":"IF(I$35=3,20,0)","v":0},null,{"$f":"IF(K$35=3,20,0)","v":0},null,{"$f":"IF(M$35=3,20,0)","v":0},null,{"$f":"IF(O$35=3,20,0)","v":0},null,{"$f":"IF(Q$35=3,20,0)","v":0},null,{"$f":"IF(S$35=3,20,0)","v":0},null,{"$f":"IF(U$35=3,20,0)","v":0},null,{"$f":"IF(W$35=3,20,0)","v":0},null,{"$f":"IF(Y$35=3,20,0)","v":0},null,{"$f":"IF(AA$35=3,20,0)","v":0},null,{"$f":"IF(AC$35=3,20,0)","v":0},null,{"$f":"IF(AE$35=3,20,0)","v":0},null,{"$f":"IF(AG$35=3,20,0)","v":0},null,{"$f":"IF(AI$35=3,20,0)","v":0},null,{"$f":"IF(AK$35=3,20,0)","v":0},null,{"$f":"IF(AM$35=3,20,0)","v":0}]
[null,null,{"$f":"IF(C$35=2,40,0)","v":0},null,{"$f":"IF(E$35=2,40,0)","v":0},null,{"$f":"IF(G$35=2,40,0)","v":0},null,{"$f":"IF(I$35=2,40,0)","v":0},null,{"$f":"IF(K$35=2,40,0)","v":0},null,{"$f":"IF(M$35=2,40,0)","v":0},null,{"$f":"IF(O$35=2,40,0)","v":0},null,{"$f":"IF(Q$35=2,40,0)","v":0},null,{"$f":"IF(S$35=2,40,0)","v":0},null,{"$f":"IF(U$35=2,40,0)","v":0},null,{"$f":"IF(W$35=2,40,0)","v":0},null,{"$f":"IF(Y$35=2,40,0)","v":0},null,{"$f":"IF(AA$35=2,40,0)","v":0},null,{"$f":"IF(AC$35=2,40,0)","v":0},null,{"$f":"IF(AE$35=2,40,0)","v":0},null,{"$f":"IF(AG$35=2,40,0)","v":0},null,{"$f":"IF(AI$35=2,40,0)","v":0},null,{"$f":"IF(AK$35=2,40,0)","v":0},null,{"$f":"IF(AM$35=2,40,0)","v":0}]
[null,null,{"$f":"IF(C$35=1,80,0)","v":0},null,{"$f":"IF(E$35=1,80,0)","v":0},null,{"$f":"IF(G$35=1,80,0)","v":0},null,{"$f":"IF(I$35=1,80,0)","v":0},null,{"$f":"IF(K$35=1,80,0)","v":0},null,{"$f":"IF(M$35=1,80,0)","v":0},null,{"$f":"IF(O$35=1,80,0)","v":0},null,{"$f":"IF(Q$35=1,80,0)","v":0},null,{"$f":"IF(S$35=1,80,0)","v":0},null,{"$f":"IF(U$35=1,80,0)","v":0},null,{"$f":"IF(W$35=1,80,0)","v":0},null,{"$f":"IF(Y$35=1,80,0)","v":0},null,{"$f":"IF(AA$35=1,80,0)","v":0},null,{"$f":"IF(AC$35=1,80,0)","v":0},null,{"$f":"IF(AE$35=1,80,0)","v":0},null,{"$f":"IF(AG$35=1,80,0)","v":0},null,{"$f":"IF(AI$35=1,80,0)","v":0},null,{"$f":"IF(AK$35=1,80,0)","v":0},null,{"$f":"IF(AM$35=1,80,0)","v":0}]
[null,null,{"$f":"RANK(C36,$C36:$BF36)*C40","v":0},null,{"$f":"RANK(E36,$C36:$BF36)*E40","v":0},null,{"$f":"RANK(G36,$C36:$BF36)*G40","v":0},null,{"$f":"RANK(I36,$C36:$BF36)*I40","v":0},null,{"$f":"RANK(K36,$C36:$BF36)*K40","v":0},null,{"$f":"RANK(M36,$C36:$BF36)*M40","v":0},null,{"$f":"RANK(O36,$C36:$BF36)*O40","v":0},null,{"$f":"RANK(Q36,$C36:$BF36)*Q40","v":0},null,{"$f":"RANK(S36,$C36:$BF36)*S40","v":0},null,{"$f":"RANK(U36,$C36:$BF36)*U40","v":0},null,{"$f":"RANK(W36,$C36:$BF36)*W40","v":0},null,{"$f":"RANK(Y36,$C36:$BF36)*Y40","v":0},null,{"$f":"RANK(AA36,$C36:$BF36)*AA40","v":0},null,{"$f":"RANK(AC36,$C36:$BF36)*AC40","v":0},null,{"$f":"RANK(AE36,$C36:$BF36)*AE40","v":0},null,{"$f":"RANK(AG36,$C36:$BF36)*AG40","v":0},null,{"$f":"RANK(AI36,$C36:$BF36)*AI40","v":0},null,{"$f":"RANK(AK36,$C36:$BF36)*AK40","v":0},null,{"$f":"RANK(AM36,$C36:$BF36)*AM40","v":0}]
[null,null,{"$f":"SUM(C37:C39)","v":-100999999.98999999},null,{"$f":"SUM(E37:E39)","v":-100999999.98999999},null,{"$f":"SUM(G37:G39)","v":-100999999.98999999},null,{"$f":"SUM(I37:I39)","v":-100999999.98999999},null,{"$f":"SUM(K37:K39)","v":-100999999.98999999},null,{"$f":"SUM(M37:M39)","v":-100999999.98999999},null,{"$f":"SUM(O37:O39)","v":-100999999.98999999},null,{"$f":"SUM(Q37:Q39)","v":-100999999.98999999},null,{"$f":"SUM(S37:S39)","v":-100999999.98999999},null,{"$f":"SUM(U37:U39)","v":-100999999.98999999},null,{"$f":"SUM(W37:W39)","v":-100999999.98999999},null,{"$f":"SUM(Y37:Y39)","v":-100999999.98999999},null,{"$f":"SUM(AA37:AA39)","v":-100999999.98999999},null,{"$f":"SUM(AC37:AC39)","v":-100999999.98999999},null,{"$f":"SUM(AE37:AE39)","v":-100999999.98999999},null,{"$f":"SUM(AG37:AG39)","v":-100999999.98999999},null,{"$f":"SUM(AI37:AI39)","v":-100999999.98999999},null,{"$f":"SUM(AK37:AK39)","v":-100999999.98999999},null,{"$f":"SUM(AM37:AM39)","v":-100999999.98999999}]
[null,null,{"$f":"+D41","v":0},null,{"$f":"+F41","v":0},null,{"$f":"+H41","v":0},null,{"$f":"+J41","v":0},null,{"$f":"+L41","v":0},null,{"$f":"+N41","v":0},null,{"$f":"+P41","v":0},null,{"$f":"+R41","v":0},null,{"$f":"+T41","v":0},null,{"$f":"+V41","v":0},null,{"$f":"+X41","v":0},null,{"$f":"+Z41","v":0},null,{"$f":"+AB41","v":0},null,{"$f":"+AD41","v":0},null,{"$f":"+AF41","v":0},null,{"$f":"+AH41","v":0},null,{"$f":"+AJ41","v":0},null,{"$f":"+AL41","v":0},null,{"$f":"+AN41","v":0}]
[null,null,{"$f":"+D42*100","v":0.01},null,{"$f":"+F42*100","v":0.01},null,{"$f":"+H42*100","v":0.01},null,{"$f":"+J42*100","v":0.01},null,{"$f":"+L42*100","v":0.01},null,{"$f":"+N42*100","v":0.01},null,{"$f":"+P42*100","v":0.01},null,{"$f":"+R42*100","v":0.01},null,{"$f":"+T42*100","v":0.01},null,{"$f":"+V42*100","v":0.01},null,{"$f":"+X42*100","v":0.01},null,{"$f":"+Z42*100","v":0.01},null,{"$f":"+AB42*100","v":0.01},null,{"$f":"+AD42*100","v":0.01},null,{"$f":"+AF42*100","v":0.01},null,{"$f":"+AH42*100","v":0.01},null,{"$f":"+AJ42*100","v":0.01},null,{"$f":"+AL42*100","v":0.01},null,{"$f":"+AN42*100","v":0.01}]
[null,null,{"$f":"IF(C40=1,C41*C40*1000+C41,-1000000+C41)","v":-101000000},null,{"$f":"IF(E40=1,E41*E40*1000+E41,-1000000+E41)","v":-101000000},null,{"$f":"IF(G40=1,G41*G40*1000+G41,-1000000+G41)","v":-101000000},null,{"$f":"IF(I40=1,I41*I40*1000+I41,-1000000+I41)","v":-101000000},null,{"$f":"IF(K40=1,K41*K40*1000+K41,-1000000+K41)","v":-101000000},null,{"$f":"IF(M40=1,M41*M40*1000+M41,-1000000+M41)","v":-101000000},null,{"$f":"IF(O40=1,O41*O40*1000+O41,-1000000+O41)","v":-101000000},null,{"$f":"IF(Q40=1,Q41*Q40*1000+Q41,-1000000+Q41)","v":-101000000},null,{"$f":"IF(S40=1,S41*S40*1000+S41,-1000000+S41)","v":-101000000},null,{"$f":"IF(U40=1,U41*U40*1000+U41,-1000000+U41)","v":-101000000},null,{"$f":"IF(W40=1,W41*W40*1000+W41,-1000000+W41)","v":-101000000},null,{"$f":"IF(Y40=1,Y41*Y40*1000+Y41,-1000000+Y41)","v":-101000000},null,{"$f":"IF(AA40=1,AA41*AA40*1000+AA41,-1000000+AA41)","v":-101000000},null,{"$f":"IF(AC40=1,AC41*AC40*1000+AC41,-1000000+AC41)","v":-101000000},null,{"$f":"IF(AE40=1,AE41*AE40*1000+AE41,-1000000+AE41)","v":-101000000},null,{"$f":"IF(AG40=1,AG41*AG40*1000+AG41,-1000000+AG41)","v":-101000000},null,{"$f":"IF(AI40=1,AI41*AI40*1000+AI41,-1000000+AI41)","v":-101000000},null,{"$f":"IF(AK40=1,AK41*AK40*1000+AK41,-1000000+AK41)","v":-101000000},null,{"$f":"IF(AM40=1,AM41*AM40*1000+AM41,-1000000+AM41)","v":-101000000}]
["Classificats",{"$f":"SUM(C40:AM40)","v":0},{"$f":"IF(D41>=$A3/2,1,0)","v":0},null,{"$f":"IF(F41>=$A3/2,1,0)","v":0},null,{"$f":"IF(H41>=$A3/2,1,0)","v":0},null,{"$f":"IF(J41>=$A3/2,1,0)","v":0},null,{"$f":"IF(L41>=$A3/2,1,0)","v":0},null,{"$f":"IF(N41>=$A3/2,1,0)","v":0},null,{"$f":"IF(P41>=$A3/2,1,0)","v":0},null,{"$f":"IF(R41>=$A3/2,1,0)","v":0},null,{"$f":"IF(T41>=$A3/2,1,0)","v":0},null,{"$f":"IF(V41>=$A3/2,1,0)","v":0},null,{"$f":"IF(X41>=$A3/2,1,0)","v":0},null,{"$f":"IF(Z41>=$A3/2,1,0)","v":0},null,{"$f":"IF(AB41>=$A3/2,1,0)","v":0},null,{"$f":"IF(AD41>=$A3/2,1,0)","v":0},null,{"$f":"IF(AF41>=$A3/2,1,0)","v":0},null,{"$f":"IF(AH41>=$A3/2,1,0)","v":0},null,{"$f":"IF(AJ41>=$A3/2,1,0)","v":0},null,{"$f":"IF(AL41>=$A3/2,1,0)","v":0},null,{"$f":"IF(AN41>=$A3/2,1,0)","v":0}]
[null,null,{"$f":"IF(SUM(C46:C208)<-1000,-100000000,SUM(C46:C208))","v":-100000000},{"$f":"COUNT(D46:D208)","v":0},{"$f":"IF(SUM(E46:E208)<-1000,-100000000,SUM(E46:E208))","v":-100000000},{"$f":"COUNT(F46:F208)","v":0},{"$f":"IF(SUM(G46:G208)<-1000,-100000000,SUM(G46:G208))","v":-100000000},{"$f":"COUNT(H46:H208)","v":0},{"$f":"IF(SUM(I46:I208)<-1000,-100000000,SUM(I46:I208))","v":-100000000},{"$f":"COUNT(J46:J208)","v":0},{"$f":"IF(SUM(K46:K208)<-1000,-100000000,SUM(K46:K208))","v":-100000000},{"$f":"COUNT(L46:L208)","v":0},{"$f":"IF(SUM(M46:M208)<-1000,-100000000,SUM(M46:M208))","v":-100000000},{"$f":"COUNT(N46:N208)","v":0},{"$f":"IF(SUM(O46:O208)<-1000,-100000000,SUM(O46:O208))","v":-100000000},{"$f":"COUNT(P46:P208)","v":0},{"$f":"IF(SUM(Q46:Q208)<-1000,-100000000,SUM(Q46:Q208))","v":-100000000},{"$f":"COUNT(R46:R208)","v":0},{"$f":"IF(SUM(S46:S208)<-1000,-100000000,SUM(S46:S208))","v":-100000000},{"$f":"COUNT(T46:T208)","v":0},{"$f":"IF(SUM(U46:U208)<-1000,-100000000,SUM(U46:U208))","v":-100000000},{"$f":"COUNT(V46:V208)","v":0},{"$f":"IF(SUM(W46:W208)<-1000,-100000000,SUM(W46:W208))","v":-100000000},{"$f":"COUNT(X46:X208)","v":0},{"$f":"IF(SUM(Y46:Y208)<-1000,-100000000,SUM(Y46:Y208))","v":-100000000},{"$f":"COUNT(Z46:Z208)","v":0},{"$f":"IF(SUM(AA46:AA208)<-1000,-100000000,SUM(AA46:AA208))","v":-100000000},{"$f":"COUNT(AB46:AB208)","v":0},{"$f":"IF(SUM(AC46:AC208)<-1000,-100000000,SUM(AC46:AC208))","v":-100000000},{"$f":"COUNT(AD46:AD208)","v":0},{"$f":"IF(SUM(AE46:AE208)<-1000,-100000000,SUM(AE46:AE208))","v":-100000000},{"$f":"COUNT(AF46:AF208)","v":0},{"$f":"IF(SUM(AG46:AG208)<-1000,-100000000,SUM(AG46:AG208))","v":-100000000},{"$f":"COUNT(AH46:AH208)","v":0},{"$f":"IF(SUM(AI46:AI208)<-1000,-100000000,SUM(AI46:AI208))","v":-100000000},{"$f":"COUNT(AJ46:AJ208)","v":0},{"$f":"IF(SUM(AK46:AK208)<-1000,-100000000,SUM(AK46:AK208))","v":-100000000},{"$f":"COUNT(AL46:AL208)","v":0},{"$f":"IF(SUM(AM46:AM208)<-1000,-100000000,SUM(AM46:AM208))","v":-100000000},{"$f":"COUNT(AN46:AN208)","v":0}]
[null,null,null,{"$f":"IF(D41=0,0.0001,AVERAGE(D46:D105))","v":1E-4},null,{"$f":"IF(F41=0,0.0001,AVERAGE(F46:F105))","v":1E-4},null,{"$f":"IF(H41=0,0.0001,AVERAGE(H46:H105))","v":1E-4},null,{"$f":"IF(J41=0,0.0001,AVERAGE(J46:J105))","v":1E-4},null,{"$f":"IF(L41=0,0.0001,AVERAGE(L46:L105))","v":1E-4},null,{"$f":"IF(N41=0,0.0001,AVERAGE(N46:N105))","v":1E-4},null,{"$f":"IF(P41=0,0.0001,AVERAGE(P46:P105))","v":1E-4},null,{"$f":"IF(R41=0,0.0001,AVERAGE(R46:R105))","v":1E-4},null,{"$f":"IF(T41=0,0.0001,AVERAGE(T46:T105))","v":1E-4},null,{"$f":"IF(V41=0,0.0001,AVERAGE(V46:V105))","v":1E-4},null,{"$f":"IF(X41=0,0.0001,AVERAGE(X46:X105))","v":1E-4},null,{"$f":"IF(Z41=0,0.0001,AVERAGE(Z46:Z105))","v":1E-4},null,{"$f":"IF(AB41=0,0.0001,AVERAGE(AB46:AB105))","v":1E-4},null,{"$f":"IF(AD41=0,0.0001,AVERAGE(AD46:AD105))","v":1E-4},null,{"$f":"IF(AF41=0,0.0001,AVERAGE(AF46:AF105))","v":1E-4},null,{"$f":"IF(AH41=0,0.0001,AVERAGE(AH46:AH105))","v":1E-4},null,{"$f":"IF(AJ41=0,0.0001,AVERAGE(AJ46:AJ105))","v":1E-4},null,{"$f":"IF(AL41=0,0.0001,AVERAGE(AL46:AL105))","v":1E-4},null,{"$f":"IF(AN41=0,0.0001,AVERAGE(AN46:AN105))","v":1E-4}]
[null,null,null,null,null,null,null,null,null,null,null,null,null,null,null,null,null,null,null,null,null,null,null,null,null,null,null,null,null,null,null,null,null,null,null,null,null,null,null,null,{"$f":"MAX(AP46:AP105)","v":0}]
[null,"Nº partida ","Carles",null,"David",null,"Jordi",null,"MªJosé",null,"Baulenas",null,"Sergi",null,"Axel",null,"Eli",null,"Manolo",null,"Martín",null,"Xavi",null,"Mercè",null,"Joan Carles",null,"Tina",null,"Agata",null,"Grau",null,"Goretti",null,"Iglesias",null,"Mariajo",null,{"$f":"COUNT(AO46:AO123)","v":0},"A","B","C"]
[null,null,"Premi","Punts","Premi","Punts","Premi","Punts","Premi","Punts","Premi","Punts","Premi","Punts","Premi","Punts","Premi","Punts","Premi","Punts","Premi","Punts","Premi","Punts","Premi","Punts","Premi","Punts","Premi","Punts","Premi","Punts","Premi","Punts","Premi","Punts","Premi","Punts","Premi","Punts","Data","Timba"]
[1,null,-10000000,null,-10000000,null,-10000000,null,-10000000,null,-10000000,null,-10000000,null,-10000000,null,-10000000,null,-10000000,null,-10000000,null,-10000000,null,-10000000,null,-10000000,null,-10000000,null,-10000000,null,-10000000,null,-10000000,null,-10000000,null,-10000000,null,null,null,{"$f":"+C46+E46+G46+I46++K46++M46+O46+Q46+S46+U46+W46+AK46+AM46+Y46+AC46+AE46+AG46+AI46+AA46","v":-190000000},{"$f":"COUNT(C46:AN46)/2","v":9.5},{"$f":"+AQ46/AR46","v":-20000000}]
[{"$f":"+A46+1","v":2},null,null,null,null,null,null,null,null,null,null,null,null,null,null,null,null,null,null,null,null,null,null,null,null,null,null,null,null,null,null,null,null,null,null,null,null,null,null,null,null,null,0,0,{"$error":"#DIV/0!"}]
[{"$f":"+A47+1","v":3},null,null,null,null,null,null,null,null,null,null,null,null,null,null,null,null,null,null,null,null,null,null,null,null,null,null,null,null,null,null,null,null,null,null,null,null,null,null,null,null,null,0,0,{"$error":"#DIV/0!"}]
[4,null,null,null,null,null,null,null,null,null,null,null,null,null,null,null,null,null,null,null,null,null,null,null,null,null,null,null,null,null,null,null,null,null,null,null,null,null,null,null,null,null,0,0,{"$error":"#DIV/0!"}]
[{"$f":"+A49+1","v":5},null,null,null,null,null,null,null,null,null,null,null,null,null,null,null,null,null,null,null,null,null,null,null,null,null,null,null,null,null,null,null,null,null,null,null,null,null,null,null,null,null,0,0,{"$error":"#DIV/0!"}]
[6,null,null,null,null,null,null,null,null,null,null,null,null,null,null,null,null,null,null,null,null,null,null,null,null,null,null,null,null,null,null,null,null,null,null,null,null,null,null,null,null,null,0,0,{"$error":"#DIV/0!"}]
[7,null,null,null,null,null,null,null,null,null,null,null,null,null,null,null,null,null,null,null,null,null,null,null,null,null,null,null,null,null,null,null,null,null,null,null,null,null,null,null,null,null,0,0,{"$error":"#DIV/0!"}]
[8,null,null,null,null,null,null,null,null,null,null,null,null,null,null,null,null,null,null,null,null,null,null,null,null,null,null,null,null,null,null,null,null,null,null,null,null,null,null,null,null,null,{"$f":"+C53+E53+G53+I53++K53++M53+O53+Q53+S53+U53+W53+AK53+AM53+Y53+AC53+AE53+AG53+AI53+AA53","v":0},0,{"$error":"#DIV/0!"}]
[9]
[10]
[11]
[12]
[{"$f":"+A57+1","v":13}]
[{"$f":"+A58+1","v":14}]
[15]
[16]
[17]
[18]
[19]
[20]
[21]
[22]
[23]
[24]
[25]
[26]
[27]
[28]
[29]
[30]
[31]
[32]
[33]
[34]
[35]
[36]
[37]
[38]
[39]
[40]
[41]
[42]
[43]
[44]
[45]
[46]
[47]
[48]
[49]
[50]
[51]
[52]
[53]
[54]
[55]
[56]
[57]
[58]
[59]
[60]

{"sheet":"Canasta","index":25,"n_rows":156,"n_cols":58,"rows_kept":156,"cut":false,"hidden":false,"merged":[[40,35,40,37],[40,2,40,4],[40,5,40,7],[40,8,40,10],[40,11,40,13],[40,14,40,16],[40,17,40,19],[40,20,40,22],[40,23,40,25],[40,26,40,28],[40,29,40,31],[40,32,40,34],[40,38,40,40],[40,41,40,43],[40,44,40,46],[40,47,40,49],[40,50,40,52]]}
["CANASTA"]
["Mes"]
[{"$f":"+GENERAL!B6","v":12},null,{"$f":"SUM(C5:C12)","v":-800000000}]
[null,null,"Premi","Punts","Partides","General"]
[1,"Sergi",{"$f":"+R$38","v":-100000000},{"$f":"+R$39","v":0},{"$f":"+S$38","v":0},{"$f":"+R$24","v":0},{"$f":"IF(E5<A$3/2,-1,1)*800+C5+D5/10000","v":-100000800}]
[2,"Jordi",{"$f":"+I$38","v":-100000000},{"$f":"+I$39","v":0},{"$f":"+J$38","v":0},{"$f":"+I$24","v":0},-100000800]
[3,"Carles",{"$f":"+U$38","v":-100000000},{"$f":"+U$39","v":0},{"$f":"+V$38","v":0},{"$f":"+U$24","v":0},-100000800]
[4,"Grau",{"$f":"+AY$38","v":-100000000},{"$f":"+AY$39","v":0},{"$f":"+AZ$38","v":0},{"$f":"+AY$24","v":0},-100000800]
[5,"Mercè",{"$f":"+AP$38","v":-100000000},{"$f":"+AP$39","v":0},{"$f":"+AQ$38","v":0},{"$f":"+AP$24","v":0},-100000800]
[6,"Goretti",{"$f":"+AS$38","v":-100000000},{"$f":"+AS$39","v":0},{"$f":"+AT$38","v":0},{"$f":"+AS$24","v":0},-100000800]
[7,"Joan Carles",{"$f":"+L$38","v":-100000000},{"$f":"+L$39","v":0},{"$f":"+M$38","v":0},{"$f":"+L$24","v":0},-100000800]
[8,"Mariajo",{"$f":"+X$38","v":-100000000},{"$f":"+X$39","v":0},{"$f":"+Y$38","v":0},{"$f":"+X$24","v":0},-100000800]
[9,"Alfonso",{"$f":"+O$38","v":-100000000},{"$f":"+O$39","v":0},{"$f":"+P$38","v":0},{"$f":"+O$24","v":0},-100000800]
[10,"Anna",{"$f":"+AJ$38","v":-100000000},{"$f":"+AJ$39","v":0},{"$f":"+AK$38","v":0},{"$f":"+AJ$24","v":0},-100000800]
[11,"Coralie",{"$f":"+AM$38","v":-100000000},{"$f":"+AM$39","v":0},{"$f":"+AN$38","v":0},{"$f":"+AM$24","v":0},-100000800]
[12,"David",{"$f":"+F$38","v":-100000000},{"$f":"+F$39","v":0},{"$f":"+G$38","v":0},{"$f":"+F$24","v":0},-100000800]
[13,"Grau",{"$f":"+AV$38","v":-100000000},{"$f":"+AV$39","v":0},{"$f":"+AW$38","v":0},{"$f":"+AU$24","v":0},-100000800]
[14,"Iglesias",{"$f":"+AA$38","v":-100000000},{"$f":"+AA$39","v":0},{"$f":"+AB$38","v":0},{"$f":"+AA$24","v":0},-100000800]
[15,"Martín",{"$f":"+AD$38","v":-100000000},{"$f":"+AD$39","v":0},{"$f":"+AE$38","v":0},{"$f":"+AD$24","v":0},-100000800]
[16,"Salvadó",{"$f":"+C$38","v":-100000000},{"$f":"+C$39","v":0},{"$f":"+D$38","v":0},{"$f":"+C$24","v":0},-100000800]
[17,"Xavi",{"$f":"+AG$38","v":-100000000},{"$f":"+AG$39","v":0},{"$f":"+AH$38","v":0},{"$f":"+AG$24","v":0},-100000800]
[]
[]
[null,"General",{"$f":"+C25*C26","v":0},{"$f":"+D25*D26","v":0},null,{"$f":"+F25*F26","v":0},{"$f":"+G25*G26","v":0},null,{"$f":"+I25*I26","v":0},{"$f":"+J25*J26","v":0},null,{"$f":"+L25*L26","v":0},{"$f":"+M25*M26","v":0},null,{"$f":"+O25*O26","v":0},{"$f":"+P25*P26","v":0},null,{"$f":"+R25*R26","v":0},{"$f":"+S25*S26","v":0},null,{"$f":"+U25*U26","v":0},{"$f":"+V25*V26","v":0},null,{"$f":"+X25*X26","v":0},{"$f":"+Y25*Y26","v":0},null,{"$f":"+AA25*AA26","v":0},{"$f":"+AB25*AB26","v":0},null,{"$f":"+AD25*AD26","v":0},{"$f":"+AE25*AE26","v":0},null,{"$f":"+AG25*AG26","v":0},{"$f":"+AH25*AH26","v":0},null,{"$f":"+AJ25*AJ26","v":0},{"$f":"+AK25*AK26","v":0},null,{"$f":"+AM25*AM26","v":0},{"$f":"+AN25*AN26","v":0},null,{"$f":"+AP25*AP26","v":0},{"$f":"+AQ25*AQ26","v":0},null,{"$f":"+AS25*AS26","v":0},{"$f":"+AT25*AT26","v":0},null,{"$f":"+AV25*AV26","v":0},{"$f":"+AW25*AW26","v":0},null,{"$f":"+AY25*AY26","v":0},{"$f":"+AZ25*AZ26","v":0}]
[null,null,{"$f":"IF($B37>3,1,0)","v":0},{"$f":"IF($B37>3,1,0)","v":0},null,0,0,null,{"$f":"IF($B37>3,1,0)","v":0},0,null,0,0,null,0,0,null,0,0,null,0,0,null,0,0,null,0,0,null,0,0,null,0,0,null,{"$f":"IF($B37>3,1,0)","v":0},{"$f":"IF($B37>3,1,0)","v":0},null,{"$f":"IF($B37>3,1,0)","v":0},{"$f":"IF($B37>3,1,0)","v":0},null,0,0,null,{"$f":"IF($B37>3,1,0)","v":0},{"$f":"IF($B37>3,1,0)","v":0},null,{"$f":"IF($B37>3,1,0)","v":0},{"$f":"IF($B37>3,1,0)","v":0},null,0,0]
[null,null,{"$f":"MAX(C27:C31)","v":0},{"$f":"+D38","v":0},null,{"$f":"MAX(F27:F31)","v":0},{"$f":"+G38","v":0},null,{"$f":"MAX(I27:I31)","v":0},{"$f":"+J38","v":0},null,{"$f":"MAX(L27:L31)","v":0},{"$f":"+M38","v":0},null,{"$f":"MAX(O27:O31)","v":0},{"$f":"+P38","v":0},null,{"$f":"MAX(R27:R31)","v":0},{"$f":"+S38","v":0},null,{"$f":"MAX(U27:U31)","v":0},{"$f":"+V38","v":0},null,{"$f":"MAX(X27:X31)","v":0},{"$f":"+Y38","v":0},null,{"$f":"MAX(AA27:AA31)","v":0},{"$f":"+AB38","v":0},null,{"$f":"MAX(AD27:AD31)","v":0},{"$f":"+AE38","v":0},null,{"$f":"MAX(AG27:AG31)","v":0},{"$f":"+AH38","v":0},null,{"$f":"MAX(AJ27:AJ31)","v":0},{"$f":"+AK38","v":0},null,{"$f":"MAX(AM27:AM31)","v":0},{"$f":"+AN38","v":0},null,{"$f":"MAX(AP27:AP31)","v":0},{"$f":"+AQ38","v":0},null,{"$f":"MAX(AS27:AS31)","v":0},{"$f":"+AT38","v":0},null,{"$f":"MAX(AV27:AV31)","v":0},{"$f":"+AW38","v":0},null,{"$f":"MAX(AY27:AY31)","v":0},{"$f":"+AZ38","v":0}]
[null,null,{"$f":"IF(C$32=5,5,0)","v":0},null,null,{"$f":"IF(F$32=5,5,0)","v":0},null,null,{"$f":"IF(I$32=5,5,0)","v":0},null,null,{"$f":"IF(L$32=5,5,0)","v":0},null,null,{"$f":"IF(O$32=5,5,0)","v":0},null,null,{"$f":"IF(R$32=5,5,0)","v":0},null,null,{"$f":"IF(U$32=5,5,0)","v":0},null,null,{"$f":"IF(X$32=5,5,0)","v":0},null,null,{"$f":"IF(AA$32=5,5,0)","v":0},null,null,{"$f":"IF(AD$32=5,5,0)","v":0},null,null,{"$f":"IF(AG$32=5,5,0)","v":0},null,null,{"$f":"IF(AJ$32=5,5,0)","v":0},null,null,{"$f":"IF(AM$32=5,5,0)","v":0},null,null,{"$f":"IF(AP$32=5,5,0)","v":0},null,null,{"$f":"IF(AS$32=5,5,0)","v":0},null,null,{"$f":"IF(AV$32=5,5,0)","v":0},null,null,{"$f":"IF(AY$32=5,5,0)","v":0}]
[null,null,{"$f":"IF(C$32=4,10,0)","v":0},null,null,{"$f":"IF(F$32=4,10,0)","v":0},null,null,{"$f":"IF(I$32=4,10,0)","v":0},null,null,{"$f":"IF(L$32=4,10,0)","v":0},null,null,{"$f":"IF(O$32=4,10,0)","v":0},null,null,{"$f":"IF(R$32=4,10,0)","v":0},null,null,{"$f":"IF(U$32=4,10,0)","v":0},null,null,{"$f":"IF(X$32=4,10,0)","v":0},null,null,{"$f":"IF(AA$32=4,10,0)","v":0},null,null,{"$f":"IF(AD$32=4,10,0)","v":0},null,null,{"$f":"IF(AG$32=4,10,0)","v":0},null,null,{"$f":"IF(AJ$32=4,10,0)","v":0},null,null,{"$f":"IF(AM$32=4,10,0)","v":0},null,null,{"$f":"IF(AP$32=4,10,0)","v":0},null,null,{"$f":"IF(AS$32=4,10,0)","v":0},null,null,{"$f":"IF(AV$32=4,10,0)","v":0},null,null,{"$f":"IF(AY$32=4,10,0)","v":0}]
[null,null,{"$f":"IF(C$32=3,20,0)","v":0},null,null,{"$f":"IF(F$32=3,20,0)","v":0},null,null,{"$f":"IF(I$32=3,20,0)","v":0},null,null,{"$f":"IF(L$32=3,20,0)","v":0},null,null,{"$f":"IF(O$32=3,20,0)","v":0},null,null,{"$f":"IF(R$32=3,20,0)","v":0},null,null,{"$f":"IF(U$32=3,20,0)","v":0},null,null,{"$f":"IF(X$32=3,20,0)","v":0},null,null,{"$f":"IF(AA$32=3,20,0)","v":0},null,null,{"$f":"IF(AD$32=3,20,0)","v":0},null,null,{"$f":"IF(AG$32=3,20,0)","v":0},null,null,{"$f":"IF(AJ$32=3,20,0)","v":0},null,null,{"$f":"IF(AM$32=3,20,0)","v":0},null,null,{"$f":"IF(AP$32=3,20,0)","v":0},null,null,{"$f":"IF(AS$32=3,20,0)","v":0},null,null,{"$f":"IF(AV$32=3,20,0)","v":0},null,null,{"$f":"IF(AY$32=3,20,0)","v":0}]
[null,null,{"$f":"IF(C$32=2,40,0)","v":0},null,null,{"$f":"IF(F$32=2,40,0)","v":0},null,null,{"$f":"IF(I$32=2,40,0)","v":0},null,null,{"$f":"IF(L$32=2,40,0)","v":0},null,null,{"$f":"IF(O$32=2,40,0)","v":0},null,null,{"$f":"IF(R$32=2,40,0)","v":0},null,null,{"$f":"IF(U$32=2,40,0)","v":0},null,null,{"$f":"IF(X$32=2,40,0)","v":0},null,null,{"$f":"IF(AA$32=2,40,0)","v":0},null,null,{"$f":"IF(AD$32=2,40,0)","v":0},null,null,{"$f":"IF(AG$32=2,40,0)","v":0},null,null,{"$f":"IF(AJ$32=2,40,0)","v":0},null,null,{"$f":"IF(AM$32=2,40,0)","v":0},null,null,{"$f":"IF(AP$32=2,40,0)","v":0},null,null,{"$f":"IF(AS$32=2,40,0)","v":0},null,null,{"$f":"IF(AV$32=2,40,0)","v":0},null,null,{"$f":"IF(AY$32=2,40,0)","v":0}]
[null,null,{"$f":"IF(C$32=1,80,0)","v":0},null,null,{"$f":"IF(F$32=1,80,0)","v":0},null,null,{"$f":"IF(I$32=1,80,0)","v":0},null,null,{"$f":"IF(L$32=1,80,0)","v":0},null,null,{"$f":"IF(O$32=1,80,0)","v":0},null,null,{"$f":"IF(R$32=1,80,0)","v":0},null,null,{"$f":"IF(U$32=1,80,0)","v":0},null,null,{"$f":"IF(X$32=1,80,0)","v":0},null,null,{"$f":"IF(AA$32=1,80,0)","v":0},null,null,{"$f":"IF(AD$32=1,80,0)","v":0},null,null,{"$f":"IF(AG$32=1,80,0)","v":0},null,null,{"$f":"IF(AJ$32=1,80,0)","v":0},null,null,{"$f":"IF(AM$32=1,80,0)","v":0},null,null,{"$f":"IF(AP$32=1,80,0)","v":0},null,null,{"$f":"IF(AS$32=1,80,0)","v":0},null,null,{"$f":"IF(AV$32=1,80,0)","v":0},null,null,{"$f":"IF(AY$32=1,80,0)","v":0}]
[null,null,{"$f":"RANK(C33,$C33:$AZ33)*C37","v":0},null,null,{"$f":"RANK(F33,$C33:$AZ33)*F37","v":0},null,null,{"$f":"RANK(I33,$C33:$AZ33)*I37","v":0},null,null,{"$f":"RANK(L33,$C33:$AZ33)*L37","v":0},null,null,{"$f":"RANK(O33,$C33:$AZ33)*O37","v":0},null,null,{"$f":"RANK(R33,$C33:$AZ33)*R37","v":0},null,null,{"$f":"RANK(U33,$C33:$AZ33)*U37","v":0},null,null,{"$f":"RANK(X33,$C33:$AZ33)*X37","v":0},null,null,{"$f":"RANK(AA33,$C33:$AZ33)*AA37","v":0},null,null,{"$f":"RANK(AD33,$C33:$AZ33)*AD37","v":0},null,null,{"$f":"RANK(AG33,$C33:$AZ33)*AG37","v":0},null,null,{"$f":"RANK(AJ33,$C33:$AZ33)*AJ37","v":0},null,null,{"$f":"RANK(AM33,$C33:$AZ33)*AM37","v":0},null,null,{"$f":"RANK(AP33,$C33:$AZ33)*AP37","v":0},null,null,{"$f":"RANK(AS33,$C33:$AZ33)*AS37","v":0},null,null,{"$f":"RANK(AV33,$C33:$AZ33)*AV37","v":0},null,null,{"$f":"RANK(AY33,$C33:$AZ33)*AY37","v":0}]
[null,null,{"$f":"SUM(C34:C36)","v":-100000000},null,null,{"$f":"SUM(F34:F36)","v":-100000000},null,null,{"$f":"SUM(I34:I36)","v":-100000000},null,null,{"$f":"SUM(L34:L36)","v":-100000000},null,null,{"$f":"SUM(O34:O36)","v":-100000000},null,null,{"$f":"SUM(R34:R36)","v":-100000000},null,null,{"$f":"SUM(U34:U36)","v":-100000000},null,null,{"$f":"SUM(X34:X36)","v":-100000000},null,null,{"$f":"SUM(AA34:AA36)","v":-100000000},null,null,{"$f":"SUM(AD34:AD36)","v":-100000000},null,null,{"$f":"SUM(AG34:AG36)","v":-100000000},null,null,{"$f":"SUM(AJ34:AJ36)","v":-100000000},null,null,{"$f":"SUM(AM34:AM36)","v":-100000000},null,null,{"$f":"SUM(AP34:AP36)","v":-100000000},null,null,{"$f":"SUM(AS34:AS36)","v":-100000000},null,null,{"$f":"SUM(AV34:AV36)","v":-100000000},null,null,{"$f":"SUM(AY34:AY36)","v":-100000000}]
[null,null,{"$f":"+D38/100","v":0},null,null,{"$f":"+G38/100","v":0},null,null,{"$f":"+J38/100","v":0},null,null,{"$f":"+M38/100","v":0},null,null,{"$f":"+P38/100","v":0},null,null,{"$f":"+S38/100","v":0},null,null,{"$f":"+V38/100","v":0},null,null,{"$f":"+Y38/100","v":0},null,null,{"$f":"+AB38/100","v":0},null,null,{"$f":"+AE38/100","v":0},null,null,{"$f":"+AH38/100","v":0},null,null,{"$f":"+AK38/100","v":0},null,null,{"$f":"+AN38/100","v":0},null,null,{"$f":"+AQ38/100","v":0},null,null,{"$f":"+AT38/100","v":0},null,null,{"$f":"+AW38","v":0},null,null,{"$f":"+AZ38/100","v":0}]
[null,null,{"$f":"C39","v":0},null,null,{"$f":"F39","v":0},null,null,{"$f":"I39","v":0},null,null,{"$f":"L39","v":0},null,null,{"$f":"O39","v":0},null,null,{"$f":"R39","v":0},null,null,{"$f":"U39","v":0},null,null,{"$f":"X39","v":0},null,null,{"$f":"AA39","v":0},null,null,{"$f":"AD39","v":0},null,null,{"$f":"AG39","v":0},null,null,{"$f":"AJ39","v":0},null,null,{"$f":"AM39","v":0},null,null,{"$f":"AP39","v":0},null,null,{"$f":"AS39","v":0},null,null,{"$f":"-AV39*100","v":0},null,null,{"$f":"AY39","v":0}]
[null,null,{"$f":"IF(D38-$A3/2<0,-100000000,C38*C37*100000+C38)","v":-100000000},null,null,{"$f":"IF(G38-$A3/2<0,-100000000,F38*F37*100000+F38)","v":-100000000},null,null,{"$f":"IF(J38-$A3/2<0,-100000000,I38*I37*100000+I38)","v":-100000000},null,null,{"$f":"IF(M38-$A3/2<0,-100000000,L38*L37*100000+L38)","v":-100000000},null,null,{"$f":"IF(P38-$A3/2<0,-100000000,O38*O37*100000+O38)","v":-100000000},null,null,{"$f":"IF(S38-$A3/2<0,-100000000,R38*R37*100000+R38)","v":-100000000},null,null,{"$f":"IF(V38-$A3/2<0,-100000000,U38*U37*100000+U38)","v":-100000000},null,null,{"$f":"IF(Y38-$A3/2<0,-100000000,X38*X37*100000+X38)","v":-100000000},null,null,{"$f":"IF(AB38-$A3/2<0,-100000000,AA38*AA37*100000+AA38)","v":-100000000},null,null,{"$f":"IF(AE38-$A3/2<0,-100000000,AD38*AD37*100000+AD38)","v":-100000000},null,null,{"$f":"IF(AH38-$A3/2<0,-100000000,AG38*AG37*100000+AG38)","v":-100000000},null,null,{"$f":"IF(AK38-$A3/2<0,-100000000,AJ38*AJ37*100000+AJ38)","v":-100000000},null,null,{"$f":"IF(AN38-$A3/2<0,-100000000,AM38*AM37*100000+AM38)","v":-100000000},null,null,{"$f":"IF(AQ38-$A3/2<0,-100000000,AP38*AP37*100000+AP38)","v":-100000000},null,null,{"$f":"IF(AT38-$A3/2<0,-100000000,AS38*AS37*100000+AS38)","v":-100000000},null,null,{"$f":"IF(AW38-$A3/2<0,-100000000,AV38*AV37*100000+AV38)","v":-100000000},null,null,{"$f":"IF(AZ38-$A3/2<0,-100000000,AY38*AY37*100000+AY38)","v":-100000000}]
["Classificats",{"$f":"SUM(C37:AY37)","v":0},{"$f":"IF(D38>=$A3/2,1,0)","v":0},null,null,{"$f":"IF(G38>=$A3/2,1,0)","v":0},null,null,{"$f":"IF(J38>=$A3/2,1,0)","v":0},null,null,{"$f":"IF(M38>=$A3/2,1,0)","v":0},null,null,{"$f":"IF(P38>=$A3/2,1,0)","v":0},null,null,{"$f":"IF(S38>=$A3/2,1,0)","v":0},null,null,{"$f":"IF(V38>=$A3/2,1,0)","v":0},null,null,{"$f":"IF(Y38>=$A3/2,1,0)","v":0},null,null,{"$f":"IF(AB38>=$A3/2,1,0)","v":0},null,null,{"$f":"IF(AE38>=$A3/2,1,0)","v":0},null,null,{"$f":"IF(AH38>=$A3/2,1,0)","v":0},null,null,{"$f":"IF(AK38>=$A3/2,1,0)","v":0},null,null,{"$f":"IF(AN38>=$A3/2,1,0)","v":0},null,null,{"$f":"IF(AQ38>=$A3/2,1,0)","v":0},null,null,{"$f":"IF(AT38>=$A3/2,1,0)","v":0},null,null,{"$f":"IF(AW38>=$A3/2,1,0)","v":0},null,null,{"$f":"IF(AZ38>=$A3/2,1,0)","v":0}]
[null,null,{"$f":"IF(SUM(C43:C241)<-1000,-100000000,SUM(C43:C241))","v":-100000000},{"$f":"COUNT(D43:D241)","v":0},null,{"$f":"IF(SUM(F43:F241)<-1000,-100000000,SUM(F43:F241))","v":-100000000},{"$f":"COUNT(G43:G241)","v":0},null,{"$f":"IF(SUM(I43:I241)<-1000,-100000000,SUM(I43:I241))","v":-100000000},{"$f":"COUNT(J43:J241)","v":0},null,{"$f":"IF(SUM(L43:L241)<-1000,-100000000,SUM(L43:L241))","v":-100000000},{"$f":"COUNT(M43:M241)","v":0},null,{"$f":"IF(SUM(O43:O241)<-1000,-100000000,SUM(O43:O241))","v":-100000000},{"$f":"COUNT(P43:P241)","v":0},null,{"$f":"IF(SUM(R43:R241)<-1000,-100000000,SUM(R43:R241))","v":-100000000},{"$f":"COUNT(S43:S241)","v":0},null,{"$f":"IF(SUM(U43:U241)<-1000,-100000000,SUM(U43:U241))","v":-100000000},{"$f":"COUNT(V43:V241)","v":0},null,{"$f":"IF(SUM(X43:X241)<-1000,-100000000,SUM(X43:X241))","v":-100000000},{"$f":"COUNT(Y43:Y241)","v":0},null,{"$f":"IF(SUM(AA43:AA241)<-1000,-100000000,SUM(AA43:AA241))","v":-100000000},{"$f":"COUNT(AB43:AB241)","v":0},null,{"$f":"IF(SUM(AD43:AD241)<-1000,-100000000,SUM(AD43:AD241))","v":-100000000},{"$f":"COUNT(AE43:AE241)","v":0},null,{"$f":"IF(SUM(AG43:AG241)<-1000,-100000000,SUM(AG43:AG241))","v":-100000000},{"$f":"COUNT(AH43:AH241)","v":0},null,{"$f":"IF(SUM(AJ43:AJ241)<-1000,-100000000,SUM(AJ43:AJ241))","v":-100000000},{"$f":"COUNT(AK43:AK241)","v":0},null,{"$f":"IF(SUM(AM43:AM241)<-1000,-100000000,SUM(AM43:AM241))","v":-100000000},{"$f":"COUNT(AN43:AN241)","v":0},null,{"$f":"IF(SUM(AP43:AP241)<-1000,-100000000,SUM(AP43:AP241))","v":-100000000},{"$f":"COUNT(AQ43:AQ241)","v":0},null,{"$f":"IF(SUM(AS43:AS241)<-1000,-100000000,SUM(AS43:AS241))","v":-100000000},{"$f":"COUNT(AT43:AT241)","v":0},null,{"$f":"IF(SUM(AV43:AV241)<-1000,-100000000,SUM(AV43:AV241))","v":-100000000},{"$f":"COUNT(AW43:AW241)","v":0},null,{"$f":"IF(SUM(AY43:AY241)<-1000,-100000000,SUM(AY43:AY241))","v":-100000000},{"$f":"COUNT(AZ43:AZ241)","v":0},null,null,"A"]
[null,null,{"$f":"+D39/E39","v":0},{"$f":"SUM(D43:D156)","v":0},{"$f":"SUM(E43:E156)","v":-1},{"$f":"+G39/H39","v":0},{"$f":"SUM(G43:G156)","v":0},{"$f":"SUM(H43:H156)","v":-1},{"$f":"+J39/K39","v":0},{"$f":"SUM(J43:J156)","v":0},{"$f":"SUM(K43:K156)","v":-1},{"$f":"+M39/N39","v":0},{"$f":"SUM(M43:M156)","v":0},{"$f":"SUM(N43:N156)","v":-1},{"$f":"+P39/Q39","v":0},{"$f":"SUM(P43:P156)","v":0},{"$f":"SUM(Q43:Q156)","v":-1},{"$f":"+S39/T39","v":0},{"$f":"SUM(S43:S156)","v":0},{"$f":"SUM(T43:T156)","v":-1},{"$f":"+V39/W39","v":0},{"$f":"SUM(V43:V156)","v":0},{"$f":"SUM(W43:W156)","v":-1},{"$f":"+Y39/Z39","v":0},{"$f":"SUM(Y43:Y156)","v":0},{"$f":"SUM(Z43:Z156)","v":-1},{"$f":"+AB39/AC39","v":0},{"$f":"SUM(AB43:AB156)","v":0},{"$f":"SUM(AC43:AC156)","v":-1},{"$f":"+AE39/AF39","v":0},{"$f":"SUM(AE43:AE156)","v":0},{"$f":"SUM(AF43:AF156)","v":-1},{"$f":"+AH39/AI39","v":0},{"$f":"SUM(AH43:AH156)","v":0},{"$f":"SUM(AI43:AI156)","v":-1},{"$f":"+AK39/AL39","v":0},{"$f":"SUM(AK43:AK156)","v":0},{"$f":"SUM(AL43:AL156)","v":-1},{"$f":"+AN39/AO39","v":0},{"$f":"SUM(AN43:AN156)","v":0},{"$f":"SUM(AO43:AO156)","v":-1},{"$f":"+AQ39/AR39","v":0},{"$f":"SUM(AQ43:AQ156)","v":0},{"$f":"SUM(AR43:AR156)","v":-1},{"$f":"+AT39/AU39","v":0},{"$f":"SUM(AT43:AT156)","v":0},{"$f":"SUM(AU43:AU156)","v":-1},{"$f":"+AW39/AX39","v":0},{"$f":"SUM(AW43:AW156)","v":0},{"$f":"SUM(AX43:AX156)","v":-1},{"$f":"+AZ39/BA39","v":0},{"$f":"SUM(AZ43:AZ156)","v":0},{"$f":"SUM(BA43:BA156)","v":-1},null,"B"]
[null,null,null,null,null,null,null,null,null,null,null,null,null,null,null,null,null,null,null,null,null,null,null,null,null,null,null,null,null,null,null,null,null,null,null,null,null,null,null,null,null,null,null,null,null,null,null,null,null,null,null,null,null,{"$f":"MAX(BC43:BC102)","v":0}]
[null,"Nº partida ","Salvadó",null,null,"David",null,null,"Jordi",null,null,"Joan Carles",null,null,"Alfonso",null,null,"Sergi",null,null,"Carles",null,null,"Mariajo",null,null,"Iglesias",null,null,"Martin",null,null,"Xavi",null,null,"Anna",null,null,"Coralie",null,null,"Mercè",null,null,"Goretti",null,null,"Jorge",null,null,"Grau",null,null,{"$f":"COUNT(BB43:BB156)","v":0},"A","B","C"]
[null,"5 copes","Premi","Punts",null,"Premi","Punts",null,"Premi","Punts",null,"Premi","Punts",null,"Premi","Punts",null,"Premi","Punts",null,"Premi","Punts",null,"Premi","Punts",null,"Premi","Punts",null,"Premi","Punts",null,"Premi","Punts",null,"Premi","Punts",null,"Premi","Punts",null,"Premi","Punts",null,"Premi","Punts",null,"Premi","Punts",null,"Premi","Punts",null,"Data","Timba"]
[1,null,-10000,null,-1,-10000,null,-1,-10000,null,-1,-10000,null,-1,-10000,null,-1,-10000,null,-1,-10000,null,-1,-10000,null,-1,-10000,null,-1,-10000,null,-1,-10000,null,-1,-10000,null,-1,-10000,null,-1,-10000,null,-1,-10000,null,-1,-10000,null,-1,-10000,null,-1,null,null,{"$f":"+AY43+AP43+AG43+AD43+AA43+X43+U43+R43+O43+L43+I43+F43+C43+AJ43+AM43+AS43+AV43","v":-170000},{"$f":"COUNT(C43:BA43)/3","v":11.333333333333334},{"$f":"+BD43/BE43","v":-15000}]
[{"$f":"+A43+1","v":2},null,null,null,null,null,null,null,null,null,null,null,null,null,null,null,null,null,null,null,null,null,null,null,null,null,null,null,null,null,null,null,null,null,null,null,null,null,null,null,null,null,null,null,null,null,null,null,null,null,null,null,null,null,null,0,0,{"$error":"#DIV/0!"}]
[{"$f":"+A44+1","v":3},null,null,null,null,null,null,null,null,null,null,null,null,null,null,null,null,null,null,null,null,null,null,null,null,null,null,null,null,null,null,null,null,null,null,null,null,null,null,null,null,null,null,null,null,null,null,null,null,null,null,null,null,null,null,0,0,{"$error":"#DIV/0!"}]
[4,null,null,null,null,null,null,null,null,null,null,null,null,null,null,null,null,null,null,null,null,null,null,null,null,null,null,null,null,null,null,null,null,null,null,null,null,null,null,null,null,null,null,null,null,null,null,null,null,null,null,null,null,null,null,0,0,{"$error":"#DIV/0!"}]
[5,null,null,null,null,null,null,null,null,null,null,null,null,null,null,null,null,null,null,null,null,null,null,null,null,null,null,null,null,null,null,null,null,null,null,null,null,null,null,null,null,null,null,null,null,null,null,null,null,null,null,null,null,null,null,0,0,{"$error":"#DIV/0!"}]
[6,null,null,null,null,null,null,null,null,null,null,null,null,null,null,null,null,null,null,null,null,null,null,null,null,null,null,null,null,null,null,null,null,null,null,null,null,null,null,null,null,null,null,null,null,null,null,null,null,null,null,null,null,null,null,0,0,{"$error":"#DIV/0!"}]
[7,null,null,null,null,null,null,null,null,null,null,null,null,null,null,null,null,null,null,null,null,null,null,null,null,null,null,null,null,null,null,null,null,null,null,null,null,null,null,null,null,null,null,null,null,null,null,null,null,null,null,null,null,null,null,0,0,{"$error":"#DIV/0!"}]
[8,null,null,null,null,null,null,null,null,null,null,null,null,null,null,null,null,null,null,null,null,null,null,null,null,null,null,null,null,null,null,null,null,null,null,null,null,null,null,null,null,null,null,null,null,null,null,null,null,null,null,null,null,null,null,0,0,{"$error":"#DIV/0!"}]
[9,null,null,null,null,null,null,null,null,null,null,null,null,null,null,null,null,null,null,null,null,null,null,null,null,null,null,null,null,null,null,null,null,null,null,null,null,null,null,null,null,null,null,null,null,null,null,null,null,null,null,null,null,null,null,0,0,{"$error":"#DIV/0!"}]
[10,null,null,null,null,null,null,null,null,null,null,null,null,null,null,null,null,null,null,null,null,null,null,null,null,null,null,null,null,null,null,null,null,null,null,null,null,null,null,null,null,null,null,null,null,null,null,null,null,null,null,null,null,null,null,0,0,{"$error":"#DIV/0!"}]
[11,null,null,null,null,null,null,null,null,null,null,null,null,null,null,null,null,null,null,null,null,null,null,null,null,null,null,null,null,null,null,null,null,null,null,null,null,null,null,null,null,null,null,null,null,null,null,null,null,null,null,null,null,null,null,0,0,{"$error":"#DIV/0!"}]
[12,null,null,null,null,null,null,null,null,null,null,null,null,null,null,null,null,null,null,null,null,null,null,null,null,null,null,null,null,null,null,null,null,null,null,null,null,null,null,null,null,null,null,null,null,null,null,null,null,null,null,null,null,null,null,0,0,{"$error":"#DIV/0!"}]
[13,null,null,null,null,null,null,null,null,null,null,null,null,null,null,null,null,null,null,null,null,null,null,null,null,null,null,null,null,null,null,null,null,null,null,null,null,null,null,null,null,null,null,null,null,null,null,null,null,null,null,null,null,null,null,0,0,{"$error":"#DIV/0!"}]
[14,null,null,null,null,null,null,null,null,null,null,null,null,null,null,null,null,null,null,null,null,null,null,null,null,null,null,null,null,null,null,null,null,null,null,null,null,null,null,null,null,null,null,null,null,null,null,null,null,null,null,null,null,null,null,0,0,{"$error":"#DIV/0!"}]
[15,null,null,null,null,null,null,null,null,null,null,null,null,null,null,null,null,null,null,null,null,null,null,null,null,null,null,null,null,null,null,null,null,null,null,null,null,null,null,null,null,null,null,null,null,null,null,null,null,null,null,null,null,null,null,0,0,{"$error":"#DIV/0!"}]
[16,null,null,null,null,null,null,null,null,null,null,null,null,null,null,null,null,null,null,null,null,null,null,null,null,null,null,null,null,null,null,null,null,null,null,null,null,null,null,null,null,null,null,null,null,null,null,null,null,null,null,null,null,null,null,0,0,{"$error":"#DIV/0!"}]
[17,null,null,null,null,null,null,null,null,null,null,null,null,null,null,null,null,null,null,null,null,null,null,null,null,null,null,null,null,null,null,null,null,null,null,null,null,null,null,null,null,null,null,null,null,null,null,null,null,null,null,null,null,null,null,0,0,{"$error":"#DIV/0!"}]
[18,null,null,null,null,null,null,null,null,null,null,null,null,null,null,null,null,null,null,null,null,null,null,null,null,null,null,null,null,null,null,null,null,null,null,null,null,null,null,null,null,null,null,null,null,null,null,null,null,null,null,null,null,null,null,0,0,{"$error":"#DIV/0!"}]
[19,null,null,null,null,null,null,null,null,null,null,null,null,null,null,null,null,null,null,null,null,null,null,null,null,null,null,null,null,null,null,null,null,null,null,null,null,null,null,null,null,null,null,null,null,null,null,null,null,null,null,null,null,null,null,0,0,{"$error":"#DIV/0!"}]
[20,null,null,null,null,null,null,null,null,null,null,null,null,null,null,null,null,null,null,null,null,null,null,null,null,null,null,null,null,null,null,null,null,null,null,null,null,null,null,null,null,null,null,null,null,null,null,null,null,null,null,null,null,null,null,0,0,{"$error":"#DIV/0!"}]
[21,null,null,null,null,null,null,null,null,null,null,null,null,null,null,null,null,null,null,null,null,null,null,null,null,null,null,null,null,null,null,null,null,null,null,null,null,null,null,null,null,null,null,null,null,null,null,null,null,null,null,null,null,null,null,0,0,{"$error":"#DIV/0!"}]
[22,null,null,null,null,null,null,null,null,null,null,null,null,null,null,null,null,null,null,null,null,null,null,null,null,null,null,null,null,null,null,null,null,null,null,null,null,null,null,null,null,null,null,null,null,null,null,null,null,null,null,null,null,null,null,0,0,{"$error":"#DIV/0!"}]
[23,null,null,null,null,null,null,null,null,null,null,null,null,null,null,null,null,null,null,null,null,null,null,null,null,null,null,null,null,null,null,null,null,null,null,null,null,null,null,null,null,null,null,null,null,null,null,null,null,null,null,null,null,null,null,0,0,{"$error":"#DIV/0!"}]
[24,null,null,null,null,null,null,null,null,null,null,null,null,null,null,null,null,null,null,null,null,null,null,null,null,null,null,null,null,null,null,null,null,null,null,null,null,null,null,null,null,null,null,null,null,null,null,null,null,null,null,null,null,null,null,{"$f":"+AY66+AP66+AG66+AD66+AA66+X66+U66+R66+O66+L66+I66+F66+C66+AJ66+AM66+AS66+AV66","v":0},0,{"$error":"#DIV/0!"}]
[25,null,null,null,null,null,null,null,null,null,null,null,null,null,null,null,null,null,null,null,null,null,null,null,null,null,null,null,null,null,null,null,null,null,null,null,null,null,null,null,null,null,null,null,null,null,null,null,null,null,null,null,null,null,null,{"$f":"+AY67+AP67+AG67+AD67+AA67+X67+U67+R67+O67+L67+I67+F67+C67+AJ67+AM67+AS67+AV67","v":0},{"$f":"COUNT(C67:BA67)/3","v":0},{"$f":"+BD67/BE67","v":{"$error":"#DIV/0!"}}]
[26,null,null,null,null,null,null,null,null,null,null,null,null,null,null,null,null,null,null,null,null,null,null,null,null,null,null,null,null,null,null,null,null,null,null,null,null,null,null,null,null,null,null,null,null,null,null,null,null,null,null,null,null,null,null,{"$f":"+AY68+AP68+AG68+AD68+AA68+X68+U68+R68+O68+L68+I68+F68+C68+AJ68+AM68+AS68+AV68","v":0},{"$f":"COUNT(C68:BA68)/3","v":0},{"$f":"+BD68/BE68","v":{"$error":"#DIV/0!"}}]
[27,null,null,null,null,null,null,null,null,null,null,null,null,null,null,null,null,null,null,null,null,null,null,null,null,null,null,null,null,null,null,null,null,null,null,null,null,null,null,null,null,null,null,null,null,null,null,null,null,null,null,null,null,null,null,{"$f":"+AY69+AP69+AG69+AD69+AA69+X69+U69+R69+O69+L69+I69+F69+C69+AJ69+AM69+AS69+AV69","v":0},{"$f":"COUNT(C69:BA69)/3","v":0},{"$f":"+BD69/BE69","v":{"$error":"#DIV/0!"}}]
[28]
[29]
[30]
[31]
[32]
[33]
[34]
[35]
[36]
[37]
[38]
[39]
[40]
[41]
[42]
[43]
[44]
[45]
[{"$f":"+A87+1","v":46}]
[47]
[48]
[49]
[50]
[51]
[52]
[53]
[54]
[55]
[56]
[57]
[58]
[59]
[60]
[61]
[62]
[63]
[64]
[65]
[66]
[{"$f":"+A108+1","v":67}]
[68]
[69]
[70]
[71]
[72]
[73]
[74]
[75]
[76]
[77]
[78]
[79]
[80]
[81]
[82]
[83]
[84]
[85]
[86]
[87]
[88]
[89]
[90]
[91]
[92]
[93]
[94]
[95]
[96]
[97]
[98]
[99]
[100]
[101]
[102]
[103]
[104]
[105]
[106]
[107]
[108]
[109]
[110]
[111]
[112]
[113]
[114]

{"sheet":"1000km","index":26,"n_rows":156,"n_cols":58,"rows_kept":156,"cut":false,"hidden":false,"merged":[[40,35,40,37],[40,2,40,4],[40,5,40,7],[40,8,40,10],[40,11,40,13],[40,14,40,16],[40,17,40,19],[40,20,40,22],[40,23,40,25],[40,26,40,28],[40,29,40,31],[40,32,40,34],[40,50,40,52],[40,38,40,40],[40,41,40,43],[40,44,40,46],[40,47,40,49]]}
["1000km"]
["Mes"]
[{"$f":"+GENERAL!B6","v":12},null,{"$f":"SUM(C5:C12)","v":-800000000}]
[null,null,"Premi","Punts","Partides","General"]
[1,"Mercè",{"$f":"+AP$38","v":-100000000},{"$f":"+AP$39","v":0},{"$f":"+AQ$38","v":0},{"$f":"+AP$24","v":0},{"$f":"IF(E5<A$3/2,-1,1)*800+C5","v":-100000800}]
[2,"Sergi",{"$f":"+R$38","v":-100000000},{"$f":"+R$39","v":0},{"$f":"+S$38","v":0},{"$f":"+R$24","v":0},-100000800]
[3,"Mariajo",{"$f":"+X$38","v":-100000000},{"$f":"+X$39","v":0},{"$f":"+Y$38","v":0},{"$f":"+X$24","v":0},-100000800]
[4,"Carles",{"$f":"+U$38","v":-100000000},{"$f":"+U$39","v":0},{"$f":"+V$38","v":0},{"$f":"+U$24","v":0},-100000800]
[5,"Joan Carles",{"$f":"+L$38","v":-100000000},{"$f":"+L$39","v":0},{"$f":"+M$38","v":0},{"$f":"+L$24","v":0},-100000800]
[6,"Grau",{"$f":"+AY$38","v":-100000000},{"$f":"+AY$39","v":0},{"$f":"+AZ$38","v":0},{"$f":"+AY$24","v":0},-100000800]
[7,"Jordi",{"$f":"+I$38","v":-100000000},{"$f":"+I$39","v":0},{"$f":"+J$38","v":0},{"$f":"+I$24","v":0},-100000800]
[8,"Goretti",{"$f":"+AS$38","v":-100000000},{"$f":"+AS$39","v":0},{"$f":"+AT$38","v":0},{"$f":"+AS$24","v":0},-100000800]
[9,"Alfonso",{"$f":"+O$38","v":-100000000},{"$f":"+O$39","v":0},{"$f":"+P$38","v":0},{"$f":"+O$24","v":0},-100000800]
[10,"David",{"$f":"+F$38","v":-100000000},{"$f":"+F$39","v":0},{"$f":"+G$38","v":0},{"$f":"+F$24","v":0},-100000800]
[11,"Coralie",{"$f":"+AM$38","v":-100000000},{"$f":"+AM$39","v":0},{"$f":"+AN$38","v":0},{"$f":"+AM$24","v":0},-100000800]
[12,"Grau",{"$f":"+AV$38","v":-100000000},{"$f":"+AV$39","v":0},{"$f":"+AW$38","v":0},{"$f":"+AU$24","v":0},-100000800]
[13,"Xavi",{"$f":"+AG$38","v":-100000000},{"$f":"+AG$39","v":0},{"$f":"+AH$38","v":0},{"$f":"+AG$24","v":0},-100000800]
[14,"Martín",{"$f":"+AD$38","v":-100000000},{"$f":"+AD$39","v":0},{"$f":"+AE$38","v":0},{"$f":"+AD$24","v":0},-100000800]
[15,"Iglesias",{"$f":"+AA$38","v":-100000000},{"$f":"+AA$39","v":0},{"$f":"+AB$38","v":0},{"$f":"+AA$24","v":0},-100000800]
[16,"Anna",{"$f":"+AJ$38","v":-100000000},{"$f":"+AJ$39","v":0},{"$f":"+AK$38","v":0},{"$f":"+AJ$24","v":0},-100000800]
[17,"Salvadó",{"$f":"+C$38","v":-100000000},{"$f":"+C$39","v":0},{"$f":"+D$38","v":0},{"$f":"+C$24","v":0},-100000800]
[]
[]
[null,"General",{"$f":"+C25*C26","v":0},{"$f":"+D25*D26","v":0},null,{"$f":"+F25*F26","v":0},{"$f":"+G25*G26","v":0},null,{"$f":"+I25*I26","v":0},{"$f":"+J25*J26","v":0},null,{"$f":"+L25*L26","v":0},{"$f":"+M25*M26","v":0},null,{"$f":"+O25*O26","v":0},{"$f":"+P25*P26","v":0},null,{"$f":"+R25*R26","v":0},{"$f":"+S25*S26","v":0},null,{"$f":"+U25*U26","v":0},{"$f":"+V25*V26","v":0},null,{"$f":"+X25*X26","v":0},{"$f":"+Y25*Y26","v":0},null,{"$f":"+AA25*AA26","v":0},{"$f":"+AB25*AB26","v":0},null,{"$f":"+AD25*AD26","v":0},{"$f":"+AE25*AE26","v":0},null,{"$f":"+AG25*AG26","v":0},{"$f":"+AH25*AH26","v":0},null,{"$f":"+AJ25*AJ26","v":0},{"$f":"+AK25*AK26","v":0},null,{"$f":"+AM25*AM26","v":0},{"$f":"+AN25*AN26","v":0},null,{"$f":"+AP25*AP26","v":0},{"$f":"+AQ25*AQ26","v":0},null,{"$f":"+AS25*AS26","v":0},{"$f":"+AT25*AT26","v":0},null,{"$f":"+AV25*AV26","v":0},{"$f":"+AW25*AW26","v":0},null,{"$f":"+AY25*AY26","v":0},{"$f":"+AZ25*AZ26","v":0}]
[null,null,{"$f":"IF($B37>3,1,0)","v":0},{"$f":"IF($B37>3,1,0)","v":0},null,0,0,null,{"$f":"IF($B37>3,1,0)","v":0},0,null,0,0,null,0,0,null,0,0,null,0,0,null,0,0,null,0,0,null,0,0,null,0,0,null,{"$f":"IF($B37>3,1,0)","v":0},{"$f":"IF($B37>3,1,0)","v":0},null,{"$f":"IF($B37>3,1,0)","v":0},{"$f":"IF($B37>3,1,0)","v":0},null,0,0,null,{"$f":"IF($B37>3,1,0)","v":0},{"$f":"IF($B37>3,1,0)","v":0},null,{"$f":"IF($B37>3,1,0)","v":0},{"$f":"IF($B37>3,1,0)","v":0},null,0,0]
[null,null,{"$f":"MAX(C27:C31)","v":0},{"$f":"+D38","v":0},null,{"$f":"MAX(F27:F31)","v":0},{"$f":"+G38","v":0},null,{"$f":"MAX(I27:I31)","v":0},{"$f":"+J38","v":0},null,{"$f":"MAX(L27:L31)","v":0},{"$f":"+M38","v":0},null,{"$f":"MAX(O27:O31)","v":0},{"$f":"+P38","v":0},null,{"$f":"MAX(R27:R31)","v":0},{"$f":"+S38","v":0},null,{"$f":"MAX(U27:U31)","v":0},{"$f":"+V38","v":0},null,{"$f":"MAX(X27:X31)","v":0},{"$f":"+Y38","v":0},null,{"$f":"MAX(AA27:AA31)","v":0},{"$f":"+AB38","v":0},null,{"$f":"MAX(AD27:AD31)","v":0},{"$f":"+AE38","v":0},null,{"$f":"MAX(AG27:AG31)","v":0},{"$f":"+AH38","v":0},null,{"$f":"MAX(AJ27:AJ31)","v":0},{"$f":"+AK38","v":0},null,{"$f":"MAX(AM27:AM31)","v":0},{"$f":"+AN38","v":0},null,{"$f":"MAX(AP27:AP31)","v":0},{"$f":"+AQ38","v":0},null,{"$f":"MAX(AS27:AS31)","v":0},{"$f":"+AT38","v":0},null,{"$f":"MAX(AV27:AV31)","v":0},{"$f":"+AW38","v":0},null,{"$f":"MAX(AY27:AY31)","v":0},{"$f":"+AZ38","v":0}]
[null,null,{"$f":"IF(C$32=5,5,0)","v":0},null,null,{"$f":"IF(F$32=5,5,0)","v":0},null,null,{"$f":"IF(I$32=5,5,0)","v":0},null,null,{"$f":"IF(L$32=5,5,0)","v":0},null,null,{"$f":"IF(O$32=5,5,0)","v":0},null,null,{"$f":"IF(R$32=5,5,0)","v":0},null,null,{"$f":"IF(U$32=5,5,0)","v":0},null,null,{"$f":"IF(X$32=5,5,0)","v":0},null,null,{"$f":"IF(AA$32=5,5,0)","v":0},null,null,{"$f":"IF(AD$32=5,5,0)","v":0},null,null,{"$f":"IF(AG$32=5,5,0)","v":0},null,null,{"$f":"IF(AJ$32=5,5,0)","v":0},null,null,{"$f":"IF(AM$32=5,5,0)","v":0},null,null,{"$f":"IF(AP$32=5,5,0)","v":0},null,null,{"$f":"IF(AS$32=5,5,0)","v":0},null,null,{"$f":"IF(AV$32=5,5,0)","v":0},null,null,{"$f":"IF(AY$32=5,5,0)","v":0}]
[null,null,{"$f":"IF(C$32=4,10,0)","v":0},null,null,{"$f":"IF(F$32=4,10,0)","v":0},null,null,{"$f":"IF(I$32=4,10,0)","v":0},null,null,{"$f":"IF(L$32=4,10,0)","v":0},null,null,{"$f":"IF(O$32=4,10,0)","v":0},null,null,{"$f":"IF(R$32=4,10,0)","v":0},null,null,{"$f":"IF(U$32=4,10,0)","v":0},null,null,{"$f":"IF(X$32=4,10,0)","v":0},null,null,{"$f":"IF(AA$32=4,10,0)","v":0},null,null,{"$f":"IF(AD$32=4,10,0)","v":0},null,null,{"$f":"IF(AG$32=4,10,0)","v":0},null,null,{"$f":"IF(AJ$32=4,10,0)","v":0},null,null,{"$f":"IF(AM$32=4,10,0)","v":0},null,null,{"$f":"IF(AP$32=4,10,0)","v":0},null,null,{"$f":"IF(AS$32=4,10,0)","v":0},null,null,{"$f":"IF(AV$32=4,10,0)","v":0},null,null,{"$f":"IF(AY$32=4,10,0)","v":0}]
[null,null,{"$f":"IF(C$32=3,20,0)","v":0},null,null,{"$f":"IF(F$32=3,20,0)","v":0},null,null,{"$f":"IF(I$32=3,20,0)","v":0},null,null,{"$f":"IF(L$32=3,20,0)","v":0},null,null,{"$f":"IF(O$32=3,20,0)","v":0},null,null,{"$f":"IF(R$32=3,20,0)","v":0},null,null,{"$f":"IF(U$32=3,20,0)","v":0},null,null,{"$f":"IF(X$32=3,20,0)","v":0},null,null,{"$f":"IF(AA$32=3,20,0)","v":0},null,null,{"$f":"IF(AD$32=3,20,0)","v":0},null,null,{"$f":"IF(AG$32=3,20,0)","v":0},null,null,{"$f":"IF(AJ$32=3,20,0)","v":0},null,null,{"$f":"IF(AM$32=3,20,0)","v":0},null,null,{"$f":"IF(AP$32=3,20,0)","v":0},null,null,{"$f":"IF(AS$32=3,20,0)","v":0},null,null,{"$f":"IF(AV$32=3,20,0)","v":0},null,null,{"$f":"IF(AY$32=3,20,0)","v":0}]
[null,null,{"$f":"IF(C$32=2,40,0)","v":0},null,null,{"$f":"IF(F$32=2,40,0)","v":0},null,null,{"$f":"IF(I$32=2,40,0)","v":0},null,null,{"$f":"IF(L$32=2,40,0)","v":0},null,null,{"$f":"IF(O$32=2,40,0)","v":0},null,null,{"$f":"IF(R$32=2,40,0)","v":0},null,null,{"$f":"IF(U$32=2,40,0)","v":0},null,null,{"$f":"IF(X$32=2,40,0)","v":0},null,null,{"$f":"IF(AA$32=2,40,0)","v":0},null,null,{"$f":"IF(AD$32=2,40,0)","v":0},null,null,{"$f":"IF(AG$32=2,40,0)","v":0},null,null,{"$f":"IF(AJ$32=2,40,0)","v":0},null,null,{"$f":"IF(AM$32=2,40,0)","v":0},null,null,{"$f":"IF(AP$32=2,40,0)","v":0},null,null,{"$f":"IF(AS$32=2,40,0)","v":0},null,null,{"$f":"IF(AV$32=2,40,0)","v":0},null,null,{"$f":"IF(AY$32=2,40,0)","v":0}]
[null,null,{"$f":"IF(C$32=1,80,0)","v":0},null,null,{"$f":"IF(F$32=1,80,0)","v":0},null,null,{"$f":"IF(I$32=1,80,0)","v":0},null,null,{"$f":"IF(L$32=1,80,0)","v":0},null,null,{"$f":"IF(O$32=1,80,0)","v":0},null,null,{"$f":"IF(R$32=1,80,0)","v":0},null,null,{"$f":"IF(U$32=1,80,0)","v":0},null,null,{"$f":"IF(X$32=1,80,0)","v":0},null,null,{"$f":"IF(AA$32=1,80,0)","v":0},null,null,{"$f":"IF(AD$32=1,80,0)","v":0},null,null,{"$f":"IF(AG$32=1,80,0)","v":0},null,null,{"$f":"IF(AJ$32=1,80,0)","v":0},null,null,{"$f":"IF(AM$32=1,80,0)","v":0},null,null,{"$f":"IF(AP$32=1,80,0)","v":0},null,null,{"$f":"IF(AS$32=1,80,0)","v":0},null,null,{"$f":"IF(AV$32=1,80,0)","v":0},null,null,{"$f":"IF(AY$32=1,80,0)","v":0}]
[null,null,{"$f":"RANK(C33,$C33:$AZ33)*C37","v":0},null,null,{"$f":"RANK(F33,$C33:$AZ33)*F37","v":0},null,null,{"$f":"RANK(I33,$C33:$AZ33)*I37","v":0},null,null,{"$f":"RANK(L33,$C33:$AZ33)*L37","v":0},null,null,{"$f":"RANK(O33,$C33:$AZ33)*O37","v":0},null,null,{"$f":"RANK(R33,$C33:$AZ33)*R37","v":0},null,null,{"$f":"RANK(U33,$C33:$AZ33)*U37","v":0},null,null,{"$f":"RANK(X33,$C33:$AZ33)*X37","v":0},null,null,{"$f":"RANK(AA33,$C33:$AZ33)*AA37","v":0},null,null,{"$f":"RANK(AD33,$C33:$AZ33)*AD37","v":0},null,null,{"$f":"RANK(AG33,$C33:$AZ33)*AG37","v":0},null,null,{"$f":"RANK(AJ33,$C33:$AZ33)*AJ37","v":0},null,null,{"$f":"RANK(AM33,$C33:$AZ33)*AM37","v":0},null,null,{"$f":"RANK(AP33,$C33:$AZ33)*AP37","v":0},null,null,{"$f":"RANK(AS33,$C33:$AZ33)*AS37","v":0},null,null,{"$f":"RANK(AV33,$C33:$AZ33)*AV37","v":0},null,null,{"$f":"RANK(AY33,$C33:$AZ33)*AY37","v":0}]
[null,null,{"$f":"SUM(C34:C36)","v":-1000000},null,null,{"$f":"SUM(F34:F36)","v":-1000000},null,null,{"$f":"SUM(I34:I36)","v":-1000000},null,null,{"$f":"SUM(L34:L36)","v":-1000000},null,null,{"$f":"SUM(O34:O36)","v":-1000000},null,null,{"$f":"SUM(R34:R36)","v":-1000000},null,null,{"$f":"SUM(U34:U36)","v":-1000000},null,null,{"$f":"SUM(X34:X36)","v":-1000000},null,null,{"$f":"SUM(AA34:AA36)","v":-1000000},null,null,{"$f":"SUM(AD34:AD36)","v":-1000000},null,null,{"$f":"SUM(AG34:AG36)","v":-1000000},null,null,{"$f":"SUM(AJ34:AJ36)","v":-1000000},null,null,{"$f":"SUM(AM34:AM36)","v":-1000000},null,null,{"$f":"SUM(AP34:AP36)","v":-1000000},null,null,{"$f":"SUM(AS34:AS36)","v":-1000000},null,null,{"$f":"SUM(AV34:AV36)","v":-1000000},null,null,{"$f":"SUM(AY34:AY36)","v":-1000000}]
[null,null,{"$f":"+D38","v":0},null,null,{"$f":"+G38","v":0},null,null,{"$f":"+J38","v":0},null,null,{"$f":"+M38","v":0},null,null,{"$f":"+P38","v":0},null,null,{"$f":"+S38","v":0},null,null,{"$f":"+V38","v":0},null,null,{"$f":"+Y38","v":0},null,null,{"$f":"+AB38","v":0},null,null,{"$f":"+AE38","v":0},null,null,{"$f":"+AH38","v":0},null,null,{"$f":"+AK38","v":0},null,null,{"$f":"+AN38","v":0},null,null,{"$f":"+AQ38","v":0},null,null,{"$f":"+AT38","v":0},null,null,{"$f":"+AW38","v":0},null,null,{"$f":"+AZ38","v":0}]
[null,null,{"$f":"C39*100","v":0},null,null,{"$f":"F39*100","v":0},null,null,{"$f":"I39*100","v":0},null,null,{"$f":"-L39*100","v":0},null,null,{"$f":"-O39*100","v":0},null,null,{"$f":"R39*100","v":0},null,null,{"$f":"U39*100","v":0},null,null,{"$f":"X39*100","v":0},null,null,{"$f":"AA39*100","v":0},null,null,{"$f":"-AD39*100","v":0},null,null,{"$f":"-AG39*100","v":0},null,null,{"$f":"-AJ39*100","v":0},null,null,{"$f":"-AM39*100","v":0},null,null,{"$f":"AP39*100","v":0},null,null,{"$f":"AS39*100","v":0},null,null,{"$f":"-AV39*100","v":0},null,null,{"$f":"-AY39*100","v":0}]
[null,null,{"$f":"IF(D38-$A3/2<0,-1000000,C38*C37*10000+C38)","v":-1000000},null,null,{"$f":"IF(G38-$A3/2<0,-1000000,F38*F37*10000+F38)","v":-1000000},null,null,{"$f":"IF(J38-$A3/2<0,-1000000,I38*I37*10000+I38)","v":-1000000},null,null,{"$f":"IF(M38-$A3/2<0,-1000000,L38*L37*10000+L38)","v":-1000000},null,null,{"$f":"IF(P38-$A3/2<0,-1000000,O38*O37*10000+O38)","v":-1000000},null,null,{"$f":"IF(S38-$A3/2<0,-1000000,R38*R37*10000+R38)","v":-1000000},null,null,{"$f":"IF(V38-$A3/2<0,-1000000,U38*U37*10000+U38)","v":-1000000},null,null,{"$f":"IF(Y38-$A3/2<0,-1000000,X38*X37*10000+X38)","v":-1000000},null,null,{"$f":"IF(AB38-$A3/2<0,-1000000,AA38*AA37*10000+AA38)","v":-1000000},null,null,{"$f":"IF(AE38-$A3/2<0,-1000000,AD38*AD37*10000+AD38)","v":-1000000},null,null,{"$f":"IF(AH38-$A3/2<0,-1000000,AG38*AG37*10000+AG38)","v":-1000000},null,null,{"$f":"IF(AK38-$A3/2<0,-1000000,AJ38*AJ37*10000+AJ38)","v":-1000000},null,null,{"$f":"IF(AN38-$A3/2<0,-1000000,AM38*AM37*10000+AM38)","v":-1000000},null,null,{"$f":"IF(AQ38-$A3/2<0,-1000000,AP38*AP37*10000+AP38)","v":-1000000},null,null,{"$f":"IF(AT38-$A3/2<0,-1000000,AS38*AS37*10000+AS38)","v":-1000000},null,null,{"$f":"IF(AW38-$A3/2<0,-1000000,AV38*AV37*10000+AV38)","v":-1000000},null,null,{"$f":"IF(AZ38-$A3/2<0,-1000000,AY38*AY37*10000+AY38)","v":-1000000}]
["Classificats",{"$f":"SUM(C37:AY37)","v":0},{"$f":"IF(D38>=$A3/2,1,0)","v":0},null,null,{"$f":"IF(G38>=$A3/2,1,0)","v":0},null,null,{"$f":"IF(J38>=$A3/2,1,0)","v":0},null,null,{"$f":"IF(M38>=$A3/2,1,0)","v":0},null,null,{"$f":"IF(P38>=$A3/2,1,0)","v":0},null,null,{"$f":"IF(S38>=$A3/2,1,0)","v":0},null,null,{"$f":"IF(V38>=$A3/2,1,0)","v":0},null,null,{"$f":"IF(Y38>=$A3/2,1,0)","v":0},null,null,{"$f":"IF(AB38>=$A3/2,1,0)","v":0},null,null,{"$f":"IF(AE38>=$A3/2,1,0)","v":0},null,null,{"$f":"IF(AH38>=$A3/2,1,0)","v":0},null,null,{"$f":"IF(AK38>=$A3/2,1,0)","v":0},null,null,{"$f":"IF(AN38>=$A3/2,1,0)","v":0},null,null,{"$f":"IF(AQ38>=$A3/2,1,0)","v":0},null,null,{"$f":"IF(AT38>=$A3/2,1,0)","v":0},null,null,{"$f":"IF(AW38>=$A3/2,1,0)","v":0},null,null,{"$f":"IF(AZ38>=$A3/2,1,0)","v":0}]
[null,null,{"$f":"IF(SUM(C43:C241)<-1000,-100000000,SUM(C43:C241))","v":-100000000},{"$f":"COUNT(D43:D241)","v":0},null,{"$f":"IF(SUM(F43:F241)<-1000,-100000000,SUM(F43:F241))","v":-100000000},{"$f":"COUNT(G43:G241)","v":0},null,{"$f":"IF(SUM(I43:I241)<-1000,-100000000,SUM(I43:I241))","v":-100000000},{"$f":"COUNT(J43:J241)","v":0},null,{"$f":"IF(SUM(L43:L241)<-1000,-100000000,SUM(L43:L241))","v":-100000000},{"$f":"COUNT(M43:M241)","v":0},null,{"$f":"IF(SUM(O43:O241)<-1000,-100000000,SUM(O43:O241))","v":-100000000},{"$f":"COUNT(P43:P241)","v":0},null,{"$f":"IF(SUM(R43:R241)<-1000,-100000000,SUM(R43:R241))","v":-100000000},{"$f":"COUNT(S43:S241)","v":0},null,{"$f":"IF(SUM(U43:U241)<-1000,-100000000,SUM(U43:U241))","v":-100000000},{"$f":"COUNT(V43:V241)","v":0},null,{"$f":"IF(SUM(X43:X241)<-1000,-100000000,SUM(X43:X241))","v":-100000000},{"$f":"COUNT(Y43:Y241)","v":0},null,{"$f":"IF(SUM(AA43:AA241)<-1000,-100000000,SUM(AA43:AA241))","v":-100000000},{"$f":"COUNT(AB43:AB241)","v":0},null,{"$f":"IF(SUM(AD43:AD241)<-1000,-100000000,SUM(AD43:AD241))","v":-100000000},{"$f":"COUNT(AE43:AE241)","v":0},null,{"$f":"IF(SUM(AG43:AG241)<-1000,-100000000,SUM(AG43:AG241))","v":-100000000},{"$f":"COUNT(AH43:AH241)","v":0},null,{"$f":"IF(SUM(AJ43:AJ241)<-1000,-100000000,SUM(AJ43:AJ241))","v":-100000000},{"$f":"COUNT(AK43:AK241)","v":0},null,{"$f":"IF(SUM(AM43:AM241)<-1000,-100000000,SUM(AM43:AM241))","v":-100000000},{"$f":"COUNT(AN43:AN241)","v":0},null,{"$f":"IF(SUM(AP43:AP241)<-1000,-100000000,SUM(AP43:AP241))","v":-100000000},{"$f":"COUNT(AQ43:AQ241)","v":0},null,{"$f":"IF(SUM(AS43:AS241)<-1000,-100000000,SUM(AS43:AS241))","v":-100000000},{"$f":"COUNT(AT43:AT241)","v":0},null,{"$f":"IF(SUM(AV43:AV241)<-1000,-100000000,SUM(AV43:AV241))","v":-100000000},{"$f":"COUNT(AW43:AW241)","v":0},null,{"$f":"IF(SUM(AY43:AY241)<-1000,-100000000,SUM(AY43:AY241))","v":-100000000},{"$f":"COUNT(AZ43:AZ241)","v":0},null,null,"A"]
[null,null,{"$f":"+D39/E39","v":0},{"$f":"SUM(D43:D156)","v":0},{"$f":"SUM(E43:E156)","v":-1},{"$f":"+G39/H39","v":0},{"$f":"SUM(G43:G156)","v":0},{"$f":"SUM(H43:H156)","v":-1},{"$f":"+J39/K39","v":0},{"$f":"SUM(J43:J156)","v":0},{"$f":"SUM(K43:K156)","v":-1},{"$f":"+M39/N39","v":0},{"$f":"SUM(M43:M156)","v":0},{"$f":"SUM(N43:N156)","v":-1},{"$f":"+P39/Q39","v":0},{"$f":"SUM(P43:P156)","v":0},{"$f":"SUM(Q43:Q156)","v":-1},{"$f":"+S39/T39","v":0},{"$f":"SUM(S43:S156)","v":0},{"$f":"SUM(T43:T156)","v":-1},{"$f":"+V39/W39","v":0},{"$f":"SUM(V43:V156)","v":0},{"$f":"SUM(W43:W156)","v":-1},{"$f":"+Y39/Z39","v":0},{"$f":"SUM(Y43:Y156)","v":0},{"$f":"SUM(Z43:Z156)","v":-1},{"$f":"+AB39/AC39","v":0},{"$f":"SUM(AB43:AB156)","v":0},{"$f":"SUM(AC43:AC156)","v":-1},{"$f":"+AE39/AF39","v":0},{"$f":"SUM(AE43:AE156)","v":0},{"$f":"SUM(AF43:AF156)","v":-1},{"$f":"+AH39/AI39","v":0},{"$f":"SUM(AH43:AH156)","v":0},{"$f":"SUM(AI43:AI156)","v":-1},{"$f":"+AK39/AL39","v":0},{"$f":"SUM(AK43:AK156)","v":0},{"$f":"SUM(AL43:AL156)","v":-1},{"$f":"+AN39/AO39","v":0},{"$f":"SUM(AN43:AN156)","v":0},{"$f":"SUM(AO43:AO156)","v":-1},{"$f":"+AQ39/AR39","v":0},{"$f":"SUM(AQ43:AQ156)","v":0},{"$f":"SUM(AR43:AR156)","v":-1},{"$f":"+AT39/AU39","v":0},{"$f":"SUM(AT43:AT156)","v":0},{"$f":"SUM(AU43:AU156)","v":-1},{"$f":"+AW39/AX39","v":0},{"$f":"SUM(AW43:AW156)","v":0},{"$f":"SUM(AX43:AX156)","v":-1},{"$f":"+AZ39/BA39","v":0},{"$f":"SUM(AZ43:AZ156)","v":0},{"$f":"SUM(BA43:BA156)","v":-1},null,"B"]
[null,null,null,null,null,null,null,null,null,null,null,null,null,null,null,null,null,null,null,null,null,null,null,null,null,null,null,null,null,null,null,null,null,null,null,null,null,null,null,null,null,null,null,null,null,null,null,null,null,null,null,null,null,{"$f":"MAX(BC43:BC102)","v":0}]
[null,"Nº partida ","Salvadó",null,null,"David",null,null,"Jordi",null,null,"Joan Carles",null,null,"Alfonso",null,null,"Sergi",null,null,"Carles",null,null,"Mariajo",null,null,"Iglesias",null,null,"Martin",null,null,"Xavi",null,null,"Anna",null,null,"Coralie",null,null,"Mercè",null,null,"Goretti",null,null,"Jorge",null,null,"Grau",null,null,{"$f":"COUNT(BB43:BB156)","v":0},"A","B","C"]
[null,"5 copes","Premi","Punts",null,"Premi","Punts",null,"Premi","Punts",null,"Premi","Punts",null,"Premi","Punts",null,"Premi","Punts",null,"Premi","Punts",null,"Premi","Punts",null,"Premi","Punts",null,"Premi","Punts",null,"Premi","Punts",null,"Premi","Punts",null,"Premi","Punts",null,"Premi","Punts",null,"Premi","Punts",null,"Premi","Punts",null,"Premi","Punts",null,"Data","Timba"]
[1,null,-10000,null,-1,-10000,null,-1,-10000,null,-1,-10000,null,-1,-10000,null,-1,-10000,null,-1,-10000,null,-1,-10000,null,-1,-10000,null,-1,-10000,null,-1,-10000,null,-1,-10000,null,-1,-10000,null,-1,-10000,null,-1,-10000,null,-1,-10000,null,-1,-10000,null,-1,null,null,{"$f":"+AY43+AP43+AG43+AD43+AA43+X43+U43+R43+O43+L43+I43+F43+C43+AJ43+AM43+AS43+AV43","v":-170000},{"$f":"COUNT(C43:BA43)/3","v":11.333333333333334},{"$f":"+BD43/BE43","v":-15000}]
[{"$f":"+A43+1","v":2},null,null,null,null,null,null,null,null,null,null,null,null,null,null,null,null,null,null,null,null,null,null,null,null,null,null,null,null,null,null,null,null,null,null,null,null,null,null,null,null,null,null,null,null,null,null,null,null,null,null,null,null,null,null,0,0,{"$error":"#DIV/0!"}]
[{"$f":"+A44+1","v":3},null,null,null,null,null,null,null,null,null,null,null,null,null,null,null,null,null,null,null,null,null,null,null,null,null,null,null,null,null,null,null,null,null,null,null,null,null,null,null,null,null,null,null,null,null,null,null,null,null,null,null,null,null,null,0,0,{"$error":"#DIV/0!"}]
[4,null,null,null,null,null,null,null,null,null,null,null,null,null,null,null,null,null,null,null,null,null,null,null,null,null,null,null,null,null,null,null,null,null,null,null,null,null,null,null,null,null,null,null,null,null,null,null,null,null,null,null,null,null,null,0,0,{"$error":"#DIV/0!"}]
[5,null,null,null,null,null,null,null,null,null,null,null,null,null,null,null,null,null,null,null,null,null,null,null,null,null,null,null,null,null,null,null,null,null,null,null,null,null,null,null,null,null,null,null,null,null,null,null,null,null,null,null,null,null,null,0,0,{"$error":"#DIV/0!"}]
[6,null,null,null,null,null,null,null,null,null,null,null,null,null,null,null,null,null,null,null,null,null,null,null,null,null,null,null,null,null,null,null,null,null,null,null,null,null,null,null,null,null,null,null,null,null,null,null,null,null,null,null,null,null,null,0,0,{"$error":"#DIV/0!"}]
[7,null,null,null,null,null,null,null,null,null,null,null,null,null,null,null,null,null,null,null,null,null,null,null,null,null,null,null,null,null,null,null,null,null,null,null,null,null,null,null,null,null,null,null,null,null,null,null,null,null,null,null,null,null,null,0,0,{"$error":"#DIV/0!"}]
[8,null,null,null,null,null,null,null,null,null,null,null,null,null,null,null,null,null,null,null,null,null,null,null,null,null,null,null,null,null,null,null,null,null,null,null,null,null,null,null,null,null,null,null,null,null,null,null,null,null,null,null,null,null,null,0,0,{"$error":"#DIV/0!"}]
[9,null,null,null,null,null,null,null,null,null,null,null,null,null,null,null,null,null,null,null,null,null,null,null,null,null,null,null,null,null,null,null,null,null,null,null,null,null,null,null,null,null,null,null,null,null,null,null,null,null,null,null,null,null,null,0,0,{"$error":"#DIV/0!"}]
[10,null,null,null,null,null,null,null,null,null,null,null,null,null,null,null,null,null,null,null,null,null,null,null,null,null,null,null,null,null,null,null,null,null,null,null,null,null,null,null,null,null,null,null,null,null,null,null,null,null,null,null,null,null,null,0,0,{"$error":"#DIV/0!"}]
[11,null,null,null,null,null,null,null,null,null,null,null,null,null,null,null,null,null,null,null,null,null,null,null,null,null,null,null,null,null,null,null,null,null,null,null,null,null,null,null,null,null,null,null,null,null,null,null,null,null,null,null,null,null,null,0,0,{"$error":"#DIV/0!"}]
[12,null,null,null,null,null,null,null,null,null,null,null,null,null,null,null,null,null,null,null,null,null,null,null,null,null,null,null,null,null,null,null,null,null,null,null,null,null,null,null,null,null,null,null,null,null,null,null,null,null,null,null,null,null,null,0,0,{"$error":"#DIV/0!"}]
[13,null,null,null,null,null,null,null,null,null,null,null,null,null,null,null,null,null,null,null,null,null,null,null,null,null,null,null,null,null,null,null,null,null,null,null,null,null,null,null,null,null,null,null,null,null,null,null,null,null,null,null,null,null,null,0,0,{"$error":"#DIV/0!"}]
[14,null,null,null,null,null,null,null,null,null,null,null,null,null,null,null,null,null,null,null,null,null,null,null,null,null,null,null,null,null,null,null,null,null,null,null,null,null,null,null,null,null,null,null,null,null,null,null,null,null,null,null,null,null,null,0,0,{"$error":"#DIV/0!"}]
[15,null,null,null,null,null,null,null,null,null,null,null,null,null,null,null,null,null,null,null,null,null,null,null,null,null,null,null,null,null,null,null,null,null,null,null,null,null,null,null,null,null,null,null,null,null,null,null,null,null,null,null,null,null,null,0,0,{"$error":"#DIV/0!"}]
[16,null,null,null,null,null,null,null,null,null,null,null,null,null,null,null,null,null,null,null,null,null,null,null,null,null,null,null,null,null,null,null,null,null,null,null,null,null,null,null,null,null,null,null,null,null,null,null,null,null,null,null,null,null,null,0,0,{"$error":"#DIV/0!"}]
[17,null,null,null,null,null,null,null,null,null,null,null,null,null,null,null,null,null,null,null,null,null,null,null,null,null,null,null,null,null,null,null,null,null,null,null,null,null,null,null,null,null,null,null,null,null,null,null,null,null,null,null,null,null,null,0,0,{"$error":"#DIV/0!"}]
[18,null,null,null,null,null,null,null,null,null,null,null,null,null,null,null,null,null,null,null,null,null,null,null,null,null,null,null,null,null,null,null,null,null,null,null,null,null,null,null,null,null,null,null,null,null,null,null,null,null,null,null,null,null,null,0,0,{"$error":"#DIV/0!"}]
[19,null,null,null,null,null,null,null,null,null,null,null,null,null,null,null,null,null,null,null,null,null,null,null,null,null,null,null,null,null,null,null,null,null,null,null,null,null,null,null,null,null,null,null,null,null,null,null,null,null,null,null,null,null,null,0,0,{"$error":"#DIV/0!"}]
[20,null,null,null,null,null,null,null,null,null,null,null,null,null,null,null,null,null,null,null,null,null,null,null,null,null,null,null,null,null,null,null,null,null,null,null,null,null,null,null,null,null,null,null,null,null,null,null,null,null,null,null,null,null,null,0,0,{"$error":"#DIV/0!"}]
[21,null,null,null,null,null,null,null,null,null,null,null,null,null,null,null,null,null,null,null,null,null,null,null,null,null,null,null,null,null,null,null,null,null,null,null,null,null,null,null,null,null,null,null,null,null,null,null,null,null,null,null,null,null,null,0,0,{"$error":"#DIV/0!"}]
[22,null,null,null,null,null,null,null,null,null,null,null,null,null,null,null,null,null,null,null,null,null,null,null,null,null,null,null,null,null,null,null,null,null,null,null,null,null,null,null,null,null,null,null,null,null,null,null,null,null,null,null,null,null,null,0,0,{"$error":"#DIV/0!"}]
[23,null,null,null,null,null,null,null,null,null,null,null,null,null,null,null,null,null,null,null,null,null,null,null,null,null,null,null,null,null,null,null,null,null,null,null,null,null,null,null,null,null,null,null,null,null,null,null,null,null,null,null,null,null,null,0,0,{"$error":"#DIV/0!"}]
[24,null,null,null,null,null,null,null,null,null,null,null,null,null,null,null,null,null,null,null,null,null,null,null,null,null,null,null,null,null,null,null,null,null,null,null,null,null,null,null,null,null,null,null,null,null,null,null,null,null,null,null,null,null,null,{"$f":"+AY66+AP66+AG66+AD66+AA66+X66+U66+R66+O66+L66+I66+F66+C66+AJ66+AM66+AS66+AV66","v":0},0,{"$error":"#DIV/0!"}]
[25,null,null,null,null,null,null,null,null,null,null,null,null,null,null,null,null,null,null,null,null,null,null,null,null,null,null,null,null,null,null,null,null,null,null,null,null,null,null,null,null,null,null,null,null,null,null,null,null,null,null,null,null,null,null,{"$f":"+AY67+AP67+AG67+AD67+AA67+X67+U67+R67+O67+L67+I67+F67+C67+AJ67+AM67+AS67+AV67","v":0},{"$f":"COUNT(C67:BA67)/3","v":0},{"$f":"+BD67/BE67","v":{"$error":"#DIV/0!"}}]
[26,null,null,null,null,null,null,null,null,null,null,null,null,null,null,null,null,null,null,null,null,null,null,null,null,null,null,null,null,null,null,null,null,null,null,null,null,null,null,null,null,null,null,null,null,null,null,null,null,null,null,null,null,null,null,{"$f":"+AY68+AP68+AG68+AD68+AA68+X68+U68+R68+O68+L68+I68+F68+C68+AJ68+AM68+AS68+AV68","v":0},{"$f":"COUNT(C68:BA68)/3","v":0},{"$f":"+BD68/BE68","v":{"$error":"#DIV/0!"}}]
[27,null,null,null,null,null,null,null,null,null,null,null,null,null,null,null,null,null,null,null,null,null,null,null,null,null,null,null,null,null,null,null,null,null,null,null,null,null,null,null,null,null,null,null,null,null,null,null,null,null,null,null,null,null,null,{"$f":"+AY69+AP69+AG69+AD69+AA69+X69+U69+R69+O69+L69+I69+F69+C69+AJ69+AM69+AS69+AV69","v":0},{"$f":"COUNT(C69:BA69)/3","v":0},{"$f":"+BD69/BE69","v":{"$error":"#DIV/0!"}}]
[28]
[29]
[30]
[31]
[32]
[33]
[34]
[35]
[36]
[37]
[38]
[39]
[40]
[41]
[42]
[43]
[44]
[45]
[{"$f":"+A87+1","v":46}]
[47]
[48]
[49]
[50]
[51]
[52]
[53]
[54]
[55]
[56]
[57]
[58]
[59]
[60]
[61]
[62]
[63]
[64]
[65]
[66]
[67]
[68]
[69]
[70]
[71]
[72]
[{"$f":"+A114+1","v":73}]
[74]
[75]
[76]
[77]
[78]
[79]
[80]
[81]
[82]
[83]
[84]
[85]
[86]
[87]
[88]
[89]
[90]
[91]
[92]
[93]
[94]
[95]
[96]
[97]
[98]
[99]
[100]
[101]
[102]
[103]
[104]
[105]
[106]
[107]
[108]
[109]
[110]
[111]
[112]
[113]
[114]

{"sheet":"Portugués","index":27,"n_rows":105,"n_cols":46,"rows_kept":105,"cut":false,"hidden":false,"merged":[[43,38,43,39],[43,26,43,27],[43,28,43,29],[43,30,43,31],[43,32,43,33],[43,34,43,35],[43,36,43,37],[43,24,43,25],[43,2,43,3],[43,4,43,5],[43,6,43,7],[43,8,43,9],[43,10,43,11],[43,12,43,13],[43,14,43,15],[43,16,43,17],[43,18,43,19],[43,20,43,21],[43,22,43,23]]}
["PORTUGUÉS"]
["Mes"]
[{"$f":"+GENERAL!B6","v":12},null,{"$f":"SUM(C5:C12)","v":-800000000}]
[null,null,"Premi","Punts","Partides","General"]
[1,"Manolo",{"$f":"+E$41","v":-100000000},{"$f":"+F$42","v":1E-4},{"$f":"+F$41","v":0},{"$f":"+E$27","v":0},{"$f":"IF(E5<A$3/2,-1,1)*80+C5","v":-100000080}]
[2,"Goretti",{"$f":"+AI$41","v":-100000000},{"$f":"+AJ$42","v":1E-4},{"$f":"+AJ$41","v":0},{"$f":"+AI$27","v":0},-100000080]
[3,"Grau",{"$f":"+AG$41","v":-100000000},{"$f":"+AH$42","v":1E-4},{"$f":"+AH$41","v":0},{"$f":"+AG$27","v":0},-100000080]
[4,"Mercè",{"$f":"+Y$41","v":-100000000},{"$f":"+Z$42","v":1E-4},{"$f":"+Z$41","v":0},{"$f":"+Y$27","v":0},-100000080]
[5,"Jordi",{"$f":"+G$41","v":-100000000},{"$f":"+H$42","v":1E-4},{"$f":"+H$41","v":0},{"$f":"+G$27","v":0},-100000080]
[6,"Joan Carles",{"$f":"+K$41","v":-100000000},{"$f":"+L$42","v":1E-4},{"$f":"+L$41","v":0},{"$f":"+K$27","v":0},-100000080]
[7,"Mariajo",{"$f":"+AM$41","v":-100000000},{"$f":"+AN$42","v":1E-4},{"$f":"+AN$41","v":0},{"$f":"+AM$27","v":0},-100000080]
[8,"Carles",{"$f":"+C$41","v":-100000000},{"$f":"+D$42","v":1E-4},{"$f":"+D$41","v":0},{"$f":"+C$27","v":0},-100000080]
[9,"Sergi",{"$f":"+M$41","v":-100000000},{"$f":"+N$42","v":1E-4},{"$f":"+N$41","v":0},{"$f":"+M$27","v":0},-100000080]
[10,"Montse",{"$f":"+AE$41","v":-100000000},{"$f":"+AF$42","v":1E-4},{"$f":"+AF$41","v":0},{"$f":"+AE$27","v":0},-100000080]
[11,"Quico",{"$f":"+O$41","v":-100000000},{"$f":"+P$42","v":1E-4},{"$f":"+P$41","v":0},{"$f":"+O$27","v":0},-100000080]
[12,"Ana",{"$f":"+I$41","v":-100000000},{"$f":"+J$42","v":1E-4},{"$f":"+J$41","v":0},{"$f":"+I$27","v":0},-100000080]
[13,"Xavi",{"$f":"+W$41","v":-100000000},{"$f":"+X$42","v":1E-4},{"$f":"+X$41","v":0},{"$f":"+W$27","v":0},-100000080]
[14,"Martín",{"$f":"+U$41","v":-100000000},{"$f":"+V$42","v":1E-4},{"$f":"+V$41","v":0},{"$f":"+U$27","v":0},-100000080]
[15,"Alícia",{"$f":"+AC$41","v":-100000000},{"$f":"+AD$42","v":1E-4},{"$f":"+AD$41","v":0},{"$f":"+AC$27","v":0},-100000080]
[16,"Rafa",{"$f":"+AA$41","v":-100000000},{"$f":"+AB$42","v":1E-4},{"$f":"+AB$41","v":0},{"$f":"+AA$27","v":0},-100000080]
[17,"Iglesias",{"$f":"+AK$41","v":-100000000},{"$f":"+AL$42","v":1E-4},{"$f":"+AL$41","v":0},{"$f":"+AK$27","v":0},-100000080]
[18,"Pablo",{"$f":"+S$41","v":-100000000},{"$f":"+T$42","v":1E-4},{"$f":"+T$41","v":0},{"$f":"+S$27","v":0},-100000080]
[19,"Eli",{"$f":"+Q$41","v":-100000000},{"$f":"+R$42","v":1E-4},{"$f":"+R$41","v":0},{"$f":"+Q$27","v":0},-100000080]
[]
[]
[]
[null,"General",{"$f":"+C28*C29","v":0},{"$f":"+D28*D29","v":0},0,0,0,0,0,0,0,0,0,0,0,0,0,0,0,0,0,0,0,0,0,0,0,0,0,0,0,0,0,0,0,0,0,0,0,0]
[null,null,{"$f":"IF($B40>3,1,0)","v":0},{"$f":"IF($B40>3,1,0)","v":0},{"$f":"IF($B40>3,1,0)","v":0},0,0,0,0,0,0,0,0,0,0,0,0,0,0,0,0,0,0,0,0,0,0,0,0,0,0,0,0,0,0,0,0,0,0,0]
[null,null,{"$f":"MAX(C30:C34)","v":0},{"$f":"+D41","v":0},{"$f":"MAX(E30:E34)","v":0},{"$f":"+F41","v":0},{"$f":"MAX(G30:G34)","v":0},{"$f":"+H41","v":0},{"$f":"MAX(I30:I34)","v":0},{"$f":"+J41","v":0},{"$f":"MAX(K30:K34)","v":0},{"$f":"+L41","v":0},{"$f":"MAX(M30:M34)","v":0},{"$f":"+N41","v":0},{"$f":"MAX(O30:O34)","v":0},{"$f":"+P41","v":0},{"$f":"MAX(Q30:Q34)","v":0},{"$f":"+R41","v":0},{"$f":"MAX(S30:S34)","v":0},{"$f":"+T41","v":0},{"$f":"MAX(U30:U34)","v":0},{"$f":"+V41","v":0},{"$f":"MAX(W30:W34)","v":0},{"$f":"+X41","v":0},{"$f":"MAX(Y30:Y34)","v":0},{"$f":"+Z41","v":0},{"$f":"MAX(AA30:AA34)","v":0},{"$f":"+AB41","v":0},{"$f":"MAX(AC30:AC34)","v":0},{"$f":"+AD41","v":0},{"$f":"MAX(AE30:AE34)","v":0},{"$f":"+AF41","v":0},{"$f":"MAX(AG30:AG34)","v":0},{"$f":"+AH41","v":0},{"$f":"MAX(AI30:AI34)","v":0},{"$f":"+AJ41","v":0},{"$f":"MAX(AK30:AK34)","v":0},{"$f":"+AL41","v":0},{"$f":"MAX(AM30:AM34)","v":0},{"$f":"+AN41","v":0}]
[null,null,{"$f":"IF(C$35=5,5,0)","v":0},null,{"$f":"IF(E$35=5,5,0)","v":0},null,{"$f":"IF(G$35=5,5,0)","v":0},null,{"$f":"IF(I$35=5,5,0)","v":0},null,{"$f":"IF(K$35=5,5,0)","v":0},null,{"$f":"IF(M$35=5,5,0)","v":0},null,{"$f":"IF(O$35=5,5,0)","v":0},null,{"$f":"IF(Q$35=5,5,0)","v":0},null,{"$f":"IF(S$35=5,5,0)","v":0},null,{"$f":"IF(U$35=5,5,0)","v":0},null,{"$f":"IF(W$35=5,5,0)","v":0},null,{"$f":"IF(Y$35=5,5,0)","v":0},null,{"$f":"IF(AA$35=5,5,0)","v":0},null,{"$f":"IF(AC$35=5,5,0)","v":0},null,{"$f":"IF(AE$35=5,5,0)","v":0},null,{"$f":"IF(AG$35=5,5,0)","v":0},null,{"$f":"IF(AI$35=5,5,0)","v":0},null,{"$f":"IF(AK$35=5,5,0)","v":0},null,{"$f":"IF(AM$35=5,5,0)","v":0}]
[null,null,{"$f":"IF(C$35=4,10,0)","v":0},null,{"$f":"IF(E$35=4,10,0)","v":0},null,{"$f":"IF(G$35=4,10,0)","v":0},null,{"$f":"IF(I$35=4,10,0)","v":0},null,{"$f":"IF(K$35=4,10,0)","v":0},null,{"$f":"IF(M$35=4,10,0)","v":0},null,{"$f":"IF(O$35=4,10,0)","v":0},null,{"$f":"IF(Q$35=4,10,0)","v":0},null,{"$f":"IF(S$35=4,10,0)","v":0},null,{"$f":"IF(U$35=4,10,0)","v":0},null,{"$f":"IF(W$35=4,10,0)","v":0},null,{"$f":"IF(Y$35=4,10,0)","v":0},null,{"$f":"IF(AA$35=4,10,0)","v":0},null,{"$f":"IF(AC$35=4,10,0)","v":0},null,{"$f":"IF(AE$35=4,10,0)","v":0},null,{"$f":"IF(AG$35=4,10,0)","v":0},null,{"$f":"IF(AI$35=4,10,0)","v":0},null,{"$f":"IF(AK$35=4,10,0)","v":0},null,{"$f":"IF(AM$35=4,10,0)","v":0}]
[null,null,{"$f":"IF(C$35=3,20,0)","v":0},null,{"$f":"IF(E$35=3,20,0)","v":0},null,{"$f":"IF(G$35=3,20,0)","v":0},null,{"$f":"IF(I$35=3,20,0)","v":0},null,{"$f":"IF(K$35=3,20,0)","v":0},null,{"$f":"IF(M$35=3,20,0)","v":0},null,{"$f":"IF(O$35=3,20,0)","v":0},null,{"$f":"IF(Q$35=3,20,0)","v":0},null,{"$f":"IF(S$35=3,20,0)","v":0},null,{"$f":"IF(U$35=3,20,0)","v":0},null,{"$f":"IF(W$35=3,20,0)","v":0},null,{"$f":"IF(Y$35=3,20,0)","v":0},null,{"$f":"IF(AA$35=3,20,0)","v":0},null,{"$f":"IF(AC$35=3,20,0)","v":0},null,{"$f":"IF(AE$35=3,20,0)","v":0},null,{"$f":"IF(AG$35=3,20,0)","v":0},null,{"$f":"IF(AI$35=3,20,0)","v":0},null,{"$f":"IF(AK$35=3,20,0)","v":0},null,{"$f":"IF(AM$35=3,20,0)","v":0}]
[null,null,{"$f":"IF(C$35=2,40,0)","v":0},null,{"$f":"IF(E$35=2,40,0)","v":0},null,{"$f":"IF(G$35=2,40,0)","v":0},null,{"$f":"IF(I$35=2,40,0)","v":0},null,{"$f":"IF(K$35=2,40,0)","v":0},null,{"$f":"IF(M$35=2,40,0)","v":0},null,{"$f":"IF(O$35=2,40,0)","v":0},null,{"$f":"IF(Q$35=2,40,0)","v":0},null,{"$f":"IF(S$35=2,40,0)","v":0},null,{"$f":"IF(U$35=2,40,0)","v":0},null,{"$f":"IF(W$35=2,40,0)","v":0},null,{"$f":"IF(Y$35=2,40,0)","v":0},null,{"$f":"IF(AA$35=2,40,0)","v":0},null,{"$f":"IF(AC$35=2,40,0)","v":0},null,{"$f":"IF(AE$35=2,40,0)","v":0},null,{"$f":"IF(AG$35=2,40,0)","v":0},null,{"$f":"IF(AI$35=2,40,0)","v":0},null,{"$f":"IF(AK$35=2,40,0)","v":0},null,{"$f":"IF(AM$35=2,40,0)","v":0}]
[null,null,{"$f":"IF(C$35=1,80,0)","v":0},null,{"$f":"IF(E$35=1,80,0)","v":0},null,{"$f":"IF(G$35=1,80,0)","v":0},null,{"$f":"IF(I$35=1,80,0)","v":0},null,{"$f":"IF(K$35=1,80,0)","v":0},null,{"$f":"IF(M$35=1,80,0)","v":0},null,{"$f":"IF(O$35=1,80,0)","v":0},null,{"$f":"IF(Q$35=1,80,0)","v":0},null,{"$f":"IF(S$35=1,80,0)","v":0},null,{"$f":"IF(U$35=1,80,0)","v":0},null,{"$f":"IF(W$35=1,80,0)","v":0},null,{"$f":"IF(Y$35=1,80,0)","v":0},null,{"$f":"IF(AA$35=1,80,0)","v":0},null,{"$f":"IF(AC$35=1,80,0)","v":0},null,{"$f":"IF(AE$35=1,80,0)","v":0},null,{"$f":"IF(AG$35=1,80,0)","v":0},null,{"$f":"IF(AI$35=1,80,0)","v":0},null,{"$f":"IF(AK$35=1,80,0)","v":0},null,{"$f":"IF(AM$35=1,80,0)","v":0}]
[null,null,{"$f":"RANK(C36,$C36:$BG36)*C40","v":0},null,{"$f":"RANK(E36,$C36:$BG36)*E40","v":0},null,{"$f":"RANK(G36,$C36:$BG36)*G40","v":0},null,{"$f":"RANK(I36,$C36:$BG36)*I40","v":0},null,{"$f":"RANK(K36,$C36:$BG36)*K40","v":0},null,{"$f":"RANK(M36,$C36:$BG36)*M40","v":0},null,{"$f":"RANK(O36,$C36:$BG36)*O40","v":0},null,{"$f":"RANK(Q36,$C36:$BG36)*Q40","v":0},null,{"$f":"RANK(S36,$C36:$BG36)*S40","v":0},null,{"$f":"RANK(U36,$C36:$BG36)*U40","v":0},null,{"$f":"RANK(W36,$C36:$BG36)*W40","v":0},null,{"$f":"RANK(Y36,$C36:$BG36)*Y40","v":0},null,{"$f":"RANK(AA36,$C36:$BG36)*AA40","v":0},null,{"$f":"RANK(AC36,$C36:$BG36)*AC40","v":0},null,{"$f":"RANK(AE36,$C36:$BG36)*AE40","v":0},null,{"$f":"RANK(AG36,$C36:$BG36)*AG40","v":0},null,{"$f":"RANK(AI36,$C36:$BG36)*AI40","v":0},null,{"$f":"RANK(AK36,$C36:$BG36)*AK40","v":0},null,{"$f":"RANK(AM36,$C36:$BG36)*AM40","v":0}]
[null,null,{"$f":"SUM(C37:C39)","v":-100999999.98999999},null,{"$f":"SUM(E37:E39)","v":-100999999.98999999},null,{"$f":"SUM(G37:G39)","v":-100999999.98999999},null,{"$f":"SUM(I37:I39)","v":-100999999.98999999},null,{"$f":"SUM(K37:K39)","v":-100999999.98999999},null,{"$f":"SUM(M37:M39)","v":-100999999.98999999},null,{"$f":"SUM(O37:O39)","v":-100999999.98999999},null,{"$f":"SUM(Q37:Q39)","v":-100999999.98999999},null,{"$f":"SUM(S37:S39)","v":-100999999.98999999},null,{"$f":"SUM(U37:U39)","v":-100999999.98999999},null,{"$f":"SUM(W37:W39)","v":-100999999.98999999},null,{"$f":"SUM(Y37:Y39)","v":-100999999.98999999},null,{"$f":"SUM(AA37:AA39)","v":-100999999.98999999},null,{"$f":"SUM(AC37:AC39)","v":-100999999.98999999},null,{"$f":"SUM(AE37:AE39)","v":-100999999.98999999},null,{"$f":"SUM(AG37:AG39)","v":-100999999.98999999},null,{"$f":"SUM(AI37:AI39)","v":-100999999.98999999},null,{"$f":"SUM(AK37:AK39)","v":-100999999.98999999},null,{"$f":"SUM(AM37:AM39)","v":-100999999.98999999}]
[null,null,{"$f":"+D41","v":0},null,{"$f":"+F41","v":0},null,{"$f":"+H41","v":0},null,{"$f":"+J41","v":0},null,{"$f":"+L41","v":0},null,{"$f":"+N41","v":0},null,{"$f":"+P41","v":0},null,{"$f":"+R41","v":0},null,{"$f":"+T41","v":0},null,{"$f":"+V41","v":0},null,{"$f":"+X41","v":0},null,{"$f":"+Z41","v":0},null,{"$f":"+AB41","v":0},null,{"$f":"+AD41","v":0},null,{"$f":"+AF41","v":0},null,{"$f":"+AH41","v":0},null,{"$f":"+AJ41","v":0},null,{"$f":"+AL41","v":0},null,{"$f":"+AN41","v":0}]
[null,null,{"$f":"+D42*100","v":0.01},null,{"$f":"+F42*100","v":0.01},null,{"$f":"+H42*100","v":0.01},null,{"$f":"+J42*100","v":0.01},null,{"$f":"+L42*100","v":0.01},null,{"$f":"+N42*100","v":0.01},null,{"$f":"+P42*100","v":0.01},null,{"$f":"+R42*100","v":0.01},null,{"$f":"+T42*100","v":0.01},null,{"$f":"+V42*100","v":0.01},null,{"$f":"+X42*100","v":0.01},null,{"$f":"+Z42*100","v":0.01},null,{"$f":"+AB42*100","v":0.01},null,{"$f":"+AD42*100","v":0.01},null,{"$f":"+AF42*100","v":0.01},null,{"$f":"+AH42*100","v":0.01},null,{"$f":"+AJ42*100","v":0.01},null,{"$f":"+AL42*100","v":0.01},null,{"$f":"+AN42*100","v":0.01}]
[null,null,{"$f":"IF(C40=1,C41*C40*1000+C41,-1000000+C41)","v":-101000000},null,{"$f":"IF(E40=1,E41*E40*1000+E41,-1000000+E41)","v":-101000000},null,{"$f":"IF(G40=1,G41*G40*1000+G41,-1000000+G41)","v":-101000000},null,{"$f":"IF(I40=1,I41*I40*1000+I41,-1000000+I41)","v":-101000000},null,{"$f":"IF(K40=1,K41*K40*1000+K41,-1000000+K41)","v":-101000000},null,{"$f":"IF(M40=1,M41*M40*1000+M41,-1000000+M41)","v":-101000000},null,{"$f":"IF(O40=1,O41*O40*1000+O41,-1000000+O41)","v":-101000000},null,{"$f":"IF(Q40=1,Q41*Q40*1000+Q41,-1000000+Q41)","v":-101000000},null,{"$f":"IF(S40=1,S41*S40*1000+S41,-1000000+S41)","v":-101000000},null,{"$f":"IF(U40=1,U41*U40*1000+U41,-1000000+U41)","v":-101000000},null,{"$f":"IF(W40=1,W41*W40*1000+W41,-1000000+W41)","v":-101000000},null,{"$f":"IF(Y40=1,Y41*Y40*1000+Y41,-1000000+Y41)","v":-101000000},null,{"$f":"IF(AA40=1,AA41*AA40*1000+AA41,-1000000+AA41)","v":-101000000},null,{"$f":"IF(AC40=1,AC41*AC40*1000+AC41,-1000000+AC41)","v":-101000000},null,{"$f":"IF(AE40=1,AE41*AE40*1000+AE41,-1000000+AE41)","v":-101000000},null,{"$f":"IF(AG40=1,AG41*AG40*1000+AG41,-1000000+AG41)","v":-101000000},null,{"$f":"IF(AI40=1,AI41*AI40*1000+AI41,-1000000+AI41)","v":-101000000},null,{"$f":"IF(AK40=1,AK41*AK40*1000+AK41,-1000000+AK41)","v":-101000000},null,{"$f":"IF(AM40=1,AM41*AM40*1000+AM41,-1000000+AM41)","v":-101000000}]
["Classificats",{"$f":"SUM(C40:AM40)","v":0},{"$f":"IF(D41>=$A3/2,1,0)","v":0},null,{"$f":"IF(F41>=$A3/2,1,0)","v":0},null,{"$f":"IF(H41>=$A3/2,1,0)","v":0},null,{"$f":"IF(J41>=$A3/2,1,0)","v":0},null,{"$f":"IF(L41>=$A3/2,1,0)","v":0},null,{"$f":"IF(N41>=$A3/2,1,0)","v":0},null,{"$f":"IF(P41>=$A3/2,1,0)","v":0},null,{"$f":"IF(R41>=$A3/2,1,0)","v":0},null,{"$f":"IF(T41>=$A3/2,1,0)","v":0},null,{"$f":"IF(V41>=$A3/2,1,0)","v":0},null,{"$f":"IF(X41>=$A3/2,1,0)","v":0},null,{"$f":"IF(Z41>=$A3/2,1,0)","v":0},null,{"$f":"IF(AB41>=$A3/2,1,0)","v":0},null,{"$f":"IF(AD41>=$A3/2,1,0)","v":0},null,{"$f":"IF(AF41>=$A3/2,1,0)","v":0},null,{"$f":"IF(AH41>=$A3/2,1,0)","v":0},null,{"$f":"IF(AJ41>=$A3/2,1,0)","v":0},null,{"$f":"IF(AL41>=$A3/2,1,0)","v":0},null,{"$f":"IF(AN41>=$A3/2,1,0)","v":0}]
[null,null,{"$f":"IF(SUM(C46:C208)<-1000,-100000000,SUM(C46:C208))","v":-100000000},{"$f":"COUNT(D46:D208)","v":0},{"$f":"IF(SUM(E46:E208)<-1000,-100000000,SUM(E46:E208))","v":-100000000},{"$f":"COUNT(F46:F208)","v":0},{"$f":"IF(SUM(G46:G208)<-1000,-100000000,SUM(G46:G208))","v":-100000000},{"$f":"COUNT(H46:H208)","v":0},{"$f":"IF(SUM(I46:I208)<-1000,-100000000,SUM(I46:I208))","v":-100000000},{"$f":"COUNT(J46:J208)","v":0},{"$f":"IF(SUM(K46:K208)<-1000,-100000000,SUM(K46:K208))","v":-100000000},{"$f":"COUNT(L46:L208)","v":0},{"$f":"IF(SUM(M46:M208)<-1000,-100000000,SUM(M46:M208))","v":-100000000},{"$f":"COUNT(N46:N208)","v":0},{"$f":"IF(SUM(O46:O208)<-1000,-100000000,SUM(O46:O208))","v":-100000000},{"$f":"COUNT(P46:P208)","v":0},{"$f":"IF(SUM(Q46:Q208)<-1000,-100000000,SUM(Q46:Q208))","v":-100000000},{"$f":"COUNT(R46:R208)","v":0},{"$f":"IF(SUM(S46:S208)<-1000,-100000000,SUM(S46:S208))","v":-100000000},{"$f":"COUNT(T46:T208)","v":0},{"$f":"IF(SUM(U46:U208)<-1000,-100000000,SUM(U46:U208))","v":-100000000},{"$f":"COUNT(V46:V208)","v":0},{"$f":"IF(SUM(W46:W208)<-1000,-100000000,SUM(W46:W208))","v":-100000000},{"$f":"COUNT(X46:X208)","v":0},{"$f":"IF(SUM(Y46:Y208)<-1000,-100000000,SUM(Y46:Y208))","v":-100000000},{"$f":"COUNT(Z46:Z208)","v":0},{"$f":"IF(SUM(AA46:AA208)<-1000,-100000000,SUM(AA46:AA208))","v":-100000000},{"$f":"COUNT(AB46:AB208)","v":0},{"$f":"IF(SUM(AC46:AC208)<-1000,-100000000,SUM(AC46:AC208))","v":-100000000},{"$f":"COUNT(AD46:AD208)","v":0},{"$f":"IF(SUM(AE46:AE208)<-1000,-100000000,SUM(AE46:AE208))","v":-100000000},{"$f":"COUNT(AF46:AF208)","v":0},{"$f":"IF(SUM(AG46:AG208)<-1000,-100000000,SUM(AG46:AG208))","v":-100000000},{"$f":"COUNT(AH46:AH208)","v":0},{"$f":"IF(SUM(AI46:AI208)<-1000,-100000000,SUM(AI46:AI208))","v":-100000000},{"$f":"COUNT(AJ46:AJ208)","v":0},{"$f":"IF(SUM(AK46:AK208)<-1000,-100000000,SUM(AK46:AK208))","v":-100000000},{"$f":"COUNT(AL46:AL208)","v":0},{"$f":"IF(SUM(AM46:AM208)<-1000,-100000000,SUM(AM46:AM208))","v":-100000000},{"$f":"COUNT(AN46:AN208)","v":0}]
[null,null,null,{"$f":"IF(D41=0,0.0001,AVERAGE(D46:D105))","v":1E-4},null,{"$f":"IF(F41=0,0.0001,AVERAGE(F46:F105))","v":1E-4},null,{"$f":"IF(H41=0,0.0001,AVERAGE(H46:H105))","v":1E-4},null,{"$f":"IF(J41=0,0.0001,AVERAGE(J46:J105))","v":1E-4},null,{"$f":"IF(L41=0,0.0001,AVERAGE(L46:L105))","v":1E-4},null,{"$f":"IF(N41=0,0.0001,AVERAGE(N46:N105))","v":1E-4},null,{"$f":"IF(P41=0,0.0001,AVERAGE(P46:P105))","v":1E-4},null,{"$f":"IF(R41=0,0.0001,AVERAGE(R46:R105))","v":1E-4},null,{"$f":"IF(T41=0,0.0001,AVERAGE(T46:T105))","v":1E-4},null,{"$f":"IF(V41=0,0.0001,AVERAGE(V46:V105))","v":1E-4},null,{"$f":"IF(X41=0,0.0001,AVERAGE(X46:X105))","v":1E-4},null,{"$f":"IF(Z41=0,0.0001,AVERAGE(Z46:Z105))","v":1E-4},null,{"$f":"IF(AB41=0,0.0001,AVERAGE(AB46:AB105))","v":1E-4},null,{"$f":"IF(AD41=0,0.0001,AVERAGE(AD46:AD105))","v":1E-4},null,{"$f":"IF(AF41=0,0.0001,AVERAGE(AF46:AF105))","v":1E-4},null,{"$f":"IF(AH41=0,0.0001,AVERAGE(AH46:AH105))","v":1E-4},null,{"$f":"IF(AJ41=0,0.0001,AVERAGE(AJ46:AJ105))","v":1E-4},null,{"$f":"IF(AL41=0,0.0001,AVERAGE(AL46:AL105))","v":1E-4},null,{"$f":"IF(AN41=0,0.0001,AVERAGE(AN46:AN105))","v":1E-4}]
[null,null,null,null,null,null,null,null,null,null,null,null,null,null,null,null,null,null,null,null,null,null,null,null,null,null,null,null,null,null,null,null,null,null,null,null,null,null,null,null,{"$f":"MAX(AP46:AP105)","v":0}]
[null,"Nº partida ","Carles",null,"Manolo",null,"Jordi",null,"Ana",null,"Joan Carles",null,"Sergi",null,"Quico",null,"Eli",null,"Pablo",null,"Martín",null,"Xavi",null,"Mercè",null,"Rafa",null,"Alícia",null,"Montse",null,"Grau",null,"Goretti",null,"Iglesias",null,"Mariajo",null,{"$f":"COUNT(AO46:AO123)","v":0},"A","B","C"]
[null,null,"Premi","Punts","Premi","Punts","Premi","Punts","Premi","Punts","Premi","Punts","Premi","Punts","Premi","Punts","Premi","Punts","Premi","Punts","Premi","Punts","Premi","Punts","Premi","Punts","Premi","Punts","Premi","Punts","Premi","Punts","Premi","Punts","Premi","Punts","Premi","Punts","Premi","Punts","Data","Timba"]
[1,null,-10000000,null,-10000000,null,-10000000,null,-10000000,null,-10000000,null,-10000000,null,-10000000,null,-10000000,null,-10000000,null,-10000000,null,-10000000,null,-10000000,null,-10000000,null,-10000000,null,-10000000,null,-10000000,null,-10000000,null,-10000000,null,-10000000,null,null,null,{"$f":"+C46+E46+G46+I46++K46++M46+O46+Q46+S46+U46+W46+AK46+AM46+Y46+AC46+AE46+AG46+AI46+AA46","v":-190000000},0,{"$f":"COUNT(C46:AN46)/2","v":9.5},{"$f":"+AQ46/AS46","v":-20000000}]
[{"$f":"+A46+1","v":2},null,null,null,null,null,null,null,null,null,null,null,null,null,null,null,null,null,null,null,null,null,null,null,null,null,null,null,null,null,null,null,null,null,null,null,null,null,null,null,null,null,0,0,0,{"$error":"#DIV/0!"}]
[{"$f":"+A47+1","v":3},null,null,null,null,null,null,null,null,null,null,null,null,null,null,null,null,null,null,null,null,null,null,null,null,null,null,null,null,null,null,null,null,null,null,null,null,null,null,null,null,null,0,0,0,{"$error":"#DIV/0!"}]
[4,null,null,null,null,null,null,null,null,null,null,null,null,null,null,null,null,null,null,null,null,null,null,null,null,null,null,null,null,null,null,null,null,null,null,null,null,null,null,null,null,null,0,0,0,{"$error":"#DIV/0!"}]
[{"$f":"+A49+1","v":5},null,null,null,null,null,null,null,null,null,null,null,null,null,null,null,null,null,null,null,null,null,null,null,null,null,null,null,null,null,null,null,null,null,null,null,null,null,null,null,null,null,0,0,0,{"$error":"#DIV/0!"}]
[6,null,null,null,null,null,null,null,null,null,null,null,null,null,null,null,null,null,null,null,null,null,null,null,null,null,null,null,null,null,null,null,null,null,null,null,null,null,null,null,null,null,0,0,0,{"$error":"#DIV/0!"}]
[7,null,null,null,null,null,null,null,null,null,null,null,null,null,null,null,null,null,null,null,null,null,null,null,null,null,null,null,null,null,null,null,null,null,null,null,null,null,null,null,null,null,0,0,0,{"$error":"#DIV/0!"}]
[8,null,null,null,null,null,null,null,null,null,null,null,null,null,null,null,null,null,null,null,null,null,null,null,null,null,null,null,null,null,null,null,null,null,null,null,null,null,null,null,null,null,{"$f":"+C53+E53+G53+I53++K53++M53+O53+Q53+S53+U53+W53+AK53+AM53+Y53+AC53+AE53+AG53+AI53+AA53","v":0},{"$f":"+D53+F53+H53+J53++L53++N53+P53+R53+T53+V53+X53+AL53+AN53+Z53+AD53+AF53+AH53+AJ53+AB53","v":0},0,{"$error":"#DIV/0!"}]
[9,null,null,null,null,null,null,null,null,null,null,null,null,null,null,null,null,null,null,null,null,null,null,null,null,null,null,null,null,null,null,null,null,null,null,null,null,null,null,null,null,null,{"$f":"+C54+E54+G54+I54++K54++M54+O54+Q54+S54+U54+W54+AK54+AM54+Y54+AC54+AE54+AG54+AI54","v":0},0,0,{"$error":"#DIV/0!"}]
[10,null,null,null,null,null,null,null,null,null,null,null,null,null,null,null,null,null,null,null,null,null,null,null,null,null,null,null,null,null,null,null,null,null,null,null,null,null,null,null,null,null,0,0,0,{"$error":"#DIV/0!"}]
[11,null,null,null,null,null,null,null,null,null,null,null,null,null,null,null,null,null,null,null,null,null,null,null,null,null,null,null,null,null,null,null,null,null,null,null,null,null,null,null,null,null,0,0,0,{"$error":"#DIV/0!"}]
[12,null,null,null,null,null,null,null,null,null,null,null,null,null,null,null,null,null,null,null,null,null,null,null,null,null,null,null,null,null,null,null,null,null,null,null,null,null,null,null,null,null,0,0,0,{"$error":"#DIV/0!"}]
[{"$f":"+A57+1","v":13},null,null,null,null,null,null,null,null,null,null,null,null,null,null,null,null,null,null,null,null,null,null,null,null,null,null,null,null,null,null,null,null,null,null,null,null,null,null,null,null,null,0,0,0,{"$error":"#DIV/0!"}]
[{"$f":"+A58+1","v":14},null,null,null,null,null,null,null,null,null,null,null,null,null,null,null,null,null,null,null,null,null,null,null,null,null,null,null,null,null,null,null,null,null,null,null,null,null,null,null,null,null,0,0,{"$f":"COUNT(C59:AN59)/2","v":0},{"$f":"+AQ59/AS59","v":{"$error":"#DIV/0!"}}]
[15,null,null,null,null,null,null,null,null,null,null,null,null,null,null,null,null,null,null,null,null,null,null,null,null,null,null,null,null,null,null,null,null,null,null,null,null,null,null,null,null,null,0,0,{"$f":"COUNT(C60:AN60)/2","v":0},{"$f":"+AQ60/AS60","v":{"$error":"#DIV/0!"}}]
[16,null,null,null,null,null,null,null,null,null,null,null,null,null,null,null,null,null,null,null,null,null,null,null,null,null,null,null,null,null,null,null,null,null,null,null,null,null,null,null,null,null,0,0,{"$f":"COUNT(C61:AN61)/2","v":0},{"$f":"+AQ61/AS61","v":{"$error":"#DIV/0!"}}]
[17,null,null,null,null,null,null,null,null,null,null,null,null,null,null,null,null,null,null,null,null,null,null,null,null,null,null,null,null,null,null,null,null,null,null,null,null,null,null,null,null,null,0,0,{"$f":"COUNT(C62:AN62)/2","v":0},{"$f":"+AQ62/AS62","v":{"$error":"#DIV/0!"}}]
[18]
[19]
[20]
[21]
[22]
[23]
[24]
[25]
[26]
[27]
[28]
[29]
[30]
[31]
[32]
[33]
[34]
[35]
[36]
[37]
[38]
[39]
[40]
[41]
[42]
[43]
[44]
[45]
[46]
[47]
[48]
[49]
[50]
[51]
[52]
[53]
[54]
[55]
[56]
[57]
[58]
[59]
[60]

{"sheet":"Copo","index":28,"n_rows":47,"n_cols":35,"rows_kept":47,"cut":false,"hidden":false,"merged":[[38,24,38,25],[38,26,38,27],[38,28,38,29],[38,16,38,17],[38,18,38,19],[38,20,38,21],[38,22,38,23],[38,8,38,9],[38,10,38,11],[38,12,38,13],[38,14,38,15],[38,1,39,1],[38,2,38,3],[38,4,38,5],[38,6,38,7]]}
["COPO"]
["Mes"]
[{"$f":"+GENERAL!B6","v":12},null,{"$f":"SUM(C5:C7)","v":-300000000}]
[null,null,"Premi","Punts","Partides","General"]
[1,"Jorge",{"$f":"+E$36","v":-100000000},{"$f":"+F$37","v":1E-4},{"$f":"+F$36","v":0},{"$f":"+E$22","v":0},{"$f":"IF(E5<A$3/2,-1,1)*8000+C5*100+D5+E5/100","v":-10000007999.999901}]
[2,"Aurora",{"$f":"+K$36","v":-100000000},{"$f":"+L$37","v":1E-4},{"$f":"+L$36","v":0},{"$f":"+K$22","v":0},-10000007999.999901]
[3,"Sergi",{"$f":"+M$36","v":-100000000},{"$f":"+N$37","v":1E-4},{"$f":"+N$36","v":0},{"$f":"+M$22","v":0},-10000007999.999901]
[4,"Carles",{"$f":"+O$36","v":-100000000},{"$f":"+P$37","v":1E-4},{"$f":"+P$36","v":0},{"$f":"+O$22","v":0},-10000007999.999901]
[5,"Mariajo",{"$f":"+Q$36","v":-100000000},{"$f":"+R$37","v":1E-4},{"$f":"+R$36","v":0},{"$f":"+Q$22","v":0},-10000007999.999901]
[6,"Mercè",{"$f":"+Y$36","v":-100000000},{"$f":"+Z$37","v":1E-4},{"$f":"+Z$36","v":0},{"$f":"+Y$22","v":0},-10000007999.999901]
[7,"Jordi",{"$f":"+G$36","v":-100000000},{"$f":"+H$37","v":1E-4},{"$f":"+H$36","v":0},{"$f":"+G$22","v":0},-10000007999.999901]
[8,"Iglesias",{"$f":"+S$36","v":-100000000},{"$f":"+T$37","v":1E-4},{"$f":"+T$36","v":0},{"$f":"+S$22","v":0},-10000007999.999901]
[9,"Xavi",{"$f":"+W$36","v":-100000000},{"$f":"+X$37","v":1E-4},{"$f":"+X$36","v":0},{"$f":"+W$22","v":0},-10000007999.999901]
[10,"Goretti",{"$f":"+C$36","v":-100000000},{"$f":"+D$37","v":1E-4},{"$f":"+D$36","v":0},{"$f":"+C$22","v":0},-10000007999.999901]
[11,"MªJosé",{"$f":"+I$36","v":-100000000},{"$f":"+J$37","v":1E-4},{"$f":"+J$36","v":0},{"$f":"+I$22","v":0},-10000007999.999901]
[12,"Marga",{"$f":"+AC$36","v":-100000000},{"$f":"+AD$37","v":1E-4},{"$f":"+AD$36","v":0},{"$f":"+AC$22","v":0},-10000007999.999901]
[13,"Sylvain",{"$f":"+U$36","v":-100000000},{"$f":"+V$37","v":1E-4},{"$f":"+V$36","v":0},{"$f":"+U$22","v":0},-10000007999.999901]
[14,"Taberner",{"$f":"+AA$36","v":-100000000},{"$f":"+AB$37","v":1E-4},{"$f":"+AB$36","v":0},{"$f":"+AA$22","v":0},-10000007999.999901]
[]
[]
[]
[null,"General",{"$f":"+C23*C24","v":0},{"$f":"+D23*D24","v":0},0,0,{"$f":"+G23*G24","v":0},0,0,0,0,0,0,0,0,0,0,0,{"$f":"+S23*S24","v":0},0,0,0,0,0,{"$f":"+Y23*Y24","v":0},0,{"$f":"+AA23*AA24","v":0},{"$f":"+AB23*AB24","v":0},0,0]
[null,null,{"$f":"IF($B35>3,1,0)","v":0},{"$f":"IF($B35>3,1,0)","v":0},0,0,{"$f":"IF($B35>3,1,0)","v":0},0,0,0,0,0,0,0,0,0,0,0,0,0,0,0,0,0,0,0,{"$f":"IF($B35>3,1,0)","v":0},{"$f":"IF($B35>3,1,0)","v":0},0,0]
[null,null,{"$f":"MAX(C25:C29)","v":0},{"$f":"+D36","v":0},{"$f":"MAX(E25:E29)","v":0},{"$f":"+F36","v":0},{"$f":"MAX(G25:G29)","v":0},{"$f":"+H36","v":0},{"$f":"MAX(I25:I29)","v":0},{"$f":"+J36","v":0},{"$f":"MAX(K25:K29)","v":0},{"$f":"+L36","v":0},{"$f":"MAX(M25:M29)","v":0},{"$f":"+N36","v":0},{"$f":"MAX(O25:O29)","v":0},{"$f":"+P36","v":0},{"$f":"MAX(Q25:Q29)","v":0},{"$f":"+R36","v":0},{"$f":"MAX(S25:S29)","v":0},{"$f":"+T36","v":0},{"$f":"MAX(U25:U29)","v":0},{"$f":"+V36","v":0},{"$f":"MAX(W25:W29)","v":0},{"$f":"+X36","v":0},{"$f":"MAX(Y25:Y29)","v":0},{"$f":"+Z36","v":0},{"$f":"MAX(AA25:AA29)","v":0},{"$f":"+AB36","v":0},{"$f":"MAX(AC25:AC29)","v":0},{"$f":"+AD36","v":0}]
[null,null,{"$f":"IF(C$30=5,5,0)","v":0},null,{"$f":"IF(E$30=5,5,0)","v":0},null,{"$f":"IF(G$30=5,5,0)","v":0},null,{"$f":"IF(I$30=5,5,0)","v":0},null,{"$f":"IF(K$30=5,5,0)","v":0},null,{"$f":"IF(M$30=5,5,0)","v":0},null,{"$f":"IF(O$30=5,5,0)","v":0},null,{"$f":"IF(Q$30=5,5,0)","v":0},null,{"$f":"IF(S$30=5,5,0)","v":0},null,{"$f":"IF(U$30=5,5,0)","v":0},null,{"$f":"IF(W$30=5,5,0)","v":0},null,{"$f":"IF(Y$30=5,5,0)","v":0},null,{"$f":"IF(AA$30=5,5,0)","v":0},null,{"$f":"IF(AC$30=5,5,0)","v":0}]
[null,null,{"$f":"IF(C$30=4,10,0)","v":0},null,{"$f":"IF(E$30=4,10,0)","v":0},null,{"$f":"IF(G$30=4,10,0)","v":0},null,{"$f":"IF(I$30=4,10,0)","v":0},null,{"$f":"IF(K$30=4,10,0)","v":0},null,{"$f":"IF(M$30=4,10,0)","v":0},null,{"$f":"IF(O$30=4,10,0)","v":0},null,{"$f":"IF(Q$30=4,10,0)","v":0},null,{"$f":"IF(S$30=4,10,0)","v":0},null,{"$f":"IF(U$30=4,10,0)","v":0},null,{"$f":"IF(W$30=4,10,0)","v":0},null,{"$f":"IF(Y$30=4,10,0)","v":0},null,{"$f":"IF(AA$30=4,10,0)","v":0},null,{"$f":"IF(AC$30=4,10,0)","v":0}]
[null,null,{"$f":"IF(C$30=3,20,0)","v":0},null,{"$f":"IF(E$30=3,20,0)","v":0},null,{"$f":"IF(G$30=3,20,0)","v":0},null,{"$f":"IF(I$30=3,20,0)","v":0},null,{"$f":"IF(K$30=3,20,0)","v":0},null,{"$f":"IF(M$30=3,20,0)","v":0},null,{"$f":"IF(O$30=3,20,0)","v":0},null,{"$f":"IF(Q$30=3,20,0)","v":0},null,{"$f":"IF(S$30=3,20,0)","v":0},null,{"$f":"IF(U$30=3,20,0)","v":0},null,{"$f":"IF(W$30=3,20,0)","v":0},null,{"$f":"IF(Y$30=3,20,0)","v":0},null,{"$f":"IF(AA$30=3,20,0)","v":0},null,{"$f":"IF(AC$30=3,20,0)","v":0}]
[null,null,{"$f":"IF(C$30=2,40,0)","v":0},null,{"$f":"IF(E$30=2,40,0)","v":0},null,{"$f":"IF(G$30=2,40,0)","v":0},null,{"$f":"IF(I$30=2,40,0)","v":0},null,{"$f":"IF(K$30=2,40,0)","v":0},null,{"$f":"IF(M$30=2,40,0)","v":0},null,{"$f":"IF(O$30=2,40,0)","v":0},null,{"$f":"IF(Q$30=2,40,0)","v":0},null,{"$f":"IF(S$30=2,40,0)","v":0},null,{"$f":"IF(U$30=2,40,0)","v":0},null,{"$f":"IF(W$30=2,40,0)","v":0},null,{"$f":"IF(Y$30=2,40,0)","v":0},null,{"$f":"IF(AA$30=2,40,0)","v":0},null,{"$f":"IF(AC$30=2,40,0)","v":0}]
[null,null,{"$f":"IF(C$30=1,80,0)","v":0},null,{"$f":"IF(E$30=1,80,0)","v":0},null,{"$f":"IF(G$30=1,80,0)","v":0},null,{"$f":"IF(I$30=1,80,0)","v":0},null,{"$f":"IF(K$30=1,80,0)","v":0},null,{"$f":"IF(M$30=1,80,0)","v":0},null,{"$f":"IF(O$30=1,80,0)","v":0},null,{"$f":"IF(Q$30=1,80,0)","v":0},null,{"$f":"IF(S$30=1,80,0)","v":0},null,{"$f":"IF(U$30=1,80,0)","v":0},null,{"$f":"IF(W$30=1,80,0)","v":0},null,{"$f":"IF(Y$30=1,80,0)","v":0},null,{"$f":"IF(AA$30=1,80,0)","v":0},null,{"$f":"IF(AC$30=1,80,0)","v":0}]
[null,null,{"$f":"RANK(C31,$C31:$BF31)*C35","v":0},null,{"$f":"RANK(E31,$C31:$BF31)*E35","v":0},null,{"$f":"RANK(G31,$C31:$BF31)*G35","v":0},null,{"$f":"RANK(I31,$C31:$BF31)*I35","v":0},null,{"$f":"RANK(K31,$C31:$BF31)*K35","v":0},null,{"$f":"RANK(M31,$C31:$BF31)*M35","v":0},null,{"$f":"RANK(O31,$C31:$BF31)*O35","v":0},null,{"$f":"RANK(Q31,$C31:$BF31)*Q35","v":0},null,{"$f":"RANK(S31,$C31:$BF31)*S35","v":0},null,{"$f":"RANK(U31,$C31:$BF31)*U35","v":0},null,{"$f":"RANK(W31,$C31:$BF31)*W35","v":0},null,{"$f":"RANK(Y31,$C31:$BF31)*Y35","v":0},null,{"$f":"RANK(AA31,$C31:$BF31)*AA35","v":0},null,{"$f":"RANK(AC31,$C31:$BF31)*AC35","v":0}]
[null,null,{"$f":"SUM(C32:C34)","v":-100999999.98999999},null,{"$f":"SUM(E32:E34)","v":-100999999.98999999},null,{"$f":"SUM(G32:G34)","v":-100999999.98999999},null,{"$f":"SUM(I32:I34)","v":-100999999.98999999},null,{"$f":"SUM(K32:K34)","v":-100999999.98999999},null,{"$f":"SUM(M32:M34)","v":-100999999.98999999},null,{"$f":"SUM(O32:O34)","v":-100999999.98999999},null,{"$f":"SUM(Q32:Q34)","v":-100999999.98999999},null,{"$f":"SUM(S32:S34)","v":-100999999.98999999},null,{"$f":"SUM(U32:U34)","v":-100999999.98999999},null,{"$f":"SUM(W32:W34)","v":-100999999.98999999},null,{"$f":"SUM(Y32:Y34)","v":-100999999.98999999},null,{"$f":"SUM(AA32:AA34)","v":-100999999.98999999},null,{"$f":"SUM(AC32:AC34)","v":-100999999.98999999}]
[null,null,{"$f":"+D36","v":0},null,{"$f":"+F36","v":0},null,{"$f":"+H36","v":0},null,{"$f":"+J36","v":0},null,{"$f":"+L36","v":0},null,{"$f":"+N36","v":0},null,{"$f":"+P36","v":0},null,{"$f":"+R36","v":0},null,{"$f":"+T36","v":0},null,{"$f":"+V36","v":0},null,{"$f":"+X36","v":0},null,{"$f":"+Z36","v":0},null,{"$f":"+AB36","v":0},null,{"$f":"+AD36","v":0}]
[null,null,{"$f":"D37*100","v":0.01},null,{"$f":"F37*100","v":0.01},null,{"$f":"H37*100","v":0.01},null,{"$f":"J37*100","v":0.01},null,{"$f":"L37*100","v":0.01},null,{"$f":"N37*100","v":0.01},null,{"$f":"P37*100","v":0.01},null,{"$f":"R37*100","v":0.01},null,{"$f":"T37*100","v":0.01},null,{"$f":"V37*100","v":0.01},null,{"$f":"X37*100","v":0.01},null,{"$f":"Z37*100","v":0.01},null,{"$f":"AB37*100","v":0.01},null,{"$f":"AD37*100","v":0.01}]
[null,null,{"$f":"IF(C35=1,C36*C35*1000+C36,-1000000+C36)","v":-101000000},null,{"$f":"IF(E35=1,E36*E35*1000+E36,-1000000+E36)","v":-101000000},null,{"$f":"IF(G35=1,G36*G35*1000+G36,-1000000+G36)","v":-101000000},null,{"$f":"IF(I35=1,I36*I35*1000+I36,-1000000+I36)","v":-101000000},null,{"$f":"IF(K35=1,K36*K35*1000+K36,-1000000+K36)","v":-101000000},null,{"$f":"IF(M35=1,M36*M35*1000+M36,-1000000+M36)","v":-101000000},null,{"$f":"IF(O35=1,O36*O35*1000+O36,-1000000+O36)","v":-101000000},null,{"$f":"IF(Q35=1,Q36*Q35*1000+Q36,-1000000+Q36)","v":-101000000},null,{"$f":"IF(S35=1,S36*S35*1000+S36,-1000000+S36)","v":-101000000},null,{"$f":"IF(U35=1,U36*U35*1000+U36,-1000000+U36)","v":-101000000},null,{"$f":"IF(W35=1,W36*W35*1000+W36,-1000000+W36)","v":-101000000},null,{"$f":"IF(Y35=1,Y36*Y35*1000+Y36,-1000000+Y36)","v":-101000000},null,{"$f":"IF(AA35=1,AA36*AA35*1000+AA36,-1000000+AA36)","v":-101000000},null,{"$f":"IF(AC35=1,AC36*AC35*1000+AC36,-1000000+AC36)","v":-101000000}]
["Classificats",{"$f":"SUM(C35:AC35)","v":0},{"$f":"IF(D36>=$A3/2,1,0)","v":0},null,{"$f":"IF(F36>=$A3/2,1,0)","v":0},null,{"$f":"IF(H36>=$A3/2,1,0)","v":0},null,{"$f":"IF(J36>=$A3/2,1,0)","v":0},null,{"$f":"IF(L36>=$A3/2,1,0)","v":0},null,{"$f":"IF(N36>=$A3/2,1,0)","v":0},null,{"$f":"IF(P36>=$A3/2,1,0)","v":0},null,{"$f":"IF(R36>=$A3/2,1,0)","v":0},null,{"$f":"IF(T36>=$A3/2,1,0)","v":0},null,{"$f":"IF(V36>=$A3/2,1,0)","v":0},null,{"$f":"IF(X36>=$A3/2,1,0)","v":0},null,{"$f":"IF(Z36>=$A3/2,1,0)","v":0},null,{"$f":"IF(AB36>=$A3/2,1,0)","v":0},null,{"$f":"IF(AD36>=$A3/2,1,0)","v":0}]
[null,null,{"$f":"IF(SUM(C41:C213)<-1000,-100000000,SUM(C41:C213))","v":-100000000},{"$f":"COUNT(D41:D213)","v":0},{"$f":"IF(SUM(E41:E213)<-1000,-100000000,SUM(E41:E213))","v":-100000000},{"$f":"COUNT(F41:F213)","v":0},{"$f":"IF(SUM(G41:G213)<-1000,-100000000,SUM(G41:G213))","v":-100000000},{"$f":"COUNT(H41:H213)","v":0},{"$f":"IF(SUM(I41:I213)<-1000,-100000000,SUM(I41:I213))","v":-100000000},{"$f":"COUNT(J41:J213)","v":0},{"$f":"IF(SUM(K41:K213)<-1000,-100000000,SUM(K41:K213))","v":-100000000},{"$f":"COUNT(L41:L213)","v":0},{"$f":"IF(SUM(M41:M213)<-1000,-100000000,SUM(M41:M213))","v":-100000000},{"$f":"COUNT(N41:N213)","v":0},{"$f":"IF(SUM(O41:O213)<-1000,-100000000,SUM(O41:O213))","v":-100000000},{"$f":"COUNT(P41:P213)","v":0},{"$f":"IF(SUM(Q41:Q213)<-1000,-100000000,SUM(Q41:Q213))","v":-100000000},{"$f":"COUNT(R41:R213)","v":0},{"$f":"IF(SUM(S41:S213)<-1000,-100000000,SUM(S41:S213))","v":-100000000},{"$f":"COUNT(T41:T213)","v":0},{"$f":"IF(SUM(U41:U213)<-1000,-100000000,SUM(U41:U213))","v":-100000000},{"$f":"COUNT(V41:V213)","v":0},{"$f":"IF(SUM(W41:W213)<-1000,-100000000,SUM(W41:W213))","v":-100000000},{"$f":"COUNT(X41:X213)","v":0},{"$f":"IF(SUM(Y41:Y213)<-1000,-100000000,SUM(Y41:Y213))","v":-100000000},{"$f":"COUNT(Z41:Z213)","v":0},{"$f":"IF(SUM(AA41:AA213)<-1000,-100000000,SUM(AA41:AA213))","v":-100000000},{"$f":"COUNT(AB41:AB213)","v":0},{"$f":"IF(SUM(AC41:AC213)<-1000,-100000000,SUM(AC41:AC213))","v":-100000000},{"$f":"COUNT(AD41:AD213)","v":0}]
[null,null,null,{"$f":"IF(D36=0,0.0001,AVERAGE(D41:D128))","v":1E-4},null,{"$f":"IF(F36=0,0.0001,AVERAGE(F41:F128))","v":1E-4},null,{"$f":"IF(H36=0,0.0001,AVERAGE(H41:H128))","v":1E-4},null,{"$f":"IF(J36=0,0.0001,AVERAGE(J41:J128))","v":1E-4},null,{"$f":"IF(L36=0,0.0001,AVERAGE(L41:L128))","v":1E-4},null,{"$f":"IF(N36=0,0.0001,AVERAGE(N41:N128))","v":1E-4},null,{"$f":"IF(P36=0,0.0001,AVERAGE(P41:P128))","v":1E-4},null,{"$f":"IF(R36=0,0.0001,AVERAGE(R41:R128))","v":1E-4},null,{"$f":"IF(T36=0,0.0001,AVERAGE(T41:T128))","v":1E-4},null,{"$f":"IF(V36=0,0.0001,AVERAGE(V41:V128))","v":1E-4},null,{"$f":"IF(X36=0,0.0001,AVERAGE(X41:X128))","v":1E-4},null,{"$f":"IF(Z36=0,0.0001,AVERAGE(Z41:Z128))","v":1E-4},null,{"$f":"IF(AB36=0,0.0001,AVERAGE(AB41:AB128))","v":1E-4},null,{"$f":"IF(AD36=0,0.0001,AVERAGE(AD41:AD128))","v":1E-4}]
[null,null,null,null,null,null,null,null,null,null,null,null,null,null,null,null,null,null,null,null,null,null,null,null,null,null,null,null,null,null,{"$f":"MAX(AF41:AF100)","v":0}]
[null,"Comentaris","Goretti",null,"Jorge",null,"Jordi",null,"MªJosé",null,"Aurora",null,"Sergi",null,"Carles",null,"Mariajo",null,"Iglesias",null,"Martín",null,"Xavi",null,"Mercè",null,"Taberner",null,"Marga",null,{"$f":"COUNT(AE41:AE128)","v":0},"A","B","C"]
[null,null,"Premi","Punts","Premi","Punts","Premi","Punts","Premi","Punts","Premi","Punts","Premi","Punts","Premi","Punts","Premi","Punts","Premi","Punts","Premi","Punts","Premi","Punts","Premi","Punts","Premi","Punts","Premi","Punts","Data","Timba"]
[1,null,-10000,null,-10000,null,-10000,null,-10000,null,-10000,null,-10000,null,-10000,null,-10000,null,-10000,null,-10000,null,-10000,null,-10000,null,-10000,null,-10000,null,null,null,{"$f":"+AC41+Y41+W41+U41+S41+Q41+O41+M41+K41+I41+G41+E41+C41","v":-130000},{"$f":"COUNT(C41:AD41)/2","v":7},{"$f":"+AG41/AH41","v":-18571.428571428572}]
[{"$f":"+A41+1","v":2},null,null,null,null,null,null,null,null,null,null,null,null,null,null,null,null,null,null,null,null,null,null,null,null,null,null,null,null,null,null,null,{"$f":"+AC42+Y42+W42+U42+S42+Q42+O42+M42+K42+I42+G42+E42+C42+AA42","v":0},0,{"$error":"#DIV/0!"}]
[3,null,null,null,null,null,null,null,null,null,null,null,null,null,null,null,null,null,null,null,null,null,null,null,null,null,null,null,null,null,null,null,0,0,{"$error":"#DIV/0!"}]
[4,null,null,null,null,null,null,null,null,null,null,null,null,null,null,null,null,null,null,null,null,null,null,null,null,null,null,null,null,null,null,null,0,0,{"$error":"#DIV/0!"}]
[5,null,null,null,null,null,null,null,null,null,null,null,null,null,null,null,null,null,null,null,null,null,null,null,null,null,null,null,null,null,null,null,0,0,{"$error":"#DIV/0!"}]
[6,null,null,null,null,null,null,null,null,null,null,null,null,null,null,null,null,null,null,null,null,null,null,null,null,null,null,null,null,null,null,null,0,0,{"$error":"#DIV/0!"}]
[7,null,null,null,null,null,null,null,null,null,null,null,null,null,null,null,null,null,null,null,null,null,null,null,null,null,null,null,null,null,null,null,0,0,{"$error":"#DIV/0!"}]

{"sheet":"Chinchón","index":29,"n_rows":78,"n_cols":46,"rows_kept":78,"cut":false,"hidden":false,"merged":[[38,2,38,4],[38,5,38,7],[38,8,38,10],[38,11,38,13],[38,38,38,40],[38,26,38,28],[38,29,38,31],[38,32,38,34],[38,35,38,37],[38,14,38,16],[38,17,38,19],[38,20,38,22],[38,23,38,25]]}
["CHINCHÓN"]
["Mes"]
[{"$f":"+GENERAL!B6","v":12},null,{"$f":"SUM(C5:C7)","v":-300000000}]
[null,null,"Premio","Punts","Partides","General"]
[1,"Mercé",{"$f":"+AJ$36","v":-100000000},{"$f":"+AJ$37","v":0},{"$f":"+AK$36","v":0},{"$f":"+AJ$22","v":0},{"$f":"IF(E5<A$3/2,-1,1)*80+C5","v":-100000080}]
[2,"Carles",{"$f":"+U$36","v":-100000000},{"$f":"+U$37","v":0},{"$f":"+V$36","v":0},{"$f":"+U$22","v":0},{"$f":"IF(E6<A$3/2,-1,1)*80+C6","v":-100000080}]
[3,"Jordi",{"$f":"+I$36","v":-100000000},{"$f":"+I$37","v":0},{"$f":"+J$36","v":0},{"$f":"+I$22","v":0},{"$f":"IF(E7<A$3/2,-1,1)*80+C7","v":-100000080}]
[4,"Mariajo",{"$f":"+C$36","v":-100000000},{"$f":"+C$37","v":0},{"$f":"+D$36","v":0},{"$f":"+C$22","v":0},{"$f":"IF(E8<A$3/2,-1,1)*80+C8","v":-100000080}]
[5,"Goretti",{"$f":"+X$36","v":-100000000},{"$f":"+X$37","v":0},{"$f":"+Y$36","v":0},{"$f":"+X$22","v":0},-100000080]
[6,"Sergi",{"$f":"+R$36","v":-100000000},{"$f":"+R$37","v":0},{"$f":"+S$36","v":0},{"$f":"+R$22","v":0},-100000080]
[7,"Iglesias",{"$f":"+AA$36","v":-100000000},{"$f":"+AA$37","v":0},{"$f":"+AB$36","v":0},{"$f":"+AA$22","v":0},-100000080]
[8,"Xavi",{"$f":"+AG$36","v":-100000000},{"$f":"+AG$37","v":0},{"$f":"+AH$36","v":0},{"$f":"+AG$22","v":0},-100000080]
[9,"MªJosé",{"$f":"+L$36","v":-100000000},{"$f":"+L$37","v":0},{"$f":"+M$36","v":0},{"$f":"+L$22","v":0},-100000080]
[10,"Marga",{"$f":"+AM$36","v":-100000000},{"$f":"+AM$37","v":0},{"$f":"+AN$36","v":0},{"$f":"+AM$22","v":0},-100000080]
[11,"Salvadó",{"$f":"+O$36","v":-100000000},{"$f":"+O$37","v":0},{"$f":"+P$36","v":0},{"$f":"+O$22","v":0},-100000080]
[12,"Taberner",{"$f":"+F$36","v":-100000000},{"$f":"+F$37","v":0},{"$f":"+G$36","v":0},{"$f":"+F$22","v":0},-100000080]
[13,"Sylvain",{"$f":"+AD$36","v":-100000000},{"$f":"+AD$37","v":0},{"$f":"+AE$36","v":0},{"$f":"+AD$22","v":0},-100000080]
[]
[]
[]
[]
[null,"General",{"$f":"+C23*C24","v":0},{"$f":"+D23*D24","v":0},null,0,0,null,{"$f":"+I23*I24","v":0},0,null,0,0,null,0,0,null,0,0,null,0,0,null,0,0,null,{"$f":"+AA23*AA24","v":0},0,null,0,0,null,0,0,null,{"$f":"+AJ23*AJ24","v":0},0,null,0,0]
[null,null,{"$f":"IF($B35>3,1,0)","v":0},{"$f":"IF($B35>3,1,0)","v":0},null,0,0,null,{"$f":"IF($B35>3,1,0)","v":0},0,null,0,0,null,0,0,null,0,0,null,0,0,null,0,0,null,0,0,null,0,0,null,0,0,null,0,0,null,0,0]
[null,null,{"$f":"MAX(C25:C29)","v":0},{"$f":"+D36","v":0},null,{"$f":"MAX(F25:F29)","v":0},{"$f":"+G36","v":0},null,{"$f":"MAX(I25:I29)","v":0},{"$f":"+J36","v":0},null,{"$f":"MAX(L25:L29)","v":0},{"$f":"+M36","v":0},null,{"$f":"MAX(O25:O29)","v":0},{"$f":"+P36","v":0},null,{"$f":"MAX(R25:R29)","v":0},{"$f":"+S36","v":0},null,{"$f":"MAX(U25:U29)","v":0},{"$f":"+V36","v":0},null,{"$f":"MAX(X25:X29)","v":0},{"$f":"+Y36","v":0},null,{"$f":"MAX(AA25:AA29)","v":0},{"$f":"+AB36","v":0},null,{"$f":"MAX(AD25:AD29)","v":0},{"$f":"+AE36","v":0},null,{"$f":"MAX(AG25:AG29)","v":0},{"$f":"+AH36","v":0},null,{"$f":"MAX(AJ25:AJ29)","v":0},{"$f":"+AK36","v":0},null,{"$f":"MAX(AM25:AM29)","v":0},{"$f":"+AN36","v":0}]
[null,null,{"$f":"IF(C$30=5,5,0)","v":0},null,null,{"$f":"IF(F$30=5,5,0)","v":0},null,null,{"$f":"IF(I$30=5,5,0)","v":0},null,null,{"$f":"IF(L$30=5,5,0)","v":0},null,null,{"$f":"IF(O$30=5,5,0)","v":0},null,null,{"$f":"IF(R$30=5,5,0)","v":0},null,null,{"$f":"IF(U$30=5,5,0)","v":0},null,null,{"$f":"IF(X$30=5,5,0)","v":0},null,null,{"$f":"IF(AA$30=5,5,0)","v":0},null,null,{"$f":"IF(AD$30=5,5,0)","v":0},null,null,{"$f":"IF(AG$30=5,5,0)","v":0},null,null,{"$f":"IF(AJ$30=5,5,0)","v":0},null,null,{"$f":"IF(AM$30=5,5,0)","v":0}]
[null,null,{"$f":"IF(C$30=4,10,0)","v":0},null,null,{"$f":"IF(F$30=4,10,0)","v":0},null,null,{"$f":"IF(I$30=4,10,0)","v":0},null,null,{"$f":"IF(L$30=4,10,0)","v":0},null,null,{"$f":"IF(O$30=4,10,0)","v":0},null,null,{"$f":"IF(R$30=4,10,0)","v":0},null,null,{"$f":"IF(U$30=4,10,0)","v":0},null,null,{"$f":"IF(X$30=4,10,0)","v":0},null,null,{"$f":"IF(AA$30=4,10,0)","v":0},null,null,{"$f":"IF(AD$30=4,10,0)","v":0},null,null,{"$f":"IF(AG$30=4,10,0)","v":0},null,null,{"$f":"IF(AJ$30=4,10,0)","v":0},null,null,{"$f":"IF(AM$30=4,10,0)","v":0}]
[null,null,{"$f":"IF(C$30=3,20,0)","v":0},null,null,{"$f":"IF(F$30=3,20,0)","v":0},null,null,{"$f":"IF(I$30=3,20,0)","v":0},null,null,{"$f":"IF(L$30=3,20,0)","v":0},null,null,{"$f":"IF(O$30=3,20,0)","v":0},null,null,{"$f":"IF(R$30=3,20,0)","v":0},null,null,{"$f":"IF(U$30=3,20,0)","v":0},null,null,{"$f":"IF(X$30=3,20,0)","v":0},null,null,{"$f":"IF(AA$30=3,20,0)","v":0},null,null,{"$f":"IF(AD$30=3,20,0)","v":0},null,null,{"$f":"IF(AG$30=3,20,0)","v":0},null,null,{"$f":"IF(AJ$30=3,20,0)","v":0},null,null,{"$f":"IF(AM$30=3,20,0)","v":0}]
[null,null,{"$f":"IF(C$30=2,40,0)","v":0},null,null,{"$f":"IF(F$30=2,40,0)","v":0},null,null,{"$f":"IF(I$30=2,40,0)","v":0},null,null,{"$f":"IF(L$30=2,40,0)","v":0},null,null,{"$f":"IF(O$30=2,40,0)","v":0},null,null,{"$f":"IF(R$30=2,40,0)","v":0},null,null,{"$f":"IF(U$30=2,40,0)","v":0},null,null,{"$f":"IF(X$30=2,40,0)","v":0},null,null,{"$f":"IF(AA$30=2,40,0)","v":0},null,null,{"$f":"IF(AD$30=2,40,0)","v":0},null,null,{"$f":"IF(AG$30=2,40,0)","v":0},null,null,{"$f":"IF(AJ$30=2,40,0)","v":0},null,null,{"$f":"IF(AM$30=2,40,0)","v":0}]
[null,null,{"$f":"IF(C$30=1,80,0)","v":0},null,null,{"$f":"IF(F$30=1,80,0)","v":0},null,null,{"$f":"IF(I$30=1,80,0)","v":0},null,null,{"$f":"IF(L$30=1,80,0)","v":0},null,null,{"$f":"IF(O$30=1,80,0)","v":0},null,null,{"$f":"IF(R$30=1,80,0)","v":0},null,null,{"$f":"IF(U$30=1,80,0)","v":0},null,null,{"$f":"IF(X$30=1,80,0)","v":0},null,null,{"$f":"IF(AA$30=1,80,0)","v":0},null,null,{"$f":"IF(AD$30=1,80,0)","v":0},null,null,{"$f":"IF(AG$30=1,80,0)","v":0},null,null,{"$f":"IF(AJ$30=1,80,0)","v":0},null,null,{"$f":"IF(AM$30=1,80,0)","v":0}]
[null,null,{"$f":"RANK(C31,$C31:$AN31)*C35","v":0},null,null,{"$f":"RANK(F31,$C31:$AN31)*F35","v":0},null,null,{"$f":"RANK(I31,$C31:$AN31)*I35","v":0},null,null,{"$f":"RANK(L31,$C31:$AN31)*L35","v":0},null,null,{"$f":"RANK(O31,$C31:$AN31)*O35","v":0},null,null,{"$f":"RANK(R31,$C31:$AN31)*R35","v":0},null,null,{"$f":"RANK(U31,$C31:$AN31)*U35","v":0},null,null,{"$f":"RANK(X31,$C31:$AN31)*X35","v":0},null,null,{"$f":"RANK(AA31,$C31:$AN31)*AA35","v":0},null,null,{"$f":"RANK(AD31,$C31:$AN31)*AD35","v":0},null,null,{"$f":"RANK(AG31,$C31:$AN31)*AG35","v":0},null,null,{"$f":"RANK(AJ31,$C31:$AN31)*AJ35","v":0},null,null,{"$f":"RANK(AM31,$C31:$AN31)*AM35","v":0}]
[null,null,{"$f":"SUM(C32:C34)","v":-101000000},null,null,{"$f":"SUM(F32:F34)","v":-101000000},null,null,{"$f":"SUM(I32:I34)","v":-101000000},null,null,{"$f":"SUM(L32:L34)","v":-101000000},null,null,{"$f":"SUM(O32:O34)","v":-101000000},null,null,{"$f":"SUM(R32:R34)","v":-101000000},null,null,{"$f":"SUM(U32:U34)","v":-101000000},null,null,{"$f":"SUM(X32:X34)","v":-101000000},null,null,{"$f":"SUM(AA32:AA34)","v":-101000000},null,null,{"$f":"SUM(AD32:AD34)","v":-101000000},null,null,{"$f":"SUM(AG32:AG34)","v":-101000000},null,null,{"$f":"SUM(AJ32:AJ34)","v":-101000000},null,null,{"$f":"SUM(AM32:AM34)","v":-101000000}]
[null,null,{"$f":"+D36","v":0},null,null,{"$f":"+G36","v":0},null,null,{"$f":"+J36","v":0},null,null,{"$f":"+M36","v":0},null,null,{"$f":"+P36","v":0},null,null,{"$f":"+S36","v":0},null,null,{"$f":"+V36","v":0},null,null,{"$f":"+Y36","v":0},null,null,{"$f":"+AB36","v":0},null,null,{"$f":"+AE36","v":0},null,null,{"$f":"+AH36","v":0},null,null,{"$f":"+AK36","v":0},null,null,{"$f":"+AN36","v":0}]
[null,null,{"$f":"-C37*10","v":0},null,null,{"$f":"-F37*10","v":0},null,null,{"$f":"-I37*10","v":0},null,null,{"$f":"-L37*10","v":0},null,null,{"$f":"-O37*10","v":0},null,null,{"$f":"-R37*10","v":0},null,null,{"$f":"-U37*10","v":0},null,null,{"$f":"-X37*10","v":0},null,null,{"$f":"-AA37*10","v":0},null,null,{"$f":"-AD37*10","v":0},null,null,{"$f":"-AG37*10","v":0},null,null,{"$f":"-AJ37*10","v":0},null,null,{"$f":"-AM37*10","v":0}]
[null,null,{"$f":"IF(C35=1,C36*C35*10000+C36,-1000000+C36)","v":-101000000},null,null,{"$f":"IF(F35=1,F36*F35*10000+F36,-1000000+F36)","v":-101000000},null,null,{"$f":"IF(I35=1,I36*I35*10000+I36,-1000000+I36)","v":-101000000},null,null,{"$f":"IF(L35=1,L36*L35*10000+L36,-1000000+L36)","v":-101000000},null,null,{"$f":"IF(O35=1,O36*O35*10000+O36,-1000000+O36)","v":-101000000},null,null,{"$f":"IF(R35=1,R36*R35*10000+R36,-1000000+R36)","v":-101000000},null,null,{"$f":"IF(U35=1,U36*U35*10000+U36,-1000000+U36)","v":-101000000},null,null,{"$f":"IF(X35=1,X36*X35*10000+X36,-1000000+X36)","v":-101000000},null,null,{"$f":"IF(AA35=1,AA36*AA35*10000+AA36,-1000000+AA36)","v":-101000000},null,null,{"$f":"IF(AD35=1,AD36*AD35*10000+AD36,-1000000+AD36)","v":-101000000},null,null,{"$f":"IF(AG35=1,AG36*AG35*10000+AG36,-1000000+AG36)","v":-101000000},null,null,{"$f":"IF(AJ35=1,AJ36*AJ35*10000+AJ36,-1000000+AJ36)","v":-101000000},null,null,{"$f":"IF(AM35=1,AM36*AM35*10000+AM36,-1000000+AM36)","v":-101000000}]
["Classificats",{"$f":"SUM(C35:AM35)","v":0},{"$f":"IF(D36>=$A3/2,1,0)","v":0},null,null,{"$f":"IF(G36>=$A3/2,1,0)","v":0},null,null,{"$f":"IF(J36>=$A3/2,1,0)","v":0},null,null,{"$f":"IF(M36>=$A3/2,1,0)","v":0},null,null,{"$f":"IF(P36>=$A3/2,1,0)","v":0},null,null,{"$f":"IF(S36>=$A3/2,1,0)","v":0},null,null,{"$f":"IF(V36>=$A3/2,1,0)","v":0},null,null,{"$f":"IF(Y36>=$A3/2,1,0)","v":0},null,null,{"$f":"IF(AB36>=$A3/2,1,0)","v":0},null,null,{"$f":"IF(AE36>=$A3/2,1,0)","v":0},null,null,{"$f":"IF(AH36>=$A3/2,1,0)","v":0},null,null,{"$f":"IF(AK36>=$A3/2,1,0)","v":0},null,null,{"$f":"IF(AN36>=$A3/2,1,0)","v":0}]
[null,null,{"$f":"IF(SUM(C41:C279)<-1000,-100000000,SUM(C41:C279))","v":-100000000},{"$f":"COUNT(D41:D279)","v":0},null,{"$f":"IF(SUM(F41:F279)<-1000,-100000000,SUM(F41:F279))","v":-100000000},{"$f":"COUNT(G41:G279)","v":0},null,{"$f":"IF(SUM(I41:I279)<-1000,-100000000,SUM(I41:I279))","v":-100000000},{"$f":"COUNT(J41:J279)","v":0},null,{"$f":"IF(SUM(L41:L279)<-1000,-100000000,SUM(L41:L279))","v":-100000000},{"$f":"COUNT(M41:M279)","v":0},null,{"$f":"IF(SUM(O41:O279)<-1000,-100000000,SUM(O41:O279))","v":-100000000},{"$f":"COUNT(P41:P279)","v":0},null,{"$f":"IF(SUM(R41:R279)<-1000,-100000000,SUM(R41:R279))","v":-100000000},{"$f":"COUNT(S41:S279)","v":0},null,{"$f":"IF(SUM(U41:U279)<-1000,-100000000,SUM(U41:U279))","v":-100000000},{"$f":"COUNT(V41:V279)","v":0},null,{"$f":"IF(SUM(X41:X279)<-1000,-100000000,SUM(X41:X279))","v":-100000000},{"$f":"COUNT(Y41:Y279)","v":0},null,{"$f":"IF(SUM(AA41:AA279)<-1000,-100000000,SUM(AA41:AA279))","v":-100000000},{"$f":"COUNT(AB41:AB279)","v":0},null,{"$f":"IF(SUM(AD41:AD279)<-1000,-100000000,SUM(AD41:AD279))","v":-100000000},{"$f":"COUNT(AE41:AE279)","v":0},null,{"$f":"IF(SUM(AG41:AG279)<-1000,-100000000,SUM(AG41:AG279))","v":-100000000},{"$f":"COUNT(AH41:AH279)","v":0},null,{"$f":"IF(SUM(AJ41:AJ279)<-1000,-100000000,SUM(AJ41:AJ279))","v":-100000000},{"$f":"COUNT(AK41:AK279)","v":0},null,{"$f":"IF(SUM(AM41:AM279)<-1000,-100000000,SUM(AM41:AM279))","v":-100000000},{"$f":"COUNT(AN41:AN279)","v":0},null,null,"A"]
[null,null,{"$f":"+D37/E37","v":0},{"$f":"SUM(D41:D179)","v":0},{"$f":"SUM(E41:E179)","v":-1},{"$f":"+G37/H37","v":0},{"$f":"SUM(G41:G179)","v":0},{"$f":"SUM(H41:H179)","v":-1},{"$f":"+J37/K37","v":0},{"$f":"SUM(J41:J179)","v":0},{"$f":"SUM(K41:K179)","v":-1},{"$f":"+M37/N37","v":0},{"$f":"SUM(M41:M179)","v":0},{"$f":"SUM(N41:N179)","v":-1},{"$f":"+P37/Q37","v":0},{"$f":"SUM(P41:P179)","v":0},{"$f":"SUM(Q41:Q179)","v":-1},{"$f":"+S37/T37","v":0},{"$f":"SUM(S41:S179)","v":0},{"$f":"SUM(T41:T179)","v":-1},{"$f":"+V37/W37","v":0},{"$f":"SUM(V41:V179)","v":0},{"$f":"SUM(W41:W179)","v":-1},{"$f":"+Y37/Z37","v":0},{"$f":"SUM(Y41:Y179)","v":0},{"$f":"SUM(Z41:Z179)","v":-1},{"$f":"+AB37/AC37","v":0},{"$f":"SUM(AB41:AB179)","v":0},{"$f":"SUM(AC41:AC179)","v":-1},{"$f":"+AE37/AF37","v":0},{"$f":"SUM(AE41:AE179)","v":0},{"$f":"SUM(AF41:AF179)","v":-1},{"$f":"+AH37/AI37","v":0},{"$f":"SUM(AH41:AH179)","v":0},{"$f":"SUM(AI41:AI179)","v":-1},{"$f":"+AK37/AL37","v":0},{"$f":"SUM(AK41:AK179)","v":0},{"$f":"SUM(AL41:AL179)","v":-1},{"$f":"+AN37/AO37","v":0},{"$f":"SUM(AN41:AN179)","v":0},{"$f":"SUM(AO41:AO179)","v":-1},null,"B"]
[null,null,null,null,null,null,null,null,null,null,null,null,null,null,null,null,null,null,null,null,null,null,null,null,null,null,null,null,null,null,null,null,null,null,null,null,null,null,null,null,null,{"$f":"MAX(AQ41:AQ100)","v":0}]
[null,"Nº partida ","Mariajo",null,null,"Taberner",null,null,"Jordi",null,null,"MªJosé",null,null,"Salvadó",null,null,"Sergi",null,null,"Carles",null,null,"Goretti",null,null,"Iglesias",null,null,"Martín",null,null,"Xavi",null,null,"Mercé",null,null,"Marga",null,null,{"$f":"COUNT(AP41:AP194)","v":0},"A","B","C"]
[null,"5 copes","Premi","Punts",null,"Premi","Punts",null,"Premi","Punts",null,"Premi","Punts",null,"Premi","Punts",null,"Premi","Punts",null,"Premi","Punts",null,"Premi","Punts",null,"Premi","Punts",null,"Premi","Punts",null,"Premi","Punts",null,"Premi","Punts",null,"Premi","Punts",null,"Data","Timba"]
[1,null,-10000,null,-1,-10000,null,-1,-10000,null,-1,-10000,null,-1,-10000,null,-1,-10000,null,-1,-10000,null,-1,-10000,null,-1,-10000,null,-1,-10000,null,-1,-10000,null,-1,-10000,null,-1,-10000,null,-1,null,null,{"$f":"+AM41+AJ41+AG41+AD41+AA41+X41+U41+R41+O41+L41+I41+F41+C41","v":-130000},{"$f":"COUNT(C41:AO41)/3","v":8.6666666666666661},{"$f":"+AR41/AS41","v":-15000.000000000002}]
[{"$f":"+A41+1","v":2},null,null,null,null,null,null,null,null,null,null,null,null,null,null,null,null,null,null,null,null,null,null,null,null,null,null,null,null,null,null,null,null,null,null,null,null,null,null,null,null,null,null,0,{"$f":"COUNT(C42:AO42)/3","v":0},{"$f":"+AR42/AS42","v":{"$error":"#DIV/0!"}}]
[{"$f":"+A42+1","v":3},null,null,null,null,null,null,null,null,null,null,null,null,null,null,null,null,null,null,null,null,null,null,null,null,null,null,null,null,null,null,null,null,null,null,null,null,null,null,null,null,null,null,0,{"$f":"COUNT(C43:AO43)/3","v":0},{"$f":"+AR43/AS43","v":{"$error":"#DIV/0!"}}]
[4,null,null,null,null,null,null,null,null,null,null,null,null,null,null,null,null,null,null,null,null,null,null,null,null,null,null,null,null,null,null,null,null,null,null,null,null,null,null,null,null,null,null,0,{"$f":"COUNT(C44:AO44)/3","v":0},{"$f":"+AR44/AS44","v":{"$error":"#DIV/0!"}}]
[5,null,null,null,null,null,null,null,null,null,null,null,null,null,null,null,null,null,null,null,null,null,null,null,null,null,null,null,null,null,null,null,null,null,null,null,null,null,null,null,null,null,null,0,0,{"$error":"#DIV/0!"}]
[6,null,null,null,null,null,null,null,null,null,null,null,null,null,null,null,null,null,null,null,null,null,null,null,null,null,null,null,null,null,null,null,null,null,null,null,null,null,null,null,null,null,null,0,0,{"$error":"#DIV/0!"}]
[7,null,null,null,null,null,null,null,null,null,null,null,null,null,null,null,null,null,null,null,null,null,null,null,null,null,null,null,null,null,null,null,null,null,null,null,null,null,null,null,null,null,null,0,0,{"$error":"#DIV/0!"}]
[8,null,null,null,null,null,null,null,null,null,null,null,null,null,null,null,null,null,null,null,null,null,null,null,null,null,null,null,null,null,null,null,null,null,null,null,null,null,null,null,null,null,null,0,0,{"$error":"#DIV/0!"}]
[9,null,null,null,null,null,null,null,null,null,null,null,null,null,null,null,null,null,null,null,null,null,null,null,null,null,null,null,null,null,null,null,null,null,null,null,null,null,null,null,null,null,null,0,0,{"$error":"#DIV/0!"}]
[10,null,null,null,null,null,null,null,null,null,null,null,null,null,null,null,null,null,null,null,null,null,null,null,null,null,null,null,null,null,null,null,null,null,null,null,null,null,null,null,null,null,null,0,0,{"$error":"#DIV/0!"}]
[11,null,null,null,null,null,null,null,null,null,null,null,null,null,null,null,null,null,null,null,null,null,null,null,null,null,null,null,null,null,null,null,null,null,null,null,null,null,null,null,null,null,null,0,0,{"$error":"#DIV/0!"}]
[12,null,null,null,null,null,null,null,null,null,null,null,null,null,null,null,null,null,null,null,null,null,null,null,null,null,null,null,null,null,null,null,null,null,null,null,null,null,null,null,null,null,null,0,0,{"$error":"#DIV/0!"}]
[13]
[14]
[15]
[16]
[17]
[18]
[19]
[20]
[21]
[22]
[23]
[24]
[25]
[26]
[27]
[28]
[29]
[30]
[31]
[32]
[33]
[34]
[35]
[36]
[37]
[38]

{"sheet":"9 19 29","index":30,"n_rows":103,"n_cols":44,"rows_kept":103,"cut":false,"hidden":false,"merged":[[41,2,41,3],[41,4,41,5],[41,6,41,7],[41,8,41,9],[41,22,41,23],[41,24,41,25],[41,10,41,11],[41,12,41,13],[41,14,41,15],[41,16,41,17],[41,18,41,19],[41,20,41,21],[41,34,41,35],[41,36,41,37],[41,26,41,27],[41,28,41,29],[41,30,41,31],[41,32,41,33]]}
["9 19 29"]
["Mes"]
[{"$f":"+GENERAL!B6","v":12},null,{"$f":"SUM(C5:C15)","v":-1100000000}]
[null,null,"Premi","Punts","Partides","General"]
[1,"Mercè",{"$f":"+Y$39","v":-100000000},{"$f":"+Z$40","v":0},{"$f":"+Z$39","v":0},{"$f":"+Y$25","v":0},{"$f":"IF(E5<A$3/2,-1,1)*80+C5","v":-100000080}]
[2,"Mariajo",{"$f":"+Q$39","v":-100000000},{"$f":"+R$40","v":0},{"$f":"+R$39","v":0},{"$f":"+Q$25","v":0},-100000080]
[3,"Jordi",{"$f":"+G$39","v":-100000000},{"$f":"+H$40","v":0},{"$f":"+H$39","v":0},{"$f":"+G$25","v":0},-100000080]
[4,"Xavi",{"$f":"+W$39","v":-100000000},{"$f":"+X$40","v":0},{"$f":"+X$39","v":0},{"$f":"+W$25","v":0},-100000080]
[5,"Jimmy",{"$f":"+K$39","v":-100000000},{"$f":"+L$40","v":0},{"$f":"+L$39","v":0},{"$f":"+K$25","v":0},-100000080]
[6,"Pol",{"$f":"+AK$39","v":-100000000},{"$f":"+AL$40","v":0},{"$f":"+AL$39","v":0},{"$f":"+AK$25","v":0},-100000080]
[7,"Martin",{"$f":"+U$39","v":-100000000},{"$f":"+V$40","v":0},{"$f":"+V$39","v":0},{"$f":"+U$25","v":0},-100000080]
[8,"Alícia",{"$f":"+AC$39","v":-100000000},{"$f":"+AD$40","v":0},{"$f":"+AD$39","v":0},{"$f":"+AC$25","v":0},-100000080]
[9,"Sergi",{"$f":"+M$39","v":-100000000},{"$f":"+N$40","v":0},{"$f":"+N$39","v":0},{"$f":"+M$25","v":0},-100000080]
[10,"Goretti",{"$f":"+AG$39","v":-100000000},{"$f":"+AH$40","v":0},{"$f":"+AH$39","v":0},{"$f":"+AG$25","v":0},-100000080]
[11,"Carles",{"$f":"+O$39","v":-100000000},{"$f":"+P$40","v":0},{"$f":"+P$39","v":0},{"$f":"+O$25","v":0},-100000080]
[11,"Alfonso",{"$f":"+C$39","v":-100000000},{"$f":"+D$40","v":0},{"$f":"+D$39","v":0},{"$f":"+C$25","v":0},-100000080]
[11,"Anna",{"$f":"+AE$39","v":-100000000},{"$f":"+AF$40","v":0},{"$f":"+AF$39","v":0},{"$f":"+AE$25","v":0},-100000080]
[14,"Iglesias",{"$f":"+S$39","v":-100000000},{"$f":"+T$40","v":0},{"$f":"+T$39","v":0},{"$f":"+S$25","v":0},-100000080]
[15,"Jorge",{"$f":"+AI$39","v":-100000000},{"$f":"+AJ$40","v":0},{"$f":"+AJ$39","v":0},{"$f":"+AI$25","v":0},-100000080]
[16,"MªJosé",{"$f":"+I$39","v":-100000000},{"$f":"+J$40","v":0},{"$f":"+J$39","v":0},{"$f":"+I$25","v":0},-100000080]
[17,"Pepe",{"$f":"+E$39","v":-100000000},{"$f":"+F$40","v":0},{"$f":"+F$39","v":0},{"$f":"+E$25","v":0},-100000080]
[18,"Salvadó",{"$f":"+AA$39","v":-100000000},{"$f":"+AB$40","v":0},{"$f":"+AB$39","v":0},{"$f":"+AA29","v":0},-100000080]
[]
[]
[null,"General",{"$f":"+C26*C27","v":0},{"$f":"+D26*D27","v":0},0,0,0,0,0,0,0,0,0,0,0,0,0,0,0,0,0,0,0,0,0,0,0,0,0,0,0,0,0,0,0,0,0,0]
[null,null,{"$f":"IF($B38>3,1,0)","v":0},{"$f":"IF($B38>3,1,0)","v":0},0,0,0,0,0,0,0,0,0,0,0,0,0,0,0,0,0,0,0,0,0,0,0,0,0,0,0,0,0,0,0,0,0,0]
[null,null,{"$f":"MAX(C28:C32)","v":0},{"$f":"+D39","v":0},{"$f":"MAX(E28:E32)","v":0},{"$f":"+F39","v":0},{"$f":"MAX(G28:G32)","v":0},{"$f":"+H39","v":0},{"$f":"MAX(I28:I32)","v":0},{"$f":"+J39","v":0},{"$f":"MAX(K28:K32)","v":0},{"$f":"+L39","v":0},{"$f":"MAX(M28:M32)","v":0},{"$f":"+N39","v":0},{"$f":"MAX(O28:O32)","v":0},{"$f":"+P39","v":0},{"$f":"MAX(Q28:Q32)","v":0},{"$f":"+R39","v":0},{"$f":"MAX(S28:S32)","v":0},{"$f":"+T39","v":0},{"$f":"MAX(U28:U32)","v":0},{"$f":"+V39","v":0},{"$f":"MAX(W28:W32)","v":0},{"$f":"+X39","v":0},{"$f":"MAX(Y28:Y32)","v":0},{"$f":"+Z39","v":0},{"$f":"MAX(AA28:AA32)","v":0},{"$f":"+AB39","v":0},{"$f":"MAX(AC28:AC32)","v":0},{"$f":"+AD39","v":0},{"$f":"MAX(AE28:AE32)","v":0},{"$f":"+AF39","v":0},{"$f":"MAX(AG28:AG32)","v":0},{"$f":"+AH39","v":0},{"$f":"MAX(AI28:AI32)","v":0},{"$f":"+AJ39","v":0},{"$f":"MAX(AK28:AK32)","v":0},{"$f":"+AL39","v":0}]
[null,null,{"$f":"IF(C$33=5,5,0)","v":0},null,{"$f":"IF(E$33=5,5,0)","v":0},null,{"$f":"IF(G$33=5,5,0)","v":0},null,{"$f":"IF(I$33=5,5,0)","v":0},null,{"$f":"IF(K$33=5,5,0)","v":0},null,{"$f":"IF(M$33=5,5,0)","v":0},null,{"$f":"IF(O$33=5,5,0)","v":0},null,{"$f":"IF(Q$33=5,5,0)","v":0},null,{"$f":"IF(S$33=5,5,0)","v":0},null,{"$f":"IF(U$33=5,5,0)","v":0},null,{"$f":"IF(W$33=5,5,0)","v":0},null,{"$f":"IF(Y$33=5,5,0)","v":0},null,{"$f":"IF(AA$33=5,5,0)","v":0},null,{"$f":"IF(AC$33=5,5,0)","v":0},null,{"$f":"IF(AE$33=5,5,0)","v":0},null,{"$f":"IF(AG$33=5,5,0)","v":0},null,{"$f":"IF(AI$33=5,5,0)","v":0},null,{"$f":"IF(AK$33=5,5,0)","v":0}]
[null,null,{"$f":"IF(C$33=4,10,0)","v":0},null,{"$f":"IF(E$33=4,10,0)","v":0},null,{"$f":"IF(G$33=4,10,0)","v":0},null,{"$f":"IF(I$33=4,10,0)","v":0},null,{"$f":"IF(K$33=4,10,0)","v":0},null,{"$f":"IF(M$33=4,10,0)","v":0},null,{"$f":"IF(O$33=4,10,0)","v":0},null,{"$f":"IF(Q$33=4,10,0)","v":0},null,{"$f":"IF(S$33=4,10,0)","v":0},null,{"$f":"IF(U$33=4,10,0)","v":0},null,{"$f":"IF(W$33=4,10,0)","v":0},null,{"$f":"IF(Y$33=4,10,0)","v":0},null,{"$f":"IF(AA$33=4,10,0)","v":0},null,{"$f":"IF(AC$33=4,10,0)","v":0},null,{"$f":"IF(AE$33=4,10,0)","v":0},null,{"$f":"IF(AG$33=4,10,0)","v":0},null,{"$f":"IF(AI$33=4,10,0)","v":0},null,{"$f":"IF(AK$33=4,10,0)","v":0}]
[null,null,{"$f":"IF(C$33=3,20,0)","v":0},null,{"$f":"IF(E$33=3,20,0)","v":0},null,{"$f":"IF(G$33=3,20,0)","v":0},null,{"$f":"IF(I$33=3,20,0)","v":0},null,{"$f":"IF(K$33=3,20,0)","v":0},null,{"$f":"IF(M$33=3,20,0)","v":0},null,{"$f":"IF(O$33=3,20,0)","v":0},null,{"$f":"IF(Q$33=3,20,0)","v":0},null,{"$f":"IF(S$33=3,20,0)","v":0},null,{"$f":"IF(U$33=3,20,0)","v":0},null,{"$f":"IF(W$33=3,20,0)","v":0},null,{"$f":"IF(Y$33=3,20,0)","v":0},null,{"$f":"IF(AA$33=3,20,0)","v":0},null,{"$f":"IF(AC$33=3,20,0)","v":0},null,{"$f":"IF(AE$33=3,20,0)","v":0},null,{"$f":"IF(AG$33=3,20,0)","v":0},null,{"$f":"IF(AI$33=3,20,0)","v":0},null,{"$f":"IF(AK$33=3,20,0)","v":0}]
[null,null,{"$f":"IF(C$33=2,40,0)","v":0},null,{"$f":"IF(E$33=2,40,0)","v":0},null,{"$f":"IF(G$33=2,40,0)","v":0},null,{"$f":"IF(I$33=2,40,0)","v":0},null,{"$f":"IF(K$33=2,40,0)","v":0},null,{"$f":"IF(M$33=2,40,0)","v":0},null,{"$f":"IF(O$33=2,40,0)","v":0},null,{"$f":"IF(Q$33=2,40,0)","v":0},null,{"$f":"IF(S$33=2,40,0)","v":0},null,{"$f":"IF(U$33=2,40,0)","v":0},null,{"$f":"IF(W$33=2,40,0)","v":0},null,{"$f":"IF(Y$33=2,40,0)","v":0},null,{"$f":"IF(AA$33=2,40,0)","v":0},null,{"$f":"IF(AC$33=2,40,0)","v":0},null,{"$f":"IF(AE$33=2,40,0)","v":0},null,{"$f":"IF(AG$33=2,40,0)","v":0},null,{"$f":"IF(AI$33=2,40,0)","v":0},null,{"$f":"IF(AK$33=2,40,0)","v":0}]
[null,null,{"$f":"IF(C$33=1,80,0)","v":0},null,{"$f":"IF(E$33=1,80,0)","v":0},null,{"$f":"IF(G$33=1,80,0)","v":0},null,{"$f":"IF(I$33=1,80,0)","v":0},null,{"$f":"IF(K$33=1,80,0)","v":0},null,{"$f":"IF(M$33=1,80,0)","v":0},null,{"$f":"IF(O$33=1,80,0)","v":0},null,{"$f":"IF(Q$33=1,80,0)","v":0},null,{"$f":"IF(S$33=1,80,0)","v":0},null,{"$f":"IF(U$33=1,80,0)","v":0},null,{"$f":"IF(W$33=1,80,0)","v":0},null,{"$f":"IF(Y$33=1,80,0)","v":0},null,{"$f":"IF(AA$33=1,80,0)","v":0},null,{"$f":"IF(AC$33=1,80,0)","v":0},null,{"$f":"IF(AE$33=1,80,0)","v":0},null,{"$f":"IF(AG$33=1,80,0)","v":0},null,{"$f":"IF(AI$33=1,80,0)","v":0},null,{"$f":"IF(AK$33=1,80,0)","v":0}]
[null,null,{"$f":"RANK(C34,$C34:$AX34)*C38","v":0},null,{"$f":"RANK(E34,$C34:$AX34)*E38","v":0},null,{"$f":"RANK(G34,$C34:$AX34)*G38","v":0},null,{"$f":"RANK(I34,$C34:$AX34)*I38","v":0},null,{"$f":"RANK(K34,$C34:$AX34)*K38","v":0},null,{"$f":"RANK(M34,$C34:$AX34)*M38","v":0},null,{"$f":"RANK(O34,$C34:$AX34)*O38","v":0},null,{"$f":"RANK(Q34,$C34:$AX34)*Q38","v":0},null,{"$f":"RANK(S34,$C34:$AX34)*S38","v":0},null,{"$f":"RANK(U34,$C34:$AX34)*U38","v":0},null,{"$f":"RANK(W34,$C34:$AX34)*W38","v":0},null,{"$f":"RANK(Y34,$C34:$AX34)*Y38","v":0},null,{"$f":"RANK(AA34,$C34:$AX34)*AA38","v":0},null,{"$f":"RANK(AC34,$C34:$AX34)*AC38","v":0},null,{"$f":"RANK(AE34,$C34:$AX34)*AE38","v":0},null,{"$f":"RANK(AG34,$C34:$AX34)*AG38","v":0},null,{"$f":"RANK(AI34,$C34:$AX34)*AI38","v":0},null,{"$f":"RANK(AK34,$C34:$AX34)*AK38","v":0}]
[null,null,{"$f":"SUM(C35:C37)","v":-101000000},null,{"$f":"SUM(E35:E37)","v":-101000000},null,{"$f":"SUM(G35:G37)","v":-101000000},null,{"$f":"SUM(I35:I37)","v":-101000000},null,{"$f":"SUM(K35:K37)","v":-101000000},null,{"$f":"SUM(M35:M37)","v":-101000000},null,{"$f":"SUM(O35:O37)","v":-101000000},null,{"$f":"SUM(Q35:Q37)","v":-101000000},null,{"$f":"SUM(S35:S37)","v":-101000000},null,{"$f":"SUM(U35:U37)","v":-101000000},null,{"$f":"SUM(W35:W37)","v":-101000000},null,{"$f":"SUM(Y35:Y37)","v":-101000000},null,{"$f":"SUM(AA35:AA37)","v":-101000000},null,{"$f":"SUM(AC35:AC37)","v":-101000000},null,{"$f":"SUM(AE35:AE37)","v":-101000000},null,{"$f":"SUM(AG35:AG37)","v":-101000000},null,{"$f":"SUM(AI35:AI37)","v":-101000000},null,{"$f":"SUM(AK35:AK37)","v":-101000000}]
[null,null,{"$f":"+D39","v":0},null,{"$f":"+F39","v":0},null,{"$f":"+H39","v":0},null,{"$f":"+J39","v":0},null,{"$f":"+L39","v":0},null,{"$f":"+N39","v":0},null,{"$f":"+P39","v":0},null,{"$f":"+R39","v":0},null,{"$f":"+T39","v":0},null,{"$f":"+V39","v":0},null,{"$f":"+X39","v":0},null,{"$f":"+Z39","v":0},null,{"$f":"+AB39","v":0},null,{"$f":"+AD39","v":0},null,{"$f":"+AF39","v":0},null,{"$f":"+AH39","v":0},null,{"$f":"+AJ39","v":0},null,{"$f":"+AL39","v":0}]
[null,null,{"$f":"D40*10","v":0},null,{"$f":"F40*10","v":0},null,{"$f":"H40*10","v":0},null,{"$f":"J40*10","v":0},null,{"$f":"L40*10","v":0},null,{"$f":"N40*10","v":0},null,{"$f":"P40*10","v":0},null,{"$f":"R40*10","v":0},null,{"$f":"T40*10","v":0},null,{"$f":"V40*10","v":0},null,{"$f":"X40*10","v":0},null,{"$f":"Z40*10","v":0},null,{"$f":"AB40*10","v":0},null,{"$f":"AD40*10","v":0},null,{"$f":"AF40*10","v":0},null,{"$f":"AH40*10","v":0},null,{"$f":"AJ40*10","v":0},null,{"$f":"AL40*10","v":0}]
[null,null,{"$f":"IF(C38=1,C39*C38*10000+C39,-1000000+C39)","v":-101000000},null,{"$f":"IF(E38=1,E39*E38*10000+E39,-1000000+E39)","v":-101000000},null,{"$f":"IF(G38=1,G39*G38*10000+G39,-1000000+G39)","v":-101000000},null,{"$f":"IF(I38=1,I39*I38*10000+I39,-1000000+I39)","v":-101000000},null,{"$f":"IF(K38=1,K39*K38*10000+K39,-1000000+K39)","v":-101000000},null,{"$f":"IF(M38=1,M39*M38*10000+M39,-1000000+M39)","v":-101000000},null,{"$f":"IF(O38=1,O39*O38*10000+O39,-1000000+O39)","v":-101000000},null,{"$f":"IF(Q38=1,Q39*Q38*10000+Q39,-1000000+Q39)","v":-101000000},null,{"$f":"IF(S38=1,S39*S38*10000+S39,-1000000+S39)","v":-101000000},null,{"$f":"IF(U38=1,U39*U38*10000+U39,-1000000+U39)","v":-101000000},null,{"$f":"IF(W38=1,W39*W38*10000+W39,-1000000+W39)","v":-101000000},null,{"$f":"IF(Y38=1,Y39*Y38*10000+Y39,-1000000+Y39)","v":-101000000},null,{"$f":"IF(AA38=1,AA39*AA38*10000+AA39,-1000000+AA39)","v":-101000000},null,{"$f":"IF(AC38=1,AC39*AC38*10000+AC39,-1000000+AC39)","v":-101000000},null,{"$f":"IF(AE38=1,AE39*AE38*10000+AE39,-1000000+AE39)","v":-101000000},null,{"$f":"IF(AG38=1,AG39*AG38*10000+AG39,-1000000+AG39)","v":-101000000},null,{"$f":"IF(AI38=1,AI39*AI38*10000+AI39,-1000000+AI39)","v":-101000000},null,{"$f":"IF(AK38=1,AK39*AK38*10000+AK39,-1000000+AK39)","v":-101000000}]
["Classificats",{"$f":"SUM(C38:AK38)","v":0},{"$f":"IF(D39>=$A3/2,1,0)","v":0},null,{"$f":"IF(F39>=$A3/2,1,0)","v":0},null,{"$f":"IF(H39>=$A3/2,1,0)","v":0},null,{"$f":"IF(J39>=$A3/2,1,0)","v":0},null,{"$f":"IF(L39>=$A3/2,1,0)","v":0},null,{"$f":"IF(N39>=$A3/2,1,0)","v":0},null,{"$f":"IF(P39>=$A3/2,1,0)","v":0},null,{"$f":"IF(R39>=$A3/2,1,0)","v":0},null,{"$f":"IF(T39>=$A3/2,1,0)","v":0},null,{"$f":"IF(V39>=$A3/2,1,0)","v":0},null,{"$f":"IF(X39>=$A3/2,1,0)","v":0},null,{"$f":"IF(Z39>=$A3/2,1,0)","v":0},null,{"$f":"IF(AB39>=$A3/2,1,0)","v":0},null,{"$f":"IF(AD39>=$A3/2,1,0)","v":0},null,{"$f":"IF(AF39>=$A3/2,1,0)","v":0},null,{"$f":"IF(AH39>=$A3/2,1,0)","v":0},null,{"$f":"IF(AJ39>=$A3/2,1,0)","v":0},null,{"$f":"IF(AL39>=$A3/2,1,0)","v":0}]
[null,null,{"$f":"IF(SUM(C44:C209)<-1000,-100000000,SUM(C44:C209))","v":-100000000},{"$f":"COUNT(D44:D209)","v":0},{"$f":"IF(SUM(E44:E209)<-1000,-100000000,SUM(E44:E209))","v":-100000000},{"$f":"COUNT(F44:F209)","v":0},{"$f":"IF(SUM(G44:G209)<-1000,-100000000,SUM(G44:G209))","v":-100000000},{"$f":"COUNT(H44:H209)","v":0},{"$f":"IF(SUM(I44:I209)<-1000,-100000000,SUM(I44:I209))","v":-100000000},{"$f":"COUNT(J44:J209)","v":0},{"$f":"IF(SUM(K44:K209)<-1000,-100000000,SUM(K44:K209))","v":-100000000},{"$f":"COUNT(L44:L209)","v":0},{"$f":"IF(SUM(M44:M209)<-1000,-100000000,SUM(M44:M209))","v":-100000000},{"$f":"COUNT(N44:N209)","v":0},{"$f":"IF(SUM(O44:O209)<-1000,-100000000,SUM(O44:O209))","v":-100000000},{"$f":"COUNT(P44:P209)","v":0},{"$f":"IF(SUM(Q44:Q209)<-1000,-100000000,SUM(Q44:Q209))","v":-100000000},{"$f":"COUNT(R44:R209)","v":0},{"$f":"IF(SUM(S44:S209)<-1000,-100000000,SUM(S44:S209))","v":-100000000},{"$f":"COUNT(T44:T209)","v":0},{"$f":"IF(SUM(U44:U209)<-1000,-100000000,SUM(U44:U209))","v":-100000000},{"$f":"COUNT(V44:V209)","v":0},{"$f":"IF(SUM(W44:W209)<-1000,-100000000,SUM(W44:W209))","v":-100000000},{"$f":"COUNT(X44:X209)","v":0},{"$f":"IF(SUM(Y44:Y209)<-1000,-100000000,SUM(Y44:Y209))","v":-100000000},{"$f":"COUNT(Z44:Z209)","v":0},{"$f":"IF(SUM(AA44:AA209)<-1000,-100000000,SUM(AA44:AA209))","v":-100000000},{"$f":"COUNT(AB44:AB209)","v":0},{"$f":"IF(SUM(AC44:AC209)<-1000,-100000000,SUM(AC44:AC209))","v":-100000000},{"$f":"COUNT(AD44:AD209)","v":0},{"$f":"IF(SUM(AE44:AE209)<-1000,-100000000,SUM(AE44:AE209))","v":-100000000},{"$f":"COUNT(AF44:AF209)","v":0},{"$f":"IF(SUM(AG44:AG209)<-1000,-100000000,SUM(AG44:AG209))","v":-100000000},{"$f":"COUNT(AH44:AH209)","v":0},{"$f":"IF(SUM(AI44:AI209)<-1000,-100000000,SUM(AI44:AI209))","v":-100000000},{"$f":"COUNT(AJ44:AJ209)","v":0},{"$f":"IF(SUM(AK44:AK209)<-1000,-100000000,SUM(AK44:AK209))","v":-100000000},{"$f":"COUNT(AL44:AL209)","v":0}]
[null,null,{"$f":"SUM(C44:C103)","v":-100000000},0,-100000000,0,-100000000,0,-100000000,0,-100000000,0,-100000000,0,-100000000,0,-100000000,0,-100000000,0,-100000000,0,-100000000,0,-100000000,0,-100000000,0,-100000000,0,-100000000,0,-100000000,0,-100000000,0,-100000000,0]
[null,null,null,null,null,null,null,null,null,null,null,null,null,null,null,null,null,null,null,null,null,null,null,null,null,null,null,null,null,null,null,null,null,null,null,null,null,null,{"$f":"MAX(AN44:AN103)","v":0}]
[null,"Nº partida ","Alfonso",null,"Pepe",null,"Jordi",null,"MªJosé",null,"Jimmy",null,"Sergi",null,"Carles",null,"Mariajo",null,"Iglesias",null,"Martin",null,"Xavi",null,"Mercè",null,"Salvadó",null,"Alícia",null,"Anna",null,"Goretti",null,"Jorge",null,"Pol",null,{"$f":"COUNT(AM44:AM124)","v":0},"A","B","C"]
[null,null,"Premi","Punts","Premi","Punts","Premi","Punts","Premi","Punts","Premi","Punts","Premi","Punts","Premi","Punts","Premi","Punts","Premi","Punts","Premi","Punts","Premi","Punts","Premi","Punts","Premi","Punts","Premi","Punts","Premi","Punts","Premi","Punts","Premi","Punts","Premi","Punts","Data","Timbes"]
[1,null,-100000000,null,-100000000,null,-100000000,null,-100000000,null,-100000000,null,-100000000,null,-100000000,null,-100000000,null,-100000000,null,-100000000,null,-100000000,null,-100000000,null,-100000000,null,-100000000,null,-100000000,null,-100000000,null,-100000000,null,-100000000,null,null,null,{"$f":"+C44+E44+G44+I44++K44++M44+O44+Q44+S44+U44+W44+Y44+AK44+AA44+AC44+AE44+AG44+AI44","v":-1800000000},0,{"$f":"COUNT(C44:AL44)/2","v":9},{"$f":"+AO44/AQ44","v":-200000000}]
[{"$f":"+A44+1","v":2},null,null,null,null,null,null,null,null,null,null,null,null,null,null,null,null,null,null,null,null,null,null,null,null,null,null,null,null,null,null,null,null,null,null,null,null,null,null,null,0,0,0,{"$error":"#DIV/0!"}]
[{"$f":"+A45+1","v":3},null,null,null,null,null,null,null,null,null,null,null,null,null,null,null,null,null,null,null,null,null,null,null,null,null,null,null,null,null,null,null,null,null,null,null,null,null,null,null,0,0,0,{"$error":"#DIV/0!"}]
[4,null,null,null,null,null,null,null,null,null,null,null,null,null,null,null,null,null,null,null,null,null,null,null,null,null,null,null,null,null,null,null,null,null,null,null,null,null,null,null,0,0,0,{"$error":"#DIV/0!"}]
[5,null,null,null,null,null,null,null,null,null,null,null,null,null,null,null,null,null,null,null,null,null,null,null,null,null,null,null,null,null,null,null,null,null,null,null,null,null,null,null,0,0,0,{"$error":"#DIV/0!"}]
[6,null,null,null,null,null,null,null,null,null,null,null,null,null,null,null,null,null,null,null,null,null,null,null,null,null,null,null,null,null,null,null,null,null,null,null,null,null,null,null,0,0,0,{"$error":"#DIV/0!"}]
[7,null,null,null,null,null,null,null,null,null,null,null,null,null,null,null,null,null,null,null,null,null,null,null,null,null,null,null,null,null,null,null,null,null,null,null,null,null,null,null,0,0,0,{"$error":"#DIV/0!"}]
[8]
[9]
[10]
[11]
[12]
[13]
[14]
[15]
[16]
[17]
[18]
[19]
[20]
[21]
[22]
[23]
[24]
[25]
[26]
[27]
[28]
[29]
[30]
[31]
[32]
[33]
[34]
[35]
[36]
[37]
[38]
[39]
[40]
[41]
[42]
[43]
[44]
[45]
[46]
[47]
[48]
[49]
[50]
[51]
[52]
[53]
[54]
[55]
[56]
[57]
[58]
[59]
[60]

{"sheet":"Remigio","index":31,"n_rows":87,"n_cols":55,"rows_kept":87,"cut":false,"hidden":false,"merged":[[40,47,40,49],[40,26,40,28],[40,29,40,31],[40,32,40,34],[40,35,40,37],[40,38,40,40],[40,41,40,43],[40,44,40,46],[40,14,40,16],[40,17,40,19],[40,20,40,22],[40,23,40,25],[40,2,40,4],[40,5,40,7],[40,8,40,10],[40,11,40,13]]}
["REMIGIO"]
["Mes"]
[{"$f":"+GENERAL!B6","v":12},null,{"$f":"SUM(C5:C8)","v":-400000000}]
[null,null,"Premio","Punts","Partides","General"]
[1,"Mariajo",{"$f":"+C$38","v":-100000000},{"$f":"+C$39","v":0},{"$f":"+D$38","v":0},{"$f":"+C$24","v":0},{"$f":"IF(E5<A$3/2,-1,1)*800000+C5*1000-D5*10+E5","v":-100000800000}]
[2,"Mercé",{"$f":"+AJ$38","v":-100000000},{"$f":"+AJ$39","v":0},{"$f":"+AK$38","v":0},{"$f":"+AJ$24","v":0},{"$f":"IF(E6<A$3/2,-1,1)*800000+C6*1000-D6*10+E6","v":-100000800000}]
[3,"Jordi",{"$f":"+I$38","v":-100000000},{"$f":"+I$39","v":0},{"$f":"+J$38","v":0},{"$f":"+I$24","v":0},{"$f":"IF(E7<A$3/2,-1,1)*800000+C7*1000-D7*10+E7","v":-100000800000}]
[4,"David",{"$f":"+L$38","v":-100000000},{"$f":"+L$39","v":0},{"$f":"+M$38","v":0},{"$f":"+L$24","v":0},{"$f":"IF(E8<A$3/2,-1,1)*800000+C8*1000-D8*10+E8","v":-100000800000}]
[5,"Sergi",{"$f":"+R$38","v":-100000000},{"$f":"+R$39","v":0},{"$f":"+S$38","v":0},{"$f":"+R$24","v":0},{"$f":"IF(E9<A$3/2,-1,1)*800000+C9*1000-D9*10+E9","v":-100000800000}]
[6,"Goretti",{"$f":"+O$38","v":-100000000},{"$f":"+O$39","v":0},{"$f":"+P$38","v":0},{"$f":"+O$24","v":0},-100000800000]
[7,"Alícia",{"$f":"+AP$38","v":-100000000},{"$f":"+AP$39","v":0},{"$f":"+AQ$38","v":0},{"$f":"+AP$24","v":0},-100000800000]
[8,"Carles",{"$f":"+U$38","v":-100000000},{"$f":"+U$39","v":0},{"$f":"+V$38","v":0},{"$f":"+U$24","v":0},-100000800000]
[9,"Xavi",{"$f":"+AG$38","v":-100000000},{"$f":"+AG$39","v":0},{"$f":"+AH$38","v":0},{"$f":"+AG$24","v":0},-100000800000]
[10,"Iglesias",{"$f":"+AA$38","v":-100000000},{"$f":"+AA$39","v":0},{"$f":"+AB$38","v":0},{"$f":"+AA$24","v":0},-100000800000]
[11,"Martín",{"$f":"+AD$38","v":-100000000},{"$f":"+AD$39","v":0},{"$f":"+AE$38","v":0},{"$f":"+AD$24","v":0},-100000800000]
[12,"Marga",{"$f":"+F$38","v":-100000000},{"$f":"+F$39","v":0},{"$f":"+G$38","v":0},{"$f":"+F$24","v":0},-100000800000]
[13,"Knobel",{"$f":"+AM$38","v":-100000000},{"$f":"+AM$39","v":0},{"$f":"+AN$38","v":0},{"$f":"+AM24","v":0},-100000800000]
[14,"Caty",{"$f":"+AV$38","v":-100000000},{"$f":"+AV$39","v":0},{"$f":"+AW$38","v":0},{"$f":"+AV$24","v":0},-100000800000]
[13,"David",{"$f":"+X$38","v":-100000000},{"$f":"+X$39","v":0},{"$f":"+Y$38","v":0},{"$f":"+X$24","v":0},-100000800000]
[14,"Ester",{"$f":"+AS$38","v":-100000000},{"$f":"+AS$39","v":0},{"$f":"+AT$38","v":0},{"$f":"+AS$24","v":0},-100000800000]
[]
[]
[]
[null,"General",{"$f":"+C25*C26","v":0},{"$f":"+D25*D26","v":0},null,{"$f":"+F25*F26","v":0},{"$f":"+G25*G26","v":0},null,{"$f":"+I25*I26","v":0},{"$f":"+J25*J26","v":0},null,{"$f":"+L25*L26","v":0},{"$f":"+M25*M26","v":0},null,{"$f":"+O25*O26","v":0},{"$f":"+P25*P26","v":0},null,{"$f":"+R25*R26","v":0},{"$f":"+S25*S26","v":0},null,{"$f":"+U25*U26","v":0},{"$f":"+V25*V26","v":0},null,{"$f":"+X25*X26","v":0},{"$f":"+Y25*Y26","v":0},null,{"$f":"+AA25*AA26","v":0},{"$f":"+AB25*AB26","v":0},null,{"$f":"+AD25*AD26","v":0},{"$f":"+AE25*AE26","v":0},null,{"$f":"+AG25*AG26","v":0},{"$f":"+AH25*AH26","v":0},null,{"$f":"+AJ25*AJ26","v":0},{"$f":"+AK25*AK26","v":0},null,{"$f":"+AM25*AM26","v":0},{"$f":"+AN25*AN26","v":0},null,{"$f":"+AP25*AP26","v":0},{"$f":"+AQ25*AQ26","v":0},null,{"$f":"+AS25*AS26","v":0},{"$f":"+AT25*AT26","v":0},null,{"$f":"+AV25*AV26","v":0},{"$f":"+AW25*AW26","v":0}]
[null,null,{"$f":"IF($B37>3,1,0)","v":0},{"$f":"IF($B37>3,1,0)","v":0},null,0,0,null,{"$f":"IF($B37>3,1,0)","v":0},0,null,0,0,null,0,0,null,0,0,null,0,0,null,0,0,null,0,0,null,0,0,null,0,0,null,0,0,null,{"$f":"IF($B37>3,1,0)","v":0},{"$f":"IF($B37>3,1,0)","v":0},null,{"$f":"IF($B37>3,1,0)","v":0},{"$f":"IF($B37>3,1,0)","v":0},null,{"$f":"IF($B37>3,1,0)","v":0},{"$f":"IF($B37>3,1,0)","v":0},null,0,0]
[null,null,{"$f":"MAX(C27:C31)","v":0},{"$f":"+D38","v":0},null,{"$f":"MAX(F27:F31)","v":0},{"$f":"+G38","v":0},null,{"$f":"MAX(I27:I31)","v":0},{"$f":"+J38","v":0},null,{"$f":"MAX(L27:L31)","v":0},{"$f":"+M38","v":0},null,{"$f":"MAX(O27:O31)","v":0},{"$f":"+P38","v":0},null,{"$f":"MAX(R27:R31)","v":0},{"$f":"+S38","v":0},null,{"$f":"MAX(U27:U31)","v":0},{"$f":"+V38","v":0},null,{"$f":"MAX(X27:X31)","v":0},{"$f":"+Y38","v":0},null,{"$f":"MAX(AA27:AA31)","v":0},{"$f":"+AB38","v":0},null,{"$f":"MAX(AD27:AD31)","v":0},{"$f":"+AE38","v":0},null,{"$f":"MAX(AG27:AG31)","v":0},{"$f":"+AH38","v":0},null,{"$f":"MAX(AJ27:AJ31)","v":0},{"$f":"+AK38","v":0},null,{"$f":"MAX(AM27:AM31)","v":0},{"$f":"+AN38","v":0},null,{"$f":"MAX(AP27:AP31)","v":0},{"$f":"+AQ38","v":0},null,{"$f":"MAX(AS27:AS31)","v":0},{"$f":"+AT38","v":0},null,{"$f":"MAX(AV27:AV31)","v":0},{"$f":"+AW38","v":0}]
[null,null,{"$f":"IF(C$32=5,5,0)","v":0},null,null,{"$f":"IF(F$32=5,5,0)","v":0},null,null,{"$f":"IF(I$32=5,5,0)","v":0},null,null,{"$f":"IF(L$32=5,5,0)","v":0},null,null,{"$f":"IF(O$32=5,5,0)","v":0},null,null,{"$f":"IF(R$32=5,5,0)","v":0},null,null,{"$f":"IF(U$32=5,5,0)","v":0},null,null,{"$f":"IF(X$32=5,5,0)","v":0},null,null,{"$f":"IF(AA$32=5,5,0)","v":0},null,null,{"$f":"IF(AD$32=5,5,0)","v":0},null,null,{"$f":"IF(AG$32=5,5,0)","v":0},null,null,{"$f":"IF(AJ$32=5,5,0)","v":0},null,null,{"$f":"IF(AM$32=5,5,0)","v":0},null,null,{"$f":"IF(AP$32=5,5,0)","v":0},null,null,{"$f":"IF(AS$32=5,5,0)","v":0},null,null,{"$f":"IF(AV$32=5,5,0)","v":0}]
[null,null,{"$f":"IF(C$32=4,10,0)","v":0},null,null,{"$f":"IF(F$32=4,10,0)","v":0},null,null,{"$f":"IF(I$32=4,10,0)","v":0},null,null,{"$f":"IF(L$32=4,10,0)","v":0},null,null,{"$f":"IF(O$32=4,10,0)","v":0},null,null,{"$f":"IF(R$32=4,10,0)","v":0},null,null,{"$f":"IF(U$32=4,10,0)","v":0},null,null,{"$f":"IF(X$32=4,10,0)","v":0},null,null,{"$f":"IF(AA$32=4,10,0)","v":0},null,null,{"$f":"IF(AD$32=4,10,0)","v":0},null,null,{"$f":"IF(AG$32=4,10,0)","v":0},null,null,{"$f":"IF(AJ$32=4,10,0)","v":0},null,null,{"$f":"IF(AM$32=4,10,0)","v":0},null,null,{"$f":"IF(AP$32=4,10,0)","v":0},null,null,{"$f":"IF(AS$32=4,10,0)","v":0},null,null,{"$f":"IF(AV$32=4,10,0)","v":0}]
[null,null,{"$f":"IF(C$32=3,20,0)","v":0},null,null,{"$f":"IF(F$32=3,20,0)","v":0},null,null,{"$f":"IF(I$32=3,20,0)","v":0},null,null,{"$f":"IF(L$32=3,20,0)","v":0},null,null,{"$f":"IF(O$32=3,20,0)","v":0},null,null,{"$f":"IF(R$32=3,20,0)","v":0},null,null,{"$f":"IF(U$32=3,20,0)","v":0},null,null,{"$f":"IF(X$32=3,20,0)","v":0},null,null,{"$f":"IF(AA$32=3,20,0)","v":0},null,null,{"$f":"IF(AD$32=3,20,0)","v":0},null,null,{"$f":"IF(AG$32=3,20,0)","v":0},null,null,{"$f":"IF(AJ$32=3,20,0)","v":0},null,null,{"$f":"IF(AM$32=3,20,0)","v":0},null,null,{"$f":"IF(AP$32=3,20,0)","v":0},null,null,{"$f":"IF(AS$32=3,20,0)","v":0},null,null,{"$f":"IF(AV$32=3,20,0)","v":0}]
[null,null,{"$f":"IF(C$32=2,40,0)","v":0},null,null,{"$f":"IF(F$32=2,40,0)","v":0},null,null,{"$f":"IF(I$32=2,40,0)","v":0},null,null,{"$f":"IF(L$32=2,40,0)","v":0},null,null,{"$f":"IF(O$32=2,40,0)","v":0},null,null,{"$f":"IF(R$32=2,40,0)","v":0},null,null,{"$f":"IF(U$32=2,40,0)","v":0},null,null,{"$f":"IF(X$32=2,40,0)","v":0},null,null,{"$f":"IF(AA$32=2,40,0)","v":0},null,null,{"$f":"IF(AD$32=2,40,0)","v":0},null,null,{"$f":"IF(AG$32=2,40,0)","v":0},null,null,{"$f":"IF(AJ$32=2,40,0)","v":0},null,null,{"$f":"IF(AM$32=2,40,0)","v":0},null,null,{"$f":"IF(AP$32=2,40,0)","v":0},null,null,{"$f":"IF(AS$32=2,40,0)","v":0},null,null,{"$f":"IF(AV$32=2,40,0)","v":0}]
[null,null,{"$f":"IF(C$32=1,80,0)","v":0},null,null,{"$f":"IF(F$32=1,80,0)","v":0},null,null,{"$f":"IF(I$32=1,80,0)","v":0},null,null,{"$f":"IF(L$32=1,80,0)","v":0},null,null,{"$f":"IF(O$32=1,80,0)","v":0},null,null,{"$f":"IF(R$32=1,80,0)","v":0},null,null,{"$f":"IF(U$32=1,80,0)","v":0},null,null,{"$f":"IF(X$32=1,80,0)","v":0},null,null,{"$f":"IF(AA$32=1,80,0)","v":0},null,null,{"$f":"IF(AD$32=1,80,0)","v":0},null,null,{"$f":"IF(AG$32=1,80,0)","v":0},null,null,{"$f":"IF(AJ$32=1,80,0)","v":0},null,null,{"$f":"IF(AM$32=1,80,0)","v":0},null,null,{"$f":"IF(AP$32=1,80,0)","v":0},null,null,{"$f":"IF(AS$32=1,80,0)","v":0},null,null,{"$f":"IF(AV$32=1,80,0)","v":0}]
[null,null,{"$f":"RANK(C33,$C33:$AW33)*C37","v":0},null,null,{"$f":"RANK(F33,$C33:$AW33)*F37","v":0},null,null,{"$f":"RANK(I33,$C33:$AW33)*I37","v":0},null,null,{"$f":"RANK(L33,$C33:$AW33)*L37","v":0},null,null,{"$f":"RANK(O33,$C33:$AW33)*O37","v":0},null,null,{"$f":"RANK(R33,$C33:$AW33)*R37","v":0},null,null,{"$f":"RANK(U33,$C33:$AW33)*U37","v":0},null,null,{"$f":"RANK(X33,$C33:$AW33)*X37","v":0},null,null,{"$f":"RANK(AA33,$C33:$AW33)*AA37","v":0},null,null,{"$f":"RANK(AD33,$C33:$AW33)*AD37","v":0},null,null,{"$f":"RANK(AG33,$C33:$AW33)*AG37","v":0},null,null,{"$f":"RANK(AJ33,$C33:$AW33)*AJ37","v":0},null,null,{"$f":"RANK(AM33,$C33:$AW33)*AM37","v":0},null,null,{"$f":"RANK(AP33,$C33:$AW33)*AP37","v":0},null,null,{"$f":"RANK(AS33,$C33:$AW33)*AS37","v":0},null,null,{"$f":"RANK(AV33,$C33:$AW33)*AV37","v":0}]
[null,null,{"$f":"SUM(C34:C36)","v":-110000000},null,null,{"$f":"SUM(F34:F36)","v":-110000000},null,null,{"$f":"SUM(I34:I36)","v":-110000000},null,null,{"$f":"SUM(L34:L36)","v":-110000000},null,null,{"$f":"SUM(O34:O36)","v":-110000000},null,null,{"$f":"SUM(R34:R36)","v":-110000000},null,null,{"$f":"SUM(U34:U36)","v":-110000000},null,null,{"$f":"SUM(X34:X36)","v":-110000000},null,null,{"$f":"SUM(AA34:AA36)","v":-110000000},null,null,{"$f":"SUM(AD34:AD36)","v":-110000000},null,null,{"$f":"SUM(AG34:AG36)","v":-110000000},null,null,{"$f":"SUM(AJ34:AJ36)","v":-110000000},null,null,{"$f":"SUM(AM34:AM36)","v":-110000000},null,null,{"$f":"SUM(AP34:AP36)","v":-110000000},null,null,{"$f":"SUM(AS34:AS36)","v":-110000000},null,null,{"$f":"SUM(AV34:AV36)","v":-110000000}]
[null,null,{"$f":"+D38","v":0},null,null,{"$f":"+G38","v":0},null,null,{"$f":"+J38","v":0},null,null,{"$f":"+M38","v":0},null,null,{"$f":"+P38","v":0},null,null,{"$f":"+S38","v":0},null,null,{"$f":"+V38","v":0},null,null,{"$f":"+Y38","v":0},null,null,{"$f":"+AB38","v":0},null,null,{"$f":"+AE38","v":0},null,null,{"$f":"+AH38","v":0},null,null,{"$f":"+AK38","v":0},null,null,{"$f":"+AN38","v":0},null,null,{"$f":"+AQ38","v":0},null,null,{"$f":"+AT38","v":0},null,null,{"$f":"+AW38","v":0}]
[null,null,{"$f":"-C39*10","v":0},null,null,{"$f":"-F39*10","v":0},null,null,{"$f":"-I39*10","v":0},null,null,{"$f":"-L39*10","v":0},null,null,{"$f":"-O39*10","v":0},null,null,{"$f":"-R39*10","v":0},null,null,{"$f":"-U39*10","v":0},null,null,{"$f":"-X39*10","v":0},null,null,{"$f":"-AA39*10","v":0},null,null,{"$f":"-AD39*10","v":0},null,null,{"$f":"-AG39*10","v":0},null,null,{"$f":"-AJ39*10","v":0},null,null,{"$f":"-AM39*10","v":0},null,null,{"$f":"-AP39*10","v":0},null,null,{"$f":"-AS39*10","v":0},null,null,{"$f":"-AV39*10","v":0}]
[null,null,{"$f":"IF(C37=1,C38*C37*10000+C38,-10000000+C38)","v":-110000000},null,null,{"$f":"IF(F37=1,F38*F37*10000+F38,-10000000+F38)","v":-110000000},null,null,{"$f":"IF(I37=1,I38*I37*10000+I38,-10000000+I38)","v":-110000000},null,null,{"$f":"IF(L37=1,L38*L37*10000+L38,-10000000+L38)","v":-110000000},null,null,{"$f":"IF(O37=1,O38*O37*10000+O38,-10000000+O38)","v":-110000000},null,null,{"$f":"IF(R37=1,R38*R37*10000+R38,-10000000+R38)","v":-110000000},null,null,{"$f":"IF(U37=1,U38*U37*10000+U38,-10000000+U38)","v":-110000000},null,null,{"$f":"IF(X37=1,X38*X37*10000+X38,-10000000+X38)","v":-110000000},null,null,{"$f":"IF(AA37=1,AA38*AA37*10000+AA38,-10000000+AA38)","v":-110000000},null,null,{"$f":"IF(AD37=1,AD38*AD37*10000+AD38,-10000000+AD38)","v":-110000000},null,null,{"$f":"IF(AG37=1,AG38*AG37*10000+AG38,-10000000+AG38)","v":-110000000},null,null,{"$f":"IF(AJ37=1,AJ38*AJ37*10000+AJ38,-10000000+AJ38)","v":-110000000},null,null,{"$f":"IF(AM37=1,AM38*AM37*10000+AM38,-10000000+AM38)","v":-110000000},null,null,{"$f":"IF(AP37=1,AP38*AP37*10000+AP38,-10000000+AP38)","v":-110000000},null,null,{"$f":"IF(AS37=1,AS38*AS37*10000+AS38,-10000000+AS38)","v":-110000000},null,null,{"$f":"IF(AV37=1,AV38*AV37*10000+AV38,-10000000+AV38)","v":-110000000}]
["Classificats",{"$f":"SUM(C37:AV37)","v":0},{"$f":"IF(D38>=$A3/2,1,0)","v":0},null,null,{"$f":"IF(G38>=$A3/2,1,0)","v":0},null,null,{"$f":"IF(J38>=$A3/2,1,0)","v":0},null,null,{"$f":"IF(M38>=$A3/2,1,0)","v":0},null,null,{"$f":"IF(P38>=$A3/2,1,0)","v":0},null,null,{"$f":"IF(S38>=$A3/2,1,0)","v":0},null,null,{"$f":"IF(V38>=$A3/2,1,0)","v":0},null,null,{"$f":"IF(Y38>=$A3/2,1,0)","v":0},null,null,{"$f":"IF(AB38>=$A3/2,1,0)","v":0},null,null,{"$f":"IF(AE38>=$A3/2,1,0)","v":0},null,null,{"$f":"IF(AH38>=$A3/2,1,0)","v":0},null,null,{"$f":"IF(AK38>=$A3/2,1,0)","v":0},null,null,{"$f":"IF(AN38>=$A3/2,1,0)","v":0},null,null,{"$f":"IF(AQ38>=$A3/2,1,0)","v":0},null,null,{"$f":"IF(AT38>=$A3/2,1,0)","v":0},null,null,{"$f":"IF(AW38>=$A3/2,1,0)","v":0}]
[null,null,{"$f":"IF(SUM(C43:C172)<-1000,-100000000,SUM(C43:C172))","v":-100000000},{"$f":"COUNT(D43:D172)","v":0},null,{"$f":"IF(SUM(F43:F172)<-1000,-100000000,SUM(F43:F172))","v":-100000000},{"$f":"COUNT(G43:G172)","v":0},null,{"$f":"IF(SUM(I43:I172)<-1000,-100000000,SUM(I43:I172))","v":-100000000},{"$f":"COUNT(J43:J172)","v":0},null,{"$f":"IF(SUM(L43:L172)<-1000,-100000000,SUM(L43:L172))","v":-100000000},{"$f":"COUNT(M43:M172)","v":0},null,{"$f":"IF(SUM(O43:O172)<-1000,-100000000,SUM(O43:O172))","v":-100000000},{"$f":"COUNT(P43:P172)","v":0},null,{"$f":"IF(SUM(R43:R172)<-1000,-100000000,SUM(R43:R172))","v":-100000000},{"$f":"COUNT(S43:S172)","v":0},null,{"$f":"IF(SUM(U43:U172)<-1000,-100000000,SUM(U43:U172))","v":-100000000},{"$f":"COUNT(V43:V172)","v":0},null,{"$f":"IF(SUM(X43:X172)<-1000,-100000000,SUM(X43:X172))","v":-100000000},{"$f":"COUNT(Y43:Y172)","v":0},null,{"$f":"IF(SUM(AA43:AA172)<-1000,-100000000,SUM(AA43:AA172))","v":-100000000},{"$f":"COUNT(AB43:AB172)","v":0},null,{"$f":"IF(SUM(AD43:AD172)<-1000,-100000000,SUM(AD43:AD172))","v":-100000000},{"$f":"COUNT(AE43:AE172)","v":0},null,{"$f":"IF(SUM(AG43:AG172)<-1000,-100000000,SUM(AG43:AG172))","v":-100000000},{"$f":"COUNT(AH43:AH172)","v":0},null,{"$f":"IF(SUM(AJ43:AJ172)<-1000,-100000000,SUM(AJ43:AJ172))","v":-100000000},{"$f":"COUNT(AK43:AK172)","v":0},null,{"$f":"IF(SUM(AM43:AM172)<-1000,-100000000,SUM(AM43:AM172))","v":-100000000},{"$f":"COUNT(AN43:AN172)","v":0},null,{"$f":"IF(SUM(AP43:AP172)<-1000,-100000000,SUM(AP43:AP172))","v":-100000000},{"$f":"COUNT(AQ43:AQ172)","v":0},null,{"$f":"IF(SUM(AS43:AS172)<-1000,-100000000,SUM(AS43:AS172))","v":-100000000},{"$f":"COUNT(AT43:AT172)","v":0},null,{"$f":"IF(SUM(AV43:AV172)<-1000,-100000000,SUM(AV43:AV172))","v":-100000000},{"$f":"COUNT(AW43:AW172)","v":0},null,null,"A"]
[null,null,{"$f":"+D39/E39","v":0},{"$f":"SUM(D43:D87)","v":0},{"$f":"SUM(E43:E87)","v":-1},{"$f":"+G39/H39","v":0},{"$f":"SUM(G43:G87)","v":0},{"$f":"SUM(H43:H87)","v":-1},{"$f":"+J39/K39","v":0},{"$f":"SUM(J43:J87)","v":0},{"$f":"SUM(K43:K87)","v":-1},{"$f":"+M39/N39","v":0},{"$f":"SUM(M43:M87)","v":0},{"$f":"SUM(N43:N87)","v":-1},{"$f":"+P39/Q39","v":0},{"$f":"SUM(P43:P87)","v":0},{"$f":"SUM(Q43:Q87)","v":-1},{"$f":"+S39/T39","v":0},{"$f":"SUM(S43:S87)","v":0},{"$f":"SUM(T43:T87)","v":-1},{"$f":"+V39/W39","v":0},{"$f":"SUM(V43:V87)","v":0},{"$f":"SUM(W43:W87)","v":-1},{"$f":"+Y39/Z39","v":0},{"$f":"SUM(Y43:Y87)","v":0},{"$f":"SUM(Z43:Z87)","v":-1},{"$f":"+AB39/AC39","v":0},{"$f":"SUM(AB43:AB87)","v":0},{"$f":"SUM(AC43:AC87)","v":-1},{"$f":"+AE39/AF39","v":0},{"$f":"SUM(AE43:AE87)","v":0},{"$f":"SUM(AF43:AF87)","v":-1},{"$f":"+AH39/AI39","v":0},{"$f":"SUM(AH43:AH87)","v":0},{"$f":"SUM(AI43:AI87)","v":-1},{"$f":"+AK39/AL39","v":0},{"$f":"SUM(AK43:AK87)","v":0},{"$f":"SUM(AL43:AL87)","v":-1},{"$f":"+AN39/AO39","v":0},{"$f":"SUM(AN43:AN87)","v":0},{"$f":"SUM(AO43:AO87)","v":-1},{"$f":"+AQ39/AR39","v":0},{"$f":"SUM(AQ43:AQ87)","v":0},{"$f":"SUM(AR43:AR87)","v":-1},{"$f":"+AT39/AU39","v":0},{"$f":"SUM(AT43:AT87)","v":0},{"$f":"SUM(AU43:AU87)","v":-1},{"$f":"+AW39/AX39","v":0},{"$f":"SUM(AW43:AW87)","v":0},{"$f":"SUM(AX43:AX87)","v":-1},null,"B"]
[null,null,null,null,null,null,null,null,null,null,null,null,null,null,null,null,null,null,null,null,null,null,null,null,null,null,null,null,null,null,null,null,null,null,null,null,null,null,null,null,null,null,null,null,null,null,null,null,null,null,{"$f":"MAX(AZ43:AZ102)","v":0}]
[null,"Nº partida ","Mariajo",null,null,"Marga",null,null,"Jordi",null,null,"David",null,null,"Goretti",null,null,"Sergi",null,null,"Carles",null,null,"David",null,null,"Iglesias",null,null,"Martín",null,null,"Xavi",null,null,"Mercé",null,null,"Knobel",null,null,"Alicia",null,null,"Ester",null,null,"Caty",null,null,{"$f":"COUNT(AY43:AY87)","v":0},"A","B","C"]
[null,"5 copes","Premi","Punts",null,"Premi","Punts",null,"Premi","Punts",null,"Premi","Punts",null,"Premi","Punts",null,"Premi","Punts",null,"Premi","Punts",null,"Premi","Punts",null,"Premi","Punts",null,"Premi","Punts",null,"Premi","Punts",null,"Premi","Punts",null,"Premi","Punts",null,"Premi","Punts",null,"Premi","Punts",null,"Premi","Punts",null,"Data","Timba"]
[1,null,-10000,null,-1,-10000,null,-1,-10000,null,-1,-10000,null,-1,-10000,null,-1,-10000,null,-1,-10000,null,-1,-10000,null,-1,-10000,null,-1,-10000,null,-1,-10000,null,-1,-10000,null,-1,-10000,null,-1,-10000,null,-1,-10000,null,-1,-10000,null,-1,null,null,{"$f":"+AV43+AJ43+AG43+AD43+AA43+X43+U43+R43+O43+L43+I43+F43+C43+AM43+AP43+AS43","v":-160000},{"$f":"COUNT(C43:AX43)/3","v":10.666666666666666},{"$f":"+BA43/BB43","v":-15000}]
[{"$f":"+A43+1","v":2},null,null,null,null,null,null,null,null,null,null,null,null,null,null,null,null,null,null,null,null,null,null,null,null,null,null,null,null,null,null,null,null,null,null,null,null,null,null,null,null,null,null,null,null,null,null,null,null,null,null,null,0,0,{"$error":"#DIV/0!"}]
[{"$f":"+A44+1","v":3},null,null,null,null,null,null,null,null,null,null,null,null,null,null,null,null,null,null,null,null,null,null,null,null,null,null,null,null,null,null,null,null,null,null,null,null,null,null,null,null,null,null,null,null,null,null,null,null,null,null,null,0,0,{"$error":"#DIV/0!"}]
[4,null,null,null,null,null,null,null,null,null,null,null,null,null,null,null,null,null,null,null,null,null,null,null,null,null,null,null,null,null,null,null,null,null,null,null,null,null,null,null,null,null,null,null,null,null,null,null,null,null,null,null,0,0,{"$error":"#DIV/0!"}]
[5,null,null,null,null,null,null,null,null,null,null,null,null,null,null,null,null,null,null,null,null,null,null,null,null,null,null,null,null,null,null,null,null,null,null,null,null,null,null,null,null,null,null,null,null,null,null,null,null,null,null,null,0,0,{"$error":"#DIV/0!"}]
[6,null,null,null,null,null,null,null,null,null,null,null,null,null,null,null,null,null,null,null,null,null,null,null,null,null,null,null,null,null,null,null,null,null,null,null,null,null,null,null,null,null,null,null,null,null,null,null,null,null,null,null,0,0,{"$error":"#DIV/0!"}]
[7,null,null,null,null,null,null,null,null,null,null,null,null,null,null,null,null,null,null,null,null,null,null,null,null,null,null,null,null,null,null,null,null,null,null,null,null,null,null,null,null,null,null,null,null,null,null,null,null,null,null,null,0,0,{"$error":"#DIV/0!"}]
[8]
[9]
[10]
[11]
[12]
[13]
[14]
[15]
[16]
[17]
[18]
[19]
[20]
[21]
[22]
[23]
[24]
[25]
[26]
[27]
[28]
[29]
[30]
[31]
[32]
[33]
[34]
[35]
[36]
[37]
[38]
[39]
[40]
[41]
[42]
[43]
[44]
[45]

{"sheet":"Whist","index":32,"n_rows":68,"n_cols":67,"rows_kept":68,"cut":false,"hidden":false,"merged":[[42,50,42,52],[42,53,42,55],[42,56,42,58],[42,38,42,40],[42,41,42,43],[42,44,42,46],[42,47,42,49],[42,32,42,34],[42,35,42,37],[42,14,42,16],[42,17,42,19],[42,20,42,22],[42,23,42,25],[42,29,42,31],[42,2,42,4],[42,5,42,7],[42,8,42,10],[42,11,42,13],[42,26,42,28]]}
["WHIST"]
["Mes"]
[{"$f":"+GENERAL!B6","v":12},null,{"$f":"SUM(C5:C12)","v":-800000000}]
[null,null,"Premi","Punts","Partides","General"]
[1,"Iglesias",{"$f":"+AA$40","v":-100000000},{"$f":"+AA$41","v":1},{"$f":"+AB$40","v":0},{"$f":"+AA$26","v":0},{"$f":"IF(E5<A$3/2,-1,1)*800+C5+D5/1000","v":-100000799.999}]
[1,"Mercè",{"$f":"+AY$40","v":-100000000},{"$f":"+AY$41","v":1},{"$f":"+AZ$40","v":0},{"$f":"+AY$26","v":0},-100000799.999]
[3,"Jordi",{"$f":"+I$40","v":-100000000},{"$f":"+I$41","v":1},{"$f":"+J$40","v":0},{"$f":"+I$26","v":0},-100000799.999]
[3,"Sergi",{"$f":"+R$40","v":-100000000},{"$f":"+R$41","v":1},{"$f":"+S$40","v":0},{"$f":"+R$26","v":0},-100000799.999]
[5,"Xavi",{"$f":"+AG$40","v":-100000000},{"$f":"+AG$41","v":1},{"$f":"+AH$40","v":0},{"$f":"+AG$26","v":0},-100000799.999]
[6,"Goretti",{"$f":"+AV$40","v":-100000000},{"$f":"+AV$41","v":1},{"$f":"+AW$40","v":0},{"$f":"+AV$26","v":0},-100000799.999]
[7,"Carles",{"$f":"+U$40","v":-100000000},{"$f":"+U$41","v":1},{"$f":"+V$40","v":0},{"$f":"+U$26","v":0},-100000799.999]
[8,"Mariajo",{"$f":"+X$40","v":-100000000},{"$f":"+X$41","v":1},{"$f":"+Y$40","v":0},{"$f":"+X$26","v":0},-100000799.999]
[9,"Juan",{"$f":"+F$40","v":-100000000},{"$f":"+F$41","v":1},{"$f":"+G$40","v":0},{"$f":"+F$26","v":0},-100000799.999]
[10,"Alfonso",{"$f":"+AM$40","v":-100000000},{"$f":"+AM$41","v":1},{"$f":"+AN$40","v":0},{"$f":"+AM$26","v":0},-100000799.999]
[11,"Sylvain",{"$f":"+AD$40","v":-100000000},{"$f":"+AD$41","v":1},{"$f":"+AE$40","v":0},{"$f":"+AD$26","v":0},-100000799.999]
[12,"Pol",{"$f":"+O$40","v":-100000000},{"$f":"+O$41","v":1},{"$f":"+P$40","v":0},{"$f":"+O$26","v":0},-100000799.999]
[13,"MªJosé",{"$f":"+L$40","v":-100000000},{"$f":"+L$41","v":1},{"$f":"+M$40","v":0},{"$f":"+L$26","v":0},-100000799.999]
[14,"Taberner",{"$f":"+AP$40","v":-100000000},{"$f":"+AP$41","v":1},{"$f":"+AQ$40","v":0},{"$f":"+AP$26","v":0},-100000799.999]
[15,"Allan",{"$f":"+C$40","v":-100000000},{"$f":"+C$41","v":1},{"$f":"+D$40","v":0},{"$f":"+C$26","v":0},-100000799.999]
[16,"Salvadó",{"$f":"+AJ$40","v":-100000000},{"$f":"+AJ$41","v":1},{"$f":"+AK$40","v":0},{"$f":"+AJ$26","v":0},-100000799.999]
[17,"Agata",{"$f":"+AS$40","v":-100000000},{"$f":"+AS$41","v":1},{"$f":"+AT$40","v":0},{"$f":"+AS$26","v":0},-100000799.999]
[18,"Caty",{"$f":"+BE$40","v":-100000000},{"$f":"+BE$41","v":1},{"$f":"+BF$40","v":0},{"$f":"+BE$26","v":0},-100000799.999]
[]
[]
[]
[null,"General",{"$f":"+C27*C28","v":0},{"$f":"+D27*D28","v":0},null,{"$f":"+F27*F28","v":0},{"$f":"+G27*G28","v":0},null,{"$f":"+I27*I28","v":0},{"$f":"+J27*J28","v":0},null,{"$f":"+L27*L28","v":0},{"$f":"+M27*M28","v":0},null,{"$f":"+O27*O28","v":0},{"$f":"+P27*P28","v":0},null,{"$f":"+R27*R28","v":0},{"$f":"+S27*S28","v":0},null,{"$f":"+U27*U28","v":0},{"$f":"+V27*V28","v":0},null,{"$f":"+X27*X28","v":0},{"$f":"+Y27*Y28","v":0},null,{"$f":"+AA27*AA28","v":0},{"$f":"+AB27*AB28","v":0},null,{"$f":"+AD27*AD28","v":0},{"$f":"+AE27*AE28","v":0},null,{"$f":"+AG27*AG28","v":0},{"$f":"+AH27*AH28","v":0},null,{"$f":"+AJ27*AJ28","v":0},{"$f":"+AK27*AK28","v":0},null,{"$f":"+AM27*AM28","v":0},{"$f":"+AN27*AN28","v":0},null,{"$f":"+AP27*AP28","v":0},{"$f":"+AQ27*AQ28","v":0},null,{"$f":"+AS27*AS28","v":0},{"$f":"+AT27*AT28","v":0},null,{"$f":"+AV27*AV28","v":0},{"$f":"+AW27*AW28","v":0},null,{"$f":"+AY27*AY28","v":0},{"$f":"+AZ27*AZ28","v":0},null,{"$f":"+BB27*BB28","v":0},{"$f":"+BC27*BC28","v":0},null,{"$f":"+BE27*BE28","v":0},{"$f":"+BF27*BF28","v":0}]
[null,null,{"$f":"IF($B39>3,1,0)","v":0},{"$f":"IF($B39>3,1,0)","v":0},null,{"$f":"IF($B39>3,1,0)","v":0},{"$f":"IF($B39>3,1,0)","v":0},null,{"$f":"IF($B39>3,1,0)","v":0},{"$f":"IF($B39>3,1,0)","v":0},null,{"$f":"IF($B39>3,1,0)","v":0},{"$f":"IF($B39>3,1,0)","v":0},null,{"$f":"IF($B39>3,1,0)","v":0},{"$f":"IF($B39>3,1,0)","v":0},null,{"$f":"IF($B39>3,1,0)","v":0},{"$f":"IF($B39>3,1,0)","v":0},null,{"$f":"IF($B39>3,1,0)","v":0},{"$f":"IF($B39>3,1,0)","v":0},null,{"$f":"IF($B39>3,1,0)","v":0},{"$f":"IF($B39>3,1,0)","v":0},null,{"$f":"IF($B39>3,1,0)","v":0},{"$f":"IF($B39>3,1,0)","v":0},null,{"$f":"IF($B39>3,1,0)","v":0},{"$f":"IF($B39>3,1,0)","v":0},null,{"$f":"IF($B39>3,1,0)","v":0},{"$f":"IF($B39>3,1,0)","v":0},null,{"$f":"IF($B39>3,1,0)","v":0},{"$f":"IF($B39>3,1,0)","v":0},null,{"$f":"IF($B39>3,1,0)","v":0},{"$f":"IF($B39>3,1,0)","v":0},null,{"$f":"IF($B39>3,1,0)","v":0},{"$f":"IF($B39>3,1,0)","v":0},null,{"$f":"IF($B39>3,1,0)","v":0},{"$f":"IF($B39>3,1,0)","v":0},null,{"$f":"IF($B39>3,1,0)","v":0},{"$f":"IF($B39>3,1,0)","v":0},null,{"$f":"IF($B39>3,1,0)","v":0},{"$f":"IF($B39>3,1,0)","v":0},null,{"$f":"IF($B39>3,1,0)","v":0},{"$f":"IF($B39>3,1,0)","v":0},null,{"$f":"IF($B39>3,1,0)","v":0},{"$f":"IF($B39>3,1,0)","v":0}]
[null,null,{"$f":"MAX(C29:C33)","v":0},{"$f":"+D40","v":0},null,{"$f":"MAX(F29:F33)","v":0},{"$f":"+G40","v":0},null,{"$f":"MAX(I29:I33)","v":0},{"$f":"+J40","v":0},null,{"$f":"MAX(L29:L33)","v":0},{"$f":"+M40","v":0},null,{"$f":"MAX(O29:O33)","v":0},{"$f":"+P40","v":0},null,{"$f":"MAX(R29:R33)","v":0},{"$f":"+S40","v":0},null,{"$f":"MAX(U29:U33)","v":0},{"$f":"+V40","v":0},null,{"$f":"MAX(X29:X33)","v":0},{"$f":"+Y40","v":0},null,{"$f":"MAX(AA29:AA33)","v":0},{"$f":"+AB40","v":0},null,{"$f":"MAX(AD29:AD33)","v":0},{"$f":"+AE40","v":0},null,{"$f":"MAX(AG29:AG33)","v":0},{"$f":"+AH40","v":0},null,{"$f":"MAX(AJ29:AJ33)","v":0},{"$f":"+AK40","v":0},null,{"$f":"MAX(AM29:AM33)","v":0},{"$f":"+AN40","v":0},null,{"$f":"MAX(AP29:AP33)","v":0},{"$f":"+AQ40","v":0},null,{"$f":"MAX(AS29:AS33)","v":0},{"$f":"+AT40","v":0},null,{"$f":"MAX(AV29:AV33)","v":0},{"$f":"+AW40","v":0},null,{"$f":"MAX(AY29:AY33)","v":0},{"$f":"+AZ40","v":0},null,{"$f":"MAX(BB29:BB33)","v":0},{"$f":"+BC40","v":0},null,{"$f":"MAX(BE29:BE33)","v":0},{"$f":"+BF40","v":0}]
[null,null,{"$f":"IF(C$34=5,5,0)","v":0},null,null,{"$f":"IF(F$34=5,5,0)","v":0},null,null,{"$f":"IF(I$34=5,5,0)","v":0},null,null,{"$f":"IF(L$34=5,5,0)","v":0},null,null,{"$f":"IF(O$34=5,5,0)","v":0},null,null,{"$f":"IF(R$34=5,5,0)","v":0},null,null,{"$f":"IF(U$34=5,5,0)","v":0},null,null,{"$f":"IF(X$34=5,5,0)","v":0},null,null,{"$f":"IF(AA$34=5,5,0)","v":0},null,null,{"$f":"IF(AD$34=5,5,0)","v":0},null,null,{"$f":"IF(AG$34=5,5,0)","v":0},null,null,{"$f":"IF(AJ$34=5,5,0)","v":0},null,null,{"$f":"IF(AM$34=5,5,0)","v":0},null,null,{"$f":"IF(AP$34=5,5,0)","v":0},null,null,{"$f":"IF(AS$34=5,5,0)","v":0},null,null,{"$f":"IF(AV$34=5,5,0)","v":0},null,null,{"$f":"IF(AY$34=5,5,0)","v":0},null,null,{"$f":"IF(BB$34=5,5,0)","v":0},null,null,{"$f":"IF(BE$34=5,5,0)","v":0}]
[null,null,{"$f":"IF(C$34=4,10,0)","v":0},null,null,{"$f":"IF(F$34=4,10,0)","v":0},null,null,{"$f":"IF(I$34=4,10,0)","v":0},null,null,{"$f":"IF(L$34=4,10,0)","v":0},null,null,{"$f":"IF(O$34=4,10,0)","v":0},null,null,{"$f":"IF(R$34=4,10,0)","v":0},null,null,{"$f":"IF(U$34=4,10,0)","v":0},null,null,{"$f":"IF(X$34=4,10,0)","v":0},null,null,{"$f":"IF(AA$34=4,10,0)","v":0},null,null,{"$f":"IF(AD$34=4,10,0)","v":0},null,null,{"$f":"IF(AG$34=4,10,0)","v":0},null,null,{"$f":"IF(AJ$34=4,10,0)","v":0},null,null,{"$f":"IF(AM$34=4,10,0)","v":0},null,null,{"$f":"IF(AP$34=4,10,0)","v":0},null,null,{"$f":"IF(AS$34=4,10,0)","v":0},null,null,{"$f":"IF(AV$34=4,10,0)","v":0},null,null,{"$f":"IF(AY$34=4,10,0)","v":0},null,null,{"$f":"IF(BB$34=4,10,0)","v":0},null,null,{"$f":"IF(BE$34=4,10,0)","v":0}]
[null,null,{"$f":"IF(C$34=3,20,0)","v":0},null,null,{"$f":"IF(F$34=3,20,0)","v":0},null,null,{"$f":"IF(I$34=3,20,0)","v":0},null,null,{"$f":"IF(L$34=3,20,0)","v":0},null,null,{"$f":"IF(O$34=3,20,0)","v":0},null,null,{"$f":"IF(R$34=3,20,0)","v":0},null,null,{"$f":"IF(U$34=3,20,0)","v":0},null,null,{"$f":"IF(X$34=3,20,0)","v":0},null,null,{"$f":"IF(AA$34=3,20,0)","v":0},null,null,{"$f":"IF(AD$34=3,20,0)","v":0},null,null,{"$f":"IF(AG$34=3,20,0)","v":0},null,null,{"$f":"IF(AJ$34=3,20,0)","v":0},null,null,{"$f":"IF(AM$34=3,20,0)","v":0},null,null,{"$f":"IF(AP$34=3,20,0)","v":0},null,null,{"$f":"IF(AS$34=3,20,0)","v":0},null,null,{"$f":"IF(AV$34=3,20,0)","v":0},null,null,{"$f":"IF(AY$34=3,20,0)","v":0},null,null,{"$f":"IF(BB$34=3,20,0)","v":0},null,null,{"$f":"IF(BE$34=3,20,0)","v":0}]
[null,null,{"$f":"IF(C$34=2,40,0)","v":0},null,null,{"$f":"IF(F$34=2,40,0)","v":0},null,null,{"$f":"IF(I$34=2,40,0)","v":0},null,null,{"$f":"IF(L$34=2,40,0)","v":0},null,null,{"$f":"IF(O$34=2,40,0)","v":0},null,null,{"$f":"IF(R$34=2,40,0)","v":0},null,null,{"$f":"IF(U$34=2,40,0)","v":0},null,null,{"$f":"IF(X$34=2,40,0)","v":0},null,null,{"$f":"IF(AA$34=2,40,0)","v":0},null,null,{"$f":"IF(AD$34=2,40,0)","v":0},null,null,{"$f":"IF(AG$34=2,40,0)","v":0},null,null,{"$f":"IF(AJ$34=2,40,0)","v":0},null,null,{"$f":"IF(AM$34=2,40,0)","v":0},null,null,{"$f":"IF(AP$34=2,40,0)","v":0},null,null,{"$f":"IF(AS$34=2,40,0)","v":0},null,null,{"$f":"IF(AV$34=2,40,0)","v":0},null,null,{"$f":"IF(AY$34=2,40,0)","v":0},null,null,{"$f":"IF(BB$34=2,40,0)","v":0},null,null,{"$f":"IF(BE$34=2,40,0)","v":0}]
[null,null,{"$f":"IF(C$34=1,80,0)","v":0},null,null,{"$f":"IF(F$34=1,80,0)","v":0},null,null,{"$f":"IF(I$34=1,80,0)","v":0},null,null,{"$f":"IF(L$34=1,80,0)","v":0},null,null,{"$f":"IF(O$34=1,80,0)","v":0},null,null,{"$f":"IF(R$34=1,80,0)","v":0},null,null,{"$f":"IF(U$34=1,80,0)","v":0},null,null,{"$f":"IF(X$34=1,80,0)","v":0},null,null,{"$f":"IF(AA$34=1,80,0)","v":0},null,null,{"$f":"IF(AD$34=1,80,0)","v":0},null,null,{"$f":"IF(AG$34=1,80,0)","v":0},null,null,{"$f":"IF(AJ$34=1,80,0)","v":0},null,null,{"$f":"IF(AM$34=1,80,0)","v":0},null,null,{"$f":"IF(AP$34=1,80,0)","v":0},null,null,{"$f":"IF(AS$34=1,80,0)","v":0},null,null,{"$f":"IF(AV$34=1,80,0)","v":0},null,null,{"$f":"IF(AY$34=1,80,0)","v":0},null,null,{"$f":"IF(BB$34=1,80,0)","v":0},null,null,{"$f":"IF(BE$34=1,80,0)","v":0}]
[null,null,{"$f":"RANK(C35,$C35:$BF35)*C39","v":0},null,null,{"$f":"RANK(F35,$C35:$BF35)*F39","v":0},null,null,{"$f":"RANK(I35,$C35:$BF35)*I39","v":0},null,null,{"$f":"RANK(L35,$C35:$BF35)*L39","v":0},null,null,{"$f":"RANK(O35,$C35:$BF35)*O39","v":0},null,null,{"$f":"RANK(R35,$C35:$BF35)*R39","v":0},null,null,{"$f":"RANK(U35,$C35:$BF35)*U39","v":0},null,null,{"$f":"RANK(X35,$C35:$BF35)*X39","v":0},null,null,{"$f":"RANK(AA35,$C35:$BF35)*AA39","v":0},null,null,{"$f":"RANK(AD35,$C35:$BF35)*AD39","v":0},null,null,{"$f":"RANK(AG35,$C35:$BF35)*AG39","v":0},null,null,{"$f":"RANK(AJ35,$C35:$BF35)*AJ39","v":0},null,null,{"$f":"RANK(AM35,$C35:$BF35)*AM39","v":0},null,null,{"$f":"RANK(AP35,$C35:$BF35)*AP39","v":0},null,null,{"$f":"RANK(AS35,$C35:$BF35)*AS39","v":0},null,null,{"$f":"RANK(AV35,$C35:$BF35)*AV39","v":0},null,null,{"$f":"RANK(AY35,$C35:$BF35)*AY39","v":0},null,null,{"$f":"RANK(BB35,$C35:$BF35)*BB39","v":0},null,null,{"$f":"RANK(BE35,$C35:$BF35)*BE39","v":0}]
[null,null,{"$f":"SUM(C36:C38)","v":-999999900},null,null,{"$f":"SUM(F36:F38)","v":-999999900},null,null,{"$f":"SUM(I36:I38)","v":-999999900},null,null,{"$f":"SUM(L36:L38)","v":-999999900},null,null,{"$f":"SUM(O36:O38)","v":-999999900},null,null,{"$f":"SUM(R36:R38)","v":-999999900},null,null,{"$f":"SUM(U36:U38)","v":-999999900},null,null,{"$f":"SUM(X36:X38)","v":-999999900},null,null,{"$f":"SUM(AA36:AA38)","v":-999999900},null,null,{"$f":"SUM(AD36:AD38)","v":-999999900},null,null,{"$f":"SUM(AG36:AG38)","v":-999999900},null,null,{"$f":"SUM(AJ36:AJ38)","v":-999999900},null,null,{"$f":"SUM(AM36:AM38)","v":-999999900},null,null,{"$f":"SUM(AP36:AP38)","v":-999999900},null,null,{"$f":"SUM(AS36:AS38)","v":-999999998},null,null,{"$f":"SUM(AV36:AV38)","v":-999999900},null,null,{"$f":"SUM(AY36:AY38)","v":-999999900},null,null,{"$f":"SUM(BB36:BB38)","v":-9999998},null,null,{"$f":"SUM(BE36:BE38)","v":-9999998}]
[null,null,{"$f":"+D40","v":0},null,null,{"$f":"+G40","v":0},null,null,{"$f":"+J40","v":0},null,null,{"$f":"+M40","v":0},null,null,{"$f":"+P40","v":0},null,null,{"$f":"+S40","v":0},null,null,{"$f":"+V40","v":0},null,null,{"$f":"+Y40","v":0},null,null,{"$f":"+AB40","v":0},null,null,{"$f":"+AE40","v":0},null,null,{"$f":"+AH40","v":0},null,null,{"$f":"+AK40","v":0},null,null,{"$f":"+AN40","v":0},null,null,{"$f":"+AQ40","v":0},null,null,{"$f":"+AT40","v":0},null,null,{"$f":"+AW40","v":0},null,null,{"$f":"+AZ40","v":0},null,null,{"$f":"+BC40","v":0},null,null,{"$f":"+BF40","v":0}]
[null,null,{"$f":"+C41*100","v":100},null,null,{"$f":"+F41*100","v":100},null,null,{"$f":"+I41*100","v":100},null,null,{"$f":"+L41*100","v":100},null,null,{"$f":"+O41*100","v":100},null,null,{"$f":"+R41*100","v":100},null,null,{"$f":"+U41*100","v":100},null,null,{"$f":"+X41*100","v":100},null,null,{"$f":"+AA41*100","v":100},null,null,{"$f":"+AD41*100","v":100},null,null,{"$f":"+AG41*100","v":100},null,null,{"$f":"+AJ41*100","v":100},null,null,{"$f":"+AM41*100","v":100},null,null,{"$f":"+AP41*100","v":100},null,null,{"$f":"+AS41*2","v":2},null,null,{"$f":"+AV41*100","v":100},null,null,{"$f":"+AY41*100","v":100},null,null,{"$f":"+BB41*2","v":2},null,null,{"$f":"+BE41*2","v":2}]
[null,null,{"$f":"IF(D40-$A3/2<0,-1000000000,C40*C39*100000+C40)","v":-1000000000},null,null,{"$f":"IF(G40-$A3/2<0,-1000000000,F40*F39*100000+F40)","v":-1000000000},null,null,{"$f":"IF(J40-$A3/2<0,-1000000000,I40*I39*100000+I40)","v":-1000000000},null,null,{"$f":"IF(M40-$A3/2<0,-1000000000,L40*L39*100000+L40)","v":-1000000000},null,null,{"$f":"IF(P40-$A3/2<0,-1000000000,O40*O39*100000+O40)","v":-1000000000},null,null,{"$f":"IF(S40-$A3/2<0,-1000000000,R40*R39*100000+R40)","v":-1000000000},null,null,{"$f":"IF(V40-$A3/2<0,-1000000000,U40*U39*100000+U40)","v":-1000000000},null,null,{"$f":"IF(Y40-$A3/2<0,-1000000000,X40*X39*100000+X40)","v":-1000000000},null,null,{"$f":"IF(AB40-$A3/2<0,-1000000000,AA40*AA39*100000+AA40)","v":-1000000000},null,null,{"$f":"IF(AE40-$A3/2<0,-1000000000,AD40*AD39*100000+AD40)","v":-1000000000},null,null,{"$f":"IF(AH40-$A3/2<0,-1000000000,AG40*AG39*100000+AG40)","v":-1000000000},null,null,{"$f":"IF(AK40-$A3/2<0,-1000000000,AJ40*AJ39*100000+AJ40)","v":-1000000000},null,null,{"$f":"IF(AN40-$A3/2<0,-1000000000,AM40*AM39*100000+AM40)","v":-1000000000},null,null,{"$f":"IF(AQ40-$A3/2<0,-1000000000,AP40*AP39*100000+AP40)","v":-1000000000},null,null,{"$f":"IF(AT40-$A3/2<0,-1000000000,AS40*AS39*100000+AS40)","v":-1000000000},null,null,{"$f":"IF(AW40-$A3/2<0,-1000000000,AV40*AV39*100000+AV40)","v":-1000000000},null,null,{"$f":"IF(AZ40-$A3/2<0,-1000000000,AY40*AY39*100000+AY40)","v":-1000000000},null,null,{"$f":"IF(BC40-$A3/2<0,-10000000,BB40*BB39*100000+BB40)","v":-10000000},null,null,{"$f":"IF(BF40-$A3/2<0,-10000000,BE40*BE39*100000+BE40)","v":-10000000}]
["Classificats",{"$f":"SUM(C39:BE39)","v":0},{"$f":"IF(D40>=$A3/2,1,0)","v":0},null,null,{"$f":"IF(G40>=$A3/2,1,0)","v":0},null,null,{"$f":"IF(J40>=$A3/2,1,0)","v":0},null,null,{"$f":"IF(M40>=$A3/2,1,0)","v":0},null,null,{"$f":"IF(P40>=$A3/2,1,0)","v":0},null,null,{"$f":"IF(S40>=$A3/2,1,0)","v":0},null,null,{"$f":"IF(V40>=$A3/2,1,0)","v":0},null,null,{"$f":"IF(Y40>=$A3/2,1,0)","v":0},null,null,{"$f":"IF(AB40>=$A3/2,1,0)","v":0},null,null,{"$f":"IF(AE40>=$A3/2,1,0)","v":0},null,null,{"$f":"IF(AH40>=$A3/2,1,0)","v":0},null,null,{"$f":"IF(AK40>=$A3/2,1,0)","v":0},null,null,{"$f":"IF(AN40>=$A3/2,1,0)","v":0},null,null,{"$f":"IF(AQ40>=$A3/2,1,0)","v":0},null,null,{"$f":"IF(AT40>=$A3/2,1,0)","v":0},null,null,{"$f":"IF(AW40>=$A3/2,1,0)","v":0},null,null,{"$f":"IF(AZ40>=$A3/2,1,0)","v":0},null,null,{"$f":"IF(BC40>=$A3/2,1,0)","v":0},null,null,{"$f":"IF(BF40>=$A3/2,1,0)","v":0}]
[null,null,{"$f":"IF(SUM(C45:C68)<-1000,-100000000,SUM(C45:C68))","v":-100000000},{"$f":"COUNT(D45:D68)","v":0},null,{"$f":"IF(SUM(F45:F68)<-1000,-100000000,SUM(F45:F68))","v":-100000000},{"$f":"COUNT(G45:G68)","v":0},null,{"$f":"IF(SUM(I45:I68)<-1000,-100000000,SUM(I45:I68))","v":-100000000},{"$f":"COUNT(J45:J68)","v":0},null,{"$f":"IF(SUM(L45:L68)<-1000,-100000000,SUM(L45:L68))","v":-100000000},{"$f":"COUNT(M45:M68)","v":0},null,{"$f":"IF(SUM(O45:O68)<-1000,-100000000,SUM(O45:O68))","v":-100000000},{"$f":"COUNT(P45:P68)","v":0},null,{"$f":"IF(SUM(R45:R68)<-1000,-100000000,SUM(R45:R68))","v":-100000000},{"$f":"COUNT(S45:S68)","v":0},null,{"$f":"IF(SUM(U45:U68)<-1000,-100000000,SUM(U45:U68))","v":-100000000},{"$f":"COUNT(V45:V68)","v":0},null,{"$f":"IF(SUM(X45:X68)<-1000,-100000000,SUM(X45:X68))","v":-100000000},{"$f":"COUNT(Y45:Y68)","v":0},null,{"$f":"IF(SUM(AA45:AA68)<-1000,-100000000,SUM(AA45:AA68))","v":-100000000},{"$f":"COUNT(AB45:AB68)","v":0},null,{"$f":"IF(SUM(AD45:AD68)<-1000,-100000000,SUM(AD45:AD68))","v":-100000000},{"$f":"COUNT(AE45:AE68)","v":0},null,{"$f":"IF(SUM(AG45:AG68)<-1000,-100000000,SUM(AG45:AG68))","v":-100000000},{"$f":"COUNT(AH45:AH68)","v":0},null,{"$f":"IF(SUM(AJ45:AJ68)<-1000,-100000000,SUM(AJ45:AJ68))","v":-100000000},{"$f":"COUNT(AK45:AK68)","v":0},null,{"$f":"IF(SUM(AM45:AM68)<-1000,-100000000,SUM(AM45:AM68))","v":-100000000},{"$f":"COUNT(AN45:AN68)","v":0},null,{"$f":"IF(SUM(AP45:AP68)<-1000,-100000000,SUM(AP45:AP68))","v":-100000000},{"$f":"COUNT(AQ45:AQ68)","v":0},null,{"$f":"IF(SUM(AS45:AS68)<-1000,-100000000,SUM(AS45:AS68))","v":-100000000},{"$f":"COUNT(AT45:AT68)","v":0},null,{"$f":"IF(SUM(AV45:AV68)<-1000,-100000000,SUM(AV45:AV68))","v":-100000000},{"$f":"COUNT(AW45:AW68)","v":0},null,{"$f":"IF(SUM(AY45:AY68)<-1000,-100000000,SUM(AY45:AY68))","v":-100000000},{"$f":"COUNT(AZ45:AZ68)","v":0},null,{"$f":"IF(SUM(BB45:BB68)<-1000,-100000000,SUM(BB45:BB68))","v":-100000000},{"$f":"COUNT(BC45:BC68)","v":0},null,{"$f":"IF(SUM(BE45:BE68)<-1000,-100000000,SUM(BE45:BE68))","v":-100000000},{"$f":"COUNT(BF45:BF68)","v":0},null,null,"A"]
[null,null,{"$f":"+D41-E41","v":1},{"$f":"SUM(D45:D68)","v":0},{"$f":"SUM(E45:E68)","v":-1},{"$f":"+G41-H41","v":1},{"$f":"SUM(G45:G68)","v":0},{"$f":"SUM(H45:H68)","v":-1},{"$f":"+J41-K41","v":1},{"$f":"SUM(J45:J68)","v":0},{"$f":"SUM(K45:K68)","v":-1},{"$f":"+M41-N41","v":1},{"$f":"SUM(M45:M68)","v":0},{"$f":"SUM(N45:N68)","v":-1},{"$f":"+P41-Q41","v":1},{"$f":"SUM(P45:P68)","v":0},{"$f":"SUM(Q45:Q68)","v":-1},{"$f":"+S41-T41","v":1},{"$f":"SUM(S45:S68)","v":0},{"$f":"SUM(T45:T68)","v":-1},{"$f":"+V41-W41","v":1},{"$f":"SUM(V45:V68)","v":0},{"$f":"SUM(W45:W68)","v":-1},{"$f":"+Y41-Z41","v":1},{"$f":"SUM(Y45:Y68)","v":0},{"$f":"SUM(Z45:Z68)","v":-1},{"$f":"+AB41-AC41","v":1},{"$f":"SUM(AB45:AB68)","v":0},{"$f":"SUM(AC45:AC68)","v":-1},{"$f":"+AE41-AF41","v":1},{"$f":"SUM(AE45:AE68)","v":0},{"$f":"SUM(AF45:AF68)","v":-1},{"$f":"+AH41-AI41","v":1},{"$f":"SUM(AH45:AH68)","v":0},{"$f":"SUM(AI45:AI68)","v":-1},{"$f":"+AK41-AL41","v":1},{"$f":"SUM(AK45:AK68)","v":0},{"$f":"SUM(AL45:AL68)","v":-1},{"$f":"+AN41-AO41","v":1},{"$f":"SUM(AN45:AN68)","v":0},{"$f":"SUM(AO45:AO68)","v":-1},{"$f":"+AQ41-AR41","v":1},{"$f":"SUM(AQ45:AQ68)","v":0},{"$f":"SUM(AR45:AR68)","v":-1},{"$f":"+AT41-AU41","v":1},{"$f":"SUM(AT45:AT68)","v":0},{"$f":"SUM(AU45:AU68)","v":-1},{"$f":"+AW41-AX41","v":1},{"$f":"SUM(AW45:AW68)","v":0},{"$f":"SUM(AX45:AX68)","v":-1},{"$f":"+AZ41-BA41","v":1},{"$f":"SUM(AZ45:AZ68)","v":0},{"$f":"SUM(BA45:BA68)","v":-1},{"$f":"+BC41-BD41","v":1},{"$f":"SUM(BC45:BC68)","v":0},{"$f":"SUM(BD45:BD68)","v":-1},{"$f":"+BF41-BG41","v":1},{"$f":"SUM(BF45:BF68)","v":0},{"$f":"SUM(BG45:BG68)","v":-1},null,"B"]
[null,null,null,null,null,null,null,null,null,null,null,null,null,null,null,null,null,null,null,null,null,null,null,null,null,null,null,null,null,null,null,null,null,null,null,null,null,null,null,null,null,null,null,null,null,null,null,null,null,null,null,null,null,null,null,null,null,null,null,{"$f":"MAX(BI45:BI104)","v":0}]
[null,"Nº partida ","Allan",null,null,"Juan",null,null,"Jordi",null,null,"MªJosé",null,null,"Pol",null,null,"Sergi",null,null,"Carles",null,null,"Mariajo",null,null,"Iglesias",null,null,"Martín",null,null,"Xavi",null,null,"Salvadó",null,null,"Alfonso",null,null,"Taberner",null,null,"Agata",null,null,"Goretti",null,null,"Mercè",null,null,null,null,null,"Caty",null,null,{"$f":"COUNT(BH45:BH83)","v":0},"A","B","C"]
[null,"5 copes","Premi","Punts",null,"Premi","Punts",null,"Premi","Punts",null,"Premi","Punts",null,"Premi","Punts",null,"Premi","Punts",null,"Premi","Punts",null,"Premi","Punts",null,"Premi","Punts",null,"Premi","Punts",null,"Premi","Punts",null,"Premi","Punts",null,"Premi","Punts",null,"Premi","Punts",null,"Premi","Punts",null,"Premi","Punts",null,"Premi","Punts",null,"Premi","Punts",null,"Premi","Punts",null,"Data","Timba"]
[1,null,-10000,null,-1,-10000,null,-1,-10000,null,-1,-10000,null,-1,-10000,null,-1,-10000,null,-1,-10000,null,-1,-10000,null,-1,-10000,null,-1,-10000,null,-1,-10000,null,-1,-10000,null,-1,-10000,null,-1,-10000,null,-1,-10000,null,-1,-10000,null,-1,-10000,null,-1,-10000,null,-1,-10000,null,-1,null,null,{"$f":"+BE45+AJ45+AG45+AD45+AA45+X45+U45+R45+O45+L45+I45+F45+C45+AM45+AP45+AS45+AV45+AY45+BB45","v":-190000},0,-19,{"$f":"+BK45-BL45","v":19},{"$f":"COUNT(C45:BG45)/3","v":12.666666666666666},{"$f":"+BJ45/BN45","v":-15000}]
[{"$f":"+A45+1","v":2},null,null,null,null,null,null,null,null,null,null,null,null,null,null,null,null,null,null,null,null,null,null,null,null,null,null,null,null,null,null,null,null,null,null,null,null,null,null,null,null,null,null,null,null,null,null,null,null,null,null,null,null,null,null,null,null,null,null,null,null,0,0,0,0,0,{"$error":"#DIV/0!"}]
[{"$f":"+A46+1","v":3},null,null,null,null,null,null,null,null,null,null,null,null,null,null,null,null,null,null,null,null,null,null,null,null,null,null,null,null,null,null,null,null,null,null,null,null,null,null,null,null,null,null,null,null,null,null,null,null,null,null,null,null,null,null,null,null,null,null,null,null,0,0,0,0,0,{"$error":"#DIV/0!"}]
[4,null,null,null,null,null,null,null,null,null,null,null,null,null,null,null,null,null,null,null,null,null,null,null,null,null,null,null,null,null,null,null,null,null,null,null,null,null,null,null,null,null,null,null,null,null,null,null,null,null,null,null,null,null,null,null,null,null,null,null,null,0,0,0,0,0,{"$error":"#DIV/0!"}]
[5,null,null,null,null,null,null,null,null,null,null,null,null,null,null,null,null,null,null,null,null,null,null,null,null,null,null,null,null,null,null,null,null,null,null,null,null,null,null,null,null,null,null,null,null,null,null,null,null,null,null,null,null,null,null,null,null,null,null,null,null,0,0,0,0,0,{"$error":"#DIV/0!"}]
[6,null,null,null,null,null,null,null,null,null,null,null,null,null,null,null,null,null,null,null,null,null,null,null,null,null,null,null,null,null,null,null,null,null,null,null,null,null,null,null,null,null,null,null,null,null,null,null,null,null,null,null,null,null,null,null,null,null,null,null,null,0,0,0,0,0,{"$error":"#DIV/0!"}]
[7,null,null,null,null,null,null,null,null,null,null,null,null,null,null,null,null,null,null,null,null,null,null,null,null,null,null,null,null,null,null,null,null,null,null,null,null,null,null,null,null,null,null,null,null,null,null,null,null,null,null,null,null,null,null,null,null,null,null,null,null,0,0,0,0,0,{"$error":"#DIV/0!"}]
[8,null,null,null,null,null,null,null,null,null,null,null,null,null,null,null,null,null,null,null,null,null,null,null,null,null,null,null,null,null,null,null,null,null,null,null,null,null,null,null,null,null,null,null,null,null,null,null,null,null,null,null,null,null,null,null,null,null,null,null,null,0,0,0,0,0,{"$error":"#DIV/0!"}]
[9,null,null,null,null,null,null,null,null,null,null,null,null,null,null,null,null,null,null,null,null,null,null,null,null,null,null,null,null,null,null,null,null,null,null,null,null,null,null,null,null,null,null,null,null,null,null,null,null,null,null,null,null,null,null,null,null,null,null,null,null,{"$f":"+BE53+AJ53+AG53+AD53+AA53+X53+U53+R53+O53+L53+I53+F53+C53+AM53+AP53+AS53+AV53+AY53+BB53","v":0},{"$f":"+BF53+AK53+AH53+AE53+AB53+Y53+V53+S53+P53+M53+J53+G53+D53+AN53+AQ53+AT53+AW53+AZ53+BC53","v":0},{"$f":"+BG53+AL53+AI53+AF53+AC53+Z53+W53+T53+Q53+N53+K53+H53+E53+AO53+AR53+AU53+AX53+BA53+BD53","v":0},{"$f":"+BK53-BL53","v":0},{"$f":"COUNT(C53:BG53)/3","v":0},{"$f":"+BJ53/BN53","v":{"$error":"#DIV/0!"}}]
[10,null,null,null,null,null,null,null,null,null,null,null,null,null,null,null,null,null,null,null,null,null,null,null,null,null,null,null,null,null,null,null,null,null,null,null,null,null,null,null,null,null,null,null,null,null,null,null,null,null,null,null,null,null,null,null,null,null,null,null,null,0,0,0,0,0,{"$error":"#DIV/0!"}]
[11,null,null,null,null,null,null,null,null,null,null,null,null,null,null,null,null,null,null,null,null,null,null,null,null,null,null,null,null,null,null,null,null,null,null,null,null,null,null,null,null,null,null,null,null,null,null,null,null,null,null,null,null,null,null,null,null,null,null,null,null,0,0,0,0,0,{"$error":"#DIV/0!"}]
[12,null,null,null,null,null,null,null,null,null,null,null,null,null,null,null,null,null,null,null,null,null,null,null,null,null,null,null,null,null,null,null,null,null,null,null,null,null,null,null,null,null,null,null,null,null,null,null,null,null,null,null,null,null,null,null,null,null,null,null,null,0,0,0,0,0,{"$error":"#DIV/0!"}]
[13,null,null,null,null,null,null,null,null,null,null,null,null,null,null,null,null,null,null,null,null,null,null,null,null,null,null,null,null,null,null,null,null,null,null,null,null,null,null,null,null,null,null,null,null,null,null,null,null,null,null,null,null,null,null,null,null,null,null,null,null,0,0,0,0,0,{"$error":"#DIV/0!"}]
[14,null,null,null,null,null,null,null,null,null,null,null,null,null,null,null,null,null,null,null,null,null,null,null,null,null,null,null,null,null,null,null,null,null,null,null,null,null,null,null,null,null,null,null,null,null,null,null,null,null,null,null,null,null,null,null,null,null,null,null,null,0,0,0,0,0,{"$error":"#DIV/0!"}]
[15,null,null,null,null,null,null,null,null,null,null,null,null,null,null,null,null,null,null,null,null,null,null,null,null,null,null,null,null,null,null,null,null,null,null,null,null,null,null,null,null,null,null,null,null,null,null,null,null,null,null,null,null,null,null,null,null,null,null,null,null,0,0,0,0,0,{"$error":"#DIV/0!"}]
[16,null,null,null,null,null,null,null,null,null,null,null,null,null,null,null,null,null,null,null,null,null,null,null,null,null,null,null,null,null,null,null,null,null,null,null,null,null,null,null,null,null,null,null,null,null,null,null,null,null,null,null,null,null,null,null,null,null,null,null,null,0,0,0,0,0,{"$error":"#DIV/0!"}]
[17,null,null,null,null,null,null,null,null,null,null,null,null,null,null,null,null,null,null,null,null,null,null,null,null,null,null,null,null,null,null,null,null,null,null,null,null,null,null,null,null,null,null,null,null,null,null,null,null,null,null,null,null,null,null,null,null,null,null,null,null,0,0,0,0,0,{"$error":"#DIV/0!"}]
[18]
[19]
[20]
[21]
[22]
[23]
[24]

{"sheet":"Manilla","index":33,"n_rows":240,"n_cols":67,"rows_kept":240,"cut":false,"hidden":false,"merged":[[42,50,42,52],[42,53,42,55],[42,56,42,58],[42,38,42,40],[42,41,42,43],[42,44,42,46],[42,47,42,49],[42,32,42,34],[42,35,42,37],[42,14,42,16],[42,17,42,19],[42,20,42,22],[42,23,42,25],[42,29,42,31],[42,2,42,4],[42,5,42,7],[42,8,42,10],[42,11,42,13],[42,26,42,28]]}
["MANILLA"]
["Mes"]
[{"$f":"+GENERAL!B6","v":12},null,{"$f":"SUM(C5:C10)","v":-600000000}]
[null,null,"Premi","Punts","Partides","General"]
[1,"Mercè",{"$f":"+AY$40","v":-100000000},{"$f":"+AY$41","v":1},{"$f":"+AZ$40","v":0},{"$f":"+AY$26","v":0},{"$f":"IF(E5<A$3/2,-1,1)*800+C5+D5/1000","v":-100000799.999}]
[2,"Iglesias",{"$f":"+AA$40","v":-100000000},{"$f":"+AA$41","v":1},{"$f":"+AB$40","v":0},{"$f":"+AA$26","v":0},-100000799.999]
[3,"Xavi",{"$f":"+AG$40","v":-100000000},{"$f":"+AG$41","v":1},{"$f":"+AH$40","v":0},{"$f":"+AG$26","v":0},-100000799.999]
[4,"Jordi",{"$f":"+I$40","v":-100000000},{"$f":"+I$41","v":1},{"$f":"+J$40","v":0},{"$f":"+I$26","v":0},-100000799.999]
[5,"Carles",{"$f":"+U$40","v":-100000000},{"$f":"+U$41","v":1},{"$f":"+V$40","v":0},{"$f":"+U$26","v":0},-100000799.999]
[6,"Sergi",{"$f":"+R$40","v":-100000000},{"$f":"+R$41","v":1},{"$f":"+S$40","v":0},{"$f":"+R$26","v":0},-100000799.999]
[7,"Mariajo",{"$f":"+X$40","v":-100000000},{"$f":"+X$41","v":1},{"$f":"+Y$40","v":0},{"$f":"+X$26","v":0},-100000799.999,null,null,null,null,null,null,null,null,null,null,null,null,null,null,null,null,null,null," "]
[8,"MªJosé",{"$f":"+L$40","v":-100000000},{"$f":"+L$41","v":1},{"$f":"+M$40","v":0},{"$f":"+L$26","v":0},-100000799.999]
[9,"Jimmy",{"$f":"+AV$40","v":-100000000},{"$f":"+AV$41","v":1},{"$f":"+AW$40","v":0},{"$f":"+AV$26","v":0},-100000799.999]
[10,"Sylvain",{"$f":"+AD$40","v":-100000000},{"$f":"+AD$41","v":1},{"$f":"+AE$40","v":0},{"$f":"+AD$26","v":0},-100000799.999]
[11,"Ester",{"$f":"+BE$40","v":-100000000},{"$f":"+BE$41","v":1},{"$f":"+BF$40","v":0},{"$f":"+BE$26","v":0},-100000799.999]
[12,"Pol",{"$f":"+O$40","v":-100000000},{"$f":"+O$41","v":1},{"$f":"+P$40","v":0},{"$f":"+O$26","v":0},-100000799.999]
[13,"Goretti",{"$f":"+AS$40","v":-100000000},{"$f":"+AS$41","v":1},{"$f":"+AT$40","v":0},{"$f":"+AS$26","v":0},-100000799.999]
[14,"Taberner",{"$f":"+AP$40","v":-100000000},{"$f":"+AP$41","v":1},{"$f":"+AQ$40","v":0},{"$f":"+AP$26","v":0},-100000799.999]
[15,"Jorge",{"$f":"+BB$40","v":-100000000},{"$f":"+BB$41","v":1},{"$f":"+BC$40","v":0},{"$f":"+BB$26","v":0},-100000799.999]
[16,"Alfonso",{"$f":"+AM$40","v":-100000000},{"$f":"+AM$41","v":1},{"$f":"+AN$40","v":0},{"$f":"+AM$26","v":0},-100000799.999]
[17,"Pablo",{"$f":"+C$40","v":-100000000},{"$f":"+C$41","v":1},{"$f":"+D$40","v":0},{"$f":"+C$26","v":0},-100000799.999]
[18,"Pepe",{"$f":"+F$40","v":-100000000},{"$f":"+F$41","v":1},{"$f":"+G$40","v":0},{"$f":"+F$26","v":0},-100000799.999]
[19,"Salvadó",{"$f":"+AJ$40","v":-100000000},{"$f":"+AJ$41","v":1},{"$f":"+AK$40","v":0},{"$f":"+AJ$26","v":0},-100000799.999]
[]
[]
[null,"General",{"$f":"+C27*C28","v":0},{"$f":"+D27*D28","v":0},null,{"$f":"+F27*F28","v":0},{"$f":"+G27*G28","v":0},null,{"$f":"+I27*I28","v":0},{"$f":"+J27*J28","v":0},null,{"$f":"+L27*L28","v":0},{"$f":"+M27*M28","v":0},null,{"$f":"+O27*O28","v":0},{"$f":"+P27*P28","v":0},null,{"$f":"+R27*R28","v":0},{"$f":"+S27*S28","v":0},null,{"$f":"+U27*U28","v":0},{"$f":"+V27*V28","v":0},null,{"$f":"+X27*X28","v":0},{"$f":"+Y27*Y28","v":0},null,{"$f":"+AA27*AA28","v":0},{"$f":"+AB27*AB28","v":0},null,{"$f":"+AD27*AD28","v":0},{"$f":"+AE27*AE28","v":0},null,{"$f":"+AG27*AG28","v":0},{"$f":"+AH27*AH28","v":0},null,{"$f":"+AJ27*AJ28","v":0},{"$f":"+AK27*AK28","v":0},null,{"$f":"+AM27*AM28","v":0},{"$f":"+AN27*AN28","v":0},null,{"$f":"+AP27*AP28","v":0},{"$f":"+AQ27*AQ28","v":0},null,{"$f":"+AS27*AS28","v":0},{"$f":"+AT27*AT28","v":0},null,{"$f":"+AV27*AV28","v":0},{"$f":"+AW27*AW28","v":0},null,{"$f":"+AY27*AY28","v":0},{"$f":"+AZ27*AZ28","v":0},null,{"$f":"+BB27*BB28","v":0},{"$f":"+BC27*BC28","v":0},null,{"$f":"+BE27*BE28","v":0},{"$f":"+BF27*BF28","v":0}]
[null,null,{"$f":"IF($B39>3,1,0)","v":0},{"$f":"IF($B39>3,1,0)","v":0},null,{"$f":"IF($B39>3,1,0)","v":0},{"$f":"IF($B39>3,1,0)","v":0},null,{"$f":"IF($B39>3,1,0)","v":0},{"$f":"IF($B39>3,1,0)","v":0},null,{"$f":"IF($B39>3,1,0)","v":0},{"$f":"IF($B39>3,1,0)","v":0},null,{"$f":"IF($B39>3,1,0)","v":0},{"$f":"IF($B39>3,1,0)","v":0},null,{"$f":"IF($B39>3,1,0)","v":0},{"$f":"IF($B39>3,1,0)","v":0},null,{"$f":"IF($B39>3,1,0)","v":0},{"$f":"IF($B39>3,1,0)","v":0},null,{"$f":"IF($B39>3,1,0)","v":0},{"$f":"IF($B39>3,1,0)","v":0},null,{"$f":"IF($B39>3,1,0)","v":0},{"$f":"IF($B39>3,1,0)","v":0},null,{"$f":"IF($B39>3,1,0)","v":0},{"$f":"IF($B39>3,1,0)","v":0},null,{"$f":"IF($B39>3,1,0)","v":0},{"$f":"IF($B39>3,1,0)","v":0},null,{"$f":"IF($B39>3,1,0)","v":0},{"$f":"IF($B39>3,1,0)","v":0},null,{"$f":"IF($B39>3,1,0)","v":0},{"$f":"IF($B39>3,1,0)","v":0},null,{"$f":"IF($B39>3,1,0)","v":0},{"$f":"IF($B39>3,1,0)","v":0},null,{"$f":"IF($B39>3,1,0)","v":0},{"$f":"IF($B39>3,1,0)","v":0},null,{"$f":"IF($B39>3,1,0)","v":0},{"$f":"IF($B39>3,1,0)","v":0},null,{"$f":"IF($B39>3,1,0)","v":0},{"$f":"IF($B39>3,1,0)","v":0},null,{"$f":"IF($B39>3,1,0)","v":0},{"$f":"IF($B39>3,1,0)","v":0},null,{"$f":"IF($B39>3,1,0)","v":0},{"$f":"IF($B39>3,1,0)","v":0}]
[null,null,{"$f":"MAX(C29:C33)","v":0},{"$f":"+D40","v":0},null,{"$f":"MAX(F29:F33)","v":0},{"$f":"+G40","v":0},null,{"$f":"MAX(I29:I33)","v":0},{"$f":"+J40","v":0},null,{"$f":"MAX(L29:L33)","v":0},{"$f":"+M40","v":0},null,{"$f":"MAX(O29:O33)","v":0},{"$f":"+P40","v":0},null,{"$f":"MAX(R29:R33)","v":0},{"$f":"+S40","v":0},null,{"$f":"MAX(U29:U33)","v":0},{"$f":"+V40","v":0},null,{"$f":"MAX(X29:X33)","v":0},{"$f":"+Y40","v":0},null,{"$f":"MAX(AA29:AA33)","v":0},{"$f":"+AB40","v":0},null,{"$f":"MAX(AD29:AD33)","v":0},{"$f":"+AE40","v":0},null,{"$f":"MAX(AG29:AG33)","v":0},{"$f":"+AH40","v":0},null,{"$f":"MAX(AJ29:AJ33)","v":0},{"$f":"+AK40","v":0},null,{"$f":"MAX(AM29:AM33)","v":0},{"$f":"+AN40","v":0},null,{"$f":"MAX(AP29:AP33)","v":0},{"$f":"+AQ40","v":0},null,{"$f":"MAX(AS29:AS33)","v":0},{"$f":"+AT40","v":0},null,{"$f":"MAX(AV29:AV33)","v":0},{"$f":"+AW40","v":0},null,{"$f":"MAX(AY29:AY33)","v":0},{"$f":"+AZ40","v":0},null,{"$f":"MAX(BB29:BB33)","v":0},{"$f":"+BC40","v":0},null,{"$f":"MAX(BE29:BE33)","v":0},{"$f":"+BF40","v":0}]
[null,null,{"$f":"IF(C$34=5,5,0)","v":0},null,null,{"$f":"IF(F$34=5,5,0)","v":0},null,null,{"$f":"IF(I$34=5,5,0)","v":0},null,null,{"$f":"IF(L$34=5,5,0)","v":0},null,null,{"$f":"IF(O$34=5,5,0)","v":0},null,null,{"$f":"IF(R$34=5,5,0)","v":0},null,null,{"$f":"IF(U$34=5,5,0)","v":0},null,null,{"$f":"IF(X$34=5,5,0)","v":0},null,null,{"$f":"IF(AA$34=5,5,0)","v":0},null,null,{"$f":"IF(AD$34=5,5,0)","v":0},null,null,{"$f":"IF(AG$34=5,5,0)","v":0},null,null,{"$f":"IF(AJ$34=5,5,0)","v":0},null,null,{"$f":"IF(AM$34=5,5,0)","v":0},null,null,{"$f":"IF(AP$34=5,5,0)","v":0},null,null,{"$f":"IF(AS$34=5,5,0)","v":0},null,null,{"$f":"IF(AV$34=5,5,0)","v":0},null,null,{"$f":"IF(AY$34=5,5,0)","v":0},null,null,{"$f":"IF(BB$34=5,5,0)","v":0},null,null,{"$f":"IF(BE$34=5,5,0)","v":0}]
[null,null,{"$f":"IF(C$34=4,10,0)","v":0},null,null,{"$f":"IF(F$34=4,10,0)","v":0},null,null,{"$f":"IF(I$34=4,10,0)","v":0},null,null,{"$f":"IF(L$34=4,10,0)","v":0},null,null,{"$f":"IF(O$34=4,10,0)","v":0},null,null,{"$f":"IF(R$34=4,10,0)","v":0},null,null,{"$f":"IF(U$34=4,10,0)","v":0},null,null,{"$f":"IF(X$34=4,10,0)","v":0},null,null,{"$f":"IF(AA$34=4,10,0)","v":0},null,null,{"$f":"IF(AD$34=4,10,0)","v":0},null,null,{"$f":"IF(AG$34=4,10,0)","v":0},null,null,{"$f":"IF(AJ$34=4,10,0)","v":0},null,null,{"$f":"IF(AM$34=4,10,0)","v":0},null,null,{"$f":"IF(AP$34=4,10,0)","v":0},null,null,{"$f":"IF(AS$34=4,10,0)","v":0},null,null,{"$f":"IF(AV$34=4,10,0)","v":0},null,null,{"$f":"IF(AY$34=4,10,0)","v":0},null,null,{"$f":"IF(BB$34=4,10,0)","v":0},null,null,{"$f":"IF(BE$34=4,10,0)","v":0}]
[null,null,{"$f":"IF(C$34=3,20,0)","v":0},null,null,{"$f":"IF(F$34=3,20,0)","v":0},null,null,{"$f":"IF(I$34=3,20,0)","v":0},null,null,{"$f":"IF(L$34=3,20,0)","v":0},null,null,{"$f":"IF(O$34=3,20,0)","v":0},null,null,{"$f":"IF(R$34=3,20,0)","v":0},null,null,{"$f":"IF(U$34=3,20,0)","v":0},null,null,{"$f":"IF(X$34=3,20,0)","v":0},null,null,{"$f":"IF(AA$34=3,20,0)","v":0},null,null,{"$f":"IF(AD$34=3,20,0)","v":0},null,null,{"$f":"IF(AG$34=3,20,0)","v":0},null,null,{"$f":"IF(AJ$34=3,20,0)","v":0},null,null,{"$f":"IF(AM$34=3,20,0)","v":0},null,null,{"$f":"IF(AP$34=3,20,0)","v":0},null,null,{"$f":"IF(AS$34=3,20,0)","v":0},null,null,{"$f":"IF(AV$34=3,20,0)","v":0},null,null,{"$f":"IF(AY$34=3,20,0)","v":0},null,null,{"$f":"IF(BB$34=3,20,0)","v":0},null,null,{"$f":"IF(BE$34=3,20,0)","v":0}]
[null,null,{"$f":"IF(C$34=2,40,0)","v":0},null,null,{"$f":"IF(F$34=2,40,0)","v":0},null,null,{"$f":"IF(I$34=2,40,0)","v":0},null,null,{"$f":"IF(L$34=2,40,0)","v":0},null,null,{"$f":"IF(O$34=2,40,0)","v":0},null,null,{"$f":"IF(R$34=2,40,0)","v":0},null,null,{"$f":"IF(U$34=2,40,0)","v":0},null,null,{"$f":"IF(X$34=2,40,0)","v":0},null,null,{"$f":"IF(AA$34=2,40,0)","v":0},null,null,{"$f":"IF(AD$34=2,40,0)","v":0},null,null,{"$f":"IF(AG$34=2,40,0)","v":0},null,null,{"$f":"IF(AJ$34=2,40,0)","v":0},null,null,{"$f":"IF(AM$34=2,40,0)","v":0},null,null,{"$f":"IF(AP$34=2,40,0)","v":0},null,null,{"$f":"IF(AS$34=2,40,0)","v":0},null,null,{"$f":"IF(AV$34=2,40,0)","v":0},null,null,{"$f":"IF(AY$34=2,40,0)","v":0},null,null,{"$f":"IF(BB$34=2,40,0)","v":0},null,null,{"$f":"IF(BE$34=2,40,0)","v":0}]
[null,null,{"$f":"IF(C$34=1,80,0)","v":0},null,null,{"$f":"IF(F$34=1,80,0)","v":0},null,null,{"$f":"IF(I$34=1,80,0)","v":0},null,null,{"$f":"IF(L$34=1,80,0)","v":0},null,null,{"$f":"IF(O$34=1,80,0)","v":0},null,null,{"$f":"IF(R$34=1,80,0)","v":0},null,null,{"$f":"IF(U$34=1,80,0)","v":0},null,null,{"$f":"IF(X$34=1,80,0)","v":0},null,null,{"$f":"IF(AA$34=1,80,0)","v":0},null,null,{"$f":"IF(AD$34=1,80,0)","v":0},null,null,{"$f":"IF(AG$34=1,80,0)","v":0},null,null,{"$f":"IF(AJ$34=1,80,0)","v":0},null,null,{"$f":"IF(AM$34=1,80,0)","v":0},null,null,{"$f":"IF(AP$34=1,80,0)","v":0},null,null,{"$f":"IF(AS$34=1,80,0)","v":0},null,null,{"$f":"IF(AV$34=1,80,0)","v":0},null,null,{"$f":"IF(AY$34=1,80,0)","v":0},null,null,{"$f":"IF(BB$34=1,80,0)","v":0},null,null,{"$f":"IF(BE$34=1,80,0)","v":0}]
[null,null,{"$f":"RANK(C35,$C35:$BF35)*C39","v":0},null,null,{"$f":"RANK(F35,$C35:$BF35)*F39","v":0},null,null,{"$f":"RANK(I35,$C35:$BF35)*I39","v":0},null,null,{"$f":"RANK(L35,$C35:$BF35)*L39","v":0},null,null,{"$f":"RANK(O35,$C35:$BF35)*O39","v":0},null,null,{"$f":"RANK(R35,$C35:$BF35)*R39","v":0},null,null,{"$f":"RANK(U35,$C35:$BF35)*U39","v":0},null,null,{"$f":"RANK(X35,$C35:$BF35)*X39","v":0},null,null,{"$f":"RANK(AA35,$C35:$BF35)*AA39","v":0},null,null,{"$f":"RANK(AD35,$C35:$BF35)*AD39","v":0},null,null,{"$f":"RANK(AG35,$C35:$BF35)*AG39","v":0},null,null,{"$f":"RANK(AJ35,$C35:$BF35)*AJ39","v":0},null,null,{"$f":"RANK(AM35,$C35:$BF35)*AM39","v":0},null,null,{"$f":"RANK(AP35,$C35:$BF35)*AP39","v":0},null,null,{"$f":"RANK(AS35,$C35:$BF35)*AS39","v":0},null,null,{"$f":"RANK(AV35,$C35:$BF35)*AV39","v":0},null,null,{"$f":"RANK(AY35,$C35:$BF35)*AY39","v":0},null,null,{"$f":"RANK(BB35,$C35:$BF35)*BB39","v":0},null,null,{"$f":"RANK(BE35,$C35:$BF35)*BE39","v":0}]
[null,null,{"$f":"SUM(C36:C38)","v":-999999900},null,null,{"$f":"SUM(F36:F38)","v":-999999900},null,null,{"$f":"SUM(I36:I38)","v":-999999900},null,null,{"$f":"SUM(L36:L38)","v":-999999900},null,null,{"$f":"SUM(O36:O38)","v":-999999900},null,null,{"$f":"SUM(R36:R38)","v":-999999900},null,null,{"$f":"SUM(U36:U38)","v":-999999900},null,null,{"$f":"SUM(X36:X38)","v":-999999900},null,null,{"$f":"SUM(AA36:AA38)","v":-999999900},null,null,{"$f":"SUM(AD36:AD38)","v":-999999900},null,null,{"$f":"SUM(AG36:AG38)","v":-999999900},null,null,{"$f":"SUM(AJ36:AJ38)","v":-999999998},null,null,{"$f":"SUM(AM36:AM38)","v":-999999998},null,null,{"$f":"SUM(AP36:AP38)","v":-999999998},null,null,{"$f":"SUM(AS36:AS38)","v":-999999998},null,null,{"$f":"SUM(AV36:AV38)","v":-999999998},null,null,{"$f":"SUM(AY36:AY38)","v":-999999900},null,null,{"$f":"SUM(BB36:BB38)","v":-9999998},null,null,{"$f":"SUM(BE36:BE38)","v":-9999998}]
[null,null,{"$f":"+D40","v":0},null,null,{"$f":"+G40","v":0},null,null,{"$f":"+J40","v":0},null,null,{"$f":"+M40","v":0},null,null,{"$f":"+P40","v":0},null,null,{"$f":"+S40","v":0},null,null,{"$f":"+V40","v":0},null,null,{"$f":"+Y40","v":0},null,null,{"$f":"+AB40","v":0},null,null,{"$f":"+AE40","v":0},null,null,{"$f":"+AH40","v":0},null,null,{"$f":"+AK40","v":0},null,null,{"$f":"+AN40","v":0},null,null,{"$f":"+AQ40","v":0},null,null,{"$f":"+AT40","v":0},null,null,{"$f":"+AW40","v":0},null,null,{"$f":"+AZ40","v":0},null,null,{"$f":"+BC40","v":0},null,null,{"$f":"+BF40","v":0}]
[null,null,{"$f":"+C41*100","v":100},null,null,{"$f":"+F41*100","v":100},null,null,{"$f":"+I41*100","v":100},null,null,{"$f":"+L41*100","v":100},null,null,{"$f":"+O41*100","v":100},null,null,{"$f":"+R41*100","v":100},null,null,{"$f":"+U41*100","v":100},null,null,{"$f":"+X41*100","v":100},null,null,{"$f":"+AA41*100","v":100},null,null,{"$f":"+AD41*100","v":100},null,null,{"$f":"+AG41*100","v":100},null,null,{"$f":"+AJ41*2","v":2},null,null,{"$f":"+AM41*2","v":2},null,null,{"$f":"+AP41*2","v":2},null,null,{"$f":"+AS41*2","v":2},null,null,{"$f":"+AV41*2","v":2},null,null,{"$f":"+AY41*100","v":100},null,null,{"$f":"+BB41*2","v":2},null,null,{"$f":"+BE41*2","v":2}]
[null,null,{"$f":"IF(D40-$A3/2<0,-1000000000,C40*C39*100000+C40)","v":-1000000000},null,null,{"$f":"IF(G40-$A3/2<0,-1000000000,F40*F39*100000+F40)","v":-1000000000},null,null,{"$f":"IF(J40-$A3/2<0,-1000000000,I40*I39*100000+I40)","v":-1000000000},null,null,{"$f":"IF(M40-$A3/2<0,-1000000000,L40*L39*100000+L40)","v":-1000000000},null,null,{"$f":"IF(P40-$A3/2<0,-1000000000,O40*O39*100000+O40)","v":-1000000000},null,null,{"$f":"IF(S40-$A3/2<0,-1000000000,R40*R39*100000+R40)","v":-1000000000},null,null,{"$f":"IF(V40-$A3/2<0,-1000000000,U40*U39*100000+U40)","v":-1000000000},null,null,{"$f":"IF(Y40-$A3/2<0,-1000000000,X40*X39*100000+X40)","v":-1000000000},null,null,{"$f":"IF(AB40-$A3/2<0,-1000000000,AA40*AA39*100000+AA40)","v":-1000000000},null,null,{"$f":"IF(AE40-$A3/2<0,-1000000000,AD40*AD39*100000+AD40)","v":-1000000000},null,null,{"$f":"IF(AH40-$A3/2<0,-1000000000,AG40*AG39*100000+AG40)","v":-1000000000},null,null,{"$f":"IF(AK40-$A3/2<0,-1000000000,AJ40*AJ39*100000+AJ40)","v":-1000000000},null,null,{"$f":"IF(AN40-$A3/2<0,-1000000000,AM40*AM39*100000+AM40)","v":-1000000000},null,null,{"$f":"IF(AQ40-$A3/2<0,-1000000000,AP40*AP39*100000+AP40)","v":-1000000000},null,null,{"$f":"IF(AT40-$A3/2<0,-1000000000,AS40*AS39*100000+AS40)","v":-1000000000},null,null,{"$f":"IF(AW40-$A3/2<0,-1000000000,AV40*AV39*100000+AV40)","v":-1000000000},null,null,{"$f":"IF(AZ40-$A3/2<0,-1000000000,AY40*AY39*100000+AY40)","v":-1000000000},null,null,{"$f":"IF(BC40-$A3/2<0,-10000000,BB40*BB39*100000+BB40)","v":-10000000},null,null,{"$f":"IF(BF40-$A3/2<0,-10000000,BE40*BE39*100000+BE40)","v":-10000000}]
["Classificats",{"$f":"SUM(C39:BE39)","v":0},{"$f":"IF(D40>=$A3/2,1,0)","v":0},null,null,{"$f":"IF(G40>=$A3/2,1,0)","v":0},null,null,{"$f":"IF(J40>=$A3/2,1,0)","v":0},null,null,{"$f":"IF(M40>=$A3/2,1,0)","v":0},null,null,{"$f":"IF(P40>=$A3/2,1,0)","v":0},null,null,{"$f":"IF(S40>=$A3/2,1,0)","v":0},null,null,{"$f":"IF(V40>=$A3/2,1,0)","v":0},null,null,{"$f":"IF(Y40>=$A3/2,1,0)","v":0},null,null,{"$f":"IF(AB40>=$A3/2,1,0)","v":0},null,null,{"$f":"IF(AE40>=$A3/2,1,0)","v":0},null,null,{"$f":"IF(AH40>=$A3/2,1,0)","v":0},null,null,{"$f":"IF(AK40>=$A3/2,1,0)","v":0},null,null,{"$f":"IF(AN40>=$A3/2,1,0)","v":0},null,null,{"$f":"IF(AQ40>=$A3/2,1,0)","v":0},null,null,{"$f":"IF(AT40>=$A3/2,1,0)","v":0},null,null,{"$f":"IF(AW40>=$A3/2,1,0)","v":0},null,null,{"$f":"IF(AZ40>=$A3/2,1,0)","v":0},null,null,{"$f":"IF(BC40>=$A3/2,1,0)","v":0},null,null,{"$f":"IF(BF40>=$A3/2,1,0)","v":0}]
[null,null,{"$f":"IF(SUM(C45:C240)<-1000,-100000000,SUM(C45:C240))","v":-100000000},{"$f":"COUNT(D45:D240)","v":0},null,{"$f":"IF(SUM(F45:F240)<-1000,-100000000,SUM(F45:F240))","v":-100000000},{"$f":"COUNT(G45:G240)","v":0},null,{"$f":"IF(SUM(I45:I240)<-1000,-100000000,SUM(I45:I240))","v":-100000000},{"$f":"COUNT(J45:J240)","v":0},null,{"$f":"IF(SUM(L45:L240)<-1000,-100000000,SUM(L45:L240))","v":-100000000},{"$f":"COUNT(M45:M240)","v":0},null,{"$f":"IF(SUM(O45:O240)<-1000,-100000000,SUM(O45:O240))","v":-100000000},{"$f":"COUNT(P45:P240)","v":0},null,{"$f":"IF(SUM(R45:R240)<-1000,-100000000,SUM(R45:R240))","v":-100000000},{"$f":"COUNT(S45:S240)","v":0},null,{"$f":"IF(SUM(U45:U240)<-1000,-100000000,SUM(U45:U240))","v":-100000000},{"$f":"COUNT(V45:V240)","v":0},null,{"$f":"IF(SUM(X45:X240)<-1000,-100000000,SUM(X45:X240))","v":-100000000},{"$f":"COUNT(Y45:Y240)","v":0},null,{"$f":"IF(SUM(AA45:AA240)<-1000,-100000000,SUM(AA45:AA240))","v":-100000000},{"$f":"COUNT(AB45:AB240)","v":0},null,{"$f":"IF(SUM(AD45:AD240)<-1000,-100000000,SUM(AD45:AD240))","v":-100000000},{"$f":"COUNT(AE45:AE240)","v":0},null,{"$f":"IF(SUM(AG45:AG240)<-1000,-100000000,SUM(AG45:AG240))","v":-100000000},{"$f":"COUNT(AH45:AH240)","v":0},null,{"$f":"IF(SUM(AJ45:AJ240)<-1000,-100000000,SUM(AJ45:AJ240))","v":-100000000},{"$f":"COUNT(AK45:AK240)","v":0},null,{"$f":"IF(SUM(AM45:AM240)<-1000,-100000000,SUM(AM45:AM240))","v":-100000000},{"$f":"COUNT(AN45:AN240)","v":0},null,{"$f":"IF(SUM(AP45:AP240)<-1000,-100000000,SUM(AP45:AP240))","v":-100000000},{"$f":"COUNT(AQ45:AQ240)","v":0},null,{"$f":"IF(SUM(AS45:AS240)<-1000,-100000000,SUM(AS45:AS240))","v":-100000000},{"$f":"COUNT(AT45:AT240)","v":0},null,{"$f":"IF(SUM(AV45:AV240)<-1000,-100000000,SUM(AV45:AV240))","v":-100000000},{"$f":"COUNT(AW45:AW240)","v":0},null,{"$f":"IF(SUM(AY45:AY240)<-1000,-100000000,SUM(AY45:AY240))","v":-100000000},{"$f":"COUNT(AZ45:AZ240)","v":0},null,{"$f":"IF(SUM(BB45:BB240)<-1000,-100000000,SUM(BB45:BB240))","v":-100000000},{"$f":"COUNT(BC45:BC240)","v":0},null,{"$f":"IF(SUM(BE45:BE240)<-1000,-100000000,SUM(BE45:BE240))","v":-100000000},{"$f":"COUNT(BF45:BF240)","v":0},null,null,"A"]
[null,null,{"$f":"+D41-E41","v":1},{"$f":"SUM(D45:D240)","v":0},{"$f":"SUM(E45:E240)","v":-1},{"$f":"+G41-H41","v":1},{"$f":"SUM(G45:G240)","v":0},{"$f":"SUM(H45:H240)","v":-1},{"$f":"+J41-K41","v":1},{"$f":"SUM(J45:J240)","v":0},{"$f":"SUM(K45:K240)","v":-1},{"$f":"+M41-N41","v":1},{"$f":"SUM(M45:M240)","v":0},{"$f":"SUM(N45:N240)","v":-1},{"$f":"+P41-Q41","v":1},{"$f":"SUM(P45:P240)","v":0},{"$f":"SUM(Q45:Q240)","v":-1},{"$f":"+S41-T41","v":1},{"$f":"SUM(S45:S240)","v":0},{"$f":"SUM(T45:T240)","v":-1},{"$f":"+V41-W41","v":1},{"$f":"SUM(V45:V240)","v":0},{"$f":"SUM(W45:W240)","v":-1},{"$f":"+Y41-Z41","v":1},{"$f":"SUM(Y45:Y240)","v":0},{"$f":"SUM(Z45:Z240)","v":-1},{"$f":"+AB41-AC41","v":1},{"$f":"SUM(AB45:AB240)","v":0},{"$f":"SUM(AC45:AC240)","v":-1},{"$f":"+AE41-AF41","v":1},{"$f":"SUM(AE45:AE240)","v":0},{"$f":"SUM(AF45:AF240)","v":-1},{"$f":"+AH41-AI41","v":1},{"$f":"SUM(AH45:AH240)","v":0},{"$f":"SUM(AI45:AI240)","v":-1},{"$f":"+AK41-AL41","v":1},{"$f":"SUM(AK45:AK240)","v":0},{"$f":"SUM(AL45:AL240)","v":-1},{"$f":"+AN41-AO41","v":1},{"$f":"SUM(AN45:AN240)","v":0},{"$f":"SUM(AO45:AO240)","v":-1},{"$f":"+AQ41-AR41","v":1},{"$f":"SUM(AQ45:AQ240)","v":0},{"$f":"SUM(AR45:AR240)","v":-1},{"$f":"+AT41-AU41","v":1},{"$f":"SUM(AT45:AT240)","v":0},{"$f":"SUM(AU45:AU240)","v":-1},{"$f":"+AW41-AX41","v":1},{"$f":"SUM(AW45:AW240)","v":0},{"$f":"SUM(AX45:AX240)","v":-1},{"$f":"+AZ41-BA41","v":1},{"$f":"SUM(AZ45:AZ240)","v":0},{"$f":"SUM(BA45:BA240)","v":-1},{"$f":"+BC41-BD41","v":1},{"$f":"SUM(BC45:BC240)","v":0},{"$f":"SUM(BD45:BD240)","v":-1},{"$f":"+BF41-BG41","v":1},{"$f":"SUM(BF45:BF240)","v":0},{"$f":"SUM(BG45:BG240)","v":-1},null,"B"]
[null,null,null,null,null,null,null,null,null,null,null,null,null,null,null,null,null,null,null,null,null,null,null,null,null,null,null,null,null,null,null,null,null,null,null,null,null,null,null,null,null,null,null,null,null,null,null,null,null,null,null,null,null,null,null,null,null,null,null,{"$f":"MAX(BI45:BI104)","v":0}]
[null,"Nº partida ","Pablo",null,null,"Pepe",null,null,"Jordi",null,null,"MªJosé",null,null,"Pol",null,null,"Sergi",null,null,"Carles",null,null,"Mariajo",null,null,"Iglesias",null,null,"Martín",null,null,"Xavi",null,null,"Salvadó",null,null,"Alfonso",null,null,"Taberner",null,null,"Goretti",null,null,"Jimmy",null,null,"Mercè",null,null,"Jorge",null,null,"Ester",null,null,{"$f":"COUNT(BH45:BH255)","v":0},"A","B","C"]
[null,"5 copes","Premi","Punts",null,"Premi","Punts",null,"Premi","Punts",null,"Premi","Punts",null,"Premi","Punts",null,"Premi","Punts",null,"Premi","Punts",null,"Premi","Punts",null,"Premi","Punts",null,"Premi","Punts",null,"Premi","Punts",null,"Premi","Punts",null,"Premi","Punts",null,"Premi","Punts",null,"Premi","Punts",null,"Premi","Punts",null,"Premi","Punts",null,"Premi","Punts",null,"Premi","Punts",null,"Data","Timba"]
[1,null,-10000,null,-1,-10000,null,-1,-10000,null,-1,-10000,null,-1,-10000,null,-1,-10000,null,-1,-10000,null,-1,-10000,null,-1,-10000,null,-1,-10000,null,-1,-10000,null,-1,-10000,null,-1,-10000,null,-1,-10000,null,-1,-10000,null,-1,-10000,null,-1,-10000,null,-1,-10000,null,-1,-10000,null,-1,null,null,{"$f":"+BE45+AJ45+AG45+AD45+AA45+X45+U45+R45+O45+L45+I45+F45+C45+AM45+AP45+AS45+AV45+AY45+BB45","v":-190000},0,-19,{"$f":"+BK45-BL45","v":19},{"$f":"COUNT(C45:BG45)/3","v":12.666666666666666},{"$f":"+BJ45/BN45","v":-15000}]
[{"$f":"+A45+1","v":2},null,null,null,null,null,null,null,null,null,null,null,null,null,null,null,null,null,null,null,null,null,null,null,null,null,null,null,null,null,null,null,null,null,null,null,null,null,null,null,null,null,null,null,null,null,null,null,null,null,null,null,null,null,null,null,null,null,null,null,null,0,0,0,{"$f":"+BK46-BL46","v":0},{"$f":"COUNT(C46:BG46)/3","v":0},{"$f":"+BJ46/BN46","v":{"$error":"#DIV/0!"}}]
[{"$f":"+A46+1","v":3},null,null,null,null,null,null,null,null,null,null,null,null,null,null,null,null,null,null,null,null,null,null,null,null,null,null,null,null,null,null,null,null,null,null,null,null,null,null,null,null,null,null,null,null,null,null,null,null,null,null,null,null,null,null,null,null,null,null,null,null,0,0,0,{"$f":"+BK47-BL47","v":0},{"$f":"COUNT(C47:BG47)/3","v":0},{"$f":"+BJ47/BN47","v":{"$error":"#DIV/0!"}}]
[4,null,null,null,null,null,null,null,null,null,null,null,null,null,null,null,null,null,null,null,null,null,null,null,null,null,null,null,null,null,null,null,null,null,null,null,null,null,null,null,null,null,null,null,null,null,null,null,null,null,null,null,null,null,null,null,null,null,null,null,null,0,0,0,{"$f":"+BK48-BL48","v":0},{"$f":"COUNT(C48:BG48)/3","v":0},{"$f":"+BJ48/BN48","v":{"$error":"#DIV/0!"}}]
[5]
[6]
[7]
[8]
[9]
[10]
[11]
[12]
[13]
[14]
[15]
[16]
[17]
[18]
[19]
[20]
[21]
[22]
[23]
[24]
[25]
[26]
[27]
[28]
[29]
[30]
[31]
[32]
[33]
[34]
[35]
[36]
[37]
[38]
[39]
[40]
[41]
[42]
[43]
[44]
[45]
[{"$f":"+A89+1","v":46}]
[47]
[48]
[49]
[50]
[51]
[52]
[53]
[54]
[55]
[56]
[57]
[58]
[59]
[60]
[61]
[62]
[63]
[64]
[65]
[66]
[67]
[68]
[69]
[70]
[71]
[72]
[{"$f":"+A116+1","v":73}]
[74]
[75]
[76]
[77]
[78]
[79]
[80]
[81]
[82]
[83]
[84]
[85]
[86]
[87]
[88]
[89]
[90]
[91]
[92]
[93]
[94]
[95]
[96]
[97]
[98]
[99]
[100]
[101]
[102]
[103]
[104]
[105]
[106]
[107]
[108]
[109]
[110]
[111]
[112]
[113]
[114]
[115]
[116]
[117]
[118]
[119]
[120]
[121]
[122]
[123]
[124]
[125]
[126]
[127]
[128]
[129]
[130]
[131]
[132]
[133]
[134]
[135]
[136]
[{"$f":"+A180+1","v":137}]
[{"$f":"+A181+1","v":138}]
[{"$f":"+A182+1","v":139}]
[{"$f":"+A183+1","v":140}]
[141]
[142]
[143]
[144]
[145]
[146]
[147]
[148]
[149]
[150]
[151]
[152]
[153]
[154]
[155]
[156]
[157]
[158]
[159]
[160]
[161]
[162]
[163]
[164]
[165]
[166]
[167]
[168]
[169]
[170]
[171]
[172]
[173]
[174]
[175]
[176]
[177]
[178]
[179]
[180]
[181]
[182]
[183]
[184]
[185]
[186]
[187]
[188]
[189]
[190]
[191]
[192]
[193]
[194]
[195]
[196]

{"sheet":"Poker D","index":34,"n_rows":128,"n_cols":35,"rows_kept":128,"cut":false,"hidden":false,"merged":[[38,24,38,25],[38,26,38,27],[38,28,38,29],[38,16,38,17],[38,18,38,19],[38,20,38,21],[38,22,38,23],[38,8,38,9],[38,10,38,11],[38,12,38,13],[38,14,38,15],[38,1,39,1],[38,2,38,3],[38,4,38,5],[38,6,38,7]]}
["POKER D"]
["Mes"]
[{"$f":"+GENERAL!B6","v":12},null,{"$f":"SUM(C5:C7)","v":-300000000}]
[null,null,"Premi","Punts","Partides","General"]
[1,"Mercè",{"$f":"+Y$36","v":-100000000},{"$f":"+Z$37","v":1E-4},{"$f":"+Z$36","v":0},{"$f":"+Y$22","v":0},{"$f":"IF(E5<A$3/2,-1,1)*8000+C5*100+D5+E5/100","v":-10000007999.999901}]
[2,"Carles",{"$f":"+O$36","v":-100000000},{"$f":"+P$37","v":1E-4},{"$f":"+P$36","v":0},{"$f":"+O$22","v":0},-10000007999.999901]
[3,"Jordi",{"$f":"+G$36","v":-100000000},{"$f":"+H$37","v":1E-4},{"$f":"+H$36","v":0},{"$f":"+G$22","v":0},-10000007999.999901]
[4,"Iglesias",{"$f":"+S$36","v":-100000000},{"$f":"+T$37","v":1E-4},{"$f":"+T$36","v":0},{"$f":"+S$22","v":0},-10000007999.999901]
[5,"Mariajo",{"$f":"+Q$36","v":-100000000},{"$f":"+R$37","v":1E-4},{"$f":"+R$36","v":0},{"$f":"+Q$22","v":0},-10000007999.999901]
[6,"Sergi",{"$f":"+M$36","v":-100000000},{"$f":"+N$37","v":1E-4},{"$f":"+N$36","v":0},{"$f":"+M$22","v":0},-10000007999.999901]
[7,"Xavi",{"$f":"+W$36","v":-100000000},{"$f":"+X$37","v":1E-4},{"$f":"+X$36","v":0},{"$f":"+W$22","v":0},-10000007999.999901]
[8,"Ester",{"$f":"+K$36","v":-100000000},{"$f":"+L$37","v":1E-4},{"$f":"+L$36","v":0},{"$f":"+K$22","v":0},-10000007999.999901]
[9,"Goretti",{"$f":"+C$36","v":-100000000},{"$f":"+D$37","v":1E-4},{"$f":"+D$36","v":0},{"$f":"+C$22","v":0},-10000007999.999901]
[10,"MªJosé",{"$f":"+I$36","v":-100000000},{"$f":"+J$37","v":1E-4},{"$f":"+J$36","v":0},{"$f":"+I$22","v":0},-10000007999.999901]
[11,"Marga",{"$f":"+AC$36","v":-100000000},{"$f":"+AD$37","v":1E-4},{"$f":"+AD$36","v":0},{"$f":"+AC$22","v":0},-10000007999.999901]
[12,"Pepe",{"$f":"+E$36","v":-100000000},{"$f":"+F$37","v":1E-4},{"$f":"+F$36","v":0},{"$f":"+E$22","v":0},-10000007999.999901]
[13,"Sylvain",{"$f":"+U$36","v":-100000000},{"$f":"+V$37","v":1E-4},{"$f":"+V$36","v":0},{"$f":"+U$22","v":0},-10000007999.999901]
[14,"Taberner",{"$f":"+AA$36","v":-100000000},{"$f":"+AB$37","v":1E-4},{"$f":"+AB$36","v":0},{"$f":"+AA$22","v":0},-10000007999.999901]
[]
[]
[]
[null,"General",{"$f":"+C23*C24","v":0},{"$f":"+D23*D24","v":0},0,0,{"$f":"+G23*G24","v":0},0,0,0,0,0,0,0,0,0,0,0,{"$f":"+S23*S24","v":0},0,0,0,0,0,{"$f":"+Y23*Y24","v":0},0,{"$f":"+AA23*AA24","v":0},{"$f":"+AB23*AB24","v":0},0,0]
[null,null,{"$f":"IF($B35>3,1,0)","v":0},{"$f":"IF($B35>3,1,0)","v":0},0,0,{"$f":"IF($B35>3,1,0)","v":0},0,0,0,0,0,0,0,0,0,0,0,0,0,0,0,0,0,0,0,{"$f":"IF($B35>3,1,0)","v":0},{"$f":"IF($B35>3,1,0)","v":0},0,0]
[null,null,{"$f":"MAX(C25:C29)","v":0},{"$f":"+D36","v":0},{"$f":"MAX(E25:E29)","v":0},{"$f":"+F36","v":0},{"$f":"MAX(G25:G29)","v":0},{"$f":"+H36","v":0},{"$f":"MAX(I25:I29)","v":0},{"$f":"+J36","v":0},{"$f":"MAX(K25:K29)","v":0},{"$f":"+L36","v":0},{"$f":"MAX(M25:M29)","v":0},{"$f":"+N36","v":0},{"$f":"MAX(O25:O29)","v":0},{"$f":"+P36","v":0},{"$f":"MAX(Q25:Q29)","v":0},{"$f":"+R36","v":0},{"$f":"MAX(S25:S29)","v":0},{"$f":"+T36","v":0},{"$f":"MAX(U25:U29)","v":0},{"$f":"+V36","v":0},{"$f":"MAX(W25:W29)","v":0},{"$f":"+X36","v":0},{"$f":"MAX(Y25:Y29)","v":0},{"$f":"+Z36","v":0},{"$f":"MAX(AA25:AA29)","v":0},{"$f":"+AB36","v":0},{"$f":"MAX(AC25:AC29)","v":0},{"$f":"+AD36","v":0}]
[null,null,{"$f":"IF(C$30=5,5,0)","v":0},null,{"$f":"IF(E$30=5,5,0)","v":0},null,{"$f":"IF(G$30=5,5,0)","v":0},null,{"$f":"IF(I$30=5,5,0)","v":0},null,{"$f":"IF(K$30=5,5,0)","v":0},null,{"$f":"IF(M$30=5,5,0)","v":0},null,{"$f":"IF(O$30=5,5,0)","v":0},null,{"$f":"IF(Q$30=5,5,0)","v":0},null,{"$f":"IF(S$30=5,5,0)","v":0},null,{"$f":"IF(U$30=5,5,0)","v":0},null,{"$f":"IF(W$30=5,5,0)","v":0},null,{"$f":"IF(Y$30=5,5,0)","v":0},null,{"$f":"IF(AA$30=5,5,0)","v":0},null,{"$f":"IF(AC$30=5,5,0)","v":0}]
[null,null,{"$f":"IF(C$30=4,10,0)","v":0},null,{"$f":"IF(E$30=4,10,0)","v":0},null,{"$f":"IF(G$30=4,10,0)","v":0},null,{"$f":"IF(I$30=4,10,0)","v":0},null,{"$f":"IF(K$30=4,10,0)","v":0},null,{"$f":"IF(M$30=4,10,0)","v":0},null,{"$f":"IF(O$30=4,10,0)","v":0},null,{"$f":"IF(Q$30=4,10,0)","v":0},null,{"$f":"IF(S$30=4,10,0)","v":0},null,{"$f":"IF(U$30=4,10,0)","v":0},null,{"$f":"IF(W$30=4,10,0)","v":0},null,{"$f":"IF(Y$30=4,10,0)","v":0},null,{"$f":"IF(AA$30=4,10,0)","v":0},null,{"$f":"IF(AC$30=4,10,0)","v":0}]
[null,null,{"$f":"IF(C$30=3,20,0)","v":0},null,{"$f":"IF(E$30=3,20,0)","v":0},null,{"$f":"IF(G$30=3,20,0)","v":0},null,{"$f":"IF(I$30=3,20,0)","v":0},null,{"$f":"IF(K$30=3,20,0)","v":0},null,{"$f":"IF(M$30=3,20,0)","v":0},null,{"$f":"IF(O$30=3,20,0)","v":0},null,{"$f":"IF(Q$30=3,20,0)","v":0},null,{"$f":"IF(S$30=3,20,0)","v":0},null,{"$f":"IF(U$30=3,20,0)","v":0},null,{"$f":"IF(W$30=3,20,0)","v":0},null,{"$f":"IF(Y$30=3,20,0)","v":0},null,{"$f":"IF(AA$30=3,20,0)","v":0},null,{"$f":"IF(AC$30=3,20,0)","v":0}]
[null,null,{"$f":"IF(C$30=2,40,0)","v":0},null,{"$f":"IF(E$30=2,40,0)","v":0},null,{"$f":"IF(G$30=2,40,0)","v":0},null,{"$f":"IF(I$30=2,40,0)","v":0},null,{"$f":"IF(K$30=2,40,0)","v":0},null,{"$f":"IF(M$30=2,40,0)","v":0},null,{"$f":"IF(O$30=2,40,0)","v":0},null,{"$f":"IF(Q$30=2,40,0)","v":0},null,{"$f":"IF(S$30=2,40,0)","v":0},null,{"$f":"IF(U$30=2,40,0)","v":0},null,{"$f":"IF(W$30=2,40,0)","v":0},null,{"$f":"IF(Y$30=2,40,0)","v":0},null,{"$f":"IF(AA$30=2,40,0)","v":0},null,{"$f":"IF(AC$30=2,40,0)","v":0}]
[null,null,{"$f":"IF(C$30=1,80,0)","v":0},null,{"$f":"IF(E$30=1,80,0)","v":0},null,{"$f":"IF(G$30=1,80,0)","v":0},null,{"$f":"IF(I$30=1,80,0)","v":0},null,{"$f":"IF(K$30=1,80,0)","v":0},null,{"$f":"IF(M$30=1,80,0)","v":0},null,{"$f":"IF(O$30=1,80,0)","v":0},null,{"$f":"IF(Q$30=1,80,0)","v":0},null,{"$f":"IF(S$30=1,80,0)","v":0},null,{"$f":"IF(U$30=1,80,0)","v":0},null,{"$f":"IF(W$30=1,80,0)","v":0},null,{"$f":"IF(Y$30=1,80,0)","v":0},null,{"$f":"IF(AA$30=1,80,0)","v":0},null,{"$f":"IF(AC$30=1,80,0)","v":0}]
[null,null,{"$f":"RANK(C31,$C31:$BF31)*C35","v":0},null,{"$f":"RANK(E31,$C31:$BF31)*E35","v":0},null,{"$f":"RANK(G31,$C31:$BF31)*G35","v":0},null,{"$f":"RANK(I31,$C31:$BF31)*I35","v":0},null,{"$f":"RANK(K31,$C31:$BF31)*K35","v":0},null,{"$f":"RANK(M31,$C31:$BF31)*M35","v":0},null,{"$f":"RANK(O31,$C31:$BF31)*O35","v":0},null,{"$f":"RANK(Q31,$C31:$BF31)*Q35","v":0},null,{"$f":"RANK(S31,$C31:$BF31)*S35","v":0},null,{"$f":"RANK(U31,$C31:$BF31)*U35","v":0},null,{"$f":"RANK(W31,$C31:$BF31)*W35","v":0},null,{"$f":"RANK(Y31,$C31:$BF31)*Y35","v":0},null,{"$f":"RANK(AA31,$C31:$BF31)*AA35","v":0},null,{"$f":"RANK(AC31,$C31:$BF31)*AC35","v":0}]
[null,null,{"$f":"SUM(C32:C34)","v":-100999999.98999999},null,{"$f":"SUM(E32:E34)","v":-100999999.98999999},null,{"$f":"SUM(G32:G34)","v":-100999999.98999999},null,{"$f":"SUM(I32:I34)","v":-100999999.98999999},null,{"$f":"SUM(K32:K34)","v":-100999999.98999999},null,{"$f":"SUM(M32:M34)","v":-100999999.98999999},null,{"$f":"SUM(O32:O34)","v":-100999999.98999999},null,{"$f":"SUM(Q32:Q34)","v":-100999999.98999999},null,{"$f":"SUM(S32:S34)","v":-100999999.98999999},null,{"$f":"SUM(U32:U34)","v":-100999999.98999999},null,{"$f":"SUM(W32:W34)","v":-100999999.98999999},null,{"$f":"SUM(Y32:Y34)","v":-100999999.98999999},null,{"$f":"SUM(AA32:AA34)","v":-100999999.98999999},null,{"$f":"SUM(AC32:AC34)","v":-100999999.98999999}]
[null,null,{"$f":"+D36","v":0},null,{"$f":"+F36","v":0},null,{"$f":"+H36","v":0},null,{"$f":"+J36","v":0},null,{"$f":"+L36","v":0},null,{"$f":"+N36","v":0},null,{"$f":"+P36","v":0},null,{"$f":"+R36","v":0},null,{"$f":"+T36","v":0},null,{"$f":"+V36","v":0},null,{"$f":"+X36","v":0},null,{"$f":"+Z36","v":0},null,{"$f":"+AB36","v":0},null,{"$f":"+AD36","v":0}]
[null,null,{"$f":"D37*100","v":0.01},null,{"$f":"F37*100","v":0.01},null,{"$f":"H37*100","v":0.01},null,{"$f":"J37*100","v":0.01},null,{"$f":"L37*100","v":0.01},null,{"$f":"N37*100","v":0.01},null,{"$f":"P37*100","v":0.01},null,{"$f":"R37*100","v":0.01},null,{"$f":"T37*100","v":0.01},null,{"$f":"V37*100","v":0.01},null,{"$f":"X37*100","v":0.01},null,{"$f":"Z37*100","v":0.01},null,{"$f":"AB37*100","v":0.01},null,{"$f":"AD37*100","v":0.01}]
[null,null,{"$f":"IF(C35=1,C36*C35*1000+C36,-1000000+C36)","v":-101000000},null,{"$f":"IF(E35=1,E36*E35*1000+E36,-1000000+E36)","v":-101000000},null,{"$f":"IF(G35=1,G36*G35*1000+G36,-1000000+G36)","v":-101000000},null,{"$f":"IF(I35=1,I36*I35*1000+I36,-1000000+I36)","v":-101000000},null,{"$f":"IF(K35=1,K36*K35*1000+K36,-1000000+K36)","v":-101000000},null,{"$f":"IF(M35=1,M36*M35*1000+M36,-1000000+M36)","v":-101000000},null,{"$f":"IF(O35=1,O36*O35*1000+O36,-1000000+O36)","v":-101000000},null,{"$f":"IF(Q35=1,Q36*Q35*1000+Q36,-1000000+Q36)","v":-101000000},null,{"$f":"IF(S35=1,S36*S35*1000+S36,-1000000+S36)","v":-101000000},null,{"$f":"IF(U35=1,U36*U35*1000+U36,-1000000+U36)","v":-101000000},null,{"$f":"IF(W35=1,W36*W35*1000+W36,-1000000+W36)","v":-101000000},null,{"$f":"IF(Y35=1,Y36*Y35*1000+Y36,-1000000+Y36)","v":-101000000},null,{"$f":"IF(AA35=1,AA36*AA35*1000+AA36,-1000000+AA36)","v":-101000000},null,{"$f":"IF(AC35=1,AC36*AC35*1000+AC36,-1000000+AC36)","v":-101000000}]
["Classificats",{"$f":"SUM(C35:AC35)","v":0},{"$f":"IF(D36>=$A3/2,1,0)","v":0},null,{"$f":"IF(F36>=$A3/2,1,0)","v":0},null,{"$f":"IF(H36>=$A3/2,1,0)","v":0},null,{"$f":"IF(J36>=$A3/2,1,0)","v":0},null,{"$f":"IF(L36>=$A3/2,1,0)","v":0},null,{"$f":"IF(N36>=$A3/2,1,0)","v":0},null,{"$f":"IF(P36>=$A3/2,1,0)","v":0},null,{"$f":"IF(R36>=$A3/2,1,0)","v":0},null,{"$f":"IF(T36>=$A3/2,1,0)","v":0},null,{"$f":"IF(V36>=$A3/2,1,0)","v":0},null,{"$f":"IF(X36>=$A3/2,1,0)","v":0},null,{"$f":"IF(Z36>=$A3/2,1,0)","v":0},null,{"$f":"IF(AB36>=$A3/2,1,0)","v":0},null,{"$f":"IF(AD36>=$A3/2,1,0)","v":0}]
[null,null,{"$f":"IF(SUM(C41:C213)<-1000,-100000000,SUM(C41:C213))","v":-100000000},{"$f":"COUNT(D41:D213)","v":0},{"$f":"IF(SUM(E41:E213)<-1000,-100000000,SUM(E41:E213))","v":-100000000},{"$f":"COUNT(F41:F213)","v":0},{"$f":"IF(SUM(G41:G213)<-1000,-100000000,SUM(G41:G213))","v":-100000000},{"$f":"COUNT(H41:H213)","v":0},{"$f":"IF(SUM(I41:I213)<-1000,-100000000,SUM(I41:I213))","v":-100000000},{"$f":"COUNT(J41:J213)","v":0},{"$f":"IF(SUM(K41:K213)<-1000,-100000000,SUM(K41:K213))","v":-100000000},{"$f":"COUNT(L41:L213)","v":0},{"$f":"IF(SUM(M41:M213)<-1000,-100000000,SUM(M41:M213))","v":-100000000},{"$f":"COUNT(N41:N213)","v":0},{"$f":"IF(SUM(O41:O213)<-1000,-100000000,SUM(O41:O213))","v":-100000000},{"$f":"COUNT(P41:P213)","v":0},{"$f":"IF(SUM(Q41:Q213)<-1000,-100000000,SUM(Q41:Q213))","v":-100000000},{"$f":"COUNT(R41:R213)","v":0},{"$f":"IF(SUM(S41:S213)<-1000,-100000000,SUM(S41:S213))","v":-100000000},{"$f":"COUNT(T41:T213)","v":0},{"$f":"IF(SUM(U41:U213)<-1000,-100000000,SUM(U41:U213))","v":-100000000},{"$f":"COUNT(V41:V213)","v":0},{"$f":"IF(SUM(W41:W213)<-1000,-100000000,SUM(W41:W213))","v":-100000000},{"$f":"COUNT(X41:X213)","v":0},{"$f":"IF(SUM(Y41:Y213)<-1000,-100000000,SUM(Y41:Y213))","v":-100000000},{"$f":"COUNT(Z41:Z213)","v":0},{"$f":"IF(SUM(AA41:AA213)<-1000,-100000000,SUM(AA41:AA213))","v":-100000000},{"$f":"COUNT(AB41:AB213)","v":0},{"$f":"IF(SUM(AC41:AC213)<-1000,-100000000,SUM(AC41:AC213))","v":-100000000},{"$f":"COUNT(AD41:AD213)","v":0}]
[null,null,null,{"$f":"IF(D36=0,0.0001,AVERAGE(D41:D128))","v":1E-4},null,{"$f":"IF(F36=0,0.0001,AVERAGE(F41:F128))","v":1E-4},null,{"$f":"IF(H36=0,0.0001,AVERAGE(H41:H128))","v":1E-4},null,{"$f":"IF(J36=0,0.0001,AVERAGE(J41:J128))","v":1E-4},null,{"$f":"IF(L36=0,0.0001,AVERAGE(L41:L128))","v":1E-4},null,{"$f":"IF(N36=0,0.0001,AVERAGE(N41:N128))","v":1E-4},null,{"$f":"IF(P36=0,0.0001,AVERAGE(P41:P128))","v":1E-4},null,{"$f":"IF(R36=0,0.0001,AVERAGE(R41:R128))","v":1E-4},null,{"$f":"IF(T36=0,0.0001,AVERAGE(T41:T128))","v":1E-4},null,{"$f":"IF(V36=0,0.0001,AVERAGE(V41:V128))","v":1E-4},null,{"$f":"IF(X36=0,0.0001,AVERAGE(X41:X128))","v":1E-4},null,{"$f":"IF(Z36=0,0.0001,AVERAGE(Z41:Z128))","v":1E-4},null,{"$f":"IF(AB36=0,0.0001,AVERAGE(AB41:AB128))","v":1E-4},null,{"$f":"IF(AD36=0,0.0001,AVERAGE(AD41:AD128))","v":1E-4}]
[null,null,null,null,null,null,null,null,null,null,null,null,null,null,null,null,null,null,null,null,null,null,null,null,null,null,null,null,null,null,{"$f":"MAX(AF41:AF100)","v":0}]
[null,"Comentaris","Goretti",null,"Pepe",null,"Jordi",null,"MªJosé",null,"Ester",null,"Sergi",null,"Carles",null,"Mariajo",null,"Iglesias",null,"Martín",null,"Xavi",null,"Mercè",null,"Taberner",null,"Marga",null,{"$f":"COUNT(AE41:AE128)","v":0},"A","B","C"]
[null,null,"Premi","Punts","Premi","Punts","Premi","Punts","Premi","Punts","Premi","Punts","Premi","Punts","Premi","Punts","Premi","Punts","Premi","Punts","Premi","Punts","Premi","Punts","Premi","Punts","Premi","Punts","Premi","Punts","Data","Timba"]
[1,null,-10000,null,-10000,null,-10000,null,-10000,null,-10000,null,-10000,null,-10000,null,-10000,null,-10000,null,-10000,null,-10000,null,-10000,null,-10000,null,-10000,null,null,null,{"$f":"+AC41+Y41+W41+U41+S41+Q41+O41+M41+K41+I41+G41+E41+C41","v":-130000},{"$f":"COUNT(C41:AD41)/2","v":7},{"$f":"+AG41/AH41","v":-18571.428571428572}]
[{"$f":"+A41+1","v":2},null,null,null,null,null,null,null,null,null,null,null,null,null,null,null,null,null,null,null,null,null,null,null,null,null,null,null,null,null,null,null,{"$f":"+AC42+Y42+W42+U42+S42+Q42+O42+M42+K42+I42+G42+E42+C42+AA42","v":0},0,{"$error":"#DIV/0!"}]
[{"$f":"+A42+1","v":3},null,null,null,null,null,null,null,null,null,null,null,null,null,null,null,null,null,null,null,null,null,null,null,null,null,null,null,null,null,null,null,0,0,{"$error":"#DIV/0!"}]
[4,null,null,null,null,null,null,null,null,null,null,null,null,null,null,null,null,null,null,null,null,null,null,null,null,null,null,null,null,null,null,null,0,0,{"$error":"#DIV/0!"}]
[5,null,null,null,null,null,null,null,null,null,null,null,null,null,null,null,null,null,null,null,null,null,null,null,null,null,null,null,null,null,null,null,0,0,{"$error":"#DIV/0!"}]
[6,null,null,null,null,null,null,null,null,null,null,null,null,null,null,null,null,null,null,null,null,null,null,null,null,null,null,null,null,null,null,null,0,0,{"$error":"#DIV/0!"}]
[7,null,null,null,null,null,null,null,null,null,null,null,null,null,null,null,null,null,null,null,null,null,null,null,null,null,null,null,null,null,null,null,0,0,{"$error":"#DIV/0!"}]
[8]
[9]
[{"$f":"+A49+1","v":10}]
[11]
[12]
[13]
[14]
[15]
[16]
[17]
[18]
[19]
[20]
[21]
[22]
[23]
[24]
[25]
[26]
[27]
[28]
[29]
[30]
[31]
[32]
[33]
[34]
[35]
[36]
[37]
[38]
[39]
[40]
[41]
[42]
[43]
[44]
[45]
[{"$f":"+A85+1","v":46}]
[47]
[48]
[49]
[50]
[51]
[52]
[53]
[54]
[55]
[56]
[57]
[58]
[59]
[60]
[61]
[62]
[63]
[64]
[65]
[66]
[67]
[68]
[69]
[70]
[71]
[72]
[{"$f":"+A112+1","v":73}]
[74]
[75]
[76]
[77]
[78]
[79]
[80]
[81]
[82]
[83]
[84]
[85]
[86]
[87]
[88]

{"sheet":"2110-2111 Wizard","index":35,"n_rows":75,"n_cols":53,"rows_kept":75,"cut":false,"hidden":false,"merged":[[1,36,1,37],[1,38,1,39],[1,40,1,41],[1,42,1,43],[1,44,1,45],[1,34,1,35],[1,12,1,13],[1,14,1,15],[1,16,1,17],[1,18,1,19],[1,20,1,21],[1,22,1,23],[1,24,1,25],[1,26,1,27],[1,28,1,29],[1,30,1,31],[1,32,1,33],[1,10,1,11],[1,1,2,1],[1,2,1,3],[1,4,1,5],[1,6,1,7],[1,8,1,9]]}
[]
[null,"Comentaris","Manolo",null,"Ana B",null,"Jordi",null,"Lleixà",null,"Cyber X",null,"Goretti",null,"Sergi",null,"Carles",null,"Mariajo",null,"Grau",null,"Òscar",null,"Marina",null,"Tito",null,"Nin",null,"Alfred",null,"Nancy",null,"Jeff",null,"Núria",null,"Gemma",null,"Sebas",null,"Tim",null,"Nogué",null,{"$f":"COUNT(AU4:AU859)","v":72},"A","B","C","cyberX2",{"$f":"SUM(AZ4:AZ859)","v":11.333333333333332}]
[null,null,"Premi","Punts","Premi","Punts","Premi","Punts","Premi","Punts","Premi","Punts","Premi","Punts","Premi","Punts","Premi","Punts","Premi","Punts","Premi","Punts","Premi","Punts","Premi","Punts","Premi","Punts","Premi","Punts","Premi","Punts","Premi","Punts","Premi","Punts","Premi","Punts","Premi","Punts","Premi","Punts","Premi","Punts","Premi","Punts","Data","Timba",null,null,null,"Excés cyber"]
[null,null,null,null,0,230,null,null,-10000,null,-5,155,null,null,null,null,null,null,null,null,null,null,-10000,null,null,null,-10,80,null,null,5,245,null,null,null,null,null,null,null,null,null,null,10,315,-10000,null,"2021-10-01",1,{"$f":"+AI4+AE4+Y4+W4+U4+S4+Q4+O4+M4+I4+G4+E4+C4+AG4+K4+AS4+AZ4+AA4+AC4+AK4+AM4+AO4+AQ4","v":-30000},{"$f":"COUNT(C4:AT4)/2","v":6.5}]
[null,null,null,null,-2,150,null,null,null,null,2,195,2,170,null,null,null,null,null,null,-10,90,null,null,null,null,null,null,null,null,6,210,null,null,null,null,null,null,null,null,null,null,null,null,null,null,"2021-10-01",1,0,5,{"$f":"+AW5/AX5","v":0},{"$f":"+K5","v":2}]
[null,null,null,null,-4,180,null,null,null,null,-1,195,6,230,null,null,null,null,null,null,10,290,null,null,null,null,null,null,null,null,null,null,null,null,null,null,null,null,-10,120,null,null,null,null,null,null,"2021-10-01",1,0,5,0,{"$f":"+K6","v":-1}]
[null,null,null,null,-5,280,null,null,null,null,-5,265,10,320,null,null,null,null,null,null,5,300,null,null,null,null,null,null,null,null,null,null,null,null,null,null,null,null,null,null,null,null,null,null,null,null,"2021-10-01",1,0,4,0,{"$f":"+K7","v":-5}]
[null,null,null,null,null,null,null,null,null,null,-4,240,-10,140,null,null,null,null,null,null,4,330,null,null,null,null,null,null,null,null,10,400,null,null,null,null,null,null,null,null,null,null,null,null,null,null,"2021-10-03",2,0,4]
[null,null,null,null,null,null,null,null,null,null,2.6666666666666665,210,-2,190,null,null,null,null,null,null,-8,140,null,null,null,null,null,null,null,null,2,200,null,null,null,null,null,null,null,null,null,null,null,null,null,null,"2021-10-03",2,-8.8817841970012523E-16,4,{"$f":"+AW9/AX9","v":-2.2204460492503131E-16},{"$f":"+K9*2","v":5.333333333333333}]
[null,null,null,null,-10,120,null,null,null,null,-2,172.5,null,null,6,195,10,285,null,null,-2,165,null,null,null,null,null,null,null,null,null,null,null,null,null,null,null,null,null,null,null,null,null,null,null,null,"2021-10-03",2,0,5,0,{"$f":"+K10","v":-2}]
[null,null,-6,125,-2,160,null,null,null,null,-2,175,null,null,null,null,10,330,null,null,2,250,null,null,null,null,null,null,null,null,null,null,null,null,null,null,null,null,null,null,null,null,null,null,null,null,"2021-10-03",2,0,5,0,{"$f":"+K11","v":-2}]
[null,null,null,null,-2.5,190,null,null,null,null,-6.25,175,null,null,null,null,10,280,null,null,5,270,null,null,null,null,null,null,null,null,null,null,null,null,null,null,null,null,null,null,null,null,null,null,null,null,"2021-10-03",2,0,4,0,{"$f":"+K12","v":-6.25}]
[null,"Valor deduit",null,null,-2,155,null,null,null,null,2,195,null,null,null,null,null,null,null,null,-6,150,null,null,null,null,null,null,null,null,null,null,2,170,null,null,null,null,null,null,null,null,null,null,null,null,"2021-10-05",3,0,4,0,{"$f":"+K13*2","v":4},"Criteri cyber fa 2, associo al anterior=195; Anna per mitjana; Nancy interpolant Ana i Cy i Cata interpolant els seu -2 i el -8"]
[null,null,null,null,-10,170,null,null,null,null,null,null,0,460,null,null,null,null,null,null,10,510,null,null,null,null,null,null,null,null,null,null,null,null,null,null,null,null,null,null,null,null,null,null,null,null,"2021-10-16",6,0,3]
[null,null,null,null,10,230,null,null,null,null,0,175,2,190,-2,150,null,null,null,null,-10,70,null,null,null,null,null,null,null,null,null,null,null,null,null,null,null,null,null,null,null,null,null,null,null,null,"2021-10-17",7,0,5,{"$f":"+AW15/AX15","v":0},{"$f":"+K15","v":0}]
[null,null,null,null,6,250,null,null,null,null,2,200,-6,140,null,null,-6,140,null,null,2,210,null,null,null,null,null,null,null,null,null,null,null,null,null,null,null,null,null,null,null,null,null,null,null,null,"2021-10-17",7,0,5,0,{"$f":"+K16","v":2}]
[null,null,null,null,-4,150,null,null,null,null,-3.3333333333333335,165,null,null,null,null,10,285,null,null,4,215,null,null,null,null,null,null,null,null,null,null,null,null,null,null,null,null,null,null,null,null,null,null,null,null,"2021-10-17",7,-8.8817841970012523E-16,4,-2.2204460492503131E-16,{"$f":"+K17*2","v":-6.666666666666667}]
[null,null,null,null,-10,160,null,null,null,null,6,283.33333333333331,null,null,-6,205,null,null,null,null,-2,235,null,null,null,null,null,null,null,null,null,null,null,null,null,null,null,null,null,null,null,null,null,null,null,null,"2021-10-17",7,0,4,0,{"$f":"+K18*2","v":12}]
[null,null,null,null,null,null,null,null,null,null,4.666666666666667,210,2,190,-10,130,null,null,null,null,null,null,null,null,null,null,null,null,null,null,null,null,null,null,null,null,null,null,null,null,-6,14,null,null,null,null,"2021-10-17",7,8.8817841970012523E-16,4,2.2204460492503131E-16,9.3333333333333339]
[null,null,null,null,null,null,null,null,null,null,1.3333333333333333,193.33333333333334,null,null,-6,75,null,null,null,null,null,null,null,null,-2,160,null,null,null,null,4,230,null,null,null,null,null,null,null,null,null,null,null,null,null,null,"2021-10-19",8,-4.4408920985006262E-16,4,-1.1102230246251565E-16,2.6666666666666665]
[null,null,null,null,-10,225,null,null,null,null,2,233.33333333333334,null,null,6,245,null,null,null,null,-2,225,null,null,null,null,null,null,null,null,null,null,null,null,null,null,null,null,null,null,null,null,null,null,null,null,"2021-10-21",9,0,4,0,4]
[null,null,null,null,-10,80,null,null,null,null,3.3333333333333335,195,null,null,2,170,null,null,null,null,-2,150,null,null,null,null,null,null,null,null,null,null,null,null,null,null,null,null,null,null,null,null,null,null,null,null,"2021-10-22",10,8.8817841970012523E-16,4,2.2204460492503131E-16,6.666666666666667]
[null,null,null,null,2,200,null,null,null,null,-6,140,null,null,null,null,null,null,null,null,10,300,null,null,null,null,null,null,null,null,null,null,null,null,6,225,null,null,null,null,null,null,null,null,null,null,"2021-10-22",10,0,4,0,-12]
[null,null,null,null,null,null,null,null,null,null,-7.5,170,null,null,null,null,null,null,null,null,null,null,null,null,0,220,null,null,null,null,10,320,null,null,5,250,null,null,null,null,null,null,null,null,null,null,"2021-10-24",11,0,4,0,{"$f":"+K24","v":-7.5}]
[null,null,null,null,null,null,null,null,null,null,0,180,null,null,8,220,null,null,null,null,-6,170,null,null,null,null,null,null,null,null,null,null,null,null,-2,175,null,null,null,null,null,null,null,null,null,null,"2021-10-24",11,{"$f":"+AI25+AE25+Y25+W25+U25+S25+Q25+O25+M25+I25+G25+E25+C25+AG25+K25+AS25+AZ25+AA25+AC25+AK25+AM25+AO25+AQ25","v":0},4,{"$f":"+AW25/AX25","v":0},{"$f":"+K25*2","v":0}]
[null,null,null,null,null,null,null,null,null,null,3.3333333333333335,211.66666666666666,null,null,null,null,null,null,null,null,-10,100,null,null,2,195,null,null,null,null,null,null,null,null,-2,190,null,null,null,null,null,null,null,null,null,null,"2021-10-30",13,{"$f":"+AI26+AE26+Y26+W26+U26+S26+Q26+O26+M26+I26+G26+E26+C26+AG26+K26+AS26+AZ26+AA26+AC26+AK26+AM26+AO26+AQ26","v":8.8817841970012523E-16},4,{"$f":"+AW26/AX26","v":2.2204460492503131E-16},{"$f":"+K26*2","v":6.666666666666667}]
[null,null,null,null,-4,230,null,null,null,null,4,300,10,520,null,null,null,null,null,null,-10,210,null,null,null,null,null,null,null,null,null,null,null,null,null,null,null,null,null,null,null,null,null,null,null,null,"2021-10-31",14,0,4]
[null,null,null,null,null,null,null,null,null,null,-2,211.66666666666666,null,null,null,null,10,245,null,null,null,null,null,null,6,235,null,null,null,null,null,null,null,null,-10,145,null,null,null,null,null,null,null,null,null,null,"2021-10-31",14,0,4,{"$f":"+AW28/AX28","v":0},{"$f":"+K28*2","v":-4}]
[null,null,null,null,-10,75,null,null,null,null,1,170,null,null,null,null,-6,90,null,null,null,null,null,null,10,190,null,null,null,null,null,null,null,null,4,180,null,null,null,null,null,null,null,null,null,null,"2021-10-31",14,0,5,{"$f":"+AW29/AX29","v":0},{"$f":"+K29","v":1}]
[null,null,null,null,null,null,null,null,null,null,-2.5,170,null,null,-5,220,10,410,null,null,0,230,null,null,null,null,null,null,null,null,null,null,null,null,null,null,null,null,null,null,null,null,null,null,null,null,"2021-10-31",14,0,4,0,-2.5]
[null,null,null,null,-2,222,null,null,null,null,-3,170,null,null,10,255,-6,155,null,null,null,null,null,null,null,null,null,null,null,null,null,null,null,null,4,225,null,null,null,null,null,null,null,null,null,null,"2021-10-31",14,0,5,0,-3]
[null,null,null,null,6,250,null,null,null,null,{"$f":"+(-10-6-2)/3","v":-6},{"$f":"+(120+100+150)/3","v":123.33333333333333},null,null,null,null,null,null,null,null,2,200,null,null,null,null,10,260,null,null,null,null,null,null,null,null,null,null,null,null,null,null,null,null,null,null,"2021-11-01",15,0,4,{"$f":"+AW32/AX32","v":0},{"$f":"+K32*2","v":-12}]
[null,null,null,null,null,null,null,null,null,null,{"$f":"+(-5+0)/2","v":-2.5},{"$f":"+(170+170)/2","v":170},null,null,5,360,10,425,null,null,-10,180,null,null,null,null,null,null,null,null,null,null,null,null,null,null,null,null,null,null,null,null,null,null,null,null,"2021-11-01",15,0,4,{"$f":"+AW33/AX33","v":0},{"$f":"+K33","v":-2.5}]
[null,null,null,null,2,145,null,null,null,null,{"$f":"+(6-6)/2","v":0},170,null,null,10,260,null,null,null,null,-10,105,null,null,null,null,null,null,null,null,null,null,null,null,null,null,null,null,null,null,null,null,-2,135,null,null,"2021-11-01",15,0,{"$f":"COUNT(C34:AT34)/2","v":5},0,0]
[null,null,null,null,null,null,null,null,null,null,{"$f":"+(6+10-8)/3","v":2.6666666666666665},{"$f":"+(250+280+105)/3","v":211.66666666666666},null,null,null,null,-2,200,null,null,null,null,null,null,null,null,2,240,null,null,-8,160,null,null,null,null,null,null,null,null,null,null,null,null,null,null,"2021-11-01",15,-8.8817841970012523E-16,{"$f":"COUNT(C35:AT35)/2","v":4},{"$f":"+AW35/AX35","v":-2.2204460492503131E-16},{"$f":"+K35*2","v":5.333333333333333}]
[null,null,-8,110,null,null,null,null,null,null,{"$f":"+(-2+2+6)/3","v":2},{"$f":"+(210+220+250)/3","v":226.66666666666666},null,null,null,null,10,310,null,null,null,null,null,null,null,null,null,null,-8,110,null,null,null,null,null,null,null,null,null,null,null,null,null,null,null,null,"2021-11-04",16,0,{"$f":"COUNT(C36:AT36)/2","v":4},{"$f":"+AW36/AX36","v":0},{"$f":"+K36*2","v":4}]
[null,null,6,200,null,null,null,null,null,null,{"$f":"+(2-6)/2","v":-2},{"$f":"+(160+140)/2","v":150},null,null,null,null,10,230,null,null,null,null,null,null,null,null,-2,150,-10,100,null,null,null,null,null,null,null,null,null,null,null,null,null,null,null,null,"2021-11-04",16,0,5,0,{"$f":"+K37","v":-2}]
[null,null,null,null,null,null,null,null,null,null,{"$f":"+(-4-4+6)/3","v":-0.66666666666666663},{"$f":"+(160+160+220)/3","v":180},null,null,null,null,10,310,null,null,null,null,null,null,null,null,-10,120,2,170,null,null,null,null,null,null,null,null,null,null,null,null,null,null,null,null,"2021-11-04",16,0,4,0,-1.3333333333333333]
[null,null,5,290,null,null,null,null,null,null,{"$f":"+(0-10)/2","v":-5},{"$f":"+(260+60)/2","v":160},null,null,null,null,10,300,null,null,null,null,null,null,null,null,null,null,-5,170,null,null,null,null,null,null,null,null,null,null,null,null,null,null,null,null,"2021-11-06",17,0,4,0,{"$f":"+K39","v":-5}]
[null,null,-2,140,null,null,null,null,null,null,{"$f":"+(-6+6+2)/3","v":0.66666666666666663},{"$f":"+(110+220+170)/3","v":166.66666666666666},null,null,null,null,10,270,null,null,null,null,null,null,null,null,null,null,-10,30,null,null,null,null,null,null,null,null,null,null,null,null,null,null,null,null,"2021-11-06",17,0,4,0,{"$f":"+K40*2","v":1.3333333333333333}]
[null,null,-2,200,null,null,null,null,null,null,{"$f":"+(-6+2-10)/3","v":-4.666666666666667},{"$f":"+(130+210+100)/3","v":146.66666666666666},6,240,null,null,null,null,null,null,10,280,null,null,null,null,null,null,null,null,null,null,null,null,null,null,null,null,null,null,null,null,null,null,null,null,"2021-11-07",18,-1.7763568394002505E-15,4,-4.4408920985006262E-16,-9.3333333333333339]
[null,null,null,null,6,230,null,null,null,null,{"$f":"+(6-10+6)/3","v":0.66666666666666663},{"$f":"+(230+130+230)/3","v":196.66666666666666},null,null,-2,210,null,null,null,null,null,null,null,null,null,null,-6,190,null,null,null,null,null,null,null,null,null,null,null,null,null,null,null,null,null,null,"2021-11-08",19,0,4,0,1.3333333333333333]
[null,null,null,null,null,null,null,null,null,null,{"$f":"+(10+2-10)/3","v":0.66666666666666663},{"$f":"+(245+185+165)/3","v":198.33333333333334},null,null,-6,170,6,210,null,null,null,null,null,null,null,null,null,null,null,null,-2,180,null,null,null,null,null,null,null,null,null,null,null,null,null,null,"2021-11-10",20,-2.2204460492503131E-16,4,-5.5511151231257827E-17,1.3333333333333333]
[null,null,2,180,null,null,null,null,null,null,{"$f":"+(10-10-6)/3","v":-2},{"$f":"+(280+100+140)/3","v":173.33333333333334},null,null,null,null,6,200,null,null,null,null,null,null,null,null,null,null,null,null,null,null,null,null,null,null,null,null,null,null,null,null,-2,160,null,null,"2021-11-12",21,0,4,0,-4]
[null,null,null,240,null,null,null,null,null,null,{"$f":"+(6+10-8)/3","v":2.6666666666666665},{"$f":"+(260+310+180)/3","v":250},null,null,null,null,2,240,null,null,null,null,null,null,null,null,-2,200,-8,180,null,null,null,null,null,null,null,null,null,null,null,null,null,null,null,null,"2021-11-12",21,0,4.5,0,5.333333333333333]
[null,null,-4,265,null,null,null,null,null,null,null,null,null,null,null,null,10,470,null,null,null,null,null,null,null,null,-10,170,4,270,null,null,null,null,null,null,null,null,null,null,null,null,null,null,null,null,"2021-11-13",22,0,4]
[null,null,6,265,null,null,null,null,null,null,{"$f":"+(10-2)/2","v":4},{"$f":"+(315+245)/2","v":280},null,null,null,null,2,250,null,null,null,null,null,null,null,null,null,null,-10,100,-6,185,null,null,null,null,null,null,null,null,null,null,null,null,null,null,"2021-11-13",22,0,5,{"$f":"+AW47/AX47","v":0},{"$f":"+K47","v":4}]
[null,null,4,210,-10,130,null,null,null,null,-4,170,null,null,null,null,null,null,null,null,10,310,null,null,null,null,null,null,null,null,null,null,null,null,null,null,null,null,null,null,null,null,null,null,null,null,"2021-11-14",23,0,4]
[null,null,-6,110,null,null,null,null,null,null,{"$f":"+(10-10)/2","v":0},{"$f":"+(260+80)/2","v":170},2,220,null,null,null,null,null,null,-2,140,null,null,null,null,6,230,null,null,null,null,null,null,null,null,null,null,null,null,null,null,null,null,null,null,"2021-11-15",24,0,5,{"$f":"+AW49/AX49","v":0},{"$f":"+K49","v":0}]
[null,null,-4,125,null,null,null,null,null,null,4,250,null,null,null,null,10,370,null,null,null,null,null,null,null,null,null,null,-10,90,null,null,null,null,null,null,null,null,null,null,null,null,null,null,null,null,"2021-11-15",24,0,4]
[null,null,null,null,null,null,null,null,null,null,{"$f":"+(2.5-5)/2","v":-1.25},{"$f":"+(305+320)/2","v":312.5},null,null,null,null,null,null,null,null,10,330,null,null,null,null,null,null,null,null,2.5,320,null,null,null,null,null,null,null,null,null,null,-10,255,null,null,"2021-11-16",25,0,4,{"$f":"+AW51/AX51","v":0},{"$f":"+K51","v":-1.25}]
[null,null,-6,200,null,null,null,null,null,null,{"$f":"+(6+2-6)/3","v":0.66666666666666663},{"$f":"+(220+200+210)/3","v":210},-6,200,null,null,null,null,null,null,10,250,null,null,null,null,null,null,null,null,null,null,null,null,null,null,null,null,null,null,null,null,null,null,null,null,"2021-11-16",25,-2.2204460492503131E-16,4,-5.5511151231257827E-17,{"$f":"+K52*2","v":1.3333333333333333}]
[null,null,0,200,10,285,null,null,null,null,{"$f":"+(-5-10)/2","v":-7.5},{"$f":"+(260+80)/2","v":170},null,null,null,null,null,null,null,null,5,260,null,null,null,null,null,null,null,null,null,null,null,null,null,null,null,null,null,null,null,null,null,null,null,null,"2021-11-16",25,0,4,0,{"$f":"+K53","v":-7.5}]
[null,null,-10,160,null,null,null,null,null,null,3.3333333330000001,236.66666670000001,null,null,null,null,null,null,null,null,0,220,null,null,null,null,null,null,null,null,null,null,null,null,null,null,null,null,null,null,null,null,0,220,null,null,"2021-11-18",26,0,4,2.2204499999999999E-16,6.6666666670000003]
[null,null,null,null,null,null,null,null,null,null,-3.3333333330000001,143.33333329999999,null,null,null,null,-2,230,null,null,null,null,null,null,6,250,null,null,null,null,null,null,null,null,6,250,null,null,null,null,null,null,null,null,null,null,"2021-11-19",27,0,4,-2.2204499999999999E-16,-6.6666666670000003]
[null,null,-4,230,-5,150,4,350,null,null,null,null,0,170,10,570,null,null,-10,0,5,310,null,null,null,null,null,null,null,null,null,null,null,null,null,null,10,320,null,null,-10,160,null,null,null,null,"2021-11-20",28,0,{"$f":"COUNT(C56:AT56)/2","v":9}]
[null,null,-2,150,null,null,null,null,null,null,{"$f":"+(6+2-6)/3","v":0.66666666666666663},{"$f":"+(190+130+200)/3","v":173.33333333333334},null,null,null,null,10,230,null,null,null,null,null,null,null,null,null,null,null,null,-10,120,null,null,null,null,null,null,null,null,null,null,null,null,null,null,"2021-11-20",29,-2.2204460492503131E-16,4,{"$f":"+AW57/AX57","v":-5.5511151231257827E-17},{"$f":"+K57*2","v":1.3333333333333333}]
[null,null,null,null,null,null,null,null,null,null,{"$f":"+(10-2-6)/3","v":0.66666666666666663},{"$f":"+(160+130+270)/3","v":186.66666666666666},null,null,null,null,6,260,null,null,null,null,null,null,null,null,null,null,-10,40,2,250,null,null,null,null,null,null,null,null,null,null,null,null,null,null,"2021-11-21",30,0,4,0,{"$f":"+K58*2","v":1.3333333333333333}]
[null,null,null,null,null,null,null,null,null,null,{"$f":"+(10+6+2)/3","v":6},{"$f":"+(260+240+280)/3","v":260},-10,150,-4,200,null,null,null,null,null,null,null,null,null,null,-4,200,null,null,null,null,null,null,null,null,null,null,null,null,null,null,null,null,null,null,"2021-11-22",31,0,4,0,{"$f":"+K59*2","v":12}]
[null,null,-4,240,null,null,null,null,null,null,{"$f":"+(6+2-4)/3","v":1.3333333333333333},{"$f":"+(240+250+250)/3","v":246.66666666666666},-10,110,10,290,null,null,null,null,null,null,null,null,null,null,null,null,null,null,null,null,null,null,null,null,null,null,null,null,null,null,null,null,null,null,"2021-11-22",31,-4.4408920985006262E-16,4,-1.1102230246251565E-16,{"$f":"+K60*2","v":2.6666666666666665}]
[null,null,8,230,null,null,null,null,null,null,{"$f":"+(8-2-6)/3","v":0},{"$f":"+(110+140+230)/3","v":160},-10,60,null,null,null,null,null,null,null,null,null,null,null,null,null,null,null,null,null,null,null,null,null,null,null,null,null,null,null,null,2,210,null,null,"2021-11-22",31,0,4,0,{"$f":"+K61*2","v":0}]
[null,null,null,null,null,null,null,null,null,null,{"$f":"+(0+10)/2","v":5},{"$f":"+(260+315)/2","v":287.5},null,null,null,null,null,null,null,null,null,null,null,null,-5,230,null,null,null,null,null,null,null,null,5,312,null,null,null,null,null,null,-10,220,null,null,"2021-11-22",32,0,4,0,{"$f":"+K62","v":5}]
[null,null,null,null,null,null,null,null,null,null,{"$f":"+(-6-2)/2","v":-4},{"$f":"+(170+165)/2","v":167.5},null,null,null,null,10,290,null,null,null,null,null,null,6,200,null,null,null,null,-10,120,null,null,2,190,null,null,null,null,null,null,null,null,null,null,"2021-11-22",32,0,5,0,{"$f":"+K63","v":-4}]
[null,null,null,null,null,null,null,null,null,null,{"$f":"+(6-10-6)/3","v":-3.3333333333333335},{"$f":"+(115+235+90)/3","v":146.66666666666666},null,null,null,null,2,220,null,null,null,null,null,null,null,null,null,null,null,null,-2,195,null,null,10,255,null,null,null,null,null,null,null,null,null,null,"2021-11-22",32,-8.8817841970012523E-16,4,-2.2204460492503131E-16,{"$f":"+K64*2","v":-6.666666666666667}]
[null,null,null,null,-4,365,null,null,null,null,10,415,null,null,null,null,null,null,null,null,4,410,null,null,null,null,null,null,null,null,null,null,null,null,null,null,null,null,null,null,null,null,-10,350,null,null,"2021-11-24",33,0,4]
[null,null,-6,150,2,190,null,null,null,null,{"$f":"+(-2-10+10)/3","v":-0.66666666666666663},{"$f":"+(170+140+260)/3","v":190},null,null,null,null,null,null,null,null,6,240,null,null,null,null,null,null,null,null,null,null,null,null,null,null,null,null,null,null,null,null,null,null,null,null,"2021-11-24",33,2.2204460492503131E-16,4,{"$f":"+AW66/AX66","v":5.5511151231257827E-17},{"$f":"+K66*2","v":-1.3333333333333333}]
[null,null,null,null,4,240,null,null,null,null,{"$f":"+(-6-2-10)/3","v":-6},{"$f":"+(165+210+85)/3","v":153.33333333333334},null,null,null,null,null,null,null,null,4,240,null,null,null,null,null,null,null,null,10,250,null,null,null,null,null,null,null,null,null,null,null,null,null,null,"2021-11-24",33,0,{"$f":"COUNT(C67:AT67)/2","v":4},0,-12]
[null,null,-10,80,null,null,null,null,null,null,{"$f":"+(-2+6+10)/3","v":4.666666666666667},{"$f":"+(160+200+220)/3","v":193.33333333333334},-6,130,null,null,null,null,null,null,2,170,null,null,null,null,null,null,null,null,null,null,null,null,null,null,null,null,null,null,null,null,null,null,null,null,"2021-11-25",34,{"$f":"+AI68+AE68+Y68+W68+U68+S68+Q68+O68+M68+I68+G68+E68+C68+AG68+K68+AS68+AZ68+AA68+AC68+AK68+AM68+AO68+AQ68","v":1.7763568394002505E-15},{"$f":"COUNT(C68:AT68)/2","v":4},4.4408920985006262E-16,9.3333333333333339]
[null,null,-6,170,2,220,null,null,null,null,{"$f":"+(10+6-10)/3","v":2},{"$f":"+(320+270+40)/3","v":210},null,null,null,null,null,null,null,null,-2,190,null,null,null,null,null,null,null,null,null,null,null,null,null,null,null,null,null,null,null,null,null,null,null,null,"2021-11-25",34,0,{"$f":"COUNT(C69:AT69)/2","v":4},0,4]
[null,null,null,null,-2,185,null,null,null,null,{"$f":"+(4-10)/2","v":-3},{"$f":"+(205+115)/2","v":160},null,null,-6,160,null,null,null,null,4,205,null,null,null,null,null,null,null,null,null,null,null,null,null,null,null,null,null,null,null,null,10,265,null,null,"2021-11-29",36,0,5,0,{"$f":"+K70","v":-3}]
[null,null,null,null,0,140,null,null,null,null,10,165,null,null,null,null,null,null,null,null,-10,125,null,null,null,null,null,null,null,null,null,null,null,null,null,null,-5,135,null,null,null,null,5,160,null,null,"2021-11-29",36,0,5]
[null,null,null,null,null,null,null,null,null,null,{"$f":"+(-2+8+2)/3","v":2.6666666666666665},{"$f":"+(190+220+200)/3","v":203.33333333333334},null,null,null,null,-6,170,null,null,null,null,null,null,null,null,-10,120,null,null,8,220,null,null,null,null,null,null,null,null,null,null,null,null,null,null,"2021-11-29",37,0,4,{"$f":"+AW72/AX72","v":0},{"$f":"+K72*2","v":5.333333333333333}]
[null,null,null,null,null,null,null,null,null,null,-10,80,null,null,null,null,6,220,null,null,null,null,null,null,-2,160,10,230,null,null,2,190,null,null,-6,120,null,null,null,null,null,null,null,null,null,null,"2021-11-29",37,0,6]
[null,null,null,null,10,340,null,null,null,null,{"$f":"+(0+5)/2","v":2.5},{"$f":"+(225+260)/2","v":242.5},null,null,-5,195,null,null,null,null,-10,170,null,null,null,null,null,null,null,null,null,null,null,null,null,null,null,null,null,null,null,null,null,null,null,null,"2021-11-30",38,0,4,{"$f":"+AW74/AX74","v":0},{"$f":"+K74","v":2.5}]
[null,null,null,null,-10,145,null,null,null,null,{"$f":"+(10+6+2)/3","v":6},{"$f":"+(285+280+270)/3","v":278.33333333333331},null,null,-6,220,null,null,null,null,-2,245,null,null,null,null,null,null,null,null,null,null,null,null,null,null,null,null,null,null,null,null,null,null,null,null,"2021-11-30",38,0,4,0,{"$f":"+K75*2","v":12}]