{"text_format":"1","workbook":"xlsx","n_sheets":34,"sheets":["GENERAL","Wizard","Cribbage","Podrida","King","Kul","Tarot","Cors","Buti","Pumba","4 Duros","Texas","Guinyot","Mus","Tute","Julepe","Black Jack","Omaha","Pocha","Buti3","Truc","Escombra","Tute cabrò","Canasta","1000km","Portugués","Poker C","Copo","Chinchón","9 19 29","Remigio","Whist","Manilla","Poker D"],"not_rendered":{"charts":0,"images":0,"macros":1,"external_links":0,"defined_names":12,"comments":0,"pivot_tables":0},"unopened":[],"bounds":{"document_bytes":16777216,"sheet_cells":100000,"rows_first":2000,"rows_last":500,"rows_between":2000,"halvings":0,"cell_chars":16384,"cell_head_chars":4096},"cells_cut":0,"cells_raw":0,"read":"whole","date_system":"1900"}

{"sheet":"GENERAL","index":0,"n_rows":747,"n_cols":69,"rows_kept":747,"cut":false,"hidden":false,"merged":[[545,39,547,39],[512,39,514,39],[515,39,517,39],[518,39,520,39],[521,39,523,39],[536,39,538,39],[539,39,541,39],[524,39,526,39],[542,39,544,39],[527,39,529,39],[530,39,532,39],[533,39,535,39],[492,51,492,53],[503,39,505,39],[492,39,492,41],[492,42,492,44],[506,39,508,39],[492,48,492,50],[492,45,492,47],[0,10,0,19],[0,0,0,2],[492,28,492,30],[509,39,511,39],[492,36,492,38],[492,10,492,12],[492,13,492,15],[48,0,48,11],[492,4,492,6],[492,22,492,24],[492,25,492,27],[492,7,492,9],[492,16,492,18],[492,19,492,21]]}
["CLUB CONSERVADOR DE CARTES I JOCS",null,null,null,null,null,null,null,null,null,"ORDRE DARRER MES"]
[null,"Temporada 2020-21",null,null,null,null,null,null,null,null,1,"Montse",5,"Ana",9,"Alfred",13,"Gemma",17,"Núria"]
[null,null,null,null,null,null,null,null,null,null,2,"Carles",6,"Manel",10,"Grau",14,"Jeff"]
[null,"Classificació general",null,null,null,null,null,null,null,null,3,"Sebas",7,"Jordi",11,"Mariajo",15,"Nin"]
[null,"OCTUBRE",null,null,null,null,null,null,null,null,4,"Sergi",8,"Marina",12,"Òscar",16,"Tim"]
[null,12,"Mesos"]
[{"$f":"MAX(D7:AK7)","v":388},"Timbes",null,{"$f":"+King!AO43","v":387},{"$f":"+Buti!BH42","v":373},{"$f":"+Pocha!AK40","v":0},{"$f":"+Julepe!AK39","v":0},{"$f":"+Pumba!BB40","v":363},{"$f":"+Cors!AE42","v":0},{"$f":"+Podrida!AK37","v":198},{"$f":"+Buti3!AS38","v":0},{"$f":"+Remigio!AY40","v":0},{"$f":"+Truc!AY39","v":0},{"$f":"+Texas!AM41","v":0},{"$f":"+Omaha!AG38","v":0},{"$f":"+'Black Jack'!AE38","v":0},{"$f":"+Chinchón!AP38","v":0},{"$f":"+Mus!AE38","v":0},{"$f":"+Kul!AI39","v":363},{"$f":"+Manilla!BH42","v":0},{"$f":"+Tute!BH42","v":0},{"$f":"+'4 Duros'!AM41","v":0},{"$f":"+'Poker C'!AE38","v":0},{"$f":"+Whist!BH42","v":0},{"$f":"+Wizard!AU44","v":388},{"$f":"+'Tute cabrò'!AE38","v":0},{"$f":"+Copo!AE38","v":0},{"$f":"+Escombra!AO43","v":0},{"$f":"+'1000km'!BB40","v":0},{"$f":"+Cribbage!BK45","v":388},{"$f":"+Canasta!BB40","v":0},{"$f":"+Portugués!AO43","v":0},{"$f":"+Tarot!BH42","v":363},{"$f":"+Guinyot!BB40","v":0}]
[{"$f":"SUM(D8:AK8)","v":1270},"Partides",null,{"$f":"+King!AO44","v":33},{"$f":"+Buti!BH43","v":1},{"$f":"+Pocha!AK41","v":0},{"$f":"+Julepe!AK40","v":0},{"$f":"+Pumba!BB41","v":1},{"$f":"+Cors!AE43","v":0},{"$f":"+Podrida!AK41","v":114},{"$f":"+Buti3!AS39","v":0},{"$f":"+Remigio!AY41","v":0},{"$f":"+Truc!AY40","v":0},{"$f":"+Texas!AM42","v":0},{"$f":"+Omaha!AG39","v":0},{"$f":"+'Black Jack'!AE39","v":0},{"$f":"+Chinchón!AP39","v":0},{"$f":"+Mus!AE39","v":0},{"$f":"+Kul!AI40","v":3},{"$f":"+Manilla!BH43","v":0},{"$f":"+Tute!BH43","v":0},{"$f":"+'4 Duros'!AM42","v":0},{"$f":"+'Poker C'!AE39","v":0},{"$f":"+Whist!BH43","v":0},{"$f":"+Wizard!AU45","v":783},{"$f":"+'Tute cabrò'!AE39","v":0},{"$f":"+Copo!AE39","v":0},{"$f":"+Escombra!AO44","v":0},{"$f":"+'1000km'!BB41","v":0},{"$f":"+Cribbage!BK46","v":334},{"$f":"+Canasta!BB41","v":0},{"$f":"+Portugués!AO44","v":0},{"$f":"+Tarot!BH43","v":1},{"$f":"+Guinyot!BB41","v":0}]
[null,null,null,{"$f":"IF(SUM(D11:D519)>0,1,0)","v":1},{"$f":"IF(SUM(E11:E519)>0,1,0)","v":0},{"$f":"IF(SUM(F11:F519)>0,1,0)","v":0},{"$f":"IF(SUM(G11:G529)>0,1,0)","v":1},{"$f":"IF(SUM(H11:H337)>0,1,0)","v":1},{"$f":"IF(SUM(I11:I339)>0,1,0)","v":1},null,null,{"$f":"IF(SUM(O11:O415)>0,1,0)","v":1},null,null,null,null,null,null,null,null,null,null,null,null,null,null,null,null,null,null,null,null,null,null,null,null,{"$f":"IF(SUM(AK11:AK427)>0,1,0)","v":0}]
[null,null,"GENERAL","KING","BOTIFARRA","POCHA","JULEPE","PUMBA","CORS","PODRIDA","BUTI 3","REMIGIO","TRUC","TEXAS","OMAHA","BLACK JACK","CHINCHÓN","MUS","CUL","MANILLA","TUTE","4 DUROS","POKER C","WHIST","WIZARD","TUTE CABRÒ","COPO","ESCOMBRA","1000 Km","CRIBBAGE","CANASTA","PORTUGUÈS","TAROT","GUINYOT",null,null,"Joc 8","PARTIDES","KING","BOTIFARRA","POCHA","JULEPE","PUMBA","CORS","PODRIDA","REMIGIO","BUTI 3","TRUC","TEXAS","OMAHA","BLACK JACK","CHINCHÓN","MUS","CUL","MANILLA","TUTE","4 DUROS","POKEC C","WHIST","WIZARD","TUTE CABRÒ","COPO","ESCOMBRA","1000 Km","CRIBBAGE","CANASTA","PORTUGUÈS","TAROT","GUINYOT"]
[{"$f":"RANK(C11,C$11:C$36)","v":1},"Carles",{"$f":"SUM(D11:AK11)+AL11/10000","v":220.03729999999999},{"$f":"+King!C27","v":80},{"$f":"+Buti!U26","v":0},{"$f":"+Pocha!O24","v":0},{"$f":"+Julepe!O23","v":0},{"$f":"+Pumba!U24","v":0},{"$f":"+Cors!O22","v":0},{"$f":"+Podrida!O$24","v":40},{"$f":"+Buti3!U22","v":0},{"$f":"+Remigio!U24","v":0},{"$f":"+Truc!U23","v":0},{"$f":"+Texas!O25","v":0},{"$f":"+Omaha!O22","v":0},{"$f":"+'Black Jack'!O22","v":0},{"$f":"+Chinchón!U22","v":0},{"$f":"+Mus!O22","v":0},{"$f":"+Kul!O23","v":0},{"$f":"+Manilla!U26","v":0},{"$f":"+Tute!U26","v":0},{"$f":"+'4 Duros'!O25","v":0},{"$f":"+'Poker C'!O22","v":0},{"$f":"+Whist!U26","v":0},{"$f":"+Wizard!Q28","v":80},{"$f":"+'Tute cabrò'!O22","v":0},{"$f":"+Copo!O22","v":0},{"$f":"+Escombra!C27","v":0},{"$f":"+'1000km'!U24","v":0},{"$f":"+Cribbage!U29","v":20},{"$f":"+Canasta!U24","v":0},{"$f":"+Portugués!C27","v":0},{"$f":"+Tarot!U26","v":0},{"$f":"+Guinyot!U24","v":0},null,null,null,{"$f":"SUM(AM11:BR11)","v":373},{"$f":"+King!D27","v":17},{"$f":"+Buti!V26","v":0},{"$f":"+Pocha!P24","v":0},{"$f":"+Julepe!P23","v":0},{"$f":"+Pumba!V24","v":0},{"$f":"+Cors!P22","v":0},{"$f":"+Podrida!P$24","v":23},{"$f":"+Remigio!V24","v":0},{"$f":"+Buti3!V22","v":0},{"$f":"+Truc!V23","v":0},{"$f":"+Texas!P25","v":0},{"$f":"+Omaha!P22","v":0},{"$f":"+'Black Jack'!P22","v":0},{"$f":"+Chinchón!V22","v":0},{"$f":"+Mus!P22","v":0},{"$f":"+Kul!P23","v":0},{"$f":"+Manilla!V26","v":0},{"$f":"+Tute!V26","v":0},{"$f":"+'4 Duros'!P25","v":0},{"$f":"+'Poker C'!P22","v":0},{"$f":"+Whist!V26","v":0},{"$f":"+Wizard!R28","v":312},{"$f":"+'Tute cabrò'!P22","v":0},{"$f":"+Copo!P22","v":0},{"$f":"+Escombra!D27","v":0},{"$f":"+'1000km'!Y24","v":0},{"$f":"+Cribbage!V29","v":21},{"$f":"+Canasta!Y24","v":0},{"$f":"+Portugués!AN27","v":0},{"$f":"+Tarot!Y26","v":0},{"$f":"+Guinyot!Y24","v":0}]
[2,"Jordi",170.04560000000001,{"$f":"+King!G27","v":40},{"$f":"+Buti!I26","v":0},{"$f":"+Pocha!G24","v":0},{"$f":"+Julepe!G23","v":0},{"$f":"+Pumba!I24","v":0},{"$f":"+Cors!G22","v":0},{"$f":"+Podrida!G$24","v":80},{"$f":"+Buti3!I22","v":0},{"$f":"+Remigio!I24","v":0},{"$f":"+Truc!I23","v":0},{"$f":"+Texas!G25","v":0},{"$f":"+Omaha!G22","v":0},{"$f":"+'Black Jack'!G22","v":0},{"$f":"+Chinchón!I22","v":0},{"$f":"+Mus!G22","v":0},{"$f":"+Kul!G23","v":0},{"$f":"+Manilla!I26","v":0},{"$f":"+Tute!I26","v":0},{"$f":"+'4 Duros'!G25","v":0},{"$f":"+'Poker C'!G22","v":0},{"$f":"+Whist!I26","v":0},{"$f":"+Wizard!G28","v":40},{"$f":"+'Tute cabrò'!G22","v":0},{"$f":"+Copo!G22","v":0},{"$f":"+Escombra!G27","v":0},{"$f":"+'1000km'!I24","v":0},{"$f":"+Cribbage!C29","v":10},{"$f":"+Canasta!I24","v":0},{"$f":"+Portugués!G27","v":0},{"$f":"+Tarot!I26","v":0},{"$f":"+Guinyot!I24","v":0},null,null,null,456,{"$f":"+King!H27","v":16},{"$f":"+Buti!J26","v":0},{"$f":"+Pocha!H24","v":0},{"$f":"+Julepe!H23","v":0},{"$f":"+Pumba!J24","v":0},{"$f":"+Cors!H22","v":0},{"$f":"+Podrida!H$24","v":53},{"$f":"+Remigio!J24","v":0},{"$f":"+Buti3!J22","v":0},{"$f":"+Truc!J23","v":0},{"$f":"+Texas!H25","v":0},{"$f":"+Omaha!H22","v":0},{"$f":"+'Black Jack'!H22","v":0},{"$f":"+Chinchón!J22","v":0},{"$f":"+Mus!H22","v":0},{"$f":"+Kul!H23","v":0},{"$f":"+Manilla!J26","v":0},{"$f":"+Tute!J26","v":0},{"$f":"+'4 Duros'!H25","v":0},{"$f":"+'Poker C'!H22","v":0},{"$f":"+Whist!J26","v":0},{"$f":"+Wizard!H28","v":265},{"$f":"+'Tute cabrò'!H22","v":0},{"$f":"+Copo!H22","v":0},{"$f":"+Escombra!H27","v":0},{"$f":"+'1000km'!V24","v":0},{"$f":"+Cribbage!D29","v":122},{"$f":"+Canasta!V24","v":0},{"$f":"+Portugués!D27","v":0},{"$f":"+Tarot!V26","v":0},{"$f":"+Guinyot!V24","v":0}]
[3,"Sebas",95.039100000000005,{"$f":"+King!U27","v":10},{"$f":"+Buti!F26","v":0},null,null,{"$f":"+Pumba!AJ24","v":0},{"$f":"+Cors!AC22","v":0},{"$f":"+Podrida!AC24","v":5},null,null,null,null,{"$f":"+Omaha!AE22","v":0},{"$f":"+'Black Jack'!AA22","v":0},null,null,{"$f":"+Kul!AC23","v":0},null,{"$f":"+Tute!F26","v":0},null,null,{"$f":"+Whist!F26","v":0},{"$f":"+Wizard!AO28","v":0},null,null,null,null,{"$f":"+Cribbage!AP29","v":80},null,null,null,null,null,null,null,391,{"$f":"+King!V27","v":17},{"$f":"+Buti!G26","v":0},null,null,{"$f":"+Pumba!AK24","v":0},{"$f":"+Cors!AD22","v":0},{"$f":"+Podrida!AD24","v":36},null,null,null,null,{"$f":"+Omaha!AF22","v":0},{"$f":"+'Black Jack'!AB22","v":0},null,null,{"$f":"+Kul!AD23","v":0},null,{"$f":"+Tute!G26","v":0},null,null,{"$f":"+Whist!G26","v":0},{"$f":"+Wizard!AP28","v":241},null,null,null,null,{"$f":"+Cribbage!AQ29","v":97}]
[4,"Gemma",40.079000000000001,{"$f":"+King!AC27","v":0},{"$f":"+Buti!AJ26","v":0},{"$f":"+Pocha!AG24","v":0},null,{"$f":"+Pumba!C24","v":0},null,{"$f":"+Podrida!AA$24","v":0},{"$f":"+Buti3!AP22","v":0},{"$f":"+Remigio!AM24","v":0},null,{"$f":"+Texas!AA25","v":0},null,null,{"$f":"+Chinchón!O22","v":0},{"$f":"+Mus!AA22","v":0},{"$f":"+Kul!Y23","v":0},{"$f":"+Manilla!AJ26","v":0},{"$f":"+Tute!AJ26","v":0},{"$f":"+'4 Duros'!AA25","v":0},null,{"$f":"+Whist!AJ26","v":0},{"$f":"+Wizard!AM28","v":0},null,null,null,{"$f":"+'1000km'!C24","v":0},{"$f":"+Cribbage!L29","v":40},{"$f":"+Canasta!C24","v":0},null,null,null,null,null,null,790,{"$f":"+King!AD27","v":14},{"$f":"+Buti!AK26","v":0},{"$f":"+Pocha!AH24","v":0},null,{"$f":"+Pumba!D24","v":0},null,{"$f":"+Podrida!AB$24","v":75},{"$f":"+Remigio!AN24","v":0},{"$f":"+Buti3!AQ22","v":0},null,{"$f":"+Texas!AB25","v":0},null,null,{"$f":"+Chinchón!P22","v":0},{"$f":"+Mus!AB22","v":0},{"$f":"+Kul!Z23","v":0},{"$f":"+Manilla!AK26","v":0},{"$f":"+Tute!AK26","v":0},{"$f":"+'4 Duros'!AB25","v":0},null,{"$f":"+Whist!AK26","v":0},{"$f":"+Wizard!AN28","v":472},null,null,null,{"$f":"+'1000km'!D24","v":0},{"$f":"+Cribbage!M29","v":229},{"$f":"+Canasta!D24","v":0}]
[5,"Núria",30.068899999999999,{"$f":"+King!AK27","v":5},{"$f":"+Buti!AA26","v":0},{"$f":"+Pocha!S24","v":0},{"$f":"+Julepe!S23","v":0},{"$f":"+Pumba!AA24","v":0},null,{"$f":"+Podrida!W$24","v":20},{"$f":"+Buti3!AA22","v":0},{"$f":"+Remigio!AA24","v":0},{"$f":"+Truc!AA23","v":0},{"$f":"+Texas!S25","v":0},null,{"$f":"+'Black Jack'!S22","v":0},{"$f":"+Chinchón!AA22","v":0},{"$f":"+Mus!S22","v":0},{"$f":"+Kul!E23","v":0},{"$f":"+Manilla!AA26","v":0},{"$f":"+Tute!AA26","v":0},{"$f":"+'4 Duros'!S25","v":0},null,{"$f":"+Whist!AA26","v":0},{"$f":"+Wizard!AK28","v":5},{"$f":"+'Tute cabrò'!S22","v":0},{"$f":"+Copo!S22","v":0},null,{"$f":"+'1000km'!AA24","v":0},{"$f":"+Cribbage!I29","v":0},null,null,null,null,null,null,null,689,{"$f":"+King!AL27","v":11},{"$f":"+Buti!AB26","v":0},{"$f":"+Pocha!T24","v":0},{"$f":"+Julepe!T23","v":0},{"$f":"+Pumba!AB24","v":0},null,{"$f":"+Podrida!X$24","v":56},{"$f":"+Remigio!AB24","v":0},{"$f":"+Buti3!AB22","v":0},{"$f":"+Truc!AB23","v":0},{"$f":"+Texas!T25","v":0},null,null,{"$f":"+Chinchón!AB22","v":0},{"$f":"+Mus!T22","v":0},{"$f":"+Kul!F23","v":0},{"$f":"+Manilla!AB26","v":0},{"$f":"+Tute!AB26","v":0},{"$f":"+'4 Duros'!T25","v":0},null,{"$f":"+Whist!AB26","v":0},{"$f":"+Wizard!AL28","v":437},{"$f":"+'Tute cabrò'!T22","v":0},{"$f":"+Copo!T22","v":0},null,{"$f":"+'1000km'!AB24","v":0},{"$f":"+Cribbage!J29","v":185}]
[6,"Grau",20.082899999999999,{"$f":"+King!AG27","v":0},{"$f":"+Buti!AV26","v":0},{"$f":"+Pocha!AC24","v":0},{"$f":"+Julepe!AI23","v":0},{"$f":"+Pumba!AY24","v":0},{"$f":"+Cors!C22","v":0},{"$f":"+Podrida!AG$24","v":0},{"$f":"+Buti3!AM22","v":0},null,{"$f":"+Truc!AV23","v":0},{"$f":"+Texas!K25","v":0},{"$f":"+Omaha!S22","v":0},null,null,{"$f":"+Mus!AC22","v":0},{"$f":"+Kul!K23","v":0},{"$f":"+Manilla!AV26","v":0},{"$f":"+Tute!C26","v":0},{"$f":"+'4 Duros'!C25","v":0},{"$f":"+'Poker C'!S22","v":0},null,{"$f":"+Wizard!U28","v":20},{"$f":"+'Tute cabrò'!E22","v":0},null,{"$f":"+Escombra!AG27","v":0},{"$f":"+'1000km'!AY24","v":0},{"$f":"+Cribbage!AV29","v":0},{"$f":"+Canasta!AY24","v":0},{"$f":"+Portugués!AG27","v":0},{"$f":"+Tarot!AV26","v":0},{"$f":"+Guinyot!AY24","v":0},null,null,null,829,{"$f":"+King!AH27","v":3},{"$f":"+Buti!AW26","v":0},{"$f":"+Pocha!AD24","v":0},{"$f":"+Julepe!AJ23","v":0},{"$f":"+Pumba!AZ24","v":0},{"$f":"+Cors!D22","v":0},{"$f":"+Podrida!AH$24","v":78},null,{"$f":"+Buti3!AN22","v":0},{"$f":"+Truc!AW23","v":0},{"$f":"+Texas!L25","v":0},{"$f":"+Omaha!T22","v":0},null,null,{"$f":"+Mus!AD22","v":0},{"$f":"+Kul!L23","v":0},{"$f":"+Manilla!AW26","v":0},{"$f":"+Tute!D26","v":0},{"$f":"+'4 Duros'!D25","v":0},{"$f":"+'Poker C'!T22","v":0},null,{"$f":"+Wizard!V28","v":584},{"$f":"+'Tute cabrò'!F22","v":0},null,{"$f":"+Escombra!AH27","v":0},{"$f":"+'1000km'!J24","v":0},{"$f":"+Cribbage!AW29","v":164},{"$f":"+Canasta!J24","v":0},{"$f":"+Portugués!H27","v":0},{"$f":"+Tarot!J26","v":0},{"$f":"+Guinyot!J24","v":0}]
[7,"Manolo",20.019400000000001,{"$f":"+King!AA27","v":20},{"$f":"+Buti!AM26","v":0},{"$f":"+Pocha!C24","v":0},{"$f":"+Julepe!C23","v":0},{"$f":"+Pumba!O24","v":0},{"$f":"+Cors!E22","v":0},{"$f":"+Podrida!Y$24","v":0},null,null,{"$f":"+Truc!F23","v":0},{"$f":"+Texas!U25","v":0},{"$f":"+Omaha!AA22","v":0},{"$f":"+'Black Jack'!E22","v":0},null,{"$f":"+Mus!E22","v":0},{"$f":"+Kul!I23","v":0},{"$f":"+Manilla!AM26","v":0},{"$f":"+Tute!AM26","v":0},null,null,{"$f":"+Whist!AM26","v":0},{"$f":"+Wizard!C28","v":0},{"$f":"+'Tute cabrò'!U22","v":0},null,{"$f":"+Escombra!S27","v":0},null,{"$f":"+Cribbage!AM29","v":0},null,{"$f":"+Portugués!E27","v":0},{"$f":"+Tarot!AM26","v":0},{"$f":"+Guinyot!O24","v":0},null,null,null,194,{"$f":"+King!AB27","v":15},{"$f":"+Buti!AN26","v":0},{"$f":"+Pocha!D24","v":0},{"$f":"+Julepe!D23","v":0},{"$f":"+Pumba!P24","v":0},{"$f":"+Cors!F22","v":0},{"$f":"+Podrida!Z$24","v":11},null,null,{"$f":"+Truc!G23","v":0},{"$f":"+Texas!V25","v":0},{"$f":"+Omaha!AB22","v":0},{"$f":"+'Black Jack'!F22","v":0},null,{"$f":"+Mus!F22","v":0},{"$f":"+Kul!J23","v":0},{"$f":"+Manilla!AN26","v":0},{"$f":"+Tute!AN26","v":0},{"$f":"+'4 Duros'!AF25","v":0},null,{"$f":"+Whist!AN26","v":0},{"$f":"+Wizard!D28","v":156},{"$f":"+'Tute cabrò'!V22","v":0},null,{"$f":"+Escombra!T27","v":0},null,{"$f":"+Cribbage!AN29","v":12},null,{"$f":"+Portugués!F27","v":0},{"$f":"+Tarot!AN26","v":0},{"$f":"+Guinyot!G24","v":0}]
[8,"Cyber X",10.0396,{"$f":"+King!Q27","v":0},{"$f":"+Buti!AD26","v":0},{"$f":"+Pocha!E24","v":0},null,null,{"$f":"+Cors!S22","v":0},{"$f":"+Podrida!E$24","v":10},null,{"$f":"+Remigio!L24","v":0},null,{"$f":"+Texas!E25","v":0},null,null,null,null,null,{"$f":"+Manilla!F26","v":0},null,null,{"$f":"+'Poker C'!E22","v":0},null,{"$f":"+Wizard!K28","v":0},{"$f":"+'Tute cabrò'!I22","v":0},null,{"$f":"+Escombra!E27","v":0},{"$f":"+'1000km'!F24","v":0},null,{"$f":"+Canasta!F24","v":0},null,null,null,null,null,null,396,{"$f":"+King!R27","v":11},{"$f":"+Buti!AE26","v":0},{"$f":"+Pocha!F24","v":0},null,null,{"$f":"+Cors!T22","v":0},{"$f":"+Podrida!F$24","v":10},{"$f":"+Remigio!M24","v":0},null,null,{"$f":"+Texas!F25","v":0},null,null,null,null,null,{"$f":"+Manilla!G26","v":0},null,null,{"$f":"+'Poker C'!F22","v":0},null,{"$f":"+Wizard!L28","v":375},{"$f":"+'Tute cabrò'!J22","v":0},null,{"$f":"+Escombra!F27","v":0},{"$f":"+'1000km'!AW24","v":0},null,{"$f":"+Canasta!AW24","v":0}]
[9,"Sergi",10.017099999999999,{"$f":"+King!M27","v":0},{"$f":"+Buti!R26","v":0},{"$f":"+Pocha!M24","v":0},{"$f":"+Julepe!M23","v":0},{"$f":"+Pumba!R24","v":0},{"$f":"+Cors!M22","v":0},{"$f":"+Podrida!M$24","v":0},{"$f":"+Buti3!R22","v":0},{"$f":"+Remigio!R24","v":0},{"$f":"+Truc!R23","v":0},{"$f":"+Texas!M25","v":0},{"$f":"+Omaha!M22","v":0},{"$f":"+'Black Jack'!M22","v":0},{"$f":"+Chinchón!R22","v":0},{"$f":"+Mus!M22","v":0},{"$f":"+Kul!M23","v":0},{"$f":"+Manilla!R26","v":0},{"$f":"+Tute!R26","v":0},{"$f":"+'4 Duros'!M25","v":0},{"$f":"+'Poker C'!M22","v":0},{"$f":"+Whist!R26","v":0},{"$f":"+Wizard!O28","v":10},{"$f":"+'Tute cabrò'!M22","v":0},{"$f":"+Copo!M22","v":0},{"$f":"+Escombra!M27","v":0},{"$f":"+'1000km'!R24","v":0},{"$f":"+Cribbage!F29","v":0},{"$f":"+Canasta!R24","v":0},{"$f":"+Portugués!M27","v":0},{"$f":"+Tarot!R26","v":0},{"$f":"+Guinyot!R24","v":0},null,null,null,171,{"$f":"+King!N27","v":2},{"$f":"+Buti!S26","v":0},{"$f":"+Pocha!N24","v":0},{"$f":"+Julepe!N23","v":0},{"$f":"+Pumba!S24","v":0},{"$f":"+Cors!N22","v":0},{"$f":"+Podrida!N$24","v":1},{"$f":"+Remigio!S24","v":0},{"$f":"+Buti3!S22","v":0},{"$f":"+Truc!S23","v":0},{"$f":"+Texas!N25","v":0},{"$f":"+Omaha!N22","v":0},{"$f":"+'Black Jack'!N22","v":0},{"$f":"+Chinchón!S22","v":0},{"$f":"+Mus!N22","v":0},{"$f":"+Kul!N23","v":0},{"$f":"+Manilla!S26","v":0},{"$f":"+Tute!S26","v":0},{"$f":"+'4 Duros'!N25","v":0},{"$f":"+'Poker C'!N22","v":0},{"$f":"+Whist!S26","v":0},{"$f":"+Wizard!P28","v":163},{"$f":"+'Tute cabrò'!N22","v":0},{"$f":"+Copo!N22","v":0},{"$f":"+Escombra!N27","v":0},null,{"$f":"+Cribbage!G29","v":5},{"$f":"+Canasta!S24","v":0},{"$f":"+Portugués!N27","v":0},{"$f":"+Tarot!S26","v":0},{"$f":"+Guinyot!AK24","v":0}]
[10,"Nogué",5.0557999999999996,{"$f":"+King!Y27","v":0},{"$f":"+Buti!AP26","v":0},null,null,{"$f":"+Pumba!AM24","v":0},null,{"$f":"+Podrida!AE24","v":0},null,{"$f":"+Remigio!AP24","v":0},null,{"$f":"+Texas!AC25","v":0},{"$f":"+Omaha!K22","v":0},null,{"$f":"+Chinchón!F22","v":0},{"$f":"+Mus!U22","v":0},{"$f":"+Kul!AE23","v":0},{"$f":"+Manilla!AP26","v":0},{"$f":"+Tute!AP26","v":0},{"$f":"+'4 Duros'!AC25","v":0},null,{"$f":"+Whist!AP26","v":0},{"$f":"+Wizard!AS28","v":0},{"$f":"+'Tute cabrò'!AC22","v":0},null,{"$f":"+Escombra!AC27","v":0},null,{"$f":"+Cribbage!R29","v":5},null,null,null,null,null,null,null,558,{"$f":"+King!Z27","v":9},{"$f":"+Buti!AQ26","v":0},null,null,{"$f":"+Pumba!AN24","v":0},null,{"$f":"+Podrida!AF24","v":65},{"$f":"+Remigio!AQ24","v":0},null,null,{"$f":"+Texas!AD25","v":0},{"$f":"+Omaha!L22","v":0},null,{"$f":"+Chinchón!G22","v":0},{"$f":"+Mus!V22","v":0},{"$f":"+Kul!AF23","v":0},{"$f":"+Manilla!AQ26","v":0},{"$f":"+Tute!AQ26","v":0},{"$f":"+'4 Duros'!AD25","v":0},null,{"$f":"+Whist!AQ26","v":0},{"$f":"+Wizard!AT28","v":234},{"$f":"+'Tute cabrò'!AD22","v":0},null,{"$f":"+Escombra!AD27","v":0},{"$f":"+'1000km'!AE24","v":0},{"$f":"+Cribbage!S29","v":250}]
[11,"Ana B.",3.0499999999999999E-2,{"$f":"+King!S27","v":0},{"$f":"+Buti!C26","v":0},null,null,{"$f":"+Pumba!F24","v":0},null,{"$f":"+Podrida!Q24","v":0},{"$f":"+Buti3!F22","v":0},null,{"$f":"+Truc!AJ23","v":0},null,null,{"$f":"+'Black Jack'!C22","v":0},null,null,{"$f":"+Kul!C23","v":0},{"$f":"+Manilla!C26","v":0},null,null,null,{"$f":"+Whist!C26","v":0},{"$f":"+Wizard!E28","v":0},null,null,null,null,{"$f":"+Cribbage!AG29","v":0},null,null,null,{"$f":"+Guinyot!F24","v":0},null,null,null,305,{"$f":"+King!T27","v":0},{"$f":"+Buti!D26","v":0},null,null,{"$f":"+Pumba!G24","v":0},null,{"$f":"+Podrida!R24","v":24},null,{"$f":"+Buti3!G22","v":0},{"$f":"+Truc!AK23","v":0},null,null,{"$f":"+'Black Jack'!D22","v":0},null,null,{"$f":"+Kul!D23","v":0},{"$f":"+Manilla!D26","v":0},null,null,null,{"$f":"+Whist!D26","v":0},{"$f":"+Wizard!F28","v":268},null,null,null,null,{"$f":"+Cribbage!AH29","v":13}]
[12,"Nin",1.5299999999999999E-2,{"$f":"+King!AE27","v":0},null,null,null,{"$f":"+Pumba!L24","v":0},{"$f":"+Cors!U22","v":0},{"$f":"+Podrida!U$24","v":0},null,null,null,null,null,null,null,null,{"$f":"+Kul!AA23","v":0},null,null,null,null,null,{"$f":"+Wizard!AC28","v":0},null,null,null,null,{"$f":"+Cribbage!BE29","v":0},null,null,{"$f":"+Tarot!AY26","v":0},null,null,null,null,153,{"$f":"+King!AF27","v":16},null,null,null,{"$f":"+Pumba!M24","v":0},{"$f":"+Cors!V22","v":0},{"$f":"+Podrida!V$24","v":12},null,null,null,null,null,null,null,null,{"$f":"+Kul!AB23","v":0},null,null,null,null,null,{"$f":"+Wizard!AD28","v":113},null,null,null,null,{"$f":"+Cribbage!BF29","v":12}]
[13,"Tito",9.7999999999999997E-3,{"$f":"+King!K27","v":0},{"$f":"+Buti!BB26","v":0},null,{"$f":"+Julepe!AG23","v":0},{"$f":"+Pumba!AV24","v":0},{"$f":"+Cors!I22","v":0},{"$f":"+Podrida!K$24","v":0},null,null,{"$f":"+Truc!AM23","v":0},{"$f":"+Texas!AI25","v":0},{"$f":"+Omaha!C22","v":0},null,null,null,{"$f":"+Kul!W23","v":0},{"$f":"+Manilla!BB26","v":0},null,{"$f":"+'4 Duros'!AI25","v":0},null,null,{"$f":"+Wizard!AA28","v":0},null,{"$f":"+Copo!E22","v":0},null,{"$f":"+'1000km'!AV24","v":0},{"$f":"+Cribbage!BB29","v":0},{"$f":"+Canasta!AV24","v":0},null,null,null,null,null,null,98,{"$f":"+King!L27","v":0},{"$f":"+Buti!BC26","v":0},null,{"$f":"+Julepe!AH23","v":0},{"$f":"+Pumba!AW24","v":0},{"$f":"+Cors!J22","v":0},{"$f":"+Podrida!L$24","v":0},null,null,{"$f":"+Truc!AN23","v":0},{"$f":"+Texas!AJ25","v":0},{"$f":"+Omaha!D22","v":0},null,null,null,{"$f":"+Kul!X23","v":0},{"$f":"+Manilla!BC26","v":0},null,null,null,null,{"$f":"+Wizard!AB28","v":98},null,{"$f":"+Copo!F22","v":0},null,null,{"$f":"+Cribbage!BC29","v":0}]
[14,"Òscar",4.1000000000000003E-3,{"$f":"+King!W27","v":0},{"$f":"+Buti!AG26","v":0},{"$f":"+Pocha!W24","v":0},{"$f":"+Julepe!W23","v":0},{"$f":"+Pumba!AG24","v":0},{"$f":"+Cors!W22","v":0},null,{"$f":"+Buti3!AG22","v":0},{"$f":"+Remigio!AG24","v":0},{"$f":"+Truc!AG23","v":0},{"$f":"+Texas!W25","v":0},{"$f":"+Omaha!W22","v":0},{"$f":"+'Black Jack'!W22","v":0},{"$f":"+Chinchón!AG22","v":0},{"$f":"+Mus!W22","v":0},null,{"$f":"+Manilla!AG26","v":0},{"$f":"+Tute!AG26","v":0},{"$f":"+'4 Duros'!W25","v":0},{"$f":"+'Poker C'!W22","v":0},{"$f":"+Whist!AG26","v":0},{"$f":"+Wizard!W28","v":0},{"$f":"+'Tute cabrò'!W22","v":0},{"$f":"+Copo!W22","v":0},{"$f":"+Escombra!W27","v":0},{"$f":"+'1000km'!AG24","v":0},{"$f":"+Cribbage!O29","v":0},null,null,null,null,null,null,null,41,{"$f":"+King!X27","v":4},{"$f":"+Buti!AH26","v":0},{"$f":"+Pocha!X24","v":0},{"$f":"+Julepe!X23","v":0},{"$f":"+Pumba!AH24","v":0},{"$f":"+Cors!X22","v":0},null,{"$f":"+Remigio!AH24","v":0},{"$f":"+Buti3!AH22","v":0},{"$f":"+Truc!AH23","v":0},{"$f":"+Texas!X25","v":0},{"$f":"+Omaha!X22","v":0},{"$f":"+'Black Jack'!X22","v":0},{"$f":"+Chinchón!AH22","v":0},{"$f":"+Mus!X22","v":0},null,{"$f":"+Manilla!AH26","v":0},{"$f":"+Tute!AH26","v":0},{"$f":"+'4 Duros'!X25","v":0},{"$f":"+'Poker C'!X22","v":0},{"$f":"+Whist!AH26","v":0},{"$f":"+Wizard!X28","v":34},{"$f":"+'Tute cabrò'!X22","v":0},{"$f":"+Copo!X22","v":0},{"$f":"+Escombra!X27","v":0},null,{"$f":"+Cribbage!P29","v":3}]
[15,"Goretti",3.5999999999999999E-3,{"$f":"+King!AI27","v":0},{"$f":"+Buti!AS26","v":0},{"$f":"+Pocha!K24","v":0},{"$f":"+Julepe!AC23","v":0},{"$f":"+Pumba!AS24","v":0},{"$f":"+Cors!K22","v":0},null,{"$f":"+Buti3!C22","v":0},{"$f":"+Remigio!O24","v":0},{"$f":"+Truc!AP23","v":0},{"$f":"+Texas!AG25","v":0},{"$f":"+Omaha!AC22","v":0},{"$f":"+'Black Jack'!K22","v":0},{"$f":"+Chinchón!X22","v":0},{"$f":"+Mus!C22","v":0},null,{"$f":"+Manilla!AS26","v":0},{"$f":"+Tute!AV26","v":0},{"$f":"+'4 Duros'!AG25","v":0},{"$f":"+'Poker C'!C22","v":0},{"$f":"+Whist!AV26","v":0},{"$f":"+Wizard!M28","v":0},{"$f":"+'Tute cabrò'!K22","v":0},{"$f":"+Copo!C22","v":0},{"$f":"+Escombra!AI27","v":0},{"$f":"+'1000km'!AS24","v":0},{"$f":"+Cribbage!AS29","v":0},{"$f":"+Canasta!AS24","v":0},{"$f":"+Portugués!AI27","v":0},{"$f":"+Tarot!AS26","v":0},{"$f":"+Guinyot!AS24","v":0},null,null,null,36,{"$f":"+King!AJ27","v":0},{"$f":"+Buti!AT26","v":0},{"$f":"+Pocha!L24","v":0},{"$f":"+Julepe!AD23","v":0},{"$f":"+Pumba!AT24","v":0},{"$f":"+Cors!L22","v":0},null,{"$f":"+Remigio!P24","v":0},{"$f":"+Buti3!D22","v":0},{"$f":"+Truc!AQ23","v":0},{"$f":"+Texas!AH25","v":0},{"$f":"+Omaha!AD22","v":0},{"$f":"+'Black Jack'!L22","v":0},{"$f":"+Chinchón!Y22","v":0},{"$f":"+Mus!D22","v":0},null,{"$f":"+Manilla!AT26","v":0},{"$f":"+Tute!AW26","v":0},{"$f":"+'4 Duros'!AH25","v":0},{"$f":"+'Poker C'!D22","v":0},{"$f":"+Whist!AW26","v":0},{"$f":"+Wizard!N28","v":31},{"$f":"+'Tute cabrò'!L22","v":0},{"$f":"+Copo!D22","v":0},{"$f":"+Escombra!AJ27","v":0},{"$f":"+'1000km'!AT24","v":0},{"$f":"+Cribbage!AT29","v":5},{"$f":"+Canasta!M24","v":0},{"$f":"+Portugués!L27","v":0},{"$f":"+Portugués!AR27","v":0},{"$f":"+Guinyot!AT24","v":0}]
[16,"Nancy",3.3E-3,null,null,null,{"$f":"+Julepe!K23","v":0},null,null,null,null,{"$f":"+Remigio!X24","v":0},null,null,null,null,null,null,null,null,null,null,null,null,{"$f":"+Wizard!AG28","v":0},null,null,null,{"$f":"+'1000km'!AM24","v":0},null,null,null,null,null,null,null,null,33,null,null,null,{"$f":"+Julepe!L23","v":0},null,null,null,{"$f":"+Remigio!Y24","v":0},null,null,null,null,null,null,null,null,null,null,null,null,null,{"$f":"+Wizard!AH28","v":33}]
[17,"Alfred",1.9E-3,null,null,null,null,null,null,null,null,null,null,null,null,null,null,null,null,null,null,null,null,null,{"$f":"+Wizard!AE28","v":0},null,null,null,null,{"$f":"+Cribbage!BH29","v":0},null,null,null,null,null,null,null,19,null,null,null,null,null,null,null,null,null,null,null,null,null,null,null,null,null,null,null,null,null,{"$f":"+Wizard!AF28","v":19},null,null,null,null,{"$f":"+Cribbage!BI29","v":0}]
[18,"Tim",1.6000000000000001E-3,null,null,{"$f":"+Pocha!Y24","v":0},{"$f":"+Julepe!AA23","v":0},null,null,null,null,{"$f":"+Remigio!AS24","v":0},{"$f":"+Truc!O23","v":0},null,null,null,null,null,null,{"$f":"+Manilla!BE26","v":0},null,{"$f":"+'4 Duros'!AE25","v":0},{"$f":"+'Poker C'!K22","v":0},null,{"$f":"+Wizard!AQ28","v":0},null,null,null,null,null,null,null,null,null,null,null,null,16,null,null,{"$f":"+Pocha!Z24","v":0},{"$f":"+Julepe!AB23","v":0},null,null,null,{"$f":"+Remigio!AT24","v":0},null,{"$f":"+Truc!P23","v":0},null,null,null,null,null,null,{"$f":"+Manilla!BF26","v":0},null,null,{"$f":"+'Poker C'!L22","v":0},null,{"$f":"+Wizard!AR28","v":16}]
[19,"Jeff",1.2999999999999999E-3,null,{"$f":"+Buti!AY26","v":0},{"$f":"+Pocha!AE24","v":0},{"$f":"+Julepe!Y23","v":0},{"$f":"+Pumba!AP24","v":0},{"$f":"+Cors!Y22","v":0},null,{"$f":"+Buti3!AJ22","v":0},{"$f":"+Remigio!AJ24","v":0},{"$f":"+Truc!C23","v":0},{"$f":"+Texas!Y25","v":0},{"$f":"+Omaha!Y22","v":0},{"$f":"+'Black Jack'!Y22","v":0},{"$f":"+Chinchón!AJ22","v":0},{"$f":"+Mus!Y22","v":0},null,{"$f":"+Manilla!AY26","v":0},{"$f":"+Tute!AY26","v":0},{"$f":"+'4 Duros'!Y25","v":0},{"$f":"+'Poker C'!Y22","v":0},{"$f":"+Whist!AY26","v":0},{"$f":"+Wizard!AI28","v":0},{"$f":"+'Tute cabrò'!Y22","v":0},{"$f":"+Copo!Y22","v":0},{"$f":"+Escombra!Y27","v":0},{"$f":"+'1000km'!AP24","v":0},{"$f":"+Cribbage!AY29","v":0},{"$f":"+Canasta!AP24","v":0},{"$f":"+Portugués!Y27","v":0},null,null,null,null,null,13,null,{"$f":"+Buti!AZ26","v":0},{"$f":"+Pocha!AF24","v":0},{"$f":"+Julepe!Z23","v":0},{"$f":"+Pumba!AQ24","v":0},{"$f":"+Cors!Z22","v":0},null,{"$f":"+Remigio!AK24","v":0},{"$f":"+Buti3!AK22","v":0},{"$f":"+Truc!D23","v":0},{"$f":"+Texas!Z25","v":0},{"$f":"+Omaha!Z22","v":0},{"$f":"+'Black Jack'!Z22","v":0},{"$f":"+Chinchón!AK22","v":0},{"$f":"+Mus!Z22","v":0},null,{"$f":"+Manilla!AZ26","v":0},{"$f":"+Tute!AZ26","v":0},{"$f":"+'4 Duros'!Z25","v":0},{"$f":"+'Poker C'!Z22","v":0},{"$f":"+Whist!AZ26","v":0},{"$f":"+Wizard!AJ28","v":4},{"$f":"+'Tute cabrò'!Z22","v":0},{"$f":"+Copo!Z22","v":0},{"$f":"+Escombra!Z27","v":0},{"$f":"+'1000km'!G24","v":0},{"$f":"+Cribbage!AZ29","v":9}]
[20,"Marina",1.1000000000000001E-3,null,null,null,{"$f":"+Julepe!E23","v":0},null,{"$f":"+Cors!AA22","v":0},null,null,null,null,{"$f":"+Texas!AE25","v":0},{"$f":"+Omaha!E22","v":0},null,null,null,null,null,null,{"$f":"+'4 Duros'!AK25","v":0},{"$f":"+'Poker C'!AA22","v":0},null,{"$f":"+Wizard!Y28","v":0},{"$f":"+'Tute cabrò'!AA22","v":0},{"$f":"+Copo!K22","v":0},{"$f":"+Escombra!AE27","v":0},null,null,null,null,null,{"$f":"+Guinyot!AJ24","v":0},null,null,null,11,null,null,null,{"$f":"+Julepe!F23","v":0},null,{"$f":"+Cors!AB22","v":0},null,null,null,null,{"$f":"+Texas!AF25","v":0},{"$f":"+Omaha!F22","v":0},{"$f":"+'Black Jack'!T22","v":0},null,null,null,null,null,{"$f":"+'4 Duros'!AL25","v":0},{"$f":"+'Poker C'!AB22","v":0},null,{"$f":"+Wizard!Z28","v":11},{"$f":"+'Tute cabrò'!AB22","v":0},{"$f":"+Copo!L22","v":0},{"$f":"+Escombra!AF27","v":0},{"$f":"+'1000km'!M24","v":0},null,null,null,null,{"$f":"+Guinyot!M24","v":0}]
[21,"Mariajo",8.9999999999999998E-4,{"$f":"+King!AM27","v":0},{"$f":"+Buti!X26","v":0},{"$f":"+Pocha!Q24","v":0},{"$f":"+Julepe!Q23","v":0},{"$f":"+Pumba!X24","v":0},{"$f":"+Cors!Q22","v":0},{"$f":"+Podrida!AI$24","v":0},{"$f":"+Buti3!X22","v":0},{"$f":"+Remigio!C24","v":0},{"$f":"+Truc!X23","v":0},{"$f":"+Texas!Q25","v":0},{"$f":"+Omaha!Q22","v":0},{"$f":"+'Black Jack'!Q22","v":0},{"$f":"+Chinchón!C22","v":0},{"$f":"+Mus!Q22","v":0},{"$f":"+Kul!Q23","v":0},{"$f":"+Manilla!X26","v":0},{"$f":"+Tute!X26","v":0},{"$f":"+'4 Duros'!Q25","v":0},{"$f":"+'Poker C'!Q22","v":0},{"$f":"+Whist!X26","v":0},{"$f":"+Wizard!S28","v":0},{"$f":"+'Tute cabrò'!Q22","v":0},{"$f":"+Copo!Q22","v":0},{"$f":"+Escombra!AM27","v":0},{"$f":"+'1000km'!X24","v":0},{"$f":"+Cribbage!X29","v":0},{"$f":"+Canasta!X24","v":0},{"$f":"+Portugués!AM27","v":0},{"$f":"+Tarot!X26","v":0},{"$f":"+Guinyot!X24","v":0},null,null,null,9,{"$f":"+King!AN27","v":2},{"$f":"+Buti!Y26","v":0},{"$f":"+Pocha!R24","v":0},{"$f":"+Julepe!R23","v":0},{"$f":"+Pumba!Y24","v":0},{"$f":"+Cors!R22","v":0},{"$f":"+Podrida!AJ$24","v":1},{"$f":"+Remigio!D24","v":0},{"$f":"+Buti3!Y22","v":0},{"$f":"+Truc!Y23","v":0},{"$f":"+Texas!R25","v":0},{"$f":"+Omaha!R22","v":0},{"$f":"+'Black Jack'!R22","v":0},{"$f":"+Chinchón!D22","v":0},{"$f":"+Mus!R22","v":0},{"$f":"+Kul!R23","v":0},{"$f":"+Manilla!Y26","v":0},{"$f":"+Tute!Y26","v":0},{"$f":"+'4 Duros'!R25","v":0},{"$f":"+'Poker C'!R22","v":0},{"$f":"+Whist!Y26","v":0},{"$f":"+Wizard!T28","v":6},{"$f":"+'Tute cabrò'!R22","v":0},{"$f":"+Copo!R22","v":0},{"$f":"+Escombra!AN27","v":0},null,{"$f":"+Cribbage!Y29","v":0},{"$f":"+Canasta!AZ24","v":0},{"$f":"+Portugués!AH27","v":0},{"$f":"+Tarot!AW26","v":0},{"$f":"+Guinyot!P24","v":0}]
[22,"Anna P.",2.9999999999999997E-4,{"$f":"+King!O27","v":0},null,{"$f":"+Pocha!AI24","v":0},{"$f":"+Julepe!AE23","v":0},null,null,{"$f":"+Podrida!S$24","v":0},null,{"$f":"+Remigio!AV24","v":0},null,{"$f":"+Texas!AK25","v":0},null,null,null,null,{"$f":"+Kul!S23","v":0},null,null,{"$f":"+'4 Duros'!K25","v":0},null,null,null,null,null,null,null,{"$f":"+Cribbage!AJ29","v":0},null,null,null,null,null,null,null,3,{"$f":"+King!P27","v":0},null,{"$f":"+Pocha!AJ24","v":0},{"$f":"+Julepe!AF23","v":0},null,null,{"$f":"+Podrida!T$24","v":3},{"$f":"+Remigio!AW24","v":0},null,null,{"$f":"+Texas!AL25","v":0},null,null,null,null,{"$f":"+Kul!T23","v":0},null,null,{"$f":"+'4 Duros'!L25","v":0},null,null,null,null,null,null,{"$f":"+'1000km'!AQ24","v":0},{"$f":"+Cribbage!AK29","v":0}]
[22,"Rosa M.",2.9999999999999997E-4,{"$f":"+King!E27","v":0},{"$f":"+Buti!L26","v":0},null,null,null,null,{"$f":"+Podrida!C$24","v":0},null,{"$f":"+Remigio!F24","v":0},{"$f":"+Truc!AS23","v":0},null,null,{"$f":"+'Black Jack'!AC22","v":0},{"$f":"+Chinchón!AM22","v":0},null,{"$f":"+Kul!AG23","v":0},null,null,{"$f":"+'4 Duros'!E25","v":0},{"$f":"+'Poker C'!AC22","v":0},null,null,null,{"$f":"+Copo!AC22","v":0},null,null,{"$f":"+Cribbage!AA29","v":0},null,null,null,null,null,null,null,3,{"$f":"+King!F27","v":0},{"$f":"+Buti!M26","v":0},null,null,null,null,{"$f":"+Podrida!D$24","v":3},{"$f":"+Remigio!G24","v":0},null,{"$f":"+Truc!AT23","v":0},null,null,{"$f":"+'Black Jack'!AD22","v":0},{"$f":"+Chinchón!AN22","v":0},null,{"$f":"+Kul!AH23","v":0},null,null,{"$f":"+'4 Duros'!F25","v":0},{"$f":"+'Poker C'!AD22","v":0},null,null,null,{"$f":"+Copo!AD22","v":0},null,{"$f":"+'1000km'!AZ24","v":0},{"$f":"+Cribbage!AB29","v":0},{"$f":"+Canasta!AT24","v":0},{"$f":"+Portugués!AJ27","v":0},{"$f":"+Tarot!AT26","v":0},{"$f":"+Guinyot!AZ24","v":0}]
[22,"Joan",2.9999999999999997E-4,{"$f":"+King!I27","v":0},null,{"$f":"+Pocha!I24","v":0},{"$f":"+Julepe!I23","v":0},null,null,{"$f":"+Podrida!I$24","v":0},{"$f":"+Buti3!L22","v":0},null,{"$f":"+Truc!L23","v":0},{"$f":"+Texas!I25","v":0},{"$f":"+Omaha!I22","v":0},{"$f":"+'Black Jack'!I22","v":0},{"$f":"+Chinchón!L22","v":0},{"$f":"+Mus!I22","v":0},{"$f":"+Kul!U23","v":0},{"$f":"+Manilla!L26","v":0},{"$f":"+Tute!L26","v":0},{"$f":"+'4 Duros'!I25","v":0},{"$f":"+'Poker C'!I22","v":0},{"$f":"+Whist!L26","v":0},null,null,null,null,null,{"$f":"+Cribbage!AD29","v":0},null,null,null,null,null,null,null,3,{"$f":"+King!J27","v":0},null,{"$f":"+Pocha!J24","v":0},{"$f":"+Julepe!J23","v":0},null,null,{"$f":"+Podrida!J$24","v":3},null,{"$f":"+Buti3!M22","v":0},{"$f":"+Truc!M23","v":0},{"$f":"+Texas!J25","v":0},{"$f":"+Omaha!J22","v":0},{"$f":"+'Black Jack'!J22","v":0},{"$f":"+Chinchón!M22","v":0},{"$f":"+Mus!J22","v":0},{"$f":"+Kul!V23","v":0},{"$f":"+Manilla!M26","v":0},{"$f":"+Tute!M26","v":0},{"$f":"+'4 Duros'!J25","v":0},{"$f":"+'Poker C'!J22","v":0},{"$f":"+Whist!M26","v":0},null,null,null,null,{"$f":"+'1000km'!S24","v":0},{"$f":"+Cribbage!AE29","v":0},{"$f":"+Canasta!AQ24","v":0},{"$f":"+Portugués!Z27","v":0},{"$f":"+Tarot!AZ26","v":0},{"$f":"+Guinyot!S24","v":0}]
[25,"Lleixà",1E-4,null,{"$f":"+Buti!O26","v":0},{"$f":"+Pocha!AA24","v":0},null,null,null,null,{"$f":"+Buti3!O22","v":0},null,null,{"$f":"+Texas!C25","v":0},{"$f":"+Omaha!U22","v":0},null,null,{"$f":"+Mus!K22","v":0},null,{"$f":"+Manilla!O26","v":0},{"$f":"+Tute!O26","v":0},null,{"$f":"+'Poker C'!U22","v":0},{"$f":"+Whist!O26","v":0},{"$f":"+Wizard!I28","v":0},{"$f":"+'Tute cabrò'!C22","v":0},null,{"$f":"+Escombra!AA27","v":0},{"$f":"+'1000km'!L24","v":0},null,null,{"$f":"+Portugués!K27","v":0},null,{"$f":"+Guinyot!L24","v":0},null,null,null,1,null,{"$f":"+Buti!P26","v":0},{"$f":"+Pocha!AB24","v":0},null,null,null,null,null,{"$f":"+Buti3!P22","v":0},null,{"$f":"+Texas!D25","v":0},{"$f":"+Omaha!V22","v":0},null,null,{"$f":"+Mus!L22","v":0},null,{"$f":"+Manilla!P26","v":0},{"$f":"+Tute!P26","v":0},{"$f":"+'4 Duros'!AJ25","v":0},{"$f":"+'Poker C'!V22","v":0},{"$f":"+Whist!P26","v":0},{"$f":"+Wizard!J28","v":1},{"$f":"+'Tute cabrò'!D22","v":0},null,{"$f":"+Escombra!AB27","v":0},{"$f":"+'1000km'!AN24","v":0}]
[26,"Pol C.",{"$f":"SUM(D36:AK36)+AL36/10000","v":0},null,null,{"$f":"+Pocha!U24","v":0},{"$f":"+Julepe!U23","v":0},{"$f":"+Pumba!AD24","v":0},null,null,{"$f":"+Buti3!AD22","v":0},{"$f":"+Remigio!AD24","v":0},{"$f":"+Truc!AD23","v":0},null,null,{"$f":"+'Black Jack'!U22","v":0},{"$f":"+Chinchón!AD22","v":0},null,null,{"$f":"+Manilla!AD26","v":0},{"$f":"+Tute!AD26","v":0},{"$f":"+'4 Duros'!U25","v":0},null,{"$f":"+Whist!AD26","v":0},null,null,{"$f":"+Copo!U22","v":0},{"$f":"+Escombra!U27","v":0},{"$f":"+'1000km'!AD24","v":0},null,null,null,null,null,null,null,null,{"$f":"SUM(AM36:BR36)","v":0},null,null,{"$f":"+Pocha!V24","v":0},{"$f":"+Julepe!V23","v":0},{"$f":"+Pumba!AE24","v":0},null,null,{"$f":"+Remigio!AE24","v":0},{"$f":"+Buti3!AE22","v":0},{"$f":"+Truc!AE23","v":0},null,null,{"$f":"+'Black Jack'!V22","v":0},{"$f":"+Chinchón!AE22","v":0},null,null,{"$f":"+Manilla!AE26","v":0},{"$f":"+Tute!AE26","v":0},null,null,{"$f":"+Whist!AE26","v":0},null,null,{"$f":"+Copo!V22","v":0},{"$f":"+Escombra!V27","v":0},{"$f":"+'1000km'!AH24","v":0},null,{"$f":"+Canasta!G24","v":0}]
[]
[]
[2,10,-10]
[3,10,0,-10]
[4,10,4,-4,-10]
[5,10,5,0,-5,-10]
[6,10,6,2,-2,-6,-10]
[7,10,6,2,0,-2,-6,-10]
[8,10,6,4,2,-2,-4,-6,-10]
[9,10,6,4,2,0,-2,-4,-6,-10]
[10,10,8,6,4,2,-2,-4,-6,-8,-10]
[]
["Classificació per \"mosques\""]
[null,null,{"$f":"+C10","v":"GENERAL"},"KING","BOTIFARRA","POCHA","JULEPE","PUMBA","CORS","PODRIDA","BUTI 3","REMIGIO","TRUC","TEXAS","OMAHA","BLACK JACK","CHINCHÓN","MUS","CUL","MANILLA","TUTE","4 DUROS","POKER C","WHIST","WIZARD","TUTE CABRÒ","COPO","ESCOMBRA","1000 Km","CRIBBAGE","CANASTA","PORTUGUÈS","TAROT","GUINYOT",null,null,{"$f":"+AK10","v":"Joc 8"}]
[{"$f":"RANK(C51,C$51:C$68)","v":1},"Jordi",{"$f":"SUM(D51:AK51)","v":0}]
[1,"Carles",0]
[1,"Mariajo",0]
[1,"Grau",0]
[1,"Joan",0]
[1,"Manolo",0]
[1,"Angie",0]
[1,"Rosa M.",0]
[1,"Sergi",{"$f":"SUM(D59:AK59)","v":0}]
[1,"Núria",0]
[1,"Katy",0]
[1,"Anna P.",0]
[1,"Lucía",0]
[1,"Lucía",0]
[1,"Palafox",0]
[1,"Goretti",0]
[{"$f":"RANK(C67,C$51:C$68)","v":1},"Celes",0]
[1,"Pol C.",0]
[null,"Total",{"$f":"SUM(C51:C68)","v":0}]
[null,"Anomalies",{"$f":"SUM(D70:AK70)","v":0}]
[]
[null,null,null,{"$f":"+Cribbage!A1","v":"CRIBBAGE"},null,null,null,null,null,null,{"$f":"+Wizard!A1","v":"WIZARD"},null,null,null,null,null,null,{"$f":"+Podrida!A1","v":"PODRIDA"},null,null,null,null,null,null,{"$f":"+King!A1","v":"KING"}]
[]
[null,null,null,null,null,{"$f":"+Cribbage!C4","v":"Premi"},{"$f":"+Cribbage!D4","v":"Punts"},{"$f":"+Cribbage!E4","v":"Partides"},{"$f":"+Cribbage!F4","v":"General"},null,null,null,{"$f":"+Wizard!C4","v":"Premi"},{"$f":"+Wizard!D4","v":"Punts"},{"$f":"+Wizard!E4","v":"Partides"},{"$f":"+Wizard!F4","v":"General"},null,null,null,{"$f":"+Podrida!C4","v":"Premi"},{"$f":"+Podrida!D4","v":"Punts"},{"$f":"+Podrida!E4","v":"Partides"},{"$f":"+Podrida!F4","v":"General"},null,null,null,{"$f":"+King!C4","v":"Premi"},{"$f":"+King!D4","v":"Punts"},{"$f":"+King!E4","v":"Partides"},{"$f":"+King!F4","v":"General"}]
[null,null,null,{"$f":"+Cribbage!A5","v":1},{"$f":"+Cribbage!B5","v":"Sebas"},{"$f":"+Cribbage!C5","v":125},{"$f":"+Cribbage!D5","v":19},{"$f":"+Cribbage!E5","v":97},{"$f":"+Cribbage!F5","v":80},null,{"$f":"+Wizard!A5","v":1},{"$f":"+Wizard!B5","v":"Carles"},{"$f":"+Wizard!C5","v":1265.5},{"$f":"+Wizard!D5","v":229.31089743589743},{"$f":"+Wizard!E5","v":312},{"$f":"+Wizard!F5","v":80},null,{"$f":"+Podrida!A5","v":1},{"$f":"+Podrida!B5","v":"Jordi"},{"$f":"+Podrida!C5","v":182},{"$f":"+Podrida!D5","v":87.098113207547172},{"$f":"+Podrida!E5","v":53},{"$f":"+Podrida!F5","v":80},null,{"$f":"+King!A5","v":1},{"$f":"+King!B5","v":"Carles"},{"$f":"+King!C5","v":86},{"$f":"+King!D5","v":5.8823529411764705E-2},{"$f":"+King!E5","v":17},{"$f":"+King!F5","v":80}]
[null,null,null,{"$f":"+Cribbage!A6","v":2},{"$f":"+Cribbage!B6","v":"Gemma"},{"$f":"+Cribbage!C6","v":106},{"$f":"+Cribbage!D6","v":23},{"$f":"+Cribbage!E6","v":229},{"$f":"+Cribbage!F6","v":40},null,{"$f":"+Wizard!A6","v":2},{"$f":"+Wizard!B6","v":"Jordi"},{"$f":"+Wizard!C6","v":653.5},{"$f":"+Wizard!D6","v":215.47169811320754},{"$f":"+Wizard!E6","v":265},{"$f":"+Wizard!F6","v":40},null,{"$f":"+Podrida!A6","v":2},{"$f":"+Podrida!B6","v":"Carles"},{"$f":"+Podrida!C6","v":126},{"$f":"+Podrida!D6","v":91.913043478260875},{"$f":"+Podrida!E6","v":23},{"$f":"+Podrida!F6","v":40},null,{"$f":"+King!A6","v":2},{"$f":"+King!B6","v":"Jordi"},{"$f":"+King!C6","v":61},{"$f":"+King!D6","v":1.8187500000000001},{"$f":"+King!E6","v":16},{"$f":"+King!F6","v":40}]
[null,null,null,{"$f":"+Cribbage!A7","v":3},{"$f":"+Cribbage!B7","v":"Carles"},{"$f":"+Cribbage!C7","v":91},{"$f":"+Cribbage!D7","v":167},{"$f":"+Cribbage!E7","v":21},{"$f":"+Cribbage!F7","v":20},null,{"$f":"+Wizard!A7","v":3},{"$f":"+Wizard!B7","v":"Grau"},{"$f":"+Wizard!C7","v":276},{"$f":"+Wizard!D7","v":195.3478178791695},{"$f":"+Wizard!E7","v":584},{"$f":"+Wizard!F7","v":20},null,{"$f":"+Podrida!A7","v":3},{"$f":"+Podrida!B7","v":"Núria"},{"$f":"+Podrida!C7","v":41},{"$f":"+Podrida!D7","v":79.267857142857139},{"$f":"+Podrida!E7","v":56},{"$f":"+Podrida!F7","v":20},null,{"$f":"+King!A7","v":3},{"$f":"+King!B7","v":"Manolo"},{"$f":"+King!C7","v":31},{"$f":"+King!D7","v":-3.1733333333333329},{"$f":"+King!E7","v":15},{"$f":"+King!F7","v":20}]
[null,null,null,{"$f":"+Cribbage!A8","v":4},{"$f":"+Cribbage!B8","v":"Jordi"},{"$f":"+Cribbage!C8","v":64},{"$f":"+Cribbage!D8","v":199},{"$f":"+Cribbage!E8","v":122},{"$f":"+Cribbage!F8","v":10},null,{"$f":"+Wizard!A8","v":4},{"$f":"+Wizard!B8","v":"Sergi"},{"$f":"+Wizard!C8","v":85.5},{"$f":"+Wizard!D8","v":196.01226993865032},{"$f":"+Wizard!E8","v":163},{"$f":"+Wizard!F8","v":10},null,{"$f":"+Podrida!A8","v":4},{"$f":"+Podrida!B8","v":"Cyber X"},{"$f":"+Podrida!C8","v":-6},{"$f":"+Podrida!D8","v":65.2},{"$f":"+Podrida!E8","v":10},{"$f":"+Podrida!F8","v":10},null,{"$f":"+King!A8","v":4},{"$f":"+King!B8","v":"Sebas"},{"$f":"+King!C8","v":20},{"$f":"+King!D8","v":-1.7235294117647062},{"$f":"+King!E8","v":14},{"$f":"+King!F8","v":10}]
[null,null,null,{"$f":"+Cribbage!A9","v":5},{"$f":"+Cribbage!B9","v":"Nogué"},{"$f":"+Cribbage!C9","v":28},{"$f":"+Cribbage!D9","v":194.5},{"$f":"+Cribbage!E9","v":250},{"$f":"+Cribbage!F9","v":5},null,{"$f":"+Wizard!A9","v":5},{"$f":"+Wizard!B9","v":"Núria"},{"$f":"+Wizard!C9","v":83.5},{"$f":"+Wizard!D9","v":188.83042805222775},{"$f":"+Wizard!E9","v":437},{"$f":"+Wizard!F9","v":5},null,{"$f":"+Podrida!A9","v":5},{"$f":"+Podrida!B9","v":"Sebas"},{"$f":"+Podrida!C9","v":-24},{"$f":"+Podrida!D9","v":77.083333333333329},{"$f":"+Podrida!E9","v":36},{"$f":"+Podrida!F9","v":5},null,{"$f":"+King!A9","v":5},{"$f":"+King!B9","v":"Núria"},{"$f":"+King!C9","v":12},{"$f":"+King!D9","v":-1.3363636363636362},{"$f":"+King!E9","v":11},{"$f":"+King!F9","v":5}]
[null,null,null,{"$f":"+Cribbage!A10","v":6},{"$f":"+Cribbage!B10","v":"CyberX"},{"$f":"+Cribbage!C10","v":-8},{"$f":"+Cribbage!D10","v":53},{"$f":"+Cribbage!E10","v":9},{"$f":"+Cribbage!F10","v":0},null,{"$f":"+Wizard!A10","v":6},{"$f":"+Wizard!B10","v":"Tim"},{"$f":"+Wizard!C10","v":53.5},{"$f":"+Wizard!D10","v":214.375},{"$f":"+Wizard!E10","v":16},{"$f":"+Wizard!F10","v":0},null,{"$f":"+Podrida!A10","v":6},{"$f":"+Podrida!B10","v":"Manolo"},{"$f":"+Podrida!C10","v":-24},{"$f":"+Podrida!D10","v":63},{"$f":"+Podrida!E10","v":11},{"$f":"+Podrida!F10","v":0},null,{"$f":"+King!A10","v":6},{"$f":"+King!B10","v":"Montse"},{"$f":"+King!C10","v":-30},{"$f":"+King!D10","v":-2.7166666666666668},{"$f":"+King!E10","v":9},{"$f":"+King!F10","v":0}]
[null,null,null,{"$f":"+Cribbage!A11","v":7},{"$f":"+Cribbage!B11","v":"Manolo"},{"$f":"+Cribbage!C11","v":-22},{"$f":"+Cribbage!D11","v":-96},{"$f":"+Cribbage!E11","v":12},{"$f":"+Cribbage!F11","v":0},null,{"$f":"+Wizard!A11","v":7},{"$f":"+Wizard!B11","v":"CyberX"},{"$f":"+Wizard!C11","v":14.500000000000004},{"$f":"+Wizard!D11","v":192.76211934156387},{"$f":"+Wizard!E11","v":375},{"$f":"+Wizard!F11","v":0},null,{"$f":"+Podrida!A11","v":7},{"$f":"+Podrida!B11","v":"Grau"},{"$f":"+Podrida!C11","v":-36},{"$f":"+Podrida!D11","v":75.692307692307693},{"$f":"+Podrida!E11","v":79},{"$f":"+Podrida!F11","v":0},null,{"$f":"+King!A11","v":7},{"$f":"+King!B11","v":"Cyber X"},{"$f":"+King!C11","v":-28},{"$f":"+King!D11","v":-6.040909090909091},{"$f":"+King!E11","v":11},{"$f":"+King!F11","v":0}]
[null,null,null,{"$f":"+Cribbage!A12","v":8},{"$f":"+Cribbage!B12","v":"Ana B."},{"$f":"+Cribbage!C12","v":-51},{"$f":"+Cribbage!D12","v":-120},{"$f":"+Cribbage!E12","v":13},{"$f":"+Cribbage!F12","v":0},null,{"$f":"+Wizard!A12","v":8},{"$f":"+Wizard!B12","v":"Marina"},{"$f":"+Wizard!C12","v":6},{"$f":"+Wizard!D12","v":217.27272727272728},{"$f":"+Wizard!E12","v":11},{"$f":"+Wizard!F12","v":0},null,{"$f":"+Podrida!A12","v":8},{"$f":"+Podrida!B12","v":"Nogué"},{"$f":"+Podrida!C12","v":-51},{"$f":"+Podrida!D12","v":77.230769230769226},{"$f":"+Podrida!E12","v":65},{"$f":"+Podrida!F12","v":0},null,{"$f":"+King!A12","v":8},{"$f":"+King!B12","v":"Gemma"},{"$f":"+King!C12","v":-46},{"$f":"+King!D12","v":-4.1892857142857141},{"$f":"+King!E12","v":14},{"$f":"+King!F12","v":0}]
[null,null,null,{"$f":"+Cribbage!A13","v":9},{"$f":"+Cribbage!B13","v":"Nin"},{"$f":"+Cribbage!C13","v":-63},{"$f":"+Cribbage!D13","v":-178},{"$f":"+Cribbage!E13","v":12},{"$f":"+Cribbage!F13","v":0},null,{"$f":"+Wizard!A13","v":9},{"$f":"+Wizard!B13","v":"Òscar"},{"$f":"+Wizard!C13","v":-12.5},{"$f":"+Wizard!D13","v":174.41176470588235},{"$f":"+Wizard!E13","v":34},{"$f":"+Wizard!F13","v":0},null,{"$f":"+Podrida!A13","v":9},{"$f":"+Podrida!B13","v":"Ana B"},{"$f":"+Podrida!C13","v":-63},{"$f":"+Podrida!D13","v":69.75},{"$f":"+Podrida!E13","v":24},{"$f":"+Podrida!F13","v":0},null,{"$f":"+King!A13","v":9},{"$f":"+King!B13","v":"Nin"},{"$f":"+King!C13","v":-100},{"$f":"+King!D13","v":-6.328125},{"$f":"+King!E13","v":16},{"$f":"+King!F13","v":0}]
[null,null,null,{"$f":"+Cribbage!A14","v":10},{"$f":"+Cribbage!B14","v":"Grau"},{"$f":"+Cribbage!C14","v":-120},{"$f":"+Cribbage!D14","v":-168},{"$f":"+Cribbage!E14","v":164},{"$f":"+Cribbage!F14","v":0},null,{"$f":"+Wizard!A14","v":10},{"$f":"+Wizard!B14","v":"Alfred"},{"$f":"+Wizard!C14","v":-15},{"$f":"+Wizard!D14","v":200},{"$f":"+Wizard!E14","v":19},{"$f":"+Wizard!F14","v":0},null,{"$f":"+Podrida!A14","v":10},{"$f":"+Podrida!B14","v":"Nin"},{"$f":"+Podrida!C14","v":-72},{"$f":"+Podrida!D14","v":51.583333333333336},{"$f":"+Podrida!E14","v":12},{"$f":"+Podrida!F14","v":0},null,{"$f":"+King!A14","v":10},{"$f":"+King!B14","v":"Òscar"},{"$f":"+King!C14","v":4},{"$f":"+King!D14","v":0},{"$f":"+King!E14","v":4},{"$f":"+King!F14","v":0}]
[null,null,null,{"$f":"+Cribbage!A15","v":11},{"$f":"+Cribbage!B15","v":"Núria"},{"$f":"+Cribbage!C15","v":-180},{"$f":"+Cribbage!D15","v":-122.5},{"$f":"+Cribbage!E15","v":185},{"$f":"+Cribbage!F15","v":0},null,{"$f":"+Wizard!A15","v":11},{"$f":"+Wizard!B15","v":"Mariajo"},{"$f":"+Wizard!C15","v":-17},{"$f":"+Wizard!D15","v":176.66666666666666},{"$f":"+Wizard!E15","v":6},{"$f":"+Wizard!F15","v":0},null,{"$f":"+Podrida!A15","v":11},{"$f":"+Podrida!B15","v":"Gemma"},{"$f":"+Podrida!C15","v":-77},{"$f":"+Podrida!D15","v":69.573333333333338},{"$f":"+Podrida!E15","v":75},{"$f":"+Podrida!F15","v":0},null,{"$f":"+King!A15","v":11},{"$f":"+King!B15","v":"Mariajo"},{"$f":"+King!C15","v":-2},{"$f":"+King!D15","v":0},{"$f":"+King!E15","v":2},{"$f":"+King!F15","v":0}]
[null,null,null,{"$f":"+Cribbage!A16","v":12},{"$f":"+Cribbage!B16","v":"Goretti"},{"$f":"+Cribbage!C16","v":50},{"$f":"+Cribbage!D16","v":45},{"$f":"+Cribbage!E16","v":5},{"$f":"+Cribbage!F16","v":0},null,{"$f":"+Wizard!A16","v":12},{"$f":"+Wizard!B16","v":"Tito"},{"$f":"+Wizard!C16","v":-43.5},{"$f":"+Wizard!D16","v":186.73469387755102},{"$f":"+Wizard!E16","v":98},{"$f":"+Wizard!F16","v":0},null,{"$f":"+Podrida!A16","v":12},{"$f":"+Podrida!B16","v":"Rosa M"},{"$f":"+Podrida!C16","v":18},{"$f":"+Podrida!D16","v":94.600000000000009},{"$f":"+Podrida!E16","v":3},{"$f":"+Podrida!F16","v":0}]
[null,null,null,{"$f":"+Cribbage!A17","v":13},{"$f":"+Cribbage!B17","v":"Òscar"},{"$f":"+Cribbage!C17","v":30},{"$f":"+Cribbage!D17","v":57},{"$f":"+Cribbage!E17","v":3},{"$f":"+Cribbage!F17","v":0},null,{"$f":"+Wizard!A17","v":13},{"$f":"+Wizard!B17","v":"Nancy"},{"$f":"+Wizard!C17","v":-50.5},{"$f":"+Wizard!D17","v":177.10143097643098},{"$f":"+Wizard!E17","v":33},{"$f":"+Wizard!F17","v":0},null,{"$f":"+Podrida!A17","v":13},{"$f":"+Podrida!B17","v":"Mariajo"},{"$f":"+Podrida!C17","v":0},{"$f":"+Podrida!D17","v":73},{"$f":"+Podrida!E17","v":1},{"$f":"+Podrida!F17","v":0}]
[null,null,null,null,null,null,null,null,null,null,{"$f":"+Wizard!A18","v":14},{"$f":"+Wizard!B18","v":"Goretti"},{"$f":"+Wizard!C18","v":-85},{"$f":"+Wizard!D18","v":163.02729528535983},{"$f":"+Wizard!E18","v":31},{"$f":"+Wizard!F18","v":0},null,{"$f":"+Podrida!A18","v":14},{"$f":"+Podrida!B18","v":"Sergi"},{"$f":"+Podrida!C18","v":0},{"$f":"+Podrida!D18","v":73},{"$f":"+Podrida!E18","v":1},{"$f":"+Podrida!F18","v":0}]
[null,null,null,null,null,null,null,null,null,null,{"$f":"+Wizard!A19","v":15},{"$f":"+Wizard!B19","v":"Sebas"},{"$f":"+Wizard!C19","v":-127},{"$f":"+Wizard!D19","v":181.82572614107883},{"$f":"+Wizard!E19","v":241},{"$f":"+Wizard!F19","v":0},null,{"$f":"+Podrida!A19","v":15},{"$f":"+Podrida!B19","v":"Joan"},{"$f":"+Podrida!C19","v":-4},{"$f":"+Podrida!D19","v":74.333333333333329},{"$f":"+Podrida!E19","v":3},{"$f":"+Podrida!F19","v":0}]
[null,null,null,null,null,null,null,null,null,null,{"$f":"+Wizard!A20","v":16},{"$f":"+Wizard!B20","v":"Manolo"},{"$f":"+Wizard!C20","v":-221.5},{"$f":"+Wizard!D20","v":175.64102564102564},{"$f":"+Wizard!E20","v":156},{"$f":"+Wizard!F20","v":0},null,{"$f":"+Podrida!A20","v":16},{"$f":"+Podrida!B20","v":"Anna P."},{"$f":"+Podrida!C20","v":-10},{"$f":"+Podrida!D20","v":94.600000000000009},{"$f":"+Podrida!E20","v":3},{"$f":"+Podrida!F20","v":0}]
[null,null,null,null,null,null,null,null,null,null,{"$f":"+Wizard!A21","v":17},{"$f":"+Wizard!B21","v":"Gemma"},{"$f":"+Wizard!C21","v":-344},{"$f":"+Wizard!D21","v":179.6587213528714},{"$f":"+Wizard!E21","v":472},{"$f":"+Wizard!F21","v":0}]
[null,null,null,null,null,null,null,null,null,null,{"$f":"+Wizard!A22","v":18},{"$f":"+Wizard!B22","v":"Nin"},{"$f":"+Wizard!C22","v":-461},{"$f":"+Wizard!D22","v":152.47787610619469},{"$f":"+Wizard!E22","v":113},{"$f":"+Wizard!F22","v":0}]
[null,null,null,null,null,null,null,null,null,null,{"$f":"+Wizard!A23","v":19},{"$f":"+Wizard!B23","v":"Nogué"},{"$f":"+Wizard!C23","v":-477},{"$f":"+Wizard!D23","v":160.42735042735043},{"$f":"+Wizard!E23","v":234},{"$f":"+Wizard!F23","v":0}]
[null,null,null,null,null,null,null,null,null,null,{"$f":"+Wizard!A24","v":20},{"$f":"+Wizard!B24","v":"Ana B"},{"$f":"+Wizard!C24","v":-575},{"$f":"+Wizard!D24","v":164.55223880597015},{"$f":"+Wizard!E24","v":268},{"$f":"+Wizard!F24","v":0}]
[null,null,null,null,null,null,null,null,null,null,{"$f":"+Wizard!A25","v":21},{"$f":"+Wizard!B25","v":"Lleixà"},{"$f":"+Wizard!C25","v":10},{"$f":"+Wizard!D25","v":250},{"$f":"+Wizard!E25","v":1},{"$f":"+Wizard!F25","v":0}]
[null,null,null,null,null,null,null,null,null,null,{"$f":"+Wizard!A26","v":22},{"$f":"+Wizard!B26","v":"Jeff"},{"$f":"+Wizard!C26","v":6},{"$f":"+Wizard!D26","v":217.5},{"$f":"+Wizard!E26","v":4},{"$f":"+Wizard!F26","v":0}]
[]
[null,null,null,{"$f":"+Kul!A1","v":"KUL"},null,null,null,null,null,null,{"$f":"+Pumba!A1","v":"PUMBA"},null,null,null,null,null,null,{"$f":"+Tarot!A1","v":"TAROT"},null,null,null,null,null,null,{"$f":"+Buti!A1","v":"BOTIFARRA"}]
[]
[null,null,null,null,null,{"$f":"+Kul!C4","v":"Premi"},{"$f":"+Kul!D4","v":"Punts"},{"$f":"+Kul!E4","v":"Partides"},{"$f":"+Kul!F4","v":"General"},null,null,null,{"$f":"+Pumba!C4","v":"Premi"},{"$f":"+Pumba!D4","v":"Punts"},{"$f":"+Pumba!E4","v":"Partides"},{"$f":"+Pumba!F4","v":"General"},null,null,null,{"$f":"+Tarot!C4","v":"Premi"},{"$f":"+Tarot!D4","v":"Punts"},{"$f":"+Tarot!E4","v":"Partides"},{"$f":"+Tarot!F4","v":"General"},null,null,null,{"$f":"+Buti!C4","v":"Premi"},{"$f":"+Buti!D4","v":"Punts"},{"$f":"+Buti!E4","v":"Partides"},{"$f":"+Buti!F4","v":"General"}]
[null,null,null,{"$f":"+Kul!A5","v":1},{"$f":"+Kul!B5","v":"Jordi"},{"$f":"+Kul!C5","v":25},{"$f":"+Kul!D5","v":15},{"$f":"+Kul!E5","v":3},{"$f":"+Kul!F5","v":0},null,{"$f":"+Pumba!A5","v":1},{"$f":"+Pumba!B5","v":"Mariajo"},{"$f":"+Pumba!C5","v":10},{"$f":"+Pumba!D5","v":6},{"$f":"+Pumba!E5","v":1},{"$f":"+Pumba!F5","v":0},null,{"$f":"+Tarot!A5","v":1},{"$f":"+Tarot!B5","v":"Nin"},{"$f":"+Tarot!C5","v":10},{"$f":"+Tarot!D5","v":15.8},{"$f":"+Tarot!E5","v":1},{"$f":"+Tarot!F5","v":0},null,{"$f":"+Buti!A5","v":1},{"$f":"+Buti!B5","v":"Nogué"},{"$f":"+Buti!C5","v":10},{"$f":"+Buti!D5","v":19},{"$f":"+Buti!E5","v":1},{"$f":"+Buti!F5","v":0}]
[null,null,null,{"$f":"+Kul!A6","v":2},{"$f":"+Kul!B6","v":"Núria"},{"$f":"+Kul!C6","v":5},{"$f":"+Kul!D6","v":5},{"$f":"+Kul!E6","v":1},{"$f":"+Kul!F6","v":0},null,{"$f":"+Pumba!A6","v":2},{"$f":"+Pumba!B6","v":"Sebas"},{"$f":"+Pumba!C6","v":10},{"$f":"+Pumba!D6","v":7.5},{"$f":"+Pumba!E6","v":1},{"$f":"+Pumba!F6","v":0},null,{"$f":"+Tarot!A6","v":2},{"$f":"+Tarot!B6","v":"Jordi"},{"$f":"+Tarot!C6","v":5},{"$f":"+Tarot!D6","v":-43.7},{"$f":"+Tarot!E6","v":1},{"$f":"+Tarot!F6","v":0},null,{"$f":"+Buti!A6","v":2},{"$f":"+Buti!B6","v":"Sebas"},{"$f":"+Buti!C6","v":6},{"$f":"+Buti!D6","v":9},{"$f":"+Buti!E6","v":1},{"$f":"+Buti!F6","v":0}]
[null,null,null,{"$f":"+Kul!A7","v":3},{"$f":"+Kul!B7","v":"Carles"},{"$f":"+Kul!C7","v":5},{"$f":"+Kul!D7","v":-4},{"$f":"+Kul!E7","v":2},{"$f":"+Kul!F7","v":0},null,{"$f":"+Pumba!A7","v":3},{"$f":"+Pumba!B7","v":"Sergi"},{"$f":"+Pumba!C7","v":4},{"$f":"+Pumba!D7","v":15},{"$f":"+Pumba!E7","v":1},{"$f":"+Pumba!F7","v":0},null,{"$f":"+Tarot!A7","v":3},{"$f":"+Tarot!B7","v":"Sergi"},{"$f":"+Tarot!C7","v":0},{"$f":"+Tarot!D7","v":-45.2},{"$f":"+Tarot!E7","v":1},{"$f":"+Tarot!F7","v":0},null,{"$f":"+Buti!A7","v":3},{"$f":"+Buti!B7","v":"Manolo"},{"$f":"+Buti!C7","v":2},{"$f":"+Buti!D7","v":8},{"$f":"+Buti!E7","v":1},{"$f":"+Buti!F7","v":0}]
[null,null,null,{"$f":"+Kul!A8","v":4},{"$f":"+Kul!B8","v":"Gemma"},{"$f":"+Kul!C8","v":0},{"$f":"+Kul!D8","v":6},{"$f":"+Kul!E8","v":1},{"$f":"+Kul!F8","v":0},null,{"$f":"+Pumba!A8","v":4},{"$f":"+Pumba!B8","v":"Jordi"},{"$f":"+Pumba!C8","v":4},{"$f":"+Pumba!D8","v":17.75},{"$f":"+Pumba!E8","v":1},{"$f":"+Pumba!F8","v":0},null,{"$f":"+Tarot!A8","v":4},{"$f":"+Tarot!B8","v":"Carles"},{"$f":"+Tarot!C8","v":-5},{"$f":"+Tarot!D8","v":-57.6},{"$f":"+Tarot!E8","v":1},{"$f":"+Tarot!F8","v":0},null,{"$f":"+Buti!A8","v":4},{"$f":"+Buti!B8","v":"Jordi"},{"$f":"+Buti!C8","v":0},{"$f":"+Buti!D8","v":1},{"$f":"+Buti!E8","v":1},{"$f":"+Buti!F8","v":0}]
[null,null,null,{"$f":"+Kul!A9","v":5},{"$f":"+Kul!B9","v":"Sergi"},{"$f":"+Kul!C9","v":0},{"$f":"+Kul!D9","v":4},{"$f":"+Kul!E9","v":2},{"$f":"+Kul!F9","v":0},null,{"$f":"+Pumba!A9","v":5},{"$f":"+Pumba!B9","v":"Gemma"},{"$f":"+Pumba!C9","v":-4},{"$f":"+Pumba!D9","v":17.25},{"$f":"+Pumba!E9","v":1},{"$f":"+Pumba!F9","v":0},null,{"$f":"+Tarot!A9","v":5},{"$f":"+Tarot!B9","v":"Mariajo"},{"$f":"+Tarot!C9","v":-10},{"$f":"+Tarot!D9","v":-76.3},{"$f":"+Tarot!E9","v":1},{"$f":"+Tarot!F9","v":0},null,{"$f":"+Buti!A9","v":5},{"$f":"+Buti!B9","v":"Gemma"},{"$f":"+Buti!C9","v":-2},{"$f":"+Buti!D9","v":-8},{"$f":"+Buti!E9","v":1},{"$f":"+Buti!F9","v":0}]
[null,null,null,{"$f":"+Kul!A10","v":6},{"$f":"+Kul!B10","v":"Sebas"},{"$f":"+Kul!C10","v":-5},{"$f":"+Kul!D10","v":-5},{"$f":"+Kul!E10","v":1},{"$f":"+Kul!F10","v":0},null,{"$f":"+Pumba!A10","v":6},{"$f":"+Pumba!B10","v":"Nin"},{"$f":"+Pumba!C10","v":-4},{"$f":"+Pumba!D10","v":19},{"$f":"+Pumba!E10","v":1},{"$f":"+Pumba!F10","v":0},null,null,null,null,null,null,null,null,{"$f":"+Buti!A10","v":6},{"$f":"+Buti!B10","v":"Carles"},{"$f":"+Buti!C10","v":-6},{"$f":"+Buti!D10","v":-13},{"$f":"+Buti!E10","v":1},{"$f":"+Buti!F10","v":0}]
[null,null,null,{"$f":"+Kul!A11","v":7},{"$f":"+Kul!B11","v":"Goretti"},{"$f":"+Kul!C11","v":-5},{"$f":"+Kul!D11","v":-8},{"$f":"+Kul!E11","v":2},{"$f":"+Kul!F11","v":0},null,{"$f":"+Pumba!A11","v":7},{"$f":"+Pumba!B11","v":"Carles"},{"$f":"+Pumba!C11","v":-10},{"$f":"+Pumba!D11","v":19.75},{"$f":"+Pumba!E11","v":1},{"$f":"+Pumba!F11","v":0},null,null,null,null,null,null,null,null,{"$f":"+Buti!A11","v":7},{"$f":"+Buti!B11","v":"Núria"},{"$f":"+Buti!C11","v":-10},{"$f":"+Buti!D11","v":-16},{"$f":"+Buti!E11","v":1},{"$f":"+Buti!F11","v":0}]
[null,null,null,{"$f":"+Kul!A12","v":8},{"$f":"+Kul!B12","v":"Nogué"},{"$f":"+Kul!C12","v":-10},{"$f":"+Kul!D12","v":-8},{"$f":"+Kul!E12","v":1},{"$f":"+Kul!F12","v":0},null,{"$f":"+Pumba!A12","v":8},{"$f":"+Pumba!B12","v":"Montse"},{"$f":"+Pumba!C12","v":-10},{"$f":"+Pumba!D12","v":28.5},{"$f":"+Pumba!E12","v":1},{"$f":"+Pumba!F12","v":0}]
[null,null,null,{"$f":"+Kul!A13","v":9},{"$f":"+Kul!B13","v":"Mariajo"},{"$f":"+Kul!C13","v":-15},{"$f":"+Kul!D13","v":-5},{"$f":"+Kul!E13","v":2},{"$f":"+Kul!F13","v":0}]
[]
[null,null,null,null,null,null,null,null,null,null,{"$f":"+Wizard!A10","v":6},{"$f":"+Wizard!B10","v":"Tim"},{"$f":"+Wizard!C10","v":53.5},{"$f":"+Wizard!D10","v":214.375},{"$f":"+Wizard!E10","v":16},{"$f":"+Wizard!F10","v":0}]
[null,null,null,null,null,null,null,null,null,null,{"$f":"+Wizard!A11","v":7},{"$f":"+Wizard!B11","v":"CyberX"},{"$f":"+Wizard!C11","v":14.500000000000004},{"$f":"+Wizard!D11","v":192.76211934156387},{"$f":"+Wizard!E11","v":375},{"$f":"+Wizard!F11","v":0}]
[null,null,null,null,null,null,null,null,null,null,{"$f":"+Wizard!A12","v":8},{"$f":"+Wizard!B12","v":"Marina"},{"$f":"+Wizard!C12","v":6},{"$f":"+Wizard!D12","v":217.27272727272728},{"$f":"+Wizard!E12","v":11},{"$f":"+Wizard!F12","v":0}]
[null,null,null,null,null,null,null,null,null,null,{"$f":"+Wizard!A13","v":9},{"$f":"+Wizard!B13","v":"Òscar"},{"$f":"+Wizard!C13","v":-12.5},{"$f":"+Wizard!D13","v":174.41176470588235},{"$f":"+Wizard!E13","v":34},{"$f":"+Wizard!F13","v":0}]
[null,null,null,null,null,null,null,null,null,null,{"$f":"+Wizard!A14","v":10},{"$f":"+Wizard!B14","v":"Alfred"},{"$f":"+Wizard!C14","v":-15},{"$f":"+Wizard!D14","v":200},{"$f":"+Wizard!E14","v":19},{"$f":"+Wizard!F14","v":0}]
[null,null,null,null,null,null,null,null,null,null,{"$f":"+Wizard!A15","v":11},{"$f":"+Wizard!B15","v":"Mariajo"},{"$f":"+Wizard!C15","v":-17},{"$f":"+Wizard!D15","v":176.66666666666666},{"$f":"+Wizard!E15","v":6},{"$f":"+Wizard!F15","v":0}]
[null,null,null,null,null,null,null,null,null,null,{"$f":"+Wizard!A16","v":12},{"$f":"+Wizard!B16","v":"Tito"},{"$f":"+Wizard!C16","v":-43.5},{"$f":"+Wizard!D16","v":186.73469387755102},{"$f":"+Wizard!E16","v":98},{"$f":"+Wizard!F16","v":0}]
[null,null,null,null,null,null,null,null,null,null,{"$f":"+Wizard!A17","v":13},{"$f":"+Wizard!B17","v":"Nancy"},{"$f":"+Wizard!C17","v":-50.5},{"$f":"+Wizard!D17","v":177.10143097643098},{"$f":"+Wizard!E17","v":33},{"$f":"+Wizard!F17","v":0}]
[null,null,null,null,null,null,null,null,null,null,{"$f":"+Wizard!A18","v":14},{"$f":"+Wizard!B18","v":"Goretti"},{"$f":"+Wizard!C18","v":-85},{"$f":"+Wizard!D18","v":163.02729528535983},{"$f":"+Wizard!E18","v":31},{"$f":"+Wizard!F18","v":0}]
[null,null,null,null,null,null,null,null,null,null,{"$f":"+Wizard!A19","v":15},{"$f":"+Wizard!B19","v":"Sebas"},{"$f":"+Wizard!C19","v":-127},{"$f":"+Wizard!D19","v":181.82572614107883},{"$f":"+Wizard!E19","v":241},{"$f":"+Wizard!F19","v":0}]
[null,null,null,null,null,null,null,null,null,null,{"$f":"+Wizard!A22","v":18},{"$f":"+Wizard!B22","v":"Nin"},{"$f":"+Wizard!C22","v":-461},{"$f":"+Wizard!D22","v":152.47787610619469},{"$f":"+Wizard!E22","v":113},{"$f":"+Wizard!F22","v":0},null,{"$f":"+Buti!A12","v":8},{"$f":"+Buti!B12","v":"Palafox"},{"$f":"+Buti!C12","v":-100000000},{"$f":"+Buti!D12","v":1},{"$f":"+Buti!E12","v":0},{"$f":"+Buti!F12","v":0}]
[null,null,null,null,null,null,null,null,null,null,{"$f":"+Wizard!A23","v":19},{"$f":"+Wizard!B23","v":"Nogué"},{"$f":"+Wizard!C23","v":-477},{"$f":"+Wizard!D23","v":160.42735042735043},{"$f":"+Wizard!E23","v":234},{"$f":"+Wizard!F23","v":0},null,{"$f":"+Buti!A13","v":9},{"$f":"+Buti!B13","v":"Marina"},{"$f":"+Buti!C13","v":-100000000},{"$f":"+Buti!D13","v":1},{"$f":"+Buti!E13","v":0},{"$f":"+Buti!F13","v":0},null,{"$f":"+Pumba!A13","v":9},{"$f":"+Pumba!B13","v":"Tito"},{"$f":"+Pumba!C13","v":-100000000},{"$f":"+Pumba!D13","v":0},{"$f":"+Pumba!E13","v":0},{"$f":"+Pumba!F13","v":0}]
[null,null,null,null,null,null,null,null,null,null,{"$f":"+Wizard!A24","v":20},{"$f":"+Wizard!B24","v":"Ana B"},{"$f":"+Wizard!C24","v":-575},{"$f":"+Wizard!D24","v":164.55223880597015},{"$f":"+Wizard!E24","v":268},{"$f":"+Wizard!F24","v":0},null,{"$f":"+Buti!A14","v":10},{"$f":"+Buti!B14","v":"Xavi"},{"$f":"+Buti!C14","v":-100000000},{"$f":"+Buti!D14","v":1},{"$f":"+Buti!E14","v":0},{"$f":"+Buti!F14","v":0},null,{"$f":"+Pumba!A14","v":10},{"$f":"+Pumba!B14","v":"Manolo"},{"$f":"+Pumba!C14","v":-100000000},{"$f":"+Pumba!D14","v":0},{"$f":"+Pumba!E14","v":0},{"$f":"+Pumba!F14","v":0}]
[null,null,null,null,null,null,null,null,null,null,{"$f":"+Wizard!A25","v":21},{"$f":"+Wizard!B25","v":"Lleixà"},{"$f":"+Wizard!C25","v":10},{"$f":"+Wizard!D25","v":250},{"$f":"+Wizard!E25","v":1},{"$f":"+Wizard!F25","v":0},null,{"$f":"+Buti!A15","v":11},{"$f":"+Buti!B15","v":"David"},{"$f":"+Buti!C15","v":-100000000},{"$f":"+Buti!D15","v":1},{"$f":"+Buti!E15","v":0},{"$f":"+Buti!F15","v":0}]
[]
[]
[null,null,null,{"$f":"+Guinyot!A1","v":"GUINYOT"}]
[]
[null,null,null,null,null,{"$f":"+Guinyot!C4","v":"Premi"},{"$f":"+Guinyot!D4","v":"Punts"},{"$f":"+Guinyot!E4","v":"Partides"},{"$f":"+Guinyot!F4","v":"General"}]
[null,null,null,{"$f":"+Guinyot!A5","v":1},{"$f":"+Guinyot!B5","v":"Carles"},{"$f":"+Guinyot!C5","v":-100000000},{"$f":"+Guinyot!D5","v":0},{"$f":"+Guinyot!E5","v":0},{"$f":"+Guinyot!F5","v":0}]
[null,null,null,{"$f":"+Guinyot!A6","v":2},{"$f":"+Guinyot!B6","v":"Mariajo"},{"$f":"+Guinyot!C6","v":-100000000},{"$f":"+Guinyot!D6","v":0},{"$f":"+Guinyot!E6","v":0},{"$f":"+Guinyot!F6","v":0}]
[null,null,null,{"$f":"+Guinyot!A7","v":3},{"$f":"+Guinyot!B7","v":"Sergi"},{"$f":"+Guinyot!C7","v":-100000000},{"$f":"+Guinyot!D7","v":0},{"$f":"+Guinyot!E7","v":0},{"$f":"+Guinyot!F7","v":0}]
[null,null,null,{"$f":"+Guinyot!A8","v":4},{"$f":"+Guinyot!B8","v":"Manolo"},{"$f":"+Guinyot!C8","v":-100000000},{"$f":"+Guinyot!D8","v":0},{"$f":"+Guinyot!E8","v":0},{"$f":"+Guinyot!F8","v":0}]
[null,null,null,{"$f":"+Guinyot!A9","v":5},{"$f":"+Guinyot!B9","v":"Jordi"},{"$f":"+Guinyot!C9","v":-100000000},{"$f":"+Guinyot!D9","v":0},{"$f":"+Guinyot!E9","v":0},{"$f":"+Guinyot!F9","v":0}]
[null,null,null,null,null,null,null,null,null,null,{"$f":"+Cribbage!A10","v":6},{"$f":"+Cribbage!B10","v":"CyberX"},{"$f":"+Cribbage!C10","v":-8},{"$f":"+Cribbage!D10","v":53},{"$f":"+Cribbage!E10","v":9},{"$f":"+Cribbage!F10","v":0},null,null,null,null,null,null,null,null,{"$f":"+King!A10","v":6},{"$f":"+King!B10","v":"Montse"},{"$f":"+King!C10","v":-30},{"$f":"+King!D10","v":-2.7166666666666668},{"$f":"+King!E10","v":9},{"$f":"+King!F10","v":0}]
[null,null,null,null,null,null,null,null,null,null,{"$f":"+Cribbage!A11","v":7},{"$f":"+Cribbage!B11","v":"Manolo"},{"$f":"+Cribbage!C11","v":-22},{"$f":"+Cribbage!D11","v":-96},{"$f":"+Cribbage!E11","v":12},{"$f":"+Cribbage!F11","v":0},null,{"$f":"+Podrida!A11","v":7},{"$f":"+Podrida!B11","v":"Grau"},{"$f":"+Podrida!C11","v":-36},{"$f":"+Podrida!D11","v":75.692307692307693},{"$f":"+Podrida!E11","v":79},{"$f":"+Podrida!F11","v":0},null,{"$f":"+King!A11","v":7},{"$f":"+King!B11","v":"Cyber X"},{"$f":"+King!C11","v":-28},{"$f":"+King!D11","v":-6.040909090909091},{"$f":"+King!E11","v":11},{"$f":"+King!F11","v":0}]
[null,null,null,null,null,null,null,null,null,null,{"$f":"+Cribbage!A12","v":8},{"$f":"+Cribbage!B12","v":"Ana B."},{"$f":"+Cribbage!C12","v":-51},{"$f":"+Cribbage!D12","v":-120},{"$f":"+Cribbage!E12","v":13},{"$f":"+Cribbage!F12","v":0},null,{"$f":"+Podrida!A12","v":8},{"$f":"+Podrida!B12","v":"Nogué"},{"$f":"+Podrida!C12","v":-51},{"$f":"+Podrida!D12","v":77.230769230769226},{"$f":"+Podrida!E12","v":65},{"$f":"+Podrida!F12","v":0},null,{"$f":"+King!A12","v":8},{"$f":"+King!B12","v":"Gemma"},{"$f":"+King!C12","v":-46},{"$f":"+King!D12","v":-4.1892857142857141},{"$f":"+King!E12","v":14},{"$f":"+King!F12","v":0}]
[null,null,null,null,null,null,null,null,null,null,{"$f":"+Cribbage!A13","v":9},{"$f":"+Cribbage!B13","v":"Nin"},{"$f":"+Cribbage!C13","v":-63},{"$f":"+Cribbage!D13","v":-178},{"$f":"+Cribbage!E13","v":12},{"$f":"+Cribbage!F13","v":0},null,{"$f":"+Podrida!A13","v":9},{"$f":"+Podrida!B13","v":"Ana B"},{"$f":"+Podrida!C13","v":-63},{"$f":"+Podrida!D13","v":69.75},{"$f":"+Podrida!E13","v":24},{"$f":"+Podrida!F13","v":0},null,{"$f":"+King!A13","v":9},{"$f":"+King!B13","v":"Nin"},{"$f":"+King!C13","v":-100},{"$f":"+King!D13","v":-6.328125},{"$f":"+King!E13","v":16},{"$f":"+King!F13","v":0}]
[null,null,null,null,null,null,null,null,null,null,{"$f":"+Cribbage!A14","v":10},{"$f":"+Cribbage!B14","v":"Grau"},{"$f":"+Cribbage!C14","v":-120},{"$f":"+Cribbage!D14","v":-168},{"$f":"+Cribbage!E14","v":164},{"$f":"+Cribbage!F14","v":0},null,{"$f":"+Podrida!A14","v":10},{"$f":"+Podrida!B14","v":"Nin"},{"$f":"+Podrida!C14","v":-72},{"$f":"+Podrida!D14","v":51.583333333333336},{"$f":"+Podrida!E14","v":12},{"$f":"+Podrida!F14","v":0},null,{"$f":"+King!A14","v":10},{"$f":"+King!B14","v":"Òscar"},{"$f":"+King!C14","v":4},{"$f":"+King!D14","v":0},{"$f":"+King!E14","v":4},{"$f":"+King!F14","v":0}]
[null,null,null,null,null,null,null,null,null,null,{"$f":"+Cribbage!A15","v":11},{"$f":"+Cribbage!B15","v":"Núria"},{"$f":"+Cribbage!C15","v":-180},{"$f":"+Cribbage!D15","v":-122.5},{"$f":"+Cribbage!E15","v":185},{"$f":"+Cribbage!F15","v":0},null,{"$f":"+Podrida!A15","v":11},{"$f":"+Podrida!B15","v":"Gemma"},{"$f":"+Podrida!C15","v":-77},{"$f":"+Podrida!D15","v":69.573333333333338},{"$f":"+Podrida!E15","v":75},{"$f":"+Podrida!F15","v":0},null,{"$f":"+King!A15","v":11},{"$f":"+King!B15","v":"Mariajo"},{"$f":"+King!C15","v":-2},{"$f":"+King!D15","v":0},{"$f":"+King!E15","v":2},{"$f":"+King!F15","v":0}]
[null,null,null,null,null,null,null,null,null,null,{"$f":"+Cribbage!A16","v":12},{"$f":"+Cribbage!B16","v":"Goretti"},{"$f":"+Cribbage!C16","v":50},{"$f":"+Cribbage!D16","v":45},{"$f":"+Cribbage!E16","v":5},{"$f":"+Cribbage!F16","v":0},null,{"$f":"+Podrida!A16","v":12},{"$f":"+Podrida!B16","v":"Rosa M"},{"$f":"+Podrida!C16","v":18},{"$f":"+Podrida!D16","v":94.600000000000009},{"$f":"+Podrida!E16","v":3},{"$f":"+Podrida!F16","v":0},null,{"$f":"+King!A16","v":12},{"$f":"+King!B16","v":"Grau"},{"$f":"+King!C16","v":-2},{"$f":"+King!D16","v":-4.8666666666666663},{"$f":"+King!E16","v":3},{"$f":"+King!F16","v":0}]
[null,null,null,null,null,null,null,null,null,null,{"$f":"+Cribbage!A17","v":13},{"$f":"+Cribbage!B17","v":"Òscar"},{"$f":"+Cribbage!C17","v":30},{"$f":"+Cribbage!D17","v":57},{"$f":"+Cribbage!E17","v":3},{"$f":"+Cribbage!F17","v":0},null,{"$f":"+Podrida!A17","v":13},{"$f":"+Podrida!B17","v":"Mariajo"},{"$f":"+Podrida!C17","v":0},{"$f":"+Podrida!D17","v":73},{"$f":"+Podrida!E17","v":1},{"$f":"+Podrida!F17","v":0},null,{"$f":"+King!A17","v":13},{"$f":"+King!B17","v":"Sergi"},{"$f":"+King!C17","v":-6},{"$f":"+King!D17","v":-1.5},{"$f":"+King!E17","v":2},{"$f":"+King!F17","v":0}]
[null,null,null,null,null,null,null,null,null,null,{"$f":"+Cribbage!A18","v":14},{"$f":"+Cribbage!B18","v":"Sergi"},{"$f":"+Cribbage!C18","v":-50},{"$f":"+Cribbage!D18","v":-75},{"$f":"+Cribbage!E18","v":5},{"$f":"+Cribbage!F18","v":0},null,{"$f":"+Podrida!A18","v":14},{"$f":"+Podrida!B18","v":"Sergi"},{"$f":"+Podrida!C18","v":0},{"$f":"+Podrida!D18","v":73},{"$f":"+Podrida!E18","v":1},{"$f":"+Podrida!F18","v":0},null,{"$f":"+King!A18","v":14},{"$f":"+King!B18","v":"Tito"},{"$f":"+King!C18","v":-100000000},{"$f":"+King!D18","v":1E-4},{"$f":"+King!E18","v":0},{"$f":"+King!F18","v":0}]
[null,null,null,null,null,null,null,null,null,null,{"$f":"+Cribbage!A19","v":15},{"$f":"+Cribbage!B19","v":"Lluisa"},{"$f":"+Cribbage!C19","v":-100000000},{"$f":"+Cribbage!D19","v":1},{"$f":"+Cribbage!E19","v":0},{"$f":"+Cribbage!F19","v":0},null,null,null,null,null,null,null,null,{"$f":"+King!A19","v":15},{"$f":"+King!B19","v":"Anna P."},{"$f":"+King!C19","v":-100000000},{"$f":"+King!D19","v":1E-4},{"$f":"+King!E19","v":0},{"$f":"+King!F19","v":0}]
[null,null,null,null,null,null,null,null,null,null,{"$f":"+Cribbage!A20","v":16},{"$f":"+Cribbage!B20","v":"Mariajo"},{"$f":"+Cribbage!C20","v":-100000000},{"$f":"+Cribbage!D20","v":1},{"$f":"+Cribbage!E20","v":0},{"$f":"+Cribbage!F20","v":0},null,null,null,null,null,null,null,null,{"$f":"+King!A20","v":16},{"$f":"+King!B20","v":"Rosa M."},{"$f":"+King!C20","v":-100000000},{"$f":"+King!D20","v":1E-4},{"$f":"+King!E20","v":0},{"$f":"+King!F20","v":0}]
[null,null,null,null,null,null,null,null,null,null,{"$f":"+Cribbage!A21","v":17},{"$f":"+Cribbage!B21","v":"Joan"},{"$f":"+Cribbage!C21","v":-100000000},{"$f":"+Cribbage!D21","v":1},{"$f":"+Cribbage!E21","v":0},{"$f":"+Cribbage!F21","v":0},null,null,null,null,null,null,null,null,{"$f":"+King!A21","v":17},{"$f":"+King!B21","v":"Angie"},{"$f":"+King!C21","v":-100000000},{"$f":"+King!D21","v":1E-4},{"$f":"+King!E21","v":0},{"$f":"+King!F21","v":0}]
[null,null,null,null,null,null,null,null,null,null,{"$f":"+Cribbage!A22","v":18},{"$f":"+Cribbage!B22","v":"Rosa M."},{"$f":"+Cribbage!C22","v":-100000000},{"$f":"+Cribbage!D22","v":1},{"$f":"+Cribbage!E22","v":0},{"$f":"+Cribbage!F22","v":0}]
[null,null,null,null,null,null,null,null,null,null,{"$f":"+Cribbage!A23","v":19},{"$f":"+Cribbage!B23","v":"Tito"},{"$f":"+Cribbage!C23","v":-100000000},{"$f":"+Cribbage!D23","v":1},{"$f":"+Cribbage!E23","v":0},{"$f":"+Cribbage!F23","v":0}]
[null,null,null,null,null,null,null,null,null,null,{"$f":"+Cribbage!A24","v":20},{"$f":"+Cribbage!B24","v":"Anna P."},{"$f":"+Cribbage!C24","v":-100000000},{"$f":"+Cribbage!D24","v":1},{"$f":"+Cribbage!E24","v":0},{"$f":"+Cribbage!F24","v":0}]
[]
[null,null,null,{"$f":"+Texas!A1","v":"POKER TEXAS"},null,null,null,null,null,null,null,null,null,null,null,null,null,{"$f":"+Mus!A1","v":"MUS"},null,null,null,null,null,null,{"$f":"+Cors!A1","v":"CORS"}]
[]
[null,null,null,null,null,{"$f":"+Texas!C4","v":"Premi"},{"$f":"+Texas!D4","v":"Punts"},{"$f":"+Texas!E4","v":"Partides"},{"$f":"+Texas!F4","v":"General"},null,null,null,null,null,null,null,null,null,null,{"$f":"+Mus!C4","v":"Premi"},{"$f":"+Mus!D4","v":"Punts"},{"$f":"+Mus!E4","v":"Partides"},{"$f":"+Mus!F4","v":"General"},null,null,null,{"$f":"+Cors!C4","v":"Premi"},{"$f":"+Cors!D4","v":"Punts"},{"$f":"+Cors!E4","v":"Partides"},{"$f":"+Cors!F4","v":"General"}]
[null,null,null,{"$f":"+Texas!A5","v":1},{"$f":"+Texas!B5","v":"Carles"},{"$f":"+Texas!C5","v":-100000000},{"$f":"+Texas!D5","v":0},{"$f":"+Texas!E5","v":0},{"$f":"+Texas!F5","v":0},null,null,null,null,null,null,null,null,{"$f":"+Mus!A5","v":1},{"$f":"+Mus!B5","v":"Lucía"},{"$f":"+Mus!C5","v":-100000000},{"$f":"+Mus!D5","v":0},{"$f":"+Mus!E5","v":0},{"$f":"+Mus!F5","v":0},null,{"$f":"+Cors!A5","v":1},{"$f":"+Cors!B5","v":"Carles"},{"$f":"+Cors!C5","v":-100000000},{"$f":"+Cors!D5","v":1E-4},{"$f":"+Cors!E5","v":0},{"$f":"+Cors!F5","v":0}]
[null,null,null,{"$f":"+Texas!A6","v":2},{"$f":"+Texas!B6","v":"Grau"},{"$f":"+Texas!C6","v":-100000000},{"$f":"+Texas!D6","v":0},{"$f":"+Texas!E6","v":0},{"$f":"+Texas!F6","v":0},null,null,null,null,null,null,null,null,{"$f":"+Mus!A6","v":2},{"$f":"+Mus!B6","v":"Carles"},{"$f":"+Mus!C6","v":-100000000},{"$f":"+Mus!D6","v":0},{"$f":"+Mus!E6","v":0},{"$f":"+Mus!F6","v":0},null,{"$f":"+Cors!A6","v":2},{"$f":"+Cors!B6","v":"Jordi"},{"$f":"+Cors!C6","v":-100000000},{"$f":"+Cors!D6","v":1E-4},{"$f":"+Cors!E6","v":0},{"$f":"+Cors!F6","v":0}]
[null,null,null,{"$f":"+Texas!A7","v":3},{"$f":"+Texas!B7","v":"Jordi"},{"$f":"+Texas!C7","v":-100000000},{"$f":"+Texas!D7","v":0},{"$f":"+Texas!E7","v":0},{"$f":"+Texas!F7","v":0},null,null,null,null,null,null,null,null,{"$f":"+Mus!A7","v":3},{"$f":"+Mus!B7","v":"Manolo"},{"$f":"+Mus!C7","v":-100000000},{"$f":"+Mus!D7","v":0},{"$f":"+Mus!E7","v":0},{"$f":"+Mus!F7","v":0},null,{"$f":"+Cors!A7","v":3},{"$f":"+Cors!B7","v":"Manolo"},{"$f":"+Cors!C7","v":-100000000},{"$f":"+Cors!D7","v":1E-4},{"$f":"+Cors!E7","v":0},{"$f":"+Cors!F7","v":0}]
[null,null,null,{"$f":"+Texas!A8","v":4},{"$f":"+Texas!B8","v":"Lucía"},{"$f":"+Texas!C8","v":-100000000},{"$f":"+Texas!D8","v":0},{"$f":"+Texas!E8","v":0},{"$f":"+Texas!F8","v":0},null,null,null,null,null,null,null,null,{"$f":"+Mus!A8","v":4},{"$f":"+Mus!B8","v":"Mariajo"},{"$f":"+Mus!C8","v":-100000000},{"$f":"+Mus!D8","v":0},{"$f":"+Mus!E8","v":0},{"$f":"+Mus!F8","v":0},null,{"$f":"+Cors!A8","v":4},{"$f":"+Cors!B8","v":"Cyber X"},{"$f":"+Cors!C8","v":-100000000},{"$f":"+Cors!D8","v":1E-4},{"$f":"+Cors!E8","v":0},{"$f":"+Cors!F8","v":0}]
[null,null,null,null,null,null,null,null,null,null,null,null,null,null,null,null,null,{"$f":"+Mus!A9","v":5},{"$f":"+Mus!B9","v":"Grau"},{"$f":"+Mus!C9","v":-100000000},{"$f":"+Mus!D9","v":0},{"$f":"+Mus!E9","v":0},{"$f":"+Mus!F9","v":0},null,{"$f":"+Cors!A9","v":5},{"$f":"+Cors!B9","v":"Sergi"},{"$f":"+Cors!C9","v":-100000000},{"$f":"+Cors!D9","v":1E-4},{"$f":"+Cors!E9","v":0},{"$f":"+Cors!F9","v":0}]
[null,null,null,null,null,null,null,null,null,null,{"$f":"+Tarot!A10","v":6},{"$f":"+Tarot!B10","v":"Grau"},{"$f":"+Tarot!C10","v":-100000000},{"$f":"+Tarot!D10","v":1},{"$f":"+Tarot!E10","v":0},{"$f":"+Tarot!F10","v":0},null,{"$f":"+Mus!A10","v":6},{"$f":"+Mus!B10","v":"Jordi"},{"$f":"+Mus!C10","v":-100000000},{"$f":"+Mus!D10","v":0},{"$f":"+Mus!E10","v":0},{"$f":"+Mus!F10","v":0},null,{"$f":"+Cors!A10","v":6},{"$f":"+Cors!B10","v":"Grau"},{"$f":"+Cors!C10","v":-100000000},{"$f":"+Cors!D10","v":1E-4},{"$f":"+Cors!E10","v":0},{"$f":"+Cors!F10","v":0}]
[null,null,null,null,null,null,null,null,null,null,null,null,null,null,null,null,null,null,null,null,null,null,null,null,{"$f":"+Cors!A11","v":7},{"$f":"+Cors!B11","v":"Nin"},{"$f":"+Cors!C11","v":-100000000},{"$f":"+Cors!D11","v":1E-4},{"$f":"+Cors!E11","v":0},{"$f":"+Cors!F11","v":0}]
[null,null,null,null,null,null,null,null,null,null,null,null,null,null,null,null,null,null,null,null,null,null,null,null,{"$f":"+Cors!A12","v":8},{"$f":"+Cors!B12","v":"Mariajo"},{"$f":"+Cors!C12","v":-100000000},{"$f":"+Cors!D12","v":1E-4},{"$f":"+Cors!E12","v":0},{"$f":"+Cors!F12","v":0}]
[null,null,null,null,null,null,null,null,null,null,null,null,null,null,null,null,null,null,null,null,null,null,null,null,{"$f":"+Cors!A13","v":9},{"$f":"+Cors!B13","v":"Tito"},{"$f":"+Cors!C13","v":-100000000},{"$f":"+Cors!D13","v":1E-4},{"$f":"+Cors!E13","v":0},{"$f":"+Cors!F13","v":0}]
[null,null,null,null,null,null,null,null,null,null,null,null,null,null,null,null,null,null,null,null,null,null,null,null,{"$f":"+Cors!A14","v":10},{"$f":"+Cors!B14","v":"Òscar"},{"$f":"+Cors!C14","v":-100000000},{"$f":"+Cors!D14","v":1E-4},{"$f":"+Cors!E14","v":0},{"$f":"+Cors!F14","v":0}]
[]
[null,null,null,{"$f":"+'4 Duros'!A1","v":"4 DUROS"},null,null,null,null,null,null,{"$f":"+'Black Jack'!A1","v":"BLACK JACK"}]
[]
[null,null,null,null,null,{"$f":"+'4 Duros'!C4","v":"Premi"},{"$f":"+'4 Duros'!D4","v":"Punts"},{"$f":"+'4 Duros'!E4","v":"Partides"},{"$f":"+'4 Duros'!F4","v":"General"},null,null,null,{"$f":"+'Black Jack'!C4","v":"Premi"},{"$f":"+'Black Jack'!D4","v":"Punts"},{"$f":"+'Black Jack'!E4","v":"Partides"},{"$f":"+'Black Jack'!F4","v":"General"}]
[null,null,null,{"$f":"+'4 Duros'!A5","v":1},{"$f":"+'4 Duros'!B5","v":"Joan"},{"$f":"+'4 Duros'!C5","v":-100000000},{"$f":"+'4 Duros'!D5","v":0},{"$f":"+'4 Duros'!E5","v":0},{"$f":"+'4 Duros'!F5","v":0},null,{"$f":"+'Black Jack'!A5","v":1},{"$f":"+'Black Jack'!B5","v":"Jordi"},{"$f":"+'Black Jack'!C5","v":-100000000},{"$f":"+'Black Jack'!D5","v":0},{"$f":"+'Black Jack'!E5","v":0},{"$f":"+'Black Jack'!F5","v":0}]
[null,null,null,{"$f":"+'4 Duros'!A6","v":2},{"$f":"+'4 Duros'!B6","v":"Rosa"},{"$f":"+'4 Duros'!C6","v":-100000000},{"$f":"+'4 Duros'!D6","v":0},{"$f":"+'4 Duros'!E6","v":0},{"$f":"+'4 Duros'!F6","v":0},null,{"$f":"+'Black Jack'!A6","v":2},{"$f":"+'Black Jack'!B6","v":"Carles"},{"$f":"+'Black Jack'!C6","v":-100000000},{"$f":"+'Black Jack'!D6","v":0},{"$f":"+'Black Jack'!E6","v":0},{"$f":"+'Black Jack'!F6","v":0}]
[null,null,null,{"$f":"+'4 Duros'!A7","v":3},{"$f":"+'4 Duros'!B7","v":"Jordi"},{"$f":"+'4 Duros'!C7","v":-100000000},{"$f":"+'4 Duros'!D7","v":0},{"$f":"+'4 Duros'!E7","v":0},{"$f":"+'4 Duros'!F7","v":0},null,{"$f":"+'Black Jack'!A7","v":3},{"$f":"+'Black Jack'!B7","v":"Manel"},{"$f":"+'Black Jack'!C7","v":-100000000},{"$f":"+'Black Jack'!D7","v":0},{"$f":"+'Black Jack'!E7","v":0},{"$f":"+'Black Jack'!F7","v":0}]
[null,null,null,{"$f":"+'4 Duros'!A8","v":4},{"$f":"+'4 Duros'!B8","v":"Anna P."},{"$f":"+'4 Duros'!C8","v":-100000000},{"$f":"+'4 Duros'!D8","v":0},{"$f":"+'4 Duros'!E8","v":0},{"$f":"+'4 Duros'!F8","v":0}]
[null,null,null,{"$f":"+'4 Duros'!A9","v":5},{"$f":"+'4 Duros'!B9","v":"Manel"},{"$f":"+'4 Duros'!C9","v":-100000000},{"$f":"+'4 Duros'!D9","v":0},{"$f":"+'4 Duros'!E9","v":0},{"$f":"+'4 Duros'!F9","v":0}]
[null,null,null,{"$f":"+'4 Duros'!A10","v":6},{"$f":"+'4 Duros'!B10","v":"Carles"},{"$f":"+'4 Duros'!C10","v":-100000000},{"$f":"+'4 Duros'!D10","v":0},{"$f":"+'4 Duros'!E10","v":0},{"$f":"+'4 Duros'!F10","v":0}]
[]
[]
[]
[]
[]
[]
[]
[]
[]
[]
[]
[]
[]
[null,null,null,null,null,null,null,null,null,null,null,null,null,null,null,null,{"$f":"+Buti!A9","v":5},{"$f":"+Buti!B9","v":"Gemma"},{"$f":"+Buti!C9","v":-2},{"$f":"+Buti!D9","v":-8},{"$f":"+Buti!E9","v":1},{"$f":"+Buti!F9","v":0},null,{"$f":"+Wizard!A9","v":5},{"$f":"+Wizard!B9","v":"Núria"},{"$f":"+Wizard!C9","v":83.5},{"$f":"+Wizard!D9","v":188.83042805222775},{"$f":"+Wizard!E9","v":437},{"$f":"+Wizard!F9","v":5}]
[null,null,null,null,null,null,null,null,null,null,null,null,null,null,null,null,{"$f":"+Buti!A10","v":6},{"$f":"+Buti!B10","v":"Carles"},{"$f":"+Buti!C10","v":-6},{"$f":"+Buti!D10","v":-13},{"$f":"+Buti!E10","v":1},{"$f":"+Buti!F10","v":0},null,{"$f":"+Wizard!A10","v":6},{"$f":"+Wizard!B10","v":"Tim"},{"$f":"+Wizard!C10","v":53.5},{"$f":"+Wizard!D10","v":214.375},{"$f":"+Wizard!E10","v":16},{"$f":"+Wizard!F10","v":0}]
[null,null,null,null,null,null,null,null,null,{"$f":"+Mus!A11","v":7},{"$f":"+Mus!B11","v":"Goretti"},{"$f":"+Mus!C11","v":-100000000},{"$f":"+Mus!D11","v":0},{"$f":"+Mus!E11","v":0},{"$f":"+Mus!F11","v":0},null,{"$f":"+Buti!A11","v":7},{"$f":"+Buti!B11","v":"Núria"},{"$f":"+Buti!C11","v":-10},{"$f":"+Buti!D11","v":-16},{"$f":"+Buti!E11","v":1},{"$f":"+Buti!F11","v":0},null,{"$f":"+Wizard!A11","v":7},{"$f":"+Wizard!B11","v":"CyberX"},{"$f":"+Wizard!C11","v":14.500000000000004},{"$f":"+Wizard!D11","v":192.76211934156387},{"$f":"+Wizard!E11","v":375},{"$f":"+Wizard!F11","v":0}]
[null,null,null,null,null,null,null,null,null,null,null,null,null,null,null,null,{"$f":"+Buti!A12","v":8},{"$f":"+Buti!B12","v":"Palafox"},{"$f":"+Buti!C12","v":-100000000},{"$f":"+Buti!D12","v":1},{"$f":"+Buti!E12","v":0},{"$f":"+Buti!F12","v":0},null,{"$f":"+Wizard!A12","v":8},{"$f":"+Wizard!B12","v":"Marina"},{"$f":"+Wizard!C12","v":6},{"$f":"+Wizard!D12","v":217.27272727272728},{"$f":"+Wizard!E12","v":11},{"$f":"+Wizard!F12","v":0}]
[null,null,{"$f":"+Kul!A13","v":9},{"$f":"+Kul!B13","v":"Mariajo"},{"$f":"+Kul!C13","v":-15},{"$f":"+Kul!D13","v":-5},{"$f":"+Kul!E13","v":2},{"$f":"+Kul!F13","v":0},null,null,null,null,null,null,null,null,{"$f":"+Buti!A13","v":9},{"$f":"+Buti!B13","v":"Marina"},{"$f":"+Buti!C13","v":-100000000},{"$f":"+Buti!D13","v":1},{"$f":"+Buti!E13","v":0},{"$f":"+Buti!F13","v":0},null,{"$f":"+Wizard!A13","v":9},{"$f":"+Wizard!B13","v":"Òscar"},{"$f":"+Wizard!C13","v":-12.5},{"$f":"+Wizard!D13","v":174.41176470588235},{"$f":"+Wizard!E13","v":34},{"$f":"+Wizard!F13","v":0}]
[null,null,{"$f":"+Kul!A14","v":10},{"$f":"+Kul!B14","v":"Grau"},{"$f":"+Kul!C14","v":-100000000},{"$f":"+Kul!D14","v":0},{"$f":"+Kul!E14","v":0},{"$f":"+Kul!F14","v":0},null,null,null,null,null,null,null,null,{"$f":"+Buti!A14","v":10},{"$f":"+Buti!B14","v":"Xavi"},{"$f":"+Buti!C14","v":-100000000},{"$f":"+Buti!D14","v":1},{"$f":"+Buti!E14","v":0},{"$f":"+Buti!F14","v":0},null,{"$f":"+Wizard!A14","v":10},{"$f":"+Wizard!B14","v":"Alfred"},{"$f":"+Wizard!C14","v":-15},{"$f":"+Wizard!D14","v":200},{"$f":"+Wizard!E14","v":19},{"$f":"+Wizard!F14","v":0}]
[null,null,{"$f":"+Kul!A15","v":11},{"$f":"+Kul!B15","v":"Manolo"},{"$f":"+Kul!C15","v":-100000000},{"$f":"+Kul!D15","v":0},{"$f":"+Kul!E15","v":0},{"$f":"+Kul!F15","v":0},null,null,null,null,null,null,null,null,{"$f":"+Buti!A15","v":11},{"$f":"+Buti!B15","v":"David"},{"$f":"+Buti!C15","v":-100000000},{"$f":"+Buti!D15","v":1},{"$f":"+Buti!E15","v":0},{"$f":"+Buti!F15","v":0},null,{"$f":"+Wizard!A15","v":11},{"$f":"+Wizard!B15","v":"Mariajo"},{"$f":"+Wizard!C15","v":-17},{"$f":"+Wizard!D15","v":176.66666666666666},{"$f":"+Wizard!E15","v":6},{"$f":"+Wizard!F15","v":0}]
[]
[]
[]
[null,null,null,null,null,null,null,null,null,null,null,null,null,null,null,null,null,null,null,null,null,null,null,{"$f":"+Omaha!A1","v":"POKER OMAHA"}]
[]
[null,null,null,null,null,null,null,null,null,null,null,null,null,null,null,null,null,null,null,null,null,null,null,null,null,{"$f":"+Omaha!C4","v":"Premi"},{"$f":"+Omaha!D4","v":"Punts"},{"$f":"+Omaha!E4","v":"Partides"},{"$f":"+Omaha!F4","v":"General"}]
[null,null,null,null,null,null,null,null,null,null,null,null,null,null,null,null,null,null,null,null,null,null,null,{"$f":"+Omaha!A5","v":1},{"$f":"+Omaha!B5","v":"Carles"},{"$f":"+Omaha!C5","v":-100000000},{"$f":"+Omaha!D5","v":0},{"$f":"+Omaha!E5","v":0},{"$f":"+Omaha!F5","v":0}]
[null,null,null,null,null,null,null,null,null,null,null,null,null,null,null,null,null,null,null,null,null,null,null,{"$f":"+Omaha!A6","v":2},{"$f":"+Omaha!B6","v":"Goretti"},{"$f":"+Omaha!C6","v":-100000000},{"$f":"+Omaha!D6","v":0},{"$f":"+Omaha!E6","v":0},{"$f":"+Omaha!F6","v":0}]
[null,null,null,null,null,null,null,null,null,null,null,null,null,null,null,null,null,null,null,null,null,null,null,{"$f":"+Omaha!A7","v":3},{"$f":"+Omaha!B7","v":"Grau"},{"$f":"+Omaha!C7","v":-100000000},{"$f":"+Omaha!D7","v":0},{"$f":"+Omaha!E7","v":0},{"$f":"+Omaha!F7","v":0}]
[null,null,null,null,null,null,null,null,null,null,null,null,null,null,null,null,null,null,null,null,null,null,null,{"$f":"+Omaha!A8","v":4},{"$f":"+Omaha!B8","v":"Mercè"},{"$f":"+Omaha!C8","v":-100000000},{"$f":"+Omaha!D8","v":0},{"$f":"+Omaha!E8","v":0},{"$f":"+Omaha!F8","v":0}]
[null,null,{"$f":"+King!A9","v":5},{"$f":"+King!B9","v":"Núria"},{"$f":"+King!C9","v":12},{"$f":"+King!D9","v":-1.3363636363636362},{"$f":"+King!E9","v":11},{"$f":"+King!F9","v":5},null,{"$f":"+Texas!A9","v":5},{"$f":"+Texas!B9","v":"Manolo"},{"$f":"+Texas!C9","v":-100000000},{"$f":"+Texas!D9","v":0},{"$f":"+Texas!E9","v":0},{"$f":"+Texas!F9","v":0},null,{"$f":"+Pumba!A9","v":5},{"$f":"+Pumba!B9","v":"Gemma"},{"$f":"+Pumba!C9","v":-4},{"$f":"+Pumba!D9","v":17.25},{"$f":"+Pumba!E9","v":1},{"$f":"+Pumba!F9","v":0},null,{"$f":"+Omaha!A9","v":5},{"$f":"+Omaha!B9","v":"Sergi"},{"$f":"+Omaha!C9","v":-100000000},{"$f":"+Omaha!D9","v":0},{"$f":"+Omaha!E9","v":0},{"$f":"+Omaha!F9","v":0}]
[null,null,{"$f":"+King!A10","v":6},{"$f":"+King!B10","v":"Montse"},{"$f":"+King!C10","v":-30},{"$f":"+King!D10","v":-2.7166666666666668},{"$f":"+King!E10","v":9},{"$f":"+King!F10","v":0},null,{"$f":"+Texas!A10","v":6},{"$f":"+Texas!B10","v":"Mariajo"},{"$f":"+Texas!C10","v":-100000000},{"$f":"+Texas!D10","v":0},{"$f":"+Texas!E10","v":0},{"$f":"+Texas!F10","v":0},null,{"$f":"+Pumba!A10","v":6},{"$f":"+Pumba!B10","v":"Nin"},{"$f":"+Pumba!C10","v":-4},{"$f":"+Pumba!D10","v":19},{"$f":"+Pumba!E10","v":1},{"$f":"+Pumba!F10","v":0},null,{"$f":"+Omaha!A10","v":6},{"$f":"+Omaha!B10","v":"Jordi"},{"$f":"+Omaha!C10","v":-100000000},{"$f":"+Omaha!D10","v":0},{"$f":"+Omaha!E10","v":0},{"$f":"+Omaha!F10","v":0}]
[null,null,{"$f":"+King!A11","v":7},{"$f":"+King!B11","v":"Cyber X"},{"$f":"+King!C11","v":-28},{"$f":"+King!D11","v":-6.040909090909091},{"$f":"+King!E11","v":11},{"$f":"+King!F11","v":0},null,null,null,null,null,null,null,null,{"$f":"+Pumba!A11","v":7},{"$f":"+Pumba!B11","v":"Carles"},{"$f":"+Pumba!C11","v":-10},{"$f":"+Pumba!D11","v":19.75},{"$f":"+Pumba!E11","v":1},{"$f":"+Pumba!F11","v":0},null,{"$f":"+Omaha!A11","v":7},{"$f":"+Omaha!B11","v":"Katy"},{"$f":"+Omaha!C11","v":-100000000},{"$f":"+Omaha!D11","v":0},{"$f":"+Omaha!E11","v":0},{"$f":"+Omaha!F11","v":0}]
[null,null,null,null,null,null,null,null,null,null,null,null,null,null,null,null,{"$f":"+Pumba!A12","v":8},{"$f":"+Pumba!B12","v":"Montse"},{"$f":"+Pumba!C12","v":-10},{"$f":"+Pumba!D12","v":28.5},{"$f":"+Pumba!E12","v":1},{"$f":"+Pumba!F12","v":0},null,{"$f":"+Omaha!A12","v":8},{"$f":"+Omaha!B12","v":"Mariajo"},{"$f":"+Omaha!C12","v":-100000000},{"$f":"+Omaha!D12","v":0},{"$f":"+Omaha!E12","v":0},{"$f":"+Omaha!F12","v":0}]
[null,null,null,null,null,null,null,null,null,null,null,null,null,null,null,null,{"$f":"+Pumba!A13","v":9},{"$f":"+Pumba!B13","v":"Tito"},{"$f":"+Pumba!C13","v":-100000000},{"$f":"+Pumba!D13","v":0},{"$f":"+Pumba!E13","v":0},{"$f":"+Pumba!F13","v":0},null,{"$f":"+Omaha!A13","v":9},{"$f":"+Omaha!B13","v":"Manolo"},{"$f":"+Omaha!C13","v":-100000000},{"$f":"+Omaha!D13","v":0},{"$f":"+Omaha!E13","v":0},{"$f":"+Omaha!F13","v":0}]
[null,null,null,null,null,null,null,null,null,null,null,null,null,null,null,null,{"$f":"+Pumba!A14","v":10},{"$f":"+Pumba!B14","v":"Manolo"},{"$f":"+Pumba!C14","v":-100000000},{"$f":"+Pumba!D14","v":0},{"$f":"+Pumba!E14","v":0},{"$f":"+Pumba!F14","v":0}]
[null,null,null,null,null,null,null,null,null,null,null,null,null,null,null,null,{"$f":"+Pumba!A15","v":11},{"$f":"+Pumba!B15","v":"Goretti"},{"$f":"+Pumba!C15","v":-100000000},{"$f":"+Pumba!D15","v":0},{"$f":"+Pumba!E15","v":0},{"$f":"+Pumba!F15","v":0}]
[]
[null,null,null,null,null,null,null,null,null,null,null,null,null,null,null,null,{"$f":"+Pocha!A1","v":"POCHA"},null,null,null,null,null,null,{"$f":"+Julepe!A1","v":"JULEPE"}]
[]
[null,null,null,null,null,null,null,null,null,null,null,null,null,null,null,null,null,null,{"$f":"+Pocha!C4","v":"Premi"},{"$f":"+Pocha!D4","v":"Punts"},{"$f":"+Pocha!E4","v":"Partides"},{"$f":"+Pocha!F4","v":"General"},null,null,null,{"$f":"+Julepe!C4","v":"Premi"},{"$f":"+Julepe!D4","v":"Punts"},{"$f":"+Julepe!E4","v":"Partides"},{"$f":"+Julepe!F4","v":"General"}]
[null,null,null,null,null,null,null,null,null,null,null,null,null,null,null,null,{"$f":"+Pocha!A5","v":1},{"$f":"+Pocha!B5","v":"alaf"},{"$f":"+Pocha!C5","v":-100000000},{"$f":"+Pocha!D5","v":1E-4},{"$f":"+Pocha!E5","v":0},{"$f":"+Pocha!F5","v":0},null,{"$f":"+Julepe!A5","v":1},{"$f":"+Julepe!B5","v":"Carles"},{"$f":"+Julepe!C5","v":-100000000},{"$f":"+Julepe!D5","v":0},{"$f":"+Julepe!E5","v":0},{"$f":"+Julepe!F5","v":0}]
[null,null,null,null,null,null,null,null,null,null,null,null,null,null,null,null,{"$f":"+Pocha!A6","v":2},{"$f":"+Pocha!B6","v":"Jordi"},{"$f":"+Pocha!C6","v":-100000000},{"$f":"+Pocha!D6","v":1E-4},{"$f":"+Pocha!E6","v":0},{"$f":"+Pocha!F6","v":0},null,{"$f":"+Julepe!A6","v":2},{"$f":"+Julepe!B6","v":"Sergi"},{"$f":"+Julepe!C6","v":-100000000},{"$f":"+Julepe!D6","v":0},{"$f":"+Julepe!E6","v":0},{"$f":"+Julepe!F6","v":0}]
[null,null,null,null,null,null,null,null,null,null,null,null,null,null,null,null,{"$f":"+Pocha!A7","v":3},{"$f":"+Pocha!B7","v":"Grau"},{"$f":"+Pocha!C7","v":-100000000},{"$f":"+Pocha!D7","v":1E-4},{"$f":"+Pocha!E7","v":0},{"$f":"+Pocha!F7","v":0},null,{"$f":"+Julepe!A7","v":3},{"$f":"+Julepe!B7","v":"Manel"},{"$f":"+Julepe!C7","v":-100000000},{"$f":"+Julepe!D7","v":0},{"$f":"+Julepe!E7","v":0},{"$f":"+Julepe!F7","v":0}]
[null,null,null,null,null,null,null,null,null,null,null,null,null,null,null,null,{"$f":"+Pocha!A8","v":4},{"$f":"+Pocha!B8","v":"Manel"},{"$f":"+Pocha!C8","v":-100000000},{"$f":"+Pocha!D8","v":1E-4},{"$f":"+Pocha!E8","v":0},{"$f":"+Pocha!F8","v":0},null,{"$f":"+Julepe!A8","v":4},{"$f":"+Julepe!B8","v":"Jordi"},{"$f":"+Julepe!C8","v":-100000000},{"$f":"+Julepe!D8","v":0},{"$f":"+Julepe!E8","v":0},{"$f":"+Julepe!F8","v":0}]
[null,null,{"$f":"+Cribbage!A9","v":5},{"$f":"+Cribbage!B9","v":"Nogué"},{"$f":"+Cribbage!C9","v":28},{"$f":"+Cribbage!D9","v":194.5},{"$f":"+Cribbage!E9","v":250},{"$f":"+Cribbage!F9","v":5},null,{"$f":"+Cors!A9","v":5},{"$f":"+Cors!B9","v":"Sergi"},{"$f":"+Cors!C9","v":-100000000},{"$f":"+Cors!D9","v":1E-4},{"$f":"+Cors!E9","v":0},{"$f":"+Cors!F9","v":0},null,{"$f":"+Pocha!A9","v":5},{"$f":"+Pocha!B9","v":"Mariajo"},{"$f":"+Pocha!C9","v":-100000000},{"$f":"+Pocha!D9","v":1E-4},{"$f":"+Pocha!E9","v":0},{"$f":"+Pocha!F9","v":0},null,{"$f":"+Julepe!A9","v":5},{"$f":"+Julepe!B9","v":"Mariajo"},{"$f":"+Julepe!C9","v":-100000000},{"$f":"+Julepe!D9","v":0},{"$f":"+Julepe!E9","v":0},{"$f":"+Julepe!F9","v":0}]
[null,null,null,null,null,null,null,null,null,null,null,null,null,null,null,null,null,null,null,null,null,null,null,{"$f":"+Julepe!A10","v":6},{"$f":"+Julepe!B10","v":"Katy"},{"$f":"+Julepe!C10","v":-100000000},{"$f":"+Julepe!D10","v":0},{"$f":"+Julepe!E10","v":0},{"$f":"+Julepe!F10","v":0}]
[null,null,null,null,null,null,null,null,null,null,null,null,null,null,null,null,null,null,null,null,null,null,null,{"$f":"+Julepe!A11","v":7},{"$f":"+Julepe!B11","v":"Grau"},{"$f":"+Julepe!C11","v":-100000000},{"$f":"+Julepe!D11","v":0},{"$f":"+Julepe!E11","v":0},{"$f":"+Julepe!F11","v":0}]
[]
[]
[]
[]
[]
[]
[]
[]
[]
[]
[]
[]
[]
[]
[]
[null,null,{"$f":"+King!A11","v":7},{"$f":"+King!B11","v":"Cyber X"},{"$f":"+King!C11","v":-28},{"$f":"+King!D11","v":-6.040909090909091},{"$f":"+King!E11","v":11},{"$f":"+King!F11","v":0}]
[null,null,{"$f":"+King!A12","v":8},{"$f":"+King!B12","v":"Gemma"},{"$f":"+King!C12","v":-46},{"$f":"+King!D12","v":-4.1892857142857141},{"$f":"+King!E12","v":14},{"$f":"+King!F12","v":0}]
[null,null,{"$f":"+King!A13","v":9},{"$f":"+King!B13","v":"Nin"},{"$f":"+King!C13","v":-100},{"$f":"+King!D13","v":-6.328125},{"$f":"+King!E13","v":16},{"$f":"+King!F13","v":0}]
[]
[]
[null,null,"TUTE CABRÒ",null,null,null,null,null,null,null,null,null,null,null,null,null,{"$f":"+Canasta!A1","v":"CANASTA"}]
[]
[null,null,null,null,"Premi","Punts","Partides","General",null,null,null,null,null,null,null,null,null,null,{"$f":"+Canasta!C4","v":"Premi"},{"$f":"+Canasta!D4","v":"Punts"},{"$f":"+Canasta!E4","v":"Partides"},{"$f":"+Canasta!F4","v":"General"}]
[null,null,1,{"$f":"+'Tute cabrò'!B5","v":"Jordi"},{"$f":"+'Tute cabrò'!C5","v":-100000000},{"$f":"+'Tute cabrò'!D5","v":1E-4},{"$f":"+'Tute cabrò'!E5","v":0},{"$f":"+'Tute cabrò'!F5","v":0},null,null,null,null,null,null,null,null,{"$f":"+Canasta!A5","v":1},{"$f":"+Canasta!B5","v":"Sergi"},{"$f":"+Canasta!C5","v":-100000000},{"$f":"+Canasta!D5","v":0},{"$f":"+Canasta!E5","v":0},{"$f":"+Canasta!F5","v":0}]
[null,null,2,{"$f":"+'Tute cabrò'!B6","v":"Mariajo"},{"$f":"+'Tute cabrò'!C6","v":-100000000},{"$f":"+'Tute cabrò'!D6","v":1E-4},{"$f":"+'Tute cabrò'!E6","v":0},{"$f":"+'Tute cabrò'!F6","v":0},null,null,null,null,null,null,null,null,{"$f":"+Canasta!A6","v":2},{"$f":"+Canasta!B6","v":"Jordi"},{"$f":"+Canasta!C6","v":-100000000},{"$f":"+Canasta!D6","v":0},{"$f":"+Canasta!E6","v":0},{"$f":"+Canasta!F6","v":0}]
[null,null,3,{"$f":"+'Tute cabrò'!B7","v":"Grau"},{"$f":"+'Tute cabrò'!C7","v":-100000000},{"$f":"+'Tute cabrò'!D7","v":1E-4},{"$f":"+'Tute cabrò'!E7","v":0},{"$f":"+'Tute cabrò'!F7","v":0},null,null,null,null,null,null,null,null,{"$f":"+Canasta!A7","v":3},{"$f":"+Canasta!B7","v":"Carles"},{"$f":"+Canasta!C7","v":-100000000},{"$f":"+Canasta!D7","v":0},{"$f":"+Canasta!E7","v":0},{"$f":"+Canasta!F7","v":0}]
[null,null,null,null,null,null,null,null,null,null,null,null,null,null,null,null,{"$f":"+Canasta!A8","v":4},{"$f":"+Canasta!B8","v":"Grau"},{"$f":"+Canasta!C8","v":-100000000},{"$f":"+Canasta!D8","v":0},{"$f":"+Canasta!E8","v":0},{"$f":"+Canasta!F8","v":0}]
[null,null,null,null,null,null,null,null,null,null,null,null,null,null,null,null,{"$f":"+Canasta!A9","v":5},{"$f":"+Canasta!B9","v":"Mercè"},{"$f":"+Canasta!C9","v":-100000000},{"$f":"+Canasta!D9","v":0},{"$f":"+Canasta!E9","v":0},{"$f":"+Canasta!F9","v":0}]
[null,null,null,null,null,null,null,null,null,null,null,null,null,null,null,null,{"$f":"+Canasta!A10","v":6},{"$f":"+Canasta!B10","v":"Goretti"},{"$f":"+Canasta!C10","v":-100000000},{"$f":"+Canasta!D10","v":0},{"$f":"+Canasta!E10","v":0},{"$f":"+Canasta!F10","v":0}]
[]
[]
[null,null,null,null,null,null,null,null,null,{"$f":"+Escombra!A1","v":"ESCOMBRA"}]
[]
[null,null,null,null,null,null,null,null,null,{"$f":"+Escombra!A4","v":0},{"$f":"+Escombra!B4","v":0},{"$f":"+Escombra!C4","v":"Premi"},{"$f":"+Escombra!D4","v":"Punts"},{"$f":"+Escombra!E4","v":"Partides"},{"$f":"+Escombra!F4","v":"General"}]
[null,null,null,null,null,null,null,null,null,{"$f":"+Escombra!A5","v":1},{"$f":"+Escombra!B5","v":"Carles"},{"$f":"+Escombra!C5","v":-100000000},{"$f":"+Escombra!D5","v":1E-4},{"$f":"+Escombra!E5","v":0},{"$f":"+Escombra!F5","v":0}]
[null,null,null,null,null,null,null,null,null,{"$f":"+Escombra!A6","v":2},{"$f":"+Escombra!B6","v":"Mercè"},{"$f":"+Escombra!C6","v":-100000000},{"$f":"+Escombra!D6","v":1E-4},{"$f":"+Escombra!E6","v":0},{"$f":"+Escombra!F6","v":0}]
[null,null,null,null,null,null,null,null,null,{"$f":"+Escombra!A7","v":3},{"$f":"+Escombra!B7","v":"Jordi"},{"$f":"+Escombra!C7","v":-100000000},{"$f":"+Escombra!D7","v":1E-4},{"$f":"+Escombra!E7","v":0},{"$f":"+Escombra!F7","v":0}]
[null,null,null,null,null,null,null,null,null,{"$f":"+Escombra!A8","v":4},{"$f":"+Escombra!B8","v":"Manolo"},{"$f":"+Escombra!C8","v":-100000000},{"$f":"+Escombra!D8","v":1E-4},{"$f":"+Escombra!E8","v":0},{"$f":"+Escombra!F8","v":0}]
[]
[]
[]
[]
[]
[]
[]
[]
[null,null,{"$f":"+Portugués!A1","v":"PORTUGUÉS"},null,null,null,null,null,null,null,null,null,null,null,null,null,null,null,null,null,null,null,null,{"$f":"+Tute!A1","v":"TUTE"}]
[]
[null,null,null,null,{"$f":"+Portugués!C4","v":"Premi"},{"$f":"+Portugués!D4","v":"Punts"},{"$f":"+Portugués!E4","v":"Partides"},{"$f":"+Portugués!F4","v":"General"},null,null,null,null,null,null,null,null,null,null,null,null,null,null,null,null,null,{"$f":"+Tute!C4","v":"Premi"},{"$f":"+Tute!D4","v":"Punts"},{"$f":"+Tute!E4","v":"Partides"},{"$f":"+Tute!F4","v":"General"}]
[null,null,{"$f":"+Portugués!A5","v":1},{"$f":"+Portugués!B5","v":"Manolo"},{"$f":"+Portugués!C5","v":-100000000},{"$f":"+Portugués!D5","v":1E-4},{"$f":"+Portugués!E5","v":0},{"$f":"+Portugués!F5","v":0},null,null,null,null,null,null,null,null,null,null,null,null,null,null,null,{"$f":"+Tute!A5","v":1},{"$f":"+Tute!B5","v":"Grau"},{"$f":"+Tute!C5","v":-100000000},{"$f":"+Tute!D5","v":1},{"$f":"+Tute!E5","v":0},{"$f":"+Tute!F5","v":0}]
[null,null,{"$f":"+Portugués!A6","v":2},{"$f":"+Portugués!B6","v":"Goretti"},{"$f":"+Portugués!C6","v":-100000000},{"$f":"+Portugués!D6","v":1E-4},{"$f":"+Portugués!E6","v":0},{"$f":"+Portugués!F6","v":0},null,null,null,null,null,null,null,null,null,null,null,null,null,null,null,{"$f":"+Tute!A6","v":2},{"$f":"+Tute!B6","v":"Manolo"},{"$f":"+Tute!C6","v":-100000000},{"$f":"+Tute!D6","v":1},{"$f":"+Tute!E6","v":0},{"$f":"+Tute!F6","v":0}]
[null,null,{"$f":"+Portugués!A7","v":3},{"$f":"+Portugués!B7","v":"Grau"},{"$f":"+Portugués!C7","v":-100000000},{"$f":"+Portugués!D7","v":1E-4},{"$f":"+Portugués!E7","v":0},{"$f":"+Portugués!F7","v":0},null,null,null,null,null,null,null,null,null,null,null,null,null,null,null,{"$f":"+Tute!A7","v":3},{"$f":"+Tute!B7","v":"Carles"},{"$f":"+Tute!C7","v":-100000000},{"$f":"+Tute!D7","v":1},{"$f":"+Tute!E7","v":0},{"$f":"+Tute!F7","v":0}]
[null,null,{"$f":"+Portugués!A8","v":4},{"$f":"+Portugués!B8","v":"Mercè"},{"$f":"+Portugués!C8","v":-100000000},{"$f":"+Portugués!D8","v":1E-4},{"$f":"+Portugués!E8","v":0},{"$f":"+Portugués!F8","v":0}]
[null,null,{"$f":"+Portugués!A9","v":5},{"$f":"+Portugués!B9","v":"Jordi"},{"$f":"+Portugués!C9","v":-100000000},{"$f":"+Portugués!D9","v":1E-4},{"$f":"+Portugués!E9","v":0},{"$f":"+Portugués!F9","v":0}]
[null,null,{"$f":"+Portugués!A10","v":6},{"$f":"+Portugués!B10","v":"Joan Carles"},{"$f":"+Portugués!C10","v":-100000000},{"$f":"+Portugués!D10","v":1E-4},{"$f":"+Portugués!E10","v":0},{"$f":"+Portugués!F10","v":0}]
[null,null,{"$f":"+Portugués!A11","v":7},{"$f":"+Portugués!B11","v":"Mariajo"},{"$f":"+Portugués!C11","v":-100000000},{"$f":"+Portugués!D11","v":1E-4},{"$f":"+Portugués!E11","v":0},{"$f":"+Portugués!F11","v":0}]
[]
[]
[]
[]
[]
[]
[]
[]
[]
[]
[]
[]
[]
[null,null,null,null,null,null,null,null,null,null,null,null,null,null,null,null,{"$f":"+Texas!A12","v":8},{"$f":"+Texas!B12","v":"David"},{"$f":"+Texas!C12","v":-100000000},{"$f":"+Texas!D12","v":0},{"$f":"+Texas!E12","v":0},{"$f":"+Texas!F12","v":0}]
[null,null,null,null,null,null,null,null,null,null,null,null,null,null,null,null,{"$f":"+Texas!A13","v":9},{"$f":"+Texas!B13","v":"Gerard"},{"$f":"+Texas!C13","v":-100000000},{"$f":"+Texas!D13","v":0},{"$f":"+Texas!E13","v":0},{"$f":"+Texas!F13","v":0}]
[]
[]
[]
[]
[]
[]
[]
[]
[]
[]
[]
[]
[]
[]
[]
[]
[]
[]
[]
[]
[]
[]
[]
[null,null,{"$f":"+Cors!A10","v":6},{"$f":"+Cors!B10","v":"Grau"},{"$f":"+Cors!C10","v":-100000000},{"$f":"+Cors!D10","v":1E-4},{"$f":"+Cors!E10","v":0},{"$f":"+Cors!F10","v":0}]
[null,null,{"$f":"+Cors!A11","v":7},{"$f":"+Cors!B11","v":"Nin"},{"$f":"+Cors!C11","v":-100000000},{"$f":"+Cors!D11","v":1E-4},{"$f":"+Cors!E11","v":0},{"$f":"+Cors!F11","v":0}]
[]
[]
[null,null,null,null,null,null,null,null,null,null,null,null,null,null,null,null,{"$f":"+King!A1","v":"KING"}]
[]
[null,null,null,null,null,null,null,null,null,null,null,null,null,null,null,null,null,null,{"$f":"+King!C4","v":"Premi"},{"$f":"+King!D4","v":"Punts"},{"$f":"+King!E4","v":"Partides"},{"$f":"+King!F4","v":"General"}]
[null,null,null,null,null,null,null,null,null,null,null,null,null,null,null,null,{"$f":"+King!A5","v":1},{"$f":"+King!B5","v":"Carles"},{"$f":"+King!C5","v":86},{"$f":"+King!D5","v":5.8823529411764705E-2},{"$f":"+King!E5","v":17},{"$f":"+King!F5","v":80}]
[null,null,null,null,null,null,null,null,null,null,null,null,null,null,null,null,{"$f":"+King!A6","v":2},{"$f":"+King!B6","v":"Jordi"},{"$f":"+King!C6","v":61},{"$f":"+King!D6","v":1.8187500000000001},{"$f":"+King!E6","v":16},{"$f":"+King!F6","v":40}]
[null,null,null,null,null,null,null,null,null,null,null,null,null,null,null,null,{"$f":"+King!A7","v":3},{"$f":"+King!B7","v":"Manolo"},{"$f":"+King!C7","v":31},{"$f":"+King!D7","v":-3.1733333333333329},{"$f":"+King!E7","v":15},{"$f":"+King!F7","v":20}]
[null,null,null,null,null,null,null,null,null,null,null,null,null,null,null,null,{"$f":"+King!A8","v":4},{"$f":"+King!B8","v":"Sebas"},{"$f":"+King!C8","v":20},{"$f":"+King!D8","v":-1.7235294117647062},{"$f":"+King!E8","v":14},{"$f":"+King!F8","v":10}]
[]
[]
[]
[]
[null,null,{"$f":"+Texas!A12","v":8},{"$f":"+Texas!B12","v":"David"},{"$f":"+Texas!C12","v":-100000000},{"$f":"+Texas!D12","v":0},{"$f":"+Texas!E12","v":0},{"$f":"+Texas!F12","v":0}]
[]
[]
[]
[]
[]
[]
[null,null,{"$f":"+'1000km'!A1","v":"1000km"},null,null,null,null,null,null,null,null,null,null,null,null,null,{"$f":"+'Poker C'!A1","v":"POKER C"},null,null,null,null,null,null,"POCHA"]
[]
[]
[null,null,null,null,{"$f":"+'1000km'!C4","v":"Premi"},{"$f":"+'1000km'!D4","v":"Punts"},{"$f":"+'1000km'!E4","v":"Partides"},{"$f":"+'1000km'!F4","v":"General"},null,null,null,null,null,null,null,null,null,null,{"$f":"+'Poker C'!C4","v":"Premi"},{"$f":"+'Poker C'!D4","v":"Punts"},{"$f":"+'Poker C'!E4","v":"Partides"},{"$f":"+'Poker C'!F4","v":"General"},null,{"$f":"+Pocha!A4","v":0},{"$f":"+Pocha!B4","v":0},{"$f":"+Pocha!C4","v":"Premi"},{"$f":"+Pocha!D4","v":"Punts"},{"$f":"+Pocha!E4","v":"Partides"},{"$f":"+Pocha!F4","v":"General"}]
[null,null,{"$f":"+'1000km'!A5","v":1},{"$f":"+'1000km'!B5","v":"Mercè"},{"$f":"+'1000km'!C5","v":-100000000},{"$f":"+'1000km'!D5","v":0},{"$f":"+'1000km'!E5","v":0},{"$f":"+'1000km'!F5","v":0},null,null,null,null,null,null,null,null,{"$f":"+'Poker C'!A5","v":1},{"$f":"+'Poker C'!B5","v":"Grau"},{"$f":"+'Poker C'!C5","v":-100000000},{"$f":"+'Poker C'!D5","v":1E-4},{"$f":"+'Poker C'!E5","v":0},{"$f":"+'Poker C'!F5","v":0},null,{"$f":"+Pocha!A5","v":1},{"$f":"+Pocha!B5","v":"alaf"},{"$f":"+Pocha!C5","v":-100000000},{"$f":"+Pocha!D5","v":1E-4},{"$f":"+Pocha!E5","v":0},{"$f":"+Pocha!F5","v":0}]
[null,null,{"$f":"+'1000km'!A6","v":2},{"$f":"+'1000km'!B6","v":"Sergi"},{"$f":"+'1000km'!C6","v":-100000000},{"$f":"+'1000km'!D6","v":0},{"$f":"+'1000km'!E6","v":0},{"$f":"+'1000km'!F6","v":0},null,null,null,null,null,null,null,null,{"$f":"+'Poker C'!A6","v":2},{"$f":"+'Poker C'!B6","v":"Sergi"},{"$f":"+'Poker C'!C6","v":-100000000},{"$f":"+'Poker C'!D6","v":1E-4},{"$f":"+'Poker C'!E6","v":0},{"$f":"+'Poker C'!F6","v":0},null,{"$f":"+Pocha!A6","v":2},{"$f":"+Pocha!B6","v":"Jordi"},{"$f":"+Pocha!C6","v":-100000000},{"$f":"+Pocha!D6","v":1E-4},{"$f":"+Pocha!E6","v":0},{"$f":"+Pocha!F6","v":0}]
[null,null,{"$f":"+'1000km'!A7","v":3},{"$f":"+'1000km'!B7","v":"Mariajo"},{"$f":"+'1000km'!C7","v":-100000000},{"$f":"+'1000km'!D7","v":0},{"$f":"+'1000km'!E7","v":0},{"$f":"+'1000km'!F7","v":0},null,null,null,null,null,null,null,null,{"$f":"+'Poker C'!A7","v":3},{"$f":"+'Poker C'!B7","v":"Carles"},{"$f":"+'Poker C'!C7","v":-100000000},{"$f":"+'Poker C'!D7","v":1E-4},{"$f":"+'Poker C'!E7","v":0},{"$f":"+'Poker C'!F7","v":0},null,{"$f":"+Pocha!A7","v":3},{"$f":"+Pocha!B7","v":"Grau"},{"$f":"+Pocha!C7","v":-100000000},{"$f":"+Pocha!D7","v":1E-4},{"$f":"+Pocha!E7","v":0},{"$f":"+Pocha!F7","v":0}]
[null,null,{"$f":"+'1000km'!A8","v":4},{"$f":"+'1000km'!B8","v":"Carles"},{"$f":"+'1000km'!C8","v":-100000000},{"$f":"+'1000km'!D8","v":0},{"$f":"+'1000km'!E8","v":0},{"$f":"+'1000km'!F8","v":0},null,null,null,null,null,null,null,null,{"$f":"+'Poker C'!A8","v":4},{"$f":"+'Poker C'!B8","v":"Jordi"},{"$f":"+'Poker C'!C8","v":-100000000},{"$f":"+'Poker C'!D8","v":1E-4},{"$f":"+'Poker C'!E8","v":0},{"$f":"+'Poker C'!F8","v":0},null,{"$f":"+Pocha!A8","v":4},{"$f":"+Pocha!B8","v":"Manel"},{"$f":"+Pocha!C8","v":-100000000},{"$f":"+Pocha!D8","v":1E-4},{"$f":"+Pocha!E8","v":0},{"$f":"+Pocha!F8","v":0}]
[null,null,{"$f":"+'1000km'!A9","v":5},{"$f":"+'1000km'!B9","v":"Joan Carles"},{"$f":"+'1000km'!C9","v":-100000000},{"$f":"+'1000km'!D9","v":0},{"$f":"+'1000km'!E9","v":0},{"$f":"+'1000km'!F9","v":0},null,null,null,null,null,null,null,null,{"$f":"+'Poker C'!A9","v":5},{"$f":"+'Poker C'!B9","v":"Mercè"},{"$f":"+'Poker C'!C9","v":-100000000},{"$f":"+'Poker C'!D9","v":1E-4},{"$f":"+'Poker C'!E9","v":0},{"$f":"+'Poker C'!F9","v":0}]
[null,null,{"$f":"+'1000km'!A10","v":6},{"$f":"+'1000km'!B10","v":"Grau"},{"$f":"+'1000km'!C10","v":-100000000},{"$f":"+'1000km'!D10","v":0},{"$f":"+'1000km'!E10","v":0},{"$f":"+'1000km'!F10","v":0}]
[null,null,{"$f":"+'1000km'!A11","v":7},{"$f":"+'1000km'!B11","v":"Jordi"},{"$f":"+'1000km'!C11","v":-100000000},{"$f":"+'1000km'!D11","v":0},{"$f":"+'1000km'!E11","v":0},{"$f":"+'1000km'!F11","v":0},null,4,{"$f":"+'Tute cabrò'!B8","v":"Manolo"},{"$f":"+'Tute cabrò'!C8","v":-100000000},{"$f":"+'Tute cabrò'!D8","v":1E-4},{"$f":"+'Tute cabrò'!E8","v":0},{"$f":"+'Tute cabrò'!F8","v":0}]
[null,null,{"$f":"+'1000km'!A12","v":8},{"$f":"+'1000km'!B12","v":"Goretti"},{"$f":"+'1000km'!C12","v":-100000000},{"$f":"+'1000km'!D12","v":0},{"$f":"+'1000km'!E12","v":0},{"$f":"+'1000km'!F12","v":0}]
[]
[]
[null,null,{"$f":"+Pocha!A1","v":"POCHA"},null,null,null,null,null,null,{"$f":"+Cribbage!A1","v":"CRIBBAGE"}]
[]
[]
[null,null,null,null,{"$f":"+Pocha!C4","v":"Premi"},{"$f":"+Pocha!D4","v":"Punts"},{"$f":"+Pocha!E4","v":"Partides"},{"$f":"+Pocha!F4","v":"General"},null,null,null,{"$f":"+Cribbage!C4","v":"Premi"},{"$f":"+Cribbage!D4","v":"Punts"},{"$f":"+Cribbage!E4","v":"Partides"},{"$f":"+Cribbage!F4","v":"General"}]
[null,null,{"$f":"+Pocha!A5","v":1},{"$f":"+Pocha!B5","v":"alaf"},{"$f":"+Pocha!C5","v":-100000000},{"$f":"+Pocha!D5","v":1E-4},{"$f":"+Pocha!E5","v":0},{"$f":"+Pocha!F5","v":0},null,{"$f":"+Cribbage!A5","v":1},{"$f":"+Cribbage!B5","v":"Sebas"},{"$f":"+Cribbage!C5","v":125},{"$f":"+Cribbage!D5","v":19},{"$f":"+Cribbage!E5","v":97},{"$f":"+Cribbage!F5","v":80}]
[null,null,{"$f":"+Pocha!A6","v":2},{"$f":"+Pocha!B6","v":"Jordi"},{"$f":"+Pocha!C6","v":-100000000},{"$f":"+Pocha!D6","v":1E-4},{"$f":"+Pocha!E6","v":0},{"$f":"+Pocha!F6","v":0},null,{"$f":"+Cribbage!A6","v":2},{"$f":"+Cribbage!B6","v":"Gemma"},{"$f":"+Cribbage!C6","v":106},{"$f":"+Cribbage!D6","v":23},{"$f":"+Cribbage!E6","v":229},{"$f":"+Cribbage!F6","v":40}]
[null,null,{"$f":"+Pocha!A7","v":3},{"$f":"+Pocha!B7","v":"Grau"},{"$f":"+Pocha!C7","v":-100000000},{"$f":"+Pocha!D7","v":1E-4},{"$f":"+Pocha!E7","v":0},{"$f":"+Pocha!F7","v":0},null,{"$f":"+Cribbage!A7","v":3},{"$f":"+Cribbage!B7","v":"Carles"},{"$f":"+Cribbage!C7","v":91},{"$f":"+Cribbage!D7","v":167},{"$f":"+Cribbage!E7","v":21},{"$f":"+Cribbage!F7","v":20}]
[null,null,{"$f":"+Pocha!A8","v":4},{"$f":"+Pocha!B8","v":"Manel"},{"$f":"+Pocha!C8","v":-100000000},{"$f":"+Pocha!D8","v":1E-4},{"$f":"+Pocha!E8","v":0},{"$f":"+Pocha!F8","v":0},null,{"$f":"+Cribbage!A8","v":4},{"$f":"+Cribbage!B8","v":"Jordi"},{"$f":"+Cribbage!C8","v":64},{"$f":"+Cribbage!D8","v":199},{"$f":"+Cribbage!E8","v":122},{"$f":"+Cribbage!F8","v":10},null,{"$f":"+Tute!A8","v":4},{"$f":"+Tute!B8","v":"Tito"},{"$f":"+Tute!C8","v":-100000000},{"$f":"+Tute!D8","v":1},{"$f":"+Tute!E8","v":0},{"$f":"+Tute!F8","v":0},null,{"$f":"+'4 Duros'!A8","v":4},{"$f":"+'4 Duros'!B8","v":"Anna P."},{"$f":"+'4 Duros'!C8","v":-100000000},{"$f":"+'4 Duros'!D8","v":0},{"$f":"+'4 Duros'!E8","v":0},{"$f":"+'4 Duros'!F8","v":0}]
[null,null,null,null,null,null,null,null,null,{"$f":"+Cribbage!A9","v":5},{"$f":"+Cribbage!B9","v":"Nogué"},{"$f":"+Cribbage!C9","v":28},{"$f":"+Cribbage!D9","v":194.5},{"$f":"+Cribbage!E9","v":250},{"$f":"+Cribbage!F9","v":5},null,{"$f":"+Tute!A9","v":5},{"$f":"+Tute!B9","v":"Goretti"},{"$f":"+Tute!C9","v":-100000000},{"$f":"+Tute!D9","v":1},{"$f":"+Tute!E9","v":0},{"$f":"+Tute!F9","v":0},null,{"$f":"+'4 Duros'!A9","v":5},{"$f":"+'4 Duros'!B9","v":"Manel"},{"$f":"+'4 Duros'!C9","v":-100000000},{"$f":"+'4 Duros'!D9","v":0},{"$f":"+'4 Duros'!E9","v":0},{"$f":"+'4 Duros'!F9","v":0}]
[null,null,null,null,null,null,null,null,null,null,null,null,null,null,null,null,{"$f":"+Tute!A10","v":6},{"$f":"+Tute!B10","v":"Mariajo"},{"$f":"+Tute!C10","v":-100000000},{"$f":"+Tute!D10","v":1},{"$f":"+Tute!E10","v":0},{"$f":"+Tute!F10","v":0},null,{"$f":"+'4 Duros'!A10","v":6},{"$f":"+'4 Duros'!B10","v":"Carles"},{"$f":"+'4 Duros'!C10","v":-100000000},{"$f":"+'4 Duros'!D10","v":0},{"$f":"+'4 Duros'!E10","v":0},{"$f":"+'4 Duros'!F10","v":0}]
[null,null,null,null,null,null,null,null,null,null,null,null,null,null,null,null,{"$f":"+Tute!A11","v":7},{"$f":"+Tute!B11","v":"Jordi"},{"$f":"+Tute!C11","v":-100000000},{"$f":"+Tute!D11","v":1},{"$f":"+Tute!E11","v":0},{"$f":"+Tute!F11","v":0},null,{"$f":"+'4 Duros'!A11","v":7},{"$f":"+'4 Duros'!B11","v":"Goretti"},{"$f":"+'4 Duros'!C11","v":-100000000},{"$f":"+'4 Duros'!D11","v":0},{"$f":"+'4 Duros'!E11","v":0},{"$f":"+'4 Duros'!F11","v":0}]
[]
[]
[{"$f":"+Chinchón!A1","v":"CHINCHÓN"},null,null,null,null,null,null,null,{"$f":"+Escombra!A1","v":"ESCOMBRA"}]
[]
[]
[null,null,{"$f":"+Chinchón!C4","v":"Premio"},{"$f":"+Chinchón!D4","v":"Punts"},{"$f":"+Chinchón!E4","v":"Partides"},{"$f":"+Chinchón!F4","v":"General"},null,null,null,null,{"$f":"+Escombra!C4","v":"Premi"},{"$f":"+Escombra!D4","v":"Punts"},{"$f":"+Escombra!E4","v":"Partides"},{"$f":"+Escombra!F4","v":"General"}]
[{"$f":"+Chinchón!A5","v":1},{"$f":"+Chinchón!B5","v":"Mercé"},{"$f":"+Chinchón!C5","v":-100000000},{"$f":"+Chinchón!D5","v":0},{"$f":"+Chinchón!E5","v":0},{"$f":"+Chinchón!F5","v":0},null,null,{"$f":"+Escombra!A5","v":1},{"$f":"+Escombra!B5","v":"Carles"},{"$f":"+Escombra!C5","v":-100000000},{"$f":"+Escombra!D5","v":1E-4},{"$f":"+Escombra!E5","v":0},{"$f":"+Escombra!F5","v":0}]
[{"$f":"+Chinchón!A6","v":2},{"$f":"+Chinchón!B6","v":"Carles"},{"$f":"+Chinchón!C6","v":-100000000},{"$f":"+Chinchón!D6","v":0},{"$f":"+Chinchón!E6","v":0},{"$f":"+Chinchón!F6","v":0},null,null,{"$f":"+Escombra!A6","v":2},{"$f":"+Escombra!B6","v":"Mercè"},{"$f":"+Escombra!C6","v":-100000000},{"$f":"+Escombra!D6","v":1E-4},{"$f":"+Escombra!E6","v":0},{"$f":"+Escombra!F6","v":0}]
[{"$f":"+Chinchón!A7","v":3},{"$f":"+Chinchón!B7","v":"Jordi"},{"$f":"+Chinchón!C7","v":-100000000},{"$f":"+Chinchón!D7","v":0},{"$f":"+Chinchón!E7","v":0},{"$f":"+Chinchón!F7","v":0},null,null,{"$f":"+Escombra!A7","v":3},{"$f":"+Escombra!B7","v":"Jordi"},{"$f":"+Escombra!C7","v":-100000000},{"$f":"+Escombra!D7","v":1E-4},{"$f":"+Escombra!E7","v":0},{"$f":"+Escombra!F7","v":0}]
[]
[]
[null,null,null,null,null,null,null,null,null,null,null,null,null,null,null,null,{"$f":"+'Tute cabrò'!A1","v":"TUTE CABRÒ"},null,null,null,null,null,null,{"$f":"+Buti3!A1","v":"BUTI3"}]
[]
[]
[null,null,null,null,null,null,null,null,null,null,null,null,null,null,null,null,null,null,{"$f":"+'Tute cabrò'!C4","v":"Premi"},{"$f":"+'Tute cabrò'!D4","v":"Punts"},{"$f":"+'Tute cabrò'!E4","v":"Partides"},{"$f":"+'Tute cabrò'!F4","v":"General"},null,null,null,{"$f":"+Buti3!C4","v":"Premi"},{"$f":"+Buti3!D4","v":"Punts"},{"$f":"+Buti3!E4","v":"Partides"},{"$f":"+Buti3!F4","v":"General"}]
[null,null,null,null,null,null,null,null,null,null,null,null,null,null,null,null,{"$f":"+'Tute cabrò'!A5","v":1},{"$f":"+'Tute cabrò'!B5","v":"Jordi"},{"$f":"+'Tute cabrò'!C5","v":-100000000},{"$f":"+'Tute cabrò'!D5","v":1E-4},{"$f":"+'Tute cabrò'!E5","v":0},{"$f":"+'Tute cabrò'!F5","v":0},null,{"$f":"+Buti3!A5","v":1},{"$f":"+Buti3!B5","v":"Mariajo"},{"$f":"+Buti3!C5","v":-100000000},{"$f":"+Buti3!D5","v":0},{"$f":"+Buti3!E5","v":0},{"$f":"+Buti3!F5","v":0}]
[null,null,null,null,null,null,null,null,null,null,null,null,null,null,null,null,{"$f":"+'Tute cabrò'!A6","v":2},{"$f":"+'Tute cabrò'!B6","v":"Mariajo"},{"$f":"+'Tute cabrò'!C6","v":-100000000},{"$f":"+'Tute cabrò'!D6","v":1E-4},{"$f":"+'Tute cabrò'!E6","v":0},{"$f":"+'Tute cabrò'!F6","v":0},null,{"$f":"+Buti3!A6","v":2},{"$f":"+Buti3!B6","v":"Goretti"},{"$f":"+Buti3!C6","v":-100000000},{"$f":"+Buti3!D6","v":0},{"$f":"+Buti3!E6","v":0},{"$f":"+Buti3!F6","v":0}]
[null,null,null,null,null,null,null,null,null,null,null,null,null,null,null,null,{"$f":"+'Tute cabrò'!A7","v":3},{"$f":"+'Tute cabrò'!B7","v":"Grau"},{"$f":"+'Tute cabrò'!C7","v":-100000000},{"$f":"+'Tute cabrò'!D7","v":1E-4},{"$f":"+'Tute cabrò'!E7","v":0},{"$f":"+'Tute cabrò'!F7","v":0},null,{"$f":"+Buti3!A7","v":3},{"$f":"+Buti3!B7","v":"Grau"},{"$f":"+Buti3!C7","v":-100000000},{"$f":"+Buti3!D7","v":0},{"$f":"+Buti3!E7","v":0},{"$f":"+Buti3!F7","v":0}]
[null,null,null,null,null,null,null,null,null,null,null,null,null,null,null,null,{"$f":"+'Tute cabrò'!A8","v":4},{"$f":"+'Tute cabrò'!B8","v":"Manolo"},{"$f":"+'Tute cabrò'!C8","v":-100000000},{"$f":"+'Tute cabrò'!D8","v":1E-4},{"$f":"+'Tute cabrò'!E8","v":0},{"$f":"+'Tute cabrò'!F8","v":0},null,{"$f":"+Buti3!A8","v":4},{"$f":"+Buti3!B8","v":"Jordi"},{"$f":"+Buti3!C8","v":-100000000},{"$f":"+Buti3!D8","v":0},{"$f":"+Buti3!E8","v":0},{"$f":"+Buti3!F8","v":0}]
[null,null,null,null,null,null,null,null,null,{"$f":"+King!A9","v":5},{"$f":"+King!B9","v":"Núria"},{"$f":"+King!C9","v":12},{"$f":"+King!D9","v":-1.3363636363636362},{"$f":"+King!E9","v":11},{"$f":"+King!F9","v":5},null,{"$f":"+'Tute cabrò'!A9","v":5},{"$f":"+'Tute cabrò'!B9","v":"Goretti"},{"$f":"+'Tute cabrò'!C9","v":-100000000},{"$f":"+'Tute cabrò'!D9","v":1E-4},{"$f":"+'Tute cabrò'!E9","v":0},{"$f":"+'Tute cabrò'!F9","v":0}]
[null,null,null,null,null,null,null,null,null,{"$f":"+King!A10","v":6},{"$f":"+King!B10","v":"Montse"},{"$f":"+King!C10","v":-30},{"$f":"+King!D10","v":-2.7166666666666668},{"$f":"+King!E10","v":9},{"$f":"+King!F10","v":0},null,{"$f":"+'Tute cabrò'!A10","v":6},{"$f":"+'Tute cabrò'!B10","v":"Mercè"},{"$f":"+'Tute cabrò'!C10","v":-100000000},{"$f":"+'Tute cabrò'!D10","v":1E-4},{"$f":"+'Tute cabrò'!E10","v":0},{"$f":"+'Tute cabrò'!F10","v":0}]
[null,null,null,null,null,null,null,null,null,{"$f":"+King!A11","v":7},{"$f":"+King!B11","v":"Cyber X"},{"$f":"+King!C11","v":-28},{"$f":"+King!D11","v":-6.040909090909091},{"$f":"+King!E11","v":11},{"$f":"+King!F11","v":0},null,{"$f":"+'Tute cabrò'!A11","v":7},{"$f":"+'Tute cabrò'!B11","v":"Sergi"},{"$f":"+'Tute cabrò'!C11","v":-100000000},{"$f":"+'Tute cabrò'!D11","v":1E-4},{"$f":"+'Tute cabrò'!E11","v":0},{"$f":"+'Tute cabrò'!F11","v":0}]
[null,null,null,null,null,null,null,null,null,{"$f":"+King!A12","v":8},{"$f":"+King!B12","v":"Gemma"},{"$f":"+King!C12","v":-46},{"$f":"+King!D12","v":-4.1892857142857141},{"$f":"+King!E12","v":14},{"$f":"+King!F12","v":0}]
[]
[]
[]
[]
[]
[]
[]
[]
[]
[]
[]
[null,null,{"$f":"+Texas!A10","v":6},{"$f":"+Texas!B10","v":"Mariajo"},{"$f":"+Texas!C10","v":-100000000},{"$f":"+Texas!D10","v":0},{"$f":"+Texas!E10","v":0},{"$f":"+Texas!F10","v":0}]
[null,null,{"$f":"+Texas!A11","v":7},{"$f":"+Texas!B11","v":"Tito"},{"$f":"+Texas!C11","v":-100000000},{"$f":"+Texas!D11","v":0},{"$f":"+Texas!E11","v":0},{"$f":"+Texas!F11","v":0}]
[]
[]
[]
[]
[]
[]
[]
[]
[]
[]
[]
[]
[]
[]
[]
[]
[]
[]
[{"$f":"+'Poker D'!A1","v":"POKER D"}]
[]
[]
[]
[{"$f":"+'Poker D'!A5","v":1},{"$f":"+'Poker D'!B5","v":"Mercè"},{"$f":"+'Poker D'!C5","v":-100000000},{"$f":"+'Poker D'!D5","v":1E-4},{"$f":"+'Poker D'!E5","v":0},{"$f":"+'Poker D'!F5","v":0}]
[{"$f":"+'Poker D'!A6","v":2},{"$f":"+'Poker D'!B6","v":"Carles"},{"$f":"+'Poker D'!C6","v":-100000000},{"$f":"+'Poker D'!D6","v":1E-4},{"$f":"+'Poker D'!E6","v":0},{"$f":"+'Poker D'!F6","v":0}]
[{"$f":"+'Poker D'!A7","v":3},{"$f":"+'Poker D'!B7","v":"Jordi"},{"$f":"+'Poker D'!C7","v":-100000000},{"$f":"+'Poker D'!D7","v":1E-4},{"$f":"+'Poker D'!E7","v":0},{"$f":"+'Poker D'!F7","v":0}]
[]
[]
[]
[]
[]
[]
[]
[]
[]
[null,null,null,null,null,null,null,{"$f":"+Copo!A1","v":"COPO"}]
[]
[]
[null,null,null,null,null,null,null,null,null,{"$f":"+Copo!C4","v":"Premi"},{"$f":"+Copo!D4","v":"Punts"},{"$f":"+Copo!E4","v":"Partides"},{"$f":"+Copo!F4","v":"General"}]
[null,null,null,null,null,null,null,{"$f":"+Copo!A5","v":1},{"$f":"+Copo!B5","v":"Jorge"},{"$f":"+Copo!C5","v":-100000000},{"$f":"+Copo!D5","v":1E-4},{"$f":"+Copo!E5","v":0},{"$f":"+Copo!F5","v":0}]
[null,null,null,null,null,null,null,{"$f":"+Copo!A6","v":2},{"$f":"+Copo!B6","v":"Aurora"},{"$f":"+Copo!C6","v":-100000000},{"$f":"+Copo!D6","v":1E-4},{"$f":"+Copo!E6","v":0},{"$f":"+Copo!F6","v":0}]
[null,null,null,null,null,null,null,{"$f":"+Copo!A7","v":3},{"$f":"+Copo!B7","v":"Sergi"},{"$f":"+Copo!C7","v":-100000000},{"$f":"+Copo!D7","v":1E-4},{"$f":"+Copo!E7","v":0},{"$f":"+Copo!F7","v":0}]
[null,null,null,null,null,null,null,{"$f":"+Copo!A8","v":4},{"$f":"+Copo!B8","v":"Carles"},{"$f":"+Copo!C8","v":-100000000},{"$f":"+Copo!D8","v":1E-4},{"$f":"+Copo!E8","v":0},{"$f":"+Copo!F8","v":0}]
[null,null,null,null,null,null,null,{"$f":"+Copo!A9","v":5},{"$f":"+Copo!B9","v":"Mariajo"},{"$f":"+Copo!C9","v":-100000000},{"$f":"+Copo!D9","v":1E-4},{"$f":"+Copo!E9","v":0},{"$f":"+Copo!F9","v":0}]
[null,null,null,null,null,null,null,{"$f":"+Copo!A10","v":6},{"$f":"+Copo!B10","v":"Mercè"},{"$f":"+Copo!C10","v":-100000000},{"$f":"+Copo!D10","v":1E-4},{"$f":"+Copo!E10","v":0},{"$f":"+Copo!F10","v":0}]
[null,null,null,null,null,null,null,{"$f":"+Copo!A11","v":7},{"$f":"+Copo!B11","v":"Jordi"},{"$f":"+Copo!C11","v":-100000000},{"$f":"+Copo!D11","v":1E-4},{"$f":"+Copo!E11","v":0},{"$f":"+Copo!F11","v":0}]
[]
[]
[]
[]
[]
[]
[]
[]
[]
[]
[{"$f":"+Podrida!A1","v":"PODRIDA"},null,null,null,null,null,null,null,null,null,null,null,null,null,{"$f":"+Remigio!A1","v":"REMIGIO"}]
[]
[]
[null,null,{"$f":"+Podrida!C4","v":"Premi"},{"$f":"+Podrida!D4","v":"Punts"},{"$f":"+Podrida!E4","v":"Partides"},{"$f":"+Podrida!F4","v":"General"},null,null,null,null,null,null,null,null,null,null,{"$f":"+Remigio!C4","v":"Premio"},{"$f":"+Remigio!D4","v":"Punts"},{"$f":"+Remigio!E4","v":"Partides"},{"$f":"+Remigio!F4","v":"General"}]
[{"$f":"+Podrida!A5","v":1},{"$f":"+Podrida!B5","v":"Jordi"},{"$f":"+Podrida!C5","v":182},{"$f":"+Podrida!D5","v":87.098113207547172},{"$f":"+Podrida!E5","v":53},{"$f":"+Podrida!F5","v":80},null,null,null,null,null,null,null,null,{"$f":"+Remigio!A5","v":1},{"$f":"+Remigio!B5","v":"Mariajo"},{"$f":"+Remigio!C5","v":-100000000},{"$f":"+Remigio!D5","v":0},{"$f":"+Remigio!E5","v":0},{"$f":"+Remigio!F5","v":0}]
[{"$f":"+Podrida!A6","v":2},{"$f":"+Podrida!B6","v":"Carles"},{"$f":"+Podrida!C6","v":126},{"$f":"+Podrida!D6","v":91.913043478260875},{"$f":"+Podrida!E6","v":23},{"$f":"+Podrida!F6","v":40},null,null,null,null,null,null,null,null,{"$f":"+Remigio!A6","v":2},{"$f":"+Remigio!B6","v":"Mercé"},{"$f":"+Remigio!C6","v":-100000000},{"$f":"+Remigio!D6","v":0},{"$f":"+Remigio!E6","v":0},{"$f":"+Remigio!F6","v":0}]
[{"$f":"+Podrida!A7","v":3},{"$f":"+Podrida!B7","v":"Núria"},{"$f":"+Podrida!C7","v":41},{"$f":"+Podrida!D7","v":79.267857142857139},{"$f":"+Podrida!E7","v":56},{"$f":"+Podrida!F7","v":20},null,null,null,null,null,null,null,null,{"$f":"+Remigio!A7","v":3},{"$f":"+Remigio!B7","v":"Jordi"},{"$f":"+Remigio!C7","v":-100000000},{"$f":"+Remigio!D7","v":0},{"$f":"+Remigio!E7","v":0},{"$f":"+Remigio!F7","v":0}]
[{"$f":"+Podrida!A8","v":4},{"$f":"+Podrida!B8","v":"Cyber X"},{"$f":"+Podrida!C8","v":-6},{"$f":"+Podrida!D8","v":65.2},{"$f":"+Podrida!E8","v":10},{"$f":"+Podrida!F8","v":10}]
[null,null,null,null,null,null,null,{"$f":"+Escombra!A9","v":5},{"$f":"+Escombra!B9","v":"Mariajo"},{"$f":"+Escombra!C9","v":-100000000},{"$f":"+Escombra!D9","v":1E-4},{"$f":"+Escombra!E9","v":0},{"$f":"+Escombra!F9","v":0}]
[null,null,null,null,null,null,null,{"$f":"+Escombra!A10","v":6},{"$f":"+Escombra!B10","v":"Grau"},{"$f":"+Escombra!C10","v":-100000000},{"$f":"+Escombra!D10","v":1E-4},{"$f":"+Escombra!E10","v":0},{"$f":"+Escombra!F10","v":0}]
[]
[]
[]
[]
[]
[]
[]
[]
[]
[]
[]
[]
[]
[]
[]
[]
[]
[null,null,null,null,null,null,null,{"$f":"+Pocha!A8","v":4}]
[null,null,null,null,null,null,null,{"$f":"+Pocha!A9","v":5}]
[null,null,null,null,null,null,null,{"$f":"+Pocha!A10","v":6}]
[null,null,null,null,null,null,null,{"$f":"+Pocha!A11","v":7}]
[null,null,null,null,null,null,null,{"$f":"+Pocha!A12","v":8}]
[null,null,null,null,null,null,null,{"$f":"+Pocha!A13","v":9}]
[null,null,null,null,null,null,null,{"$f":"+Pocha!A14","v":10}]
[]
[]
[]
[]
[null,null,null,null,{"$f":"SUM(E494:E509)","v":10},null,null,null,null,null,null,null,null,{"$f":"SUM(N494:N509)","v":2},null,null,{"$f":"SUM(Q494:Q509)","v":6},null,null,{"$f":"SUM(T494:T509)","v":2},null,null,null,null,null,null,null,null,null,null,null,null,null,null,null,null,null,null,null,null,null,null,null,null,null,{"$f":"SUM(AQ494:AQ509)","v":0},null,null,{"$f":"SUM(AW494:AW509)","v":3},null,null,{"$f":"SUM(AZ494:AZ509)","v":7}]
[null,null,null,null,"Jordi",null,null,"Josep Mª",null,null,"Joan Carles",null,null,"Sergi",null,null,"Carles",null,null,"Mariajo",null,null,"Iglesias",null,null,"David",null,null,"Xavi",null,null,null,null,null,null,null,"Salvadó",null,null,"Rubén",null,null,"Tina",null,null,"Goretti",null,null,"Grau",null,null,"Mercè"]
[null,null,"Buti",null,4,null,null,null,null,null,null,null,null,1,null,null,1,null,null,0,null,null,null,null,null,null,null,null,null,null,null,null,null,null,null,null,null,null,null,null,null,null,null,null,null,0,null,null,1,null,null,4]
[null,null,"Pumba",null,1,null,null,null,null,null,null,null,null,0,null,null,1,null,null,1,null,null,null,null,null,null,null,null,null,null,null,null,null,null,null,null,null,null,null,null,null,null,null,null,null,null,null,null,null,null,null,1]
[null,null,"Texs",null,null,null,null,null,null,null,null,null,null,null,null,null,1]
[null,null,"Omaha",null,null,null,null,null,null,null,null,null,null,1]
[null,null,"Kul",null,1,null,null,null,null,null,null,null,null,null,null,null,null,null,null,null,null,null,null,null,null,null,null,null,null,null,null,null,null,null,null,null,null,null,null,null,null,null,null,null,null,null,null,null,1]
[null,null,"Tute",null,null,null,null,null,null,null,null,null,null,null,null,null,null,null,null,null,null,null,null,null,null,null,null,null,null,null,null,null,null,null,null,null,null,null,null,null,null,null,null,null,null,1]
[null,null,"Wizard",null,1,null,null,null,null,null,null,null,null,null,null,null,null,null,null,null,null,null,null,null,null,null,null,null,null,null,null,null,null,null,null,null,null,null,null,null,null,null,null,null,null,1,null,null,null,null,null,1]
[null,null,"Tute cabró",null,null,null,null,null,null,null,null,null,null,null,null,null,null,null,null,1,null,null,null,null,null,null,null,null,null,null,null,null,null,null,null,null,null,null,null,null,null,null,null,null,null,null,null,null,1]
[null,null,"Escombra",null,1]
[null,null,"1000km",null,2,null,null,null,null,null,null,null,null,null,null,null,3,null,null,null,null,null,null,null,null,null,null,null,null,null,null,null,null,null,null,null,null,null,null,null,null,null,null,null,null,null,null,null,null,null,null,1]
[null,null,null,null,null,null,null,null,null,null,null,null,null,null,null,null,null,null,null,null,null,null,null,null,null,null,null,null,null,null,null,null,null,null,null,null,null,null,null,"Jordi"]
[]
[]
[null,null,null,null,null,null,null,null,null,null,null,null,null,null,null,null,null,null,null,null,null,null,null,null,null,null,null,null,null,null,null,null,null,null,null,null,null,null,null,"Josep Mª"]
[]
[]
[null,null,null,null,null,null,null,null,null,null,null,null,null,null,null,null,null,null,null,null,null,null,null,null,null,null,null,null,null,null,null,null,null,null,null,null,null,null,null,"Joan Carles"]
[]
[]
[null,null,8,"David",{"$f":"SUM(F513:O513)","v":0},null,null,null,null,null,null,null,null,null,null,null,null,null,null,null,null,null,null,null,null,null,null,null,null,null,null,null,null,null,null,null,null,null,null,"Sergi"]
[null,null,9,"Iglesias",0]
[null,null,10,"Joan Carles",0]
[null,null,11,"Josep Mª",0,null,null,null,null,null,null,null,null,null,null,null,null,null,null,null,null,null,null,null,null,null,null,null,null,null,null,null,null,null,null,null,null,null,null,"Carles"]
[null,null,12,"Rubén",0]
[null,null,13,"Salvadó",0]
[null,null,14,"Tina",0,null,null,null,null,null,null,null,null,null,null,null,null,null,null,null,null,null,null,null,null,null,null,null,null,null,null,null,null,null,null,null,null,null,null,"Mariajo"]
[null,null,15,"Xavi",0]
[]
[null,null,null,null,null,null,null,null,null,null,null,null,null,null,null,null,null,null,null,null,null,null,null,null,null,null,null,null,null,null,null,null,null,null,null,null,null,null,null,"Iglesias"]
[]
[]
[null,null,null,null,null,null,null,null,null,null,null,null,null,null,null,null,null,null,null,null,null,null,null,null,null,null,null,null,null,null,null,null,null,null,null,null,null,null,null,"David"]
[]
[]
[null,null,null,null,null,null,null,null,null,null,null,null,null,null,null,null,null,null,null,null,null,null,null,null,null,null,null,null,null,null,null,null,null,null,null,null,null,null,null,"Xavi"]
[]
[]
[null,null,null,null,null,null,null,null,null,null,null,null,null,null,null,null,null,null,null,null,null,null,null,null,null,null,null,null,null,null,null,null,null,null,null,null,null,null,null,"Salvadó"]
[]
[]
[null,null,null,null,null,null,null,null,null,null,null,null,null,null,null,null,null,null,null,null,null,null,null,null,null,null,null,null,null,null,null,null,null,null,null,null,null,null,null,"Rubén"]
[]
[]
[null,null,null,null,null,null,null,null,null,null,null,null,null,null,null,null,null,null,null,null,null,null,null,null,null,null,null,null,null,null,null,null,null,null,null,null,null,null,null,"Tina"]
[{"$f":"+Mus!A1","v":"MUS"},null,null,null,null,null,null,{"$f":"+Truc!A1","v":"TRUC"}]
[]
[null,null,null,null,null,null,null,null,null,null,null,null,null,null,null,null,null,null,null,null,null,null,null,null,null,null,null,null,null,null,null,null,null,null,null,null,null,null,null,"Goretti"]
[null,null,null,null,{"$f":"+Mus!E4","v":"Partides"},{"$f":"+Mus!F4","v":"General"},null,null,null,{"$f":"+Truc!C4","v":"Diferencia"},{"$f":"+Truc!D4","v":"Punts"},{"$f":"+Truc!E4","v":"Partides"},{"$f":"+Truc!F4","v":"General"}]
[{"$f":"+Mus!A5","v":1},{"$f":"+Mus!B5","v":"Lucía"},null,null,{"$f":"+Mus!E5","v":0},{"$f":"+Mus!F5","v":0},null,{"$f":"+Truc!A5","v":1},{"$f":"+Truc!B5","v":"Carles"},{"$f":"+Truc!C5","v":-100000000},{"$f":"+Truc!D5","v":1},{"$f":"+Truc!E5","v":0},{"$f":"+Truc!F5","v":-33.333333333333336}]
[{"$f":"+Mus!A6","v":2},{"$f":"+Mus!B6","v":"Carles"},null,null,{"$f":"+Mus!E6","v":0},{"$f":"+Mus!F6","v":0},null,{"$f":"+Truc!A6","v":2},{"$f":"+Truc!B6","v":"Mariajo"},{"$f":"+Truc!C6","v":-100000000},{"$f":"+Truc!D6","v":1},{"$f":"+Truc!E6","v":0},{"$f":"+Truc!F6","v":-33.333333333333336},null,null,null,null,null,null,null,null,null,null,null,null,null,null,null,null,null,null,null,null,null,null,null,null,null,null,"Grau"]
[{"$f":"+Mus!A7","v":3},{"$f":"+Mus!B7","v":"Manolo"},null,null,{"$f":"+Mus!E7","v":0},{"$f":"+Mus!F7","v":0},null,{"$f":"+Truc!A7","v":2},{"$f":"+Truc!B7","v":"Manolo"},{"$f":"+Truc!C7","v":-100000000},{"$f":"+Truc!D7","v":1},{"$f":"+Truc!E7","v":0},{"$f":"+Truc!F7","v":-33.333333333333336}]
[{"$f":"+Mus!A8","v":4},{"$f":"+Mus!B8","v":"Mariajo"},null,null,{"$f":"+Mus!E8","v":0},{"$f":"+Mus!F8","v":0},null,{"$f":"+Truc!A8","v":4},{"$f":"+Truc!B8","v":"Jordi"},{"$f":"+Truc!C8","v":-100000000},{"$f":"+Truc!D8","v":1},{"$f":"+Truc!E8","v":0},{"$f":"+Truc!F8","v":-5}]
[{"$f":"+Mus!A9","v":5},{"$f":"+Mus!B9","v":"Grau"},null,null,{"$f":"+Mus!E9","v":0},{"$f":"+Mus!F9","v":0},null,{"$f":"+Truc!A9","v":4},{"$f":"+Truc!B9","v":"Mercè"},{"$f":"+Truc!C9","v":-100000000},{"$f":"+Truc!D9","v":1},{"$f":"+Truc!E9","v":0},{"$f":"+Truc!F9","v":-5},null,null,null,null,null,null,null,null,null,null,null,null,null,null,null,null,null,null,null,null,null,null,null,null,null,null,"Mercè"]
[{"$f":"+Mus!A10","v":6},{"$f":"+Mus!B10","v":"Jordi"},null,null,{"$f":"+Mus!E10","v":0},{"$f":"+Mus!F10","v":0},null,{"$f":"+Truc!A10","v":6},{"$f":"+Truc!B10","v":"Sergi"},{"$f":"+Truc!C10","v":-100000000},{"$f":"+Truc!D10","v":1},{"$f":"+Truc!E10","v":0},{"$f":"+Truc!F10","v":-5}]
[{"$f":"+Mus!A11","v":7},{"$f":"+Mus!B11","v":"Goretti"},null,null,{"$f":"+Mus!E11","v":0},{"$f":"+Mus!F11","v":0}]
[null,null,null,null,null,null,null,{"$f":"+Truc!A12","v":8},{"$f":"+Truc!B12","v":"Iglesias"},{"$f":"+Truc!C12","v":-100000000},{"$f":"+Truc!D12","v":1},{"$f":"+Truc!E12","v":0},{"$f":"+Truc!F12","v":0}]
[null,null,null,null,null,null,null,{"$f":"+Truc!A13","v":9},{"$f":"+Truc!B13","v":"Martín"},{"$f":"+Truc!C13","v":-100000000},{"$f":"+Truc!D13","v":1},{"$f":"+Truc!E13","v":0},{"$f":"+Truc!F13","v":0}]
[null,null,null,null,null,null,null,{"$f":"+Truc!A14","v":10},{"$f":"+Truc!B14","v":"Xavi"},{"$f":"+Truc!C14","v":-100000000},{"$f":"+Truc!D14","v":1},{"$f":"+Truc!E14","v":0},{"$f":"+Truc!F14","v":0}]
[]
[]
[]
[]
[]
[]
[]
[]
[]
[]
[]
[]
[]
[{"$f":"+Omaha!A12","v":8},{"$f":"+Omaha!B12","v":"Mariajo"},{"$f":"+Omaha!C12","v":-100000000},{"$f":"+Omaha!D12","v":0},{"$f":"+Omaha!E12","v":0},{"$f":"+Omaha!F12","v":0}]
[{"$f":"+Omaha!A13","v":9},{"$f":"+Omaha!B13","v":"Manolo"},{"$f":"+Omaha!C13","v":-100000000},{"$f":"+Omaha!D13","v":0},{"$f":"+Omaha!E13","v":0},{"$f":"+Omaha!F13","v":0}]
[{"$f":"+Omaha!A14","v":10},{"$f":"+Omaha!B14","v":"Joan Carles"},{"$f":"+Omaha!C14","v":-100000000},{"$f":"+Omaha!D14","v":0},{"$f":"+Omaha!E14","v":0},{"$f":"+Omaha!F14","v":0}]
[{"$f":"+Omaha!A15","v":11},{"$f":"+Omaha!B15","v":"Jorge"},{"$f":"+Omaha!C15","v":-100000000},{"$f":"+Omaha!D15","v":0},{"$f":"+Omaha!E15","v":0},{"$f":"+Omaha!F15","v":0}]
[]
[]
[null,null,null,null,null,null,null,{"$f":"+'4 Duros'!A1","v":"4 DUROS"}]
[]
[]
[null,null,null,null,null,null,null,null,null,{"$f":"+'4 Duros'!C4","v":"Premi"},{"$f":"+'4 Duros'!D4","v":"Punts"},{"$f":"+'4 Duros'!E4","v":"Partides"},{"$f":"+'4 Duros'!F4","v":"General"}]
[]
[]
[]
[]
[]
[]
[]
[]
[]
[]
[]
[]
[]
[]
[]
[]
[]
[]
[]
[]
[]
[]
[]
[]
[]
[]
[]
[]
[]
[]
[]
[]
[]
[]
[]
[]
[{"$f":"+Podrida!A18","v":14},{"$f":"+Podrida!B18","v":"Sergi"},{"$f":"+Podrida!C18","v":0},{"$f":"+Podrida!D18","v":73},{"$f":"+Podrida!E18","v":1},{"$f":"+Podrida!F18","v":0},null,{"$f":"+Pumba!A18","v":14},{"$f":"+Pumba!B18","v":"Angie"},{"$f":"+Pumba!C18","v":-100000000},{"$f":"+Pumba!D18","v":0},{"$f":"+Pumba!E18","v":0},{"$f":"+Pumba!F18","v":0}]
[{"$f":"+Podrida!A19","v":15},{"$f":"+Podrida!B19","v":"Joan"},{"$f":"+Podrida!C19","v":-4},{"$f":"+Podrida!D19","v":74.333333333333329},{"$f":"+Podrida!E19","v":3},{"$f":"+Podrida!F19","v":0},null,{"$f":"+Pumba!A19","v":15},{"$f":"+Pumba!B19","v":"Xavi"},{"$f":"+Pumba!C19","v":-100000000},{"$f":"+Pumba!D19","v":0},{"$f":"+Pumba!E19","v":0},{"$f":"+Pumba!F19","v":0}]
[{"$f":"+Podrida!A20","v":16},{"$f":"+Podrida!B20","v":"Anna P."},{"$f":"+Podrida!C20","v":-10},{"$f":"+Podrida!D20","v":94.600000000000009},{"$f":"+Podrida!E20","v":3},{"$f":"+Podrida!F20","v":0},null,{"$f":"+Pumba!A20","v":16},{"$f":"+Pumba!B20","v":"Martín"},{"$f":"+Pumba!C20","v":-100000000},{"$f":"+Pumba!D20","v":0},{"$f":"+Pumba!E20","v":0},{"$f":"+Pumba!F20","v":0}]
[null,null,null,null,null,null,null,{"$f":"+Pumba!A21","v":17},{"$f":"+Pumba!B21","v":"Iglesias"},{"$f":"+Pumba!C21","v":-100000000},{"$f":"+Pumba!D21","v":0},{"$f":"+Pumba!E21","v":0},{"$f":"+Pumba!F21","v":0}]
[]
[]
[null,null,null,null,null,null,null,null,null,null,null,null,null,null,null,null,null,null,null,null,null,null,null,null,null,null,null,null,null,null,null,null,null,null,null,null,{"$f":"+Truc!J1","v":0}]
[]
[]
[]
[]
[]
[]
[]
[]
[]
[]
[]
[]
[]
[{"$f":"+Remigio!A15","v":11},{"$f":"+Remigio!B15","v":"Martín"},{"$f":"+Remigio!C15","v":-100000000},{"$f":"+Remigio!D15","v":0},{"$f":"+Remigio!E15","v":0},{"$f":"+Remigio!F15","v":0},null,{"$f":"+Truc!A15","v":11},{"$f":"+Truc!B15","v":"MªJosé"},{"$f":"+Truc!C15","v":-100000000},{"$f":"+Truc!D15","v":1},{"$f":"+Truc!E15","v":0},{"$f":"+Truc!F15","v":0}]
[null,null,null,null,null,null,null,{"$f":"+Truc!A16","v":12},{"$f":"+Truc!B16","v":"Goretti"},{"$f":"+Truc!C16","v":-100000000},{"$f":"+Truc!D16","v":1},{"$f":"+Truc!E16","v":0},{"$f":"+Truc!F16","v":0}]
[null,null,null,null,null,null,null,{"$f":"+Truc!A17","v":13},{"$f":"+Truc!B17","v":"Ester"},{"$f":"+Truc!C17","v":-100000000},{"$f":"+Truc!D17","v":1},{"$f":"+Truc!E17","v":0},{"$f":"+Truc!F17","v":0}]
[null,null,null,null,null,null,null,{"$f":"+Truc!A18","v":14},{"$f":"+Truc!B18","v":"Marga"},{"$f":"+Truc!C18","v":-100000000},{"$f":"+Truc!D18","v":1},{"$f":"+Truc!E18","v":0},{"$f":"+Truc!F18","v":0}]
[null,null,null,null,null,null,null,{"$f":"+Truc!A19","v":15},{"$f":"+Truc!B19","v":"Jorge"},{"$f":"+Truc!C19","v":-100000000},{"$f":"+Truc!D19","v":1},{"$f":"+Truc!E19","v":0},{"$f":"+Truc!F19","v":0}]
[null,null,null,null,null,null,null,{"$f":"+Truc!A20","v":16},{"$f":"+Truc!B20","v":"Allan"},{"$f":"+Truc!C20","v":-100000000},{"$f":"+Truc!D20","v":1},{"$f":"+Truc!E20","v":0},{"$f":"+Truc!F20","v":0}]
[]
[]
[]
[]
[]
[]
[]
[]
[]
[]
[]
[]
[]
[]
[]
[]
[]
[]
[]
[]
[]
[]
[]
[]
[]
[]
[{"$f":"+'Black Jack'!A1","v":"BLACK JACK"},null,null,null,null,null,null,{"$f":"+Julepe!A1","v":"JULEPE"}]
[]
[]
[null,null,{"$f":"+'Black Jack'!C4","v":"Premi"},{"$f":"+'Black Jack'!D4","v":"Punts"},{"$f":"+'Black Jack'!E4","v":"Partides"},{"$f":"+'Black Jack'!F4","v":"General"},null,null,null,{"$f":"+Julepe!C4","v":"Premi"},{"$f":"+Julepe!D4","v":"Punts"},{"$f":"+Julepe!E4","v":"Partides"},{"$f":"+Julepe!F4","v":"General"}]
[{"$f":"+'Black Jack'!A5","v":1},{"$f":"+'Black Jack'!B5","v":"Jordi"},{"$f":"+'Black Jack'!C5","v":-100000000},{"$f":"+'Black Jack'!D5","v":0},{"$f":"+'Black Jack'!E5","v":0},{"$f":"+'Black Jack'!F5","v":0},null,{"$f":"+Julepe!A5","v":1},{"$f":"+Julepe!B5","v":"Carles"},{"$f":"+Julepe!C5","v":-100000000},{"$f":"+Julepe!D5","v":0},{"$f":"+Julepe!E5","v":0},{"$f":"+Julepe!F5","v":0}]
[{"$f":"+'Black Jack'!A6","v":2},{"$f":"+'Black Jack'!B6","v":"Carles"},{"$f":"+'Black Jack'!C6","v":-100000000},{"$f":"+'Black Jack'!D6","v":0},{"$f":"+'Black Jack'!E6","v":0},{"$f":"+'Black Jack'!F6","v":0},null,{"$f":"+Julepe!A6","v":2},{"$f":"+Julepe!B6","v":"Sergi"},{"$f":"+Julepe!C6","v":-100000000},{"$f":"+Julepe!D6","v":0},{"$f":"+Julepe!E6","v":0},{"$f":"+Julepe!F6","v":0}]
[{"$f":"+'Black Jack'!A7","v":3},{"$f":"+'Black Jack'!B7","v":"Manel"},{"$f":"+'Black Jack'!C7","v":-100000000},{"$f":"+'Black Jack'!D7","v":0},{"$f":"+'Black Jack'!E7","v":0},{"$f":"+'Black Jack'!F7","v":0},null,{"$f":"+Julepe!A7","v":3},{"$f":"+Julepe!B7","v":"Manel"},{"$f":"+Julepe!C7","v":-100000000},{"$f":"+Julepe!D7","v":0},{"$f":"+Julepe!E7","v":0},{"$f":"+Julepe!F7","v":0}]
[{"$f":"+'Black Jack'!A8","v":4},{"$f":"+'Black Jack'!B8","v":"Mercè"},{"$f":"+'Black Jack'!C8","v":-100000000},{"$f":"+'Black Jack'!D8","v":0},{"$f":"+'Black Jack'!E8","v":0},{"$f":"+'Black Jack'!F8","v":0},null,{"$f":"+Julepe!A8","v":4},{"$f":"+Julepe!B8","v":"Jordi"},{"$f":"+Julepe!C8","v":-100000000},{"$f":"+Julepe!D8","v":0},{"$f":"+Julepe!E8","v":0},{"$f":"+Julepe!F8","v":0}]
[{"$f":"+'Black Jack'!A9","v":5},{"$f":"+'Black Jack'!B9","v":"Mariajo"},{"$f":"+'Black Jack'!C9","v":-100000000},{"$f":"+'Black Jack'!D9","v":0},{"$f":"+'Black Jack'!E9","v":0},{"$f":"+'Black Jack'!F9","v":0}]
[]
[null,null,null,null,null,null,null,{"$f":"+Chinchón!A11","v":7},{"$f":"+Chinchón!B11","v":"Iglesias"},{"$f":"+Chinchón!C11","v":-100000000},{"$f":"+Chinchón!D11","v":0},{"$f":"+Chinchón!E11","v":0},{"$f":"+Chinchón!F11","v":0}]
[null,null,null,null,null,null,null,{"$f":"+Chinchón!A12","v":8},{"$f":"+Chinchón!B12","v":"Xavi"},{"$f":"+Chinchón!C12","v":-100000000},{"$f":"+Chinchón!D12","v":0},{"$f":"+Chinchón!E12","v":0},{"$f":"+Chinchón!F12","v":0}]
[null,null,null,null,null,null,null,{"$f":"+Chinchón!A13","v":9},{"$f":"+Chinchón!B13","v":"MªJosé"},{"$f":"+Chinchón!C13","v":-100000000},{"$f":"+Chinchón!D13","v":0},{"$f":"+Chinchón!E13","v":0},{"$f":"+Chinchón!F13","v":0}]
[null,null,null,null,null,null,null,{"$f":"+Chinchón!A14","v":10},{"$f":"+Chinchón!B14","v":"Marga"},{"$f":"+Chinchón!C14","v":-100000000},{"$f":"+Chinchón!D14","v":0},{"$f":"+Chinchón!E14","v":0},{"$f":"+Chinchón!F14","v":0}]
[]
[]
[]
[null,null,null,null,null,null,null,{"$f":"+Tute!A1","v":"TUTE"}]
[]
[]
[null,null,null,null,null,null,null,null,null,{"$f":"+Tute!C4","v":"Premi"},{"$f":"+Tute!D4","v":"Punts"},{"$f":"+Tute!E4","v":"Partides"},{"$f":"+Tute!F4","v":"General"}]
[null,null,null,null,null,null,null,{"$f":"+Tute!A5","v":1},{"$f":"+Tute!B5","v":"Grau"},{"$f":"+Tute!C5","v":-100000000},{"$f":"+Tute!D5","v":1},{"$f":"+Tute!E5","v":0},{"$f":"+Tute!F5","v":0}]
[null,null,null,null,null,null,null,{"$f":"+Tute!A6","v":2},{"$f":"+Tute!B6","v":"Manolo"},{"$f":"+Tute!C6","v":-100000000},{"$f":"+Tute!D6","v":1},{"$f":"+Tute!E6","v":0},{"$f":"+Tute!F6","v":0}]
[null,null,null,null,null,null,null,{"$f":"+Tute!A7","v":3},{"$f":"+Tute!B7","v":"Carles"},{"$f":"+Tute!C7","v":-100000000},{"$f":"+Tute!D7","v":1},{"$f":"+Tute!E7","v":0},{"$f":"+Tute!F7","v":0}]
[null,null,null,null,null,null,null,{"$f":"+Tute!A8","v":4},{"$f":"+Tute!B8","v":"Tito"},{"$f":"+Tute!C8","v":-100000000},{"$f":"+Tute!D8","v":1},{"$f":"+Tute!E8","v":0},{"$f":"+Tute!F8","v":0}]
[]
[]
[]
[]
[]
[]
[]
[]
[]
[]
[]
[]
[]
[]
[]
[]
[]
[]
[]
[]
[]
[]
[]
[]
[]
[]
[]
[{"$f":"+'Poker C'!A1","v":"POKER C"},null,null,null,null,null,null,{"$f":"+Manilla!A1","v":"MANILLA"}]
[]
[]
[null,null,{"$f":"+'Poker C'!C4","v":"Premi"},{"$f":"+'Poker C'!D4","v":"Punts"},{"$f":"+'Poker C'!E4","v":"Partides"},{"$f":"+'Poker C'!F4","v":"General"},null,null,null,{"$f":"+Manilla!C4","v":"Premi"},{"$f":"+Manilla!D4","v":"Punts"},{"$f":"+Manilla!E4","v":"Partides"},{"$f":"+Manilla!F4","v":"General"}]
[{"$f":"+'Poker C'!A5","v":1},{"$f":"+'Poker C'!B5","v":"Grau"},{"$f":"+'Poker C'!C5","v":-100000000},{"$f":"+'Poker C'!D5","v":1E-4},{"$f":"+'Poker C'!E5","v":0},{"$f":"+'Poker C'!F5","v":0},null,{"$f":"+Manilla!A5","v":1},{"$f":"+Manilla!B5","v":"Mercè"},{"$f":"+Manilla!C5","v":-100000000},{"$f":"+Manilla!D5","v":1},{"$f":"+Manilla!E5","v":0},{"$f":"+Manilla!F5","v":0}]
[{"$f":"+'Poker C'!A6","v":2},{"$f":"+'Poker C'!B6","v":"Sergi"},{"$f":"+'Poker C'!C6","v":-100000000},{"$f":"+'Poker C'!D6","v":1E-4},{"$f":"+'Poker C'!E6","v":0},{"$f":"+'Poker C'!F6","v":0},null,{"$f":"+Manilla!A6","v":2},{"$f":"+Manilla!B6","v":"Iglesias"},{"$f":"+Manilla!C6","v":-100000000},{"$f":"+Manilla!D6","v":1},{"$f":"+Manilla!E6","v":0},{"$f":"+Manilla!F6","v":0}]
[{"$f":"+'Poker C'!A7","v":3},{"$f":"+'Poker C'!B7","v":"Carles"},{"$f":"+'Poker C'!C7","v":-100000000},{"$f":"+'Poker C'!D7","v":1E-4},{"$f":"+'Poker C'!E7","v":0},{"$f":"+'Poker C'!F7","v":0},null,{"$f":"+Manilla!A7","v":3},{"$f":"+Manilla!B7","v":"Xavi"},{"$f":"+Manilla!C7","v":-100000000},{"$f":"+Manilla!D7","v":1},{"$f":"+Manilla!E7","v":0},{"$f":"+Manilla!F7","v":0}]
[{"$f":"+'Poker C'!A8","v":4},{"$f":"+'Poker C'!B8","v":"Jordi"},{"$f":"+'Poker C'!C8","v":-100000000},{"$f":"+'Poker C'!D8","v":1E-4},{"$f":"+'Poker C'!E8","v":0},{"$f":"+'Poker C'!F8","v":0},null,{"$f":"+Manilla!A8","v":4},{"$f":"+Manilla!B8","v":"Jordi"},{"$f":"+Manilla!C8","v":-100000000},{"$f":"+Manilla!D8","v":1},{"$f":"+Manilla!E8","v":0},{"$f":"+Manilla!F8","v":0}]
[{"$f":"+'Poker C'!A9","v":5},{"$f":"+'Poker C'!B9","v":"Mercè"},{"$f":"+'Poker C'!C9","v":-100000000},{"$f":"+'Poker C'!D9","v":1E-4},{"$f":"+'Poker C'!E9","v":0},{"$f":"+'Poker C'!F9","v":0},null,{"$f":"+Manilla!A9","v":5},{"$f":"+Manilla!B9","v":"Carles"},{"$f":"+Manilla!C9","v":-100000000},{"$f":"+Manilla!D9","v":1},{"$f":"+Manilla!E9","v":0},{"$f":"+Manilla!F9","v":0}]
[{"$f":"+'Poker C'!A10","v":6},{"$f":"+'Poker C'!B10","v":"Ester"},{"$f":"+'Poker C'!C10","v":-100000000},{"$f":"+'Poker C'!D10","v":1E-4},{"$f":"+'Poker C'!E10","v":0},{"$f":"+'Poker C'!F10","v":0},null,{"$f":"+Manilla!A10","v":6},{"$f":"+Manilla!B10","v":"Sergi"},{"$f":"+Manilla!C10","v":-100000000},{"$f":"+Manilla!D10","v":1},{"$f":"+Manilla!E10","v":0},{"$f":"+Manilla!F10","v":0}]
[{"$f":"+'Poker C'!A11","v":7},{"$f":"+'Poker C'!B11","v":"Goretti"},{"$f":"+'Poker C'!C11","v":-100000000},{"$f":"+'Poker C'!D11","v":1E-4},{"$f":"+'Poker C'!E11","v":0},{"$f":"+'Poker C'!F11","v":0}]
[{"$f":"+'Poker C'!A12","v":8},{"$f":"+'Poker C'!B12","v":"Joan Carles"},{"$f":"+'Poker C'!C12","v":-100000000},{"$f":"+'Poker C'!D12","v":1E-4},{"$f":"+'Poker C'!E12","v":0},{"$f":"+'Poker C'!F12","v":0},null,{"$f":"+Manilla!A12","v":8},{"$f":"+Manilla!B12","v":"MªJosé"},{"$f":"+Manilla!C12","v":-100000000},{"$f":"+Manilla!D12","v":1},{"$f":"+Manilla!E12","v":0},{"$f":"+Manilla!F12","v":0}]
[{"$f":"+'Poker C'!A13","v":9},{"$f":"+'Poker C'!B13","v":"MªJosé"},{"$f":"+'Poker C'!C13","v":-100000000},{"$f":"+'Poker C'!D13","v":1E-4},{"$f":"+'Poker C'!E13","v":0},{"$f":"+'Poker C'!F13","v":0},null,{"$f":"+Manilla!A13","v":9},{"$f":"+Manilla!B13","v":"Jimmy"},{"$f":"+Manilla!C13","v":-100000000},{"$f":"+Manilla!D13","v":1},{"$f":"+Manilla!E13","v":0},{"$f":"+Manilla!F13","v":0}]
[{"$f":"+'Poker C'!A14","v":10},{"$f":"+'Poker C'!B14","v":"Marga"},{"$f":"+'Poker C'!C14","v":-100000000},{"$f":"+'Poker C'!D14","v":1E-4},{"$f":"+'Poker C'!E14","v":0},{"$f":"+'Poker C'!F14","v":0},null,{"$f":"+Manilla!A14","v":10},{"$f":"+Manilla!B14","v":"Sylvain"},{"$f":"+Manilla!C14","v":-100000000},{"$f":"+Manilla!D14","v":1},{"$f":"+Manilla!E14","v":0},{"$f":"+Manilla!F14","v":0}]
[{"$f":"+'Poker C'!A15","v":11},{"$f":"+'Poker C'!B15","v":"Mariajo"},{"$f":"+'Poker C'!C15","v":-100000000},{"$f":"+'Poker C'!D15","v":1E-4},{"$f":"+'Poker C'!E15","v":0},{"$f":"+'Poker C'!F15","v":0},null,{"$f":"+Manilla!A15","v":11},{"$f":"+Manilla!B15","v":"Ester"},{"$f":"+Manilla!C15","v":-100000000},{"$f":"+Manilla!D15","v":1},{"$f":"+Manilla!E15","v":0},{"$f":"+Manilla!F15","v":0}]
[{"$f":"+'Poker C'!A16","v":12},{"$f":"+'Poker C'!B16","v":"Montse"},{"$f":"+'Poker C'!C16","v":-100000000},{"$f":"+'Poker C'!D16","v":1E-4},{"$f":"+'Poker C'!E16","v":0},{"$f":"+'Poker C'!F16","v":0},null,{"$f":"+Manilla!A16","v":12},{"$f":"+Manilla!B16","v":"Pol"},{"$f":"+Manilla!C16","v":-100000000},{"$f":"+Manilla!D16","v":1},{"$f":"+Manilla!E16","v":0},{"$f":"+Manilla!F16","v":0}]
[{"$f":"+'Poker C'!A17","v":13},{"$f":"+'Poker C'!B17","v":"Pepe"},{"$f":"+'Poker C'!C17","v":-100000000},{"$f":"+'Poker C'!D17","v":1E-4},{"$f":"+'Poker C'!E17","v":0},{"$f":"+'Poker C'!F17","v":0},null,{"$f":"+Manilla!A17","v":13},{"$f":"+Manilla!B17","v":"Goretti"},{"$f":"+Manilla!C17","v":-100000000},{"$f":"+Manilla!D17","v":1},{"$f":"+Manilla!E17","v":0},{"$f":"+Manilla!F17","v":0}]
[{"$f":"+'Poker C'!A18","v":14},{"$f":"+'Poker C'!B18","v":"Xavi"},{"$f":"+'Poker C'!C18","v":-100000000},{"$f":"+'Poker C'!D18","v":1E-4},{"$f":"+'Poker C'!E18","v":0},{"$f":"+'Poker C'!F18","v":0},null,{"$f":"+Manilla!A18","v":14},{"$f":"+Manilla!B18","v":"Taberner"},{"$f":"+Manilla!C18","v":-100000000},{"$f":"+Manilla!D18","v":1},{"$f":"+Manilla!E18","v":0},{"$f":"+Manilla!F18","v":0}]
[{"$f":"+'Poker C'!A19","v":0},{"$f":"+'Poker C'!B19","v":0},{"$f":"+'Poker C'!C19","v":0},{"$f":"+'Poker C'!D19","v":0},{"$f":"+'Poker C'!E19","v":0},{"$f":"+'Poker C'!F19","v":0},null,{"$f":"+Manilla!A19","v":15},{"$f":"+Manilla!B19","v":"Jorge"},{"$f":"+Manilla!C19","v":-100000000},{"$f":"+Manilla!D19","v":1},{"$f":"+Manilla!E19","v":0},{"$f":"+Manilla!F19","v":0}]
[]
[]
[{"$f":"+Whist!A1","v":"WHIST"},null,null,null,null,null,null,{"$f":"+Wizard!A1","v":"WIZARD"}]
[]
[]
[null,null,{"$f":"+Whist!C4","v":"Premi"},{"$f":"+Whist!D4","v":"Punts"},{"$f":"+Whist!E4","v":"Partides"},{"$f":"+Whist!F4","v":"General"},null,null,null,{"$f":"+Wizard!C4","v":"Premi"},{"$f":"+Wizard!D4","v":"Punts"},{"$f":"+Wizard!E4","v":"Partides"},{"$f":"+Wizard!F4","v":"General"}]
[{"$f":"+Whist!A5","v":1},{"$f":"+Whist!B5","v":"Iglesias"},{"$f":"+Whist!C5","v":-100000000},{"$f":"+Whist!D5","v":1},{"$f":"+Whist!E5","v":0},{"$f":"+Whist!F5","v":0},null,{"$f":"+Wizard!A5","v":1},{"$f":"+Wizard!B5","v":"Carles"},{"$f":"+Wizard!C5","v":1265.5},{"$f":"+Wizard!D5","v":229.31089743589743},{"$f":"+Wizard!E5","v":312},{"$f":"+Wizard!F5","v":80}]
[{"$f":"+Whist!A6","v":1},{"$f":"+Whist!B6","v":"Mercè"},{"$f":"+Whist!C6","v":-100000000},{"$f":"+Whist!D6","v":1},{"$f":"+Whist!E6","v":0},{"$f":"+Whist!F6","v":0},null,{"$f":"+Wizard!A6","v":2},{"$f":"+Wizard!B6","v":"Jordi"},{"$f":"+Wizard!C6","v":653.5},{"$f":"+Wizard!D6","v":215.47169811320754},{"$f":"+Wizard!E6","v":265},{"$f":"+Wizard!F6","v":40}]
[{"$f":"+Whist!A7","v":3},{"$f":"+Whist!B7","v":"Jordi"},{"$f":"+Whist!C7","v":-100000000},{"$f":"+Whist!D7","v":1},{"$f":"+Whist!E7","v":0},{"$f":"+Whist!F7","v":0},null,{"$f":"+Wizard!A7","v":3},{"$f":"+Wizard!B7","v":"Grau"},{"$f":"+Wizard!C7","v":276},{"$f":"+Wizard!D7","v":195.3478178791695},{"$f":"+Wizard!E7","v":584},{"$f":"+Wizard!F7","v":20}]
[{"$f":"+Whist!A8","v":3},{"$f":"+Whist!B8","v":"Sergi"},{"$f":"+Whist!C8","v":-100000000},{"$f":"+Whist!D8","v":1},{"$f":"+Whist!E8","v":0},{"$f":"+Whist!F8","v":0},null,{"$f":"+Wizard!A8","v":4},{"$f":"+Wizard!B8","v":"Sergi"},{"$f":"+Wizard!C8","v":85.5},{"$f":"+Wizard!D8","v":196.01226993865032},{"$f":"+Wizard!E8","v":163},{"$f":"+Wizard!F8","v":10}]
[{"$f":"+Whist!A9","v":5},{"$f":"+Whist!B9","v":"Xavi"},{"$f":"+Whist!C9","v":-100000000},{"$f":"+Whist!D9","v":1},{"$f":"+Whist!E9","v":0},{"$f":"+Whist!F9","v":0},null,{"$f":"+Wizard!A9","v":5},{"$f":"+Wizard!B9","v":"Núria"},{"$f":"+Wizard!C9","v":83.5},{"$f":"+Wizard!D9","v":188.83042805222775},{"$f":"+Wizard!E9","v":437},{"$f":"+Wizard!F9","v":5}]
[{"$f":"+Whist!A10","v":6},{"$f":"+Whist!B10","v":"Goretti"},{"$f":"+Whist!C10","v":-100000000},{"$f":"+Whist!D10","v":1},{"$f":"+Whist!E10","v":0},{"$f":"+Whist!F10","v":0},null,{"$f":"+Wizard!A10","v":6},{"$f":"+Wizard!B10","v":"Tim"},{"$f":"+Wizard!C10","v":53.5},{"$f":"+Wizard!D10","v":214.375},{"$f":"+Wizard!E10","v":16},{"$f":"+Wizard!F10","v":0}]
[{"$f":"+Whist!A11","v":7},{"$f":"+Whist!B11","v":"Carles"},{"$f":"+Whist!C11","v":-100000000},{"$f":"+Whist!D11","v":1},{"$f":"+Whist!E11","v":0},{"$f":"+Whist!F11","v":0},null,{"$f":"+Wizard!A11","v":7},{"$f":"+Wizard!B11","v":"CyberX"},{"$f":"+Wizard!C11","v":14.500000000000004},{"$f":"+Wizard!D11","v":192.76211934156387},{"$f":"+Wizard!E11","v":375},{"$f":"+Wizard!F11","v":0}]
[{"$f":"+Whist!A12","v":8},{"$f":"+Whist!B12","v":"Mariajo"},{"$f":"+Whist!C12","v":-100000000},{"$f":"+Whist!D12","v":1},{"$f":"+Whist!E12","v":0},{"$f":"+Whist!F12","v":0}]

{"sheet":"Wizard","index":1,"n_rows":902,"n_cols":53,"rows_kept":902,"cut":false,"hidden":false,"merged":[[44,36,44,37],[44,38,44,39],[44,40,44,41],[44,44,44,45],[44,30,44,31],[44,32,44,33],[44,34,44,35],[44,42,44,43],[44,28,44,29],[44,8,44,9],[44,12,44,13],[44,14,44,15],[44,16,44,17],[44,18,44,19],[44,20,44,21],[44,22,44,23],[44,24,44,25],[44,26,44,27],[44,1,45,1],[44,2,44,3],[44,4,44,5],[44,6,44,7],[44,10,44,11]]}
["WIZARD"]
["Mes"]
[{"$f":"+GENERAL!B6","v":12},null,{"$f":"SUM(C5:C26)+AZ45","v":3.1974423109204508E-14}]
[null,null,"Premi","Punts","Partides","General"]
[1,"Carles",{"$f":"+Q$42","v":1265.5},{"$f":"+R$43","v":229.31089743589743},{"$f":"+R$42","v":312},{"$f":"+Q$28","v":80},{"$f":"IF(E5<A$3/2,-1,1)*800000+C5*1000+D5*1+E5/1000","v":2065729.6228974359},null,{"$f":"+C5/E5","v":4.0560897435897436}]
[2,"Jordi",{"$f":"+G$42","v":653.5},{"$f":"+H$43","v":215.47169811320754},{"$f":"+H$42","v":265},{"$f":"+G$28","v":40},1453715.7366981131,null,{"$f":"+C6/E6","v":2.4660377358490564}]
[3,"Grau",{"$f":"+U$42","v":276},{"$f":"+V$43","v":195.3478178791695},{"$f":"+V$42","v":584},{"$f":"+U$28","v":20},1076195.9318178792,null,0.4726027397260274]
[4,"Sergi",{"$f":"+O$42","v":85.5},{"$f":"+P$43","v":196.01226993865032},{"$f":"+P$42","v":163},{"$f":"+O$28","v":10},885696.17526993854,null,0.52453987730061347]
[5,"Núria",{"$f":"+AK$42","v":83.5},{"$f":"+AL$43","v":188.83042805222775},{"$f":"+AL$42","v":437},{"$f":"+AK$28","v":5},883689.26742805226,null,0.19107551487414187]
[6,"Tim",{"$f":"+AQ$42","v":53.5},{"$f":"+AR$43","v":214.375},{"$f":"+AR$42","v":16},{"$f":"+AQ$28","v":0},853714.39099999995,null,3.34375]
[7,"CyberX",{"$f":"+K$42","v":14.500000000000004},{"$f":"+L$43","v":192.76211934156387},{"$f":"+L$42","v":375},{"$f":"+K$28","v":0},814693.13711934153,null,3.8666666666666676E-2]
[8,"Marina",{"$f":"+Y$42","v":6},{"$f":"+Z$43","v":217.27272727272728},{"$f":"+Z$42","v":11},{"$f":"+Y$28","v":0},806217.28372727276,null,0.54545454545454541]
[9,"Òscar",{"$f":"+W$42","v":-12.5},{"$f":"+X$43","v":174.41176470588235},{"$f":"+X$42","v":34},{"$f":"+W$28","v":0},787674.44576470589,null,-0.36764705882352944]
[10,"Alfred",{"$f":"+AE$42","v":-15},{"$f":"+AF$43","v":200},{"$f":"+AF$42","v":19},{"$f":"+AE$28","v":0},785200.01899999997,null,-0.78947368421052633]
[11,"Mariajo",{"$f":"+S$42","v":-17},{"$f":"+T$43","v":176.66666666666666},{"$f":"+T$42","v":6},{"$f":"+S$28","v":0},783176.67266666668,null,-2.8333333333333335]
[12,"Tito",{"$f":"+AA$42","v":-43.5},{"$f":"+AB$43","v":186.73469387755102},{"$f":"+AB$42","v":98},{"$f":"+AA$28","v":0},756686.83269387751,null,-0.44387755102040816]
[13,"Nancy",{"$f":"+AG$42","v":-50.5},{"$f":"+AH$43","v":177.10143097643098},{"$f":"+AH$42","v":33},{"$f":"+AG$28","v":0},749677.13443097647,null,-1.5303030303030303]
[14,"Goretti",{"$f":"+M$42","v":-85},{"$f":"+N$43","v":163.02729528535983},{"$f":"+N$42","v":31},{"$f":"+AI$28","v":0},715163.05829528533,null,-2.7419354838709675]
[15,"Sebas",{"$f":"+AO$42","v":-127},{"$f":"+AP$43","v":181.82572614107883},{"$f":"+AP$42","v":241},{"$f":"+AO$28","v":0},673182.06672614114,null,-0.52697095435684649]
[16,"Manolo",{"$f":"+C$42","v":-221.5},{"$f":"+D$43","v":175.64102564102564},{"$f":"+D$42","v":156},{"$f":"+C$28","v":0},578675.79702564096,null,-1.4198717948717949]
[17,"Gemma",{"$f":"+AM$42","v":-344},{"$f":"+AN$43","v":179.6587213528714},{"$f":"+AN$42","v":472},{"$f":"+AM$28","v":0},456180.13072135288,null,-0.72881355932203384]
[18,"Nin",{"$f":"+AC$42","v":-461},{"$f":"+AD$43","v":152.47787610619469},{"$f":"+AD$42","v":113},{"$f":"+AC$28","v":0},339152.59087610623,null,-4.0796460176991154]
[19,"Nogué",{"$f":"+AS$42","v":-477},{"$f":"+AT$43","v":160.42735042735043},{"$f":"+AT$42","v":234},{"$f":"+AS$28","v":0},323160.66135042737,null,-2.0384615384615383]
[20,"Ana B",{"$f":"+E$42","v":-575},{"$f":"+F$43","v":164.55223880597015},{"$f":"+F$42","v":268},{"$f":"+E$28","v":0},225164.82023880599,null,-2.1455223880597014]
[21,"Lleixà",{"$f":"+I$42","v":10},{"$f":"+J$43","v":250},{"$f":"+J$42","v":1},{"$f":"+I$28","v":0},-789749.99899999995,null,10]
[22,"Jeff",{"$f":"+AI$42","v":6},{"$f":"+AJ$43","v":217.5},{"$f":"+AJ$42","v":4},{"$f":"+AI$28","v":0},-793782.49600000004,null,1.5]
[]
[null,"General",{"$f":"+C29*C30","v":0},{"$f":"+D29*D30","v":156},0,268,{"$f":"+G29*G30","v":40},265,0,1,{"$f":"+K29*K30","v":0},{"$f":"+L29*L30","v":375},0,31,10,163,80,312,0,6,{"$f":"+U29*U30","v":20},584,0,34,0,11,{"$f":"+AA29*AA30","v":0},{"$f":"+AB29*AB30","v":98},{"$f":"+AC29*AC30","v":0},{"$f":"+AD29*AD30","v":113},{"$f":"+AE29*AE30","v":0},19,{"$f":"+AG29*AG30","v":0},{"$f":"+AH29*AH30","v":33},0,4,{"$f":"+AK29*AK30","v":5},437,0,472,0,241,{"$f":"+AQ29*AQ30","v":0},16,0,234]
[null,null,{"$f":"IF($B41>3,1,0)","v":1},{"$f":"IF($B41>3,1,0)","v":1},1,1,{"$f":"IF($B41>3,1,0)","v":1},1,1,1,{"$f":"IF($B41>3,1,0)","v":1},{"$f":"IF($B41>3,1,0)","v":1},1,1,1,1,1,1,1,1,1,1,1,1,1,1,{"$f":"IF($B41>3,1,0)","v":1},{"$f":"IF($B41>3,1,0)","v":1},{"$f":"IF($B41>3,1,0)","v":1},{"$f":"IF($B41>3,1,0)","v":1},1,1,{"$f":"IF($B41>3,1,0)","v":1},{"$f":"IF($B41>3,1,0)","v":1},1,1,{"$f":"IF($B41>3,1,0)","v":1},1,1,1,1,1,{"$f":"IF($B41>3,1,0)","v":1},1,1,1]
[null,null,{"$f":"MAX(C31:C35)","v":0},{"$f":"+D42","v":156},{"$f":"MAX(E31:E35)","v":0},{"$f":"+F42","v":268},{"$f":"MAX(G31:G35)","v":40},{"$f":"+H42","v":265},{"$f":"MAX(I31:I35)","v":0},{"$f":"+J42","v":1},{"$f":"MAX(K31:K35)","v":0},{"$f":"+L42","v":375},{"$f":"MAX(M31:M35)","v":0},{"$f":"+N42","v":31},{"$f":"MAX(O31:O35)","v":10},{"$f":"+P42","v":163},{"$f":"MAX(Q31:Q35)","v":80},{"$f":"+R42","v":312},{"$f":"MAX(S31:S35)","v":0},{"$f":"+T42","v":6},{"$f":"MAX(U31:U35)","v":20},{"$f":"+V42","v":584},{"$f":"MAX(W31:W35)","v":0},{"$f":"+X42","v":34},{"$f":"MAX(Y31:Y35)","v":0},{"$f":"+Z42","v":11},{"$f":"MAX(AA31:AA35)","v":0},{"$f":"+AB42","v":98},{"$f":"MAX(AC31:AC35)","v":0},{"$f":"+AD42","v":113},{"$f":"MAX(AE31:AE35)","v":0},{"$f":"+AF42","v":19},{"$f":"MAX(AG31:AG35)","v":0},{"$f":"+AH42","v":33},{"$f":"MAX(AI31:AI35)","v":0},{"$f":"+AJ42","v":4},{"$f":"MAX(AK31:AK35)","v":5},{"$f":"+AL42","v":437},{"$f":"MAX(AM31:AM35)","v":0},{"$f":"+AN42","v":472},{"$f":"MAX(AO31:AO35)","v":0},{"$f":"+AP42","v":241},{"$f":"MAX(AQ31:AQ35)","v":0},{"$f":"+AR42","v":16},{"$f":"MAX(AS31:AS35)","v":0},{"$f":"+AT42","v":234}]
[null,null,{"$f":"IF(C$36=5,5,0)","v":0},null,{"$f":"IF(E$36=5,5,0)","v":0},null,{"$f":"IF(G$36=5,5,0)","v":0},null,{"$f":"IF(I$36=5,5,0)","v":0},null,{"$f":"IF(K$36=5,5,0)","v":0},null,{"$f":"IF(M$36=5,5,0)","v":0},null,{"$f":"IF(O$36=5,5,0)","v":0},null,{"$f":"IF(Q$36=5,5,0)","v":0},null,{"$f":"IF(S$36=5,5,0)","v":0},null,{"$f":"IF(U$36=5,5,0)","v":0},null,{"$f":"IF(W$36=5,5,0)","v":0},null,{"$f":"IF(Y$36=5,5,0)","v":0},null,{"$f":"IF(AA$36=5,5,0)","v":0},null,{"$f":"IF(AC$36=5,5,0)","v":0},null,{"$f":"IF(AE$36=5,5,0)","v":0},null,{"$f":"IF(AG$36=5,5,0)","v":0},null,{"$f":"IF(AI$36=5,5,0)","v":0},null,{"$f":"IF(AK$36=5,5,0)","v":5},null,{"$f":"IF(AM$36=5,5,0)","v":0},null,{"$f":"IF(AO$36=5,5,0)","v":0},null,{"$f":"IF(AQ$36=5,5,0)","v":0},null,{"$f":"IF(AS$36=5,5,0)","v":0}]
[null,null,{"$f":"IF(C$36=4,10,0)","v":0},null,{"$f":"IF(E$36=4,10,0)","v":0},null,{"$f":"IF(G$36=4,10,0)","v":0},null,{"$f":"IF(I$36=4,10,0)","v":0},null,{"$f":"IF(K$36=4,10,0)","v":0},null,{"$f":"IF(M$36=4,10,0)","v":0},null,{"$f":"IF(O$36=4,10,0)","v":10},null,{"$f":"IF(Q$36=4,10,0)","v":0},null,{"$f":"IF(S$36=4,10,0)","v":0},null,{"$f":"IF(U$36=4,10,0)","v":0},null,{"$f":"IF(W$36=4,10,0)","v":0},null,{"$f":"IF(Y$36=4,10,0)","v":0},null,{"$f":"IF(AA$36=4,10,0)","v":0},null,{"$f":"IF(AC$36=4,10,0)","v":0},null,{"$f":"IF(AE$36=4,10,0)","v":0},null,{"$f":"IF(AG$36=4,10,0)","v":0},null,{"$f":"IF(AI$36=4,10,0)","v":0},null,{"$f":"IF(AK$36=4,10,0)","v":0},null,{"$f":"IF(AM$36=4,10,0)","v":0},null,{"$f":"IF(AO$36=4,10,0)","v":0},null,{"$f":"IF(AQ$36=4,10,0)","v":0},null,{"$f":"IF(AS$36=4,10,0)","v":0}]
[null,null,{"$f":"IF(C$36=3,20,0)","v":0},null,{"$f":"IF(E$36=3,20,0)","v":0},null,{"$f":"IF(G$36=3,20,0)","v":0},null,{"$f":"IF(I$36=3,20,0)","v":0},null,{"$f":"IF(K$36=3,20,0)","v":0},null,{"$f":"IF(M$36=3,20,0)","v":0},null,{"$f":"IF(O$36=3,20,0)","v":0},null,{"$f":"IF(Q$36=3,20,0)","v":0},null,{"$f":"IF(S$36=3,20,0)","v":0},null,{"$f":"IF(U$36=3,20,0)","v":20},null,{"$f":"IF(W$36=3,20,0)","v":0},null,{"$f":"IF(Y$36=3,20,0)","v":0},null,{"$f":"IF(AA$36=3,20,0)","v":0},null,{"$f":"IF(AC$36=3,20,0)","v":0},null,{"$f":"IF(AE$36=3,20,0)","v":0},null,{"$f":"IF(AG$36=3,20,0)","v":0},null,{"$f":"IF(AI$36=3,20,0)","v":0},null,{"$f":"IF(AK$36=3,20,0)","v":0},null,{"$f":"IF(AM$36=3,20,0)","v":0},null,{"$f":"IF(AO$36=3,20,0)","v":0},null,{"$f":"IF(AQ$36=3,20,0)","v":0},null,{"$f":"IF(AS$36=3,20,0)","v":0}]
[null,null,{"$f":"IF(C$36=2,40,0)","v":0},null,{"$f":"IF(E$36=2,40,0)","v":0},null,{"$f":"IF(G$36=2,40,0)","v":40},null,{"$f":"IF(I$36=2,40,0)","v":0},null,{"$f":"IF(K$36=2,40,0)","v":0},null,{"$f":"IF(M$36=2,40,0)","v":0},null,{"$f":"IF(O$36=2,40,0)","v":0},null,{"$f":"IF(Q$36=2,40,0)","v":0},null,{"$f":"IF(S$36=2,40,0)","v":0},null,{"$f":"IF(U$36=2,40,0)","v":0},null,{"$f":"IF(W$36=2,40,0)","v":0},null,{"$f":"IF(Y$36=2,40,0)","v":0},null,{"$f":"IF(AA$36=2,40,0)","v":0},null,{"$f":"IF(AC$36=2,40,0)","v":0},null,{"$f":"IF(AE$36=2,40,0)","v":0},null,{"$f":"IF(AG$36=2,40,0)","v":0},null,{"$f":"IF(AI$36=2,40,0)","v":0},null,{"$f":"IF(AK$36=2,40,0)","v":0},null,{"$f":"IF(AM$36=2,40,0)","v":0},null,{"$f":"IF(AO$36=2,40,0)","v":0},null,{"$f":"IF(AQ$36=2,40,0)","v":0},null,{"$f":"IF(AS$36=2,40,0)","v":0}]
[null,null,{"$f":"IF(C$36=1,80,0)","v":0},null,{"$f":"IF(E$36=1,80,0)","v":0},null,{"$f":"IF(G$36=1,80,0)","v":0},null,{"$f":"IF(I$36=1,80,0)","v":0},null,{"$f":"IF(K$36=1,80,0)","v":0},null,{"$f":"IF(M$36=1,80,0)","v":0},null,{"$f":"IF(O$36=1,80,0)","v":0},null,{"$f":"IF(Q$36=1,80,0)","v":80},null,{"$f":"IF(S$36=1,80,0)","v":0},null,{"$f":"IF(U$36=1,80,0)","v":0},null,{"$f":"IF(W$36=1,80,0)","v":0},null,{"$f":"IF(Y$36=1,80,0)","v":0},null,{"$f":"IF(AA$36=1,80,0)","v":0},null,{"$f":"IF(AC$36=1,80,0)","v":0},null,{"$f":"IF(AE$36=1,80,0)","v":0},null,{"$f":"IF(AG$36=1,80,0)","v":0},null,{"$f":"IF(AI$36=1,80,0)","v":0},null,{"$f":"IF(AK$36=1,80,0)","v":0},null,{"$f":"IF(AM$36=1,80,0)","v":0},null,{"$f":"IF(AO$36=1,80,0)","v":0},null,{"$f":"IF(AQ$36=1,80,0)","v":0},null,{"$f":"IF(AS$36=1,80,0)","v":0}]
[null,null,{"$f":"RANK(C37,$C37:$BV37)*C41","v":16},null,{"$f":"RANK(E37,$C37:$BV37)*E41","v":20},null,{"$f":"RANK(G37,$C37:$BV37)*G41","v":2},null,{"$f":"RANK(I37,$C37:$BV37)*I41","v":0},null,{"$f":"RANK(K37,$C37:$BV37)*K41","v":7},null,{"$f":"RANK(M37,$C37:$BV37)*M41","v":14},null,{"$f":"RANK(O37,$C37:$BV37)*O41","v":4},null,{"$f":"RANK(Q37,$C37:$BV37)*Q41","v":1},null,{"$f":"RANK(S37,$C37:$BV37)*S41","v":11},null,{"$f":"RANK(U37,$C37:$BV37)*U41","v":3},null,{"$f":"RANK(W37,$C37:$BV37)*W41","v":9},null,{"$f":"RANK(Y37,$C37:$BV37)*Y41","v":8},null,{"$f":"RANK(AA37,$C37:$BV37)*AA41","v":12},null,{"$f":"RANK(AC37,$C37:$BV37)*AC41","v":18},null,{"$f":"RANK(AE37,$C37:$BV37)*AE41","v":10},null,{"$f":"RANK(AG37,$C37:$BV37)*AG41","v":13},null,{"$f":"RANK(AI37,$C37:$BV37)*AI41","v":0},null,{"$f":"RANK(AK37,$C37:$BV37)*AK41","v":5},null,{"$f":"RANK(AM37,$C37:$BV37)*AM41","v":17},null,{"$f":"RANK(AO37,$C37:$BV37)*AO41","v":15},null,{"$f":"RANK(AQ37,$C37:$BV37)*AQ41","v":6},null,{"$f":"RANK(AS37,$C37:$BV37)*AS41","v":19}]
[null,null,{"$f":"SUM(C38:C40)","v":-221544.29897435897},null,{"$f":"SUM(E38:E40)","v":-575407.76776119403},null,{"$f":"SUM(G38:G40)","v":654371.62169811316},null,{"$f":"SUM(I38:I40)","v":-999739.99},null,{"$f":"SUM(K38:K40)","v":14711.012119341567},null,{"$f":"SUM(M38:M40)","v":-84921.662704714647},null,{"$f":"SUM(O38:O40)","v":85783.142269938646},null,{"$f":"SUM(Q38:Q40)","v":1266997.9308974359},null,{"$f":"SUM(S38:S40)","v":-16840.273333333334},null,{"$f":"SUM(U38:U40)","v":276477.1878178792},null,{"$f":"SUM(W38:W40)","v":-12337.748235294117},null,{"$f":"SUM(Y38:Y40)","v":6223.3827272727276},null,{"$f":"SUM(AA38:AA40)","v":-43355.785306122452},null,{"$f":"SUM(AC38:AC40)","v":-461307.39212389378},null,{"$f":"SUM(AE38:AE40)","v":-14814.81},null,{"$f":"SUM(AG38:AG40)","v":-50373.06856902357},null,{"$f":"SUM(AI38:AI40)","v":-999776.46},null,{"$f":"SUM(AK38:AK40)","v":83776.700428052223},null,{"$f":"SUM(AM38:AM40)","v":-344159.6212786471},null,{"$f":"SUM(AO38:AO40)","v":-126942.76427385892},null,{"$f":"SUM(AQ38:AQ40)","v":53768.035000000003},null,{"$f":"SUM(AS38:AS40)","v":-477314.23264957266}]
[null,null,{"$f":"+D42/100","v":1.56},null,{"$f":"+F42/100","v":2.68},null,{"$f":"+H42/100","v":2.65},null,{"$f":"+J42/100","v":0.01},null,{"$f":"+L42/100","v":3.75},null,{"$f":"+N42/100","v":0.31},null,{"$f":"+P42/100","v":1.63},null,{"$f":"+R42/100","v":3.12},null,{"$f":"+T42/100","v":0.06},null,{"$f":"+V42/100","v":5.84},null,{"$f":"+X42/100","v":0.34},null,{"$f":"+Z42/100","v":0.11},null,{"$f":"+AB42/100","v":0.98},null,{"$f":"+AD42/100","v":1.1299999999999999},null,{"$f":"+AF42/100","v":0.19},null,{"$f":"+AH42/100","v":0.33},null,{"$f":"+AJ42/100","v":0.04},null,{"$f":"+AL42/100","v":4.37},null,{"$f":"+AN42/100","v":4.72},null,{"$f":"+AP42/100","v":2.41},null,{"$f":"+AR42/100","v":0.16},null,{"$f":"+AT42/100","v":2.34}]
[null,null,{"$f":"D43","v":175.64102564102564},null,{"$f":"F43","v":164.55223880597015},null,{"$f":"H43","v":215.47169811320754},null,{"$f":"J43","v":250},null,{"$f":"L43","v":192.76211934156387},null,{"$f":"N43","v":163.02729528535983},null,{"$f":"P43","v":196.01226993865032},null,{"$f":"R43","v":229.31089743589743},null,{"$f":"T43","v":176.66666666666666},null,{"$f":"V43","v":195.3478178791695},null,{"$f":"X43","v":174.41176470588235},null,{"$f":"Z43","v":217.27272727272728},null,{"$f":"AB43","v":186.73469387755102},null,{"$f":"AD43","v":152.47787610619469},null,{"$f":"AF43","v":200},null,{"$f":"AH43","v":177.10143097643098},null,{"$f":"AJ43","v":217.5},null,{"$f":"AL43","v":188.83042805222775},null,{"$f":"AN43","v":179.6587213528714},null,{"$f":"AP43","v":181.82572614107883},null,{"$f":"AR43","v":214.375},null,{"$f":"AT43","v":160.42735042735043}]
[null,null,{"$f":"IF(C41=1,C42*C41*1000+C42,-1000000+C42)","v":-221721.5},null,{"$f":"IF(E41=1,E42*E41*1000+E42,-1000000+E42)","v":-575575},null,{"$f":"IF(G41=1,G42*G41*1000+G42,-1000000+G42)","v":654153.5},null,{"$f":"IF(I41=1,I42*I41*1000+I42,-1000000+I42)","v":-999990},null,{"$f":"IF(K41=1,K42*K41*1000+K42,-1000000+K42)","v":14514.500000000004},null,{"$f":"IF(M41=1,M42*M41*1000+M42,-1000000+M42)","v":-85085},null,{"$f":"IF(O41=1,O42*O41*1000+O42,-1000000+O42)","v":85585.5},null,{"$f":"IF(Q41=1,Q42*Q41*1000+Q42,-1000000+Q42)","v":1266765.5},null,{"$f":"IF(S41=1,S42*S41*1000+S42,-1000000+S42)","v":-17017},null,{"$f":"IF(U41=1,U42*U41*1000+U42,-1000000+U42)","v":276276},null,{"$f":"IF(W41=1,W42*W41*1000+W42,-1000000+W42)","v":-12512.5},null,{"$f":"IF(Y41=1,Y42*Y41*1000+Y42,-1000000+Y42)","v":6006},null,{"$f":"IF(AA41=1,AA42*AA41*1000+AA42,-1000000+AA42)","v":-43543.5},null,{"$f":"IF(AC41=1,AC42*AC41*1000+AC42,-1000000+AC42)","v":-461461},null,{"$f":"IF(AE41=1,AE42*AE41*1000+AE42,-1000000+AE42)","v":-15015},null,{"$f":"IF(AG41=1,AG42*AG41*1000+AG42,-1000000+AG42)","v":-50550.5},null,{"$f":"IF(AI41=1,AI42*AI41*1000+AI42,-1000000+AI42)","v":-999994},null,{"$f":"IF(AK41=1,AK42*AK41*1000+AK42,-1000000+AK42)","v":83583.5},null,{"$f":"IF(AM41=1,AM42*AM41*1000+AM42,-1000000+AM42)","v":-344344},null,{"$f":"IF(AO41=1,AO42*AO41*1000+AO42,-1000000+AO42)","v":-127127},null,{"$f":"IF(AQ41=1,AQ42*AQ41*1000+AQ42,-1000000+AQ42)","v":53553.5},null,{"$f":"IF(AS41=1,AS42*AS41*1000+AS42,-1000000+AS42)","v":-477477}]
["Classificats",{"$f":"SUM(C41:AI41)","v":15},{"$f":"IF(D42>=$A3/2,1,0)","v":1},null,{"$f":"IF(F42>=$A3/2,1,0)","v":1},null,{"$f":"IF(H42>=$A3/2,1,0)","v":1},null,{"$f":"IF(J42>=$A3/2,1,0)","v":0},null,{"$f":"IF(L42>=$A3/2,1,0)","v":1},null,{"$f":"IF(N42>=$A3/2,1,0)","v":1},null,{"$f":"IF(P42>=$A3/2,1,0)","v":1},null,{"$f":"IF(R42>=$A3/2,1,0)","v":1},null,{"$f":"IF(T42>=$A3/2,1,0)","v":1},null,{"$f":"IF(V42>=$A3/2,1,0)","v":1},null,{"$f":"IF(X42>=$A3/2,1,0)","v":1},null,{"$f":"IF(Z42>=$A3/2,1,0)","v":1},null,{"$f":"IF(AB42>=$A3/2,1,0)","v":1},null,{"$f":"IF(AD42>=$A3/2,1,0)","v":1},null,{"$f":"IF(AF42>=$A3/2,1,0)","v":1},null,{"$f":"IF(AH42>=$A3/2,1,0)","v":1},null,{"$f":"IF(AJ42>=$A3/2,1,0)","v":0},null,{"$f":"IF(AL42>=$A3/2,1,0)","v":1},null,{"$f":"IF(AN42>=$A3/2,1,0)","v":1},null,{"$f":"IF(AP42>=$A3/2,1,0)","v":1},null,{"$f":"IF(AR42>=$A3/2,1,0)","v":1},null,{"$f":"IF(AT42>=$A3/2,1,0)","v":1}]
[null,null,{"$f":"IF(SUM(C47:C987)<-1000,-100000000,SUM(C47:C987))","v":-221.5},{"$f":"COUNT(D47:D987)","v":156},{"$f":"IF(SUM(E47:E987)<-1000,-100000000,SUM(E47:E987))","v":-575},{"$f":"COUNT(F47:F987)","v":268},{"$f":"IF(SUM(G47:G987)<-1000,-100000000,SUM(G47:G987))","v":653.5},{"$f":"COUNT(H47:H987)","v":265},{"$f":"IF(SUM(I47:I987)<-1000,-100000000,SUM(I47:I987))","v":10},{"$f":"COUNT(J47:J987)","v":1},{"$f":"IF(SUM(K47:K987)<-1000,-100000000,SUM(K47:K987))","v":14.500000000000004},{"$f":"COUNT(L47:L987)","v":375},{"$f":"IF(SUM(M47:M987)<-1000,-100000000,SUM(M47:M987))","v":-85},{"$f":"COUNT(N47:N987)","v":31},{"$f":"IF(SUM(O47:O987)<-1000,-100000000,SUM(O47:O987))","v":85.5},{"$f":"COUNT(P47:P987)","v":163},{"$f":"IF(SUM(Q47:Q987)<-1000,-100000000,SUM(Q47:Q987))","v":1265.5},{"$f":"COUNT(R47:R987)","v":312},{"$f":"IF(SUM(S47:S987)<-1000,-100000000,SUM(S47:S987))","v":-17},{"$f":"COUNT(T47:T987)","v":6},{"$f":"IF(SUM(U47:U987)<-1000,-100000000,SUM(U47:U987))","v":276},{"$f":"COUNT(V47:V987)","v":584},{"$f":"IF(SUM(W47:W987)<-1000,-100000000,SUM(W47:W987))","v":-12.5},{"$f":"COUNT(X47:X987)","v":34},{"$f":"IF(SUM(Y47:Y987)<-1000,-100000000,SUM(Y47:Y987))","v":6},{"$f":"COUNT(Z47:Z987)","v":11},{"$f":"IF(SUM(AA47:AA987)<-1000,-100000000,SUM(AA47:AA987))","v":-43.5},{"$f":"COUNT(AB47:AB987)","v":98},{"$f":"IF(SUM(AC47:AC987)<-1000,-100000000,SUM(AC47:AC987))","v":-461},{"$f":"COUNT(AD47:AD987)","v":113},{"$f":"IF(SUM(AE47:AE987)<-1000,-100000000,SUM(AE47:AE987))","v":-15},{"$f":"COUNT(AF47:AF987)","v":19},{"$f":"IF(SUM(AG47:AG987)<-1000,-100000000,SUM(AG47:AG987))","v":-50.5},{"$f":"COUNT(AH47:AH987)","v":33},{"$f":"IF(SUM(AI47:AI987)<-1000,-100000000,SUM(AI47:AI987))","v":6},{"$f":"COUNT(AJ47:AJ987)","v":4},{"$f":"IF(SUM(AK47:AK987)<-1000,-100000000,SUM(AK47:AK987))","v":83.5},{"$f":"COUNT(AL47:AL987)","v":437},{"$f":"IF(SUM(AM47:AM987)<-1000,-100000000,SUM(AM47:AM987))","v":-344},{"$f":"COUNT(AN47:AN987)","v":472},{"$f":"IF(SUM(AO47:AO987)<-1000,-100000000,SUM(AO47:AO987))","v":-127},{"$f":"COUNT(AP47:AP987)","v":241},{"$f":"IF(SUM(AQ47:AQ987)<-1000,-100000000,SUM(AQ47:AQ987))","v":53.5},{"$f":"COUNT(AR47:AR987)","v":16},{"$f":"IF(SUM(AS47:AS987)<-1000,-100000000,SUM(AS47:AS987))","v":-477},{"$f":"COUNT(AT47:AT987)","v":234}]
[null,null,null,{"$f":"IF(D42=0,0.0001,AVERAGE(D47:D902))","v":175.64102564102564},null,{"$f":"IF(F42=0,0.0001,AVERAGE(F47:F902))","v":164.55223880597015},null,{"$f":"IF(H42=0,0.0001,AVERAGE(H47:H902))","v":215.47169811320754},null,{"$f":"IF(J42=0,0.0001,AVERAGE(J47:J902))","v":250},null,{"$f":"IF(L42=0,0.0001,AVERAGE(L47:L902))","v":192.76211934156387},null,{"$f":"IF(N42=0,0.0001,AVERAGE(N47:N902))","v":163.02729528535983},null,{"$f":"IF(P42=0,0.0001,AVERAGE(P47:P902))","v":196.01226993865032},null,{"$f":"IF(R42=0,0.0001,AVERAGE(R47:R902))","v":229.31089743589743},null,{"$f":"IF(T42=0,0.0001,AVERAGE(T47:T902))","v":176.66666666666666},null,{"$f":"IF(V42=0,0.0001,AVERAGE(V47:V902))","v":195.3478178791695},null,{"$f":"IF(X42=0,0.0001,AVERAGE(X47:X902))","v":174.41176470588235},null,{"$f":"IF(Z42=0,0.0001,AVERAGE(Z47:Z902))","v":217.27272727272728},null,{"$f":"IF(AB42=0,0.0001,AVERAGE(AB47:AB902))","v":186.73469387755102},null,{"$f":"IF(AD42=0,0.0001,AVERAGE(AD47:AD902))","v":152.47787610619469},null,{"$f":"IF(AF42=0,0.0001,AVERAGE(AF47:AF902))","v":200},null,{"$f":"IF(AH42=0,0.0001,AVERAGE(AH47:AH902))","v":177.10143097643098},null,{"$f":"IF(AJ42=0,0.0001,AVERAGE(AJ47:AJ902))","v":217.5},null,{"$f":"IF(AL42=0,0.0001,AVERAGE(AL47:AL902))","v":188.83042805222775},null,{"$f":"IF(AN42=0,0.0001,AVERAGE(AN47:AN902))","v":179.6587213528714},null,{"$f":"IF(AP42=0,0.0001,AVERAGE(AP47:AP902))","v":181.82572614107883},null,{"$f":"IF(AR42=0,0.0001,AVERAGE(AR47:AR902))","v":214.375},null,{"$f":"IF(AT42=0,0.0001,AVERAGE(AT47:AT902))","v":160.42735042735043}]
[null,null,null,null,null,null,null,null,null,null,null,null,null,null,null,null,null,null,null,null,null,null,null,null,null,null,null,null,null,null,null,null,null,null,null,null,null,null,null,null,null,null,null,null,null,null,{"$f":"MAX(AV47:AV1068)","v":388}]
[null,"Comentaris","Manolo",null,"Ana B",null,"Jordi",null,"Lleixà",null,"Cyber X",null,"Goretti",null,"Sergi",null,"Carles",null,"Mariajo",null,"Grau",null,"Òscar",null,"Marina",null,"Tito",null,"Nin",null,"Alfred",null,"Nancy",null,"Jeff",null,"Núria",null,"Gemma",null,"Sebas",null,"Tim",null,"Nogué",null,{"$f":"COUNT(AU47:AU902)","v":783},"A","B","C","cyberX2",{"$f":"SUM(AZ47:AZ902)","v":-24.999999999999968}]
[null,null,"Premi","Punts","Premi","Punts","Premi","Punts","Premi","Punts","Premi","Punts","Premi","Punts","Premi","Punts","Premi","Punts","Premi","Punts","Premi","Punts","Premi","Punts","Premi","Punts","Premi","Punts","Premi","Punts","Premi","Punts","Premi","Punts","Premi","Punts","Premi","Punts","Premi","Punts","Premi","Punts","Premi","Punts","Premi","Punts","Data","Timba",null,null,null,"Excés cyber"]
[1,null,-10,90,null,null,null,null,null,null,10,240,null,null,null,null,5,220,null,null,null,null,null,null,null,null,0,160,-5,130,null,null,null,null,null,null,null,null,null,null,null,null,null,null,null,null,"2020-10-04",5,{"$f":"+AI47+AE47+Y47+W47+U47+S47+Q47+O47+M47+I47+G47+E47+C47+AG47+K47+AS47+AZ47+AA47+AC47+AK47+AM47+AO47+AQ47","v":0},{"$f":"COUNT(C47:AT47)/2","v":5},{"$f":"+AW47/AX47","v":0}]
[{"$f":"+A47+1","v":2},null,2.5,200,null,null,null,null,null,null,2.5,200,null,null,null,null,-5,170,null,null,null,null,null,null,null,null,-10,150,10,230,null,null,null,null,null,null,null,null,null,null,null,null,null,null,null,null,"2020-10-05",7,0,5,0]
[{"$f":"+A48+1","v":3},null,-8,70,null,null,null,null,null,null,{"$f":"+(-8+2+6)/3","v":0},{"$f":"+(70+170+210)/3","v":150},null,null,null,null,null,null,null,null,null,null,null,null,null,null,10,240,-2,140,null,null,null,null,null,null,null,null,null,null,null,null,null,null,null,null,"2020-10-07",8,0,4,0,{"$f":"+K49*2","v":0}]
[4,null,null,null,null,null,null,null,null,null,{"$f":"+(-2.5+5)/2","v":1.25},{"$f":"+(260+280)/2","v":270},null,null,null,null,10,340,null,null,null,null,null,null,null,null,-2.5,260,-10,220,null,null,null,null,null,null,null,null,null,null,null,null,null,null,null,null,"2020-10-08",10,0,4,0,{"$f":"+K50","v":1.25}]
[5,null,null,null,null,null,-4,60,null,null,null,null,null,null,null,null,null,null,null,null,null,null,null,null,null,null,null,null,null,null,null,null,null,null,null,null,10,210,4,130,null,null,null,null,-10,-20,"2020-10-10",12,0,4,0]
[6,null,null,null,null,null,2,180,null,null,null,null,null,null,null,null,10,240,null,null,null,null,-8,140,null,null,null,null,null,null,null,null,null,null,null,null,6,230,-2,170,null,null,null,null,-8,140,"2020-10-10",12,0,6,{"$f":"+AW52/AX52","v":0}]
[7,null,null,null,null,null,-6,80,null,null,null,null,null,null,null,null,4,210,null,null,null,null,-10,-10,null,null,null,null,null,null,null,null,null,null,null,null,4,210,-2,110,null,null,null,null,10,240,"2020-10-10",12,0,{"$f":"COUNT(C53:AT53)/2","v":6},0]
[8,null,null,null,null,null,null,null,null,null,{"$f":"+(6+10+0)/3","v":5.333333333333333},{"$f":"+(240+250+180)/3","v":223.33333333333334},null,null,null,null,0,180,null,null,null,null,null,null,null,null,-6,170,-10,120,null,null,null,null,null,null,null,null,null,null,null,null,null,null,null,null,"2020-10-10",13,0,4,0,{"$f":"+K54*2","v":10.666666666666666}]
[9,null,null,null,null,null,10,250,null,null,null,null,null,null,0,140,null,null,null,null,null,null,null,null,null,null,null,null,null,null,null,null,null,null,null,null,null,null,-10,30,null,null,null,null,null,null,"2020-10-11",14,0,3,0]
[{"$f":"+A55+1","v":10},null,null,null,null,null,10,260,null,null,null,null,null,null,4,180,null,null,null,null,null,null,null,null,null,null,null,null,null,null,null,null,null,null,null,null,-10,60,-4,70,null,null,null,null,null,null,"2020-10-11",14,0,4,0]
[11,null,null,null,null,null,-4,120,null,null,null,null,null,null,10,200,null,null,null,null,null,null,null,null,null,null,null,null,null,null,null,null,null,null,null,null,4,200,-10,-10,null,null,null,null,null,null,"2020-10-11",14,0,4,0]
[12,null,null,null,null,null,null,null,null,null,{"$f":"+(-2-10+10)/3","v":-0.66666666666666663},{"$f":"+(180+90+260)/3","v":176.66666666666666},null,null,null,null,-6,140,null,null,null,null,null,null,null,null,6,250,2,190,null,null,null,null,null,null,null,null,null,null,null,null,null,null,null,null,"2020-10-11",15,0,4,{"$f":"+AW58/AX58","v":0},{"$f":"+K58*2","v":-1.3333333333333333}]
[13,null,null,null,null,null,null,null,null,null,{"$f":"+(10-6+2)/3","v":2},{"$f":"+(310+160+280)/3","v":250},null,null,null,null,6,300,null,null,null,null,null,null,null,null,-10,140,-2,180,null,null,null,null,null,null,null,null,null,null,null,null,null,null,null,null,"2020-10-11",15,0,4,0,{"$f":"+K59*2","v":4}]
[14,null,null,null,null,null,null,null,null,null,{"$f":"+(-10+2+10)/3","v":0.66666666666666663},{"$f":"+(100+210+250)/3","v":186.66666666666666},null,null,null,null,-2,190,null,null,null,null,null,null,null,null,6,240,-6,140,null,null,null,null,null,null,null,null,null,null,null,null,null,null,null,null,"2020-10-12",17,0,4,0,{"$f":"+K60*2","v":1.3333333333333333}]
[15,null,null,null,null,null,null,null,null,null,{"$f":"+(10+0)/2","v":5},{"$f":"+(330+310)/2","v":320},null,null,null,null,5,320,null,null,null,null,null,null,null,null,-5,290,-10,270,null,null,null,null,null,null,null,null,null,null,null,null,null,null,null,null,"2020-10-15",20,0,{"$f":"COUNT(C61:AT61)/2","v":4},0,{"$f":"+K61","v":5}]
[16,null,null,null,null,null,null,null,null,null,{"$f":"+(-5-10)/2","v":-7.5},{"$f":"+(170+130)/2","v":150},null,null,5,270,10,280,null,null,null,null,null,null,null,null,0,210,null,null,null,null,null,null,null,null,null,null,null,null,null,null,null,null,null,null,"2020-10-16",22,0,4,0,{"$f":"+K62","v":-7.5}]
[17,null,-10,150,null,null,null,null,null,null,{"$f":"+(2+6+10)/3","v":6},{"$f":"+(210+220+240)/3","v":223.33333333333334},null,null,-2,190,null,null,null,null,null,null,null,null,null,null,-6,180,null,null,null,null,null,null,null,null,null,null,null,null,null,null,null,null,null,null,"2020-10-16",22,0,4,0,{"$f":"+K63*2","v":12}]
[18,null,-2,140,null,null,null,null,null,null,{"$f":"+(2+6-6)/3","v":0.66666666666666663},{"$f":"+(170+240+100)/3","v":170},null,null,null,null,10,280,null,null,null,null,null,null,null,null,null,null,-10,70,null,null,null,null,null,null,null,null,null,null,null,null,null,null,null,null,"2020-10-16",23,0,4,0,{"$f":"+K64*2","v":1.3333333333333333}]
[19,null,null,null,null,null,0,220,null,null,null,null,null,null,10,270,null,null,null,null,null,null,null,null,null,null,null,null,null,null,null,null,null,null,null,null,-5,170,-10,70,5,250,null,null,null,null,"2020-10-17",24,0,5,0]
[20,null,null,null,null,null,null,null,null,null,{"$f":"+(10-5)/2","v":2.5},{"$f":"+(290+150)/2","v":220},null,null,0,190,null,null,null,null,null,null,null,null,null,null,-10,140,5,220,null,null,null,null,null,null,null,null,null,null,null,null,null,null,null,null,"2020-10-17",25,0,4,0,{"$f":"+K66","v":2.5}]
[21,null,4,160,null,null,null,null,null,null,{"$f":"+(10-10-4)/3","v":-1.3333333333333333},{"$f":"+(190+130+150)/3","v":156.66666666666666},null,null,-4,150,4,160,null,null,null,null,null,null,null,null,null,null,null,null,null,null,null,null,null,null,null,null,null,null,null,null,null,null,null,null,"2020-10-18",27,4.4408920985006262E-16,4,1.1102230246251565E-16,{"$f":"+K67*2","v":-2.6666666666666665}]
[22,null,-10,70,null,null,null,null,null,null,{"$f":"+(-2-6+6)/3","v":-0.66666666666666663},{"$f":"+(130+90+210)/3","v":143.33333333333334},null,null,2,200,null,null,null,null,null,null,null,null,null,null,10,220,null,null,null,null,null,null,null,null,null,null,null,null,null,null,null,null,null,null,"2020-10-20",30,0,4,0,{"$f":"+K68*2","v":-1.3333333333333333}]
[23,null,null,null,null,null,null,null,null,null,{"$f":"+(10+0)/2","v":5},{"$f":"+(300+250)/2","v":275},null,null,null,null,-10,170,null,null,null,null,null,null,null,null,5,290,-5,230,null,null,null,null,null,null,null,null,null,null,null,null,null,null,null,null,"2020-10-20",31,0,{"$f":"COUNT(C69:AT69)/2","v":4},0,{"$f":"+K69","v":5}]
[24,null,null,null,null,null,null,null,null,null,{"$f":"+(6-2-10)/3","v":-2},{"$f":"+(240+170+60)/3","v":156.66666666666666},null,null,null,null,10,270,null,null,null,null,null,null,null,null,2,230,-6,100,null,null,null,null,null,null,null,null,null,null,null,null,null,null,null,null,"2020-10-20",31,0,4,0,{"$f":"+K70*2","v":-4}]
[25,null,null,null,null,null,null,null,null,null,{"$f":"+(-4+10+6)/3","v":4},{"$f":"+(190+320+260)/3","v":256.66666666666669},null,null,null,null,-4,190,null,null,null,null,null,null,null,null,2,230,-10,100,null,null,null,null,null,null,null,null,null,null,null,null,null,null,null,null,"2020-10-20",31,0,4,0,{"$f":"+K71*2","v":8}]
[26,null,null,null,null,null,10,340,null,null,null,null,null,null,null,null,null,null,null,null,-10,130,null,null,null,null,null,null,null,null,null,null,null,null,null,null,-4,150,4,190,null,null,null,null,null,null,"2020-10-21",32,0,4]
[27,null,null,null,null,null,null,null,null,null,null,null,null,null,null,null,10,290,null,null,-7,180,null,null,null,null,null,null,null,null,null,null,null,null,null,null,4,230,-7,180,null,null,null,null,null,null,"2020-10-21",32,0,4]
[28,null,null,null,null,null,null,null,null,null,{"$f":"+(2-4+6)/3","v":1.3333333333333333},{"$f":"+(230+170+250)/3","v":216.66666666666666},null,null,null,null,10,290,null,null,null,null,null,null,null,null,-4,170,-10,110,null,null,null,null,null,null,null,null,null,null,null,null,null,null,null,null,"2020-10-23",35,0,4,{"$f":"+AW74/AX74","v":0},{"$f":"+K74*2","v":2.6666666666666665}]
[29,null,null,null,null,null,4,220,null,null,null,null,null,null,null,null,null,null,null,null,null,null,null,null,null,null,null,null,null,null,null,null,null,null,null,null,null,null,-4,190,-10,-20,null,null,10,310,"2020-10-24",36,0,4]
[30,null,null,null,null,null,null,null,null,null,{"$f":"+(-2-10+2)/3","v":-3.3333333333333335},{"$f":"+(230+170+240)/3","v":213.33333333333334},null,null,null,null,8,290,null,null,null,null,null,null,null,null,8,290,-6,180,null,null,null,null,null,null,null,null,null,null,null,null,null,null,null,null,"2020-10-24",37,-8.8817841970012523E-16,4,{"$f":"+AW76/AX76","v":-2.2204460492503131E-16},{"$f":"+K76*2","v":-6.666666666666667}]
[31,null,null,null,null,null,null,null,null,null,0,210,null,null,7.5,230,-10,130,null,null,null,null,null,null,null,null,-5,160,7.5,230,null,null,null,null,null,null,null,null,null,null,null,null,null,null,null,null,"2020-10-24",37,0,{"$f":"COUNT(C77:AT77)/2","v":5},0]
[32,null,null,null,null,null,null,null,null,null,{"$f":"+(0+10)/2","v":5},{"$f":"+(270+290)/2","v":280},null,null,null,null,5,280,null,null,null,null,null,null,null,null,-5,230,-10,210,null,null,null,null,null,null,null,null,null,null,null,null,null,null,null,null,"2020-10-24",37,0,{"$f":"COUNT(C78:AT78)/2","v":4},0,{"$f":"+K78","v":5}]
[33,null,null,null,null,null,null,null,null,null,{"$f":"+(5+0)/2","v":2.5},{"$f":"+(320+300)/2","v":310},null,null,null,null,10,370,null,null,null,null,null,null,null,null,-5,290,-10,280,null,null,null,null,null,null,null,null,null,null,null,null,null,null,null,null,"2020-10-24",37,0,{"$f":"COUNT(C79:AT79)/2","v":4},0,{"$f":"+K79","v":2.5}]
[34,null,null,null,null,null,null,null,null,null,{"$f":"+(-7.5-7.5)/2","v":-7.5},{"$f":"+(80+80)/2","v":80},null,null,null,null,10,240,null,null,null,null,null,null,null,null,5,170,0,130,null,null,null,null,null,null,null,null,null,null,null,null,null,null,null,null,"2020-10-24",37,0,4,0,{"$f":"+K80","v":-7.5}]
[35,null,null,null,null,null,null,null,null,null,{"$f":"+(-5+0)/2","v":-2.5},{"$f":"+(200+220)/2","v":210},null,null,null,null,10,300,null,null,null,null,null,null,null,null,5,230,-10,140,null,null,null,null,null,null,null,null,null,null,null,null,null,null,null,null,"2020-10-24",37,0,4,0,{"$f":"+K81","v":-2.5}]
[36,null,null,null,null,null,4,250,null,null,null,null,null,null,null,null,null,null,null,null,-4,230,null,null,null,null,null,null,null,null,null,null,null,null,null,null,-10,200,10,270,null,null,null,null,null,null,"2020-10-26",39,0,4]
[37,null,null,null,null,null,10,300,null,null,null,null,null,null,null,null,null,null,null,null,-10,100,null,null,null,null,null,null,null,null,null,null,null,null,null,null,-5,160,5,220,0,180,null,null,null,null,"2020-10-27",40,0,5]
[38,null,null,null,null,null,10,440,null,null,null,null,null,null,null,null,null,null,null,null,null,null,null,null,null,null,null,null,null,null,null,null,null,null,null,null,0,230,0,230,null,null,null,null,-10,-40,"2020-10-30",42,0,4]
[39,null,-10,60,null,null,null,null,null,null,{"$f":"+(10+2-6)/3","v":2},{"$f":"+(290+90+170)/3","v":183.33333333333334},null,null,null,null,6,180,null,null,null,null,null,null,null,null,null,null,-2,160,null,null,null,null,null,null,null,null,null,null,null,null,null,null,null,null,"2020-10-30",43,0,{"$f":"COUNT(C85:AT85)/2","v":4},{"$f":"+AW85/AX85","v":0},{"$f":"+K85*2","v":4}]
[40,null,-2,150,null,null,null,null,null,null,{"$f":"+(6+2-8)/3","v":0},{"$f":"+(180+160+140)/3","v":160},null,null,null,null,10,190,null,null,null,null,null,null,null,null,null,null,-8,140,null,null,null,null,null,null,null,null,null,null,null,null,null,null,null,null,"2020-10-30",43,0,4,{"$f":"+AW86/AX86","v":0},{"$f":"+K86*2","v":0}]
[41,null,5,240,null,null,null,null,null,null,null,null,null,null,0,200,-5,180,null,null,-10,100,null,null,null,null,10,340,null,null,null,null,null,null,null,null,null,null,null,null,null,null,null,null,null,null,"2020-11-01",44,0,5]
[42,null,null,null,null,null,null,null,null,null,{"$f":"+(2-6)/2","v":-2},{"$f":"+(210+130)/2","v":170},null,null,-2,160,6,220,null,null,10,240,null,null,null,null,null,null,-10,60,null,null,null,null,null,null,null,null,null,null,null,null,null,null,null,null,"2020-11-01",44,0,5,{"$f":"+AW88/AX88","v":0},{"$f":"+K88","v":-2}]
[43,null,null,null,null,null,null,null,null,null,null,null,null,null,null,null,10,360,null,null,4,250,-4,100,null,null,null,null,-10,80,null,null,null,null,null,null,null,null,null,null,null,null,null,null,null,null,"2020-11-01",44,0,4]
[44,null,-10,80,null,null,null,null,null,null,null,null,null,null,10,350,5,310,null,null,0,250,null,null,null,null,null,null,-5,130,null,null,null,null,null,null,null,null,null,null,null,null,null,null,null,null,"2020-11-01",44,0,5]
[45,null,0,160,null,null,null,null,null,null,{"$f":"+(-10+10-6)/3","v":-2},{"$f":"+(70+270+80)/3","v":140},null,null,0,160,6,230,null,null,null,null,null,null,null,null,null,null,null,null,null,null,null,null,null,null,null,null,null,null,null,null,null,null,null,null,"2020-11-01",44,0,4,{"$f":"+AW91/AX91","v":0},{"$f":"+K91*2","v":-4}]
[{"$f":"+A91+1","v":46},null,null,null,null,null,10,230,null,null,null,null,null,null,null,null,null,null,null,null,null,null,null,null,null,null,null,null,null,null,null,null,null,null,null,null,5,220,-5,140,-10,80,null,null,0,200,"2020-11-01",45,0,5]
[47,null,null,null,null,null,10,260,null,null,null,null,null,null,null,null,null,null,null,null,null,null,null,null,null,null,null,null,null,null,null,null,null,null,null,null,-10,80,5,220,0,160,null,null,-5,150,"2020-11-01",45,0,{"$f":"COUNT(C93:AT93)/2","v":5}]
[48,null,null,null,null,null,-10,50,null,null,null,null,null,null,null,null,null,null,null,null,null,null,null,null,null,null,null,null,null,null,null,null,null,null,null,null,10,200,5,170,0,110,null,null,-5,80,"2020-11-01",45,0,5]
[49,null,-10,90,null,null,10,250,null,null,null,null,null,null,null,null,-4,100,null,null,null,null,null,null,null,null,null,null,null,null,null,null,null,null,null,null,-4,100,2,180,6,220,null,null,null,null,"2020-11-02",45,0,6]
[50,null,7.5,260,null,null,null,null,null,null,-10,110,null,null,7.5,260,0,220,null,null,-5,180,null,null,null,null,null,null,null,null,null,null,null,null,null,null,null,null,null,null,null,null,null,null,null,null,"2020-11-02",45,0,5]
[51,null,null,null,null,null,10,500,null,null,null,null,null,null,-4,380,null,null,null,null,10,510,null,null,null,null,null,null,null,null,null,null,null,null,null,null,4,410,-10,200,0,440,null,null,-10,40,"2020-11-03",46,0,7]
[52,null,null,null,null,null,10,250,null,null,null,null,null,null,6,150,null,null,null,null,-10,30,null,null,null,null,null,null,null,null,null,null,null,null,null,null,-6,70,-2,100,2,130,null,null,null,null,"2020-11-03",46,0,6]
[53,null,null,null,null,null,null,null,null,null,null,null,null,null,null,null,null,null,null,null,0,180,null,null,null,null,null,null,null,null,null,null,null,null,null,null,10,230,-10,-30,null,null,null,null,null,null,"2020-11-04",47,0,{"$f":"COUNT(C99:AT99)/2","v":3}]
[54,null,null,null,null,null,null,null,null,null,null,null,null,null,null,null,null,null,null,null,10,210,null,null,null,null,null,null,null,null,null,null,null,null,null,null,2.5,200,-5,170,2.5,200,null,null,-10,100,"2020-11-05",48,0,5]
[55,null,null,null,null,null,-5,140,null,null,null,null,null,null,null,null,null,null,null,null,0,190,null,null,null,null,null,null,null,null,null,null,null,null,null,null,-10,70,10,260,null,null,null,null,5,250,"2020-11-06",49,0,5]
[56,null,null,null,null,null,10,280,null,null,null,null,null,null,null,null,null,null,null,null,-10,100,null,null,null,null,null,null,null,null,null,null,null,null,null,null,0,180,-5,110,null,null,null,null,5,190,"2020-11-06",49,0,5]
[57,null,null,null,null,null,null,null,null,null,null,null,null,null,null,null,null,null,null,null,7,310,null,null,null,null,null,null,null,null,null,null,null,null,null,null,7,310,-4,200,-10,-20,null,null,null,null,"2020-11-07",50,0,4]
[58,null,null,null,null,null,null,null,null,null,null,null,null,null,null,null,null,null,null,null,-5,170,null,null,null,null,null,null,null,null,null,null,null,null,null,null,10,260,5,200,0,180,null,null,-10,130,"2020-11-07",50,0,5]
[59,null,null,null,null,null,null,null,null,null,null,null,null,null,null,null,null,null,null,null,10,340,null,null,null,null,null,null,null,null,null,null,null,null,null,null,null,null,-4,130,4,190,null,null,-10,80,"2020-11-07",50,0,4]
[60,null,null,null,null,null,10,270,null,null,null,null,null,null,null,null,4,200,null,null,null,null,null,null,null,null,null,null,null,null,null,null,null,null,null,null,4,200,-2,180,-10,100,null,null,-6,160,"2020-11-08",51,0,6]
[61,null,null,null,null,null,10,270,null,null,null,null,null,null,null,null,-2,240,null,null,null,null,null,null,null,null,null,null,null,null,null,null,null,null,null,null,4,260,4,260,-6,110,null,null,-10,30,"2020-11-08",51,0,6]
[62,null,null,null,null,null,10,280,null,null,null,null,null,null,null,null,0,240,null,null,null,null,null,null,null,null,null,null,null,null,null,null,null,null,null,null,-10,-10,6,260,-6,160,null,null,0,240,"2020-11-08",51,0,6]
[63,null,null,null,null,null,null,null,null,null,null,null,null,null,null,null,10,210,null,null,null,null,null,null,null,null,null,null,null,null,null,null,null,null,null,null,5,200,0,160,-10,130,null,null,-5,140,"2020-11-08",51,0,5]
[64,null,null,null,null,null,0,200,null,null,null,null,null,null,null,null,null,null,null,null,10,260,null,null,null,null,null,null,null,null,null,null,null,null,null,null,-5,140,null,null,-10,120,null,null,5,240,"2020-11-09",52,0,{"$f":"COUNT(C110:AT110)/2","v":5}]
[65,null,null,null,null,null,2,220,null,null,null,null,null,null,-10,30,null,null,null,null,-6,100,null,null,null,null,null,null,null,null,null,null,null,null,null,null,-2,160,null,null,8,250,null,null,8,250,"2020-11-09",52,{"$f":"+AI111+AE111+Y111+W111+U111+S111+Q111+O111+M111+I111+G111+E111+C111+AG111+K111+AS111+AZ111+AA111+AC111+AK111+AM111+AO111+AQ111","v":0},{"$f":"COUNT(C111:AT111)/2","v":6}]
[66,null,null,null,null,null,5,220,null,null,null,null,null,null,null,null,null,null,null,null,null,null,null,null,null,null,null,null,null,null,null,null,null,null,null,null,-5,140,10,290,-10,130,null,null,0,190,"2020-11-10",53,0,{"$f":"COUNT(C112:AT112)/2","v":5}]
[67,null,null,null,null,null,10,280,null,null,null,null,null,null,null,null,null,null,null,null,null,null,null,null,null,null,null,null,null,null,null,null,null,null,null,null,4,270,-10,90,-4,160,null,null,null,null,"2020-11-10",53,0,4]
[68,null,null,null,null,null,null,null,null,null,{"$f":"+(5-2.5)/2","v":1.25},{"$f":"+(290+160)/2","v":225},null,null,null,null,10,320,null,null,null,null,null,null,null,null,-10,90,-2.5,160,null,null,null,null,null,null,null,null,null,null,null,null,null,null,null,null,"2020-11-11",54,0,4,{"$f":"+AW114/AX114","v":0},{"$f":"+K114","v":1.25}]
[69,null,null,null,null,null,null,null,null,null,null,null,null,null,null,null,-5,100,null,null,10,220,null,null,null,null,null,null,null,null,null,null,null,null,null,null,-10,90,5,170,null,null,null,null,0,160,"2020-11-12",55,0,5]
[70,null,null,null,null,null,null,null,null,null,null,null,null,null,null,null,10,420,null,null,4,250,null,null,null,null,null,null,null,null,null,null,null,null,null,null,-10,30,null,null,null,null,null,null,-4,210,"2020-11-12",55,0,4]
[71,null,null,null,null,null,-5,190,null,null,null,null,null,null,null,null,null,null,null,null,-10,130,null,null,null,null,null,null,null,null,null,null,null,null,null,null,0,200,10,300,null,null,null,null,5,220,"2020-11-13",56,0,5]
[72,null,null,null,null,null,4,250,null,null,null,null,null,null,null,null,null,null,null,null,-10,110,null,null,null,null,null,null,null,null,null,null,null,null,null,null,10,270,-4,200,null,null,null,null,null,null,"2020-11-13",56,0,4]
[{"$f":"+A118+1","v":73},null,null,null,null,null,null,null,null,null,null,null,null,null,null,null,null,null,null,null,null,null,null,null,null,null,null,null,null,null,null,null,null,null,null,null,10,380,-10,130,0,190,null,null,null,null,"2020-11-14",57,0,3]
[74,null,null,null,null,null,null,null,null,null,null,null,null,null,null,null,null,null,null,null,null,null,null,null,null,null,null,null,null,null,null,null,null,null,null,null,10,380,-10,110,-4,140,null,null,4,150,"2020-11-14",57,0,4]
[75,null,-4,220,null,null,null,null,null,null,{"$f":"+(8-4-10)/3","v":-2},{"$f":"+(300+220+40)/3","v":186.66666666666666},null,null,null,null,2,270,null,null,null,null,null,null,null,null,null,null,8,300,null,null,null,null,null,null,null,null,null,null,null,null,null,null,null,null,"2020-11-14",58,0,4,{"$f":"+AW121/AX121","v":0},{"$f":"+K121*2","v":-4}]
[76,null,-6,170,null,null,null,null,null,null,{"$f":"+(10+2-2)/3","v":3.3333333333333335},{"$f":"+(280+220+180)/3","v":226.66666666666666},null,null,null,null,6,270,null,null,null,null,null,null,null,null,null,null,-10,40,null,null,null,null,null,null,null,null,null,null,null,null,null,null,null,null,"2020-11-14",58,0,4,{"$f":"+AW122/AX122","v":0},{"$f":"+K122*2","v":6.666666666666667}]
[77,null,-6,70,null,null,null,null,null,null,{"$f":"+(-10+6-2)/3","v":-2},{"$f":"+(10+210+120)/3","v":113.33333333333333},null,null,null,null,10,280,null,null,null,null,null,null,null,null,null,null,2,200,null,null,null,null,null,null,null,null,null,null,null,null,null,null,null,null,"2020-11-14",58,0,4,{"$f":"+AW123/AX123","v":0},{"$f":"+K123*2","v":-4}]
[78,null,-10,40,null,null,null,null,null,null,{"$f":"+(10+6+2)/3","v":6},{"$f":"+(290+280+240)/3","v":270},null,null,null,null,-2,190,null,null,null,null,null,null,null,null,null,null,-6,80,null,null,null,null,null,null,null,null,null,null,null,null,null,null,null,null,"2020-11-14",58,0,4,{"$f":"+AW124/AX124","v":0},{"$f":"+K124*2","v":12}]
[79,null,10,310,null,null,null,null,null,null,{"$f":"+(-5+5)/2","v":0},{"$f":"+(110+230)/2","v":170},null,null,null,null,0,200,null,null,null,null,null,null,null,null,null,null,-10,90,null,null,null,null,null,null,null,null,null,null,null,null,null,null,null,null,"2020-11-14",58,0,4,{"$f":"+AW125/AX125","v":0},{"$f":"+K125","v":0}]
[80,null,null,null,null,null,-10,160,null,null,null,null,null,null,null,null,null,null,null,null,null,null,null,null,null,null,null,null,null,null,null,null,null,null,null,null,10,340,-5,190,0,220,null,null,5,250,"2020-11-15",59,0,{"$f":"COUNT(C126:AT126)/2","v":5}]
[81,null,null,null,null,null,0,140,null,null,null,null,null,null,null,null,null,null,null,null,6,170,null,null,null,null,null,null,null,null,null,null,null,null,null,null,0,140,-6,130,-10,100,null,null,10,220,"2020-11-15",59,0,6]
[82,null,null,null,null,null,10,250,null,null,null,null,null,null,null,null,null,null,null,null,6,240,null,null,null,null,null,null,null,null,null,null,null,null,null,null,-6,170,2,190,-6,170,null,null,-6,170,"2020-11-15",59,0,6]
[83,null,null,null,null,null,null,null,null,null,null,null,null,null,null,null,5,190,null,null,0,150,null,null,null,null,null,null,null,null,null,null,null,null,null,null,-5,100,-10,90,10,250,null,null,null,null,"2020-11-15",59,0,5]
[84,null,null,null,null,null,5,270,null,null,null,null,null,null,null,null,null,null,null,null,-10,80,null,null,null,null,null,null,null,null,null,null,null,null,null,null,10,290,0,200,null,null,null,null,-5,130,"2020-11-16",60,0,5]
[85,null,null,null,null,null,-6,100,null,null,null,null,null,null,null,null,6,250,null,null,2,150,null,null,null,null,null,null,null,null,null,null,null,null,null,null,-2,110,-10,80,null,null,null,null,10,260,"2020-11-16",60,0,6]
[86,null,null,null,null,null,0,190,null,null,null,null,null,null,null,null,10,270,null,null,-5,160,null,null,null,null,null,null,null,null,null,null,null,null,null,null,5,160,-10,30,null,null,null,null,null,null,"2020-11-16",60,0,5]
[87,null,null,null,null,null,5,220,null,null,null,null,null,null,null,null,null,null,null,null,null,null,null,null,null,null,null,null,null,null,null,null,null,null,null,null,10,240,-10,90,-5,100,null,null,0,170,"2020-11-17",61,0,5]
[88,null,0,160,null,null,null,null,null,null,{"$f":"+(10-10)/2","v":0},{"$f":"+(310-20)/2","v":145},null,null,null,null,5,170,null,null,null,null,null,null,null,null,null,null,-5,100,null,null,null,null,null,null,null,null,null,null,null,null,null,null,null,null,"2020-11-17",62,0,{"$f":"COUNT(C134:AT134)/2","v":4},{"$f":"+AW134/AX134","v":0},{"$f":"+K134","v":0}]
[89,null,null,null,null,null,-2,170,null,null,null,null,null,null,null,null,null,null,null,null,-6,160,null,null,null,null,null,null,null,null,null,null,null,null,null,null,10,270,6,240,-10,140,null,null,2,230,"2020-11-18",63,0,6]
[90,null,null,null,null,null,null,null,null,null,null,null,null,null,null,null,10,280,null,null,4,200,null,null,null,null,null,null,null,null,null,null,null,null,null,null,-10,90,4,200,-6,150,null,null,-2,160,"2020-11-18",63,0,6]
[91,null,null,null,null,null,null,null,null,null,null,null,null,null,null,null,null,null,null,null,null,null,null,null,null,null,null,null,null,null,null,null,null,null,null,null,10,310,-10,80,0,120,null,null,null,null,"2020-11-18",63,0,3]
[92,null,null,null,null,null,-5,190,null,null,null,null,null,null,null,null,null,null,null,null,5,220,null,null,null,null,null,null,null,null,null,null,null,null,null,null,10,230,-5,190,null,null,null,null,-5,190,"2020-11-19",64,0,5]
[93,null,null,null,null,null,10,240,null,null,null,null,null,null,null,null,null,null,null,null,5,210,null,null,null,null,null,null,null,null,null,null,null,null,null,null,-5,170,-10,140,null,null,null,null,0,180,"2020-11-19",64,0,5]
[94,null,null,null,null,null,0,230,null,null,null,null,null,null,null,null,null,null,null,null,null,null,null,null,null,null,null,null,null,null,null,null,null,null,null,null,-10,40,10,280,null,null,null,null,null,null,"2020-11-19",64,0,3]
[95,null,-4,10,null,null,10,300,null,null,null,null,null,null,null,null,4,100,null,null,4,250,null,null,null,null,null,null,null,null,null,null,null,null,null,null,-4,70,10,250,-10,20,null,null,-10,-40,"2020-11-20",65,0,8]
[96,null,10,250,null,null,10,340,null,null,null,null,null,null,null,null,0,260,null,null,-4,120,null,null,null,null,null,null,null,null,null,null,null,null,null,null,4,150,-10,90,-10,10,null,null,null,null,"2020-11-20",65,0,7]
[97,null,null,null,null,null,null,null,null,null,{"$f":"+(10-10)/2","v":0},{"$f":"+(290+10)/2","v":150},null,null,0,130,-5,90,null,null,5,180,null,null,null,null,null,null,null,null,null,null,null,null,null,null,null,null,null,null,null,null,null,null,null,null,"2020-11-20",65,0,4,{"$f":"+AW143/AX143","v":0},{"$f":"+K143","v":0}]
[98,null,null,null,null,null,-10,50,null,null,null,null,null,null,null,null,2.5,120,null,null,null,null,10,140,null,null,null,null,null,null,null,null,null,null,null,null,null,null,-5,100,null,null,null,null,2.5,120,"2020-11-21",66,0,5]
[99,null,null,null,null,null,10,180,null,null,null,null,null,null,null,null,6,130,null,null,null,null,-8,90,null,null,null,null,null,null,null,null,null,null,null,null,2,120,-2,100,null,null,null,null,-8,100,"2020-11-21",66,0,6]
[100,null,null,null,null,null,10,200,null,null,null,null,null,null,null,null,4,190,null,null,null,null,-6,160,null,null,null,null,null,null,null,null,null,null,null,null,4,190,-10,30,-2,180,null,null,null,null,"2020-11-21",66,0,6]
[101,null,null,null,null,null,null,null,null,null,null,null,null,null,null,null,null,null,null,null,2.5,70,null,null,null,null,null,null,null,null,null,null,null,null,null,null,10,210,-7.5,150,2.5,170,null,null,-7.5,150,"2020-11-22",67,0,5]
[102,null,null,null,null,null,null,null,null,null,null,null,null,null,null,null,0,200,null,null,-10,170,null,null,null,null,null,null,null,null,null,null,null,null,null,null,8,210,-6,180,0,200,null,null,8,210,"2020-11-22",67,0,6]
[103,null,null,null,null,null,null,null,null,null,null,null,null,null,null,null,-2,180,null,null,2,200,null,null,null,null,null,null,null,null,null,null,null,null,null,null,6,210,10,220,-6,110,null,null,-10,60,"2020-11-22",67,0,6]
[104,null,null,null,null,null,null,null,null,null,null,null,null,null,null,null,10,310,null,null,-6,110,null,null,null,null,null,null,null,null,null,null,null,null,null,null,2,150,-10,70,6,260,null,null,-2,130,"2020-11-22",67,0,6]
[{"$f":"+A150+1","v":105},null,null,null,null,null,null,null,null,null,null,null,null,null,null,null,-10,120,null,null,5,270,null,null,null,null,null,null,null,null,null,null,null,null,null,null,-5,200,0,230,10,320,null,null,null,null,"2020-11-22",67,0,5]
[106,null,null,null,null,null,null,null,null,null,null,null,null,null,null,null,-10,130,null,null,10,330,null,null,null,null,null,null,null,null,null,null,null,null,null,null,0,150,5,260,-5,140,null,null,null,null,"2020-11-22",67,0,5]
[107,null,-10,140,null,null,null,null,null,null,{"$f":"+(2-2-6)/3","v":-2},{"$f":"+(220+190+170)/3","v":193.33333333333334},null,null,null,null,6,250,null,null,null,null,null,null,null,null,null,null,10,270,null,null,null,null,null,null,null,null,null,null,null,null,null,null,null,null,"2020-11-22",68,0,{"$f":"COUNT(C153:AT153)/2","v":4},{"$f":"+AW153/AX153","v":0},{"$f":"+K153*2","v":-4}]
[108,null,-10,80,null,null,null,null,null,null,{"$f":"+(0-5)/2","v":-2.5},{"$f":"+(140+100)/2","v":120},null,null,null,null,5,150,null,null,null,null,null,null,null,null,null,null,10,180,null,null,null,null,null,null,null,null,null,null,null,null,null,null,null,null,"2020-11-22",68,0,4,{"$f":"+AW154/AX154","v":0},{"$f":"+K154","v":-2.5}]
[109,null,2.5,170,null,null,null,null,null,null,{"$f":"+(10+2.5)/2","v":6.25},{"$f":"+(190+170)/2","v":180},null,null,null,null,-5,130,null,null,null,null,null,null,null,null,null,null,-10,70,null,null,null,null,null,null,null,null,null,null,null,null,null,null,null,null,"2020-11-22",68,0,4,{"$f":"+AW155/AX155","v":0},{"$f":"+K155","v":6.25}]
[110,null,4,210,null,null,null,null,null,null,null,null,null,null,null,null,null,null,null,null,-10,150,null,null,null,null,null,null,null,null,null,null,null,null,null,null,10,290,null,null,-4,170,null,null,null,null,"2020-11-23",69,0,4]
[111,null,null,null,null,null,null,null,null,null,null,null,null,null,null,null,null,null,null,null,-4,160,null,null,null,null,null,null,null,null,null,null,null,null,null,null,-10,80,null,null,4,170,null,null,10,190,"2020-11-23",69,0,4]
[112,null,10,130,null,null,null,null,null,null,null,null,null,null,null,null,null,null,null,null,-5,130,null,null,null,null,null,null,null,null,null,null,null,null,null,null,5,190,null,null,0,170,null,null,-10,20,"2020-11-23",69,0,5]
[113,null,null,null,null,null,10,230,null,null,null,null,null,null,null,null,null,null,null,null,-2.5,170,null,null,null,null,null,null,null,null,null,null,null,null,null,null,-10,50,5,190,null,null,null,null,-2.5,170,"2020-11-25",71,0,5]
[114,null,null,null,null,null,null,null,null,null,null,null,null,null,null,null,null,null,null,null,-4,230,null,null,null,null,null,null,null,null,null,null,null,null,null,null,4,260,10,290,null,null,null,null,-10,20,"2020-11-25",71,0,4]
[115,null,null,null,null,null,10,300,null,null,null,null,null,null,null,null,null,null,null,null,-10,120,null,null,null,null,null,null,null,null,null,null,null,null,null,null,-5,190,5,220,null,null,null,null,0,200,"2020-11-26",72,0,5]
[116,null,null,null,null,null,5,200,null,null,null,null,null,null,null,null,null,null,null,null,-10,140,null,null,null,null,null,null,null,null,null,null,null,null,null,null,-5,180,0,190,null,null,null,null,10,220,"2020-11-26",72,0,5]
[117,null,null,null,null,null,10,260,null,null,null,null,null,null,null,null,null,null,null,null,4,190,null,null,null,null,null,null,null,null,null,null,null,null,null,null,-7,170,-7,170,null,null,null,null,null,null,"2020-11-26",72,0,4]
[118,null,null,null,null,null,null,null,null,null,{"$f":"+(10-6-2)/3","v":0.66666666666666663},{"$f":"+(210+90+100)/3","v":133.33333333333334},null,null,null,null,2,110,null,null,null,null,null,null,null,null,null,null,null,null,null,null,null,null,null,null,null,null,-10,60,null,null,null,null,6,180,"2020-11-27",73,0,4,{"$f":"+AW164/AX164","v":0},{"$f":"+K164*2","v":1.3333333333333333}]
[119,null,null,null,null,null,null,null,null,null,null,null,null,null,null,null,10,290,null,null,null,null,-2.5,170,null,null,null,null,null,null,null,null,null,null,null,null,-2.5,170,5,260,null,null,null,null,-10,70,"2020-11-27",73,0,{"$f":"COUNT(C165:AT165)/2","v":5}]
[120,null,null,null,null,null,null,null,null,null,null,null,null,null,null,null,0,100,null,null,null,null,-5,80,null,null,null,null,null,null,null,null,null,null,null,null,-10,30,10,270,null,null,null,null,5,180,"2020-11-27",73,0,5]
[121,null,null,null,null,null,null,null,null,null,null,null,null,null,null,null,4,220,null,null,10,280,null,null,null,null,null,null,null,null,null,null,null,null,null,null,-10,80,-4,100,null,null,null,null,null,null,"2020-11-27",73,0,4]
[122,null,-10,80,null,null,null,null,null,null,{"$f":"+(10+5)/2","v":7.5},{"$f":"+(280+240)/2","v":260},null,null,null,null,0,190,null,null,null,null,null,null,null,null,null,null,-5,180,null,null,null,null,null,null,null,null,null,null,null,null,null,null,null,null,"2020-11-27",74,0,4,{"$f":"+AW168/AX168","v":0},{"$f":"+K168","v":7.5}]
[123,null,null,null,null,null,6,220,null,null,null,null,null,null,null,null,null,null,null,null,10,240,null,null,null,null,null,null,null,null,null,null,null,null,null,null,0,170,-10,150,-6,160,null,null,0,170,"2020-11-28",75,0,6]
[124,null,null,null,null,null,10,220,null,null,null,null,null,null,null,null,null,null,null,null,-4,150,null,null,null,null,null,null,null,null,null,null,null,null,null,null,4,200,4,200,-10,90,null,null,-4,150,"2020-11-28",75,0,6]
[125,null,null,null,null,null,6,280,null,null,null,null,null,null,null,null,null,null,null,null,2,210,null,null,null,null,null,null,null,null,null,null,null,null,null,null,10,310,-10,110,-6,150,null,null,-2,200,"2020-11-28",75,0,6]
[126,null,null,null,null,null,2,250,null,null,null,null,null,null,null,null,-2,220,null,null,8,290,null,null,null,null,null,null,null,null,null,null,null,null,null,null,8,290,null,null,-8,160,null,null,-8,160,"2020-11-28",75,0,6]
[127,null,null,null,null,null,null,null,null,null,null,null,null,null,null,null,10,420,null,null,4,340,null,null,null,null,null,null,null,null,null,null,null,null,null,null,-4,260,null,null,-10,0,null,null,null,null,"2020-11-28",75,0,4]
[128,null,null,null,null,null,null,null,null,null,null,null,null,null,null,null,10,330,null,null,-4,110,null,null,null,null,null,null,null,null,null,null,null,null,null,null,-10,80,null,null,4,190,null,null,null,null,"2020-11-29",76,0,4]
[129,null,null,null,null,null,10,310,null,null,null,null,null,null,null,null,6,250,null,null,null,null,null,null,null,null,null,null,null,null,null,null,null,null,null,null,-6,140,-10,120,-2,160,null,null,2,180,"2020-11-29",76,{"$f":"+AI175+AE175+Y175+W175+U175+S175+Q175+O175+M175+I175+G175+E175+C175+AG175+K175+AS175+AZ175+AA175+AC175+AK175+AM175+AO175+AQ175","v":0},{"$f":"COUNT(C175:AT175)/2","v":6}]
[130,null,null,null,null,null,10,250,null,null,null,null,null,null,null,null,-4,200,null,null,-10,40,null,null,null,null,null,null,null,null,null,null,null,null,null,null,0,200,10,290,-10,170,null,null,4,220,"2020-11-29",76,0,7]
[131,null,null,null,null,null,null,null,null,null,null,null,null,null,null,null,null,null,null,null,-7,230,null,null,null,null,null,null,null,null,null,null,null,null,null,null,-7,230,4,280,10,370,null,null,null,null,"2020-11-29",76,0,4]
[132,null,null,null,null,null,null,null,null,null,null,null,null,null,null,null,null,null,null,null,10,280,null,null,null,null,null,null,null,null,null,null,null,null,null,null,-2.5,130,-10,100,-2.5,130,null,null,5,190,"2020-11-29",76,0,5]
[133,null,null,null,null,null,null,null,null,null,null,null,null,null,null,null,null,null,null,null,-2.5,190,null,null,null,null,null,null,null,null,null,null,null,null,null,null,10,260,-2.5,190,5,210,null,null,-10,150,"2020-11-30",77,0,5]
[134,null,null,null,null,null,-10,170,null,null,null,null,null,null,null,null,null,null,null,null,-2.5,190,null,null,null,null,null,null,null,null,null,null,null,null,null,null,5,210,-2.5,190,10,250,null,null,null,null,"2020-11-30",77,0,5]
[135,null,null,null,null,null,4,220,null,null,null,null,null,null,null,null,10,250,null,null,-10,30,null,null,null,null,null,null,null,null,null,null,null,null,null,null,null,null,null,null,null,null,null,null,-4,110,"2020-12-02",79,0,4]
[136,null,null,null,null,null,null,null,null,null,-7.5,130,null,null,-7.5,130,10,260,null,null,null,null,null,null,null,null,null,null,null,null,null,null,null,null,null,null,5,240,null,null,null,null,null,null,0,200,"2020-12-02",79,0,5]
[137,null,-10,50,null,null,null,null,null,null,{"$f":"+(10+6-2)/3","v":4.666666666666667},{"$f":"+(260+210+80)/3","v":183.33333333333334},null,null,null,null,2,180,null,null,null,null,null,null,null,null,null,null,-6,70,null,null,null,null,null,null,null,null,null,null,null,null,null,null,null,null,"2020-12-02",80,8.8817841970012523E-16,4,{"$f":"+AW183/AX183","v":2.2204460492503131E-16},{"$f":"+K183*2","v":9.3333333333333339}]
[138,null,null,null,null,null,null,null,null,null,null,null,null,null,null,null,null,null,null,null,10,230,null,null,null,null,null,null,null,null,null,null,null,null,null,null,0,200,null,null,null,null,null,null,-10,80,"2020-12-04",82,0,3,{"$f":"+AW184/AX184","v":0},{"$f":"+K184*2","v":0}]
[139,null,-10,90,null,null,null,null,null,null,{"$f":"+(-6+10)/2","v":2},{"$f":"+(110+270)/2","v":190},null,null,null,null,2,220,null,null,null,null,null,null,null,null,2,220,null,null,null,null,null,null,null,null,null,null,2,220,null,null,null,null,null,null,"2020-12-04",83,0,5,{"$f":"+AW185/AX185","v":0},{"$f":"+K185","v":2}]
[140,null,-10,100,null,null,null,null,null,null,-2,180,null,null,null,null,4,220,null,null,10,320,null,null,null,null,4,220,-6,150,null,null,null,null,null,null,null,null,null,null,null,null,null,null,null,null,"2020-12-04",83,0,6]
[141,null,null,null,null,null,null,null,null,null,{"$f":"+(0-5)/2","v":-2.5},{"$f":"+(200+170)/2","v":185},null,null,null,null,10,250,null,null,5,230,null,null,null,null,null,null,-10,90,null,null,null,null,null,null,null,null,null,null,null,null,null,null,null,null,"2020-12-04",83,0,4,{"$f":"+AW187/AX187","v":0},{"$f":"+K187","v":-2.5}]
[142,null,-10,150,null,null,null,null,null,null,{"$f":"+(2+8-4)/3","v":2},{"$f":"+(260+210+80)/3","v":183.33333333333334},null,null,null,null,-4,230,null,null,8,270,null,null,null,null,null,null,null,null,null,null,null,null,null,null,null,null,null,null,null,null,null,null,null,null,"2020-12-04",83,0,4,{"$f":"+AW188/AX188","v":0},{"$f":"+K188*2","v":4}]
[143,null,10,210,null,null,null,null,null,null,null,null,null,null,null,null,4,180,null,null,-10,140,null,null,null,null,null,null,-4,150,null,null,null,null,null,null,null,null,null,null,null,null,null,null,null,null,"2020-12-05",84,0,4,{"$f":"+AW189/AX189","v":0},{"$f":"+K189*2","v":0}]
[144,null,-7.5,180,null,null,null,null,null,null,7.5,240,null,null,null,null,0,230,null,null,7.5,240,null,null,null,null,null,null,-7.5,180,null,null,null,null,null,null,null,null,null,null,null,null,null,null,null,null,"2020-12-05",84,0,5]
[145,null,null,null,null,null,10,280,null,null,10,260,null,null,null,null,-4,140,null,null,4,180,null,null,null,null,null,null,null,null,null,null,null,null,null,null,4,270,-10,0,-10,80,null,null,-4,230,"2020-12-06",85,0,8]
[146,null,null,null,null,null,4,260,null,null,null,null,null,null,-10,50,10,290,null,null,10,320,null,null,null,null,null,null,null,null,null,null,null,null,null,null,4,250,-4,150,-4,170,null,null,-10,0,"2020-12-06",85,0,8]
[147,null,null,null,null,null,null,null,null,null,null,null,null,null,5,210,-10,120,null,null,10,320,null,null,null,null,null,null,null,null,null,null,null,null,null,null,0,190,null,null,-5,180,null,null,null,null,"2020-12-06",85,0,5]
[148,null,null,null,null,null,null,null,null,null,{"$f":"+(10+2.5)/2","v":6.25},{"$f":"+(350+290)/2","v":320},null,null,null,null,-5,190,null,null,2.5,290,null,null,null,null,null,null,null,null,null,null,null,null,null,null,-10,180,null,null,null,null,null,null,null,null,"2020-12-06",85,0,4,{"$f":"+AW194/AX194","v":0},{"$f":"+K194","v":6.25}]
[149,null,null,null,null,null,-5,140,null,null,null,null,null,null,null,null,null,null,null,null,10,270,null,null,null,null,null,null,null,null,null,null,null,null,null,null,5,180,null,null,0,170,null,null,-10,70,"2020-12-07",86,0,5]
[150,null,null,null,null,null,-5,130,null,null,null,null,null,null,null,null,null,null,null,null,0,160,null,null,null,null,null,null,null,null,null,null,null,null,null,null,-10,50,10,190,5,180,null,null,null,null,"2020-12-07",86,0,5]
[151,null,4,210,null,null,null,null,null,null,{"$f":"+(-2-6+4)/3","v":-1.3333333333333333},{"$f":"+(170+150+210)/3","v":176.66666666666666},null,null,null,null,10,220,null,null,null,null,null,null,null,null,null,null,-10,140,null,null,null,null,null,null,null,null,null,null,null,null,null,null,null,null,"2020-12-07",87,0,4,{"$f":"+AW197/AX197","v":0},{"$f":"+K197*2","v":-2.6666666666666665}]
[152,null,-7,110,null,null,null,null,null,null,null,null,null,null,null,null,10,240,null,null,4,190,null,null,null,null,null,null,-7,110,null,null,null,null,null,null,null,null,null,null,null,null,null,null,null,null,"2020-12-07",87,0,4]
[153,null,0,220,null,null,null,null,null,null,10,270,null,null,null,null,-5,180,null,null,5,240,null,null,null,null,null,null,-10,140,null,null,null,null,null,null,null,null,null,null,null,null,null,null,null,null,"2020-12-07",87,0,5]
[154,null,null,null,null,null,6,230,null,null,null,null,null,null,null,null,null,null,null,null,-2,140,null,null,null,null,null,null,null,null,null,null,null,null,null,null,10,240,-10,80,2,160,null,null,-6,120,"2020-12-08",88,0,6]
[155,null,null,null,null,null,-10,60,null,null,null,null,null,null,null,null,null,null,null,null,0,200,null,null,null,null,null,null,null,null,null,null,null,null,null,null,-5,160,5,240,10,280,null,null,null,null,"2020-12-08",88,0,5]
[156,null,null,null,null,null,0,200,null,null,null,null,null,null,null,null,null,null,null,null,-10,90,null,null,null,null,null,null,null,null,null,null,null,null,null,null,-5,180,5,210,10,230,null,null,null,null,"2020-12-08",88,0,5]
[157,null,null,null,null,null,null,null,null,null,{"$f":"+(-8+4-8)/3","v":-4},{"$f":"+(170+200+170)/3","v":180},null,null,null,null,10,240,null,null,-2,180,null,null,null,null,null,null,null,null,null,null,null,null,null,null,null,null,4,200,null,null,null,null,null,null,"2020-12-09",90,0,4,{"$f":"+AW203/AX203","v":0},{"$f":"+K203*2","v":-8}]
[158,null,null,null,null,null,null,null,null,null,-10,100,null,null,null,null,null,null,null,null,4,220,null,null,null,null,null,null,null,null,null,null,null,null,null,null,null,null,10,250,null,null,null,null,-4,120,"2020-12-10",91,0,4]
[159,null,null,null,null,null,-10,120,null,null,null,null,null,null,null,null,null,null,null,null,-2,140,10,280,null,null,null,null,null,null,null,null,null,null,null,null,-2,140,6,170,null,null,null,null,-2,140,"2020-12-11",92,0,6]
[160,null,null,null,null,null,-10,160,null,null,null,null,null,null,null,null,-2,200,null,null,-6,170,10,230,null,null,null,null,null,null,null,null,null,null,null,null,2,210,6,220,null,null,null,null,null,null,"2020-12-11",92,0,6]
[161,null,null,null,null,null,0,240,null,null,null,null,null,null,null,null,0,240,null,null,-10,100,-5,130,null,null,null,null,null,null,null,null,null,null,null,null,10,260,5,250,null,null,null,null,null,null,"2020-12-11",92,0,6]
[162,null,null,null,null,null,4,210,null,null,null,null,null,null,null,null,-6,180,null,null,4,210,null,null,null,null,null,null,null,null,null,null,null,null,null,null,10,220,-10,130,null,null,null,null,-2,190,"2020-12-12",93,0,6]
[163,null,null,null,null,null,10,230,null,null,null,null,null,null,null,null,-5,130,null,null,0,160,null,null,null,null,null,null,null,null,null,null,null,null,null,null,null,null,-10,90,5,170,null,null,null,null,"2020-12-12",93,0,5]
[164,null,null,null,null,null,10,260,null,null,null,null,null,null,null,null,-10,110,null,null,5,210,null,null,null,null,null,null,null,null,null,null,null,null,null,null,null,null,-5,120,0,200,null,null,null,null,"2020-12-12",93,0,5]
[165,null,null,null,null,null,-5,80,null,null,null,null,null,null,null,null,5,160,null,null,0,150,null,null,null,null,null,null,null,null,null,null,null,null,null,null,null,null,-10,-60,10,300,null,null,null,null,"2020-12-12",93,0,5]
[166,null,-6,170,null,null,null,null,null,null,{"$f":"+(-2+4)/2","v":1},{"$f":"+(190+210)/2","v":200},null,null,null,null,4,210,null,null,10,240,null,null,null,null,null,null,-10,130,null,null,null,null,null,null,null,null,null,null,null,null,null,null,null,null,"2020-12-12",94,0,5,{"$f":"+AW212/AX212","v":0},{"$f":"+K212","v":1}]
[167,null,-6,150,null,null,null,null,null,null,{"$f":"+(6-10)/2","v":-2},{"$f":"+(250+100)/2","v":175},null,null,null,null,0,160,null,null,null,null,null,null,null,null,10,270,0,160,null,null,null,null,null,null,null,null,null,null,null,null,null,null,null,null,"2020-12-12",94,0,{"$f":"COUNT(C213:AT213)/2","v":5},{"$f":"+AW213/AX213","v":0},{"$f":"+K213","v":-2}]
[168,null,-10,80,null,null,null,null,null,null,{"$f":"+(-5+2.5)/2","v":-1.25},{"$f":"+(200+240)/2","v":220},null,null,null,null,10,290,null,null,null,null,null,null,null,null,2.5,240,null,null,null,null,null,null,null,null,null,null,null,null,null,null,null,null,null,null,"2020-12-12",94,0,{"$f":"COUNT(C214:AT214)/2","v":4},{"$f":"+AW214/AX214","v":0},{"$f":"+K214","v":-1.25}]
[{"$f":"+A214+1","v":169},null,10,240,null,null,null,null,null,null,{"$f":"+(2-6-2)/3","v":-2},{"$f":"+(170+80+130)/3","v":126.66666666666667},null,null,null,null,6,200,null,null,null,null,null,null,null,null,-10,50,null,null,null,null,null,null,null,null,null,null,null,null,null,null,null,null,null,null,"2020-12-12",94,0,{"$f":"COUNT(C215:AT215)/2","v":4},{"$f":"+AW215/AX215","v":0},{"$f":"+K215*2","v":-4}]
[170,null,6,220,null,null,null,null,null,null,{"$f":"+(-10+2+10)/3","v":0.66666666666666663},{"$f":"+(120+200+240)/3","v":186.66666666666666},null,null,null,null,-4,10,null,null,null,null,null,null,null,null,-4,190,null,null,null,null,null,null,null,null,null,null,null,null,null,null,null,null,null,null,"2020-12-12",94,0,{"$f":"COUNT(C216:AT216)/2","v":4},{"$f":"+AW216/AX216","v":0},{"$f":"+K216*2","v":1.3333333333333333}]
[171,null,null,null,null,null,5,210,null,null,null,null,null,null,null,null,null,null,null,null,-10,110,null,null,null,null,null,null,null,null,null,null,null,null,null,null,-5,140,null,null,0,200,null,null,10,260,"2020-12-13",95,0,5]
[172,null,null,null,null,null,8,260,null,null,null,null,null,null,null,null,-6,160,null,null,-10,100,null,null,null,null,null,null,null,null,null,null,null,null,null,null,8,260,null,null,-2,190,null,null,2,200,"2020-12-13",95,0,{"$f":"COUNT(C218:AT218)/2","v":6}]
[173,null,null,null,null,null,null,null,null,null,null,null,null,null,null,null,10,270,null,null,-10,70,null,null,null,null,null,null,null,null,null,null,null,null,null,null,2.5,170,null,null,2.5,170,null,null,-5,100,"2020-12-13",95,0,5]
[174,null,null,null,null,null,null,null,null,null,null,null,null,null,5,230,0,190,null,null,-5,180,null,null,null,null,null,null,null,null,null,null,null,null,null,null,-10,60,null,null,10,310,null,null,null,null,"2020-12-13",95,0,5]
[175,null,null,null,null,null,null,null,null,null,{"$f":"+(-6+8-2)/3","v":0},{"$f":"+(140+200+150)/3","v":163.33333333333334},null,null,null,null,2,180,null,null,null,null,null,null,null,null,-10,60,8,200,null,null,null,null,null,null,null,null,null,null,null,null,null,null,null,null,"2020-12-13",96,0,4,{"$f":"+AW221/AX221","v":0},{"$f":"+K221*2","v":0}]
[176,null,null,null,null,null,2,230,null,null,null,null,null,null,null,null,null,null,null,null,2,230,null,null,null,null,null,null,null,null,null,null,null,null,null,null,2,230,-6,170,10,250,null,null,-10,160,"2020-12-15",98,0,6]
[177,null,null,null,null,null,10,270,null,null,null,null,null,null,null,null,null,null,null,null,-6,160,null,null,null,null,null,null,null,null,null,null,null,null,null,null,-2,180,2,190,-10,140,null,null,6,250,"2020-12-15",98,0,6]
[178,null,null,null,null,null,10,270,null,null,null,null,null,null,null,null,5,230,null,null,-10,20,null,null,null,null,null,null,null,null,null,null,null,null,null,null,-5,90,null,null,0,130,null,null,null,null,"2020-12-15",98,0,5]
[179,null,null,null,null,null,-5,180,null,null,null,null,null,null,null,null,null,null,null,null,-10,170,null,null,null,null,null,null,null,null,null,null,null,null,null,null,5,230,null,null,10,280,null,null,0,200,"2020-12-17",99,0,5]
[180,null,null,null,null,null,10,270,null,null,null,null,null,null,null,null,null,null,null,null,5,250,null,null,null,null,null,null,null,null,null,null,null,null,null,null,-5,170,0,180,null,null,null,null,-10,160,"2020-12-18",100,0,5]
[181,null,-4,150,null,null,null,null,null,null,10,260,null,null,null,null,4,220,null,null,null,null,null,null,null,null,null,null,-10,120,null,null,null,null,null,null,null,null,null,null,null,null,null,null,null,null,"2020-12-18",101,0,4]
[182,null,null,null,null,null,null,null,null,null,{"$f":"+(-2+6+2)/3","v":2},{"$f":"+(140+180+170)/3","v":163.33333333333334},null,null,null,null,10,200,null,null,null,null,null,null,null,null,-8,70,-8,70,null,null,null,null,null,null,null,null,null,null,null,null,null,null,null,null,"2020-12-19",102,0,4,{"$f":"+AW228/AX228","v":0},{"$f":"+K228*2","v":4}]
[183,null,-4,230,null,null,null,null,null,null,-10,150,null,null,null,null,10,290,null,null,4,250,null,null,null,null,null,null,null,null,null,null,null,null,null,null,null,null,null,null,null,null,null,null,null,null,"2020-12-19",102,0,4]
[184,null,0,190,null,null,null,null,null,null,{"$f":"+(10+0+6)/3","v":5.333333333333333},{"$f":"+(260+290+210)/3","v":253.33333333333334},null,null,null,null,-10,110,null,null,-6,160,null,null,null,null,null,null,null,null,null,null,null,null,null,null,null,null,null,null,null,null,null,null,null,null,"2020-12-19",102,-1.7763568394002505E-15,4,{"$f":"+AW230/AX230","v":-4.4408920985006262E-16},{"$f":"+K230*2","v":10.666666666666666}]
[185,null,null,null,null,null,-5,120,null,null,null,null,null,null,null,null,10,230,null,null,null,null,null,null,null,null,null,null,null,null,null,null,null,null,null,null,null,null,0,160,-10,90,null,null,5,190,"2020-12-20",103,0,5]
[186,null,null,null,null,null,null,null,null,null,null,null,null,null,null,null,10,280,null,null,-6,150,null,null,null,null,null,null,null,null,null,null,null,null,null,null,-2,170,-10,140,2,200,null,null,6,270,"2020-12-20",103,0,6]
[187,null,null,null,null,null,null,null,null,null,null,null,null,null,null,null,6,200,null,null,-2,170,null,null,null,null,null,null,null,null,null,null,null,null,null,null,-10,90,10,210,-6,120,null,null,2,190,"2020-12-20",103,0,6]
[188,null,null,null,null,null,null,null,null,null,null,null,null,null,null,null,10,250,null,null,-10,50,null,null,null,null,null,null,null,null,null,null,null,null,null,null,-6,200,-2,210,4,230,null,null,4,230,"2020-12-20",103,0,6]
[189,null,null,null,null,null,2.5,260,null,null,null,null,null,null,null,null,null,null,null,null,-10,160,null,null,null,null,null,null,null,null,null,null,null,null,null,null,null,null,10,320,-5,180,null,null,2.5,260,"2020-12-21",104,0,5]
[190,null,null,null,null,null,5,270,null,null,null,null,null,null,null,null,null,null,null,null,-5,220,null,null,null,null,null,null,null,null,null,null,null,null,null,null,5,270,5,270,-10,40,null,null,null,null,"2020-12-21",104,0,5]
[191,null,10,260,null,null,null,null,null,null,{"$f":"+(2+6-4)/3","v":1.3333333333333333},{"$f":"+(230+250+190)/3","v":223.33333333333334},null,null,null,null,-10,150,null,null,-4,190,null,null,null,null,null,null,null,null,null,null,null,null,null,null,null,null,null,null,null,null,null,null,null,null,"2020-12-21",105,-4.4408920985006262E-16,4,{"$f":"+AW237/AX237","v":-1.1102230246251565E-16},{"$f":"+K237*2","v":2.6666666666666665}]
[192,null,-8,90,null,null,null,null,null,null,{"$f":"+(-8+10+2)/3","v":1.3333333333333333},{"$f":"+(90+290+270)/3","v":216.66666666666666},null,null,null,null,6,280,null,null,-2,200,null,null,null,null,null,null,null,null,null,null,null,null,null,null,null,null,null,null,null,null,null,null,null,null,"2020-12-21",105,-4.4408920985006262E-16,4,-1.1102230246251565E-16,2.6666666666666665]
[193,null,-10,110,null,null,null,null,null,null,{"$f":"+(-2+6)/2","v":2},{"$f":"+(220+280)/2","v":250},null,null,null,null,10,290,null,null,-6,130,null,null,null,null,2,230,null,null,null,null,null,null,null,null,null,null,null,null,null,null,null,null,null,null,"2020-12-21",105,{"$f":"+AI239+AE239+Y239+W239+U239+S239+Q239+O239+M239+I239+G239+E239+C239+AG239+K239+AS239+AZ239+AA239+AC239+AK239+AM239+AO239+AQ239","v":0},5,0,{"$f":"+K239","v":2}]
[194,null,10,290,null,null,null,null,null,null,{"$f":"+(2-6)/2","v":-2},{"$f":"+(210+180)/2","v":195},null,null,null,null,-2,200,null,null,-10,140,null,null,null,null,6,250,null,null,null,null,null,null,null,null,null,null,null,null,null,null,null,null,null,null,"2020-12-21",105,0,5,0,{"$f":"+K240","v":-2}]
[195,null,null,null,null,null,null,null,null,null,{"$f":"+(8-2+8)/3","v":4.666666666666667},{"$f":"+(240+190+240)/3","v":223.33333333333334},null,null,null,null,2,200,null,null,-6,180,null,null,null,null,-10,150,null,null,null,null,null,null,null,null,null,null,null,null,null,null,null,null,null,null,"2020-12-21",105,0,4,0,9.3333333333333339]
[196,null,null,null,null,null,null,null,null,null,{"$f":"+(4-6-10)/3","v":-4},{"$f":"+(220+110+80)/3","v":136.66666666666666},null,null,null,null,-2,160,null,null,4,220,null,null,null,null,10,260,null,null,null,null,null,null,null,null,null,null,null,null,null,null,null,null,null,null,"2020-12-21",105,0,4,0,-8]
[197,null,null,null,null,null,null,null,null,null,null,null,null,null,null,null,null,null,null,null,0,250,null,null,null,null,null,null,null,null,null,null,null,null,null,null,5,270,-5,140,-10,100,null,null,10,290,"2020-12-22",106,0,5]
[198,null,10,300,null,null,null,null,null,null,{"$f":"+(6-2-10)/3","v":-2},{"$f":"+(220+160+70)/3","v":150},null,null,null,null,-2,160,null,null,null,null,null,null,null,null,null,null,-2,160,null,null,null,null,null,null,null,null,null,null,null,null,null,null,null,null,"2020-12-22",107,0,4,{"$f":"+AW244/AX244","v":0},{"$f":"+K244*2","v":-4}]
[199,null,-10,130,null,null,null,null,null,null,{"$f":"+(10+4)/2","v":7},{"$f":"+(220+190)/2","v":205},null,null,null,null,4,190,null,null,-2,160,null,null,null,null,null,null,-6,130,null,null,null,null,null,null,null,null,null,null,null,null,null,null,null,null,"2020-12-22",107,0,5,{"$f":"+AW245/AX245","v":0},{"$f":"+K245","v":7}]
[200,null,4,230,null,null,null,null,null,null,10,390,null,null,null,null,-4,220,null,null,-10,190,null,null,null,null,null,null,null,null,null,null,null,null,null,null,null,null,null,null,null,null,null,null,null,null,"2020-12-22",107,0,4]
[201,null,2,180,null,null,null,null,null,null,-4,140,null,null,null,null,10,260,null,null,-4,140,null,null,null,null,-10,20,6,220,null,null,null,null,null,null,null,null,null,null,null,null,null,null,null,null,"2020-12-23",108,0,6]
[202,null,-6,170,null,null,null,null,null,null,{"$f":"+(-10-2)/2","v":-6},{"$f":"+(160+180)/2","v":170},null,null,null,null,2,200,null,null,10,230,null,null,null,null,6,210,null,null,null,null,null,null,null,null,null,null,null,null,null,null,null,null,null,null,"2020-12-23",108,0,5,{"$f":"+AW248/AX248","v":0},{"$f":"+K248","v":-6}]
[203,null,-10,30,null,null,null,null,null,null,-5,160,null,null,null,null,0,190,null,null,5,220,null,null,null,null,10,230,null,null,null,null,null,null,null,null,null,null,null,null,null,null,null,null,null,null,"2020-12-23",108,0,5]
[204,null,-7.5,120,null,null,null,null,null,null,10,380,null,null,null,null,2.5,230,null,null,-7.5,120,null,null,null,null,2.5,230,null,null,null,null,null,null,null,null,null,null,null,null,null,null,null,null,null,null,"2020-12-23",108,0,5]
[205,null,8,200,null,null,null,null,null,null,{"$f":"+(8-10)/2","v":-1},{"$f":"+(200+30)/2","v":115},null,null,null,null,2,190,null,null,-2,180,null,null,null,null,-6,140,null,null,null,null,null,null,null,null,null,null,null,null,null,null,null,null,null,null,"2020-12-23",108,0,5,{"$f":"+AW251/AX251","v":0},{"$f":"+K251","v":-1}]
[206,null,-5,170,null,null,null,null,null,null,5,230,null,null,null,null,10,240,null,null,-10,60,null,null,null,null,0,180,null,null,null,null,null,null,null,null,null,null,null,null,null,null,null,null,null,null,"2020-12-23",108,0,5]
[207,null,null,null,null,null,10,330,null,null,-4,230,null,null,-10,130,null,null,null,null,4,250,null,null,null,null,null,null,null,null,null,null,null,null,null,null,null,null,null,null,null,null,null,null,null,null,"2020-12-24",109,0,4]
[208,null,10,280,null,null,null,null,null,null,-8,100,null,null,null,null,6,270,null,null,-8,100,null,null,null,null,null,null,-2,110,null,null,null,null,null,null,null,null,2,190,null,null,null,null,null,null,"2020-12-24",110,0,6]
[209,null,0,230,null,null,null,null,null,null,null,null,null,null,null,null,-5,200,null,null,5,250,null,null,null,null,10,290,-10,130,null,null,null,null,null,null,null,null,null,null,null,null,null,null,null,null,"2020-12-24",110,0,5]
[210,null,null,null,null,null,null,null,null,null,{"$f":"+(-2-6)/2","v":-4},{"$f":"+(210+170)/2","v":190},null,null,null,null,-10,70,null,null,4,220,null,null,null,null,4,220,10,320,null,null,null,null,null,null,null,null,null,null,null,null,null,null,null,null,"2020-12-24",110,0,5,{"$f":"+AW256/AX256","v":0},{"$f":"+K256","v":-4}]
[211,null,10,400,null,null,null,null,null,null,null,null,null,null,null,null,5,260,null,null,-5,110,null,null,null,null,0,220,-10,70,null,null,null,null,null,null,null,null,null,null,null,null,null,null,null,null,"2020-12-24",110,0,5]
[212,null,-10,190,null,null,null,null,null,null,{"$f":"+(10-2-6)/3","v":0.66666666666666663},{"$f":"+(300+240+200)/3","v":246.66666666666666},null,null,null,null,2,270,null,null,6,280,null,null,null,null,null,null,null,null,null,null,null,null,null,null,null,null,null,null,null,null,null,null,null,null,"2020-12-24",110,-2.2204460492503131E-16,4,{"$f":"+AW258/AX258","v":-5.5511151231257827E-17},{"$f":"+K258*2","v":1.3333333333333333}]
[213,null,10,240,null,null,4,140,null,null,null,null,null,null,null,null,null,null,null,null,-10,100,null,null,null,null,null,null,null,null,null,null,null,null,null,null,null,null,-4,110,null,null,null,null,null,null,"2020-12-25",111,0,4]
[214,null,6,230,null,null,-8,160,null,null,null,null,null,null,null,null,2,210,null,null,-2,190,null,null,null,null,null,null,null,null,null,null,null,null,null,null,-8,160,10,250,null,null,null,null,null,null,"2020-12-25",111,0,6]
[215,null,4,210,null,null,10,220,null,null,null,null,null,null,null,null,-10,100,null,null,-2,190,null,null,null,null,null,null,null,null,null,null,null,null,null,null,-6,180,4,210,null,null,null,null,null,null,"2020-12-25",111,0,6]
[216,null,0,150,null,null,null,null,null,null,-5,120,null,null,null,null,7.5,230,null,null,-10,90,null,null,null,null,null,null,null,null,null,null,null,null,null,null,null,null,7.5,230,null,null,null,null,null,null,"2020-12-25",112,0,5]
[217,null,-10,30,null,null,null,null,null,null,{"$f":"+(8+8-2)/3","v":4.666666666666667},{"$f":"+(210+210+190)/3","v":203.33333333333334},null,null,null,null,-2,190,null,null,-2,190,null,null,null,null,null,null,null,null,null,null,null,null,null,null,null,null,null,null,null,null,null,null,null,null,"2020-12-25",112,1.7763568394002505E-15,4,{"$f":"+AW263/AX263","v":4.4408920985006262E-16},{"$f":"+K263*2","v":9.3333333333333339}]
[218,null,-5,180,null,null,null,null,null,null,-10,100,null,null,null,null,10,260,null,null,0,200,null,null,null,null,null,null,5,210,null,null,null,null,null,null,null,null,null,null,null,null,null,null,null,null,"2020-12-25",112,0,5]
[219,null,-10,150,null,null,null,null,null,null,{"$f":"+(6+0-6)/3","v":0},{"$f":"+(200+180+160)/3","v":180},null,null,null,null,10,220,null,null,0,180,null,null,null,null,null,null,null,null,null,null,null,null,null,null,null,null,null,null,null,null,null,null,null,null,"2020-12-25",112,0,4,{"$f":"+AW265/AX265","v":0},{"$f":"+K265*2","v":0}]
[220,null,0,210,null,null,5,280,null,null,null,null,null,null,null,null,null,null,null,null,null,null,-10,90,null,null,null,null,null,null,null,null,null,null,null,null,10,290,-5,170,null,null,null,null,null,null,"2020-12-26",113,0,5]
[221,null,2,210,null,null,-6,130,null,null,null,null,null,null,null,null,null,null,null,null,-10,110,-2,180,null,null,null,null,null,null,null,null,null,null,null,null,6,280,10,300,null,null,null,null,null,null,"2020-12-26",113,0,6]
[222,null,10,300,null,null,4,200,null,null,null,null,null,null,null,null,null,null,null,null,-6,180,-6,180,null,null,null,null,null,null,null,null,null,null,null,null,-6,180,4,200,null,null,null,null,null,null,"2020-12-26",113,0,6]
[223,null,-10,130,null,null,-2,180,null,null,null,null,null,null,null,null,null,null,null,null,-6,150,2,220,null,null,null,null,null,null,null,null,null,null,null,null,6,240,10,290,null,null,null,null,null,null,"2020-12-26",113,0,6]
[224,null,-10,160,null,null,null,null,null,null,null,null,null,null,null,null,10,340,null,null,null,null,null,null,null,null,4,190,null,null,null,null,null,null,null,null,null,null,-4,180,null,null,null,null,null,null,"2020-12-26",114,0,4]
[225,null,-6,150,null,null,null,null,null,null,{"$f":"+(10-10+2)/3","v":0.66666666666666663},{"$f":"+(280+130+190)/3","v":200},null,null,null,null,6,240,null,null,null,null,null,null,null,null,-2,160,null,null,null,null,null,null,null,null,null,null,null,null,null,null,null,null,null,null,"2020-12-26",114,0,4,{"$f":"+AW271/AX271","v":0},{"$f":"+K271*2","v":1.3333333333333333}]
[226,null,-5,310,null,null,10,340,null,null,{"$f":"+(10+6-2-6)/4","v":2},{"$f":"+(320+260+200+150)/4","v":232.5},null,null,null,null,2,210,null,null,null,null,null,null,null,null,null,null,null,null,null,null,null,null,null,null,5,310,-10,140,0,230,null,null,-10,140,"2020-12-28",115,0,8,{"$f":"+AW272/AX272","v":0},{"$f":"+K272*3","v":6}]
[227,null,6,120,null,null,2,150,null,null,null,null,null,null,null,null,10,210,null,null,null,null,null,null,null,null,null,null,null,null,null,null,null,null,null,null,-6,120,null,null,-10,100,null,null,-2,130,"2020-12-28",115,0,6]
[228,null,10,160,null,null,5,230,null,null,null,null,null,null,null,null,-5,200,null,null,null,null,null,null,null,null,null,null,null,null,null,null,null,null,null,null,-10,160,null,null,0,210,null,null,null,null,"2020-12-28",115,0,5]
[229,null,-10,200,null,null,6,240,null,null,null,null,null,null,10,260,-6,180,null,null,null,null,null,null,null,null,null,null,null,null,null,null,null,null,null,null,-2,200,null,null,2,220,null,null,null,null,"2020-12-28",115,0,6]
[230,null,-10,140,null,null,null,null,null,null,10,260,null,null,null,null,4,230,null,null,null,null,-4,160,null,null,null,null,null,null,null,null,null,null,null,null,null,null,null,null,null,null,null,null,null,null,"2020-12-28",116,0,4]
[231,null,-10,100,null,null,null,null,null,null,{"$f":"+(2+10)/2","v":6},{"$f":"+(170+230)/2","v":200},null,null,null,null,6,190,null,null,null,null,-4,160,null,null,null,null,-4,160,null,null,null,null,null,null,null,null,null,null,null,null,null,null,null,null,"2020-12-28",116,0,5,{"$f":"+AW277/AX277","v":0},{"$f":"+K277","v":6}]
[232,null,-10,50,null,null,null,null,null,null,{"$f":"+(-4+2)/2","v":-1},{"$f":"+(80+120)/2","v":100},null,null,null,null,6,250,null,null,null,null,10,270,null,null,null,null,-4,80,null,null,null,null,null,null,null,null,null,null,null,null,null,null,null,null,"2020-12-28",116,0,5,{"$f":"+AW278/AX278","v":0},{"$f":"+K278","v":-1}]
[{"$f":"+A278+1","v":233},null,-2,170,null,null,null,null,null,null,{"$f":"+(10+4-10)/3","v":1.3333333333333333},{"$f":"+(300+210+110)/3","v":206.66666666666666},null,null,null,null,4,210,null,null,null,null,null,null,null,null,null,null,null,null,null,null,null,null,null,null,null,null,-6,150,null,null,null,null,null,null,"2020-12-29",118,0,4,{"$f":"+AW279/AX279","v":0},{"$f":"+K279*2","v":2.6666666666666665}]
[234,null,null,null,null,null,8,240,null,null,null,null,null,null,null,null,null,null,null,null,2,200,-4,160,null,null,null,null,null,null,null,null,null,null,null,null,8,240,-10,50,null,null,null,null,-4,160,"2020-12-30",119,0,6]
[235,null,null,null,null,null,null,null,null,null,null,null,null,null,null,null,null,null,null,null,5,220,10,270,null,null,null,null,null,null,null,null,null,null,null,null,0,130,-5,120,null,null,null,null,-10,-30,"2020-12-30",119,0,5]
[236,null,null,null,null,null,null,null,null,null,{"$f":"+(-2-10+2)/3","v":-3.3333333333333335},{"$f":"+(170+140+190)/3","v":166.66666666666666},null,null,null,null,null,null,null,null,10,250,null,null,null,null,null,null,null,null,null,null,null,null,null,null,6,210,-6,160,null,null,null,null,null,null,"2020-12-30",119,-8.8817841970012523E-16,{"$f":"COUNT(C282:AT282)/2","v":4},{"$f":"+AW282/AX282","v":-2.2204460492503131E-16},{"$f":"+K282*2","v":-6.666666666666667}]
[237,null,null,null,null,null,null,null,null,null,{"$f":"+(10-6-10)/3","v":-2},{"$f":"+(280+170+110)/2","v":280},null,null,null,null,null,null,null,null,6,260,null,null,null,null,0,180,null,null,null,null,null,null,null,null,null,null,0,180,null,null,null,null,null,null,"2021-12-30",120,0,4,{"$f":"+AW283/AX283","v":0},{"$f":"+K283*2","v":-4}]
[238,null,10,280,null,null,null,null,null,null,-10,70,null,null,null,null,6,220,null,null,2,210,null,null,null,null,-6,140,null,null,null,null,null,null,null,null,null,null,-2,160,null,null,null,null,null,null,"2021-12-30",120,0,6]
[239,null,10,280,null,null,null,null,null,null,{"$f":"+(6-2)/2","v":2},{"$f":"+(260+210)/2","v":235},null,null,null,null,-6,90,null,null,2,220,null,null,null,null,-10,10,null,null,null,null,null,null,null,null,null,null,null,null,null,null,null,null,null,null,"2021-12-30",120,0,5,{"$f":"+AW285/AX285","v":0},{"$f":"+K285","v":2}]
[240,null,0,120,null,null,null,null,null,null,-10,80,null,null,null,null,10,290,null,null,5,240,null,null,null,null,-5,90,null,null,null,null,null,null,null,null,null,null,null,null,null,null,null,null,null,null,"2021-12-30",120,0,5]
[241,null,6,280,null,null,null,null,null,null,{"$f":"+(-6-2-10)/3","v":-6},{"$f":"+(160+230+10)/3","v":133.33333333333334},null,null,null,null,10,310,null,null,2,260,null,null,null,null,null,null,null,null,null,null,null,null,null,null,null,null,null,null,null,null,null,null,null,null,"2021-12-30",121,0,4,{"$f":"+AW287/AX287","v":0},{"$f":"+K287*2","v":-12}]
[242,null,null,null,null,null,null,null,null,null,{"$f":"+(-8-2-8)/3","v":-6},{"$f":"+(160+230+160)/3","v":183.33333333333334},null,null,2,240,10,280,null,null,6,270,null,null,null,null,null,null,null,null,null,null,null,null,null,null,null,null,null,null,null,null,null,null,null,null,"2021-12-31",122,0,4,{"$f":"+AW288/AX288","v":0},{"$f":"+K288*2","v":-12}]
[243,null,null,null,null,null,null,null,null,null,{"$f":"+(-8-8+6)/3","v":-3.3333333333333335},{"$f":"+(150+150+260)/3","v":186.66666666666666},null,null,2,200,null,null,null,null,10,280,null,null,null,null,null,null,null,null,null,null,null,null,null,null,-2,190,null,null,null,null,null,null,null,null,"2021-12-31",122,-8.8817841970012523E-16,4,{"$f":"+AW289/AX289","v":-2.2204460492503131E-16},{"$f":"+K289*2","v":-6.666666666666667}]
[244,null,4,190,null,null,-10,130,null,null,null,null,null,null,10,360,4,50,null,null,-4,140,null,null,null,null,null,null,null,null,null,null,null,null,null,null,-10,50,-4,100,10,240,null,null,null,null,"2021-01-01",123,0,8]
[245,null,null,null,null,null,10,310,null,null,null,null,null,null,4,220,null,null,null,null,null,null,null,null,null,null,null,null,null,null,null,null,null,null,null,null,-7,130,null,null,-7,130,null,null,null,null,"2021-01-01",123,0,4]
[246,null,null,null,null,null,null,null,null,null,null,null,null,null,null,null,5,180,null,null,-10,0,null,null,null,null,null,null,null,null,null,null,null,null,null,null,10,220,0,150,-5,60,null,null,null,null,"2021-01-01",123,0,5]
[247,null,null,null,null,null,null,null,null,null,{"$f":"+(10-10)/2","v":0},{"$f":"+(140+360)/2","v":250},null,null,5,300,null,null,null,null,0,290,null,null,null,null,null,null,null,null,null,null,null,null,null,null,null,null,-5,240,null,null,null,null,null,null,"2021-01-01",124,0,4,{"$f":"+AW293/AX293","v":0},{"$f":"+K293*2","v":0}]
[248,null,6,210,null,null,null,null,null,null,null,null,null,null,2,170,-2,160,null,null,-10,90,-6,130,null,null,null,null,null,null,null,null,null,null,null,null,null,null,10,250,null,null,null,null,null,null,"2021-01-01",124,0,6]
[249,null,-8,150,null,null,null,null,null,null,null,null,null,null,2,170,-8,150,null,null,6,210,10,240,null,null,null,null,null,null,null,null,null,null,null,null,null,null,-2,160,null,null,null,null,null,null,"2021-01-01",124,0,6]
[250,null,0,200,null,null,null,null,null,null,null,null,null,null,null,null,10,340,null,null,-5,190,5,220,null,null,null,null,-10,150,null,null,null,null,null,null,null,null,null,null,null,null,null,null,null,null,"2021-01-01",124,0,5]
[251,null,0,120,null,null,null,null,null,null,10,240,null,null,null,null,5,230,null,null,-10,80,null,null,null,null,null,null,-5,190,null,null,null,null,null,null,null,null,null,null,null,null,null,null,null,null,"2021-01-01",124,0,5]
[252,null,null,null,null,null,5,180,null,null,null,null,null,null,null,null,null,null,null,null,-2.5,160,null,null,null,null,null,null,null,null,null,null,null,null,null,null,10,190,-10,90,null,null,null,null,-2.5,160,"2021-01-03",125,0,5]
[253,null,null,null,null,null,-6,120,null,null,null,null,null,null,-2,130,null,null,null,null,8,240,null,null,null,null,null,null,null,null,null,null,null,null,null,null,8,240,2,140,null,null,null,null,-10,80,"2021-01-03",125,0,6]
[254,null,null,null,null,null,10,290,null,null,null,null,null,null,-10,120,null,null,null,null,6,240,null,null,null,null,null,null,null,null,null,null,null,null,null,null,-2,170,2,210,-6,160,null,null,null,null,"2021-01-03",125,0,6]
[255,null,null,null,null,null,null,null,null,null,null,null,null,null,null,null,null,null,null,null,10,390,null,null,null,null,null,null,null,null,null,null,null,null,null,null,4,380,-4,300,null,null,null,null,-10,-10,"2021-01-04",126,0,4]
[256,null,null,null,null,null,4,280,null,null,null,null,null,null,null,null,null,null,null,null,10,290,null,null,null,null,null,null,null,null,null,null,null,null,null,null,-4,220,-10,210,null,null,null,null,null,null,"2021-01-04",126,0,4]
[257,null,null,null,null,null,-6,130,null,null,{"$f":"+(10+6)/2","v":8},{"$f":"+(220+170)/2","v":195},null,null,null,null,null,null,null,null,-10,100,null,null,null,null,null,null,null,null,null,null,null,null,null,null,null,null,-2,150,2,160,null,null,null,null,"2021-01-05",127,{"$f":"+AI303+AE303+Y303+W303+U303+S303+Q303+O303+M303+I303+G303+E303+C303+AG303+K303+AS303+AZ303+AA303+AC303+AK303+AM303+AO303+AQ303","v":0},5,{"$f":"+AW303/AX303","v":0},{"$f":"+K303","v":8}]
[258,null,null,null,null,null,2,200,null,null,{"$f":"+(-10-6)/2","v":-8},{"$f":"+(130+140)/2","v":135},null,null,null,null,null,null,null,null,10,290,null,null,null,null,null,null,null,null,null,null,null,null,null,null,null,null,6,230,-2,170,null,null,null,null,"2021-01-05",127,0,5,{"$f":"+AW304/AX304","v":0},{"$f":"+K304","v":-8}]
[259,null,null,null,null,null,null,null,null,null,{"$f":"+(2+6)/2","v":4},{"$f":"+(220+230)/2","v":225},null,null,null,null,null,null,null,null,10,250,null,null,null,null,null,null,null,null,null,null,null,null,null,null,-6,120,-10,90,null,null,null,null,-2,160,"2021-01-06",128,0,5,{"$f":"+AW305/AX305","v":0},{"$f":"+K305","v":4}]
[260,"Mitjana punts del moment",null,null,null,null,null,null,null,null,{"$f":"+(2-2-10)/3","v":-3.3333333333333335},194.96141975308643,null,null,null,null,null,null,null,null,6,189.6319018404908,null,null,null,null,null,null,null,null,null,null,null,null,null,null,-6,188.89705882352942,10,170,null,null,null,null,null,null,"2021-01-06",128,0,4,{"$f":"+AW306/AX306","v":0},{"$f":"+K306*2","v":-6.666666666666667}]
[261,null,null,null,null,null,null,null,null,null,{"$f":"+(10+2)/2","v":6},{"$f":"+(260+220)/2","v":240},null,null,6,230,null,null,null,null,-10,60,null,null,null,null,null,null,null,null,null,null,null,null,null,null,-6,100,-2,150,null,null,null,null,null,null,"2021-01-06",128,0,5,{"$f":"+AW307/AX307","v":0},{"$f":"+K307","v":6}]
[262,null,null,null,null,null,10,260,null,null,null,null,null,null,null,null,null,null,null,null,6,250,null,null,null,null,null,null,null,null,null,null,null,null,null,null,-6,130,-2,160,-10,110,null,null,2,190,"2021-01-07",129,0,6]
[263,null,null,null,null,null,0,180,null,null,null,null,null,null,null,null,null,null,null,null,-10,100,null,null,null,null,null,null,null,null,null,null,null,null,null,null,-6,140,10,260,6,230,null,null,0,180,"2021-01-07",129,0,6]
[264,null,null,null,null,null,5,260,null,null,null,null,null,null,null,null,null,null,null,null,-10,90,null,null,null,null,null,null,null,null,null,null,null,null,null,null,10,290,-5,140,0,240,null,null,null,null,"2021-01-07",129,0,5]
[265,null,null,null,null,null,6,290,null,null,null,null,null,null,null,null,null,null,null,null,2,220,null,null,null,null,null,null,null,null,null,null,null,null,null,null,-2,170,-6,160,10,330,null,null,-10,100,"2021-01-08",130,0,6]
[266,null,null,null,null,null,6,210,null,null,null,null,null,null,null,null,null,null,null,null,-4,180,null,null,null,null,null,null,null,null,null,null,null,null,null,null,2,190,10,220,-10,160,null,null,-4,180,"2021-01-08",130,0,6]
[267,null,null,null,null,null,10,230,null,null,null,null,null,null,null,null,null,null,null,null,-10,10,null,null,null,null,null,null,null,null,null,null,null,null,null,null,2.5,190,-5,100,2.5,190,null,null,null,null,"2021-01-08",130,0,5]
[268,null,-6,100,null,null,null,null,null,null,{"$f":"+(2-2-10)/3","v":-3.3333333333333335},{"$f":"+(170+180+70)/3","v":140},null,null,null,null,10,300,null,null,null,null,null,null,null,null,null,null,6,210,null,null,null,null,null,null,null,null,null,null,null,null,null,null,null,null,"2021-01-08",131,0,4,{"$f":"+AW314/AX314","v":0},{"$f":"+K314*2","v":-6.666666666666667}]
[269,null,null,null,null,null,null,null,null,null,null,null,null,null,null,null,null,null,null,null,10,200,null,null,null,null,null,null,null,null,null,null,null,null,null,null,-5,130,-10,20,0,160,null,null,5,180,"2021-01-09",132,0,5]
[270,null,null,null,null,null,null,null,null,null,null,null,null,null,null,null,null,null,null,null,7.5,270,null,null,null,null,null,null,null,null,null,null,null,null,null,null,7.5,270,-10,110,0,260,null,null,-5,230,"2021-01-09",132,0,5]
[271,null,null,null,null,null,null,null,null,null,null,null,null,null,null,null,null,null,null,null,-5,140,null,null,null,null,null,null,null,null,null,null,null,null,null,null,5,220,-10,30,5,220,null,null,5,220,"2021-01-09",132,0,5]
[272,null,null,null,null,null,null,null,null,null,{"$f":"+(-8+4-8)/3","v":-4},{"$f":"+(130+220+130)/3","v":160},null,null,null,null,10,230,null,null,null,null,null,null,null,null,-2,200,4,220,null,null,null,null,null,null,null,null,null,null,null,null,null,null,null,null,"2021-01-10",133,0,4,{"$f":"+AW318/AX318","v":0},{"$f":"+K318*2","v":-8}]
[273,null,null,null,null,null,-10,130,null,null,null,null,null,null,null,null,null,null,null,null,null,null,null,null,null,null,6,250,null,null,null,null,null,null,null,null,-6,150,2,210,-2,190,null,null,10,310,"2021-01-10",134,0,6]
[274,null,null,null,null,null,0,240,null,null,null,null,null,null,null,null,null,null,null,null,null,null,null,null,null,null,null,null,null,null,null,null,null,null,null,null,5,260,10,270,-5,230,null,null,-10,100,"2021-01-10",134,0,5]
[275,null,null,null,null,null,null,null,null,null,null,null,null,null,null,null,null,null,null,null,10,250,null,null,null,null,6,250,null,null,null,null,null,null,null,null,-2,190,-10,130,-2,190,null,null,-2,190,"2021-01-10",134,0,6]
[276,null,null,null,null,null,null,null,null,null,null,null,null,null,null,null,null,null,null,null,-5,70,null,null,null,null,-10,70,null,null,null,null,null,null,null,null,5,250,0,240,10,350,null,null,null,null,"2021-01-10",134,0,5]
[277,null,null,null,null,null,null,null,null,null,null,null,null,null,null,null,null,null,null,null,-7.5,50,null,null,null,null,null,null,null,null,null,null,null,null,null,null,0,120,5,220,10,270,null,null,-7.5,50,"2021-01-11",135,0,5]
[278,null,null,null,null,null,null,null,null,null,null,null,null,null,null,null,null,null,null,null,10,230,null,null,null,null,null,null,null,null,null,null,null,null,null,null,5,170,-2.5,140,-10,110,null,null,-2.5,140,"2021-01-11",135,0,5]
[279,null,null,null,null,null,null,null,null,null,null,null,null,null,null,null,null,null,null,null,-10,130,null,null,null,null,-2.5,170,null,null,null,null,null,null,null,null,10,260,-2.5,170,5,220,null,null,null,null,"2021-01-11",135,0,5]
[280,null,null,null,null,null,null,null,null,null,null,null,null,null,null,null,null,null,null,null,-5,170,null,null,null,null,5,220,null,null,null,null,null,null,null,null,0,190,10,350,-10,30,null,null,null,null,"2021-01-12",136,0,5]
[281,null,null,null,null,null,null,null,null,null,null,null,null,null,null,null,null,null,null,null,2,200,null,null,null,null,6,220,null,null,null,null,null,null,null,null,-2,160,-6,130,10,240,null,null,-10,50,"2021-01-12",136,0,6]
[282,null,null,null,null,null,null,null,null,null,null,null,null,null,null,null,null,null,null,null,-6,100,null,null,null,null,-2,160,null,null,null,null,null,null,null,null,10,200,4,180,-10,10,null,null,4,140,"2021-01-12",136,0,6]
[283,null,null,null,null,null,null,null,null,null,10,300,null,null,5,180,null,null,null,null,-2.5,130,null,null,null,null,null,null,null,null,null,null,null,null,null,null,-2.5,130,-10,120,null,null,null,null,null,null,"2021-01-13",137,0,5]
[284,null,null,null,null,null,null,null,null,null,null,null,null,null,-5,170,null,null,null,null,0,220,null,null,null,null,null,null,null,null,null,null,null,null,null,null,7.5,230,-10,150,null,null,null,null,7.5,80,"2021-01-13",137,0,5]
[285,null,null,null,null,null,null,null,null,null,{"$f":"+(10-2)/2","v":4},{"$f":"+(220+120)/2","v":170},null,null,null,null,null,null,null,null,-6,80,null,null,null,null,null,null,null,null,null,null,null,null,null,null,-10,30,6,210,null,null,null,null,2,180,"2021-01-14",138,0,5,{"$f":"+AW331/AX331","v":0},{"$f":"+K331","v":4}]
[286,null,null,null,null,null,2,210,null,null,null,null,null,null,-6,150,8,220,null,null,-2,190,null,null,null,null,null,null,null,null,null,null,null,null,null,null,8,220,-10,140,null,null,null,null,null,null,"2021-01-14",138,0,6]
[287,null,null,null,null,null,-10,70,null,null,null,null,null,null,null,null,null,null,null,null,5,180,null,null,null,null,null,null,null,null,null,null,null,null,null,null,10,190,-2.5,160,null,null,null,null,-2.5,160,"2021-01-15",139,0,5]
[288,null,null,null,null,null,0,170,null,null,null,null,null,null,10,230,null,null,null,null,-10,20,null,null,null,null,null,null,null,null,null,null,null,null,null,null,-5,130,5,180,null,null,null,null,null,null,"2021-01-15",139,0,5]
[289,null,null,null,null,null,10,300,null,null,null,null,null,null,2.5,230,null,null,null,null,-5,150,null,null,null,null,null,null,null,null,null,null,null,null,null,null,2.5,230,-10,90,null,null,null,null,null,null,"2021-01-15",139,0,5]
[290,null,null,null,null,null,5,150,null,null,null,null,null,null,null,null,-5,90,null,null,-10,20,null,null,null,null,null,null,null,null,null,null,null,null,null,null,10,200,null,null,null,null,null,null,0,140,"2021-01-16",140,0,5]
[291,null,null,null,null,null,-10,90,null,null,null,null,null,null,null,null,-5,200,null,null,10,330,null,null,null,null,null,null,null,null,null,null,null,null,null,null,0,220,5,230,null,null,null,null,null,null,"2021-01-16",140,0,5]
[292,null,null,null,null,null,5,240,null,null,null,null,null,null,null,null,-7.5,170,null,null,0,250,null,null,null,null,null,null,null,null,null,null,null,null,null,null,10,330,-7.5,170,null,null,null,null,null,null,"2021-01-16",140,0,5]
[293,null,null,null,null,null,null,null,null,null,null,null,null,null,null,null,null,null,null,null,-5,190,null,null,null,null,null,null,null,null,null,null,null,null,null,null,-10,160,5,210,10,310,null,null,0,200,"2021-01-17",141,0,5]
[294,null,null,null,null,null,null,null,null,null,null,null,null,null,null,null,null,null,null,null,6,260,10,290,null,null,null,null,null,null,null,null,null,null,null,null,-10,90,-4,130,2,190,null,null,-4,130,"2021-01-17",141,0,6]
[295,null,null,null,null,null,null,null,null,null,null,null,null,null,null,null,null,null,null,null,2,200,10,270,null,null,null,null,null,null,null,null,null,null,null,null,-10,120,-4,170,-4,170,null,null,6,220,"2021-01-17",141,0,6]
[296,null,null,null,null,null,null,null,null,null,null,null,null,null,null,null,null,null,null,null,2,180,-10,120,null,null,null,null,null,null,null,null,null,null,null,null,10,220,-2,160,-6,150,null,null,6,210,"2021-01-17",141,0,6]
[{"$f":"+A342+1","v":297},null,null,null,null,null,null,null,null,null,null,null,null,null,null,null,null,null,null,null,-10,80,null,null,null,null,null,null,null,null,null,null,null,null,null,null,5,200,0,170,10,260,null,null,-5,150,"2021-01-17",141,0,5]
[298,null,null,null,null,null,5,290,null,null,null,null,null,null,null,null,null,null,null,null,null,null,null,null,null,null,null,null,null,null,null,null,null,null,null,null,0,220,-10,130,10,300,null,null,-5,150,"2021-01-18",142,0,5]
[299,null,null,null,null,null,10,300,null,null,null,null,null,null,null,null,-6,130,null,null,-2,180,null,null,null,null,null,null,null,null,null,null,null,null,null,null,-10,30,4,250,4,250,null,null,null,null,"2021-01-18",142,0,6]
[300,null,null,null,null,null,null,null,null,null,null,null,null,null,null,null,-5,120,null,null,-10,80,null,null,null,null,null,null,null,null,null,null,null,null,null,null,5,200,0,160,10,240,null,null,null,null,"2021-01-18",142,0,{"$f":"COUNT(C346:AT346)/2","v":5}]
[301,null,null,null,null,null,2,210,null,null,null,null,null,null,null,null,null,null,null,null,8,230,null,null,null,null,null,null,null,null,null,null,null,null,null,null,-10,120,-6,180,8,230,null,null,-2,190,"2021-01-19",143,0,6]
[302,null,null,null,null,null,10,300,null,null,null,null,null,null,null,null,null,null,2,200,6,230,null,null,null,null,null,null,null,null,null,null,null,null,null,null,-6,150,-2,210,null,null,null,null,-10,100,"2021-01-19",143,0,6]
[303,null,null,null,null,null,-6,150,null,null,null,null,null,null,null,null,null,null,-10,110,0,190,null,null,null,null,null,null,null,null,null,null,null,null,null,null,10,230,0,190,6,220,null,null,null,null,"2021-01-19",143,0,6]
[304,null,null,null,null,null,null,null,null,null,{"$f":"+(-2-6-10)/3","v":-6},{"$f":"+(140+150+210)/3","v":166.66666666666666},null,null,null,null,null,null,null,null,2,220,null,null,null,null,null,null,null,null,null,null,null,null,null,null,null,null,6,250,null,null,null,null,10,260,"2021-01-20",144,0,4,{"$f":"+AW350/AX350","v":0},{"$f":"+K350*2","v":-12}]
[305,null,null,null,null,null,null,null,null,null,null,null,null,null,null,null,null,null,null,null,4,250,null,null,null,null,null,null,null,null,null,null,null,null,null,null,10,320,-10,100,null,null,null,null,-4,230,"2021-01-20",144,0,4]
[306,null,null,null,null,null,5,190,null,null,null,null,null,null,null,null,null,null,-5,160,null,null,null,null,null,null,null,null,null,null,null,null,null,null,null,null,10,230,-5,160,null,null,null,null,-5,160,"2021-01-21",145,0,5]
[307,null,null,null,null,null,6,270,null,null,null,null,null,null,-10,90,null,null,2,200,null,null,null,null,null,null,null,null,null,null,null,null,null,null,null,null,-4,190,10,290,null,null,null,null,-4,190,"2021-01-21",145,0,6]
[308,null,null,null,null,null,0,200,null,null,null,null,null,null,-6,160,null,null,-10,70,null,null,null,null,null,null,null,null,null,null,null,null,null,null,null,null,6,230,0,200,10,250,null,null,null,null,"2021-01-21",145,0,6]
[309,"Ana B 180",null,null,null,null,-10,100,null,null,null,null,null,null,10,330,null,null,null,null,null,null,null,null,null,null,null,null,null,null,null,null,null,null,null,null,-6,170,6,270,null,null,null,null,2,190,"2021-01-22",146,0,5,null,-2,"Ana B assessorada"]
[310,"Ana B 150",null,null,null,null,10,310,null,null,null,null,null,null,-4,200,-10,170,null,null,null,null,null,null,null,null,null,null,null,null,null,null,null,null,null,null,4,230,10,290,4,260,null,null,-10,120,"2021-01-22",146,0,7,null,-4,"Ana B assessorada"]
[311,"Ana B 220",null,null,null,null,null,null,null,null,null,null,null,null,null,null,-7.5,190,null,null,null,null,null,null,null,null,null,null,null,null,null,null,null,null,null,null,7.5,320,-7.5,190,7.5,320,null,null,null,null,"2021-01-22",146,0,4,null,0,"Ana B assessorada"]
[312,null,null,null,null,null,null,null,null,null,{"$f":"+(2+10-8)/3","v":1.3333333333333333},{"$f":"+(190+270+160)/3","v":206.66666666666666},null,null,-2,180,null,null,null,null,-8,160,null,null,null,null,null,null,null,null,null,null,null,null,null,null,6,250,null,null,null,null,null,null,null,null,"2021-01-23",147,0,4,{"$f":"+AW358/AX358","v":0},{"$f":"+K358*2","v":2.6666666666666665}]
[313,null,null,null,null,null,null,null,null,null,{"$f":"+(10-6)/2","v":2},{"$f":"+(230+140)/2","v":185},null,null,-10,130,-2,210,null,null,null,null,null,null,null,null,4,220,4,220,null,null,null,null,null,null,null,null,null,null,null,null,null,null,null,null,"2021-01-23",148,0,5,{"$f":"+AW359/AX359","v":0},{"$f":"+K359","v":2}]
[314,null,null,null,-6,100,null,null,null,null,null,null,null,null,null,null,null,null,null,null,-10,70,null,null,null,null,null,null,null,null,null,null,null,null,null,null,2,150,10,180,-2,140,null,null,6,170,"2021-01-24",149,0,6]
[315,null,null,null,-10,110,null,null,null,null,null,null,null,null,null,null,-6,200,null,null,6,250,null,null,null,null,null,null,null,null,null,null,null,null,null,null,-2,210,2,240,10,260,null,null,null,null,"2021-01-24",149,0,6]
[316,null,null,null,-2,200,null,null,null,null,null,null,null,null,null,null,-6,190,null,null,2,220,null,null,null,null,null,null,null,null,null,null,null,null,null,null,6,230,10,270,-10,110,null,null,null,null,"2021-01-24",149,0,6]
[317,null,null,null,-10,-20,null,null,null,null,null,null,null,null,null,null,10,240,null,null,-6,170,null,null,null,null,null,null,null,null,null,null,null,null,null,null,2,220,-2,200,6,230,null,null,null,null,"2021-01-24",149,0,6]
[318,null,-10,210,null,null,null,null,null,null,0,260,null,null,null,null,10,340,null,null,null,null,null,null,null,null,null,null,0,260,null,null,null,null,null,null,null,null,null,null,null,null,null,null,null,null,"2021-01-24",150,0,4]
[319,null,0,220,null,null,null,null,null,null,{"$f":"+(5-10)/2","v":-2.5},{"$f":"+(290+20)/2","v":155},null,null,null,null,10,320,null,null,null,null,null,null,null,null,null,null,-5,180,null,null,null,null,null,null,null,null,null,null,null,null,null,null,null,null,"2021-01-24",150,0,4,{"$f":"+AW365/AX365","v":0},{"$f":"+K365","v":-2.5}]
[320,null,null,null,null,null,-2,150,null,null,null,null,null,null,null,null,null,null,null,null,4,210,null,null,null,null,null,null,null,null,null,null,null,null,null,null,4,210,-6,120,10,240,null,null,-10,110,"2021-01-25",151,0,6]
[321,null,null,null,null,null,2.5,200,null,null,null,null,null,null,null,null,null,null,null,null,-10,90,null,null,null,null,null,null,null,null,null,null,null,null,null,null,10,230,2.5,200,-5,160,null,null,null,null,"2021-01-25",151,{"$f":"+AI367+AE367+Y367+W367+U367+S367+Q367+O367+M367+I367+G367+E367+C367+AG367+K367+AS367+AZ367+AA367+AC367+AK367+AM367+AO367+AQ367","v":0},5]
[322,null,null,null,null,null,-6,100,null,null,null,null,null,null,null,null,null,null,null,null,-10,90,null,null,null,null,null,null,null,null,null,null,null,null,null,null,8,200,-2,140,2,180,null,null,8,200,"2021-01-26",152,0,6]
[323,null,null,null,null,null,null,null,null,null,null,null,null,null,null,null,10,260,null,null,-6,180,null,null,null,null,null,null,null,null,null,null,null,null,null,null,0,210,0,210,6,230,null,null,-10,150,"2021-01-26",152,0,6]
[324,null,null,null,null,null,-10,170,null,null,null,null,null,null,null,null,10,220,null,null,-4,190,null,null,null,null,null,null,null,null,null,null,null,null,null,null,4,210,4,210,-4,190,null,null,null,null,"2021-01-26",152,0,6]
[325,null,null,null,-10,110,2.5,200,null,null,null,null,null,null,null,null,-5,140,null,null,10,350,null,null,null,null,null,null,null,null,null,null,null,null,null,null,null,null,null,null,2.5,200,null,null,null,null,"2021-01-26",152,0,5]
[326,null,null,null,null,null,null,null,null,null,null,null,null,null,null,null,null,null,null,null,4,210,null,null,null,null,null,null,null,null,null,null,null,null,null,null,-4,150,-10,110,null,null,null,null,10,290,"2021-01-27",153,0,4]
[327,null,null,null,-10,50,null,null,null,null,null,null,null,null,null,null,null,null,null,null,4,230,null,null,null,null,null,null,null,null,null,null,null,null,null,null,10,300,-4,220,null,null,null,null,null,null,"2021-01-27",153,0,4]
[328,null,null,null,-2,170,null,null,null,null,null,null,null,null,10,280,2,200,null,null,6,230,null,null,null,null,null,null,null,null,null,null,null,null,null,null,-6,150,-10,80,null,null,null,null,null,null,"2021-01-28",154,0,6]
[329,null,null,null,-2,130,null,null,null,null,null,null,null,null,-8,110,null,null,null,null,8,290,null,null,null,null,null,null,null,null,null,null,null,null,null,null,-8,110,2,230,null,null,null,null,8,290,"2021-01-28",154,0,6]
[330,null,null,null,null,null,-2,200,null,null,null,null,null,null,null,null,null,null,null,null,10,330,-10,70,null,null,null,null,null,null,null,null,null,null,null,null,6,240,2,210,null,null,null,null,-6,170,"2021-01-29",155,0,6]
[331,null,null,null,-10,140,null,null,null,null,null,null,null,null,null,null,null,null,null,null,10,300,0,190,null,null,6,240,null,null,null,null,null,null,null,null,-6,170,0,190,null,null,null,null,null,null,"2021-01-29",155,0,6]
[332,null,null,null,-10,90,2,240,null,null,null,null,null,null,null,null,null,null,null,null,-6,120,null,null,null,null,-2,160,null,null,null,null,null,null,null,null,6,260,10,270,null,null,null,null,null,null,"2021-01-29",155,0,6]
[333,null,-10,80,null,null,null,null,null,null,5,210,null,null,null,null,10,330,null,null,null,null,null,null,null,null,0,160,-5,130,null,null,null,null,null,null,null,null,null,null,null,null,null,null,null,null,"2021-01-29",156,0,5]
[334,null,null,null,-6,110,null,null,null,null,null,null,null,null,null,null,null,null,null,null,0,170,null,null,null,null,null,null,null,null,null,null,null,null,null,null,0,170,10,230,-10,80,null,null,6,210,"2021-01-30",157,0,6]
[335,null,null,null,10,210,6,200,null,null,null,null,null,null,null,null,null,null,null,null,null,null,null,null,null,null,null,null,null,null,null,null,null,null,null,null,-6,110,-2,120,2,160,null,null,-10,50,"2021-01-30",157,0,6]
[336,null,null,null,-10,90,6,230,null,null,0,210,null,null,null,null,null,null,null,null,10,260,null,null,null,null,null,null,null,null,null,null,null,null,null,null,-6,170,0,210,null,null,null,null,null,null,"2021-01-30",157,0,6]
[337,null,null,null,0,100,null,null,null,null,null,null,null,null,null,null,10,330,null,null,5,140,null,null,null,null,null,null,null,null,null,null,null,null,null,null,-10,20,null,null,-5,90,null,null,null,null,"2021-01-30",157,0,5]
[338,null,null,null,-2,170,-6,160,null,null,null,null,null,null,null,null,null,null,null,null,-10,110,null,null,null,null,null,null,null,null,null,null,null,null,null,null,null,null,6,250,10,260,null,null,2,200,"2021-01-31",158,0,6]
[339,null,null,null,-10,-60,2,170,null,null,{"$f":"+(6+10-6)/3","v":3.3333333333333335},{"$f":"+(190+220+130)/3","v":180},null,null,null,null,null,null,null,null,-2,140,4,270,null,null,null,null,null,null,null,null,null,null,null,null,null,null,-4,230,10,310,null,null,-10,80,"2021-01-31",158,0,8,{"$f":"+AW385/AX385","v":0},{"$f":"+K385*2","v":6.666666666666667}]
[340,null,null,null,-4,130,null,null,null,null,null,null,null,null,null,null,10,350,null,null,4,180,10,210,null,null,null,null,null,null,null,null,null,null,null,null,4,290,-10,130,-10,20,null,null,-4,260,"2021-01-31",158,0,8]
[341,null,null,null,0,220,null,null,null,null,null,null,null,null,null,null,10,270,null,null,-5,210,null,null,null,null,null,null,null,null,null,null,null,null,null,null,5,260,-10,190,null,null,null,null,null,null,"2021-01-31",158,0,5]
[342,null,null,null,null,null,2,220,null,null,null,null,null,null,-2,200,null,null,null,null,10,270,null,null,null,null,null,null,null,null,null,null,null,null,null,null,null,null,6,260,-6,180,null,null,-10,120,"2021-02-01",159,0,6]
[343,null,null,null,null,null,-2,190,null,null,null,null,null,null,-6,160,null,null,null,null,10,250,null,null,null,null,null,null,null,null,null,null,null,null,null,null,6,220,2,210,-10,130,null,null,null,null,"2021-02-01",159,0,6]
[344,null,null,null,-10,50,10,180,null,null,null,null,null,null,5,170,null,null,null,null,-2.5,160,null,null,null,null,null,null,null,null,null,null,null,null,null,null,-2.5,160,null,null,null,null,null,null,null,null,"2021-02-01",159,0,5]
[345,null,null,null,null,null,5,230,null,null,null,null,null,null,null,null,null,null,null,null,-10,110,null,null,null,null,null,null,null,null,null,null,null,null,null,null,10,270,-10,120,-5,150,null,null,0,180,"2021-02-02",160,-10,6]
[346,null,null,null,null,null,null,null,null,null,null,null,null,null,null,null,2,180,null,null,10,240,null,null,null,null,null,null,null,null,null,null,null,null,null,null,6,210,-5,100,-2,170,null,null,-6,140,"2021-02-02",160,5,6]
[347,null,null,null,null,null,10,310,null,null,null,null,null,null,null,null,null,null,null,null,0,240,null,null,null,null,null,null,null,null,null,null,null,null,null,null,-10,50,null,null,5,250,null,null,null,null,"2021-02-02",160,5,4]
[348,null,null,null,-6,140,null,null,null,null,{"$f":"+(-2+4+4)/3","v":2},{"$f":"+(170+180+180)/3","v":176.66666666666666},null,null,null,null,10,240,null,null,-10,60,null,null,null,null,null,null,null,null,null,null,null,null,null,null,null,null,null,null,null,null,null,null,null,null,"2021-02-02",160,0,4,{"$f":"+AW394/AX394","v":0},{"$f":"+K394*2","v":4}]
[349,null,null,null,-10,-30,null,null,null,null,-4,160,null,null,10,300,null,null,null,null,4,270,null,null,null,null,null,null,null,null,null,null,null,null,null,null,null,null,null,null,null,null,null,null,null,null,"2021-02-03",161,0,4]
[350,null,null,null,null,null,null,null,null,null,{"$f":"+(-6-2)/2","v":-4},{"$f":"+(180+190)/2","v":185},null,null,null,null,null,null,null,null,-10,30,null,null,null,null,null,null,null,null,null,null,null,null,null,null,2,230,8,240,null,null,null,null,8,240,"2021-02-04",162,0,5,{"$f":"+AW396/AX396","v":0},{"$f":"+K396","v":-4}]
[351,null,null,null,null,null,10,310,null,null,null,null,null,null,null,null,null,null,null,null,-5,180,null,null,null,null,null,null,null,null,null,null,null,null,null,null,2.5,220,-10,0,2.5,220,null,null,null,null,"2021-02-04",162,0,5]
[352,null,null,null,-2,160,6,200,null,null,null,null,null,null,null,null,null,null,null,null,-8,130,null,null,null,null,null,null,null,null,null,null,null,null,null,null,10,240,-8,130,2,180,null,null,null,null,"2021-02-04",162,0,6]
[353,null,null,null,-10,130,-2,200,null,null,null,null,null,null,null,null,null,null,null,null,10,240,null,null,null,null,null,null,null,null,null,null,null,null,null,null,6,220,-2,200,null,null,null,null,-2,200,"2021-02-05",163,0,6]
[354,null,null,null,-2,220,10,270,null,null,null,null,null,null,null,null,4,240,null,null,4,240,null,null,null,null,null,null,null,null,null,null,null,null,null,null,-6,200,-10,130,null,null,null,null,null,null,"2021-02-05",163,0,6]
[355,null,-5,200,null,null,null,null,null,null,{"$f":"+(-10+5)/2","v":-2.5},{"$f":"+(40+270)/2","v":155},null,null,null,null,0,260,null,null,10,290,null,null,null,null,null,null,null,null,null,null,null,null,null,null,null,null,null,null,null,null,null,null,null,null,"2021-02-05",164,0,4,{"$f":"+AW401/AX401","v":0},{"$f":"+K401","v":-2.5}]
[356,null,-10,100,null,null,null,null,null,null,{"$f":"+(-6+10)/2","v":2},{"$f":"+(130+240)/2","v":185},null,null,null,null,0,190,null,null,6,220,null,null,null,null,null,null,0,190,null,null,null,null,null,null,null,null,null,null,null,null,null,null,null,null,"2021-02-05",164,0,5,0,2]
[357,null,-6,140,null,null,null,null,null,null,{"$f":"+(2+6)/2","v":4},{"$f":"+(220+240)/2","v":230},null,null,null,null,-2,190,null,null,10,310,null,null,null,null,null,null,-10,90,null,null,null,null,null,null,null,null,null,null,null,null,null,null,null,null,"2021-02-05",164,0,5,0,4]
[358,null,-2.5,160,null,null,null,null,null,null,-10,140,null,null,null,null,-2.5,160,null,null,7.5,220,null,null,null,null,null,null,7.5,220,null,null,null,null,null,null,null,null,null,null,null,null,null,null,null,null,"2021-02-05",164,0,5]
[359,null,-2,200,null,null,null,null,null,null,{"$f":"+(6+2)/2","v":4},{"$f":"+(220+210)/2","v":215},null,null,null,null,10,260,null,null,-6,170,null,null,null,null,null,null,-10,130,null,null,null,null,null,null,null,null,null,null,null,null,null,null,null,null,"2021-02-06",165,0,5,{"$f":"+AW405/AX405","v":0},{"$f":"+K405","v":4}]
[360,null,10,290,null,null,null,null,null,null,{"$f":"+(-7.5+5)/2","v":-1.25},{"$f":"+(180+240)/2","v":210},null,null,null,null,0,230,null,null,-7.5,180,null,null,null,null,null,null,null,null,null,null,null,null,null,null,null,null,null,null,null,null,null,null,null,null,"2021-02-06",165,0,4,0,-1.25]
[{"$f":"+A406+1","v":361},null,-6,140,null,null,null,null,null,null,{"$f":"+(-2+10)/2","v":4},{"$f":"+(160+210)/2","v":185},null,null,null,null,6,190,null,null,2,180,null,null,null,null,null,null,-10,70,null,null,null,null,null,null,null,null,null,null,null,null,null,null,null,null,"2021-02-06",165,0,5,0,4]
[362,null,null,null,null,null,10,270,null,null,null,null,null,null,null,null,null,null,null,null,2,150,null,null,null,null,null,null,null,null,null,null,null,null,null,null,-10,60,-6,80,6,210,null,null,-2,100,"2021-02-07",166,0,6]
[363,null,null,null,6,250,null,null,null,null,null,null,null,null,null,null,null,null,null,null,-2,180,null,null,null,null,null,null,null,null,null,null,null,null,null,null,2,190,-6,80,-10,110,null,null,10,300,"2021-02-07",166,0,6]
[364,null,null,null,0,220,null,null,null,null,null,null,null,null,null,null,null,null,null,null,10,330,null,null,null,null,null,null,null,null,null,null,null,null,null,null,-10,100,5,230,-5,170,null,null,null,null,"2021-02-07",166,0,{"$f":"COUNT(C410:AT410)/2","v":5}]
[365,null,null,null,null,null,-5,180,null,null,null,null,null,null,null,null,null,null,null,null,10,350,null,null,null,null,null,null,null,null,null,null,null,null,null,null,2.5,230,-10,170,null,null,null,null,2.5,230,"2021-02-08",167,0,5]
[366,null,null,null,-6,130,null,null,null,null,null,null,null,null,null,null,-10,100,null,null,2,180,null,null,null,null,null,null,null,null,null,null,null,null,null,null,10,250,-2,150,6,240,null,null,null,null,"2021-02-08",167,0,6]
[367,null,null,null,null,null,null,null,null,null,{"$f":"+(-2-6-10)/3","v":-6},{"$f":"+(120+170+150)/3","v":146.66666666666666},null,null,6,220,6,220,null,null,null,null,null,null,null,null,6,220,null,null,null,null,null,null,null,null,null,null,null,null,null,null,null,null,null,null,"2021-02-08",168,0,4,{"$f":"+AW413/AX413","v":0},{"$f":"+K413*2","v":-12}]
[368,null,null,null,null,null,null,null,null,null,null,null,null,null,-2,130,null,null,null,null,2,220,null,null,null,null,null,null,null,null,null,null,null,null,null,null,-6,120,-10,80,8,240,null,null,8,240,"2021-02-09",169,0,6]
[369,null,null,null,null,null,null,null,null,null,null,null,null,null,-10,70,null,null,null,null,-5,130,null,null,null,null,null,null,null,null,null,null,null,null,null,null,0,170,10,200,5,190,null,null,null,null,"2021-02-09",169,0,5]
[370,null,null,null,null,null,null,null,null,null,{"$f":"+(10-10)/2","v":0},{"$f":"+(190+80)/2","v":135},null,null,null,null,null,null,null,null,null,null,null,null,null,null,null,null,null,null,null,null,2.5,140,null,null,null,null,-5,120,null,null,null,null,2.5,140,"2021-02-10",170,0,4,{"$f":"+AW416/AX416","v":0},{"$f":"+K416","v":0}]
[371,null,null,null,-6,200,null,null,null,null,{"$f":"+(10+6)/2","v":8},{"$f":"+(310+230)/2","v":270},null,null,null,null,null,null,null,null,0,210,null,null,null,null,null,null,null,null,null,null,null,null,null,null,null,null,-10,100,null,null,null,null,0,210,"2021-02-10",170,0,5,0,8]
[372,null,null,null,0,130,null,null,null,null,10,230,null,null,null,null,null,null,null,null,-10,-60,null,null,null,null,null,null,null,null,null,null,null,null,null,null,-5,160,5,210,null,null,null,null,0,180,"2021-02-11",171,0,6]
[373,null,null,null,null,null,null,null,null,null,{"$f":"+(-10+0)/2","v":-5},{"$f":"+(80+130)/2","v":105},null,null,null,null,null,null,null,null,6,230,null,null,null,null,null,null,null,null,null,null,null,null,null,null,-6,110,10,240,null,null,null,null,null,null,"2021-02-11",171,0,4,{"$f":"+AW419/AX419","v":0},{"$f":"+K419","v":-5}]
[374,null,null,null,null,null,10,220,null,null,null,null,null,null,null,null,null,null,null,null,0,150,null,null,null,null,null,null,null,null,null,null,null,null,null,null,-5,140,5,190,null,null,null,null,-10,70,"2021-02-12",172,0,5]
[375,null,null,null,-4,170,10,290,null,null,null,null,null,null,null,null,null,null,null,null,4,280,null,null,null,null,null,null,null,null,null,null,null,null,null,null,null,null,-10,-60,null,null,null,null,null,null,"2021-02-12",172,0,4]
[376,null,null,null,-10,30,6,220,null,null,null,null,null,null,null,null,null,null,null,null,-6,150,null,null,null,null,null,null,null,null,null,null,null,null,null,null,null,null,2,200,10,250,null,null,-2,190,"2021-02-13",173,0,6]
[377,null,null,null,-6,170,0,210,null,null,null,null,null,null,null,null,null,null,null,null,0,210,null,null,null,null,null,null,null,null,null,null,null,null,null,null,null,null,10,270,6,250,null,null,-10,110,"2021-02-13",173,0,6]
[378,null,null,null,5,270,-10,70,null,null,null,null,null,null,null,null,null,null,null,null,0,220,null,null,null,null,null,null,null,null,null,null,null,null,null,null,null,null,10,330,-5,130,null,null,null,null,"2021-02-13",173,0,5]
[379,null,0,200,null,null,null,null,null,null,{"$f":"+(5-10)/2","v":-2.5},{"$f":"+(230+100)/2","v":165},null,null,null,null,10,280,null,null,null,null,null,null,null,null,null,null,-5,190,null,null,null,null,null,null,null,null,null,null,null,null,null,null,null,null,"2021-02-13",174,0,{"$f":"COUNT(C425:AT425)/2","v":4},{"$f":"+AW425/AX425","v":0},{"$f":"+K425","v":-2.5}]
[380,null,-10,100,null,null,null,null,null,null,{"$f":"+(4+10+-2)/3","v":4},{"$f":"+(260+270+250)/3","v":260},null,null,null,null,4,260,null,null,null,null,null,null,null,null,null,null,-6,240,null,null,null,null,null,null,null,null,null,null,null,null,null,null,null,null,"2021-02-13",174,0,4,0,{"$f":"+K426*2","v":8}]
[381,null,null,null,null,null,-10,140,null,null,null,null,null,null,null,null,-6,170,null,null,null,null,null,null,null,null,null,null,null,null,null,null,null,null,null,null,0,220,6,230,10,270,null,null,0,220,"2021-02-14",175,0,6]
[382,null,null,null,null,null,null,null,null,null,null,null,null,null,null,null,2,160,null,null,-4,130,null,null,null,null,null,null,null,null,null,null,null,null,null,null,10,240,-10,110,6,200,null,null,-4,130,"2021-02-14",175,0,6]
[383,null,null,null,null,null,null,null,null,null,null,null,null,null,null,null,8,250,null,null,8,250,null,null,null,null,null,null,null,null,null,null,null,null,null,null,-8,90,-8,90,2,180,null,null,-2,150,"2021-02-14",175,0,6]
[384,null,null,null,0,150,-7.5,100,null,null,null,null,null,null,null,null,null,null,null,null,5,180,null,null,null,null,null,null,null,null,null,null,null,null,null,null,null,null,10,270,-7.5,100,null,null,null,null,"2021-02-15",176,0,5]
[385,null,null,null,-10,170,null,null,null,null,null,null,null,null,null,null,10,240,null,null,6,200,null,null,null,null,null,null,null,null,null,null,null,null,null,null,-2,210,-2,210,-2,210,null,null,null,null,"2021-02-15",176,{"$f":"+AI431+AE431+Y431+W431+U431+S431+Q431+O431+M431+I431+G431+E431+C431+AG431+K431+AS431+AZ431+AA431+AC431+AK431+AM431+AO431+AQ431","v":0},6]
[386,null,null,null,null,null,0,260,null,null,null,null,null,null,null,null,null,null,null,null,-5,140,null,null,null,null,null,null,null,null,null,null,null,null,null,null,null,null,5,270,10,290,null,null,-10,130,"2021-02-16",177,0,5]
[387,null,null,null,null,null,10,340,null,null,null,null,null,null,null,null,null,null,null,null,null,null,null,null,null,null,null,null,null,null,null,null,null,null,null,null,-10,150,5,320,0,210,null,null,-5,170,"2021-02-16",177,0,5]
[388,null,null,null,10,250,-6,120,null,null,null,null,null,null,null,null,null,null,null,null,-10,80,null,null,null,null,null,null,null,null,null,null,null,null,null,null,0,220,0,220,6,230,null,null,null,null,"2021-02-16",177,0,6]
[389,null,null,null,null,null,10,340,null,null,null,null,null,null,null,null,null,null,null,null,-5,130,null,null,null,null,null,null,null,null,null,null,null,null,null,null,5,240,-10,30,null,null,null,null,0,190,"2021-02-17",178,0,5]
[390,null,null,null,null,null,null,null,null,null,null,null,null,null,10,330,null,null,null,null,-4,180,null,null,null,null,null,null,null,null,null,null,null,null,null,null,4,230,-10,80,null,null,null,null,null,null,"2021-02-17",178,0,4]
[391,null,null,null,null,null,5,220,null,null,null,null,null,null,null,null,null,null,null,null,10,260,null,null,null,null,null,null,null,null,null,null,null,null,null,null,0,200,-10,130,-5,160,null,null,null,null,"2021-02-18",179,0,{"$f":"COUNT(C437:AT437)/2","v":5}]
[392,null,null,null,null,null,-10,100,null,null,null,null,null,null,null,null,null,null,null,null,5,160,null,null,null,null,10,200,null,null,null,null,null,null,null,null,0,140,-5,110,null,null,null,null,null,null,"2021-02-18",179,0,5]
[393,null,null,null,-10,-10,null,null,null,null,null,null,null,null,null,null,null,null,null,null,10,230,null,null,null,null,null,null,null,null,null,null,null,null,null,null,4,170,null,null,null,null,null,null,-4,150,"2021-02-19",180,0,4]
[394,null,-5,160,null,null,null,null,null,null,{"$f":"+(5-10)/2","v":-2.5},{"$f":"+(270+150)/2","v":210},null,null,null,null,10,280,null,null,null,null,null,null,null,null,null,null,0,180,null,null,null,null,null,null,null,null,null,null,null,null,null,null,null,null,"2021-02-19",181,0,4,{"$f":"+AW440/AX440","v":0},{"$f":"+K440","v":-2.5}]
[395,null,10,270,null,null,null,null,null,null,{"$f":"+(6-8)/2","v":-1},{"$f":"+(200+40)/2","v":120},null,null,null,null,-2,160,null,null,null,null,null,null,null,null,2,170,-8,40,null,null,null,null,null,null,null,null,null,null,null,null,null,null,null,null,"2021-02-19",181,0,5,0,-1]
[396,null,-4,200,null,null,null,null,null,null,4,260,null,null,null,null,10,400,null,null,null,null,null,null,null,null,-10,120,null,null,null,null,null,null,null,null,null,null,null,null,null,null,null,null,null,null,"2021-02-19",181,0,4]
[397,null,null,null,-10,-20,5,230,null,null,null,null,null,null,null,null,null,null,null,null,null,null,null,null,null,null,null,null,null,null,null,null,null,null,null,null,null,null,-5,70,10,270,null,null,0,140,"2021-02-21",182,0,5]
[398,null,null,null,0,210,6,220,null,null,null,null,null,null,null,null,0,210,null,null,null,null,null,null,null,null,null,null,null,null,null,null,null,null,null,null,null,null,10,290,-6,130,null,null,-10,120,"2021-02-21",182,0,6]
[399,null,null,null,10,290,null,null,null,null,null,null,null,null,null,null,-10,70,null,null,null,null,null,null,null,null,null,null,null,null,null,null,null,null,null,null,null,null,5,220,0,110,null,null,-5,80,"2021-02-21",182,0,5]
[400,null,null,null,null,null,null,null,null,null,-10,120,null,null,0,250,5,280,null,null,null,null,null,null,null,null,null,null,null,null,null,null,null,null,null,null,null,null,10,300,-5,150,null,null,null,null,"2021-02-21",182,0,5]
[401,null,null,null,null,null,null,null,null,null,null,null,null,null,null,null,null,null,null,null,0,210,null,null,null,null,null,null,null,null,null,null,null,null,null,null,-10,150,7.5,250,-5,160,null,null,7.5,250,"2021-02-22",183,0,5]
[402,null,null,null,null,null,10,300,null,null,null,null,null,null,null,null,null,null,null,null,0,240,null,null,null,null,null,null,null,null,null,null,null,null,null,null,-10,140,5,260,-5,210,null,null,null,null,"2021-02-22",183,0,5]
[403,null,null,null,-10,90,-2,130,null,null,null,null,null,null,null,null,null,null,null,null,null,null,null,null,null,null,null,null,null,null,null,null,null,null,null,null,10,300,6,210,2,190,null,null,-6,120,"2021-02-23",184,0,6]
[404,null,null,null,10,290,-2,170,null,null,null,null,null,null,null,null,null,null,null,null,null,null,null,null,null,null,null,null,null,null,null,null,null,null,null,null,-2,170,6,190,-2,170,null,null,-10,100,"2021-02-23",184,0,6]
[405,null,null,null,0,180,null,null,null,null,null,null,null,null,null,null,null,null,null,null,5,200,null,null,null,null,null,null,null,null,null,null,null,null,null,null,-5,170,10,240,null,null,null,null,-10,140,"2021-02-24",185,0,5]
[406,null,null,null,0,210,null,null,null,null,null,null,null,null,null,null,null,null,null,null,0,210,null,null,null,null,null,null,null,null,null,null,null,null,null,null,10,220,-10,160,null,null,null,null,null,null,"2021-02-25",186,0,4]
[407,null,null,null,null,null,10,340,null,null,null,null,null,null,null,null,null,null,null,null,-10,120,null,null,null,null,null,null,null,null,null,null,null,null,null,null,-5,140,5,230,null,null,null,null,0,160,"2021-02-26",187,0,5]
[408,null,null,null,-10,180,2.5,210,null,null,null,null,null,null,null,null,null,null,null,null,2.5,210,null,null,null,null,null,null,null,null,null,null,null,null,null,null,10,320,-5,200,null,null,null,null,null,null,"2021-02-26",187,0,5]
[409,null,null,null,2,200,null,null,null,null,{"$f":"+(10-2)/2","v":4},{"$f":"+(300+190)/2","v":245},null,null,-10,120,null,null,null,null,6,190,null,null,null,null,null,null,null,null,null,null,null,null,null,null,-6,170,null,null,null,null,null,null,null,null,"2021-02-27",188,0,5,{"$f":"+AW455/AX455","v":0},{"$f":"+K455","v":4}]
[410,null,null,null,-10,60,null,null,null,null,-5,130,null,null,0,170,null,null,null,null,5,190,null,null,null,null,null,null,null,null,null,null,null,null,null,null,10,350,null,null,null,null,null,null,null,null,"2021-02-27",188,0,5]
[411,null,null,null,7.5,270,0,260,null,null,null,null,null,null,null,null,null,null,null,null,null,null,null,null,null,null,null,null,null,null,null,null,null,null,null,null,-5,200,7.5,270,null,null,null,null,-10,0,"2021-02-28",189,0,5]
[412,null,null,null,-6,140,null,null,null,null,null,null,null,null,null,null,null,null,null,null,-2,160,null,null,null,null,null,null,null,null,null,null,null,null,null,null,-10,80,10,280,6,190,null,null,2,170,"2021-02-28",189,0,6]
[413,null,null,null,-5,190,null,null,null,null,null,null,null,null,null,null,null,null,null,null,2.5,210,null,null,null,null,null,null,null,null,null,null,null,null,null,null,2.5,210,10,260,-10,-20,null,null,null,null,"2021-02-28",189,0,5]
[414,null,null,null,-10,-20,null,null,null,null,null,null,null,null,null,null,null,null,null,null,-5,180,null,null,null,null,null,null,null,null,null,null,null,null,null,null,10,330,2.5,200,2.5,200,null,null,null,null,"2021-02-28",189,0,5]
[415,null,null,null,0,190,10,380,null,null,null,null,null,null,null,null,null,null,null,null,-5,160,null,null,null,null,null,null,null,null,null,null,null,null,null,null,-10,120,5,250,null,null,null,null,null,null,"2021-03-01",190,0,5]
[416,null,null,null,-5,120,5,260,null,null,null,null,null,null,null,null,null,null,null,null,0,240,null,null,null,null,null,null,null,null,null,null,null,null,null,null,10,300,-10,70,null,null,null,null,null,null,"2021-03-01",190,0,5]
[417,null,null,null,null,null,10,340,null,null,null,null,null,null,null,null,null,null,null,null,-5,190,null,null,null,null,null,null,null,null,null,null,null,null,null,null,null,null,-10,70,0,210,null,null,5,270,"2021-03-02",191,0,5]
[418,null,null,null,null,null,2,250,null,null,null,null,null,null,null,null,null,null,null,null,-6,150,null,null,null,null,null,null,null,null,null,null,null,null,null,null,8,260,8,260,-10,110,null,null,-2,210,"2021-03-02",191,0,6]
[419,null,null,null,-6,130,6,210,null,null,null,null,null,null,null,null,null,null,null,null,10,240,null,null,null,null,null,null,null,null,null,null,null,null,null,null,2,190,-10,90,-2,150,null,null,null,null,"2021-03-02",191,0,6]
[420,null,null,null,-10,120,-2,150,null,null,null,null,null,null,null,null,null,null,null,null,2,180,null,null,null,null,null,null,null,null,null,null,null,null,null,null,-6,140,6,190,10,270,null,null,null,null,"2021-03-02",191,0,6]
[421,null,null,null,10,270,null,null,null,null,{"$f":"+(4-10)/2","v":-3},{"$f":"+(220+80)/2","v":150},null,null,null,null,null,null,null,null,-6,140,null,null,null,null,null,null,null,null,null,null,null,null,null,null,4,220,-2,150,null,null,null,null,null,null,"2021-03-03",192,0,5,{"$f":"+AW467/AX467","v":0},{"$f":"+K467","v":-3}]
[422,null,null,null,null,null,null,null,null,null,null,null,null,null,null,null,null,null,null,null,-10,130,null,null,null,null,null,null,null,null,null,null,null,null,null,null,10,290,-2.5,180,-2.5,180,null,null,5,260,"2021-03-04",193,0,5]
[423,null,null,null,-5,110,null,null,null,null,null,null,null,null,null,null,null,null,null,null,5,190,null,null,null,null,null,null,null,null,null,null,null,null,null,null,0,140,-10,70,10,260,null,null,null,null,"2021-03-04",193,0,{"$f":"COUNT(C469:AT469)/2","v":5}]
[424,null,null,null,0,140,null,null,null,null,null,null,null,null,null,null,null,null,null,null,-10,20,null,null,null,null,null,null,null,null,null,null,null,null,null,null,-5,130,10,240,null,null,null,null,5,160,"2021-03-05",194,0,5]
[{"$f":"+A470+1","v":425},null,null,null,-10,60,null,null,null,null,null,null,null,null,null,null,5,270,null,null,0,210,null,null,null,null,null,null,null,null,null,null,null,null,null,null,10,280,-5,120,null,null,null,null,null,null,"2021-03-05",194,0,5]
[426,null,null,null,10,240,2.5,190,null,null,null,null,null,null,null,null,null,null,null,null,2.5,190,null,null,null,null,null,null,null,null,null,null,null,null,null,null,null,null,null,null,-10,90,null,null,-5,150,"2021-03-06",195,0,5]
[427,null,null,null,2,140,6,160,null,null,null,null,null,null,-10,40,null,null,null,null,-6,90,null,null,null,null,null,null,null,null,null,null,null,null,null,null,null,null,null,null,10,190,null,null,-2,100,"2021-03-06",195,0,6]
[428,null,null,null,0,150,-5,120,null,null,null,null,null,null,null,null,null,null,null,null,10,270,5,260,null,null,null,null,null,null,null,null,null,null,null,null,-10,50,null,null,null,null,null,null,null,null,"2021-03-06",195,0,5]
[429,null,null,null,6,280,null,null,null,null,null,null,null,null,10,290,null,null,null,null,2,200,null,null,null,null,null,null,null,null,null,null,null,null,null,null,-6,130,-2,170,null,null,null,null,-10,110,"2021-03-08",196,0,6]
[430,null,null,null,-7.5,160,null,null,null,null,null,null,null,null,10,250,null,null,null,null,0,220,null,null,null,null,null,null,null,null,null,null,null,null,null,null,-7.5,160,5,240,null,null,null,null,null,null,"2021-03-08",196,0,5]
[431,null,null,null,null,null,10,270,null,null,null,null,null,null,6,230,null,null,null,null,-10,100,null,null,null,null,null,null,null,null,null,null,null,null,null,null,2,190,-4,180,null,null,null,null,-4,180,"2021-03-09",197,0,6]
[432,null,null,null,null,null,-10,70,null,null,-2,140,null,null,null,null,null,null,null,null,8,240,null,null,null,null,null,null,null,null,null,null,8,240,null,null,-6,130,2,230,null,null,null,null,null,null,"2021-03-09",197,0,6]
[433,null,null,null,null,null,2,230,null,null,null,null,null,null,10,270,null,null,null,null,6,250,null,null,null,null,null,null,null,null,null,null,null,null,null,null,-10,70,-6,170,null,null,null,null,-2,190,"2021-03-12",200,0,6]
[434,null,null,null,-10,140,2,230,null,null,null,null,null,null,10,280,null,null,null,null,6,250,null,null,null,null,null,null,null,null,null,null,null,null,null,null,-6,180,-2,210,null,null,null,null,null,null,"2021-03-12",200,0,{"$f":"COUNT(C480:AT480)/2","v":6}]
[435,null,null,null,-6,150,0,180,null,null,null,null,null,null,-10,140,null,null,null,null,10,320,null,null,null,null,null,null,null,null,null,null,null,null,null,null,6,270,0,180,null,null,null,null,null,null,"2021-03-12",200,0,6]
[436,null,null,null,8,270,null,null,null,null,null,null,null,null,null,null,null,null,null,null,2,240,null,null,null,null,null,null,null,null,null,null,null,null,null,null,8,270,-2,200,-8,90,null,null,-8,90,"2021-03-13",201,0,6]
[437,null,null,null,-6,80,0,150,null,null,null,null,null,null,null,null,null,null,null,null,10,270,null,null,null,null,null,null,null,null,null,null,null,null,null,null,6,200,-10,70,0,150,null,null,null,null,"2021-03-13",201,0,6]
[438,null,null,null,-6,100,-2,140,null,null,null,null,null,null,null,null,null,null,null,null,10,310,null,null,null,null,null,null,null,null,null,null,null,null,null,null,6,240,-10,90,2,190,null,null,null,null,"2021-03-13",201,0,6]
[439,null,null,null,-4,200,-4,200,null,null,null,null,null,null,null,null,null,null,null,null,-10,160,null,null,null,null,null,null,null,null,null,null,null,null,null,null,10,230,2,210,6,220,null,null,null,null,"2021-03-13",201,0,6]
[440,null,2.5,240,null,null,null,null,null,null,2.5,240,null,null,null,null,10,320,null,null,null,null,null,null,null,null,null,null,-10,10,null,null,-5,180,null,null,null,null,null,null,null,null,null,null,null,null,"2021-03-13",201,0,5]
[441,null,null,null,-10,80,null,null,null,null,10,300,null,null,0,190,null,null,null,null,0,190,null,null,null,null,null,null,null,null,null,null,null,null,null,null,-6,180,null,null,null,null,null,null,6,280,"2021-03-14",202,0,6]
[442,null,null,null,6,210,null,null,null,null,null,null,null,null,-4,160,null,null,null,null,10,310,null,null,null,null,null,null,null,null,null,null,null,null,null,null,-10,80,null,null,2,200,null,null,-4,160,"2021-03-14",202,0,6]
[443,null,null,null,2,200,null,null,null,null,null,null,null,null,-6,170,null,null,null,null,10,260,null,null,null,null,null,null,null,null,null,null,null,null,null,null,-10,160,null,null,-2,180,null,null,6,210,"2021-03-14",202,0,6]
[444,null,null,null,-10,160,10,320,null,null,-5,210,null,null,4,300,5,260,null,null,0,240,null,null,null,null,null,null,null,null,null,null,null,null,null,null,-4,250,-10,180,10,350,null,null,null,null,"2021-03-14",202,0,9]
[445,null,null,null,4,220,-5,140,null,null,-10,100,null,null,10,360,2.5,170,null,null,10,280,null,null,null,null,null,null,null,null,null,null,null,null,null,null,-4,130,2.5,170,-10,110,null,null,null,null,"2021-03-14",202,0,9]
[446,null,null,null,-4,180,null,null,null,null,{"$f":"+(10+4)/2","v":7},{"$f":"+(240+220)/2","v":230},null,null,null,null,4,220,null,null,-10,150,null,null,null,null,null,null,null,null,null,null,null,null,null,null,null,null,-4,180,null,null,null,null,null,null,"2021-03-14",202,0,5,{"$f":"+AW492/AX492","v":0},{"$f":"+K492","v":7}]
[447,null,null,null,2,160,10,220,null,null,null,null,null,null,null,null,null,null,null,null,6,180,null,null,null,null,null,null,null,null,null,null,null,null,null,null,-10,130,-4,150,-4,150,null,null,null,null,"2021-03-15",203,0,6]
[448,null,null,null,0,190,null,null,null,null,null,null,null,null,null,null,null,null,null,null,5,290,null,null,null,null,null,null,null,null,null,null,null,null,null,null,10,340,-10,150,-5,170,null,null,null,null,"2021-03-15",203,0,5]
[449,null,null,null,null,null,-5,180,null,null,null,null,null,null,null,null,null,null,null,null,0,190,null,null,null,null,null,null,null,null,null,null,null,null,null,null,null,null,10,280,5,230,null,null,-10,80,"2021-03-16",204,{"$f":"+AI495+AE495+Y495+W495+U495+S495+Q495+O495+M495+I495+G495+E495+C495+AG495+K495+AS495+AZ495+AA495+AC495+AK495+AM495+AO495+AQ495","v":0},5]
[450,null,null,null,null,null,-2,190,null,null,null,null,null,null,null,null,null,null,null,null,-8,180,null,null,null,null,null,null,null,null,null,null,null,null,null,null,-8,180,10,270,2,210,null,null,6,210,"2021-03-16",204,0,6]
[451,null,null,null,null,null,10,300,null,null,null,null,null,null,null,null,null,null,null,null,5,220,null,null,null,null,null,null,null,null,null,null,null,null,null,null,0,190,-10,50,-5,180,null,null,null,null,"2021-03-16",204,0,5]
[452,null,null,null,5,250,null,null,null,null,null,null,null,null,-5,160,null,null,null,null,10,270,null,null,null,null,null,null,null,null,null,null,null,null,null,null,-10,140,0,170,null,null,null,null,null,null,"2021-03-17",205,0,5]
[453,null,null,null,8,250,2,240,null,null,null,null,null,null,null,null,null,null,null,null,-10,160,null,null,null,null,null,null,null,null,null,null,null,null,null,null,8,250,-6,150,null,null,null,null,-2,200,"2021-03-18",206,0,6]
[454,null,null,null,10,260,6,240,null,null,null,null,null,null,null,null,null,null,null,null,-10,80,null,null,null,null,null,null,null,null,null,null,null,null,null,null,-2,200,2,210,-6,160,null,null,null,null,"2021-03-18",206,0,6]
[455,null,null,null,null,null,10,260,null,null,null,null,null,null,null,null,null,null,null,null,-10,130,null,null,null,null,null,null,null,null,null,null,null,null,null,null,0,170,5,220,null,null,null,null,-5,150,"2021-03-19",207,0,5]
[456,null,null,null,-10,20,0,180,null,null,null,null,null,null,null,null,null,null,null,null,10,320,null,null,null,null,null,null,null,null,null,null,null,null,null,null,5,280,-5,110,null,null,null,null,null,null,"2021-03-19",207,0,{"$f":"COUNT(C502:AT502)/2","v":5}]
[457,null,null,null,-10,170,null,null,null,null,4,250,null,null,10,280,null,null,null,null,-4,180,null,null,null,null,null,null,null,null,null,null,null,null,null,null,null,null,null,null,null,null,null,null,null,null,"2021-03-19",207,0,4]
[458,null,10,290,-10,140,null,null,null,null,-6,180,null,null,null,null,-2,200,null,null,6,270,null,null,null,null,null,null,null,null,null,null,null,null,null,null,null,null,2,250,null,null,null,null,null,null,"2021-03-19",208,0,6]
[459,null,-4,160,2,190,null,null,null,null,-10,150,null,null,null,null,10,280,null,null,6,230,null,null,null,null,null,null,-4,160,null,null,null,null,null,null,null,null,null,null,null,null,null,null,null,null,"2021-03-19",208,0,6]
[460,null,10,280,0,160,null,null,null,null,6,230,null,null,null,null,-8,140,null,null,0,160,null,null,null,null,null,null,-8,140,null,null,null,null,null,null,null,null,null,null,null,null,null,null,null,null,"2021-03-19",208,0,6]
[461,null,null,null,null,null,null,null,null,null,10,310,null,null,-10,190,null,null,null,null,-2.5,210,null,null,null,null,null,null,null,null,null,null,null,null,null,null,5,240,null,null,null,null,null,null,-2.5,210,"2021-03-21",209,0,5]
[462,null,null,null,null,null,null,null,null,null,null,null,null,null,null,null,null,null,null,null,-10,10,null,null,null,null,null,null,null,null,null,null,null,null,null,null,0,170,10,270,-5,150,null,null,5,220,"2021-03-22",210,0,5]
[463,null,null,null,null,null,null,null,null,null,null,null,null,null,null,null,null,null,null,null,-5,200,null,null,null,null,null,null,null,null,null,null,null,null,null,null,10,230,-10,120,0,210,null,null,5,220,"2021-03-22",210,0,5]
[464,null,null,null,-10,70,-2,200,null,null,null,null,null,null,null,null,null,null,null,null,-6,150,null,null,null,null,null,null,null,null,null,null,null,null,null,null,4,240,10,310,4,240,null,null,null,null,"2021-03-22",210,0,6]
[465,null,null,null,null,null,5,250,null,null,null,null,null,null,null,null,null,null,null,null,-7.5,110,null,null,null,null,null,null,null,null,null,null,null,null,null,null,null,null,-7.5,110,10,300,null,null,0,120,"2021-03-23",211,0,5]
[466,null,null,null,null,null,6,230,null,null,null,null,null,null,null,null,null,null,null,null,-2,170,null,null,null,null,null,null,null,null,null,null,null,null,null,null,2,210,10,250,-10,110,null,null,-6,180,"2021-03-23",211,0,6]
[467,null,null,null,-2,180,-10,150,null,null,null,null,null,null,null,null,null,null,null,null,-2,180,null,null,null,null,null,null,null,null,null,null,null,null,null,null,6,200,10,250,-2,180,null,null,null,null,"2021-03-23",211,0,6]
[468,null,null,null,null,null,null,null,null,null,null,null,null,null,null,null,null,null,null,null,-5,150,null,null,null,null,null,null,null,null,null,null,null,null,null,null,0,190,5,240,-10,140,null,null,10,280,"2021-03-24",212,0,5]
[469,null,null,null,6,210,null,null,null,null,-2,160,null,null,null,null,null,null,null,null,10,220,null,null,null,null,null,null,null,null,null,null,null,null,null,null,-10,90,-6,150,2,190,null,null,null,null,"2021-03-24",212,0,6]
[470,null,null,null,5,240,10,330,null,null,null,null,null,null,null,null,null,null,null,null,-5,190,null,null,null,null,null,null,null,null,null,null,null,null,null,null,0,210,-10,-60,null,null,null,null,null,null,"2021-03-27",215,0,5]
[471,null,null,null,-10,140,6,220,null,null,null,null,null,null,-6,190,null,null,null,null,10,270,null,null,null,null,null,null,null,null,null,null,null,null,null,null,0,200,0,200,null,null,null,null,null,null,"2021-03-27",215,0,6]
[472,null,null,null,8,200,null,null,null,null,{"$f":"+(-10+0)/2","v":-5},{"$f":"+(90+170)/2","v":130},null,null,null,null,null,null,null,null,-6,150,null,null,null,null,null,null,null,null,null,null,null,null,null,null,8,200,0,170,null,null,null,null,null,null,"2021-03-28",216,0,5,{"$f":"+AW518/AX518","v":0},{"$f":"+K518","v":-5}]
[473,null,null,null,-10,150,null,null,null,null,4,210,null,null,null,null,null,null,null,null,4,210,null,null,null,null,null,null,null,null,null,null,-2,200,null,null,10,250,-6,190,null,null,null,null,null,null,"2021-03-28",216,0,6]
[474,null,null,null,-10,110,null,null,null,null,{"$f":"+(8-2)/2","v":3},{"$f":"+(180+160)/2","v":170},null,null,null,null,null,null,null,null,8,180,null,null,null,null,null,null,null,null,null,null,null,null,null,null,-2,160,-2,160,null,null,null,null,null,null,"2021-03-28",216,0,5,{"$f":"+AW520/AX520","v":0},{"$f":"+K520","v":3}]
[475,null,null,null,4,170,10,230,null,null,null,null,null,null,null,null,null,null,null,null,-6,90,null,null,null,null,null,null,null,null,null,null,null,null,null,null,4,170,-2,120,null,null,null,null,-10,50,"2021-03-29",217,0,6]
[476,null,null,null,-2.5,210,10,330,null,null,null,null,null,null,null,null,null,null,null,null,null,null,null,null,null,null,null,null,null,null,null,null,null,null,null,null,5,280,-2.5,210,null,null,null,null,-10,110,"2021-03-29",217,0,5]
[477,null,null,null,10,220,null,null,null,null,{"$f":"+(-10+5)/2","v":-2.5},{"$f":"+(-20+200)/2","v":90},null,null,null,null,-5,170,null,null,0,180,null,null,null,null,null,null,null,null,null,null,null,null,null,null,null,null,null,null,null,null,null,null,null,null,"2021-03-29",217,0,4,{"$f":"+AW523/AX523","v":0},{"$f":"+K523","v":-2.5}]
[478,null,-10,10,null,null,null,null,null,null,{"$f":"+(-5+10)/2","v":2.5},{"$f":"+(140+230)/2","v":185},null,null,null,null,0,170,null,null,null,null,null,null,null,null,null,null,5,200,null,null,null,null,null,null,null,null,null,null,null,null,null,null,null,null,"2021-03-29",218,0,4,{"$f":"+AW524/AX524","v":0},{"$f":"+K524","v":2.5}]
[479,null,-5,80,null,null,null,null,null,null,{"$f":"+(-10+7.5)/2","v":-1.25},{"$f":"+(60+230)/2","v":145},null,null,null,null,0,120,null,null,null,null,null,null,null,null,null,null,7.5,230,null,null,null,null,null,null,null,null,null,null,null,null,null,null,null,null,"2021-03-29",218,0,4,0,-1.25]
[480,null,2,230,null,null,null,null,null,null,{"$f":"+(-10-2+6)/3","v":-2},{"$f":"+(90+200+240)/3","v":176.66666666666666},null,null,null,null,10,270,null,null,null,null,null,null,null,null,null,null,-6,140,null,null,null,null,null,null,null,null,null,null,null,null,null,null,null,null,"2021-03-29",218,0,4,0,{"$f":"+K526*2","v":-4}]
[481,null,null,null,2.5,120,10,230,null,null,null,null,null,null,null,null,null,null,null,null,2.5,120,null,null,null,null,null,null,null,null,null,null,null,null,null,null,-5,90,null,null,null,null,null,null,-10,80,"2021-03-30",219,0,5]
[482,null,null,null,-2,200,4,210,null,null,null,null,null,null,10,260,null,null,null,null,-8,180,null,null,null,null,null,null,null,null,null,null,null,null,null,null,4,210,null,null,-8,180,null,null,null,null,"2021-03-30",219,0,6]
[483,null,null,null,6,250,null,null,null,null,null,null,null,null,-10,-20,null,null,null,null,2,200,null,null,null,null,null,null,null,null,null,null,null,null,null,null,-6,30,10,320,-2,150,null,null,null,null,"2021-03-30",219,0,6]
[484,null,null,null,null,null,null,null,null,null,-10,80,null,null,5,250,null,null,null,null,-5,220,null,null,null,null,null,null,null,null,null,null,null,null,null,null,0,240,10,300,null,null,null,null,null,null,"2021-03-31",220,0,5]
[485,null,null,null,null,null,null,null,null,null,{"$f":"+(0-10)/2","v":-5},{"$f":"+(210+40)/2","v":125},null,null,null,null,5,240,null,null,null,null,null,null,null,null,10,320,-5,110,null,null,null,null,null,null,null,null,null,null,null,null,null,null,null,null,"2021-03-31",221,0,4,{"$f":"+AW531/AX531","v":0},{"$f":"+K531","v":-5}]
[486,null,-2,130,null,null,null,null,null,null,{"$f":"+(2+6)/2","v":4},{"$f":"+(210+230)/2","v":220},null,null,null,null,10,240,null,null,null,null,null,null,null,null,-10,80,-6,100,null,null,null,null,null,null,null,null,null,null,null,null,null,null,null,null,"2021-03-31",221,0,5,0,4]
[487,null,null,null,-10,70,null,null,null,null,{"$f":"+(-6+6)/2","v":0},{"$f":"+(90+290)/2","v":190},null,null,10,340,null,null,null,null,-2,170,null,null,null,null,null,null,null,null,null,null,null,null,null,null,2,180,null,null,null,null,null,null,null,null,"2021-04-01",222,0,5,{"$f":"+AW533/AX533","v":0},{"$f":"+K533","v":0}]
[488,null,null,null,-6,140,2,220,null,null,{"$f":"+(10-10)/2","v":0},{"$f":"+(300+40)/2","v":170},null,null,null,null,null,null,null,null,6,290,null,null,null,null,null,null,null,null,null,null,null,null,null,null,-2,160,null,null,null,null,null,null,null,null,"2021-04-01",222,0,5,0,0]
[{"$f":"+A534+1","v":489},null,null,null,10,270,null,null,null,null,{"$f":"+(-10+6)/2","v":-2},{"$f":"+(100+250)/2","v":175},null,null,-6,140,null,null,null,null,-2,170,null,null,null,null,null,null,null,null,null,null,null,null,null,null,2,200,null,null,null,null,null,null,null,null,"2021-04-02",223,0,5,{"$f":"+AW535/AX535","v":0},{"$f":"+K535","v":-2}]
[490,null,null,null,-4,180,null,null,null,null,null,null,null,null,10,250,null,null,null,null,4,220,null,null,null,null,null,null,null,null,null,null,null,null,null,null,-10,70,null,null,null,null,null,null,null,null,"2021-04-02",223,0,4]
[491,null,null,null,-5,180,null,null,null,null,5,230,null,null,0,210,10,280,null,null,-10,160,null,null,null,null,null,null,null,null,null,null,null,null,null,null,null,null,null,null,null,null,null,null,null,null,"2021-04-02",223,0,5]
[492,null,null,null,null,null,2,220,null,null,-10,40,null,null,-6,140,null,null,null,null,6,230,null,null,null,null,null,null,null,null,null,null,null,null,null,null,-2,180,10,350,null,null,null,null,null,null,"2021-04-03",224,0,6]
[493,null,null,null,null,null,null,null,null,null,null,null,null,null,5,270,10,370,null,null,-2.5,170,null,null,null,null,null,null,null,null,null,null,null,null,null,null,-2.5,170,-10,60,null,null,null,null,null,null,"2021-04-03",224,0,5]
[494,null,5,320,null,null,null,null,null,null,{"$f":"+(-10+0)/2","v":-5},{"$f":"+(90+110)/2","v":100},null,null,null,null,10,370,null,null,-5,100,null,null,null,null,null,null,null,null,null,null,null,null,null,null,null,null,null,null,null,null,null,null,null,null,"2021-04-03",224,0,4,{"$f":"+AW540/AX540","v":0},{"$f":"+K540","v":-5}]
[495,null,null,null,null,null,null,null,null,null,null,null,null,null,null,null,null,null,null,null,4,270,null,null,null,null,null,null,null,null,null,null,null,null,null,null,-4,250,10,280,-10,40,null,null,null,null,"2021-04-04",225,0,4]
[496,null,null,null,-10,70,null,null,null,null,null,null,null,null,null,null,null,null,null,null,5,270,null,null,null,null,null,null,null,null,null,null,null,null,null,null,-5,160,0,210,10,320,null,null,null,null,"2021-04-04",225,0,5]
[497,null,null,null,0,230,5,270,null,null,-5,200,null,null,null,null,null,null,null,null,10,320,null,null,null,null,null,null,null,null,null,null,null,null,null,null,null,null,null,null,-10,100,null,null,null,null,"2021-04-04",225,0,5]
[498,null,null,null,6,230,null,null,null,null,null,null,null,null,null,null,10,260,null,null,-6,130,null,null,null,null,null,null,null,null,null,null,null,null,null,null,null,null,-2,180,2,190,null,null,-10,70,"2021-04-05",226,0,6]
[499,null,null,null,-4,190,null,null,null,null,null,null,null,null,null,null,6,260,null,null,2,240,null,null,null,null,null,null,null,null,null,null,null,null,null,null,null,null,10,270,-10,180,null,null,-4,190,"2021-04-05",226,0,6]
[500,null,null,null,10,270,null,null,null,null,null,null,null,null,null,null,-2,240,null,null,-10,190,null,null,null,null,null,null,null,null,null,null,null,null,null,null,null,null,6,260,-6,220,null,null,2,250,"2021-04-05",226,0,6]
[501,null,null,null,2,220,-2,190,null,null,null,null,null,null,10,290,null,null,null,null,6,250,null,null,null,null,null,null,null,null,null,null,null,null,null,null,-10,140,null,null,-6,180,null,null,null,null,"2021-04-06",227,0,6]
[502,null,null,null,0,180,-5,160,null,null,null,null,null,null,null,null,null,null,null,null,10,280,null,null,null,null,null,null,null,null,null,null,null,null,null,null,-10,80,5,190,null,null,null,null,null,null,"2021-04-08",229,0,5]
[503,null,null,null,0,210,null,null,null,null,null,null,null,null,null,null,null,null,null,null,5,260,null,null,null,null,null,null,null,null,null,null,null,null,null,null,-5,120,10,300,null,null,null,null,-10,90,"2021-04-08",229,0,5]
[504,null,null,null,null,null,-4,160,null,null,-10,60,null,null,null,null,null,null,null,null,8,250,null,null,null,null,null,null,null,null,null,null,null,null,null,null,2,200,8,250,null,null,null,null,-4,160,"2021-04-09",230,0,6]
[505,null,null,null,null,null,10,220,null,null,null,null,null,null,6,180,null,null,null,null,-10,50,null,null,null,null,null,null,null,null,null,null,null,null,null,null,-6,110,2,170,null,null,null,null,-2,150,"2021-04-09",230,0,6]
[506,null,null,null,-10,20,null,null,null,null,null,null,null,null,5,180,null,null,null,null,-5,90,null,null,null,null,null,null,null,null,null,null,null,null,null,null,10,320,0,170,null,null,null,null,null,null,"2021-04-09",230,0,5]
[507,null,null,null,null,null,null,null,null,null,{"$f":"+(5-10)/2","v":-2.5},{"$f":"+(230+80)/2","v":155},null,null,-5,90,10,300,null,null,0,100,null,null,null,null,null,null,null,null,null,null,null,null,null,null,null,null,null,null,null,null,null,null,null,null,"2021-04-09",230,0,4,{"$f":"+AW553/AX553","v":0},{"$f":"+K553","v":-2.5}]
[508,null,6,230,null,null,null,null,null,null,{"$f":"+(10-4-10)/3","v":-1.3333333333333333},{"$f":"+(250+190+110)/3","v":183.33333333333334},null,null,null,null,2,220,null,null,null,null,null,null,null,null,null,null,null,null,null,null,-4,190,null,null,null,null,null,null,null,null,null,null,null,null,"2021-04-09",231,4.4408920985006262E-16,4,1.1102230246251565E-16,{"$f":"+K554*2","v":-2.6666666666666665}]
[509,null,6,200,null,null,null,null,null,null,{"$f":"+(-4-4+2)/3","v":-2},{"$f":"+(170+170+190)/3","v":176.66666666666666},null,null,null,null,10,240,null,null,null,null,null,null,null,null,null,null,null,null,null,null,-10,130,null,null,null,null,null,null,null,null,null,null,null,null,"2021-04-09",231,0,4,{"$f":"+AW555/AX555","v":0},{"$f":"+K555*2","v":-4}]
[510,null,null,null,null,null,null,null,null,null,{"$f":"+(-5+0)/2","v":-2.5},{"$f":"+(90+130)/2","v":110},null,null,null,null,null,null,null,null,-10,80,null,null,null,null,null,null,null,null,null,null,null,null,null,null,7.5,240,7.5,240,null,null,null,null,null,null,"2021-04-10",232,0,4,0,{"$f":"+K556","v":-2.5}]
[511,null,null,null,2,190,null,null,null,null,null,null,null,null,-6,130,null,null,null,null,6,210,null,null,null,null,null,null,null,null,null,null,null,null,null,null,-2,160,-10,80,null,null,null,null,10,240,"2021-04-11",233,0,6]
[512,null,null,null,-10,80,null,null,null,null,null,null,null,null,-6,210,10,280,null,null,6,260,null,null,null,null,null,null,null,null,null,null,null,null,null,null,-2,230,2,250,null,null,null,null,null,null,"2021-04-11",233,0,6]
[513,null,null,null,-6,90,null,null,null,null,null,null,null,null,-10,160,6,190,null,null,2,150,null,null,null,null,null,null,null,null,null,null,null,null,null,null,10,300,-2,120,null,null,null,null,null,null,"2021-04-11",233,{"$f":"+AI559+AE559+Y559+W559+U559+S559+Q559+O559+M559+I559+G559+E559+C559+AG559+K559+AS559+AZ559+AA559+AC559+AK559+AM559+AO559+AQ559","v":0},6]
[514,null,null,null,-10,50,null,null,null,null,{"$f":"+(0+10)/2","v":5},{"$f":"+(180+320)/2","v":250},null,null,null,null,5,240,null,null,-5,170,null,null,null,null,null,null,null,null,null,null,null,null,null,null,null,null,null,null,null,null,null,null,null,null,"2021-04-11",233,0,4,{"$f":"+AW560/AX560","v":0},{"$f":"+K560","v":5}]
[515,null,null,null,-5,170,null,null,null,null,null,null,null,null,null,null,null,null,null,null,-10,110,null,null,null,null,null,null,null,null,null,null,null,null,null,null,0,180,5,200,10,230,null,null,null,null,"2021-04-12",234,0,{"$f":"COUNT(C561:AT561)/2","v":5}]
[516,null,null,null,0,210,null,null,null,null,null,null,null,null,null,null,null,null,null,null,0,210,null,null,null,null,null,null,null,null,null,null,null,null,null,null,10,230,0,210,-10,120,null,null,null,null,"2021-04-12",234,0,5]
[517,null,null,null,null,null,4,240,null,null,null,null,null,null,null,null,null,null,null,null,-2,230,null,null,null,null,null,null,null,null,null,null,null,null,null,null,10,260,4,240,-6,190,null,null,-10,40,"2021-04-13",235,0,6]
[518,null,null,null,2,260,-2,210,null,null,null,null,null,null,null,null,null,null,null,null,10,280,null,null,null,null,null,null,null,null,null,null,null,null,null,null,6,270,-6,120,-10,100,null,null,null,null,"2021-04-13",235,0,6]
[519,null,null,null,-10,130,null,null,null,null,{"$f":"+(10-5)/2","v":2.5},{"$f":"+(210+140)/2","v":175},null,null,null,null,null,null,null,null,5,190,null,null,null,null,null,null,null,null,null,null,null,null,null,null,null,null,0,150,null,null,null,null,null,null,"2021-04-14",236,0,4,{"$f":"+AW565/AX565","v":0},{"$f":"+K565","v":2.5}]
[520,null,null,null,8,190,null,null,null,null,{"$f":"+(8+2-4)/3","v":2},{"$f":"+(190+180+170)/3","v":180},null,null,null,null,null,null,null,null,-4,170,null,null,null,null,null,null,null,null,null,null,null,null,null,null,-10,130,null,null,null,null,null,null,null,null,"2021-04-14",236,0,4,0,{"$f":"+K566*2","v":4}]
[521,null,null,null,null,null,0,190,null,null,null,null,null,null,null,null,null,null,null,null,5,220,null,null,null,null,null,null,null,null,null,null,null,null,null,null,-7.5,110,-7.5,110,null,null,null,null,10,270,"2021-04-15",237,0,5]
[522,null,null,null,-10,110,0,180,null,null,null,null,null,null,null,null,null,null,null,null,10,260,null,null,null,null,null,null,null,null,null,null,null,null,null,null,-5,130,5,190,null,null,null,null,null,null,"2021-04-15",237,0,5]
[523,null,null,null,-5,90,null,null,null,null,{"$f":"+(5+0)/2","v":2.5},{"$f":"+(200+140)/2","v":170},null,null,null,null,10,400,null,null,-10,40,null,null,null,null,null,null,null,null,null,null,null,null,null,null,null,null,null,null,null,null,null,null,null,null,"2021-04-15",237,0,4,{"$f":"+AW569/AX569","v":0},{"$f":"+K569","v":2.5}]
[524,null,null,null,null,null,null,null,null,null,{"$f":"+(6+2-2)/3","v":2},{"$f":"+(220+180+170)/3","v":190},null,null,null,null,null,null,null,null,10,250,null,null,null,null,null,null,null,null,null,null,null,null,null,null,-6,160,-10,110,null,null,null,null,null,null,"2021-04-16",238,0,4,0,{"$f":"+K570*2","v":4}]
[525,null,null,null,-2,180,null,null,null,null,{"$f":"+(6-10)/2","v":-2},{"$f":"+(240+140)/2","v":190},null,null,null,null,2,200,null,null,10,250,null,null,null,null,null,null,null,null,null,null,-6,160,null,null,null,null,null,null,null,null,null,null,null,null,"2021-04-16",238,0,5,0,{"$f":"+K571","v":-2}]
[526,null,null,null,null,null,null,null,null,null,{"$f":"+(-10+2+6)/3","v":-0.66666666666666663},{"$f":"+(110+220+230)/3","v":186.66666666666666},null,null,null,null,10,250,null,null,-4,170,null,null,null,null,null,null,null,null,null,null,-4,170,null,null,null,null,null,null,null,null,null,null,null,null,"2021-04-16",238,2.2204460492503131E-16,4,5.5511151231257827E-17,{"$f":"+K572*2","v":-1.3333333333333333}]
[527,null,null,null,null,null,null,null,null,null,{"$f":"+(5-5)/2","v":0},{"$f":"+(260+110)/2","v":185},null,null,null,null,10,270,null,null,0,140,null,null,null,null,null,null,null,null,null,null,null,null,null,null,null,null,-10,-20,null,null,null,null,null,null,"2021-04-16",238,0,4,0,{"$f":"+K573","v":0}]
[528,null,2,140,null,null,null,null,null,null,{"$f":"+(-2+6-6)/3","v":-0.66666666666666663},{"$f":"+(120+180+100)/3","v":133.33333333333334},null,null,null,null,10,250,null,null,null,null,null,null,null,null,null,null,-10,60,null,null,null,null,null,null,null,null,null,null,null,null,null,null,null,null,"2021-04-16",239,0,4,0,{"$f":"+K574*2","v":-1.3333333333333333}]
[529,null,0,190,null,null,null,null,null,null,{"$f":"+(8+0-6)/3","v":0.66666666666666663},{"$f":"+(220+190+160)/3","v":190},null,null,null,null,8,220,null,null,null,null,null,null,null,null,null,null,-10,100,null,null,null,null,null,null,null,null,null,null,null,null,null,null,null,null,"2021-04-16",239,0,4,0,{"$f":"+K575*2","v":1.3333333333333333}]
[530,null,null,null,null,null,0,200,10,250,-5,120,null,null,null,null,null,null,null,null,null,null,null,null,null,null,null,null,null,null,null,null,null,null,null,null,-10,90,5,220,null,null,null,null,null,null,"2021-04-17",240,0,5]
[531,null,null,null,0,260,-7.5,220,null,null,null,null,null,null,null,null,null,null,null,null,10,310,null,null,null,null,null,null,null,null,null,null,null,null,null,null,-7.5,220,5,270,null,null,null,null,null,null,"2021-04-19",242,0,{"$f":"COUNT(C577:AT577)/2","v":5}]
[532,null,null,null,null,null,10,240,null,null,null,null,null,null,null,null,null,null,null,null,-5,170,null,null,null,null,null,null,null,null,null,null,null,null,null,null,0,180,-10,60,null,null,null,null,5,220,"2021-04-20",243,0,5]
[533,null,null,null,0,130,null,null,null,null,null,null,null,null,null,null,null,null,null,null,6,160,null,null,null,null,null,null,null,null,null,null,null,null,null,null,10,220,0,130,-6,120,null,null,-10,80,"2021-04-20",243,0,6]
[534,null,null,null,0,170,null,null,null,null,null,null,null,null,null,null,null,null,null,null,-5,120,null,null,null,null,null,null,null,null,null,null,null,null,null,null,-10,100,5,230,10,330,null,null,null,null,"2021-04-20",243,0,5]
[535,null,null,null,10,270,null,null,null,null,null,null,null,null,null,null,null,null,null,null,-5,150,null,null,null,null,null,null,null,null,null,null,null,null,null,null,0,230,5,250,null,null,null,null,-10,140,"2021-04-21",244,0,5]
[536,null,null,null,6,210,-2,190,null,null,null,null,null,null,10,250,null,null,null,null,2,200,null,null,null,null,null,null,null,null,null,null,null,null,null,null,null,null,-6,170,null,null,null,null,-10,120,"2021-04-23",246,0,6]
[537,null,null,null,-10,100,10,300,null,null,null,null,null,null,2.5,270,null,null,null,null,2.5,270,null,null,null,null,null,null,null,null,null,null,null,null,null,null,null,null,-5,110,null,null,null,null,-2,160,"2021-04-23",246,-2,6]
[538,null,null,null,-10,90,2,200,null,null,null,null,null,null,null,null,null,null,null,null,10,270,null,null,null,null,null,null,null,null,null,null,null,null,null,null,6,250,null,null,-6,110,null,null,6,220,"2021-04-24",247,8,6]
[539,null,null,null,-10,130,-4,190,null,null,null,null,null,null,null,null,null,null,null,null,2,210,null,null,null,null,null,null,null,null,null,null,null,null,null,null,10,290,null,null,-4,190,null,null,null,null,"2021-04-24",247,-6,5]
[540,null,null,null,-5,150,-10,140,null,null,null,null,null,null,null,null,null,null,null,null,0,190,null,null,null,null,null,null,null,null,null,null,null,null,null,null,5,210,null,null,10,270,null,null,null,null,"2021-04-24",247,0,5]
[541,null,null,null,null,null,null,null,null,null,{"$f":"+(-10+6+2)/3","v":-0.66666666666666663},{"$f":"+(150+250+230)/3","v":210},null,null,null,null,null,null,null,null,10,310,null,null,null,null,null,null,null,null,null,null,null,null,null,null,-2,220,-6,170,null,null,null,null,null,null,"2021-04-25",248,0,4,{"$f":"+AW587/AX587","v":0},{"$f":"+K587*2","v":-1.3333333333333333}]
[542,null,null,null,0,170,10,260,null,null,null,null,null,null,null,null,null,null,null,null,5,190,null,null,null,null,null,null,null,null,null,null,null,null,null,null,-5,120,-10,80,null,null,null,null,null,null,"2021-04-26",249,0,5]
[543,null,null,null,null,null,10,290,null,null,null,null,null,null,null,null,null,null,null,null,-5,140,null,null,null,null,null,null,null,null,null,null,null,null,null,null,5,210,-10,100,0,200,null,null,null,null,"2021-04-27",250,0,5]
[544,null,null,null,10,270,-10,20,null,null,null,null,null,null,null,null,null,null,null,null,4,260,null,null,null,null,null,null,null,null,null,null,null,null,null,null,-6,140,-2,240,4,260,null,null,null,null,"2021-04-27",250,0,6]
[545,null,null,null,-10,100,null,null,null,null,{"$f":"+(10-5)/2","v":2.5},{"$f":"+(390+180)/2","v":285},null,null,null,null,5,280,null,null,0,190,null,null,null,null,null,null,null,null,null,null,null,null,null,null,null,null,null,null,null,null,null,null,null,null,"2021-04-28",251,0,4,{"$f":"+AW591/AX591","v":0},{"$f":"+K591","v":2.5}]
[546,null,-6,40,null,null,null,null,null,null,{"$f":"+(4-2+4)/3","v":2},{"$f":"+(260+120+260)/3","v":213.33333333333334},null,null,null,null,10,270,null,null,null,null,null,null,null,null,null,null,-10,20,null,null,null,null,null,null,null,null,null,null,null,null,null,null,null,null,"2021-04-30",253,0,4,{"$f":"+AW592/AX592","v":0},{"$f":"+K592*2","v":4}]
[547,null,null,null,-2,180,null,null,null,null,null,null,null,null,-10,130,10,270,null,null,6,210,null,null,null,null,null,null,null,null,null,null,null,null,null,null,-6,160,null,null,null,null,null,null,2,200,"2021-05-01",254,0,6]
[548,null,null,null,null,null,null,null,null,null,null,null,null,null,-8,140,10,200,null,null,4,190,null,null,null,null,null,null,null,null,null,null,null,null,null,null,4,190,-8,140,null,null,null,null,-2,150,"2021-05-01",254,0,6]
[549,null,null,null,-2,160,null,null,null,null,10,220,null,null,-10,120,2,190,null,null,6,200,null,null,null,null,null,null,null,null,null,null,null,null,null,null,null,null,-6,140,null,null,null,null,null,null,"2021-05-01",254,0,6]
[550,null,null,null,10,190,6,180,null,null,null,null,null,null,null,null,2,140,null,null,-4,130,null,null,null,null,null,null,null,null,null,null,null,null,null,null,-4,130,-10,90,null,null,null,null,null,null,"2021-05-01",254,0,6]
[551,null,null,null,0,240,null,null,null,null,{"$f":"+(7.5-10)/2","v":-1.25},{"$f":"+(280+180)/2","v":230},null,null,null,null,null,null,null,null,7.5,280,null,null,null,null,null,null,null,null,null,null,null,null,null,null,null,null,-5,190,null,null,null,null,null,null,"2021-05-01",255,0,4,{"$f":"+AW597/AX597","v":0},{"$f":"+K597","v":-1.25}]
[552,null,6,260,null,null,null,null,null,null,{"$f":"+(-10-2-6)/3","v":-6},{"$f":"+(100+220+170)/3","v":163.33333333333334},null,null,null,null,10,280,null,null,null,null,null,null,null,null,null,null,2,230,null,null,null,null,null,null,null,null,null,null,null,null,null,null,null,null,"2021-05-01",256,0,4,0,{"$f":"+K598*2","v":-12}]
[{"$f":"+A598+1","v":553},null,6,210,null,null,null,null,null,null,{"$f":"+(-2-2-2)/3","v":-2},{"$f":"+(160+160+160)/3","v":160},null,null,null,null,10,220,null,null,null,null,null,null,null,null,null,null,-10,70,null,null,null,null,null,null,null,null,null,null,null,null,null,null,null,null,"2021-05-01",256,0,4,{"$f":"+AW599/AX599","v":0},{"$f":"+K599*2","v":-4}]
[554,null,null,null,-6,140,6,210,null,null,null,null,null,null,2,180,null,null,null,null,-10,40,null,null,null,null,null,null,null,null,null,null,null,null,null,null,-2,150,10,220,null,null,null,null,null,null,"2021-05-03",257,0,6]
[null,null,null,null,null,null,null,null,null,null,{"$f":"+(-6+0)/2","v":-3},{"$f":"+(140+170)/2","v":155},null,null,6,270,10,280,null,null,-10,60,null,null,null,null,null,null,null,null,null,null,0,170,null,null,null,null,null,null,null,null,null,null,null,null,"2021-05-03",257,0,{"$f":"COUNT(C601:AT601)/2","v":5},{"$f":"+AW601/AX601","v":0},{"$f":"+K601","v":-3}]
[null,null,null,null,2,170,null,null,null,null,{"$f":"+(-10-6)/2","v":-8},{"$f":"+(100+130)/2","v":115},null,null,null,null,null,null,null,null,8,250,null,null,null,null,null,null,null,null,null,null,null,null,null,null,-2,160,8,250,null,null,null,null,null,null,"2021-05-05",259,0,5,0,-8]
[null,null,null,null,-10,140,2,180,null,null,{"$f":"+(6-4)/2","v":1},{"$f":"+(270+170)/2","v":220},null,null,null,null,null,null,null,null,-4,170,null,null,null,null,null,null,null,null,null,null,null,null,null,null,null,null,10,310,null,null,null,null,null,null,"2021-05-07",261,0,5,{"$f":"+AW603/AX603","v":0},{"$f":"+K603","v":1}]
[null,null,null,null,10,250,null,null,null,null,null,null,null,null,5,210,null,null,null,null,-5,140,null,null,null,null,null,null,null,null,null,null,null,null,null,null,-10,70,0,150,null,null,null,null,null,null,"2021-05-07",261,0,5]
[null,null,null,null,2,210,null,null,null,null,{"$f":"+(-10+6-2)/3","v":-2},{"$f":"+(240+40+180)/3","v":153.33333333333334},null,null,-6,140,null,null,null,null,10,240,null,null,null,null,null,null,null,null,null,null,null,null,null,null,null,null,null,null,null,null,null,null,-2,170,"2021-05-08",262,-2,5,{"$f":"+AW605/AX605","v":-0.4},{"$f":"+K605*2","v":-4}]
[null,null,null,null,6,220,-6,150,null,null,null,null,null,null,2,200,null,null,null,null,10,260,null,null,null,null,null,null,null,null,null,null,-10,130,null,null,null,null,null,null,null,null,null,null,null,null,"2021-05-08",262,2,5]
[null,null,null,null,-2.5,190,-2.5,190,null,null,null,null,null,null,5,220,null,null,null,null,-10,50,null,null,null,null,null,null,null,null,null,null,null,null,null,null,10,240,null,null,null,null,null,null,null,null,"2021-05-08",262,0,5]
[null,null,null,null,6,190,null,null,null,null,null,null,null,null,null,null,0,170,null,null,-10,140,null,null,null,null,null,null,null,null,null,null,null,null,null,null,-6,150,10,240,null,null,null,null,0,170,"2021-05-09",263,0,6]
[null,null,null,null,-6,130,null,null,null,null,null,null,null,null,null,null,0,220,null,null,0,220,null,null,null,null,null,null,null,null,null,null,null,null,null,null,-10,110,10,250,null,null,null,null,6,240,"2021-05-09",263,0,6]
[null,null,null,null,6,260,null,null,null,null,-4,200,null,null,null,null,2,210,null,null,-4,200,null,null,null,null,null,null,null,null,null,null,null,null,null,null,-10,100,10,270,null,null,null,null,null,null,"2021-05-09",263,0,6]
[null,null,null,null,0,190,null,null,null,null,-10,90,null,null,null,null,0,190,null,null,6,230,null,null,null,null,null,null,null,null,null,null,null,null,null,null,-6,150,10,240,null,null,null,null,null,null,"2021-05-09",263,0,6]
[null,null,null,null,-10,160,null,null,null,null,{"$f":"+(-4+8)/2","v":2},{"$f":"+(200+250)/2","v":225},null,null,null,null,8,250,null,null,-4,200,null,null,null,null,null,null,null,null,null,null,2,210,null,null,null,null,null,null,null,null,null,null,null,null,"2021-05-09",263,0,5,{"$f":"+AW612/AX612","v":0},{"$f":"+K612","v":2}]
[null,null,null,null,-10,100,null,null,null,null,10,300,null,null,null,null,5,230,null,null,0,220,null,null,null,null,null,null,null,null,null,null,null,null,null,null,null,null,-5,120,null,null,null,null,null,null,"2021-05-10",264,0,5]
[null,null,0,210,0,210,null,null,null,null,-6,120,null,null,null,null,8,250,null,null,8,250,null,null,null,null,null,null,null,null,null,null,null,null,null,null,null,null,-10,50,null,null,null,null,null,null,"2021-05-10",264,0,6]
[null,null,null,null,2,260,null,null,null,null,-10,70,null,null,6,280,null,null,null,null,10,290,null,null,null,null,null,null,null,null,null,null,null,null,null,null,-4,210,-4,210,null,null,null,null,null,null,"2021-05-11",265,0,6]
[null,null,null,null,6,200,-6,180,null,null,null,null,null,null,0,190,null,null,null,null,-10,140,null,null,null,null,null,null,null,null,null,null,null,null,null,null,10,210,0,190,null,null,null,null,null,null,"2021-05-11",265,0,6]
[null,null,null,null,5,260,null,null,null,null,{"$f":"+(0-10)/2","v":-5},{"$f":"+(150+70)/2","v":110},null,null,null,null,10,310,null,null,-5,100,null,null,null,null,null,null,null,null,null,null,null,null,null,null,null,null,null,null,null,null,null,null,null,null,"2021-05-11",265,0,4,{"$f":"+AW617/AX617","v":0},{"$f":"+K617","v":-5}]
[null,null,null,null,-2.5,180,null,null,null,null,-10,120,null,null,null,null,10,270,null,null,-2.5,180,null,null,null,null,null,null,null,null,null,null,null,null,null,null,null,null,5,220,null,null,null,null,null,null,"2021-05-13",266,0,5]
[null,null,null,null,-10,90,null,null,null,null,-4,140,null,null,null,null,2,180,null,null,10,290,null,null,null,null,null,null,null,null,null,null,null,null,null,null,6,240,-4,140,null,null,null,null,null,null,"2021-05-13",266,0,6]
[null,null,null,null,null,null,null,null,null,null,{"$f":"+(-6+4)/2","v":-1},{"$f":"+(160+240)/2","v":200},null,null,-2,200,null,null,null,null,4,240,null,null,null,null,null,null,null,null,null,null,null,null,null,null,10,280,null,null,null,null,null,null,-10,100,"2021-05-14",267,0,5,{"$f":"+AW620/AX620","v":0},{"$f":"+K620","v":-1}]
[null,null,null,null,10,230,-4,120,null,null,-10,100,null,null,-4,120,null,null,null,null,2,150,null,null,null,null,null,null,null,null,null,null,null,null,null,null,6,190,null,null,null,null,null,null,null,null,"2021-05-14",267,0,6]
[null,null,null,null,-10,50,-5,60,null,null,null,null,null,null,0,150,null,null,null,null,10,210,null,null,null,null,null,null,null,null,null,null,null,null,null,null,5,200,null,null,null,null,null,null,null,null,"2021-05-14",267,0,5]
[null,null,null,null,-6,140,null,null,null,null,{"$f":"+(-10+4+10)/3","v":1.3333333333333333},{"$f":"+(80+220+230)/3","v":176.66666666666666},null,null,null,null,4,220,null,null,-2,190,null,null,null,null,null,null,null,null,null,null,null,null,null,null,null,null,null,null,null,null,null,null,null,null,"2021-05-16",268,{"$f":"+AI623+AE623+Y623+W623+U623+S623+Q623+O623+M623+I623+G623+E623+C623+AG623+K623+AS623+AZ623+AA623+AC623+AK623+AM623+AO623+AQ623","v":-4.4408920985006262E-16},4,{"$f":"+AW623/AX623","v":-1.1102230246251565E-16},{"$f":"+K623*2","v":2.6666666666666665}]
[null,null,null,null,2,170,null,null,null,null,{"$f":"+(-2-6+10-2+6-6)/6","v":0},{"$f":"+(150+130+260+160+180+70)/6","v":158.33333333333334},null,null,-10,20,10,240,null,null,2,180,null,null,6,200,null,null,null,null,null,null,null,null,null,null,null,null,-10,20,null,null,null,null,null,null,"2021-05-16",268,0,7,{"$f":"+AW624/AX624","v":0},{"$f":"+K624*5","v":0}]
[null,null,null,null,null,null,null,null,null,null,{"$f":"+(-10-4)/2","v":-7},{"$f":"+(120+190)/2","v":155},null,null,2,200,10,270,null,null,null,null,null,null,null,null,null,null,null,null,null,null,null,null,null,null,6,260,-4,190,null,null,null,null,null,null,"2021-05-16",268,0,5,{"$f":"+AW625/AX625","v":0},{"$f":"+K625","v":-7}]
[null,null,null,null,6,230,null,null,null,null,{"$f":"+(10-8-8)/3","v":-2},{"$f":"+(270+170+180)/3","v":206.66666666666666},null,null,null,null,null,null,null,null,2,210,null,null,null,null,null,null,null,null,null,null,null,null,null,null,null,null,-2,180,null,null,null,null,null,null,"2021-05-17",269,0,4,0,{"$f":"+K626*2","v":-4}]
[null,null,null,null,5,160,null,null,null,null,null,null,null,null,-10,-40,null,null,null,null,10,270,null,null,null,null,null,null,null,null,null,null,null,null,null,null,0,100,-5,70,null,null,null,null,null,null,"2021-05-17",269,0,5]
[null,null,null,null,null,null,10,370,null,null,{"$f":"+(6+2-2)/3","v":2},{"$f":"+(240+220+210)/3","v":223.33333333333334},null,null,null,null,null,null,null,null,-6,180,null,null,null,null,null,null,null,null,null,null,null,null,null,null,null,null,-10,70,null,null,null,null,null,null,"2021-05-18",270,0,4,{"$f":"+AW628/AX628","v":0},{"$f":"+K628*2","v":4}]
[null,null,null,null,-5,170,null,null,null,null,-10,120,null,null,0,210,null,null,null,null,5,290,null,null,null,null,null,null,null,null,null,null,null,null,null,null,10,300,null,null,null,null,null,null,null,null,"2021-05-19",271,0,5]
[null,null,null,null,null,null,null,null,null,null,10,310,null,null,-10,170,null,null,null,null,-4,260,null,null,null,null,null,null,null,null,null,null,null,null,null,null,null,null,4,270,null,null,null,null,null,null,"2021-05-20",272,0,4]
[null,null,null,null,2,250,null,null,null,null,{"$f":"+(6+-10-2)/3","v":-2},{"$f":"+(260+150+210)/3","v":206.66666666666666},null,null,null,null,10,270,null,null,-6,190,null,null,null,null,null,null,null,null,null,null,null,null,null,null,null,null,null,null,null,null,null,null,null,null,"2021-05-22",273,0,4,{"$f":"+AW631/AX631","v":0},{"$f":"+K631*2","v":-4}]
[null,null,null,null,-10,50,null,null,null,null,{"$f":"+(6+2)/2","v":4},{"$f":"+(250+220)/2","v":235},null,null,null,null,10,320,null,null,-4,200,null,null,-4,200,null,null,null,null,null,null,null,null,null,null,null,null,null,null,null,null,null,null,null,null,"2021-05-22",273,0,5,0,{"$f":"+K632","v":4}]
[null,null,-10,130,null,null,10,290,null,null,null,null,null,null,null,null,null,null,null,null,0,230,null,null,null,null,null,null,null,null,null,null,null,null,null,null,null,null,5,250,null,null,null,null,-5,140,"2021-05-23",274,0,5]
[null,null,10,330,null,null,-5,100,null,null,null,null,null,null,null,null,null,null,null,null,5,280,null,null,null,null,null,null,null,null,null,null,null,null,null,null,null,null,0,200,null,null,null,null,-10,60,"2021-05-23",274,0,5]
[null,null,null,null,null,null,5,260,null,null,{"$f":"+(0-10)/2","v":-5},{"$f":"+(240-20)/2","v":110},null,null,null,null,null,null,null,null,-5,120,null,null,null,null,null,null,null,null,null,null,null,null,null,null,null,null,10,290,null,null,null,null,null,null,"2021-05-23",274,0,4,{"$f":"+AW635/AX635","v":0},{"$f":"+K635","v":-5}]
[null,null,null,null,-2.5,210,null,null,null,null,{"$f":"+(5-2.5)/2","v":1.25},{"$f":"+(300+210)/2","v":255},null,null,-10,150,null,null,null,null,10,310,null,null,null,null,null,null,null,null,null,null,null,null,null,null,null,null,null,null,null,null,null,null,null,null,"2021-05-24",275,0,4,{"$f":"+AW636/AX636","v":0},{"$f":"+K636","v":1.25}]
[null,null,null,null,null,null,null,null,null,null,10,330,null,null,null,null,null,null,null,null,4,230,null,null,null,null,null,null,null,null,null,null,null,null,null,null,null,null,-7,150,null,null,null,null,-7,150,"2021-05-25",276,0,4]
[null,null,null,null,-10,80,null,null,null,null,{"$f":"+(5+0)/2","v":2.5},{"$f":"+(240+190)/2","v":215},null,null,null,null,null,null,null,null,10,290,null,null,null,null,null,null,null,null,null,null,null,null,null,null,null,null,-5,150,null,null,null,null,null,null,"2021-05-25",276,0,4,{"$f":"+AW638/AX638","v":0},{"$f":"+K638","v":2.5}]
[null,null,null,null,-10,140,null,null,null,null,{"$f":"+(-6+2+10)/3","v":2},{"$f":"+(160+210+250)/3","v":206.66666666666666},null,null,-2,170,null,null,null,null,6,220,null,null,null,null,null,null,null,null,null,null,null,null,null,null,null,null,null,null,null,null,null,null,null,null,"2021-05-25",276,0,4,0,{"$f":"+K639*2","v":4}]
[null,null,0,210,-10,190,0,210,null,null,null,null,null,null,10,260,-6,200,null,null,6,220,null,null,null,null,null,null,null,null,null,null,null,null,null,null,null,null,null,null,null,null,null,null,null,null,"2021-05-28",277,0,6]
[null,null,null,null,-2.5,170,null,null,null,null,10,300,null,null,null,null,null,null,null,null,5,260,null,null,null,null,null,null,null,null,null,null,null,null,null,null,null,null,-2.5,170,null,null,null,null,-10,130,"2021-06-01",278,0,5]
[null,null,null,null,10,460,null,null,null,null,0,420,null,null,null,null,null,null,null,null,0,420,null,null,null,null,null,null,null,null,null,null,null,null,null,null,null,null,-10,290,null,null,null,null,null,null,"2021-06-01",278,0,4]
[null,null,null,null,null,null,null,null,null,null,null,null,null,null,4,200,null,null,null,null,10,280,null,null,null,null,null,null,null,null,null,null,null,null,null,null,null,null,-4,190,null,null,null,null,-10,80,"2021-06-02",279,0,4]
[null,null,null,null,null,null,null,null,null,null,{"$f":"+(5+0)/2","v":2.5},{"$f":"+(210+180)/2","v":195},null,null,-5,100,null,null,null,null,10,270,null,null,null,null,null,null,null,null,null,null,null,null,null,null,null,null,-10,90,null,null,null,null,null,null,"2021-06-02",279,0,4,{"$f":"+AW644/AX644","v":0},{"$f":"+K644","v":2.5}]
[null,null,null,null,null,null,null,null,null,null,{"$f":"+(10-10)/2","v":0},{"$f":"+(340+160)/2","v":250},null,null,0,280,null,null,null,null,5,300,null,null,null,null,null,null,null,null,null,null,null,null,null,null,null,null,-5,250,null,null,null,null,null,null,"2021-06-02",279,0,4,0,0]
[null,null,null,null,-10,90,null,null,null,null,{"$f":"+(2.5+10)/2","v":6.25},{"$f":"+(230+240)/2","v":235},null,null,null,null,null,null,null,null,2.5,230,null,null,null,null,null,null,null,null,null,null,null,null,null,null,null,null,-5,220,null,null,null,null,null,null,"2021-06-03",280,0,4,{"$f":"+AW646/AX646","v":0},{"$f":"+K646","v":6.25}]
[null,null,null,null,-10,150,null,null,null,null,{"$f":"+(0+0)/2","v":0},{"$f":"+(200+200)/2","v":200},null,null,null,null,0,200,null,null,10,260,null,null,null,null,null,null,null,null,null,null,null,null,null,null,null,null,0,200,null,null,null,null,null,null,"2021-06-03",280,0,5,0,0]
[null,null,null,null,10,290,null,null,null,null,{"$f":"+(6-6-2)/3","v":-0.66666666666666663},{"$f":"+(250+170+190)/3","v":203.33333333333334},null,null,null,null,null,null,null,null,-10,150,null,null,null,null,null,null,null,null,null,null,null,null,null,null,null,null,2,220,null,null,null,null,null,null,"2021-06-03",280,0,4,0,{"$f":"+K648*2","v":-1.3333333333333333}]
[null,null,null,null,-10,110,null,null,null,null,{"$f":"+(5+10)/2","v":7.5},{"$f":"+(240+290)/2","v":265},null,null,null,null,null,null,null,null,-5,210,null,null,null,null,null,null,null,null,null,null,null,null,null,null,null,null,null,null,null,null,null,null,0,220,"2021-06-04",281,0,4,{"$f":"+AW649/AX649","v":0},{"$f":"+K649","v":7.5}]
[null,null,null,null,6,190,null,null,null,null,{"$f":"+(0-10-6)/3","v":-5.333333333333333},{"$f":"+(180+70+80)/3","v":110},null,null,null,null,0,180,null,null,10,290,null,null,null,null,null,null,null,null,null,null,null,null,null,null,null,null,null,null,null,null,null,null,null,null,"2021-06-05",282,1.7763568394002505E-15,4,4.4408920985006262E-16,{"$f":"+K650*2","v":-10.666666666666666}]
[null,null,null,null,-7,200,null,null,null,null,4,220,null,null,null,null,10,310,null,null,-7,200,null,null,null,null,null,null,null,null,null,null,null,null,null,null,null,null,null,null,null,null,null,null,null,null,"2021-06-06",283,0,4]
[null,null,null,null,5,160,null,null,null,null,-10,90,null,null,10,230,null,null,null,null,0,140,null,null,null,null,null,null,null,null,null,null,null,null,null,null,null,null,-5,120,null,null,null,null,null,null,"2021-06-08",284,0,5]
[null,null,null,null,-5,120,null,null,null,null,null,null,null,null,-10,30,null,null,null,null,0,230,null,null,null,null,null,null,null,null,null,null,null,null,null,null,10,300,5,240,null,null,null,null,null,null,"2021-06-10",285,0,5]
[null,null,null,null,-10,100,null,null,null,null,null,null,null,null,null,null,null,null,null,null,7,200,null,null,null,null,null,null,null,null,null,null,null,null,null,null,7,200,-4,180,null,null,null,null,null,null,"2021-06-10",285,0,4]
[null,null,null,null,-10,70,null,null,null,null,{"$f":"+(10-6)/2","v":2},{"$f":"+(250+110)/2","v":180},null,null,6,220,null,null,null,null,0,200,null,null,null,null,null,null,null,null,null,null,null,null,null,null,null,null,null,null,null,null,null,null,null,null,"2021-06-13",286,0,4,{"$f":"+AW655/AX655","v":0},{"$f":"+K655","v":2}]
[null,null,null,null,-10,100,null,null,null,null,7,280,null,null,null,null,null,null,null,null,7,280,null,null,null,null,null,null,null,null,null,null,null,null,null,null,-4,230,null,null,null,null,null,null,null,null,"2021-06-13",286,0,4]
[null,null,null,null,null,null,null,null,null,null,{"$f":"+(2-10-2)/3","v":-3.3333333333333335},{"$f":"+(200+140+190)/3","v":176.66666666666666},null,null,null,null,6,210,null,null,null,null,null,null,null,null,null,null,null,null,null,null,10,250,null,null,null,null,-6,160,null,null,null,null,null,null,"2021-06-21",288,-8.8817841970012523E-16,4,{"$f":"+AW657/AX657","v":-2.2204460492503131E-16},{"$f":"+K657*2","v":-6.666666666666667}]
[null,null,null,null,null,null,null,null,null,null,{"$f":"+(0+0)/2","v":0},{"$f":"+(200+200)/2","v":200},null,null,null,null,null,null,null,null,null,null,null,null,null,null,-10,120,null,null,null,null,10,210,null,null,null,null,0,200,null,null,null,null,null,null,"2021-06-21",288,0,4,{"$f":"+AW658/AX658","v":0},{"$f":"+K658","v":0}]
[null,null,null,null,null,null,null,null,null,null,7,270,null,null,null,null,null,null,null,null,null,null,null,null,null,null,null,null,null,null,null,null,-10,0,null,null,-4,220,7,270,null,null,null,null,null,null,"2021-06-21",288,0,4]
[null,null,null,null,-4,150,null,null,null,null,{"$f":"+(2+8)/2","v":5},{"$f":"+(190+200)/2","v":195},null,null,null,null,null,null,null,null,-4,150,null,null,null,null,null,null,null,null,null,null,null,null,null,null,8,200,-10,60,null,null,null,null,null,null,"2021-06-26",289,0,5,{"$f":"+AW660/AX660","v":0},{"$f":"+K660","v":5}]
[null,null,null,null,-6,180,null,null,null,null,null,null,null,null,null,null,6,250,null,null,2,240,null,null,null,null,null,null,null,null,null,null,-10,100,null,null,-2,220,10,260,null,null,null,null,null,null,"2021-06-27",290,0,6]
[null,null,null,null,-10,150,null,null,null,null,6,210,null,null,null,null,null,null,null,null,10,230,null,null,null,null,null,null,null,null,null,null,-6,180,null,null,0,200,0,200,null,null,null,null,null,null,"2021-06-28",291,0,6]
[null,null,null,null,null,null,null,null,null,null,{"$f":"+(-10-2+4)/3","v":-2.6666666666666665},{"$f":"+(160+200+240)/3","v":200},null,null,null,null,4,240,null,null,null,null,null,null,null,null,null,null,null,null,null,null,10,320,null,null,null,null,-6,190,null,null,null,null,null,null,"2021-06-28",291,8.8817841970012523E-16,4,{"$f":"+AW663/AX663","v":2.2204460492503131E-16},{"$f":"+K663*2","v":-5.333333333333333}]
[null,null,null,null,-5,180,null,null,null,null,5,200,null,null,null,null,null,null,null,null,-10,160,null,null,null,null,null,null,null,null,null,null,0,190,null,null,null,null,10,290,null,null,null,null,null,null,"2021-06-29",292,0,5]
[null,null,null,null,0,110,null,null,null,null,null,null,null,null,null,null,null,null,null,null,-5,90,null,null,null,null,null,null,null,null,null,null,null,null,null,null,10,320,5,210,null,null,null,null,-10,40,"2021-06-30",293,0,{"$f":"COUNT(C665:AT665)/2","v":5}]
[null,null,null,null,2,190,null,null,null,null,6,260,null,null,null,null,null,null,null,null,10,270,null,null,null,null,null,null,null,null,null,null,null,null,null,null,-2,140,-6,100,null,null,null,null,-10,60,"2021-06-30",293,0,6]
[null,null,null,null,8,270,null,null,null,null,{"$f":"+(-2+8+2)/3","v":2.6666666666666665},{"$f":"+(210+270+250)/3","v":243.33333333333334},null,null,-6,140,null,null,null,null,-10,120,null,null,null,null,null,null,null,null,null,null,null,null,null,null,null,null,null,null,null,null,null,null,null,null,"2021-06-30",293,-8.8817841970012523E-16,4,{"$f":"+AW667/AX667","v":-2.2204460492503131E-16},{"$f":"+K667*2","v":5.333333333333333}]
[null,null,null,null,-10,110,null,null,null,null,{"$f":"+(0+6+0)/3","v":2},{"$f":"+(160+240+160)/3","v":186.66666666666666},null,null,null,null,null,null,null,null,10,280,null,null,null,null,null,null,null,null,null,null,null,null,null,null,null,null,-6,120,null,null,null,null,null,null,"2021-07-01",294,0,4,0,4]
[null,null,null,null,2,140,null,null,null,null,{"$f":"+(-10+8)/2","v":-1},{"$f":"+(-50+160)/2","v":55},null,null,null,null,null,null,null,null,-2,130,null,null,null,null,null,null,null,null,null,null,null,null,null,null,null,null,-6,120,8,160,null,null,null,null,"2021-07-03",295,0,5,{"$f":"+AW669/AX669","v":0},{"$f":"+K669","v":-1}]
[null,null,null,null,null,null,10,340,null,null,null,null,null,null,null,null,null,null,null,null,4,180,null,null,null,null,null,null,null,null,null,null,null,null,null,null,-10,20,-4,100,null,null,null,null,null,null,"2021-07-05",296,0,4]
[null,null,null,null,null,null,null,null,null,null,{"$f":"+(-2-10+6)/3","v":-2},{"$f":"+(190+150+220)/3","v":186.66666666666666},null,null,null,null,null,null,null,null,10,240,null,null,null,null,null,null,null,null,null,null,2,200,null,null,null,null,null,null,null,null,-6,160,null,null,"2021-07-07",297,0,4,{"$f":"+AW671/AX671","v":0},{"$f":"+K671*2","v":-4}]
[null,null,null,null,null,null,null,null,null,null,{"$f":"+(0-6)/2","v":-3},{"$f":"+(210+190)/2","v":200},null,null,null,null,null,null,null,null,10,280,null,null,null,null,null,null,null,null,null,null,-10,120,null,null,6,240,null,null,null,null,0,210,null,null,"2021-07-07",297,0,5,0,{"$f":"+K672","v":-3}]
[null,null,null,null,null,null,null,null,null,null,0,200,null,null,null,null,null,null,null,null,5,210,null,null,null,null,null,null,null,null,null,null,-5,180,null,null,-10,150,null,null,null,null,10,270,null,null,"2021-07-07",297,0,5]
[null,null,null,null,-10,150,null,null,null,null,null,null,null,null,null,null,null,null,null,null,4,290,null,null,null,null,null,null,null,null,null,null,-4,180,null,null,null,null,null,null,10,350,null,null,null,null,"2021-07-11",298,0,4]
[null,null,null,null,-10,70,null,null,null,null,{"$f":"+(5+0)/2","v":2.5},{"$f":"+(200+140)/2","v":170},null,null,null,null,null,null,null,null,10,270,null,null,null,null,null,null,null,null,null,null,null,null,null,null,null,null,null,null,-5,110,null,null,null,null,"2021-07-11",298,0,4,{"$f":"+AW675/AX675","v":0},{"$f":"+K675","v":2.5}]
[null,null,null,null,null,null,null,null,null,null,2,240,null,null,null,null,10,260,null,null,6,250,null,null,null,null,null,null,-6,150,null,null,null,null,null,null,null,null,-2,230,-10,110,null,null,null,null,"2021-07-11",298,0,6]
[null,null,null,null,null,null,null,null,null,null,-10,130,null,null,null,null,10,260,null,null,null,null,null,null,null,null,null,null,null,null,null,null,0,160,null,null,null,null,null,null,null,null,0,160,null,null,"2021-07-12",299,0,4]
[null,null,4,230,null,null,null,null,null,null,-4,220,null,null,null,null,10,270,null,null,null,null,null,null,null,null,null,null,-10,30,null,null,null,null,null,null,null,null,null,null,null,null,null,null,null,null,"2021-07-12",299,0,4]
[null,null,10,280,null,null,null,null,null,null,{"$f":"+(-5-10)/2","v":-7.5},{"$f":"+(160+130)/2","v":145},null,null,null,null,0,180,null,null,null,null,null,null,null,null,null,null,5,220,null,null,null,null,null,null,null,null,null,null,null,null,null,null,null,null,"2021-07-12",299,0,4,{"$f":"+AW679/AX679","v":0},{"$f":"+K679","v":-7.5}]
[null,null,null,null,10,290,-2,160,null,null,{"$f":"+(6-6)/2","v":0},{"$f":"+(260+150)/2","v":205},null,null,null,null,null,null,null,null,-10,140,null,null,null,null,null,null,null,null,null,null,null,null,null,null,2,250,null,null,null,null,null,null,null,null,"2021-07-13",300,0,5,{"$f":"+AW680/AX680","v":0},{"$f":"+K680","v":0}]
[null,null,null,null,-5,140,null,null,null,null,0,200,null,null,null,null,null,null,null,null,5,290,null,null,null,null,null,null,null,null,null,null,null,null,null,null,10,350,-10,50,null,null,null,null,null,null,"2021-07-13",300,0,5]
[null,null,7.5,230,null,null,null,null,null,null,{"$f":"+(-10-5)/2","v":-7.5},{"$f":"+(70+180)/2","v":125},null,null,null,null,7.5,230,null,null,null,null,null,null,null,null,null,null,0,200,null,null,null,null,null,null,null,null,null,null,null,null,null,null,null,null,"2021-07-13",301,0,4,{"$f":"+AW682/AX682","v":0},{"$f":"+K682","v":-7.5}]
[null,null,-10,110,null,null,null,null,null,null,4,210,null,null,null,null,10,370,null,null,null,null,null,null,null,null,null,null,-4,130,null,null,null,null,null,null,null,null,null,null,null,null,null,null,null,null,"2021-07-13",301,0,4]
[null,null,null,null,-10,60,null,null,null,null,-4,190,null,null,null,null,null,null,null,null,4,260,null,null,null,null,null,null,null,null,null,null,null,null,null,null,null,null,10,270,null,null,null,null,null,null,"2021-07-14",302,0,4]
[null,null,null,null,4,230,null,null,null,null,null,null,null,null,null,null,null,null,null,null,10,250,null,null,null,null,null,null,null,null,null,null,null,null,null,null,-10,160,-4,210,null,null,null,null,null,null,"2021-07-15",303,0,4]
[null,null,null,null,10,290,null,null,null,null,null,null,null,null,null,null,null,null,null,null,-2.5,230,null,null,null,null,null,null,null,null,null,null,null,null,null,null,5,250,-2.5,230,null,null,null,null,-10,100,"2021-07-15",303,0,5]
[null,null,-8,180,null,null,null,null,null,null,{"$f":"+(-2+4+4)/3","v":2},{"$f":"+(200+210+210)/3","v":206.66666666666666},null,null,null,null,10,220,null,null,null,null,null,null,null,null,null,null,-8,180,null,null,null,null,null,null,null,null,null,null,null,null,null,null,null,null,"2021-07-15",304,{"$f":"+AI687+AE687+Y687+W687+U687+S687+Q687+O687+M687+I687+G687+E687+C687+AG687+K687+AS687+AZ687+AA687+AC687+AK687+AM687+AO687+AQ687","v":0},4,{"$f":"+AW687/AX687","v":0},{"$f":"+K687*2","v":4}]
[null,null,4,250,null,null,null,null,null,null,10,290,null,null,null,null,-10,150,null,null,null,null,null,null,null,null,null,null,-4,170,null,null,null,null,null,null,null,null,null,null,null,null,null,null,null,null,"2021-07-15",304,0,4]
[null,null,4,300,null,null,null,null,null,null,-4,290,null,null,null,null,10,450,null,null,null,null,null,null,null,null,null,null,-10,30,null,null,null,null,null,null,null,null,null,null,null,null,null,null,null,null,"2021-07-15",304,0,4]
[null,null,-4,210,null,null,null,null,null,null,4,340,null,null,null,null,10,450,null,null,null,null,null,null,null,null,null,null,-10,140,null,null,null,null,null,null,null,null,null,null,null,null,null,null,null,null,"2021-07-16",305,{"$f":"+AI690+AE690+Y690+W690+U690+S690+Q690+O690+M690+I690+G690+E690+C690+AG690+K690+AS690+AZ690+AA690+AC690+AK690+AM690+AO690+AQ690","v":0},4]
[null,null,4,220,null,null,null,null,null,null,{"$f":"+(-10-6+4)/3","v":-4},{"$f":"+(100+170+220)/3","v":163.33333333333334},null,null,null,null,10,280,null,null,null,null,null,null,null,null,null,null,-2,210,null,null,null,null,null,null,null,null,null,null,null,null,null,null,null,null,"2021-07-16",305,{"$f":"+AI691+AE691+Y691+W691+U691+S691+Q691+O691+M691+I691+G691+E691+C691+AG691+K691+AS691+AZ691+AA691+AC691+AK691+AM691+AO691+AQ691","v":0},4,{"$f":"+AW691/AX691","v":0},{"$f":"+K691*2","v":-8}]
[null,null,5,200,0,170,-7.5,150,null,null,null,null,null,null,10,210,null,null,null,null,-7.5,150,null,null,null,null,null,null,null,null,null,null,null,null,null,null,null,null,null,null,null,null,null,null,null,null,"2021-07-17",306,{"$f":"+AI692+AE692+Y692+W692+U692+S692+Q692+O692+M692+I692+G692+E692+C692+AG692+K692+AS692+AZ692+AA692+AC692+AK692+AM692+AO692+AQ692","v":0},{"$f":"COUNT(C692:AT692)/2","v":5}]
[null,null,null,null,null,null,null,null,null,null,{"$f":"+(-2-10)/2","v":-6},{"$f":"+(160+80)/2","v":120},null,null,2,180,null,null,null,null,10,250,null,null,null,null,null,null,null,null,null,null,null,null,null,null,6,190,-6,130,null,null,null,null,null,null,"2021-07-17",306,0,5,{"$f":"+AW693/AX693","v":0},{"$f":"+K693","v":-6}]
[null,null,null,null,null,null,null,null,null,null,null,null,null,null,null,null,null,null,null,null,10,280,null,null,null,null,-4,100,null,null,null,null,null,null,null,null,null,null,4,160,-10,70,null,null,null,null,"2021-07-19",307,{"$f":"+AI694+AE694+Y694+W694+U694+S694+Q694+O694+M694+I694+G694+E694+C694+AG694+K694+AS694+AZ694+AA694+AC694+AK694+AM694+AO694+AQ694","v":0},{"$f":"COUNT(C694:AT694)/2","v":4}]
[null,null,null,null,null,null,-5,160,null,null,null,null,null,null,null,null,null,null,null,null,5,180,null,null,null,null,0,170,null,null,null,null,null,null,null,null,null,null,10,350,null,null,null,null,-10,150,"2021-07-19",307,0,5]
[null,null,null,null,null,null,null,null,null,null,4,270,null,null,10,300,null,null,null,null,-10,190,null,null,null,null,-4,230,null,null,null,null,null,null,null,null,null,null,null,null,null,null,null,null,null,null,"2021-07-19",307,0,4]
[null,null,null,null,null,null,null,null,null,null,{"$f":"+(10-10)/2","v":0},{"$f":"+(160+80)/2","v":120},null,null,null,null,null,null,null,null,2.5,110,null,null,null,null,null,null,null,null,null,null,null,null,null,null,2.5,110,null,null,null,null,null,null,-5,90,"2021-07-21",308,0,4,{"$f":"+AW697/AX697","v":0},{"$f":"+K697","v":0}]
[null,null,null,null,-2,170,null,null,null,null,null,null,null,null,10,320,null,null,null,null,-10,30,null,null,null,null,null,null,null,null,null,null,null,null,null,null,2,190,-6,150,null,null,null,null,6,200,"2021-07-21",308,0,6]
[null,null,null,null,-10,20,null,null,null,null,{"$f":"+(10+6-6)/3","v":3.3333333333333335},{"$f":"+(210+180+200)/3","v":196.66666666666666},null,null,null,null,null,null,null,null,2,160,null,null,null,null,null,null,null,null,null,null,null,null,null,null,null,null,-2,120,null,null,null,null,null,null,"2021-07-21",308,8.8817841970012523E-16,4,{"$f":"+AW699/AX699","v":2.2204460492503131E-16},{"$f":"+K699*2","v":6.666666666666667}]
[null,null,null,null,-2,170,null,null,null,null,null,null,null,null,-10,100,null,null,null,null,-6,160,null,null,null,null,null,null,null,null,null,null,null,null,null,null,10,250,2,190,null,null,null,null,6,210,"2021-07-21",308,0,6]
[null,null,null,null,5,230,null,null,null,null,null,null,null,null,0,180,null,null,null,null,-10,50,null,null,null,null,null,null,null,null,null,null,null,null,null,null,null,null,10,240,null,null,null,null,-5,150,"2021-07-22",309,0,5]
[null,null,null,null,10,180,null,null,null,null,5,160,null,null,-10,70,null,null,null,null,null,null,null,null,null,null,null,null,null,null,null,null,null,null,null,null,0,150,-5,110,null,null,null,null,null,null,"2021-07-22",309,0,5]
[null,null,null,null,-10,140,null,null,null,null,{"$f":"+(-2.5+5)/2","v":1.25},{"$f":"+(160+200)/2","v":180},null,null,null,null,null,null,null,null,10,240,null,null,null,null,null,null,null,null,null,null,null,null,null,null,-2.5,160,null,null,null,null,null,null,null,null,"2021-07-26",310,0,4,{"$f":"+AW703/AX703","v":0},{"$f":"+K703","v":1.25}]
[null,null,null,null,0,170,null,null,null,null,10,220,null,null,null,null,-5,150,null,null,-10,20,null,null,null,null,null,null,null,null,null,null,null,null,null,null,5,190,null,null,null,null,null,null,null,null,"2021-07-26",310,0,5]
[null,null,null,null,-10,120,null,null,null,null,{"$f":"+(-2+6+2)/3","v":2},{"$f":"+(190+250+210)/3","v":216.66666666666666},null,null,null,null,null,null,null,null,-6,130,null,null,null,null,null,null,null,null,null,null,null,null,null,null,10,270,null,null,null,null,null,null,null,null,"2021-07-26",310,0,4,{"$f":"+AW705/AX705","v":0},{"$f":"+K705*2","v":4}]
[null,null,null,null,null,null,5,280,null,null,{"$f":"+(0+10)/2","v":5},{"$f":"+(270+330)/2","v":300},-10,70,null,null,null,null,null,null,-5,180,null,null,null,null,null,null,null,null,null,null,null,null,null,null,null,null,null,null,null,null,null,null,null,null,"2021-07-27",311,0,4,0,{"$f":"+K706","v":5}]
[null,null,null,null,null,null,-5,200,null,null,0,210,5,250,null,null,null,null,null,null,10,280,null,null,null,null,null,null,null,null,null,null,null,null,null,null,-10,40,null,null,null,null,null,null,null,null,"2021-07-27",311,0,5]
[null,null,null,null,-5,110,null,null,null,null,-10,100,null,null,null,null,null,null,null,null,10,260,null,null,null,null,null,null,null,null,null,null,null,null,null,null,0,230,null,null,null,null,null,null,5,240,"2021-07-27",311,0,5]
[null,null,null,null,5,210,null,null,null,null,{"$f":"+(-10-5)/2","v":-7.5},{"$f":"+(0+110)/2","v":55},null,null,null,null,null,null,null,null,0,130,null,null,10,250,null,null,null,null,null,null,null,null,null,null,null,null,null,null,null,null,null,null,null,null,"2021-07-28",312,{"$f":"+AI709+AE709+Y709+W709+U709+S709+Q709+O709+M709+I709+G709+E709+C709+AG709+K709+AS709+AZ709+AA709+AC709+AK709+AM709+AO709+AQ709","v":0},4,{"$f":"+AW709/AX709","v":0},{"$f":"+K709","v":-7.5}]
[null,null,null,null,2,230,null,null,null,null,-6,170,10,290,-2,200,null,null,null,null,-10,120,null,null,null,null,null,null,null,null,null,null,null,null,null,null,6,240,null,null,null,null,null,null,null,null,"2021-07-28",312,{"$f":"+AI710+AE710+Y710+W710+U710+S710+Q710+O710+M710+I710+G710+E710+C710+AG710+K710+AS710+AZ710+AA710+AC710+AK710+AM710+AO710+AQ710","v":0},6]
[null,null,null,null,null,null,0,200,null,null,null,null,null,null,5,250,null,null,null,null,null,null,null,null,null,null,null,null,null,null,null,null,null,null,null,null,-5,190,-10,140,10,430,null,null,null,null,"2021-07-29",313,0,5]
[null,null,null,null,null,null,5,240,null,null,null,null,null,null,10,360,null,null,null,null,null,null,null,null,null,null,null,null,null,null,null,null,null,null,null,null,-7.5,60,0,120,-7.5,60,null,null,null,null,"2021-07-29",313,0,5]
[null,null,null,null,null,null,null,null,null,null,null,null,null,null,null,null,null,null,null,null,null,null,null,null,null,null,null,null,null,null,null,null,null,null,null,null,4,210,10,260,-4,180,null,null,-10,50,"2021-07-29",313,0,4]
[null,null,-6,130,null,null,null,null,null,null,{"$f":"+(2-2+10)/3","v":3.3333333333333335},{"$f":"+(200+190+260)/3","v":216.66666666666666},null,null,null,null,6,230,null,null,null,null,null,null,null,null,null,null,-10,120,null,null,null,null,null,null,null,null,null,null,null,null,null,null,null,null,"2021-07-30",314,0,4,{"$f":"+AW714/AX714","v":0},{"$f":"+K714*2","v":6.666666666666667}]
[null,null,null,null,null,null,null,null,null,null,10,310,-10,50,null,null,null,null,null,null,null,null,null,null,null,null,null,null,null,null,null,null,null,null,null,null,4,210,null,null,null,null,null,null,-4,160,"2021-07-31",315,0,4]
[null,null,null,null,null,null,null,null,null,null,null,null,-10,120,null,null,null,null,null,null,null,null,null,null,null,null,null,null,null,null,-4,220,null,null,null,null,null,null,10,300,null,null,null,null,4,270,"2021-08-01",316,0,4]
[null,null,null,null,-10,60,null,null,null,null,10,310,null,null,2,210,null,null,null,null,6,240,null,null,null,null,null,null,null,null,null,null,null,null,null,null,-6,160,-2,180,null,null,null,null,null,null,"2021-08-01",316,{"$f":"+AI717+AE717+Y717+W717+U717+S717+Q717+O717+M717+I717+G717+E717+C717+AG717+K717+AS717+AZ717+AA717+AC717+AK717+AM717+AO717+AQ717","v":0},{"$f":"COUNT(C717:AT717)/2","v":6}]
[null,null,null,null,-10,-20,null,null,null,null,null,null,null,null,null,null,null,null,null,null,10,310,null,null,null,null,null,null,null,null,null,null,null,null,null,null,4,240,-4,70,null,null,null,null,null,null,"2021-08-01",316,0,4]
[null,null,null,null,null,null,null,null,null,null,{"$f":"+(-5+0)/2","v":-2.5},{"$f":"+(130+170)/2","v":150},null,null,null,null,null,null,null,null,10,240,null,null,null,null,null,null,null,null,null,null,null,null,null,null,5,220,-10,60,null,null,null,null,null,null,"2021-08-01",316,0,4,{"$f":"+AW719/AX719","v":0},{"$f":"+K719","v":-2.5}]
[null,null,null,null,2.5,190,null,null,null,null,null,null,null,null,null,null,null,null,null,null,-5,150,null,null,null,null,null,null,null,null,null,null,null,null,null,null,-10,130,10,270,null,null,null,null,2.5,190,"2021-08-01",316,0,5]
[null,null,null,null,null,null,null,null,null,null,10,210,-10,160,null,null,null,null,null,null,null,null,null,null,0,180,null,null,null,null,null,null,null,null,0,180,null,null,null,null,null,null,0,180,null,null,"2021-08-01",317,0,5]
[null,null,7.5,290,null,null,null,null,null,null,{"$f":"+(-10-5)/2","v":-7.5},{"$f":"+(220+90)/2","v":155},null,null,null,null,7.5,290,null,null,null,null,null,null,null,null,null,null,null,null,null,null,null,null,null,null,null,null,null,null,null,null,0,280,null,null,"2021-08-01",317,0,4,{"$f":"+AW722/AX722","v":0},{"$f":"+K722","v":-7.5}]
[null,null,null,null,null,null,null,null,null,null,{"$f":"+(-8-8)/2","v":-8},{"$f":"+(110+110)/2","v":110},null,null,null,null,null,null,null,null,2,230,null,null,null,null,-2,150,null,null,6,240,null,null,null,null,null,null,null,null,null,null,10,250,null,null,"2021-08-02",318,0,5,{"$f":"+AW723/AX723","v":0},{"$f":"+K723","v":-8}]
[null,null,null,null,-2,210,null,null,null,null,null,null,null,null,null,null,null,null,null,null,-6,170,null,null,null,null,10,350,null,null,null,null,null,null,null,null,-10,130,4,240,null,null,4,240,null,null,"2021-08-02",318,0,6]
[null,null,null,null,6,260,null,null,null,null,10,270,null,null,null,null,null,null,null,null,-2,230,null,null,null,null,null,null,null,null,null,null,null,null,null,null,-10,170,2,250,null,null,-6,180,null,null,"2021-08-02",318,0,6]
[null,null,null,null,2,230,null,null,null,null,10,280,null,null,null,null,null,null,null,null,-2,160,null,null,null,null,6,260,null,null,null,null,null,null,null,null,-6,100,-10,80,null,null,null,null,null,null,"2021-08-02",318,0,6]
[null,null,null,null,null,null,null,null,null,null,-4,210,null,null,-10,110,null,null,null,null,4,230,null,null,null,null,null,null,null,null,null,null,null,null,null,null,null,null,10,300,null,null,null,null,null,null,"2021-08-03",319,0,4]
[null,null,null,null,-10,70,null,null,null,null,null,null,null,null,null,null,null,null,null,null,-2,160,null,null,null,null,8,180,null,null,null,null,null,null,null,null,-6,130,2,170,null,null,8,180,null,null,"2021-08-03",319,0,6]
[null,null,null,null,null,null,null,null,null,null,10,370,null,null,4,210,null,null,null,null,-4,140,null,null,null,null,null,null,null,null,null,null,null,null,null,null,-10,60,null,null,null,null,null,null,null,null,"2021-08-04",320,0,4]
[null,null,null,null,-2.5,150,null,null,null,null,5,200,null,null,null,null,null,null,null,null,-2.5,150,null,null,null,null,null,null,null,null,null,null,null,null,null,null,10,280,null,null,-10,60,null,null,null,null,"2021-08-05",321,0,5]
[null,null,null,null,0,170,null,null,null,null,-10,120,null,null,null,null,null,null,null,null,6,190,null,null,null,null,10,220,null,null,-6,150,null,null,null,null,0,170,null,null,null,null,null,null,null,null,"2021-08-05",321,0,6]
[null,null,null,null,-10,140,null,null,null,null,null,null,null,null,null,null,null,null,null,null,10,280,null,null,null,null,null,null,null,null,null,null,null,null,null,null,4,220,-4,170,null,null,null,null,null,null,"2021-08-05",321,0,4]
[null,null,null,null,null,null,null,null,null,null,-10,50,null,null,-5,150,null,null,null,null,7.5,270,null,null,0,250,null,null,null,null,null,null,null,null,null,null,null,null,null,null,null,null,7.5,270,null,null,"2021-08-05",321,0,5]
[null,null,null,null,null,null,-10,110,null,null,null,null,5,240,null,null,10,250,null,null,0,180,null,null,null,null,null,null,null,null,null,null,null,null,null,null,-5,120,null,null,null,null,null,null,null,null,"2021-08-06",322,{"$f":"+AI734+AE734+Y734+W734+U734+S734+Q734+O734+M734+I734+G734+E734+C734+AG734+K734+AS734+AZ734+AA734+AC734+AK734+AM734+AO734+AQ734","v":0},{"$f":"COUNT(C734:AT734)/2","v":5}]
[null,null,null,null,2,170,10,240,null,null,null,null,-10,50,-6,130,null,null,null,null,-2,160,null,null,null,null,null,null,null,null,null,null,null,null,null,null,6,190,null,null,null,null,null,null,null,null,"2021-08-06",322,0,6]
[null,null,null,null,6,170,10,270,null,null,null,null,-6,110,-10,90,null,null,null,null,-2,130,null,null,null,null,null,null,null,null,null,null,null,null,null,null,2,140,null,null,null,null,null,null,null,null,"2021-08-06",322,0,6]
[null,null,null,null,null,null,null,null,null,null,{"$f":"+(0-6-10)/3","v":-5.333333333333333},{"$f":"+(120+210+140)/3","v":156.66666666666666},6,320,null,null,10,330,null,null,null,null,null,null,0,210,null,null,null,null,null,null,null,null,null,null,null,null,null,null,null,null,null,null,null,null,"2021-08-06",323,1.7763568394002505E-15,4,{"$f":"+AW737/AX737","v":4.4408920985006262E-16},{"$f":"+K737*2","v":-10.666666666666666}]
[null,null,null,null,6,210,null,null,null,null,{"$f":"+(-2-6-10)/3","v":-6},{"$f":"+(80+160+70)/3","v":103.33333333333333},null,null,null,null,null,null,null,null,10,270,null,null,null,null,null,null,null,null,null,null,null,null,null,null,null,null,2,190,null,null,null,null,null,null,"2021-08-07",324,0,4,{"$f":"+AW738/AX738","v":0},{"$f":"+K738*2","v":-12}]
[null,null,null,null,-10,80,null,null,null,null,-6,130,null,null,null,null,null,null,null,null,10,220,null,null,null,null,null,null,null,null,null,null,null,null,null,null,6,210,0,170,null,null,0,170,null,null,"2021-08-08",325,0,6]
[null,null,null,null,-2,200,null,null,null,null,-10,120,null,null,null,null,null,null,null,null,6,240,null,null,null,null,null,null,null,null,null,null,null,null,null,null,2,210,10,250,-6,190,null,null,null,null,"2021-08-08",325,0,6]
[null,null,null,null,null,null,null,null,null,null,{"$f":"+(-10+2)/2","v":-4},{"$f":"+(120+230)/2","v":175},null,null,null,null,null,null,null,null,10,250,null,null,null,null,null,null,null,null,null,null,null,null,null,null,-6,160,-2,190,6,240,null,null,null,null,"2021-08-08",325,0,5,{"$f":"+AW741/AX741","v":0},{"$f":"+K741","v":-4}]
[null,null,null,null,null,null,null,null,null,null,null,null,null,null,10,260,null,null,null,null,-10,-40,null,null,null,null,null,null,null,null,null,null,null,null,null,null,-5,180,5,220,0,200,null,null,null,null,"2021-08-08",325,0,5]
[null,null,null,null,5,270,null,null,null,null,10,290,null,null,null,null,null,null,null,null,-2.5,240,null,null,null,null,null,null,null,null,null,null,null,null,null,null,-2.5,240,-10,180,null,null,null,null,null,null,"2021-08-08",325,0,5]
[null,null,null,null,-6,150,null,null,null,null,{"$f":"+(2+10)/2","v":6},{"$f":"+(190+270)/2","v":230},null,null,null,null,null,null,null,null,-2,170,null,null,null,null,null,null,null,null,null,null,null,null,null,null,6,260,-10,50,null,null,null,null,null,null,"2021-08-08",325,0,5,{"$f":"+AW744/AX744","v":0},{"$f":"+K744","v":6}]
[null,null,null,null,0,180,0,180,null,null,null,null,null,null,null,null,null,null,null,null,-10,80,null,null,null,null,6,200,null,null,null,null,null,null,null,null,null,null,10,210,null,null,null,null,-6,150,"2021-08-09",326,0,6]
[null,null,null,null,-5,120,0,130,null,null,5,170,null,null,null,null,null,null,null,null,10,180,null,null,null,null,-10,90,null,null,null,null,null,null,null,null,null,null,null,null,null,null,null,null,null,null,"2021-08-09",326,0,5]
[null,null,null,null,6,230,null,null,null,null,-8,90,null,null,-2,140,null,null,null,null,10,280,null,null,null,null,2,170,null,null,-8,90,null,null,null,null,null,null,null,null,null,null,null,null,null,null,"2021-08-09",326,{"$f":"+AI747+AE747+Y747+W747+U747+S747+Q747+O747+M747+I747+G747+E747+C747+AG747+K747+AS747+AZ747+AA747+AC747+AK747+AM747+AO747+AQ747","v":0},{"$f":"COUNT(C747:AT747)/2","v":6}]
[null,null,null,null,-4,200,null,null,null,null,10,320,null,null,-4,200,null,null,null,null,6,280,null,null,null,null,-10,80,null,null,2,210,null,null,null,null,null,null,null,null,null,null,null,null,null,null,"2021-08-09",326,0,6]
[null,null,-2,150,null,null,null,null,null,null,{"$f":"+(-6-10+6)/3","v":-3.3333333333333335},{"$f":"+(70+20+210)/3","v":100},null,null,null,null,10,250,null,null,null,null,null,null,null,null,null,null,null,null,2,180,null,null,null,null,null,null,null,null,null,null,null,null,null,null,"2021-08-11",327,-8.8817841970012523E-16,4,{"$f":"+AW749/AX749","v":-2.2204460492503131E-16},{"$f":"+K749*2","v":-6.666666666666667}]
[null,null,0,120,null,null,null,null,null,null,{"$f":"+(0-6-10)/3","v":-5.333333333333333},{"$f":"+(90+110+120)/3","v":106.66666666666667},null,null,null,null,10,200,null,null,null,null,null,null,null,null,null,null,null,null,6,180,null,null,null,null,null,null,null,null,null,null,null,null,null,null,"2021-08-11",327,1.7763568394002505E-15,4,4.4408920985006262E-16,{"$f":"+K750*2","v":-10.666666666666666}]
[null,null,null,null,2,210,null,null,null,null,-6,90,null,null,8,230,null,null,null,null,-10,60,null,null,8,230,null,null,null,null,null,null,null,null,null,null,null,null,-2,130,null,null,null,null,null,null,"2021-08-12",328,0,6]
[null,null,null,null,-10,110,null,null,null,null,2,210,8,220,null,null,null,null,null,null,-6,170,null,null,null,null,null,null,null,null,null,null,null,null,null,null,-2,190,8,220,null,null,null,null,null,null,"2021-08-12",328,0,6]
[null,null,null,null,null,null,null,null,null,null,2.5,220,-5,190,null,null,null,null,null,null,10,230,null,null,null,null,null,null,null,null,null,null,null,null,null,null,-10,160,2.5,220,null,null,null,null,null,null,"2021-08-12",328,0,5]
[null,null,null,null,null,null,null,null,null,null,null,null,-10,60,null,null,null,null,null,null,10,360,null,null,null,null,null,null,null,null,null,null,null,null,null,null,null,null,0,320,null,null,null,null,null,null,"2021-08-13",329,0,3]
[null,"Mitjana punts del moment",null,null,null,null,null,null,null,null,null,null,4,163.84615384615384,null,null,null,null,null,null,-4,193.49373959449906,null,null,null,null,null,null,null,null,null,null,10,174.3472222222222,null,null,null,null,-10,178.91647855530474,null,null,null,null,null,null,"2021-08-13",329,0,4]
[null,null,null,null,null,null,10,330,null,null,-5,170,null,null,5,250,null,null,null,null,-10,130,null,null,null,null,null,null,null,null,null,null,null,null,null,null,0,180,null,null,null,null,null,null,null,null,"2021-08-13",329,0,5]
[null,null,null,null,null,null,null,null,null,null,{"$f":"+(-6+2-10)/3","v":-4.666666666666667},{"$f":"+(180+230+170)/3","v":193.33333333333334},-2,200,null,null,null,null,null,null,null,null,null,null,null,null,null,null,null,null,6,240,null,null,null,null,null,null,10,250,null,null,null,null,null,null,"2021-08-15",330,0,4,{"$f":"+AW757/AX757","v":0},{"$f":"+K757*2","v":-9.3333333333333339}]
[null,null,null,null,-2,210,null,null,null,null,null,null,null,null,2,230,null,null,null,null,10,280,null,null,null,null,-6,10,null,null,null,null,-10,120,null,null,6,240,null,null,null,null,null,null,null,null,"2021-08-16",331,0,6]
[null,null,null,null,null,null,null,null,null,null,{"$f":"+(10-6+0)/3","v":1.3333333333333333},{"$f":"+(250+140+190)/3","v":193.33333333333334},null,null,-10,70,null,null,null,null,null,null,null,null,null,null,0,190,null,null,null,null,null,null,null,null,6,200,null,null,null,null,null,null,null,null,"2021-08-16",331,0,4,{"$f":"+AW759/AX759","v":0},{"$f":"+K759*2","v":2.6666666666666665}]
[null,null,null,null,-10,90,null,null,null,null,null,null,null,null,null,null,null,null,null,null,7,240,null,null,null,null,null,null,null,null,null,null,null,null,null,null,null,null,-4,230,7,240,null,null,null,null,"2021-08-17",332,0,4]
[null,null,null,null,0,190,null,null,null,null,{"$f":"+(-10+10)/2","v":0},{"$f":"+(90+290)/2","v":190},null,null,null,null,null,null,null,null,5,210,null,null,null,null,null,null,null,null,-5,180,null,null,null,null,null,null,null,null,null,null,null,null,null,null,"2021-08-18",333,0,4,{"$f":"+AW761/AX761","v":0},{"$f":"+K761","v":0}]
[null,null,null,null,-5,260,null,null,null,null,{"$f":"+(2.5+10)/2","v":6.25},{"$f":"+(340+420)/2","v":380},null,null,null,null,null,null,null,null,2.5,340,null,null,-10,220,null,null,null,null,null,null,null,null,null,null,null,null,null,null,null,null,null,null,null,null,"2021-08-18",333,0,4,{"$f":"+AW762/AX762","v":0},{"$f":"+K762","v":6.25}]
[null,null,null,null,null,null,null,null,null,null,null,null,null,null,-10,100,null,null,null,null,null,null,null,null,null,null,null,null,null,null,null,null,10,290,null,null,null,null,-4,190,4,230,null,null,null,null,"2021-08-20",334,0,4]
[null,null,null,null,null,null,null,null,null,null,{"$f":"+(10+6-6)/3","v":3.3333333333333335},{"$f":"+(220+210+120)/3","v":183.33333333333334},-2,170,null,null,null,null,null,null,null,null,null,null,null,null,null,null,null,null,null,null,null,null,null,null,2,190,-10,90,null,null,null,null,null,null,"2021-08-20",334,0,4,{"$f":"+AW764/AX764","v":0},{"$f":"+K764*2","v":6.666666666666667}]
[null,null,null,null,null,null,null,null,null,null,{"$f":"+(10+0)/2","v":5},{"$f":"+(230+180)/2","v":205},null,null,-5,170,null,null,null,null,null,null,null,null,null,null,null,null,null,null,-10,120,null,null,null,null,null,null,5,190,null,null,null,null,null,null,"2021-08-23",335,0,4,0,{"$f":"+K765","v":5}]
[null,null,null,null,null,null,10,350,null,null,null,null,null,null,4,190,null,null,null,null,null,null,null,null,null,null,-7,180,null,null,null,null,null,null,null,null,null,null,-7,180,null,null,null,null,null,null,"2021-08-23",335,0,4]
[null,null,-10,60,null,null,null,null,null,null,{"$f":"+(10-6-2)/3","v":0.66666666666666663},{"$f":"+(210+80+130)/3","v":140},4,180,null,null,4,180,null,null,null,null,null,null,null,null,null,null,null,null,null,null,null,null,null,null,null,null,null,null,null,null,null,null,null,null,"2021-08-24",336,-2.2204460492503131E-16,4,{"$f":"+AW767/AX767","v":-5.5511151231257827E-17},{"$f":"+K767*2","v":1.3333333333333333}]
[null,null,null,null,-2,190,null,null,null,null,{"$f":"+(2-6-10)/3","v":-4.666666666666667},{"$f":"+(230+140+80)/3","v":150},null,null,6,240,null,null,null,null,10,310,null,null,null,null,null,null,null,null,null,null,null,null,null,null,null,null,null,null,null,null,null,null,null,null,"2021-08-25",337,-1.7763568394002505E-15,4,{"$f":"+AW768/AX768","v":-4.4408920985006262E-16},{"$f":"+K768*2","v":-9.3333333333333339}]
[null,null,null,null,-10,70,null,null,null,null,null,null,null,null,0,300,null,null,null,null,10,350,null,null,null,null,null,null,null,null,null,null,null,null,null,null,null,null,null,null,null,null,null,null,null,null,"2021-08-25",337,0,3]
[null,null,null,null,-6,140,null,null,null,null,{"$f":"+(-10+2)/2","v":-4},{"$f":"+(120+240)/2","v":180},null,null,null,null,null,null,null,null,6,250,null,null,null,null,null,null,null,null,10,270,null,null,null,null,null,null,-2,200,null,null,null,null,null,null,"2021-08-25",338,0,5,{"$f":"+AW770/AX770","v":0},{"$f":"+K770","v":-4}]
[null,null,null,null,null,null,null,null,null,null,{"$f":"+(-5+10)/2","v":2.5},{"$f":"+(190+290)/2","v":240},null,null,null,null,null,null,null,null,5,240,null,null,null,null,null,null,null,null,null,null,0,220,null,null,null,null,-10,130,null,null,null,null,null,null,"2021-08-26",339,0,4,{"$f":"+AW771/AX771","v":0},{"$f":"+K771","v":2.5}]
[null,null,null,null,2,180,null,null,null,null,-8,140,null,null,null,null,null,null,null,null,-2,170,null,null,null,null,null,null,null,null,null,null,-8,140,null,null,6,230,10,250,null,null,null,null,null,null,"2021-08-26",339,0,6]
[null,null,null,null,-10,90,null,null,null,null,10,300,null,null,null,null,null,null,null,null,2.5,230,null,null,null,null,null,null,null,null,null,null,-5,150,null,null,null,null,2.5,230,null,null,null,null,null,null,"2021-08-26",339,0,5]
[null,null,null,null,null,null,null,null,null,null,{"$f":"+(10+6)/2","v":8},{"$f":"+(290+250)/2","v":270},null,null,null,null,null,null,null,null,-10,100,null,null,null,null,null,null,null,null,null,null,-6,130,null,null,0,220,0,220,null,null,null,null,null,null,"2021-08-26",339,0,5,{"$f":"+AW774/AX774","v":0},{"$f":"+K774","v":8}]
[null,null,null,null,4,300,-4,230,null,null,null,null,null,null,null,null,null,null,null,null,10,320,null,null,null,null,null,null,null,null,null,null,null,null,null,null,-10,90,null,null,null,null,null,null,null,null,"2021-08-27",340,0,4]
[null,null,null,null,6,230,-8,150,null,null,10,280,null,null,2,210,null,null,null,null,-8,150,null,null,null,null,null,null,null,null,null,null,null,null,null,null,-2,200,null,null,null,null,null,null,null,null,"2021-08-27",340,0,6]
[null,null,null,null,null,null,null,null,null,null,{"$f":"+(-10-2+2)/3","v":-3.3333333333333335},{"$f":"+(100+170+220)/3","v":163.33333333333334},null,null,10,250,null,null,null,null,-6,120,null,null,null,null,null,null,null,null,null,null,null,null,null,null,6,230,null,null,null,null,null,null,null,null,"2021-08-29",341,0,4,{"$f":"+AW777/AX777","v":0},{"$f":"+K777*2","v":-6.666666666666667}]
[null,null,null,null,-10,140,6,240,null,null,null,null,null,null,10,250,null,null,null,null,2,220,null,null,null,null,-6,180,null,null,null,null,null,null,null,null,-2,200,null,null,null,null,null,null,null,null,"2021-08-30",342,0,6]
[null,null,null,null,null,null,-5,160,null,null,-10,80,null,null,null,null,null,null,null,null,5,240,null,null,null,null,0,200,null,null,null,null,null,null,null,null,10,250,null,null,null,null,null,null,null,null,"2021-08-30",342,0,5]
[null,null,null,null,-10,90,null,null,null,null,10,300,null,null,null,null,null,null,null,null,2.5,230,null,null,null,null,null,null,null,null,null,null,-5,150,null,null,null,null,2.5,230,null,null,null,null,null,null,"2021-08-30",343,0,5]
[null,null,null,null,null,null,null,null,null,null,{"$f":"+(-5+10)/2","v":2.5},{"$f":"+(190+290)/2","v":240},null,null,null,null,null,null,null,null,5,240,null,null,null,null,null,null,null,null,null,null,0,220,null,null,null,null,-10,130,null,null,null,null,null,null,"2021-08-30",343,0,4,{"$f":"+AW781/AX781","v":0},{"$f":"+K781","v":2.5}]
[null,null,null,null,-2,200,null,null,null,null,{"$f":"+(4-6+10)/3","v":2.6666666666666665},{"$f":"+(230+130+280)/3","v":213.33333333333334},-10,50,null,null,null,null,null,null,4,230,null,null,null,null,null,null,null,null,null,null,null,null,null,null,null,null,null,null,null,null,null,null,null,null,"2021-08-31",344,-8.8817841970012523E-16,4,{"$f":"+AW782/AX782","v":-2.2204460492503131E-16},{"$f":"+K782*2","v":5.333333333333333}]
[null,null,null,null,10,290,null,null,null,null,2,220,-2,210,6,270,null,null,null,null,-10,120,null,null,null,null,null,null,null,null,null,null,null,null,null,null,-6,170,null,null,null,null,null,null,null,null,"2021-09-01",345,0,6]
[null,null,null,null,null,null,null,null,null,null,-10,200,-4,230,null,null,null,null,null,null,10,440,null,null,null,null,null,null,null,null,4,380,null,null,null,null,null,null,null,null,null,null,null,null,null,null,"2021-09-01",345,0,4]
[null,null,null,null,null,null,null,null,null,null,{"$f":"+(10+0-6)/3","v":1.3333333333333333},{"$f":"+(260+160+140)/3","v":186.66666666666666},6,220,null,null,null,null,null,null,null,null,null,null,null,null,null,null,null,null,-10,60,null,null,null,null,null,null,0,160,null,null,null,null,null,null,"2021-09-02",347,-4.4408920985006262E-16,4,{"$f":"+AW785/AX785","v":-1.1102230246251565E-16},{"$f":"+K785*2","v":2.6666666666666665}]
[null,null,null,null,null,null,null,null,null,null,{"$f":"+(8-2-6)/3","v":0},{"$f":"+(270+220+210)/3","v":233.33333333333334},-10,120,null,null,8,270,null,null,null,null,null,null,null,null,null,null,null,null,null,null,null,null,null,null,null,null,2,250,null,null,null,null,null,null,"2021-09-02",347,0,4,0,0]
[null,null,null,null,10,240,null,null,null,null,{"$f":"+(6-2-2)/3","v":0.66666666666666663},{"$f":"+(220+180+180)/3","v":193.33333333333334},null,null,null,null,null,null,null,null,-2,180,null,null,null,null,null,null,null,null,-10,160,null,null,null,null,null,null,null,null,null,null,null,null,null,null,"2021-09-03",348,-2.2204460492503131E-16,4,-5.5511151231257827E-17,1.3333333333333333]
[null,null,null,null,2,230,-2,200,null,null,{"$f":"+(8+8)/2","v":8},{"$f":"+(260+260)/2","v":260},null,null,null,null,null,null,null,null,-10,60,-6,100,null,null,null,null,null,null,null,null,null,null,null,null,null,null,null,null,null,null,null,null,null,null,"2021-09-03",348,0,5,0,{"$f":"+K788","v":8}]
[null,null,null,null,null,null,-8,140,null,null,{"$f":"+(8+2-2)/3","v":2.6666666666666665},{"$f":"+(220+210+180)/3","v":203.33333333333334},null,null,null,null,null,null,null,null,null,null,-8,140,null,null,null,null,null,null,null,null,null,null,null,null,null,null,null,null,null,null,8,220,null,null,"2021-09-03",348,0,4,{"$f":"+AW789/AX789","v":0},{"$f":"+K789*2","v":5.333333333333333}]
[null,null,null,null,0,180,null,null,null,null,{"$f":"+(5+10)/2","v":7.5},{"$f":"+(200+360)/2","v":280},null,null,-10,150,null,null,null,null,-5,170,null,null,null,null,null,null,null,null,null,null,null,null,null,null,null,null,null,null,null,null,null,null,null,null,"2021-09-05",350,0,4,0,{"$f":"+K790","v":7.5}]
[null,null,null,null,null,null,null,null,null,null,{"$f":"+(6+10+2)/3","v":6},{"$f":"+(200+310+190)/3","v":233.33333333333334},null,null,-8,160,null,null,null,null,null,null,null,null,null,null,-8,160,null,null,null,null,null,null,null,null,null,null,-2,180,null,null,null,null,null,null,"2021-09-06",351,0,4,{"$f":"+AW791/AX791","v":0},{"$f":"+K791*2","v":12}]
[null,null,null,null,null,null,null,null,null,null,{"$f":"(-4+6)/2","v":1},{"$f":"+(170+270)/2","v":220},null,null,2,180,null,null,null,null,-4,170,null,null,null,null,10,290,null,null,null,null,null,null,null,null,null,null,-10,130,null,null,null,null,null,null,"2021-09-06",351,0,5,0,{"$f":"+K792","v":1}]
[null,null,null,null,null,null,null,null,null,null,{"$f":"(-10+10)/2","v":0},{"$f":"+(100+230)/2","v":165},-6,140,null,null,null,null,null,null,4,180,null,null,null,null,4,180,null,null,null,null,null,null,null,null,-2,160,null,null,null,null,null,null,null,null,"2021-09-06",351,0,5,{"$f":"+AW793/AX793","v":0},{"$f":"+K793","v":0}]
[null,null,null,null,null,null,null,null,null,null,{"$f":"(-2+10+2)/3","v":3.3333333333333335},{"$f":"+(180+300+200)/3","v":226.66666666666666},-6,170,null,null,null,null,null,null,6,290,null,null,null,null,-10,160,null,null,null,null,null,null,null,null,null,null,null,null,null,null,null,null,null,null,"2021-09-06",351,0,4,{"$f":"+AW794/AX794","v":0},{"$f":"+K794*2","v":6.666666666666667}]
[null,null,null,null,null,null,null,null,null,null,{"$f":"(2-6+6)/3","v":0.66666666666666663},{"$f":"+(220+160+230)/3","v":203.33333333333334},-2,180,null,null,null,null,null,null,null,null,null,null,null,null,null,null,null,null,10,240,null,null,null,null,-10,80,null,null,null,null,null,null,null,null,"2021-09-08",353,0,4,{"$f":"+AW795/AX795","v":0},{"$f":"+K795*2","v":1.3333333333333333}]
[null,null,null,null,null,null,null,null,null,null,{"$f":"(10+2-4)/3","v":2.6666666666666665},{"$f":"+(260+230+190)/3","v":226.66666666666666},-10,170,null,null,6,250,null,null,null,null,null,null,null,null,null,null,null,null,-4,190,null,null,null,null,null,null,null,null,null,null,null,null,null,null,"2021-09-09",355,-8.8817841970012523E-16,4,-2.2204460492503131E-16,5.333333333333333]
[null,null,null,null,null,null,null,null,null,null,{"$f":"(6-6-10)/3","v":-3.3333333333333335},{"$f":"+(250+190+90)/3","v":176.66666666666666},null,null,null,null,null,null,null,null,null,null,null,null,-2,200,null,null,null,null,null,null,null,null,6,250,null,null,null,null,null,null,6,250,null,null,"2021-09-10",356,0,4,{"$f":"+AW797/AX797","v":0},{"$f":"+K797*2","v":-6.666666666666667}]
[null,null,null,null,null,null,null,null,null,null,{"$f":"(-2+8)/2","v":3},{"$f":"+(180+220)/2","v":200},null,null,null,null,8,220,null,null,null,null,null,null,-6,170,null,null,null,null,null,null,null,null,-10,140,null,null,null,null,null,null,2,190,null,null,"2021-09-10",356,0,5,0,{"$f":"+K798","v":3}]
[null,null,null,null,null,null,null,null,null,null,{"$f":"(-10-2)/2","v":-6},{"$f":"+(150+270)/2","v":210},null,null,null,null,4,280,null,null,null,null,null,null,4,280,null,null,null,null,-6,230,null,null,10,300,null,null,null,null,null,null,null,null,null,null,"2021-09-10",356,0,5,0,-6]
[null,null,null,null,-6,160,null,null,null,null,{"$f":"(-2+6)/2","v":2},{"$f":"+(280+190)/2","v":235},-10,50,null,null,null,null,null,null,2,210,null,null,null,null,null,null,null,null,null,",",null,null,null,null,null,null,10,290,null,null,null,null,null,null,"2021-09-12",357,{"$f":"+AI800+AE800+Y800+W800+U800+S800+Q800+O800+M800+I800+G800+E800+C800+AG800+K800+AS800+AZ800+AA800+AC800+AK800+AM800+AO800+AQ800","v":0},{"$f":"COUNT(C800:AT800)/2","v":5},{"$f":"+AW800/AX800","v":0},{"$f":"+K800","v":2}]
[null,null,null,null,-6,120,null,null,null,null,{"$f":"(-2+6)/2","v":2},{"$f":"+(270+150)/2","v":210},10,280,null,null,null,null,null,null,-10,100,null,null,null,null,null,null,null,null,null,null,null,null,null,null,null,null,2,240,null,null,null,null,null,null,"2021-09-12",357,0,5,0,2]
[null,null,null,null,-10,80,null,null,null,null,null,null,0,160,null,null,null,null,null,null,10,350,null,null,null,null,null,null,null,null,null,null,null,null,null,null,null,null,null,null,null,null,null,null,null,null,"2021-09-12",357,0,3]
[null,null,null,null,null,null,null,null,null,null,{"$f":"(0-6+0)/3","v":-2},{"$f":"+(150+170+170)/3","v":163.33333333333334},null,null,6,180,null,null,null,null,null,null,null,null,null,null,null,null,null,null,null,null,null,null,null,null,null,null,-10,70,null,null,10,220,null,null,"2021-09-13",358,0,4,{"$f":"+AW803/AX803","v":0},{"$f":"+K803*2","v":-4}]
[null,null,null,null,null,null,null,null,null,null,{"$f":"(10+2-2)/3","v":3.3333333333333335},{"$f":"+(240+180+170)/3","v":196.66666666666666},null,null,6,220,null,null,null,null,null,null,null,null,null,null,null,null,null,null,null,null,null,null,null,null,-10,100,-6,160,null,null,null,null,null,null,"2021-09-14",359,0,4,0,6.666666666666667]
[null,null,null,null,6,220,null,null,null,null,{"$f":"(6-2-10)/3","v":-2},{"$f":"+(220+210+50)/3","v":160},null,null,-6,190,null,null,null,null,6,220,null,null,null,null,null,null,null,null,null,null,null,null,null,null,null,null,null,null,null,null,null,null,null,null,"2021-09-15",360,0,4,{"$f":"+AW805/AX805","v":0},{"$f":"+K805*2","v":-4}]
[null,null,null,null,null,null,10,450,null,null,null,null,null,null,4,330,10,510,4,320,null,null,null,null,null,null,null,null,-10,110,null,null,null,null,null,null,null,null,-4,250,-4,150,null,null,-10,210,"2021-09-18",363,0,8]
[null,null,null,null,-6,160,null,null,null,null,{"$f":"(10+6-10)/3","v":2},{"$f":"+(250+220+130)/3","v":200},2,200,null,null,null,null,null,null,-2,170,null,null,null,null,null,null,null,null,null,null,null,null,null,null,null,null,null,null,null,null,null,null,null,null,"2021-09-19",364,0,4,{"$f":"+AW807/AX807","v":0},{"$f":"+K807*2","v":4}]
[null,null,null,null,10,260,null,null,null,null,{"$f":"(-4-10+2)/3","v":-4},{"$f":"+(210+40+210)/3","v":153.33333333333334},null,null,null,null,null,null,null,null,6,250,null,null,null,null,null,null,null,null,-4,210,null,null,null,null,null,null,null,null,null,null,null,null,null,null,"2021-09-19",364,0,4,0,-8]
[null,null,null,null,0,180,null,null,null,null,{"$f":"(5-10)/2","v":-2.5},{"$f":"+(30+210)/2","v":120},null,null,null,null,null,null,null,null,-5,100,null,null,null,null,null,null,null,null,null,null,null,null,null,null,null,null,10,250,null,null,null,null,null,null,"2021-09-19",364,0,4,0,{"$f":"+K809","v":-2.5}]
[null,null,null,null,-2,150,null,null,null,null,{"$f":"(10+2-6)/3","v":2},{"$f":"+(260+160+50)/3","v":156.66666666666666},null,null,null,null,null,null,null,null,6,240,null,null,null,null,null,null,null,null,null,null,null,null,null,null,null,null,-10,10,null,null,null,null,null,null,"2021-09-19",364,0,4,0,4]
[null,null,null,null,null,null,null,null,null,null,{"$f":"(8+2-10)/3","v":0},{"$f":"+(280+270+150)/3","v":233.33333333333334},null,null,null,null,8,280,null,null,-4,260,null,null,null,null,null,null,null,null,null,null,null,null,null,null,null,null,-4,260,null,null,null,null,null,null,"2021-09-19",364,0,4,0,0]
[null,null,null,null,null,null,null,null,null,null,{"$f":"(2+6-6)/3","v":0.66666666666666663},{"$f":"+(240+250+120)/3","v":203.33333333333334},-10,30,10,330,null,null,null,null,null,null,null,null,null,null,null,null,null,null,null,null,null,null,null,null,null,null,-2,160,null,null,null,null,null,null,"2021-09-20",366,0,4,0,1.3333333333333333]
[null,null,-10,100,null,null,null,null,null,null,{"$f":"(4-6+10)/3","v":2.6666666666666665},{"$f":"+(200+120+220)/3","v":180},null,null,null,null,4,200,null,null,null,null,null,null,null,null,-2,170,null,null,null,null,null,null,null,null,null,null,null,null,null,null,null,null,null,null,"2021-09-26",367,-4.4408920985006262E-16,4,{"$f":"+AW813/AX813","v":-1.1102230246251565E-16},{"$f":"+K813*2","v":5.333333333333333}]
[null,null,null,null,5,230,null,null,null,null,{"$f":"(0-7.5)/2","v":-3.75},{"$f":"+(160+90)/2","v":125},null,null,null,null,null,null,null,null,10,290,null,null,null,null,-7.5,90,null,null,null,null,null,null,null,null,null,null,null,null,null,null,null,null,null,null,"2021-09-27",368,0,4,0,{"$f":"+K814","v":-3.75}]
[null,null,null,null,null,null,null,null,null,null,{"$f":"(4+4-8)/3","v":0},{"$f":"+(210+210+120)/3","v":180},null,null,10,240,null,null,null,null,-2,170,null,null,null,null,-8,120,null,null,null,null,null,null,null,null,null,null,null,null,null,null,null,null,null,null,"2021-09-27",368,0,4,{"$f":"+AW815/AX815","v":0},{"$f":"+K815*2","v":0}]
[null,null,null,null,null,null,null,null,null,null,-10,-10,null,null,null,null,10,260,null,null,-5,170,null,null,null,null,0,230,null,null,null,null,5,240,null,null,null,null,null,null,null,null,null,null,null,null,"2021-09-27",368,0,5]
[null,null,null,null,null,null,null,null,null,null,{"$f":"(2-2-6)/3","v":-2},{"$f":"+(240+220+160)/3","v":206.66666666666666},null,null,null,null,null,null,null,null,10,280,null,null,null,null,null,null,null,null,6,250,null,null,null,null,null,null,-10,130,null,null,null,null,null,null,"2021-09-28",369,0,4,{"$f":"+AW817/AX817","v":0},{"$f":"+K817*2","v":-4}]
[null,null,-6,150,null,null,null,null,null,null,{"$f":"(-10+6+0)/3","v":-1.3333333333333333},{"$f":"+(120+250+160)/3","v":176.66666666666666},null,null,null,null,10,270,null,null,null,null,null,null,null,null,0,160,null,null,null,null,null,null,null,null,null,null,null,null,null,null,null,null,null,null,"2021-09-29",370,4.4408920985006262E-16,4,1.1102230246251565E-16,-2.6666666666666665]
[null,null,5,290,0,250,-5,160,null,null,null,null,null,null,null,null,5,230,null,null,10,270,0,220,null,null,null,null,-5,180,null,null,null,null,null,null,-10,140,10,300,-10,130,null,null,null,null,"2021-10-11",374,0,10]
[null,null,5,220,null,null,null,null,null,null,{"$f":"(-10-2.5)/2","v":-6.25},{"$f":"+(130+200)/2","v":165},null,null,null,null,10,230,null,null,null,null,null,null,null,null,null,null,-2.5,200,null,null,null,null,null,null,null,null,null,null,null,null,null,null,null,null,"2021-10-12",374,0,4,{"$f":"+AW820/AX820","v":0},{"$f":"+K820","v":-6.25}]
[null,null,-10,110,null,null,null,null,null,null,4,370,null,null,null,null,10,390,null,null,null,null,null,null,null,null,null,null,-4,140,null,null,null,null,null,null,null,null,null,null,null,null,null,null,null,null,"2021-10-14",375,0,4]
[null,null,-10,80,-6,100,null,null,null,null,4,210,null,null,null,null,4,210,null,null,-2,140,null,null,null,null,null,null,10,280,null,null,null,null,null,null,null,null,null,null,null,null,null,null,null,null,"2021-10-16",376,0,6]
[null,null,-10,120,-2,140,null,null,null,null,-6,130,null,null,null,null,10,210,null,null,2,170,null,null,null,null,null,null,6,190,null,null,null,null,null,null,null,null,null,null,null,null,null,null,null,null,"2021-10-18",377,0,6]
[null,null,-4,200,null,null,null,null,null,null,4,210,null,null,null,null,10,290,null,null,null,null,null,null,null,null,null,null,-10,130,null,null,null,null,null,null,null,null,null,null,null,null,null,null,null,null,"2021-10-19",378,0,4]
[null,null,6,200,null,null,null,null,null,null,{"$f":"(-10-2)/2","v":-6},{"$f":"+(90+180)/2","v":135},null,null,null,null,10,230,null,null,2,190,null,null,null,null,null,null,-6,140,null,null,null,null,null,null,null,null,null,null,null,null,null,null,null,null,"2021-10-20",379,0,5,{"$f":"+AW825/AX825","v":0},{"$f":"+K825","v":-6}]
[null,null,-10,90,null,null,null,null,null,null,{"$f":"(0-5)/2","v":-2.5},{"$f":"+(170+140)/2","v":155},null,null,null,null,10,280,null,null,null,null,null,null,null,null,null,null,5,220,null,null,null,null,null,null,null,null,null,null,null,null,null,null,null,null,"2021-10-21",380,0,4,{"$f":"+AW826/AX826","v":0},{"$f":"+K826","v":-2.5}]
[null,null,5,300,null,null,null,null,null,null,0,280,null,null,null,null,10,320,null,null,null,null,null,null,null,null,-10,140,-5,210,null,null,null,null,null,null,null,null,null,null,null,null,null,null,null,null,"2021-10-24",381,0,5]
[null,null,0,240,null,null,null,null,null,null,{"$f":"(-10+10)/2","v":0},{"$f":"+(100+360)/2","v":230},null,null,null,null,5,340,null,null,null,null,null,null,null,null,null,null,-5,230,null,null,null,null,null,null,null,null,null,null,null,null,null,null,null,null,"2021-10-25",382,0,4,{"$f":"+AW828/AX828","v":0},{"$f":"+K828","v":0}]
[null,null,-5,160,null,null,null,null,null,null,{"$f":"(5+0)/2","v":2.5},{"$f":"+(220+360)/2","v":290},null,null,null,null,10,435,null,null,null,null,null,null,null,null,null,null,-10,-20,null,null,null,null,null,null,null,null,null,null,null,null,null,null,null,null,"2021-10-31",388,0,4,0,2.5]
[null,null,null,null,null,null,null,null,null,null,null,null,null,null,null,null,null,null,null,null,null,null,null,null,null,null,null,null,null,null,null,null,null,null,null,null,null,null,null,null,null,null,null,null,null,null,null,null,0,0]
[null,null,null,null,null,null,null,null,null,null,null,null,null,null,null,null,null,null,null,null,null,null,null,null,null,null,null,null,null,null,null,null,null,null,null,null,null,null,null,null,null,null,null,null,null,null,null,null,0,0]
[null,null,null,null,null,null,null,null,null,null,null,null,null,null,null,null,null,null,null,null,null,null,null,null,null,null,null,null,null,null,null,null,null,null,null,null,null,null,null,null,null,null,null,null,null,null,null,null,0,0]
[null,null,null,null,null,null,null,null,null,null,null,null,null,null,null,null,null,null,null,null,null,null,null,null,null,null,null,null,null,null,null,null,null,null,null,null,null,null,null,null,null,null,null,null,null,null,null,null,0,0]
[null,null,null,null,null,null,null,null,null,null,null,null,null,null,null,null,null,null,null,null,null,null,null,null,null,null,null,null,null,null,null,null,null,null,null,null,null,null,null,null,null,null,null,null,null,null,null,null,0,0]
[null,null,null,null,null,null,null,null,null,null,null,null,null,null,null,null,null,null,null,null,null,null,null,null,null,null,null,null,null,null,null,null,null,null,null,null,null,null,null,null,null,null,null,null,null,null,null,null,0,0]
[null,null,null,null,null,null,null,null,null,null,null,null,null,null,null,null,null,null,null,null,null,null,null,null,null,null,null,null,null,null,null,null,null,null,null,null,null,null,null,null,null,null,null,null,null,null,null,null,0,0]
[null,null,null,null,null,null,null,null,null,null,null,null,null,null,null,null,null,null,null,null,null,null,null,null,null,null,null,null,null,null,null,null,null,null,null,null,null,null,null,null,null,null,null,null,null,null,null,null,0,0]
[null,null,null,null,null,null,null,null,null,null,null,null,null,null,null,null,null,null,null,null,null,null,null,null,null,null,null,null,null,null,null,null,null,null,null,null,null,null,null,null,null,null,null,null,null,null,null,null,0,0]
[null,null,null,null,null,null,null,null,null,null,null,null,null,null,null,null,null,null,null,null,null,null,null,null,null,null,null,null,null,null,null,null,null,null,null,null,null,null,null,null,null,null,null,null,null,null,null,null,0,0]
[null,null,null,null,null,null,null,null,null,null,null,null,null,null,null,null,null,null,null,null,null,null,null,null,null,null,null,null,null,null,null,null,null,null,null,null,null,null,null,null,null,null,null,null,null,null,null,null,0,0]
[null,null,null,null,null,null,null,null,null,null,null,null,null,null,null,null,null,null,null,null,null,null,null,null,null,null,null,null,null,null,null,null,null,null,null,null,null,null,null,null,null,null,null,null,null,null,null,null,0,0]
[null,null,null,null,null,null,null,null,null,null,null,null,null,null,null,null,null,null,null,null,null,null,null,null,null,null,null,null,null,null,null,null,null,null,null,null,null,null,null,null,null,null,null,null,null,null,null,null,0,0]
[null,null,null,null,null,null,null,null,null,null,null,null,null,null,null,null,null,null,null,null,null,null,null,null,null,null,null,null,null,null,null,null,null,null,null,null,null,null,null,null,null,null,null,null,null,null,null,null,0,0]
[null,null,null,null,null,null,null,null,null,null,null,null,null,null,null,null,null,null,null,null,null,null,null,null,null,null,null,null,null,null,null,null,null,null,null,null,null,null,null,null,null,null,null,null,null,null,null,null,0,0]
[null,null,null,null,null,null,null,null,null,null,null,null,null,null,null,null,null,null,null,null,null,null,null,null,null,null,null,null,null,null,null,null,null,null,null,null,null,null,null,null,null,null,null,null,null,null,null,null,0,0]
[null,null,null,null,null,null,null,null,null,null,null,null,null,null,null,null,null,null,null,null,null,null,null,null,null,null,null,null,null,null,null,null,null,null,null,null,null,null,null,null,null,null,null,null,null,null,null,null,0,0]
[null,null,null,null,null,null,null,null,null,null,null,null,null,null,null,null,null,null,null,null,null,null,null,null,null,null,null,null,null,null,null,null,null,null,null,null,null,null,null,null,null,null,null,null,null,null,null,null,0,0]
[null,null,null,null,null,null,null,null,null,null,null,null,null,null,null,null,null,null,null,null,null,null,null,null,null,null,null,null,null,null,null,null,null,null,null,null,null,null,null,null,null,null,null,null,null,null,null,null,0,0]
[null,null,null,null,null,null,null,null,null,null,null,null,null,null,null,null,null,null,null,null,null,null,null,null,null,null,null,null,null,null,null,null,null,null,null,null,null,null,null,null,null,null,null,null,null,null,null,null,0,0]
[null,null,null,null,null,null,null,null,null,null,null,null,null,null,null,null,null,null,null,null,null,null,null,null,null,null,null,null,null,null,null,null,null,null,null,null,null,null,null,null,null,null,null,null,null,null,null,null,0,0]
[null,null,null,null,null,null,null,null,null,null,null,null,null,null,null,null,null,null,null,null,null,null,null,null,null,null,null,null,null,null,null,null,null,null,null,null,null,null,null,null,null,null,null,null,null,null,null,null,0,0]
[]
[]
[]
[]
[]
[]
[]
[]
[]
[]
[]
[]
[]
[]
[]
[]
[]
[]
[]
[]
[]
[]
[]
[]
[]
[]
[]
[]
[]
[]
[]
[]
[]
[]
[]
[]
[]
[]
[]
[]
[]
[]
[]
[]
[]
[]
[]
[]
[]
[]
[{"$f":"+A600+1","v":555},null,null,null,null,null,null,null,null,null,null,null,null,null,null,null,null,null,null,null,null,null,null,null,null,null,null,null,null,null,null,null,null,null,null,null,null,null,null,null,null,null,null,null,null,null,null,null,{"$f":"+AI902+AE902+Y902+W902+U902+S902+Q902+O902+M902+I902+G902+E902+C902+AG902+K902+AS902+AZ902+AA902+AC902+AK902+AM902+AO902","v":0},0]

{"sheet":"Cribbage","index":2,"n_rows":1116,"n_cols":70,"rows_kept":1116,"cut":false,"hidden":false,"merged":[[45,59,45,61],[45,38,45,40],[45,41,45,43],[45,44,45,46],[45,47,45,49],[45,50,45,52],[45,53,45,55],[45,56,45,58],[45,35,45,37],[45,2,45,4],[45,5,45,7],[45,8,45,10],[45,11,45,13],[45,14,45,16],[45,17,45,19],[45,20,45,22],[45,23,45,25],[45,26,45,28],[45,29,45,31],[45,32,45,34]]}
["CRIBBAGE"]
["Mes"]
[{"$f":"+GENERAL!B6","v":12},null,{"$f":"SUM(C5:C18)","v":0}]
[null,null,"Premi","Punts","Partides","General"]
[1,"Sebas",{"$f":"+AP$43","v":125},{"$f":"+AP$44","v":19},{"$f":"+AQ$43","v":97},{"$f":"+AP$29","v":80},{"$f":"IF(E5<A$3/2,-1,1)*800+C5+D5/1000","v":925.01900000000001}]
[2,"Gemma",{"$f":"+L$43","v":106},{"$f":"+L$44","v":23},{"$f":"+M$43","v":229},{"$f":"+L$29","v":40},906.02300000000002]
[3,"Carles",{"$f":"+U$43","v":91},{"$f":"+U$44","v":167},{"$f":"+V$43","v":21},{"$f":"+U$29","v":20},891.16700000000003]
[4,"Jordi",{"$f":"+C$43","v":64},{"$f":"+C$44","v":199},{"$f":"+D$43","v":122},{"$f":"+C$29","v":10},864.19899999999996]
[5,"Nogué",{"$f":"+R$43","v":28},{"$f":"+R$44","v":194.5},{"$f":"+S$43","v":250},{"$f":"+R$29","v":5},828.19449999999995]
[6,"CyberX",{"$f":"+AY$43","v":-8},{"$f":"+AY$44","v":53},{"$f":"+AZ$43","v":9},{"$f":"+AY$29","v":0},792.053]
[7,"Manolo",{"$f":"+AM$43","v":-22},{"$f":"+AM$44","v":-96},{"$f":"+AN$43","v":12},{"$f":"+AM$29","v":0},777.904]
[8,"Ana B.",{"$f":"+AG$43","v":-51},{"$f":"+AG$44","v":-120},{"$f":"+AH$43","v":13},{"$f":"+AG$29","v":0},748.88]
[9,"Nin",{"$f":"+BE$43","v":-63},{"$f":"+BE$44","v":-178},{"$f":"+BF$43","v":12},{"$f":"+BE$29","v":0},736.822]
[10,"Grau",{"$f":"+AV$43","v":-120},{"$f":"+AV$44","v":-168},{"$f":"+AW$43","v":164},{"$f":"+AV$29","v":0},679.83199999999999]
[11,"Núria",{"$f":"+I$43","v":-180},{"$f":"+I$44","v":-122.5},{"$f":"+J$43","v":185},{"$f":"+I$29","v":0},619.87750000000005]
[12,"Goretti",{"$f":"+AS$43","v":50},{"$f":"+AS$44","v":45},{"$f":"+AT$43","v":5},{"$f":"+AS$29","v":0},-749.95500000000004]
[13,"Òscar",{"$f":"+O$43","v":30},{"$f":"+O$44","v":57},{"$f":"+P$43","v":3},{"$f":"+O$29","v":0},-769.94299999999998]
[14,"Sergi",{"$f":"+F$43","v":-50},{"$f":"+F$44","v":-75},{"$f":"+G$43","v":5},{"$f":"+F$29","v":0},-850.07500000000005]
[15,"Lluisa",{"$f":"+BH$43","v":-100000000},{"$f":"+BH$44","v":1},{"$f":"+BI$43","v":0},{"$f":"+BH$29","v":0},{"$f":"IF(E19<A$3/2,-1,1)*800+C19+D19/1000","v":-100000799.999}]
[16,"Mariajo",{"$f":"+X$43","v":-100000000},{"$f":"+X$44","v":1},{"$f":"+Y$43","v":0},{"$f":"+X$29","v":0},-100000799.999]
[17,"Joan",{"$f":"+AD$43","v":-100000000},{"$f":"+AD$44","v":1},{"$f":"+AE$43","v":0},{"$f":"+AD$29","v":0},-100000799.999]
[18,"Rosa M.",{"$f":"+AA$43","v":-100000000},{"$f":"+AA$44","v":1},{"$f":"+AB$43","v":0},{"$f":"+AA$29","v":0},-100000799.999]
[19,"Tito",{"$f":"+BB$43","v":-100000000},{"$f":"+BB$44","v":1},{"$f":"+BC$43","v":0},{"$f":"+BB$29","v":0},-100000799.999]
[20,"Anna P.",{"$f":"+AJ$43","v":-100000000},{"$f":"+AJ$44","v":1},{"$f":"+AK$43","v":0},{"$f":"+AJ$29","v":0},-100000799.999]
[21,null,null,null,null,null,-800]
[22,null,null,null,null,null,-800]
[]
[]
[null,"General",{"$f":"+C30*C31","v":10},{"$f":"+D30*D31","v":122},null,{"$f":"+F30*F31","v":0},{"$f":"+G30*G31","v":5},null,{"$f":"+I30*I31","v":0},{"$f":"+J30*J31","v":185},null,{"$f":"+L30*L31","v":40},{"$f":"+M30*M31","v":229},null,{"$f":"+O30*O31","v":0},{"$f":"+P30*P31","v":3},null,{"$f":"+R30*R31","v":5},{"$f":"+S30*S31","v":250},null,{"$f":"+U30*U31","v":20},{"$f":"+V30*V31","v":21},null,{"$f":"+X30*X31","v":0},{"$f":"+Y30*Y31","v":0},null,{"$f":"+AA30*AA31","v":0},{"$f":"+AB30*AB31","v":0},null,{"$f":"+AD30*AD31","v":0},{"$f":"+AE30*AE31","v":0},null,{"$f":"+AG30*AG31","v":0},{"$f":"+AH30*AH31","v":13},null,{"$f":"+AJ30*AJ31","v":0},{"$f":"+AK30*AK31","v":0},null,{"$f":"+AM30*AM31","v":0},{"$f":"+AN30*AN31","v":12},null,{"$f":"+AP30*AP31","v":80},{"$f":"+AQ30*AQ31","v":97},null,{"$f":"+AS30*AS31","v":0},{"$f":"+AT30*AT31","v":5},null,{"$f":"+AV30*AV31","v":0},{"$f":"+AW30*AW31","v":164},null,{"$f":"+AY30*AY31","v":0},{"$f":"+AZ30*AZ31","v":9},null,{"$f":"+BB30*BB31","v":0},{"$f":"+BC30*BC31","v":0},null,{"$f":"+BE30*BE31","v":0},{"$f":"+BF30*BF31","v":12},null,{"$f":"+BH30*BH31","v":0},{"$f":"+BI30*BI31","v":0}]
[null,null,{"$f":"IF($B42>3,1,0)","v":1},{"$f":"IF($B42>3,1,0)","v":1},null,{"$f":"IF($B42>3,1,0)","v":1},{"$f":"IF($B42>3,1,0)","v":1},null,{"$f":"IF($B42>3,1,0)","v":1},{"$f":"IF($B42>3,1,0)","v":1},null,{"$f":"IF($B42>3,1,0)","v":1},{"$f":"IF($B42>3,1,0)","v":1},null,{"$f":"IF($B42>3,1,0)","v":1},{"$f":"IF($B42>3,1,0)","v":1},null,{"$f":"IF($B42>3,1,0)","v":1},{"$f":"IF($B42>3,1,0)","v":1},null,{"$f":"IF($B42>3,1,0)","v":1},{"$f":"IF($B42>3,1,0)","v":1},null,{"$f":"IF($B42>3,1,0)","v":1},{"$f":"IF($B42>3,1,0)","v":1},null,{"$f":"IF($B42>3,1,0)","v":1},{"$f":"IF($B42>3,1,0)","v":1},null,{"$f":"IF($B42>3,1,0)","v":1},{"$f":"IF($B42>3,1,0)","v":1},null,{"$f":"IF($B42>3,1,0)","v":1},{"$f":"IF($B42>3,1,0)","v":1},null,{"$f":"IF($B42>3,1,0)","v":1},{"$f":"IF($B42>3,1,0)","v":1},null,{"$f":"IF($B42>3,1,0)","v":1},{"$f":"IF($B42>3,1,0)","v":1},null,{"$f":"IF($B42>3,1,0)","v":1},{"$f":"IF($B42>3,1,0)","v":1},null,{"$f":"IF($B42>3,1,0)","v":1},{"$f":"IF($B42>3,1,0)","v":1},null,{"$f":"IF($B42>3,1,0)","v":1},{"$f":"IF($B42>3,1,0)","v":1},null,{"$f":"IF($B42>3,1,0)","v":1},{"$f":"IF($B42>3,1,0)","v":1},null,{"$f":"IF($B42>3,1,0)","v":1},{"$f":"IF($B42>3,1,0)","v":1},null,{"$f":"IF($B42>3,1,0)","v":1},{"$f":"IF($B42>3,1,0)","v":1},null,{"$f":"IF($B42>3,1,0)","v":1},{"$f":"IF($B42>3,1,0)","v":1}]
[null,null,{"$f":"MAX(C32:C36)","v":10},{"$f":"+D43","v":122},null,{"$f":"MAX(F32:F36)","v":0},{"$f":"+G43","v":5},null,{"$f":"MAX(I32:I36)","v":0},{"$f":"+J43","v":185},null,{"$f":"MAX(L32:L36)","v":40},{"$f":"+M43","v":229},null,{"$f":"MAX(O32:O36)","v":0},{"$f":"+P43","v":3},null,{"$f":"MAX(R32:R36)","v":5},{"$f":"+S43","v":250},null,{"$f":"MAX(U32:U36)","v":20},{"$f":"+V43","v":21},null,{"$f":"MAX(X32:X36)","v":0},{"$f":"+Y43","v":0},null,{"$f":"MAX(AA32:AA36)","v":0},{"$f":"+AB43","v":0},null,{"$f":"MAX(AD32:AD36)","v":0},{"$f":"+AE43","v":0},null,{"$f":"MAX(AG32:AG36)","v":0},{"$f":"+AH43","v":13},null,{"$f":"MAX(AJ32:AJ36)","v":0},{"$f":"+AK43","v":0},null,{"$f":"MAX(AM32:AM36)","v":0},{"$f":"+AN43","v":12},null,{"$f":"MAX(AP32:AP36)","v":80},{"$f":"+AQ43","v":97},null,{"$f":"MAX(AS32:AS36)","v":0},{"$f":"+AT43","v":5},null,{"$f":"MAX(AV32:AV36)","v":0},{"$f":"+AW43","v":164},null,{"$f":"MAX(AY32:AY36)","v":0},{"$f":"+AZ43","v":9},null,{"$f":"MAX(BB32:BB36)","v":0},{"$f":"+BC43","v":0},null,{"$f":"MAX(BE32:BE36)","v":0},{"$f":"+BF43","v":12},null,{"$f":"MAX(BH32:BH36)","v":0},{"$f":"+BI43","v":0}]
[null,null,{"$f":"IF(C$37=5,5,0)","v":0},null,null,{"$f":"IF(F$37=5,5,0)","v":0},null,null,{"$f":"IF(I$37=5,5,0)","v":0},null,null,{"$f":"IF(L$37=5,5,0)","v":0},null,null,{"$f":"IF(O$37=5,5,0)","v":0},null,null,{"$f":"IF(R$37=5,5,0)","v":5},null,null,{"$f":"IF(U$37=5,5,0)","v":0},null,null,{"$f":"IF(X$37=5,5,0)","v":0},null,null,{"$f":"IF(AA$37=5,5,0)","v":0},null,null,{"$f":"IF(AD$37=5,5,0)","v":0},null,null,{"$f":"IF(AG$37=5,5,0)","v":0},null,null,{"$f":"IF(AJ$37=5,5,0)","v":0},null,null,{"$f":"IF(AM$37=5,5,0)","v":0},null,null,{"$f":"IF(AP$37=5,5,0)","v":0},null,null,{"$f":"IF(AS$37=5,5,0)","v":0},null,null,{"$f":"IF(AV$37=5,5,0)","v":0},null,null,{"$f":"IF(AY$37=5,5,0)","v":0},null,null,{"$f":"IF(BB$37=5,5,0)","v":0},null,null,{"$f":"IF(BE$37=5,5,0)","v":0},null,null,{"$f":"IF(BH$37=5,5,0)","v":0}]
[null,null,{"$f":"IF(C$37=4,10,0)","v":10},null,null,{"$f":"IF(F$37=4,10,0)","v":0},null,null,{"$f":"IF(I$37=4,10,0)","v":0},null,null,{"$f":"IF(L$37=4,10,0)","v":0},null,null,{"$f":"IF(O$37=4,10,0)","v":0},null,null,{"$f":"IF(R$37=4,10,0)","v":0},null,null,{"$f":"IF(U$37=4,10,0)","v":0},null,null,{"$f":"IF(X$37=4,10,0)","v":0},null,null,{"$f":"IF(AA$37=4,10,0)","v":0},null,null,{"$f":"IF(AD$37=4,10,0)","v":0},null,null,{"$f":"IF(AG$37=4,10,0)","v":0},null,null,{"$f":"IF(AJ$37=4,10,0)","v":0},null,null,{"$f":"IF(AM$37=4,10,0)","v":0},null,null,{"$f":"IF(AP$37=4,10,0)","v":0},null,null,{"$f":"IF(AS$37=4,10,0)","v":0},null,null,{"$f":"IF(AV$37=4,10,0)","v":0},null,null,{"$f":"IF(AY$37=4,10,0)","v":0},null,null,{"$f":"IF(BB$37=4,10,0)","v":0},null,null,{"$f":"IF(BE$37=4,10,0)","v":0},null,null,{"$f":"IF(BH$37=4,10,0)","v":0}]
[null,null,{"$f":"IF(C$37=3,20,0)","v":0},null,null,{"$f":"IF(F$37=3,20,0)","v":0},null,null,{"$f":"IF(I$37=3,20,0)","v":0},null,null,{"$f":"IF(L$37=3,20,0)","v":0},null,null,{"$f":"IF(O$37=3,20,0)","v":0},null,null,{"$f":"IF(R$37=3,20,0)","v":0},null,null,{"$f":"IF(U$37=3,20,0)","v":20},null,null,{"$f":"IF(X$37=3,20,0)","v":0},null,null,{"$f":"IF(AA$37=3,20,0)","v":0},null,null,{"$f":"IF(AD$37=3,20,0)","v":0},null,null,{"$f":"IF(AG$37=3,20,0)","v":0},null,null,{"$f":"IF(AJ$37=3,20,0)","v":0},null,null,{"$f":"IF(AM$37=3,20,0)","v":0},null,null,{"$f":"IF(AP$37=3,20,0)","v":0},null,null,{"$f":"IF(AS$37=3,20,0)","v":0},null,null,{"$f":"IF(AV$37=3,20,0)","v":0},null,null,{"$f":"IF(AY$37=3,20,0)","v":0},null,null,{"$f":"IF(BB$37=3,20,0)","v":0},null,null,{"$f":"IF(BE$37=3,20,0)","v":0},null,null,{"$f":"IF(BH$37=3,20,0)","v":0}]
[null,null,{"$f":"IF(C$37=2,40,0)","v":0},null,null,{"$f":"IF(F$37=2,40,0)","v":0},null,null,{"$f":"IF(I$37=2,40,0)","v":0},null,null,{"$f":"IF(L$37=2,40,0)","v":40},null,null,{"$f":"IF(O$37=2,40,0)","v":0},null,null,{"$f":"IF(R$37=2,40,0)","v":0},null,null,{"$f":"IF(U$37=2,40,0)","v":0},null,null,{"$f":"IF(X$37=2,40,0)","v":0},null,null,{"$f":"IF(AA$37=2,40,0)","v":0},null,null,{"$f":"IF(AD$37=2,40,0)","v":0},null,null,{"$f":"IF(AG$37=2,40,0)","v":0},null,null,{"$f":"IF(AJ$37=2,40,0)","v":0},null,null,{"$f":"IF(AM$37=2,40,0)","v":0},null,null,{"$f":"IF(AP$37=2,40,0)","v":0},null,null,{"$f":"IF(AS$37=2,40,0)","v":0},null,null,{"$f":"IF(AV$37=2,40,0)","v":0},null,null,{"$f":"IF(AY$37=2,40,0)","v":0},null,null,{"$f":"IF(BB$37=2,40,0)","v":0},null,null,{"$f":"IF(BE$37=2,40,0)","v":0},null,null,{"$f":"IF(BH$37=2,40,0)","v":0}]
[null,null,{"$f":"IF(C$37=1,80,0)","v":0},null,null,{"$f":"IF(F$37=1,80,0)","v":0},null,null,{"$f":"IF(I$37=1,80,0)","v":0},null,null,{"$f":"IF(L$37=1,80,0)","v":0},null,null,{"$f":"IF(O$37=1,80,0)","v":0},null,null,{"$f":"IF(R$37=1,80,0)","v":0},null,null,{"$f":"IF(U$37=1,80,0)","v":0},null,null,{"$f":"IF(X$37=1,80,0)","v":0},null,null,{"$f":"IF(AA$37=1,80,0)","v":0},null,null,{"$f":"IF(AD$37=1,80,0)","v":0},null,null,{"$f":"IF(AG$37=1,80,0)","v":0},null,null,{"$f":"IF(AJ$37=1,80,0)","v":0},null,null,{"$f":"IF(AM$37=1,80,0)","v":0},null,null,{"$f":"IF(AP$37=1,80,0)","v":80},null,null,{"$f":"IF(AS$37=1,80,0)","v":0},null,null,{"$f":"IF(AV$37=1,80,0)","v":0},null,null,{"$f":"IF(AY$37=1,80,0)","v":0},null,null,{"$f":"IF(BB$37=1,80,0)","v":0},null,null,{"$f":"IF(BE$37=1,80,0)","v":0},null,null,{"$f":"IF(BH$37=1,80,0)","v":0}]
[null,null,{"$f":"RANK(C38,$C38:$BI38)*C42","v":4},null,null,{"$f":"RANK(F38,$C38:$BI38)*F42","v":0},null,null,{"$f":"RANK(I38,$C38:$BI38)*I42","v":13},null,null,{"$f":"RANK(L38,$C38:$BI38)*L42","v":2},null,null,{"$f":"RANK(O38,$C38:$BI38)*O42","v":0},null,null,{"$f":"RANK(R38,$C38:$BI38)*R42","v":5},null,null,{"$f":"RANK(U38,$C38:$BI38)*U42","v":3},null,null,{"$f":"RANK(X38,$C38:$BI38)*X42","v":0},null,null,{"$f":"RANK(AA38,$C38:$BI38)*AA42","v":0},null,null,{"$f":"RANK(AD38,$C38:$BI38)*AD42","v":0},null,null,{"$f":"RANK(AG38,$C38:$BI38)*AG42","v":8},null,null,{"$f":"RANK(AJ38,$C38:$BI38)*AJ42","v":0},null,null,{"$f":"RANK(AM38,$C38:$BI38)*AM42","v":7},null,null,{"$f":"RANK(AP38,$C38:$BI38)*AP42","v":1},null,null,{"$f":"RANK(AS38,$C38:$BI38)*AS42","v":0},null,null,{"$f":"RANK(AV38,$C38:$BI38)*AV42","v":12},null,null,{"$f":"RANK(AY38,$C38:$BI38)*AY42","v":6},null,null,{"$f":"RANK(BB38,$C38:$BI38)*BB42","v":0},null,null,{"$f":"RANK(BE38,$C38:$BI38)*BE42","v":9},null,null,{"$f":"RANK(BH38,$C38:$BI38)*BH42","v":0}]
[null,null,{"$f":"SUM(C39:C41)","v":6420086},null,null,{"$f":"SUM(F39:F41)","v":-1000007495},null,null,{"$f":"SUM(I39:I41)","v":-18012245},null,null,{"$f":"SUM(L39:L41)","v":10602635},null,null,{"$f":"SUM(O39:O41)","v":-999994297},null,null,{"$f":"SUM(R39:R41)","v":2819728},null,null,{"$f":"SUM(U39:U41)","v":9116812},null,null,{"$f":"SUM(X39:X41)","v":-999999900},null,null,{"$f":"SUM(AA39:AA41)","v":-999999900},null,null,{"$f":"SUM(AD39:AD41)","v":-999999900},null,null,{"$f":"SUM(AG39:AG41)","v":-5112038},null,null,{"$f":"SUM(AJ39:AJ41)","v":-999999900},null,null,{"$f":"SUM(AM39:AM41)","v":-2209610},null,null,{"$f":"SUM(AP39:AP41)","v":12502122},null,null,{"$f":"SUM(AS39:AS41)","v":-999995495},null,null,{"$f":"SUM(AV39:AV41)","v":-12016756},null,null,{"$f":"SUM(AY39:AY41)","v":-794699},null,null,{"$f":"SUM(BB39:BB41)","v":-9999900},null,null,{"$f":"SUM(BE39:BE41)","v":-6317851},null,null,{"$f":"SUM(BH39:BH41)","v":-9999900}]
[null,null,{"$f":"+D43","v":122},null,null,{"$f":"+G43","v":5},null,null,{"$f":"+J43","v":185},null,null,{"$f":"+M43","v":229},null,null,{"$f":"+P43","v":3},null,null,{"$f":"+S43","v":250},null,null,{"$f":"+V43","v":21},null,null,{"$f":"+Y43","v":0},null,null,{"$f":"+AB43","v":0},null,null,{"$f":"+AE43","v":0},null,null,{"$f":"+AH43","v":13},null,null,{"$f":"+AK43","v":0},null,null,{"$f":"+AN43","v":12},null,null,{"$f":"+AQ43","v":97},null,null,{"$f":"+AT43","v":5},null,null,{"$f":"+AW43","v":164},null,null,{"$f":"+AZ43","v":9},null,null,{"$f":"+BC43","v":0},null,null,{"$f":"+BF43","v":12},null,null,{"$f":"+BI43","v":0}]
[null,null,{"$f":"+C44*100","v":19900},null,null,{"$f":"+F44*100","v":-7500},null,null,{"$f":"+I44*100","v":-12250},null,null,{"$f":"+L44*100","v":2300},null,null,{"$f":"+O44*100","v":5700},null,null,{"$f":"+R44*100","v":19450},null,null,{"$f":"+U44*100","v":16700},null,null,{"$f":"+X44*100","v":100},null,null,{"$f":"+AA44*100","v":100},null,null,{"$f":"+AD44*100","v":100},null,null,{"$f":"+AG44*100","v":-12000},null,null,{"$f":"+AJ44*100","v":100},null,null,{"$f":"+AM44*100","v":-9600},null,null,{"$f":"+AP44*100","v":1900},null,null,{"$f":"+AS44*100","v":4500},null,null,{"$f":"+AV44*100","v":-16800},null,null,{"$f":"+AY44*100","v":5300},null,null,{"$f":"+BB44*100","v":100},null,null,{"$f":"+BE44*100","v":-17800},null,null,{"$f":"+BH44*100","v":100}]
[null,null,{"$f":"IF(D43-$A3/2<0,-1000000000,C43*C42*100000+C43)","v":6400064},null,null,{"$f":"IF(G43-$A3/2<0,-1000000000,F43*F42*100000+F43)","v":-1000000000},null,null,{"$f":"IF(J43-$A3/2<0,-1000000000,I43*I42*100000+I43)","v":-18000180},null,null,{"$f":"IF(M43-$A3/2<0,-1000000000,L43*L42*100000+L43)","v":10600106},null,null,{"$f":"IF(P43-$A3/2<0,-1000000000,O43*O42*100000+O43)","v":-1000000000},null,null,{"$f":"IF(S43-$A3/2<0,-1000000000,R43*R42*100000+R43)","v":2800028},null,null,{"$f":"IF(V43-$A3/2<0,-1000000000,U43*U42*100000+U43)","v":9100091},null,null,{"$f":"IF(Y43-$A3/2<0,-1000000000,X43*X42*100000+X43)","v":-1000000000},null,null,{"$f":"IF(AB43-$A3/2<0,-1000000000,AA43*AA42*100000+AA43)","v":-1000000000},null,null,{"$f":"IF(AE43-$A3/2<0,-1000000000,AD43*AD42*100000+AD43)","v":-1000000000},null,null,{"$f":"IF(AH43-$A3/2<0,-1000000000,AG43*AG42*100000+AG43)","v":-5100051},null,null,{"$f":"IF(AK43-$A3/2<0,-1000000000,AJ43*AJ42*100000+AJ43)","v":-1000000000},null,null,{"$f":"IF(AN43-$A3/2<0,-1000000000,AM43*AM42*100000+AM43)","v":-2200022},null,null,{"$f":"IF(AQ43-$A3/2<0,-1000000000,AP43*AP42*100000+AP43)","v":12500125},null,null,{"$f":"IF(AT43-$A3/2<0,-1000000000,AS43*AS42*100000+AS43)","v":-1000000000},null,null,{"$f":"IF(AW43-$A3/2<0,-1000000000,AV43*AV42*100000+AV43)","v":-12000120},null,null,{"$f":"IF(AZ43-$A3/2<0,-1000000000,AY43*AY42*100000+AY43)","v":-800008},null,null,{"$f":"IF(BC43-$A3/2<0,-10000000,BB43*BB42*100000+BB43)","v":-10000000},null,null,{"$f":"IF(BF43-$A3/2<0,-10000000,BE43*BE42*100000+BE43)","v":-6300063},null,null,{"$f":"IF(BI43-$A3/2<0,-10000000,BH43*BH42*100000+BH43)","v":-10000000}]
["Classificats",{"$f":"SUM(C42:BH42)","v":11},{"$f":"IF(D43>=$A3/2,1,0)","v":1},null,null,{"$f":"IF(G43>=$A3/2,1,0)","v":0},null,null,{"$f":"IF(J43>=$A3/2,1,0)","v":1},null,null,{"$f":"IF(M43>=$A3/2,1,0)","v":1},null,null,{"$f":"IF(P43>=$A3/2,1,0)","v":0},null,null,{"$f":"IF(S43>=$A3/2,1,0)","v":1},null,null,{"$f":"IF(V43>=$A3/2,1,0)","v":1},null,null,{"$f":"IF(Y43>=$A3/2,1,0)","v":0},null,null,{"$f":"IF(AB43>=$A3/2,1,0)","v":0},null,null,{"$f":"IF(AE43>=$A3/2,1,0)","v":0},null,null,{"$f":"IF(AH43>=$A3/2,1,0)","v":1},null,null,{"$f":"IF(AK43>=$A3/2,1,0)","v":0},null,null,{"$f":"IF(AN43>=$A3/2,1,0)","v":1},null,null,{"$f":"IF(AQ43>=$A3/2,1,0)","v":1},null,null,{"$f":"IF(AT43>=$A3/2,1,0)","v":0},null,null,{"$f":"IF(AW43>=$A3/2,1,0)","v":1},null,null,{"$f":"IF(AZ43>=$A3/2,1,0)","v":1},null,null,{"$f":"IF(BC43>=$A3/2,1,0)","v":0},null,null,{"$f":"IF(BF43>=$A3/2,1,0)","v":1},null,null,{"$f":"IF(BI43>=$A3/2,1,0)","v":0},null,null,{"$f":"MAX(BL45:BL1100)","v":388}]
[null,null,{"$f":"IF(SUM(C48:C1100)<-1000,-100000000,SUM(C48:C1100))","v":64},{"$f":"COUNT(D48:D1100)","v":122},null,{"$f":"IF(SUM(F48:F1100)<-1000,-100000000,SUM(F48:F1100))","v":-50},{"$f":"COUNT(G48:G1100)","v":5},null,{"$f":"IF(SUM(I48:I1100)<-1000,-100000000,SUM(I48:I1100))","v":-180},{"$f":"COUNT(J48:J1100)","v":185},null,{"$f":"IF(SUM(L48:L1100)<-1000,-100000000,SUM(L48:L1100))","v":106},{"$f":"COUNT(M48:M1100)","v":229},null,{"$f":"IF(SUM(O48:O1100)<-1000,-100000000,SUM(O48:O1100))","v":30},{"$f":"COUNT(P48:P1100)","v":3},null,{"$f":"IF(SUM(R48:R1100)<-1000,-100000000,SUM(R48:R1100))","v":28},{"$f":"COUNT(S48:S1100)","v":250},null,{"$f":"IF(SUM(U48:U1100)<-1000,-100000000,SUM(U48:U1100))","v":91},{"$f":"COUNT(V48:V1100)","v":21},null,{"$f":"IF(SUM(X48:X1100)<-1000,-100000000,SUM(X48:X1100))","v":-100000000},{"$f":"COUNT(Y48:Y1100)","v":0},null,{"$f":"IF(SUM(AA48:AA1100)<-1000,-100000000,SUM(AA48:AA1100))","v":-100000000},{"$f":"COUNT(AB48:AB1100)","v":0},null,{"$f":"IF(SUM(AD48:AD1100)<-1000,-100000000,SUM(AD48:AD1100))","v":-100000000},{"$f":"COUNT(AE48:AE1100)","v":0},null,{"$f":"IF(SUM(AG48:AG1100)<-1000,-100000000,SUM(AG48:AG1100))","v":-51},{"$f":"COUNT(AH48:AH1100)","v":13},null,{"$f":"IF(SUM(AJ48:AJ1100)<-1000,-100000000,SUM(AJ48:AJ1100))","v":-100000000},{"$f":"COUNT(AK48:AK1100)","v":0},null,{"$f":"IF(SUM(AM48:AM1100)<-1000,-100000000,SUM(AM48:AM1100))","v":-22},{"$f":"COUNT(AN48:AN1100)","v":12},null,{"$f":"IF(SUM(AP48:AP1100)<-1000,-100000000,SUM(AP48:AP1100))","v":125},{"$f":"COUNT(AQ48:AQ1100)","v":97},null,{"$f":"IF(SUM(AS48:AS1100)<-1000,-100000000,SUM(AS48:AS1100))","v":50},{"$f":"COUNT(AT48:AT1100)","v":5},null,{"$f":"IF(SUM(AV48:AV1100)<-1000,-100000000,SUM(AV48:AV1100))","v":-120},{"$f":"COUNT(AW48:AW1100)","v":164},null,{"$f":"IF(SUM(AY48:AY1100)<-1000,-100000000,SUM(AY48:AY1100))","v":-8},{"$f":"COUNT(AZ48:AZ1100)","v":9},null,{"$f":"IF(SUM(BB48:BB1100)<-1000,-100000000,SUM(BB48:BB1100))","v":-100000000},{"$f":"COUNT(BC48:BC1100)","v":0},null,{"$f":"IF(SUM(BE48:BE1100)<-1000,-100000000,SUM(BE48:BE1100))","v":-63},{"$f":"COUNT(BF48:BF1100)","v":12},null,{"$f":"IF(SUM(BH48:BH1100)<-1000,-100000000,SUM(BH48:BH1100))","v":-100000000},{"$f":"COUNT(BI48:BI1100)","v":0},null,null,"A"]
[null,null,{"$f":"+D44-E44","v":199},{"$f":"SUM(D48:D1100)","v":13639},{"$f":"SUM(E48:E1100)","v":13440},{"$f":"+G44-H44","v":-75},{"$f":"SUM(G48:G1100)","v":530},{"$f":"SUM(H48:H1100)","v":605},{"$f":"+J44-K44","v":-122.5},{"$f":"SUM(J48:J1100)","v":20564},{"$f":"SUM(K48:K1100)","v":20686.5},{"$f":"+M44-N44","v":23},{"$f":"SUM(M48:M1100)","v":25724},{"$f":"SUM(N48:N1100)","v":25701},{"$f":"+P44-Q44","v":57},{"$f":"SUM(P48:P1100)","v":363},{"$f":"SUM(Q48:Q1100)","v":306},{"$f":"+S44-T44","v":194.5},{"$f":"SUM(S48:S1100)","v":27936},{"$f":"SUM(T48:T1100)","v":27741.5},{"$f":"+V44-W44","v":167},{"$f":"SUM(V48:V1100)","v":2406},{"$f":"SUM(W48:W1100)","v":2239},{"$f":"+Y44-Z44","v":1},{"$f":"SUM(Y48:Y1100)","v":0},{"$f":"SUM(Z48:Z1100)","v":-1},{"$f":"+AB44-AC44","v":1},{"$f":"SUM(AB48:AB1100)","v":0},{"$f":"SUM(AC48:AC1100)","v":-1},{"$f":"+AE44-AF44","v":1},{"$f":"SUM(AE48:AE1100)","v":0},{"$f":"SUM(AF48:AF1100)","v":-1},{"$f":"+AH44-AI44","v":-120},{"$f":"SUM(AH48:AH1100)","v":1411},{"$f":"SUM(AI48:AI1100)","v":1531},{"$f":"+AK44-AL44","v":1},{"$f":"SUM(AK48:AK1100)","v":0},{"$f":"SUM(AL48:AL1100)","v":-1},{"$f":"+AN44-AO44","v":-96},{"$f":"SUM(AN48:AN1100)","v":1312},{"$f":"SUM(AO48:AO1100)","v":1408},{"$f":"+AQ44-AR44","v":19},{"$f":"SUM(AQ48:AQ1100)","v":10914},{"$f":"SUM(AR48:AR1100)","v":10895},{"$f":"+AT44-AU44","v":45},{"$f":"SUM(AT48:AT1100)","v":605},{"$f":"SUM(AU48:AU1100)","v":560},{"$f":"+AW44-AX44","v":-168},{"$f":"SUM(AW48:AW1100)","v":18394},{"$f":"SUM(AX48:AX1100)","v":18562},{"$f":"+AZ44-BA44","v":53},{"$f":"SUM(AZ48:AZ1100)","v":1017},{"$f":"SUM(BA48:BA1100)","v":964},{"$f":"+BC44-BD44","v":1},{"$f":"SUM(BC48:BC1100)","v":0},{"$f":"SUM(BD48:BD1100)","v":-1},{"$f":"+BF44-BG44","v":-178},{"$f":"SUM(BF48:BF1100)","v":1247},{"$f":"SUM(BG48:BG1100)","v":1425},{"$f":"+BI44-BJ44","v":1},{"$f":"SUM(BI48:BI1100)","v":0},{"$f":"SUM(BJ48:BJ1100)","v":-1},null,"B"]
[null,null,null,null,null,null,null,null,{"$f":"COUNTIF(I48:I67,10)","v":5},null,null,null,null,null,null,null,null,{"$f":"COUNTIF(R48:R67,10)","v":6},null,null,{"$f":"COUNTIF(U48:U67,10)","v":0},null,null,{"$f":"COUNTIF(X48:X67,10)","v":0},null,null,null,null,null,null,null,null,null,null,null,null,null,null,{"$f":"COUNTIF(AM48:AM67,10)","v":0},null,null,null,null,null,{"$f":"COUNTIF(AS48:AS67,10)","v":0},null,null,{"$f":"COUNTIF(AV48:AV67,10)","v":2},null,null,{"$f":"COUNTIF(AY48:AY67,10)","v":0},null,null,null,null,null,null,null,null,null,null,null,{"$f":"MAX(BL48:BL1100)","v":388}]
[null,null,"Jordi",null,null,"Sergi",null,null,"Núria",null,null,"Gemma",null,null,"Òscar",null,null,"Nogué",null,null,"Carles",null,null,"Mariajo",null,null,"Rosa M.",null,null,"Joan",null,null,"Ana B.",null,null,"Anna P.",null,null,"Manolo",null,null,"Sebas",null,null,"Goretti",null,null,"Grau",null,null,"CyberX",null,null,"Tito",null,null,"Nin",null,null,"Lluisa",null,null,{"$f":"COUNT(BK48:BK1100)","v":334},"A","B","C","D","E"]
[null,"Comentaris","Premi","Punts",null,"Premi","Punts",null,"Premi","Punts",null,"Premi","Punts",null,"Premi","Punts",null,"Premi","Punts",null,"Premi","Punts",null,"Premi","Punts",null,"Premi","Punts",null,"Premi","Punts",null,"Premi","Punts",null,"Premi","Punts",null,"Premi","Punts",null,"Premi","Punts",null,"Premi","Punts",null,"Premi","Punts",null,"Premi","Punts",null,"Premi","Punts",null,"Premi","Punts",null,"Premi","Punts",null,"Data","Timba"]
[1,null,null,null,null,null,null,null,10,121,103,-10,103,121,null,null,null,null,null,null,null,null,null,-10000,null,-1,-10000,null,-1,-10000,null,-1,null,null,null,-10000,null,-1,null,null,null,null,null,null,null,null,null,null,null,null,null,null,null,-10000,null,-1,null,null,null,-10000,null,-1,"2020-10-01",1,{"$f":"+BH48+AJ48+AG48+AD48+AA48+X48+U48+R48+O48+L48+I48+F48+C48+AM48+AP48+AS48+AV48+AY48+BB48+BE48","v":-60000},{"$f":"+BI48+AK48+AH48+AE48+AB48+Y48+V48+S48+P48+M48+J48+G48+D48+AN48+AQ48+AT48+AW48+AZ48+BC48+BF48","v":224},{"$f":"+BJ48+AL48+AI48+AF48+AC48+Z48+W48+T48+Q48+N48+K48+H48+E48+AO48+AR48+AU48+AX48+BA48+BD48+BG48","v":218},{"$f":"+BN48-BO48","v":6},{"$f":"COUNT(C48:BJ48)/3","v":6},{"$f":"+BM48/BQ48","v":-10000}]
[{"$f":"+A48+1","v":2},null,null,null,null,null,null,null,null,null,null,-11,90,121,null,null,null,11,121,90,null,null,null,null,null,null,null,null,null,null,null,null,null,null,null,null,null,null,null,null,null,null,null,null,null,null,null,null,null,null,null,null,null,null,null,null,null,null,null,null,null,null,"2020-10-01",1,0,{"$f":"+BI49+AK49+AH49+AE49+AB49+Y49+V49+S49+P49+M49+J49+G49+D49+AN49+AQ49+AT49+AW49+AZ49+BC49+BF49","v":211},{"$f":"+BJ49+AL49+AI49+AF49+AC49+Z49+W49+T49+Q49+N49+K49+H49+E49+AO49+AR49+AU49+AX49+BA49+BD49+BG49","v":211},0,2,0]
[{"$f":"+A49+1","v":3},null,null,null,null,null,null,null,-10,112,121,null,null,null,null,null,null,10,121,112,null,null,null,null,null,null,null,null,null,null,null,null,null,null,null,null,null,null,null,null,null,null,null,null,null,null,null,null,null,null,null,null,null,null,null,null,null,null,null,null,null,null,"2020-10-01",1,0,233,233,0,2,0]
[4,null,null,null,null,null,null,null,-10,111,121,10,121,111,null,null,null,null,null,null,null,null,null,null,null,null,null,null,null,null,null,null,null,null,null,null,null,null,null,null,null,null,null,null,null,null,null,null,null,null,null,null,null,null,null,null,null,null,null,null,null,null,"2020-10-01",1,0,232,232,0,2,0]
[5,null,null,null,null,null,null,null,-11,79,121,11,121,79,null,null,null,11,121,79,null,null,null,null,null,null,null,null,null,null,null,null,null,null,null,null,null,null,null,null,null,null,null,null,null,null,null,-11,79,121,null,null,null,null,null,null,null,null,null,null,null,null,"2020-10-02",2,0,400,400,0,4,0]
[6,null,null,null,null,null,null,null,-10,108,121,10,121,108,null,null,null,-10,108,121,null,null,null,null,null,null,null,null,null,null,null,null,null,null,null,null,null,null,null,null,null,null,null,null,null,null,null,10,121,108,null,null,null,null,null,null,null,null,null,null,null,null,"2020-10-02",2,0,458,458,0,4,0]
[7,null,null,null,null,null,null,null,11,121,69,-11,69,121,null,null,null,-11,69,121,null,null,null,null,null,null,null,null,null,null,null,null,null,null,null,null,null,null,null,null,null,null,null,null,null,null,null,11,121,69,null,null,null,null,null,null,null,null,null,null,null,null,"2020-10-02",2,0,380,380,0,4,0]
[8,null,null,null,null,null,null,null,10,121,101,-10,101,121,null,null,null,10,121,101,null,null,null,null,null,null,null,null,null,null,null,null,null,null,null,null,null,null,null,null,null,null,null,null,null,null,null,-10,101,121,null,null,null,null,null,null,null,null,null,null,null,null,"2020-10-02",2,0,444,444,0,4,0]
[9,null,null,null,null,null,null,null,10,121,101,10,121,101,null,null,null,-10,101,121,null,null,null,null,null,null,null,null,null,null,null,null,null,null,null,null,null,null,null,null,null,null,null,null,null,null,null,-10,101,121,null,null,null,null,null,null,null,null,null,null,null,null,"2020-10-02",2,0,444,444,0,4,0]
[10,null,null,null,null,null,null,null,-10,109,121,-10,109,121,null,null,null,10,121,109,null,null,null,null,null,null,null,null,null,null,null,null,null,null,null,null,null,null,null,null,null,null,null,null,null,null,null,10,121,109,null,null,null,null,null,null,null,null,null,null,null,null,"2020-10-03",3,0,460,460,0,4,0]
[11,null,11,121,89,null,null,null,11,121,89,null,null,null,null,null,null,-11,89,121,null,null,null,null,null,null,null,null,null,null,null,null,null,null,null,null,null,null,null,null,null,null,null,null,null,null,null,-11,89,121,null,null,null,null,null,null,null,null,null,null,null,null,"2020-10-03",3,0,420,420,0,4,0]
[12,null,11,121,83,null,null,null,-11,83,121,11,121,83,null,null,null,-11,83,121,null,null,null,null,null,null,null,null,null,null,null,null,null,null,null,null,null,null,null,null,null,null,null,null,null,null,null,null,null,null,null,null,null,null,null,null,null,null,null,null,null,null,"2020-10-03",3,0,408,408,0,4,0]
[13,null,-10,101,121,null,null,null,null,null,null,10,121,101,null,null,null,-10,101,121,null,null,null,null,null,null,null,null,null,null,null,null,null,null,null,null,null,null,null,null,null,10,121,101,null,null,null,null,null,null,null,null,null,null,null,null,null,null,null,null,null,null,"2020-10-03",3,0,444,444,0,4,0]
[14,null,-10,106,121,null,null,null,null,null,null,-10,106,121,null,null,null,10,121,106,null,null,null,null,null,null,null,null,null,null,null,null,null,null,null,null,null,null,null,null,null,10,121,106,null,null,null,null,null,null,null,null,null,null,null,null,null,null,null,null,null,null,"2020-10-03",3,0,454,454,0,4,0]
[15,null,-10,107,121,null,null,null,null,null,null,-10,107,121,null,null,null,10,121,107,null,null,null,null,null,null,null,null,null,null,null,null,null,null,null,null,null,null,null,null,null,10,121,107,null,null,null,null,null,null,null,null,null,null,null,null,null,null,null,null,null,null,"2020-10-03",3,0,456,456,0,4,0]
[16,null,-11,79,121,null,null,null,null,null,null,-11,79,121,null,null,null,null,null,null,null,null,null,null,null,null,null,null,null,null,null,null,null,null,null,null,null,null,null,null,null,11,121,79,null,null,null,11,121,79,null,null,null,null,null,null,null,null,null,null,null,null,"2020-10-03",3,0,400,400,0,4,0]
[17,null,-10,100,121,null,null,null,-10,117,121,10,121,117,null,null,null,10,121,117,null,null,null,null,null,null,null,null,null,null,null,null,null,null,null,null,null,null,null,null,null,10,121,100,null,null,null,-10,117,121,null,null,null,null,null,null,null,null,null,null,null,null,"2020-10-03",3,0,697,697,0,6,0]
[18,null,-10,105,121,null,null,null,10,121,105,null,null,null,null,null,null,null,null,null,null,null,null,null,null,null,null,null,null,null,null,null,null,null,null,null,null,null,null,null,null,10,121,105,null,null,null,-10,105,121,null,null,null,null,null,null,null,null,null,null,null,null,"2020-10-03",3,0,452,452,0,4,0]
[19,null,10,121,97,null,null,null,-10,97,121,10,121,97,null,null,null,null,null,null,null,null,null,null,null,null,null,null,null,null,null,null,null,null,null,null,null,null,null,null,null,null,null,null,null,null,null,-10,97,121,null,null,null,null,null,null,null,null,null,null,null,null,"2020-10-03",3,0,436,436,0,4,0]
[20,null,null,null,null,null,null,null,10,121,117,-10,117,121,null,null,null,null,null,null,null,null,null,null,null,null,null,null,null,null,null,null,null,null,null,null,null,null,null,null,null,10,121,117,null,null,null,-10,117,121,null,null,null,null,null,null,null,null,null,null,null,null,"2020-10-04",4,0,476,476,0,4,0]
[21,null,null,null,null,null,null,null,null,null,null,10,121,115,null,null,null,-10,115,121,null,null,null,null,null,null,null,null,null,null,null,null,null,null,null,null,null,null,null,null,null,null,null,null,null,null,null,null,null,null,null,null,null,null,null,null,null,null,null,null,null,null,"2020-10-04",4,0,236,236,0,2,0]
[22,null,-10,112,121,null,null,null,10,121,112,10,121,112,null,null,null,-10,112,121,null,null,null,null,null,null,null,null,null,null,null,null,null,null,null,null,null,null,null,null,null,null,null,null,null,null,null,null,null,null,null,null,null,null,null,null,null,null,null,null,null,null,"2020-10-04",4,0,466,466,0,4,0]
[23,null,-10,94,121,null,null,null,10,121,94,10,121,94,null,null,null,-10,94,121,null,null,null,null,null,null,null,null,null,null,null,null,null,null,null,null,null,null,null,null,null,null,null,null,null,null,null,null,null,null,null,null,null,null,null,null,null,null,null,null,null,null,"2020-10-04",4,0,430,430,0,4,0]
[24,null,null,null,null,null,null,null,10,121,115,-10,115,121,null,null,null,null,null,null,null,null,null,null,null,null,null,null,null,null,null,null,null,null,null,null,null,null,null,null,null,10,121,115,null,null,null,-10,115,121,null,null,null,null,null,null,null,null,null,null,null,null,"2020-10-04",4,0,472,472,0,4,0]
[25,null,null,null,null,null,null,null,null,null,null,-10,109,121,null,null,null,10,121,109,null,null,null,null,null,null,null,null,null,null,null,null,null,null,null,null,null,null,null,null,null,-10,109,121,null,null,null,10,121,109,null,null,null,null,null,null,null,null,null,null,null,null,"2020-10-04",4,0,460,460,0,4,0]
[26,null,null,null,null,null,null,null,-10,107,121,null,null,null,null,null,null,10,121,107,null,null,null,null,null,null,null,null,null,null,null,null,null,null,null,null,null,null,null,null,null,-10,107,121,null,null,null,10,121,107,null,null,null,null,null,null,null,null,null,null,null,null,"2020-10-04",4,0,456,456,0,4,0]
[27,null,null,null,null,null,null,null,-10,93,121,10,121,93,null,null,null,-10,93,121,null,null,null,null,null,null,null,null,null,null,null,null,null,null,null,null,null,null,null,null,null,10,121,93,null,null,null,null,null,null,null,null,null,null,null,null,null,null,null,null,null,null,"2020-10-04",4,0,428,428,0,4,0]
[28,null,null,null,null,null,null,null,10,121,98,-10,98,121,null,null,null,10,121,98,null,null,null,null,null,null,null,null,null,null,null,null,null,null,null,null,null,null,null,null,null,null,null,null,null,null,null,-10,98,121,null,null,null,null,null,null,null,null,null,null,null,null,"2020-10-04",4,0,438,438,0,4,0]
[29,null,10,121,99,null,null,null,-10,99,121,null,null,null,null,null,null,null,null,null,null,null,null,null,null,null,null,null,null,null,null,null,null,null,null,null,null,null,null,null,null,null,null,null,null,null,null,null,null,null,null,null,null,null,null,null,null,null,null,null,null,null,"2020-10-05",6,0,220,220,0,2,0]
[30,null,10,121,114,null,null,null,-10,114,121,-10,114,121,null,null,null,null,null,null,null,null,null,null,null,null,null,null,null,null,null,null,null,null,null,null,null,null,null,null,null,null,null,null,null,null,null,10,121,114,null,null,null,null,null,null,null,null,null,null,null,null,"2020-10-05",6,0,470,470,0,4,0]
[31,null,null,null,null,null,null,null,-10,91,121,10,121,91,null,null,null,-10,91,121,null,null,null,null,null,null,null,null,null,null,null,null,null,null,null,null,null,null,null,null,null,null,null,null,null,null,null,10,121,91,null,null,null,null,null,null,null,null,null,null,null,null,"2020-10-05",6,0,424,424,0,4,0]
[32,null,-10,118,121,null,null,null,null,null,null,10,121,118,null,null,null,10,121,118,null,null,null,null,null,null,null,null,null,null,null,null,null,null,null,null,null,null,null,null,null,null,null,null,null,null,null,-10,118,121,null,null,null,null,null,null,null,null,null,null,null,null,"2020-10-05",6,0,478,478,0,4,0]
[33,null,10,121,111,null,null,null,10,121,111,-10,111,121,null,null,null,null,null,null,null,null,null,null,null,null,null,null,null,null,null,null,null,null,null,null,null,null,null,null,null,null,null,null,null,null,null,-10,111,121,null,null,null,null,null,null,null,null,null,null,null,null,"2020-10-05",6,0,464,464,{"$f":"+BN80-BO80","v":0},{"$f":"COUNT(C80:BJ80)/3","v":4},{"$f":"+BM80/BQ80","v":0}]
[34,null,-10,102,121,null,null,null,null,null,null,10,121,102,null,null,null,-10,102,121,null,null,null,null,null,null,null,null,null,null,null,null,null,null,null,null,null,null,null,null,null,null,null,null,null,null,null,10,121,102,null,null,null,null,null,null,null,null,null,null,null,null,"2020-10-08",9,0,446,446,0,4,0]
[35,null,null,null,null,null,null,null,11,121,83,-11,83,121,null,null,null,11,121,83,null,null,null,null,null,null,null,null,null,null,null,null,null,null,null,null,null,null,null,null,null,null,null,null,null,null,null,-11,83,121,null,null,null,null,null,null,null,null,null,null,null,null,"2020-10-08",9,0,408,408,0,4,0]
[36,null,10,121,118,null,null,null,-10,118,121,null,null,null,null,null,null,10,121,118,null,null,null,null,null,null,null,null,null,null,null,null,null,null,null,null,null,null,null,null,null,null,null,null,null,null,null,-10,118,121,null,null,null,null,null,null,null,null,null,null,null,null,"2020-10-08",9,0,478,478,0,4,0]
[37,null,-10,117,121,null,null,null,10,121,117,10,121,117,null,null,null,-10,117,121,null,null,null,null,null,null,null,null,null,null,null,null,null,null,null,null,null,null,null,null,null,null,null,null,null,null,null,null,null,null,null,null,null,null,null,null,null,null,null,null,null,null,"2020-10-08",9,0,476,476,0,4,0]
[38,null,null,null,null,null,null,null,10,121,105,-10,105,121,null,null,null,null,null,null,null,null,null,null,null,null,null,null,null,null,null,null,null,null,null,null,null,null,null,null,null,null,null,null,null,null,null,null,null,null,null,null,null,null,null,null,null,null,null,null,null,null,"2020-10-08",9,0,226,226,0,2,0]
[39,null,-10,112,121,null,null,null,10,121,112,10,121,112,null,null,null,-10,112,121,null,null,null,null,null,null,null,null,null,null,null,null,null,null,null,null,null,null,null,null,null,null,null,null,null,null,null,null,null,null,null,null,null,null,null,null,null,null,null,null,null,null,"2020-10-09",11,0,466,466,0,4,0]
[40,null,-11,82,121,null,null,null,-11,82,121,11,121,82,null,null,null,11,121,82,null,null,null,null,null,null,null,null,null,null,null,null,null,null,null,null,null,null,null,null,null,null,null,null,null,null,null,null,null,null,null,null,null,null,null,null,null,null,null,null,null,null,"2020-10-09",11,0,406,406,0,4,0]
[41,null,10,121,107,null,null,null,-10,107,121,-10,107,121,null,null,null,10,121,107,null,null,null,null,null,null,null,null,null,null,null,null,null,null,null,null,null,null,null,null,null,null,null,null,null,null,null,null,null,null,null,null,null,null,null,null,null,null,null,null,null,null,"2020-10-09",11,0,456,456,0,4,0]
[42,null,-10,109,121,null,null,null,10,121,109,-10,109,121,null,null,null,10,121,109,null,null,null,null,null,null,null,null,null,null,null,null,null,null,null,null,null,null,null,null,null,null,null,null,null,null,null,null,null,null,null,null,null,null,null,null,null,null,null,null,null,null,"2020-10-09",11,0,460,460,{"$f":"+BN89-BO89","v":0},{"$f":"COUNT(C89:BJ89)/3","v":4},{"$f":"+BM89/BQ89","v":0}]
[43,null,10,121,100,null,null,null,10,121,100,-10,100,121,null,null,null,-10,100,121,null,null,null,null,null,null,null,null,null,null,null,null,null,null,null,null,null,null,null,null,null,null,null,null,null,null,null,null,null,null,null,null,null,null,null,null,null,null,null,null,null,null,"2020-10-09",11,0,442,442,0,4,0]
[44,null,-10,92,121,null,null,null,10,121,92,null,null,null,null,null,null,10,121,92,null,null,null,null,null,null,null,null,null,null,null,null,null,null,null,null,null,null,null,null,null,null,null,null,null,null,null,-10,92,121,null,null,null,null,null,null,null,null,null,null,null,null,"2020-10-12",16,0,426,426,0,4,0]
[45,null,10,121,96,null,null,null,-10,107,121,-10,96,121,null,null,null,10,121,107,null,null,null,null,null,null,null,null,null,null,null,null,null,null,null,null,null,null,null,null,null,-10,107,121,null,null,null,10,121,107,null,null,null,null,null,null,null,null,null,null,null,null,"2020-10-12",16,0,673,673,0,6,0]
[{"$f":"+A92+1","v":46},null,-11,76,121,null,null,null,-10,113,121,11,121,76,null,null,null,11,121,76,null,null,null,null,null,null,null,null,null,null,null,null,null,null,null,null,null,null,null,null,null,-11,76,121,null,null,null,10,121,113,null,null,null,null,null,null,null,null,null,null,null,null,"2020-10-12",16,0,628,628,0,6,0]
[47,null,null,null,null,-10,111,121,10,121,111,11,121,73,null,null,null,10,121,111,null,null,null,null,null,null,null,null,null,null,null,null,null,null,null,null,null,null,null,null,null,-11,73,121,null,null,null,-10,111,121,null,null,null,null,null,null,null,null,null,null,null,null,"2020-10-12",16,0,658,658,0,6,0]
[48,null,-10,118,121,-10,96,121,-10,118,121,10,121,118,null,null,null,10,121,96,null,null,null,null,null,null,null,null,null,null,null,null,null,null,null,null,null,null,null,null,null,10,121,118,null,null,null,null,null,null,null,null,null,null,null,null,null,null,null,null,null,null,"2020-10-12",16,0,695,695,0,6,0]
[49,null,10,121,115,-10,112,121,-10,115,121,10,121,115,null,null,null,10,121,112,null,null,null,null,null,null,null,null,null,null,null,null,null,null,null,null,null,null,null,null,null,-10,115,121,null,null,null,null,null,null,null,null,null,null,null,null,null,null,null,null,null,null,"2020-10-12",16,0,705,705,0,6,0]
[50,null,null,null,null,-10,101,121,-10,101,121,10,121,101,null,null,null,null,null,null,null,null,null,null,null,null,null,null,null,null,null,null,null,null,null,null,null,null,null,null,null,10,121,101,null,null,null,null,null,null,null,null,null,null,null,null,null,null,null,null,null,null,"2020-10-12",16,0,444,444,0,4,0]
[51,null,-10,111,121,null,null,null,null,null,null,10,121,111,null,null,null,null,null,null,null,null,null,null,null,null,null,null,null,null,null,null,null,null,null,null,null,null,null,null,null,null,null,null,null,null,null,null,null,null,null,null,null,null,null,null,null,null,null,null,null,null,"2020-10-13",18,0,232,232,0,2,0]
[52,null,null,null,null,null,null,null,null,null,null,10,121,98,null,null,null,null,null,null,null,null,null,null,null,null,null,null,null,null,null,null,null,null,null,null,null,null,null,null,null,null,null,null,null,null,null,-10,98,121,null,null,null,null,null,null,null,null,null,null,null,null,"2020-10-13",18,0,219,219,0,2,0]
[53,null,-10,98,121,null,null,null,null,null,null,10,121,98,null,null,null,-10,98,121,null,null,null,null,null,null,null,null,null,null,null,null,null,null,null,null,null,null,null,null,null,null,null,null,null,null,null,10,121,98,null,null,null,null,null,null,null,null,null,null,null,null,"2020-10-13",18,0,438,438,0,4,0]
[54,null,10,121,117,null,null,null,null,null,null,-10,117,121,null,null,null,-10,117,121,null,null,null,null,null,null,null,null,null,null,null,null,null,null,null,null,null,null,null,null,null,null,null,null,null,null,null,10,121,117,null,null,null,null,null,null,null,null,null,null,null,null,"2020-10-13",18,0,476,476,0,4,0]
[55,null,10,121,101,null,null,null,10,121,101,-10,101,121,null,null,null,-10,101,121,null,null,null,null,null,null,null,null,null,null,null,null,null,null,null,null,null,null,null,null,null,null,null,null,null,null,null,null,null,null,null,null,null,null,null,null,null,null,null,null,null,null,"2020-10-14",19,{"$f":"+BH102+AJ102+AG102+AD102+AA102+X102+U102+R102+O102+L102+I102+F102+C102+AM102+AP102+AS102+AV102+AY102+BB102+BE102","v":0},444,444,0,4,0]
[56,null,11,121,88,null,null,null,11,121,88,-11,88,121,null,null,null,-11,88,121,null,null,null,null,null,null,null,null,null,null,null,null,null,null,null,null,null,null,null,null,null,null,null,null,null,null,null,null,null,null,null,null,null,null,null,null,null,null,null,null,null,null,"2020-10-14",19,0,418,418,0,4,0]
[57,null,10,121,117,null,null,null,-10,117,121,10,121,117,null,null,null,-10,117,121,null,null,null,null,null,null,null,null,null,null,null,null,null,null,null,null,null,null,null,null,null,null,null,null,null,null,null,null,null,null,null,null,null,null,null,null,null,null,null,null,null,null,"2020-10-14",19,0,476,476,0,4,0]
[58,null,null,null,null,null,null,null,10,121,105,10,121,105,null,null,null,-10,105,121,null,null,null,null,null,null,null,null,null,null,null,null,null,null,null,null,null,null,null,null,null,null,null,null,null,null,null,-10,105,121,null,null,null,null,null,null,null,null,null,null,null,null,"2020-10-14",19,{"$f":"+BH105+AJ105+AG105+AD105+AA105+X105+U105+R105+O105+L105+I105+F105+C105+AM105+AP105+AS105+AV105+AY105+BB105+BE105","v":0},452,452,0,4,0]
[59,null,null,null,null,null,null,null,-10,119,121,10,121,119,null,null,null,-10,119,121,null,null,null,null,null,null,null,null,null,null,null,null,null,null,null,null,null,null,null,null,null,null,null,null,null,null,null,10,121,119,null,null,null,null,null,null,null,null,null,null,null,null,"2020-10-14",19,0,480,480,0,4,0]
[60,null,null,null,null,null,null,null,-10,119,121,null,null,null,null,null,null,10,121,119,null,null,null,null,null,null,null,null,null,null,null,null,null,null,null,null,null,null,null,null,null,null,null,null,null,null,null,null,null,null,null,null,null,null,null,null,null,null,null,null,null,null,"2020-10-15",20,0,240,240,0,2,0]
[61,null,null,null,null,null,null,null,10,121,99,-10,99,121,null,null,null,null,null,null,null,null,null,null,null,null,null,null,null,null,null,null,null,null,null,null,null,null,null,null,null,null,null,null,null,null,null,null,null,null,null,null,null,null,null,null,null,null,null,null,null,null,"2020-10-15",20,0,220,220,0,2,0]
[62,null,null,null,null,null,null,null,null,null,null,-10,115,121,null,null,null,10,121,115,null,null,null,null,null,null,null,null,null,null,null,null,null,null,null,null,null,null,null,null,null,null,null,null,null,null,null,null,null,null,null,null,null,null,null,null,null,null,null,null,null,null,"2020-10-15",20,0,236,236,0,2,0]
[63,null,null,null,null,null,null,null,-11,90,121,null,null,null,null,null,null,11,121,90,null,null,null,null,null,null,null,null,null,null,null,null,null,null,null,null,null,null,null,null,null,null,null,null,null,null,null,null,null,null,null,null,null,null,null,null,null,null,null,null,null,null,"2020-10-15",20,0,211,211,0,2,0]
[64,null,11,121,89,null,null,null,null,null,null,-11,89,121,null,null,null,null,null,null,null,null,null,null,null,null,null,null,null,null,null,null,null,null,null,null,null,null,null,null,null,null,null,null,null,null,null,null,null,null,null,null,null,null,null,null,null,null,null,null,null,null,"2020-10-16",21,0,210,210,0,2,0]
[65,null,-10,94,121,null,null,null,10,121,94,10,121,94,null,null,null,-10,94,121,null,null,null,null,null,null,null,null,null,null,null,null,null,null,null,null,null,null,null,null,null,null,null,null,null,null,null,null,null,null,null,null,null,null,null,null,null,null,null,null,null,null,"2020-10-16",21,{"$f":"+BH112+AJ112+AG112+AD112+AA112+X112+U112+R112+O112+L112+I112+F112+C112+AM112+AP112+AS112+AV112+AY112+BB112+BE112","v":0},430,430,0,4,0]
[66,null,-10,106,121,null,null,null,-10,106,121,10,121,106,null,null,null,10,121,106,null,null,null,null,null,null,null,null,null,null,null,null,null,null,null,null,null,null,null,null,null,null,null,null,null,null,null,null,null,null,null,null,null,null,null,null,null,null,null,null,null,null,"2020-10-16",21,0,{"$f":"+BI113+AK113+AH113+AE113+AB113+Y113+V113+S113+P113+M113+J113+G113+D113+AN113+AQ113+AT113+AW113+AZ113+BC113+BF113","v":454},{"$f":"+BJ113+AL113+AI113+AF113+AC113+Z113+W113+T113+Q113+N113+K113+H113+E113+AO113+AR113+AU113+AX113+BA113+BD113+BG113","v":454},0,4,0]
[{"$f":"+A113+1","v":67},null,10,121,118,null,null,null,-10,118,121,-10,118,121,null,null,null,10,121,118,null,null,null,null,null,null,null,null,null,null,null,null,null,null,null,null,null,null,null,null,null,null,null,null,null,null,null,null,null,null,null,null,null,null,null,null,null,null,null,null,null,null,"2020-10-16",21,0,478,478,{"$f":"+BN114-BO114","v":0},{"$f":"COUNT(C114:BJ114)/3","v":4},{"$f":"+BM114/BQ114","v":0}]
[68,null,-10,117,121,null,null,null,10,121,117,-10,117,121,null,null,null,10,121,117,null,null,null,null,null,null,null,null,null,null,null,null,null,null,null,null,null,null,null,null,null,null,null,null,null,null,null,null,null,null,null,null,null,null,null,null,null,null,null,null,null,null,"2020-10-16",21,0,476,476,0,4,0]
[69,null,null,null,null,null,null,null,null,null,null,10,121,114,null,null,null,-10,114,121,null,null,null,null,null,null,null,null,null,null,null,null,null,null,null,null,null,null,null,null,null,null,null,null,null,null,null,null,null,null,null,null,null,null,null,null,null,null,null,null,null,null,"2020-10-17",24,0,235,235,0,2,0]
[70,null,10,121,118,null,null,null,10,121,118,-10,118,121,null,null,null,null,null,null,null,null,null,null,null,null,null,null,null,null,null,null,null,null,null,null,null,null,null,null,null,-10,118,121,null,null,null,null,null,null,null,null,null,null,null,null,null,null,null,null,null,null,"2020-10-17",24,0,478,478,0,4,0]
[71,null,-10,105,121,null,null,null,-10,105,121,null,null,null,null,null,null,10,121,105,null,null,null,null,null,null,null,null,null,null,null,null,null,null,null,null,null,null,null,null,null,10,121,105,null,null,null,null,null,null,null,null,null,null,null,null,null,null,null,null,null,null,"2020-10-17",24,0,452,452,0,4,0]
[72,null,null,null,null,null,null,null,-10,99,121,10,121,99,null,null,null,-10,99,121,null,null,null,null,null,null,null,null,null,null,null,null,null,null,null,null,null,null,null,null,null,10,121,99,null,null,null,null,null,null,null,null,null,null,null,null,null,null,null,null,null,null,"2020-10-17",24,0,440,440,0,4,0]
[73,null,11,121,87,null,null,null,-11,87,121,-11,87,121,null,null,null,11,121,87,null,null,null,null,null,null,null,null,null,null,null,null,null,null,null,null,null,null,null,null,null,null,null,null,null,null,null,null,null,null,null,null,null,null,null,null,null,null,null,null,null,null,"2020-10-17",24,0,416,416,0,4,0]
[74,null,10,121,115,null,null,null,null,null,null,10,121,115,null,null,null,-10,115,121,null,null,null,null,null,null,null,null,null,null,null,null,null,null,null,null,null,null,null,null,null,-10,115,121,null,null,null,null,null,null,null,null,null,null,null,null,null,null,null,null,null,null,"2020-10-17",24,0,472,472,0,4,0]
[75,null,null,null,null,null,null,null,10,121,111,-10,111,121,null,null,null,-10,111,121,null,null,null,null,null,null,null,null,null,null,null,null,null,null,null,null,null,null,null,null,null,10,121,111,null,null,null,null,null,null,null,null,null,null,null,null,null,null,null,null,null,null,"2020-10-17",24,0,464,464,0,4,0]
[76,null,-10,108,121,null,null,null,-10,108,121,null,null,null,null,null,null,10,121,108,null,null,null,null,null,null,null,null,null,null,null,null,null,null,null,null,null,null,null,null,null,10,121,108,null,null,null,null,null,null,null,null,null,null,null,null,null,null,null,null,null,null,"2020-10-17",24,0,458,458,0,4,0]
[77,null,-11,86,121,null,null,null,11,121,86,-11,86,121,null,null,null,11,121,86,null,null,null,null,null,null,null,null,null,null,null,null,null,null,null,null,null,null,null,null,null,null,null,null,null,null,null,null,null,null,null,null,null,null,null,null,null,null,null,null,null,null,"2020-10-17",24,0,414,414,0,4,0]
[78,null,10,121,101,null,null,null,-10,101,121,-10,101,121,null,null,null,null,null,null,null,null,null,null,null,null,null,null,null,null,null,null,null,null,null,null,null,null,null,null,null,10,121,101,null,null,null,null,null,null,null,null,null,null,null,null,null,null,null,null,null,null,"2020-10-17",24,0,444,444,0,4,0]
[79,null,null,null,null,null,null,null,10,121,120,-10,120,121,null,null,null,10,121,120,null,null,null,null,null,null,null,null,null,null,null,null,null,null,null,null,null,null,null,null,null,-10,120,121,null,null,null,null,null,null,null,null,null,null,null,null,null,null,null,null,null,null,"2020-10-17",24,0,482,482,0,4,0]
[80,null,null,null,null,null,null,null,10,121,97,null,null,null,null,null,null,-10,97,121,null,null,null,null,null,null,null,null,null,null,null,null,null,null,null,null,null,null,null,null,null,null,null,null,null,null,null,null,null,null,null,null,null,null,null,null,null,null,null,null,null,null,"2020-10-19",28,0,218,218,{"$f":"+BN127-BO127","v":0},{"$f":"COUNT(C127:BJ127)/3","v":2},{"$f":"+BM127/BQ127","v":0}]
[81,null,-10,117,121,null,null,null,10,121,117,null,null,null,null,null,null,-10,117,121,null,null,null,null,null,null,null,null,null,null,null,null,null,null,null,null,null,null,null,null,null,null,null,null,null,null,null,10,121,117,null,null,null,null,null,null,null,null,null,null,null,null,"2020-10-19",28,0,476,476,0,4,0]
[82,null,11,121,90,null,null,null,-11,90,121,null,null,null,null,null,null,-11,90,121,null,null,null,null,null,null,null,null,null,null,null,null,null,null,null,null,null,null,null,null,null,null,null,null,null,null,null,11,121,90,null,null,null,null,null,null,null,null,null,null,null,null,"2020-10-19",28,0,422,422,0,4,0]
[83,null,10,121,107,null,null,null,10,121,107,null,null,null,null,null,null,-10,107,121,null,null,null,null,null,null,null,null,null,null,null,null,null,null,null,null,null,null,null,null,null,null,null,null,null,null,null,-10,107,121,null,null,null,null,null,null,null,null,null,null,null,null,"2020-10-19",28,0,456,456,0,4,0]
[84,null,null,null,null,null,null,null,-10,107,121,10,121,107,null,null,null,-10,107,121,null,null,null,null,null,null,null,null,null,null,null,null,null,null,null,null,null,null,null,null,null,10,121,107,null,null,null,null,null,null,null,null,null,null,null,null,null,null,null,null,null,null,"2020-10-20",29,0,456,456,0,4,0]
[85,null,null,null,null,null,null,null,null,null,null,10,121,95,null,null,null,10,121,95,null,null,null,null,null,null,null,null,null,null,null,null,null,null,null,null,null,null,null,null,null,-10,95,121,null,null,null,-10,95,121,null,null,null,null,null,null,null,null,null,null,null,null,"2020-10-20",29,0,432,432,0,4,0]
[86,null,null,null,null,null,null,null,-10,116,121,-10,116,121,null,null,null,null,null,null,null,null,null,null,null,null,null,null,null,null,null,null,null,null,null,null,null,null,null,null,null,10,121,116,null,null,null,10,121,116,null,null,null,null,null,null,null,null,null,null,null,null,"2020-10-20",29,0,474,474,0,4,0]
[87,null,null,null,null,null,null,null,-10,105,121,null,null,null,null,null,null,10,121,105,null,null,null,null,null,null,null,null,null,null,null,null,null,null,null,null,null,null,null,null,null,-10,105,121,null,null,null,10,121,105,null,null,null,null,null,null,null,null,null,null,null,null,"2020-10-20",29,0,452,452,0,4,0]
[88,null,null,null,null,null,null,null,10,121,105,10,121,105,null,null,null,-10,105,121,null,null,null,null,null,null,null,null,null,null,null,null,null,null,null,null,null,null,null,null,null,null,null,null,null,null,null,-10,105,121,null,null,null,null,null,null,null,null,null,null,null,null,"2020-10-20",29,0,452,452,0,4,0]
[89,null,10,121,103,null,null,null,null,null,null,-10,103,121,null,null,null,-10,103,121,null,null,null,null,null,null,null,null,null,null,null,null,null,null,null,null,null,null,null,null,null,10,121,103,null,null,null,null,null,null,null,null,null,null,null,null,null,null,null,null,null,null,"2020-10-20",29,0,448,448,0,4,0]
[90,null,null,null,null,null,null,null,-10,103,121,10,121,103,null,null,null,-10,103,121,null,null,null,null,null,null,null,null,null,null,null,null,null,null,null,null,null,null,null,null,null,null,null,null,null,null,null,10,121,103,null,null,null,null,null,null,null,null,null,null,null,null,"2020-10-22",33,0,448,448,0,4,0]
[91,null,null,null,null,null,null,null,-10,100,121,-10,100,121,null,null,null,10,121,100,null,null,null,null,null,null,null,null,null,null,null,null,null,null,null,null,null,null,null,null,null,null,null,null,null,null,null,10,121,100,null,null,null,null,null,null,null,null,null,null,null,null,"2020-10-22",33,0,442,442,0,4,0]
[92,null,null,null,null,null,null,null,-10,106,121,10,121,106,null,null,null,10,121,106,null,null,null,null,null,null,null,null,null,null,null,null,null,null,null,null,null,null,null,null,null,null,null,null,null,null,null,-10,106,121,null,null,null,null,null,null,null,null,null,null,null,null,"2020-10-22",33,0,454,454,0,4,0]
[93,null,null,null,null,null,null,null,-10,105,121,10,121,105,null,null,null,10,121,105,null,null,null,null,null,null,null,null,null,null,null,null,null,null,null,null,null,null,null,null,null,null,null,null,null,null,null,-10,105,121,null,null,null,null,null,null,null,null,null,null,null,null,"2020-10-22",33,0,452,452,0,4,0]
[94,null,null,null,null,null,null,null,10,121,115,10,121,115,null,null,null,-10,115,121,null,null,null,null,null,null,null,null,null,null,null,null,null,null,null,null,null,null,null,null,null,null,null,null,null,null,null,-10,115,121,null,null,null,null,null,null,null,null,null,null,null,null,"2020-10-26",39,0,472,472,0,4,0]
[95,null,-10,98,121,null,null,null,10,121,98,null,null,null,null,null,null,10,121,98,null,null,null,null,null,null,null,null,null,null,null,null,null,null,null,null,null,null,null,null,null,null,null,null,null,null,null,-10,98,121,null,null,null,null,null,null,null,null,null,null,null,null,"2020-10-26",39,0,438,438,0,4,0]
[96,null,-10,113,121,null,null,null,null,null,null,10,121,113,null,null,null,-10,113,121,null,null,null,null,null,null,null,null,null,null,null,null,null,null,null,null,null,null,null,null,null,null,null,null,null,null,null,10,121,113,null,null,null,null,null,null,null,null,null,null,null,null,"2020-10-26",39,0,468,468,0,4,0]
[97,null,10,121,116,null,null,null,-10,116,121,10,121,116,null,null,null,-10,116,121,null,null,null,null,null,null,null,null,null,null,null,null,null,null,null,null,null,null,null,null,null,null,null,null,null,null,null,null,null,null,null,null,null,null,null,null,null,null,null,null,null,null,"2020-10-26",39,0,474,474,0,4,0]
[98,null,10,121,108,null,null,null,-10,108,121,10,121,108,null,null,null,null,null,null,null,null,null,null,null,null,null,null,null,null,null,null,null,null,null,null,null,null,null,null,null,null,null,null,null,null,null,-10,108,121,null,null,null,null,null,null,null,null,null,null,null,null,"2020-10-26",39,0,458,458,0,4,0]
[99,null,-10,104,121,null,null,null,10,121,104,10,121,113,null,null,null,10,121,113,null,null,null,null,null,null,null,null,null,null,null,null,null,null,null,null,null,null,null,null,null,-10,113,121,null,null,null,-10,113,121,null,null,null,null,null,null,null,null,null,null,null,null,"2020-10-27",40,0,693,693,0,6,0]
[100,null,10,121,99,null,null,null,-10,108,121,10,121,108,null,null,null,-10,108,121,null,null,null,null,null,null,null,null,null,null,null,null,null,null,null,null,null,null,null,null,null,-10,99,121,null,null,null,10,121,108,null,null,null,null,null,null,null,null,null,null,null,null,"2020-10-27",40,0,678,678,0,6,0]
[101,null,11,121,90,null,null,null,-10,115,121,-11,90,121,null,null,null,11,121,90,null,null,null,null,null,null,null,null,null,null,null,null,null,null,null,null,null,null,null,null,null,-11,90,121,null,null,null,10,121,115,null,null,null,null,null,null,null,null,null,null,null,null,"2020-10-27",40,0,658,658,0,6,0]
[102,null,10,121,108,null,null,null,10,121,107,-10,107,121,null,null,null,-10,107,121,null,null,null,null,null,null,null,null,null,null,null,null,null,null,null,null,null,null,null,null,null,10,121,107,null,null,null,-10,108,121,null,null,null,null,null,null,null,null,null,null,null,null,"2020-10-27",40,0,685,685,0,6,0]
[103,null,10,121,96,null,null,null,-10,96,121,-10,96,121,null,null,null,10,121,108,null,null,null,null,null,null,null,null,null,null,null,null,null,null,null,null,null,null,null,null,null,10,121,96,null,null,null,-10,108,121,null,null,null,null,null,null,null,null,null,null,null,null,"2020-10-27",40,0,663,663,0,6,0]
[104,null,null,null,null,null,null,null,null,null,null,-10,99,121,null,null,null,-10,99,121,null,null,null,null,null,null,null,null,null,null,null,null,null,null,null,null,null,null,null,null,null,10,121,99,null,null,null,10,121,99,null,null,null,null,null,null,null,null,null,null,null,null,"2020-10-28",41,0,440,440,0,4,0]
[105,null,10,121,115,null,null,null,null,null,null,-10,115,121,null,null,null,-10,115,121,null,null,null,null,null,null,null,null,null,null,null,null,null,null,null,null,null,null,null,null,null,10,121,115,null,null,null,null,null,null,null,null,null,null,null,null,null,null,null,null,null,null,"2020-11-02",46,0,472,472,0,4,0]
[106,null,10,121,114,null,null,null,-10,114,121,10,121,114,null,null,null,null,null,null,null,null,null,null,null,null,null,null,null,null,null,null,null,null,null,null,null,null,null,null,null,-10,114,121,null,null,null,null,null,null,null,null,null,null,null,null,null,null,null,null,null,null,"2020-11-02",46,0,470,470,0,4,0]
[107,null,null,null,null,null,null,null,-10,112,121,-10,112,121,null,null,null,10,121,112,null,null,null,null,null,null,null,null,null,null,null,null,null,null,null,null,null,null,null,null,null,10,121,112,null,null,null,null,null,null,null,null,null,null,null,null,null,null,null,null,null,null,"2020-11-02",46,0,466,466,0,4,0]
[108,null,-10,118,121,null,null,null,-10,118,121,10,121,118,null,null,null,10,121,118,null,null,null,null,null,null,null,null,null,null,null,null,null,null,null,null,null,null,null,null,null,null,null,null,null,null,null,null,null,null,null,null,null,null,null,null,null,null,null,null,null,null,"2020-11-02",46,0,478,478,0,4,0]
[109,null,-10,91,121,null,null,null,-10,120,121,10,121,120,null,null,null,-10,120,121,10,121,120,null,null,null,null,null,null,null,null,null,null,null,null,null,null,null,null,null,null,10,121,91,null,null,null,null,null,null,null,null,null,null,null,null,null,null,null,null,null,null,"2020-11-02",46,0,694,694,0,6,0]
[110,null,10,121,116,null,null,null,10,121,116,10,121,116,null,null,null,-10,116,121,-10,116,121,null,null,null,null,null,null,null,null,null,null,null,null,null,null,null,null,null,null,-10,116,121,null,null,null,null,null,null,null,null,null,null,null,null,null,null,null,null,null,null,"2020-11-02",46,0,711,711,0,6,0]
[111,null,null,null,null,null,null,null,10,121,113,-10,113,121,null,null,null,10,121,101,null,null,null,null,null,null,null,null,null,null,null,null,null,null,null,null,null,null,null,null,null,null,null,null,null,null,null,-10,101,121,null,null,null,null,null,null,null,null,null,null,null,null,"2020-11-04",47,0,456,456,0,4,0]
[112,null,null,null,null,null,null,null,10,121,101,-10,101,121,null,null,null,10,121,101,null,null,null,null,null,null,null,null,null,null,null,null,null,null,null,null,null,null,null,null,null,null,null,null,null,null,null,-10,101,121,null,null,null,null,null,null,null,null,null,null,null,null,"2020-11-04",47,0,444,444,0,4,0]
[113,null,null,null,null,null,null,null,-10,100,121,-10,100,121,null,null,null,10,121,100,null,null,null,null,null,null,null,null,null,null,null,null,null,null,null,null,null,null,null,null,null,null,null,null,null,null,null,10,121,100,null,null,null,null,null,null,null,null,null,null,null,null,"2020-11-04",47,0,442,442,0,4,0]
[114,null,null,null,null,null,null,null,10,121,97,-10,97,121,null,null,null,-10,97,121,null,null,null,null,null,null,null,null,null,null,null,null,null,null,null,null,null,null,null,null,null,10,121,97,null,null,null,null,null,null,null,null,null,null,null,null,null,null,null,null,null,null,"2020-11-05",48,0,436,436,0,4,0]
[115,null,null,null,null,null,null,null,-10,119,121,-10,119,121,null,null,null,10,121,119,null,null,null,null,null,null,null,null,null,null,null,null,null,null,null,null,null,null,null,null,null,10,121,119,null,null,null,null,null,null,null,null,null,null,null,null,null,null,null,null,null,null,"2020-11-05",48,0,480,480,0,4,0]
[116,null,-10,108,121,null,null,null,10,121,108,10,121,108,null,null,null,null,null,null,null,null,null,null,null,null,null,null,null,null,null,null,null,null,null,null,null,null,null,null,null,null,null,null,null,null,null,-10,108,121,null,null,null,null,null,null,null,null,null,null,null,null,"2020-11-06",49,0,458,458,0,4,0]
[117,null,10,121,115,null,null,null,-10,115,121,10,121,115,null,null,null,null,null,null,null,null,null,null,null,null,null,null,null,null,null,null,null,null,null,null,null,null,null,null,null,null,null,null,null,null,null,-10,115,121,null,null,null,null,null,null,null,null,null,null,null,null,"2020-11-06",49,0,472,472,0,4,0]
[118,null,null,null,null,null,null,null,null,null,null,-10,120,121,null,null,null,10,121,120,null,null,null,null,null,null,null,null,null,null,null,null,null,null,null,null,null,null,null,null,null,10,121,120,null,null,null,-10,120,121,null,null,null,null,null,null,null,null,null,null,null,null,"2020-11-07",50,0,482,482,0,4,0]
[119,null,null,null,null,null,null,null,null,null,null,11,121,83,null,null,null,-11,83,121,null,null,null,null,null,null,null,null,null,null,null,null,null,null,null,null,null,null,null,null,null,null,null,null,null,null,null,null,null,null,null,null,null,null,null,null,null,null,null,null,null,null,"2020-11-07",50,0,204,204,0,2,0]
[120,null,null,null,null,null,null,null,null,null,null,null,null,null,null,null,null,-10,115,121,null,null,null,null,null,null,null,null,null,null,null,null,null,null,null,null,null,null,null,null,null,10,121,115,null,null,null,null,null,null,null,null,null,null,null,null,null,null,null,null,null,null,"2020-11-07",50,0,236,236,0,2,0]
[121,null,null,null,null,null,null,null,null,null,null,10,121,92,null,null,null,null,null,null,null,null,null,null,null,null,null,null,null,null,null,null,null,null,null,null,null,null,null,null,null,-10,92,121,null,null,null,null,null,null,null,null,null,null,null,null,null,null,null,null,null,null,"2020-11-07",50,0,213,213,0,2,0]
[122,null,null,null,null,null,null,null,-11,65,121,11,121,65,null,null,null,11,121,65,null,null,null,null,null,null,null,null,null,null,null,null,null,null,null,null,null,null,null,null,null,-11,65,121,null,null,null,null,null,null,null,null,null,null,null,null,null,null,null,null,null,null,"2020-11-10",53,0,372,372,0,4,0]
[123,null,null,null,null,null,null,null,10,121,95,-10,95,121,null,null,null,10,121,95,null,null,null,null,null,null,null,null,null,null,null,null,null,null,null,null,null,null,null,null,null,-10,95,121,null,null,null,null,null,null,null,null,null,null,null,null,null,null,null,null,null,null,"2020-11-10",53,0,432,432,0,4,0]
[124,null,null,null,null,null,null,null,-10,107,121,-10,107,121,null,null,null,10,121,107,null,null,null,null,null,null,null,null,null,null,null,null,null,null,null,null,null,null,null,null,null,null,null,null,null,null,null,10,121,107,null,null,null,null,null,null,null,null,null,null,null,null,"2020-11-12",55,0,456,456,0,4,0]
[125,null,null,null,null,null,null,null,10,121,99,-10,99,121,null,null,null,10,121,99,null,null,null,null,null,null,null,null,null,null,null,null,null,null,null,null,null,null,null,null,null,null,null,null,null,null,null,-10,99,121,null,null,null,null,null,null,null,null,null,null,null,null,"2020-11-12",55,0,440,440,0,4,0]
[126,null,null,null,null,null,null,null,null,null,null,10,121,113,null,null,null,-10,113,121,null,null,null,null,null,null,null,null,null,null,null,null,null,null,null,null,null,null,null,null,null,null,null,null,null,null,null,null,null,null,null,null,null,null,null,null,null,null,null,null,null,null,"2020-11-13",56,0,234,234,0,2,0]
[127,null,null,null,null,null,null,null,10,121,92,-10,92,121,null,null,null,10,121,92,null,null,null,null,null,null,null,null,null,null,null,null,null,null,null,null,null,null,null,null,null,null,null,null,null,null,null,-10,92,121,null,null,null,null,null,null,null,null,null,null,null,null,"2020-11-13",56,0,426,426,0,4,0]
[128,null,-10,103,121,null,null,null,null,null,null,10,121,103,null,null,null,-10,103,121,null,null,null,null,null,null,null,null,null,null,null,null,null,null,null,null,null,null,null,null,null,10,121,103,null,null,null,null,null,null,null,null,null,null,null,null,null,null,null,null,null,null,"2020-11-17",61,0,448,448,0,4,0]
[129,null,10,121,105,null,null,null,null,null,null,10,121,105,null,null,null,-10,105,121,null,null,null,null,null,null,null,null,null,null,null,null,null,null,null,null,null,null,null,null,null,-10,105,121,null,null,null,null,null,null,null,null,null,null,null,null,null,null,null,null,null,null,"2020-11-17",61,{"$f":"+BH176+AJ176+AG176+AD176+AA176+X176+U176+R176+O176+L176+I176+F176+C176+AM176+AP176+AS176+AV176+AY176+BB176+BE176","v":0},452,452,0,4,0]
[130,null,10,121,95,null,null,null,-10,95,121,10,121,95,null,null,null,-10,95,121,null,null,null,null,null,null,null,null,null,null,null,null,null,null,null,null,null,null,null,null,null,null,null,null,null,null,null,null,null,null,null,null,null,null,null,null,null,null,null,null,null,null,"2020-11-17",61,0,{"$f":"+BI177+AK177+AH177+AE177+AB177+Y177+V177+S177+P177+M177+J177+G177+D177+AN177+AQ177+AT177+AW177+AZ177+BC177+BF177","v":432},{"$f":"+BJ177+AL177+AI177+AF177+AC177+Z177+W177+T177+Q177+N177+K177+H177+E177+AO177+AR177+AU177+AX177+BA177+BD177+BG177","v":432},0,4,0]
[{"$f":"+A177+1","v":131},null,10,121,114,null,null,null,null,null,null,-10,114,121,null,null,null,-10,100,121,10,121,114,null,null,null,null,null,null,null,null,null,null,null,null,null,null,null,null,null,null,-10,114,121,null,null,null,10,121,100,null,null,null,null,null,null,null,null,null,null,null,null,"2020-11-20",65,0,691,691,0,6,0]
[132,null,-10,95,121,null,null,null,null,null,null,10,121,95,10,121,95,-10,95,121,null,null,null,null,null,null,null,null,null,null,null,null,null,null,null,null,null,null,null,null,null,null,null,null,null,null,null,null,null,null,null,null,null,null,null,null,null,null,null,null,null,null,"2020-11-21",66,0,432,432,0,4,0]
[133,null,10,121,111,null,null,null,null,null,null,-10,111,121,10,121,111,-10,111,121,null,null,null,null,null,null,null,null,null,null,null,null,null,null,null,null,null,null,null,null,null,null,null,null,null,null,null,null,null,null,null,null,null,null,null,null,null,null,null,null,null,null,"2020-11-21",66,0,464,464,0,4,0]
[134,null,null,null,null,null,null,null,-10,98,121,10,121,98,null,null,null,10,121,98,null,null,null,null,null,null,null,null,null,null,null,null,null,null,null,null,null,null,null,null,null,null,null,null,null,null,null,-10,98,121,null,null,null,null,null,null,null,null,null,null,null,null,"2020-11-22",67,0,438,438,0,4,0]
[135,null,null,null,null,null,null,null,null,null,null,10,121,104,null,null,null,-10,104,121,null,null,null,null,null,null,null,null,null,null,null,null,null,null,null,null,null,null,null,null,null,null,null,null,null,null,null,null,null,null,null,null,null,null,null,null,null,null,null,null,null,null,"2020-11-24",70,0,225,225,0,2,0]
[136,null,null,null,null,null,null,null,10,121,98,10,121,98,null,null,null,-10,98,121,null,null,null,null,null,null,null,null,null,null,null,null,null,null,null,null,null,null,null,null,null,-10,98,121,null,null,null,null,null,null,null,null,null,null,null,null,null,null,null,null,null,null,"2020-11-29",76,0,438,438,0,4,0]
[{"$f":"+A183+1","v":137},null,10,121,119,null,null,null,-10,119,121,null,null,null,null,null,null,-10,119,121,null,null,null,null,null,null,null,null,null,null,null,null,null,null,null,null,null,null,null,null,null,null,null,null,null,null,null,10,121,119,null,null,null,null,null,null,null,null,null,null,null,null,"2020-12-01",78,0,480,480,{"$f":"+BN184-BO184","v":0},{"$f":"COUNT(C184:BJ184)/3","v":4},{"$f":"+BM184/BQ184","v":0}]
[{"$f":"+A184+1","v":138},null,-11,87,121,null,null,null,11,121,87,null,null,null,null,null,null,-11,87,121,null,null,null,null,null,null,null,null,null,null,null,null,null,null,null,null,null,null,null,null,null,null,null,null,null,null,null,11,121,87,null,null,null,null,null,null,null,null,null,null,null,null,"2020-12-01",78,0,416,416,0,4,0]
[{"$f":"+A185+1","v":139},null,-10,120,121,null,null,null,-10,120,121,null,null,null,null,null,null,10,121,120,null,null,null,null,null,null,null,null,null,null,null,null,null,null,null,null,null,null,null,null,null,null,null,null,null,null,null,10,121,120,null,null,null,null,null,null,null,null,null,null,null,null,"2020-12-01",78,0,482,482,0,4,0]
[{"$f":"+A186+1","v":140},null,10,121,114,null,null,null,-10,114,121,null,null,null,null,null,null,10,121,114,null,null,null,null,null,null,null,null,null,null,null,null,null,null,null,null,null,null,null,null,null,null,null,null,null,null,null,-10,114,121,null,null,null,null,null,null,null,null,null,null,null,null,"2020-12-01",78,0,470,470,0,4,0]
[141,null,null,null,null,null,null,null,10,121,118,null,null,null,null,null,null,10,121,118,null,null,null,null,null,null,null,null,null,null,null,null,null,null,null,null,null,null,null,null,null,-10,118,121,null,null,null,-10,118,121,null,null,null,null,null,null,null,null,null,null,null,null,"2020-12-03",81,0,478,478,0,4,0]
[142,null,null,null,null,null,null,null,-10,109,121,null,null,null,null,null,null,10,121,109,null,null,null,null,null,null,null,null,null,null,null,null,null,null,null,null,null,null,null,null,null,-10,109,121,null,null,null,10,121,109,null,null,null,null,null,null,null,null,null,null,null,null,"2020-12-03",81,0,460,460,0,4,0]
[143,null,null,null,null,null,null,null,-10,115,121,null,null,null,null,null,null,null,null,null,null,null,null,null,null,null,null,null,null,null,null,null,null,null,null,null,null,null,null,null,null,null,null,null,null,null,null,10,121,115,null,null,null,null,null,null,null,null,null,null,null,null,"2020-12-04",82,0,236,236,0,2,0]
[144,null,null,null,null,null,null,null,null,null,null,null,null,null,null,null,null,-10,118,121,null,null,null,null,null,null,null,null,null,null,null,null,null,null,null,null,null,null,null,null,null,null,null,null,null,null,null,10,121,118,null,null,null,null,null,null,null,null,null,null,null,null,"2020-12-04",82,0,239,239,0,2,0]
[145,null,null,null,null,null,null,null,-10,115,121,null,null,null,null,null,null,10,121,115,null,null,null,null,null,null,null,null,null,null,null,null,null,null,null,null,null,null,null,null,null,null,null,null,null,null,null,null,null,null,null,null,null,null,null,null,null,null,null,null,null,null,"2020-12-04",82,0,236,236,0,2,0]
[146,null,null,null,null,null,null,null,-10,107,121,null,null,null,null,null,null,null,null,null,null,null,null,null,null,null,null,null,null,null,null,null,null,null,null,null,null,null,null,null,null,10,121,107,null,null,null,null,null,null,null,null,null,null,null,null,null,null,null,null,null,null,"2020-12-07",86,0,228,228,0,2,0]
[147,null,null,null,null,null,null,null,null,null,null,null,null,null,null,null,null,10,121,109,null,null,null,null,null,null,null,null,null,null,null,null,null,null,null,null,null,null,null,null,null,-10,109,121,null,null,null,null,null,null,null,null,null,null,null,null,null,null,null,null,null,null,"2020-12-07",86,0,230,230,0,2,0]
[148,null,-10,119,121,null,null,null,null,null,null,null,null,null,null,null,null,10,99,70,null,null,null,null,null,null,null,null,null,null,null,null,null,null,null,null,null,null,null,null,null,null,null,null,10,121,119,-10,70,99,null,null,null,null,null,null,null,null,null,null,null,null,"2020-12-08",88,0,409,409,0,4,0]
[149,null,-10,114,121,null,null,null,-10,114,121,null,null,null,null,null,null,null,null,null,null,null,null,null,null,null,null,null,null,null,null,null,null,null,null,null,null,null,null,null,null,null,null,null,10,121,114,10,121,114,null,null,null,null,null,null,null,null,null,null,null,null,"2020-12-08",88,0,470,470,0,4,0]
[150,null,-10,103,121,null,null,null,10,121,103,null,null,null,null,null,null,-10,103,121,null,null,null,null,null,null,null,null,null,null,null,null,null,null,null,null,null,null,null,null,null,null,null,null,10,121,103,null,null,null,null,null,null,null,null,null,null,null,null,null,null,null,"2020-12-08",88,0,448,448,0,4,0]
[151,null,10,121,104,null,null,null,-10,104,121,-10,104,121,null,null,null,10,121,104,null,null,null,null,null,null,null,null,null,null,null,null,null,null,null,null,null,null,null,null,null,null,null,null,10,121,104,-10,104,121,null,null,null,null,null,null,null,null,null,null,null,null,"2020-12-08",88,0,675,675,0,6,0]
[152,null,null,null,null,null,null,null,null,null,null,10,121,116,null,null,null,null,null,null,null,null,null,null,null,null,null,null,null,null,null,null,null,null,null,null,null,null,null,null,null,null,null,null,null,null,null,-10,116,121,null,null,null,null,null,null,null,null,null,null,null,null,"2020-12-09",89,0,237,237,0,2,0]
[153,null,null,null,null,null,null,null,null,null,null,-10,93,121,null,null,null,10,121,93,null,null,null,null,null,null,null,null,null,null,null,null,null,null,null,null,null,null,null,null,null,null,null,null,null,null,null,null,null,null,null,null,null,null,null,null,null,null,null,null,null,null,"2020-12-09",89,0,214,214,0,2,0]
[154,null,null,null,null,null,null,null,null,null,null,10,121,110,null,null,null,-10,93,121,10,121,93,null,null,null,null,null,null,null,null,null,null,null,null,null,null,null,null,null,null,null,null,null,null,null,null,-10,110,121,null,null,null,null,null,null,null,null,null,null,null,null,"2020-12-09",89,0,445,445,0,4,0]
[155,null,10,121,112,null,null,null,-10,112,121,null,null,null,null,null,null,-10,112,121,null,null,null,null,null,null,null,null,null,null,null,null,null,null,null,null,null,null,null,null,null,10,121,112,null,null,null,null,null,null,null,null,null,null,null,null,null,null,null,null,null,null,"2020-12-11",92,0,466,466,0,4,0]
[156,null,-10,120,121,null,null,null,null,null,null,null,null,null,null,null,null,-10,102,121,10,121,102,null,null,null,null,null,null,null,null,null,null,null,null,null,null,null,null,null,null,10,121,102,10,121,120,-10,102,121,null,null,null,null,null,null,null,null,null,null,null,null,"2020-12-12",93,0,687,687,0,6,0]
[157,null,null,null,null,null,null,null,10,121,107,-10,107,121,null,null,null,-10,107,121,null,null,null,null,null,null,null,null,null,null,null,null,null,null,null,null,null,null,null,null,null,null,null,null,null,null,null,10,121,107,null,null,null,null,null,null,null,null,null,null,null,null,"2020-12-14",97,0,456,456,0,4,0]
[158,null,null,null,null,null,null,null,-10,102,121,-10,102,121,null,null,null,10,121,102,null,null,null,null,null,null,null,null,null,null,null,null,null,null,null,null,null,null,null,null,null,null,null,null,null,null,null,10,121,102,null,null,null,null,null,null,null,null,null,null,null,null,"2020-12-14",97,0,446,446,0,4,0]
[159,null,null,null,null,null,null,null,10,121,108,-10,108,121,null,null,null,10,121,108,null,null,null,null,null,null,null,null,null,null,null,null,null,null,null,null,null,null,null,null,null,null,null,null,null,null,null,-10,108,121,null,null,null,null,null,null,null,null,null,null,null,null,"2020-12-14",97,0,458,458,0,4,0]
[160,null,10,121,102,null,null,null,-10,102,121,null,null,null,null,null,null,10,121,102,null,null,null,null,null,null,null,null,null,null,null,null,null,null,null,null,null,null,null,null,null,null,null,null,null,null,null,-10,102,121,null,null,null,null,null,null,null,null,null,null,null,null,"2020-12-15",98,0,446,446,0,4,0]
[161,null,null,null,null,null,null,null,-10,118,121,null,null,null,null,null,null,10,121,118,null,null,null,null,null,null,null,null,null,null,null,null,null,null,null,null,null,null,null,null,null,-10,118,121,null,null,null,10,121,118,null,null,null,null,null,null,null,null,null,null,null,null,"2020-12-17",99,0,478,478,0,4,0]
[162,null,10,121,102,null,null,null,null,null,null,null,null,null,null,null,null,-10,102,121,null,null,null,null,null,null,null,null,null,null,null,null,null,null,null,null,null,null,null,null,null,null,null,null,null,null,null,null,null,null,null,null,null,null,null,null,null,null,null,null,null,null,"2020-12-18",100,0,223,223,0,2,0]
[163,null,-11,83,121,null,null,null,11,121,83,null,null,null,null,null,null,-11,83,121,null,null,null,null,null,null,null,null,null,null,null,null,null,null,null,null,null,null,null,null,null,null,null,null,null,null,null,11,121,83,null,null,null,null,null,null,null,null,null,null,null,null,"2020-12-18",100,0,408,408,0,4,0]
[164,null,null,null,null,null,null,null,null,null,null,-10,120,121,null,null,null,10,121,120,null,null,null,null,null,null,null,null,null,null,null,null,null,null,null,null,null,null,null,null,null,10,121,120,null,null,null,-10,120,121,null,null,null,null,null,null,null,null,null,null,null,null,"2020-12-21",104,0,482,482,0,4,0]
[165,null,null,null,null,null,null,null,null,null,null,11,121,90,null,null,null,11,121,90,null,null,null,null,null,null,null,null,null,null,null,null,null,null,null,null,null,null,null,null,null,-11,90,121,null,null,null,-11,90,121,null,null,null,null,null,null,null,null,null,null,null,null,"2020-12-21",104,0,422,422,0,4,0]
[166,null,null,null,null,null,null,null,-11,82,121,null,null,null,null,null,null,-11,82,121,null,null,null,null,null,null,null,null,null,null,null,null,null,null,null,null,null,null,null,null,null,11,121,82,null,null,null,11,121,82,null,null,null,null,null,null,null,null,null,null,null,null,"2020-12-22",106,0,406,406,0,4,0]
[167,null,null,null,null,null,null,null,-10,107,121,10,121,107,null,null,null,-10,107,121,null,null,null,null,null,null,null,null,null,null,null,null,null,null,null,null,null,null,null,null,null,10,121,107,null,null,null,null,null,null,null,null,null,null,null,null,null,null,null,null,null,null,"2020-12-28",115,0,456,456,0,4,0]
[168,null,-10,115,121,null,null,null,-10,110,121,null,null,null,null,null,null,10,121,115,null,null,null,null,null,null,null,null,null,null,null,null,null,null,null,null,null,null,null,null,null,10,121,110,null,null,null,null,null,null,null,null,null,null,null,null,null,null,null,null,null,null,"2020-12-29",117,0,467,467,0,4,0]
[169,null,null,null,null,null,null,null,null,null,null,10,121,115,null,null,null,-10,115,121,null,null,null,null,null,null,null,null,null,null,null,null,null,null,null,null,null,null,null,null,null,null,null,null,null,null,null,null,null,null,null,null,null,null,null,null,null,null,null,null,null,null,"2021-12-03",125,0,236,236,{"$f":"+BN216-BO216","v":0},{"$f":"COUNT(C216:BJ216)/3","v":2},{"$f":"+BM216/BQ216","v":0}]
[170,null,null,null,null,null,null,null,-11,90,121,null,null,null,null,null,null,null,null,null,null,null,null,null,null,null,null,null,null,null,null,null,null,null,null,null,null,null,null,null,null,11,121,90,null,null,null,null,null,null,null,null,null,null,null,null,null,null,null,null,null,null,"2021-12-03",125,0,211,211,0,2,0]
[171,null,null,null,null,null,null,null,-11,86,121,11,121,86,null,null,null,null,null,null,null,null,null,null,null,null,null,null,null,null,null,null,null,null,null,null,null,null,null,null,null,null,null,null,null,null,null,null,null,null,null,null,null,null,null,null,null,null,null,null,null,null,"2021-12-03",125,0,207,207,0,2,0]
[172,null,null,null,null,null,null,null,null,null,null,-10,107,121,null,null,null,null,null,null,null,null,null,null,null,null,null,null,null,null,null,null,null,null,null,null,null,null,null,null,null,10,121,107,null,null,null,null,null,null,null,null,null,null,null,null,null,null,null,null,null,null,"2021-01-05",127,0,228,228,0,2,0]
[173,null,null,null,null,null,null,null,-10,118,121,10,121,118,null,null,null,10,121,118,null,null,null,null,null,null,null,null,null,null,null,null,null,null,null,null,null,null,null,null,null,null,null,null,null,null,null,-10,118,121,null,null,null,null,null,null,null,null,null,null,null,null,"2021-01-06",128,0,478,478,0,4,0]
[174,null,-10,117,121,null,null,null,null,null,null,10,121,117,null,null,null,-10,117,121,null,null,null,null,null,null,null,null,null,null,null,null,null,null,null,null,null,null,null,null,null,10,121,117,null,null,null,null,null,null,null,null,null,null,null,null,null,null,null,null,null,null,"2021-01-07",129,0,476,476,0,4,0]
[175,null,null,null,null,null,null,null,10,121,106,10,121,106,null,null,null,-10,106,121,null,null,null,null,null,null,null,null,null,null,null,null,null,null,null,null,null,null,null,null,null,-10,106,121,null,null,null,null,null,null,null,null,null,null,null,null,null,null,null,null,null,null,"2021-01-08",130,0,454,454,0,4,0]
[176,null,null,null,null,null,null,null,10,121,116,-10,116,121,null,null,null,10,121,116,null,null,null,null,null,null,null,null,null,null,null,null,null,null,null,null,null,null,null,null,null,-10,116,121,null,null,null,null,null,null,null,null,null,null,null,null,null,null,null,null,null,null,"2021-01-09",132,0,474,474,0,4,0]
[177,null,-10,113,121,null,null,null,10,121,113,-10,113,121,null,null,null,10,121,113,null,null,null,null,null,null,null,null,null,null,null,null,null,null,null,null,null,null,null,null,null,null,null,null,null,null,null,null,null,null,null,null,null,null,null,null,null,null,null,null,null,null,"2021-01-09",132,0,468,468,0,4,0]
[178,null,10,121,96,null,null,null,-10,96,121,null,null,null,null,null,null,10,121,96,null,null,null,null,null,null,null,null,null,null,null,null,null,null,null,null,null,null,null,null,null,-10,96,121,null,null,null,null,null,null,null,null,null,null,null,null,null,null,null,null,null,null,"2021-01-09",132,0,434,434,0,4,0]
[179,null,null,null,null,null,null,null,-10,107,121,10,121,107,null,null,null,-10,107,121,null,null,null,null,null,null,null,null,null,null,null,null,null,null,null,null,null,null,null,null,null,null,null,null,null,null,null,10,121,107,null,null,null,null,null,null,null,null,null,null,null,null,"2021-01-14",138,0,456,456,{"$f":"+BN226-BO226","v":0},4,0]
[180,null,null,null,null,null,null,null,-10,102,121,10,121,102,null,null,null,null,null,null,null,null,null,null,null,null,null,null,null,null,null,null,null,null,null,null,null,null,null,null,null,null,null,null,null,null,null,null,null,null,null,null,null,null,null,null,null,null,null,null,null,null,"2021-01-14",138,0,223,223,0,2,0]
[181,null,10,121,98,null,null,null,null,null,null,10,121,98,null,null,null,-10,98,121,null,null,null,null,null,null,null,null,null,null,null,null,null,null,null,null,null,null,null,null,null,null,null,null,null,null,null,-10,98,121,null,null,null,null,null,null,null,null,null,null,null,null,"2021-01-15",139,0,438,438,0,4,0]
[182,null,null,null,null,null,null,null,null,null,null,null,null,null,null,null,null,10,121,94,-10,94,121,null,null,null,null,null,null,null,null,null,null,null,null,null,null,null,null,null,null,-10,94,121,null,null,null,10,121,94,null,null,null,null,null,null,null,null,null,null,null,null,"2021-01-16",140,0,430,430,0,4,0]
[183,null,null,null,null,null,null,null,null,null,null,null,null,null,null,null,null,11,121,88,-11,88,121,null,null,null,null,null,null,null,null,null,null,null,null,null,null,null,null,null,null,11,121,88,null,null,null,-11,88,121,null,null,null,null,null,null,null,null,null,null,null,null,"2021-01-16",140,0,418,418,0,4,0]
[184,null,null,null,null,null,null,null,null,null,null,null,null,null,null,null,null,-10,109,121,10,121,109,null,null,null,null,null,null,null,null,null,null,null,null,null,null,null,null,null,null,-10,109,121,null,null,null,10,121,109,null,null,null,null,null,null,null,null,null,null,null,null,"2021-01-16",140,0,460,460,0,4,0]
[185,null,null,null,null,null,null,null,null,null,null,null,null,null,null,null,null,11,121,89,-11,89,121,null,null,null,null,null,null,null,null,null,null,null,null,null,null,null,null,null,null,-11,89,121,null,null,null,11,121,89,null,null,null,null,null,null,null,null,null,null,null,null,"2021-01-16",140,0,420,420,0,4,0]
[186,null,null,null,null,null,null,null,-10,97,121,-10,97,121,null,null,null,10,121,97,null,null,null,null,null,null,null,null,null,null,null,null,null,null,null,null,null,null,null,null,null,10,121,97,null,null,null,null,null,null,null,null,null,null,null,null,null,null,null,null,null,null,"2021-01-17",141,0,436,436,0,4,0]
[187,null,null,null,null,null,null,null,10,121,120,-10,120,121,null,null,null,-10,120,121,null,null,null,null,null,null,null,null,null,null,null,null,null,null,null,null,null,null,null,null,null,10,121,120,null,null,null,null,null,null,null,null,null,null,null,null,null,null,null,null,null,null,"2021-01-18",142,0,482,482,0,4,0]
[188,null,null,null,null,null,null,null,10,121,104,10,121,104,null,null,null,-10,104,121,null,null,null,null,null,null,null,null,null,null,null,null,null,null,null,null,null,null,null,null,null,-10,104,121,null,null,null,null,null,null,null,null,null,null,null,null,null,null,null,null,null,null,"2021-01-18",142,0,450,450,0,4,0]
[189,null,10,121,110,-10,110,121,null,null,null,-10,110,121,null,null,null,10,121,110,null,null,null,null,null,null,null,null,null,null,null,null,null,null,null,null,null,null,null,null,null,null,null,null,null,null,null,null,null,null,null,null,null,null,null,null,null,null,null,null,null,null,"2021-01-22",146,0,462,462,0,4,0]
[190,null,null,null,null,null,null,null,10,121,110,-10,110,121,null,null,null,-10,110,121,null,null,null,null,null,null,null,null,null,null,null,null,null,null,null,null,null,null,null,null,null,10,121,110,null,null,null,null,null,null,null,null,null,null,null,null,null,null,null,null,null,null,"2021-01-25",151,0,462,462,0,4,0]
[191,null,null,null,null,null,null,null,10,121,106,10,121,106,null,null,null,-10,106,121,null,null,null,null,null,null,null,null,null,null,null,null,null,null,null,null,null,null,null,null,null,-10,106,121,null,null,null,null,null,null,null,null,null,null,null,null,null,null,null,null,null,null,"2021-01-25",151,0,454,454,0,4,0]
[192,null,null,null,null,null,null,null,10,121,108,10,121,108,null,null,null,-10,108,121,null,null,null,null,null,null,null,null,null,null,null,null,null,null,null,null,null,null,null,null,null,null,null,null,null,null,null,-10,108,121,null,null,null,null,null,null,null,null,null,null,null,null,"2021-01-27",153,0,458,458,0,4,0]
[193,null,null,null,null,null,null,null,-10,113,121,10,121,113,null,null,null,10,121,113,null,null,null,null,null,null,null,null,null,null,null,null,null,null,null,null,null,null,null,null,null,null,null,null,null,null,null,-10,113,121,null,null,null,null,null,null,null,null,null,null,null,null,"2021-01-27",153,{"$f":"+BH240+AJ240+AG240+AD240+AA240+X240+U240+R240+O240+L240+I240+F240+C240+AM240+AP240+AS240+AV240+AY240+BB240+BE240","v":0},468,468,0,4,0]
[194,null,null,null,null,null,null,null,11,121,87,-11,87,121,null,null,null,11,121,87,null,null,null,null,null,null,null,null,null,null,null,null,null,null,null,null,null,null,null,null,null,null,null,null,null,null,null,-11,87,121,null,null,null,null,null,null,null,null,null,null,null,null,"2021-01-27",153,0,{"$f":"+BI241+AK241+AH241+AE241+AB241+Y241+V241+S241+P241+M241+J241+G241+D241+AN241+AQ241+AT241+AW241+AZ241+BC241+BF241","v":416},{"$f":"+BJ241+AL241+AI241+AF241+AC241+Z241+W241+T241+Q241+N241+K241+H241+E241+AO241+AR241+AU241+AX241+BA241+BD241+BG241","v":416},0,4,0]
[195,null,null,null,null,null,null,null,10,121,96,-10,96,121,null,null,null,-10,96,121,null,null,null,null,null,null,null,null,null,null,null,null,null,null,null,null,null,null,null,null,null,null,null,null,null,null,null,10,121,96,null,null,null,null,null,null,null,null,null,null,null,null,"2021-01-28",154,0,434,434,0,4,0]
[196,null,null,null,null,null,null,null,11,121,80,-11,80,121,null,null,null,11,121,80,null,null,null,null,null,null,null,null,null,null,null,null,null,null,null,null,null,null,null,null,null,null,null,null,null,null,null,-11,80,121,null,null,null,null,null,null,null,null,null,null,null,null,"2021-01-28",154,0,402,402,{"$f":"+BN243-BO243","v":0},{"$f":"COUNT(C243:BJ243)/3","v":4},{"$f":"+BM243/BQ243","v":0}]
[197,null,null,null,null,null,null,null,-10,97,121,-10,97,121,null,null,null,10,121,97,null,null,null,null,null,null,null,null,null,null,null,null,null,null,null,null,null,null,null,null,null,null,null,null,null,null,null,10,121,97,null,null,null,null,null,null,null,null,null,null,null,null,"2021-01-28",154,0,436,436,0,4,0]
[198,null,null,null,null,null,null,null,-11,88,121,11,121,80,null,null,null,11,121,80,null,null,null,null,null,null,null,null,null,null,null,null,null,null,null,null,null,null,null,null,null,null,null,null,null,null,null,-11,88,121,null,null,null,null,null,null,null,null,null,null,null,null,"2021-01-29",155,0,418,402,16,4,0]
[199,null,null,null,null,null,null,null,-10,112,121,10,121,112,null,null,null,-10,112,121,null,null,null,null,null,null,null,null,null,null,null,null,null,null,null,null,null,null,null,null,null,null,null,null,null,null,null,10,121,112,null,null,null,null,null,null,null,null,null,null,null,null,"2021-01-29",155,0,466,466,0,4,0]
[200,null,null,null,null,null,null,null,10,121,106,10,121,106,null,null,null,-10,106,121,null,null,null,null,null,null,null,null,null,null,null,null,null,null,null,null,null,null,null,null,null,null,null,null,null,null,null,-10,106,121,null,null,null,null,null,null,null,null,null,null,null,null,"2021-01-29",155,0,454,454,0,4,0]
[201,null,null,null,null,null,null,null,11,121,83,null,null,null,null,null,null,null,null,null,null,null,null,null,null,null,null,null,null,null,null,null,null,null,null,null,null,null,null,null,null,-11,83,121,null,null,null,null,null,null,null,null,null,null,null,null,null,null,null,null,null,null,"2021-02-01",159,0,204,204,0,2,0]
[202,null,null,null,null,null,null,null,-10,92,121,10,121,92,null,null,null,10,121,92,null,null,null,null,null,null,null,null,null,null,null,null,null,null,null,null,null,null,null,null,null,-10,92,121,null,null,null,null,null,null,null,null,null,null,null,null,null,null,null,null,null,null,"2021-02-01",159,0,426,426,0,4,0]
[203,null,null,null,null,null,null,null,-10,104,121,10,121,104,null,null,null,10,121,104,null,null,null,null,null,null,null,null,null,null,null,null,null,null,null,null,null,null,null,null,null,null,null,null,null,null,null,-10,104,121,null,null,null,null,null,null,null,null,null,null,null,null,"2021-02-03",161,0,450,450,0,4,0]
[{"$f":"+A250+1","v":204},null,null,null,null,null,null,null,null,null,null,null,null,null,null,null,null,11,121,82,null,null,null,null,null,null,null,null,null,null,null,null,null,null,null,null,null,null,null,null,null,-11,82,121,null,null,null,null,null,null,null,null,null,null,null,null,null,null,null,null,null,null,"2021-02-04",162,0,203,203,0,2,0]
[205,null,null,null,null,null,null,null,null,null,null,null,null,null,null,null,null,10,121,114,null,null,null,null,null,null,null,null,null,null,null,null,null,null,null,null,null,null,null,null,null,null,null,null,null,null,null,-10,114,121,null,null,null,null,null,null,null,null,null,null,null,null,"2021-02-04",162,0,235,235,0,2,0]
[206,null,null,null,null,null,null,null,null,null,null,10,121,105,null,null,null,null,null,null,null,null,null,null,null,null,null,null,null,null,null,null,null,null,null,null,null,null,null,null,null,null,null,null,null,null,null,-10,105,121,null,null,null,null,null,null,null,null,null,null,null,null,"2021-02-04",162,0,226,226,0,2,0]
[207,null,10,121,105,null,null,null,null,null,null,null,null,null,null,null,null,-10,105,121,null,null,null,null,null,null,null,null,null,null,null,null,null,null,null,null,null,null,null,null,null,null,null,null,null,null,null,null,null,null,null,null,null,null,null,null,null,null,null,null,null,null,"2021-02-10",170,0,226,226,0,2,0]
[208,null,10,121,95,null,null,null,null,null,null,-10,95,121,null,null,null,null,null,null,null,null,null,null,null,null,null,null,null,null,null,null,null,null,null,null,null,null,null,null,null,null,null,null,null,null,null,null,null,null,null,null,null,null,null,null,null,null,null,null,null,null,"2021-02-10",170,0,216,216,0,2,0]
[209,null,null,null,null,null,null,null,null,null,null,-10,91,121,null,null,null,10,121,91,null,null,null,null,null,null,null,null,null,null,null,null,null,null,null,null,null,null,null,null,null,null,null,null,null,null,null,null,null,null,null,null,null,null,null,null,null,null,null,null,null,null,"2021-02-10",170,0,212,212,0,2,0]
[210,null,null,null,null,null,null,null,null,null,null,10,121,101,null,null,null,null,null,null,null,null,null,null,null,null,null,null,null,null,null,null,null,null,null,null,null,null,null,null,null,null,null,null,null,null,null,-10,101,121,null,null,null,null,null,null,null,null,null,null,null,null,"2021-02-11",171,0,222,222,0,2,0]
[211,null,null,null,null,null,null,null,null,null,null,10,121,105,null,null,null,-10,105,121,null,null,null,null,null,null,null,null,null,null,null,null,null,null,null,null,null,null,null,null,null,null,null,null,null,null,null,null,null,null,null,null,null,null,null,null,null,null,null,null,null,null,"2021-02-13",173,0,226,226,0,2,0]
[212,null,null,null,null,null,null,null,null,null,null,-10,119,121,null,null,null,null,null,null,null,null,null,null,null,null,null,null,null,null,null,null,null,null,null,null,null,null,null,null,null,10,121,119,null,null,null,null,null,null,null,null,null,null,null,null,null,null,null,null,null,null,"2021-02-13",173,0,240,240,0,2,0]
[213,"Acabat per temps Jordi",-10,87,97,null,null,null,null,null,null,10,97,87,null,null,null,null,null,null,null,null,null,null,null,null,null,null,null,null,null,null,null,null,null,null,null,null,null,null,null,null,null,null,null,null,null,null,null,null,null,null,null,null,null,null,null,null,null,null,null,null,"2021-02-14",175,0,184,184,0,2,0]
[214,null,10,121,98,null,null,null,null,null,null,-10,89,121,null,null,null,-10,89,121,null,null,null,null,null,null,null,null,null,null,null,null,null,null,null,null,null,null,null,null,null,null,null,null,null,null,null,10,121,98,null,null,null,null,null,null,null,null,null,null,null,null,"2021-02-17",178,0,420,438,-18,4,0]
[215,null,null,null,null,null,null,null,-10,100,121,null,null,null,null,null,null,null,null,null,null,null,null,null,null,null,null,null,null,null,null,null,null,null,null,null,null,null,null,null,null,null,null,null,null,null,null,10,121,100,null,null,null,null,null,null,null,null,null,null,null,null,"2021-02-19",180,0,221,221,0,2,0]
[216,null,null,null,null,null,null,null,-10,108,121,10,121,108,null,null,null,null,null,null,null,null,null,null,null,null,null,null,null,null,null,null,null,null,null,null,null,null,null,null,null,null,null,null,null,null,null,null,null,null,null,null,null,null,null,null,null,null,null,null,null,null,"2021-02-19",180,0,229,229,0,2,0]
[217,null,11,121,63,null,null,null,-11,63,121,-10,100,121,null,null,null,null,null,null,null,null,null,null,null,null,null,null,null,null,null,null,null,null,null,null,null,null,null,null,null,null,null,null,null,null,null,10,121,100,null,null,null,null,null,null,null,null,null,null,null,null,"2021-02-19",180,0,405,405,0,4,0]
[218,null,10,121,113,null,null,null,null,null,null,null,null,null,null,null,null,null,null,null,null,null,null,null,null,null,null,null,null,null,null,null,null,null,null,null,null,null,null,null,null,-10,113,121,null,null,null,null,null,null,null,null,null,null,null,null,null,null,null,null,null,null,"2021-02-21",182,0,234,234,0,2,0]
[219,null,null,null,null,null,null,null,null,null,null,null,null,null,null,null,null,10,121,114,null,null,null,null,null,null,null,null,null,null,null,null,null,null,null,null,null,null,null,null,null,-10,114,121,null,null,null,null,null,null,null,null,null,null,null,null,null,null,null,null,null,null,"2021-02-21",182,0,235,235,0,2,0]
[220,null,null,null,null,null,null,null,10,121,111,-10,111,121,null,null,null,-10,111,121,null,null,null,null,null,null,null,null,null,null,null,null,null,null,null,null,null,null,null,null,null,10,121,111,null,null,null,null,null,null,null,null,null,null,null,null,null,null,null,null,null,null,"2021-02-22",183,0,464,464,0,4,0]
[221,null,null,null,null,null,null,null,-10,117,121,10,121,117,null,null,null,-10,117,121,null,null,null,null,null,null,null,null,null,null,null,null,null,null,null,null,null,null,null,null,null,10,121,117,null,null,null,null,null,null,null,null,null,null,null,null,null,null,null,null,null,null,"2021-02-22",183,0,476,476,0,4,0]
[222,null,null,null,null,null,null,null,-10,94,121,-10,94,121,null,null,null,10,121,94,null,null,null,null,null,null,null,null,null,null,null,null,null,null,null,null,null,null,null,null,null,10,121,94,null,null,null,null,null,null,null,null,null,null,null,null,null,null,null,null,null,null,"2021-02-22",183,0,430,430,0,4,0]
[223,null,null,null,null,null,null,null,null,null,null,11,121,79,null,null,null,11,121,79,null,null,null,null,null,null,null,null,null,null,null,null,-11,79,121,null,null,null,null,null,null,null,null,null,null,null,null,-11,79,121,null,null,null,null,null,null,null,null,null,null,null,null,"2021-02-24",185,0,400,400,0,4,0]
[224,null,null,null,null,null,null,null,null,null,null,-10,111,121,null,null,null,null,null,null,null,null,null,null,null,null,null,null,null,null,null,null,null,null,null,null,null,null,null,null,null,null,null,null,null,null,null,10,121,111,null,null,null,null,null,null,null,null,null,null,null,null,"2021-02-25",186,0,232,232,0,2,0]
[225,null,null,null,null,null,null,null,null,null,null,null,null,null,null,null,null,10,121,94,null,null,null,null,null,null,null,null,null,null,null,null,null,null,null,null,null,null,null,null,null,null,null,null,null,null,null,-10,94,121,null,null,null,null,null,null,null,null,null,null,null,null,"2021-02-25",186,0,215,215,0,2,0]
[226,null,null,null,null,null,null,null,null,null,null,10,121,105,null,null,null,-10,105,121,null,null,null,null,null,null,null,null,null,null,null,null,null,null,null,null,null,null,null,null,null,null,null,null,null,null,null,null,null,null,null,null,null,null,null,null,null,null,null,null,null,null,"2021-02-25",186,0,226,226,0,2,0]
[227,null,null,null,null,null,null,null,null,null,null,null,null,null,null,null,null,null,null,null,null,null,null,null,null,null,null,null,null,null,null,null,-10,113,121,null,null,null,null,null,null,null,null,null,null,null,null,10,121,113,null,null,null,null,null,null,null,null,null,null,null,null,"2021-02-27",188,0,234,234,0,2,0]
[228,null,null,null,null,null,null,null,null,null,null,null,null,null,null,null,null,10,121,94,null,null,null,null,null,null,null,null,null,null,null,null,null,null,null,null,null,null,null,null,null,null,null,null,null,null,null,-10,94,121,null,null,null,null,null,null,null,null,null,null,null,null,"2021-02-27",188,0,215,215,0,2,0]
[229,null,null,null,null,null,null,null,-10,117,121,null,null,null,null,null,null,10,121,117,null,null,null,null,null,null,null,null,null,null,null,null,10,121,117,null,null,null,null,null,null,null,null,null,null,null,null,-10,117,121,null,null,null,null,null,null,null,null,null,null,null,null,"2021-02-27",188,0,476,476,0,4,0]
[230,null,10,121,107,null,null,null,-10,107,121,-10,107,121,null,null,null,10,121,107,null,null,null,null,null,null,null,null,null,null,null,null,null,null,null,null,null,null,null,null,null,null,null,null,null,null,null,null,null,null,null,null,null,null,null,null,null,null,null,null,null,null,"2021-02-28",189,0,456,456,0,4,0]
[231,null,-10,118,121,null,null,null,10,121,118,-10,118,121,null,null,null,10,121,118,null,null,null,null,null,null,null,null,null,null,null,null,null,null,null,null,null,null,null,null,null,null,null,null,null,null,null,null,null,null,null,null,null,null,null,null,null,null,null,null,null,null,"2021-02-28",189,0,478,478,0,4,0]
[232,null,11,121,73,null,null,null,11,121,73,-11,73,121,null,null,null,-11,73,121,null,null,null,null,null,null,null,null,null,null,null,null,null,null,null,null,null,null,null,null,null,null,null,null,null,null,null,null,null,null,null,null,null,null,null,null,null,null,null,null,null,null,"2021-02-28",189,0,388,388,0,4,0]
[233,null,null,null,null,null,null,null,-10,105,121,-10,101,121,null,null,null,10,121,105,null,null,null,null,null,null,null,null,null,null,null,null,null,null,null,null,null,null,null,null,null,null,null,null,null,null,null,10,121,101,null,null,null,null,null,null,null,null,null,null,null,null,"2021-03-01",190,0,448,448,0,4,0]
[234,null,null,null,null,null,null,null,null,null,null,-10,111,121,null,null,null,10,121,111,null,null,null,null,null,null,null,null,null,null,null,null,null,null,null,null,null,null,null,null,null,null,null,null,null,null,null,null,null,null,null,null,null,null,null,null,null,null,null,null,null,null,"2021-03-03",192,0,232,232,0,2,0]
[235,null,null,null,null,null,null,null,null,null,null,null,null,null,null,null,null,10,121,101,null,null,null,null,null,null,null,null,null,null,null,null,null,null,null,null,null,null,null,null,null,null,null,null,null,null,null,-10,101,121,null,null,null,null,null,null,null,null,null,null,null,null,"2021-03-04",193,0,222,222,0,2,0]
[236,null,null,null,null,null,null,null,10,121,111,null,null,null,null,null,null,null,null,null,null,null,null,null,null,null,null,null,null,null,null,null,null,null,null,null,null,null,null,null,null,null,null,null,null,null,null,-10,111,121,null,null,null,null,null,null,null,null,null,null,null,null,"2021-03-05",194,0,232,232,0,2,0]
[237,null,null,null,null,null,null,null,-11,88,121,null,null,null,null,null,null,11,121,88,null,null,null,null,null,null,null,null,null,null,null,null,null,null,null,null,null,null,null,null,null,null,null,null,null,null,null,null,null,null,null,null,null,null,null,null,null,null,null,null,null,null,"2021-03-05",194,0,209,209,0,2,0]
[238,null,null,null,null,null,null,null,-10,107,121,-10,107,121,null,null,null,10,121,107,null,null,null,null,null,null,null,null,null,null,null,null,null,null,null,null,null,null,null,null,null,null,null,null,null,null,null,10,121,107,null,null,null,null,null,null,null,null,null,null,null,null,"2021-03-08",196,0,456,456,0,4,0]
[239,null,null,null,null,null,null,null,10,121,106,-10,106,121,null,null,null,10,121,106,null,null,null,null,null,null,null,null,null,null,null,null,null,null,null,null,null,null,null,null,null,null,null,null,null,null,null,-10,106,121,null,null,null,null,null,null,null,null,null,null,null,null,"2021-03-08",196,0,454,454,0,4,0]
[240,null,null,null,null,null,null,null,-10,106,121,10,121,106,null,null,null,10,121,106,null,null,null,null,null,null,null,null,null,null,null,null,null,null,null,null,null,null,null,null,null,null,null,null,null,null,null,-10,106,121,null,null,null,null,null,null,null,null,null,null,null,null,"2021-03-08",196,0,454,454,0,4,0]
[241,null,null,null,null,null,null,null,null,null,null,null,null,null,null,null,null,-10,117,121,null,null,null,null,null,null,null,null,null,null,null,null,null,null,null,null,null,null,null,null,null,null,null,null,null,null,null,10,121,117,null,null,null,null,null,null,null,null,null,null,null,null,"2021-03-09",197,0,238,238,0,2,0]
[242,null,null,null,null,null,null,null,-10,111,121,10,121,111,null,null,null,-10,111,121,null,null,null,null,null,null,null,null,null,null,null,null,null,null,null,null,null,null,null,null,null,null,null,null,null,null,null,10,121,111,null,null,null,null,null,null,null,null,null,null,null,null,"2021-03-09",197,0,464,464,0,4,0]
[243,null,-10,119,121,null,null,null,null,null,null,10,121,119,null,null,null,null,null,null,null,null,null,null,null,null,null,null,null,null,null,null,10,121,119,null,null,null,null,null,null,null,null,null,null,null,null,-10,119,121,null,null,null,null,null,null,null,null,null,null,null,null,"2021-03-10",198,0,480,480,0,4,0]
[244,null,11,121,90,null,null,null,null,null,null,-11,90,121,null,null,null,null,null,null,null,null,null,null,null,null,null,null,null,null,null,null,null,null,null,null,null,null,null,null,null,null,null,null,null,null,null,null,null,null,null,null,null,null,null,null,null,null,null,null,null,null,"2021-03-11",199,0,211,211,0,2,0]
[245,null,null,null,null,null,null,null,null,null,null,10,121,119,null,null,null,null,null,null,null,null,null,null,null,null,null,null,null,null,null,null,null,null,null,null,null,null,null,null,null,null,null,null,null,null,null,-10,119,121,null,null,null,null,null,null,null,null,null,null,null,null,"2021-03-11",199,0,240,240,0,2,0]
[246,null,-10,118,121,null,null,null,null,null,null,null,null,null,null,null,null,null,null,null,null,null,null,null,null,null,null,null,null,null,null,null,null,null,null,null,null,null,null,null,null,null,null,null,null,null,null,10,121,118,null,null,null,null,null,null,null,null,null,null,null,null,"2021-03-11",199,0,239,239,0,2,0]
[247,null,10,121,116,null,null,null,null,null,null,-10,116,121,null,null,null,10,121,116,null,null,null,null,null,null,null,null,null,null,null,null,null,null,null,null,null,null,null,null,null,null,null,null,null,null,null,-10,116,121,null,null,null,null,null,null,null,null,null,null,null,null,"2021-03-12",200,0,474,474,0,4,0]
[248,null,null,null,null,null,null,null,null,null,null,null,null,null,null,null,null,10,121,117,null,null,null,null,null,null,null,null,null,null,null,null,null,null,null,null,null,null,null,null,null,null,null,null,null,null,null,-10,117,121,null,null,null,null,null,null,null,null,null,null,null,null,"2021-03-13",201,0,238,238,0,2,0]
[249,null,null,null,null,null,null,null,null,null,null,10,121,106,null,null,null,-10,106,121,null,null,null,null,null,null,null,null,null,null,null,null,null,null,null,null,null,null,null,null,null,null,null,null,null,null,null,null,null,null,null,null,null,null,null,null,null,null,null,null,null,null,"2021-03-13",201,0,227,227,0,2,0]
[250,null,null,null,null,null,null,null,-10,110,121,10,121,110,null,null,null,null,null,null,null,null,null,null,null,null,null,null,null,null,null,null,null,null,null,null,null,null,null,null,null,10,121,110,null,null,null,-10,110,121,null,null,null,null,null,null,null,null,null,null,null,null,"2021-03-15",203,0,462,462,0,4,0]
[251,null,null,null,null,null,null,null,null,null,null,-11,77,121,null,null,null,-11,77,121,null,null,null,null,null,null,null,null,null,null,null,null,null,null,null,null,null,null,null,null,null,11,121,77,null,null,null,11,121,77,null,null,null,null,null,null,null,null,null,null,null,null,"2021-03-16",204,0,396,396,0,4,0]
[252,null,null,null,null,null,null,null,null,null,null,10,121,96,null,null,null,null,null,null,null,null,null,null,null,null,null,null,null,null,null,null,null,null,null,null,null,null,null,null,null,null,null,null,null,null,null,-10,96,121,null,null,null,null,null,null,null,null,null,null,null,null,"2021-03-17",205,0,217,217,0,2,0]
[253,null,null,null,null,null,null,null,null,null,null,10,121,107,null,null,null,-10,107,121,null,null,null,null,null,null,null,null,null,null,null,null,null,null,null,null,null,null,null,null,null,null,null,null,null,null,null,null,null,null,null,null,null,null,null,null,null,null,null,null,null,null,"2021-03-17",205,0,228,228,0,2,0]
[254,null,10,121,96,null,null,null,null,null,null,null,null,null,null,null,null,-10,96,121,null,null,null,null,null,null,null,null,null,null,null,null,null,null,null,null,null,null,null,null,null,null,null,null,null,null,null,null,null,null,null,null,null,null,null,null,null,null,null,null,null,null,"2021-03-18",206,0,217,217,0,2,0]
[255,null,null,null,null,null,null,null,null,null,null,null,null,null,null,null,null,-10,103,121,null,null,null,null,null,null,null,null,null,null,null,null,null,null,null,null,null,null,null,null,null,null,null,null,null,null,null,10,121,103,null,null,null,null,null,null,null,null,null,null,null,null,"2021-03-19",207,0,224,224,0,2,0]
[256,null,null,null,null,null,null,null,null,null,null,10,121,108,null,null,null,10,121,108,null,null,null,null,null,null,null,null,null,null,null,null,-10,108,121,null,null,null,null,null,null,null,null,null,null,null,null,-10,108,121,null,null,null,null,null,null,null,null,null,null,null,null,"2021-03-19",207,0,458,458,0,4,0]
[257,null,null,null,null,null,null,null,null,null,null,10,121,117,null,null,null,-10,117,121,null,null,null,null,null,null,null,null,null,null,null,null,null,null,null,null,null,null,null,null,null,null,null,null,null,null,null,null,null,null,null,null,null,null,null,null,null,null,null,null,null,null,"2021-03-23",211,{"$f":"+BH304+AJ304+AG304+AD304+AA304+X304+U304+R304+O304+L304+I304+F304+C304+AM304+AP304+AS304+AV304+AY304+BB304+BE304","v":0},238,238,0,2,0]
[258,null,null,null,null,null,null,null,11,121,83,null,null,null,null,null,null,11,121,83,null,null,null,null,null,null,null,null,null,null,null,null,null,null,null,null,null,null,null,null,null,-11,83,121,null,null,null,-11,83,121,null,null,null,null,null,null,null,null,null,null,null,null,"2021-03-24",212,0,{"$f":"+BI305+AK305+AH305+AE305+AB305+Y305+V305+S305+P305+M305+J305+G305+D305+AN305+AQ305+AT305+AW305+AZ305+BC305+BF305","v":408},{"$f":"+BJ305+AL305+AI305+AF305+AC305+Z305+W305+T305+Q305+N305+K305+H305+E305+AO305+AR305+AU305+AX305+BA305+BD305+BG305","v":408},0,4,0]
[259,null,-10,98,121,null,null,null,null,null,null,null,null,null,null,null,null,10,121,98,null,null,null,null,null,null,null,null,null,null,null,null,null,null,null,null,null,null,null,null,null,null,null,null,null,null,null,null,null,null,null,null,null,null,null,null,null,null,null,null,null,null,"2021-03-26",214,0,219,219,0,2,0]
[260,null,-10,115,121,null,null,null,null,null,null,10,121,115,null,null,null,null,null,null,null,null,null,null,null,null,null,null,null,null,null,null,null,null,null,null,null,null,null,null,null,null,null,null,null,null,null,null,null,null,null,null,null,null,null,null,null,null,null,null,null,null,"2021-03-26",214,0,236,236,{"$f":"+BN307-BO307","v":0},{"$f":"COUNT(C307:BJ307)/3","v":2},{"$f":"+BM307/BQ307","v":0}]
[261,null,null,null,null,null,null,null,null,null,null,10,121,93,null,null,null,-10,93,121,null,null,null,null,null,null,null,null,null,null,null,null,null,null,null,null,null,null,null,null,null,null,null,null,null,null,null,null,null,null,null,null,null,null,null,null,null,null,null,null,null,null,"2021-03-26",214,0,214,214,0,2,0]
[262,null,-10,117,121,null,null,null,null,null,null,null,null,null,null,null,null,10,121,117,null,null,null,null,null,null,null,null,null,null,null,null,null,null,null,null,null,null,null,null,null,null,null,null,null,null,null,null,null,null,null,null,null,null,null,null,null,null,null,null,null,null,"2021-03-26",214,0,238,238,0,2,0]
[263,null,10,121,92,null,null,null,null,null,null,-10,92,121,null,null,null,null,null,null,null,null,null,null,null,null,null,null,null,null,null,null,null,null,null,null,null,null,null,null,null,null,null,null,null,null,null,null,null,null,null,null,null,null,null,null,null,null,null,null,null,null,"2021-03-26",214,0,213,213,0,2,0]
[264,null,null,null,null,null,null,null,null,null,null,10,121,99,null,null,null,-10,99,121,null,null,null,null,null,null,null,null,null,null,null,null,null,null,null,null,null,null,null,null,null,null,null,null,null,null,null,null,null,null,null,null,null,null,null,null,null,null,null,null,null,null,"2021-03-26",214,0,220,220,0,2,0]
[265,null,null,null,null,null,null,null,null,null,null,10,121,99,null,null,null,-10,99,121,null,null,null,null,null,null,null,null,null,null,null,null,null,null,null,null,null,null,null,null,null,null,null,null,null,null,null,null,null,null,null,null,null,null,null,null,null,null,null,null,null,null,"2021-03-27",215,0,220,220,0,2,0]
[266,null,null,null,null,null,null,null,null,null,null,11,121,85,null,null,null,-11,85,121,null,null,null,null,null,null,null,null,null,null,null,null,null,null,null,null,null,null,null,null,null,null,null,null,null,null,null,null,null,null,null,null,null,null,null,null,null,null,null,null,null,null,"2021-03-28",216,0,206,206,0,2,0]
[267,null,null,null,null,null,null,null,null,null,null,10,121,111,null,null,null,null,null,null,null,null,null,null,null,null,null,null,null,null,null,null,null,null,null,null,null,null,null,null,null,null,null,null,null,null,null,-10,111,121,null,null,null,null,null,null,null,null,null,null,null,null,"2021-03-31",221,0,232,232,0,2,0]
[{"$f":"+A314+1","v":268},null,null,null,null,null,null,null,10,121,113,null,null,null,null,null,null,null,null,null,null,null,null,null,null,null,null,null,null,null,null,null,null,null,null,null,null,null,null,null,null,null,null,null,null,null,null,-10,113,121,null,null,null,null,null,null,null,null,null,null,null,null,"2021-04-01",222,0,234,234,0,2,0]
[269,null,null,null,null,null,null,null,11,121,73,null,null,null,null,null,null,null,null,null,null,null,null,null,null,null,null,null,null,null,null,null,-11,73,121,null,null,null,null,null,null,null,null,null,null,null,null,null,null,null,null,null,null,null,null,null,null,null,null,null,null,null,"2021-04-01",222,0,194,194,0,2,0]
[270,null,null,null,null,null,null,null,null,null,null,null,null,null,null,null,null,-11,79,121,null,null,null,null,null,null,null,null,null,null,null,null,null,null,null,null,null,null,null,null,null,null,null,null,null,null,null,11,121,79,null,null,null,null,null,null,null,null,null,null,null,null,"2021-04-03",224,0,200,200,0,2,0]
[271,null,null,null,null,null,null,null,null,null,null,-10,116,121,null,null,null,null,null,null,null,null,null,null,null,null,null,null,null,null,null,null,null,null,null,null,null,null,null,null,null,10,121,116,null,null,null,null,null,null,null,null,null,null,null,null,null,null,null,null,null,null,"2021-04-04",225,0,237,237,0,2,0]
[272,null,null,null,null,null,null,null,null,null,null,null,null,null,null,null,null,-10,105,121,null,null,null,null,null,null,null,null,null,null,null,null,null,null,null,null,null,null,null,null,null,null,null,null,null,null,null,10,121,105,null,null,null,null,null,null,null,null,null,null,null,null,"2021-04-05",226,0,226,226,0,2,0]
[273,null,null,null,null,null,null,null,null,null,null,10,121,113,null,null,null,null,null,null,null,null,null,null,null,null,null,null,null,null,null,null,null,null,null,null,null,null,null,null,null,null,null,null,null,null,null,-10,113,121,null,null,null,null,null,null,null,null,null,null,null,null,"2021-04-05",226,0,234,234,0,2,0]
[274,null,null,null,null,null,null,null,null,null,null,-10,116,121,null,null,null,-10,116,121,null,null,null,null,null,null,null,null,null,null,null,null,null,null,null,null,null,null,null,null,null,10,121,116,null,null,null,10,121,116,null,null,null,null,null,null,null,null,null,null,null,null,"2021-04-05",226,0,474,474,0,4,0]
[275,null,null,null,null,null,null,null,null,null,null,null,null,null,null,null,null,-11,90,121,null,null,null,null,null,null,null,null,null,null,null,null,null,null,null,null,null,null,null,null,null,null,null,null,null,null,null,11,121,90,null,null,null,null,null,null,null,null,null,null,null,null,"2021-04-06",227,0,211,211,0,2,0]
[276,null,null,null,null,null,null,null,null,null,null,null,null,null,null,null,null,-11,87,121,null,null,null,null,null,null,null,null,null,null,null,null,11,121,87,null,null,null,null,null,null,null,null,null,null,null,null,null,null,null,null,null,null,null,null,null,null,null,null,null,null,null,"2021-04-06",227,0,208,208,0,2,0]
[277,null,null,null,null,null,null,null,null,null,null,null,null,null,null,null,null,-10,120,121,null,null,null,null,null,null,null,null,null,null,null,null,null,null,null,null,null,null,null,null,null,null,null,null,null,null,null,10,121,120,null,null,null,null,null,null,null,null,null,null,null,null,"2021-04-07",228,0,241,241,0,2,0]
[278,null,null,null,null,null,null,null,null,null,null,-10,98,121,null,null,null,null,null,null,null,null,null,null,null,null,null,null,null,null,null,null,null,null,null,null,null,null,null,null,null,null,null,null,null,null,null,10,121,98,null,null,null,null,null,null,null,null,null,null,null,null,"2021-04-07",228,0,219,219,0,2,0]
[279,null,null,null,null,null,null,null,null,null,null,-10,109,121,null,null,null,null,null,null,null,null,null,null,null,null,null,null,null,null,null,null,null,null,null,null,null,null,null,null,null,null,null,null,null,null,null,10,121,109,null,null,null,null,null,null,null,null,null,null,null,null,"2021-04-07",228,0,230,230,0,2,0]
[280,null,null,null,null,null,null,null,null,null,null,10,121,116,null,null,null,-10,116,121,null,null,null,null,null,null,null,null,null,null,null,null,null,null,null,null,null,null,null,null,null,null,null,null,null,null,null,null,null,null,null,null,null,null,null,null,null,null,null,null,null,null,"2021-04-07",228,0,237,237,0,2,0]
[281,null,null,null,null,null,null,null,null,null,null,10,121,114,null,null,null,-10,114,121,null,null,null,null,null,null,null,null,null,null,null,null,null,null,null,null,null,null,null,null,null,null,null,null,null,null,null,null,null,null,null,null,null,null,null,null,null,null,null,null,null,null,"2021-04-07",228,0,235,235,0,2,0]
[282,null,null,null,null,null,null,null,10,121,108,null,null,null,null,null,null,10,121,99,null,null,null,null,null,null,null,null,null,null,null,null,-10,99,121,null,null,null,null,null,null,null,null,null,null,null,null,-10,108,121,null,null,null,null,null,null,null,null,null,null,null,null,"2021-04-08",229,0,449,449,0,4,0]
[283,null,null,null,null,null,null,null,null,null,null,11,121,87,null,null,null,11,121,87,null,null,null,null,null,null,null,null,null,null,null,null,null,null,null,null,null,null,null,null,null,-11,87,121,null,null,null,-11,87,121,null,null,null,null,null,null,null,null,null,null,null,null,"2021-04-12",234,0,416,416,0,4,0]
[284,null,null,null,null,null,null,null,null,null,null,-10,99,121,null,null,null,null,null,null,null,null,null,null,null,null,null,null,null,null,null,null,null,null,null,null,null,null,null,null,null,10,121,99,null,null,null,null,null,null,null,null,null,null,null,null,null,null,null,null,null,null,"2021-04-13",235,0,220,220,0,2,0]
[285,null,null,null,null,null,null,null,null,null,null,-10,105,121,null,null,null,null,null,null,null,null,null,null,null,null,null,null,null,null,null,null,null,null,null,null,null,null,null,null,null,10,121,105,null,null,null,null,null,null,null,null,null,null,null,null,null,null,null,null,null,null,"2021-04-13",235,0,226,226,0,2,0]
[286,null,null,null,null,null,null,null,null,null,null,10,121,113,null,null,null,-10,113,121,null,null,null,null,null,null,null,null,null,null,null,null,null,null,null,null,null,null,null,null,null,null,null,null,null,null,null,null,null,null,null,null,null,null,null,null,null,null,null,null,null,null,"2021-04-15",237,0,234,234,0,2,0]
[287,null,null,null,null,null,null,null,null,null,null,-10,115,121,null,null,null,10,121,115,null,null,null,null,null,null,null,null,null,null,null,null,null,null,null,null,null,null,null,null,null,null,null,null,null,null,null,null,null,null,null,null,null,null,null,null,null,null,null,null,null,null,"2021-04-16",238,0,236,236,0,2,0]
[288,null,null,null,null,null,null,null,null,null,null,null,null,null,null,null,null,10,121,97,null,null,null,null,null,null,null,null,null,null,null,null,null,null,null,null,null,null,null,null,null,null,null,null,null,null,null,-10,97,121,null,null,null,null,null,null,null,null,null,null,null,null,"2021-04-16",238,0,218,218,0,2,0]
[289,null,null,null,null,null,null,null,-10,108,121,-10,106,121,null,null,null,10,121,108,null,null,null,null,null,null,null,null,null,null,null,null,null,null,null,null,null,null,null,null,null,null,null,null,null,null,null,10,121,106,null,null,null,null,null,null,null,null,null,null,null,null,"2021-04-16",238,0,456,456,0,4,0]
[290,null,null,null,null,null,null,null,null,null,null,-11,90,121,null,null,null,null,null,null,null,null,null,null,null,null,null,null,null,null,null,null,null,null,null,null,null,null,null,null,null,null,null,null,null,null,null,11,121,90,null,null,null,null,null,null,null,null,null,null,null,null,"2021-04-18",241,0,211,211,0,2,0]
[291,null,10,121,102,null,null,null,null,null,null,null,null,null,null,null,null,-10,102,121,null,null,null,null,null,null,null,null,null,null,null,null,null,null,null,null,null,null,null,null,null,null,null,null,null,null,null,null,null,null,null,null,null,null,null,null,null,null,null,null,null,null,"2021-04-19",242,0,223,223,0,2,0]
[292,null,-10,102,121,null,null,null,null,null,null,10,121,102,null,null,null,null,null,null,null,null,null,null,null,null,null,null,null,null,null,null,null,null,null,null,null,null,null,null,null,null,null,null,null,null,null,null,null,null,null,null,null,null,null,null,null,null,null,null,null,null,"2021-04-19",242,0,223,223,0,2,0]
[293,null,-10,116,121,null,null,null,10,121,116,-10,116,121,null,null,null,null,null,null,null,null,null,null,null,null,null,null,null,null,null,null,null,null,null,null,null,null,null,null,null,null,null,null,null,null,null,10,121,116,null,null,null,null,null,null,null,null,null,null,null,null,"2021-04-20",243,0,474,474,0,4,0]
[294,null,-10,93,121,null,null,null,10,121,93,-10,93,121,null,null,null,null,null,null,null,null,null,null,null,null,null,null,null,null,null,null,null,null,null,null,null,null,null,null,null,null,null,null,null,null,null,10,121,93,null,null,null,null,null,null,null,null,null,null,null,null,"2021-04-20",243,0,428,428,0,4,0]
[295,null,null,null,null,null,null,null,null,null,null,10,121,98,null,null,null,-10,98,121,null,null,null,null,null,null,null,null,null,null,null,null,null,null,null,null,null,null,null,null,null,null,null,null,null,null,null,null,null,null,null,null,null,null,null,null,null,null,null,null,null,null,"2021-04-21",244,0,219,219,0,2,0]
[296,null,10,121,111,null,null,null,null,null,null,null,null,null,null,null,null,-10,111,121,null,null,null,null,null,null,null,null,null,null,null,null,null,null,null,null,null,null,null,null,null,null,null,null,null,null,null,null,null,null,null,null,null,null,null,null,null,null,null,null,null,null,"2021-04-22",245,0,232,232,0,2,0]
[297,null,null,null,null,null,null,null,10,121,118,null,null,null,null,null,null,-10,118,121,null,null,null,null,null,null,null,null,null,null,null,null,null,null,null,null,null,null,null,null,null,null,null,null,null,null,null,null,null,null,null,null,null,null,null,null,null,null,null,null,null,null,"2021-04-22",245,0,239,239,0,2,0]
[298,null,-10,101,121,null,null,null,10,121,101,null,null,null,null,null,null,null,null,null,null,null,null,null,null,null,null,null,null,null,null,null,null,null,null,null,null,null,null,null,null,null,null,null,null,null,null,null,null,null,null,null,null,null,null,null,null,null,null,null,null,null,"2021-04-22",245,0,222,222,0,2,0]
[299,null,null,null,null,null,null,null,-10,101,121,-10,101,121,null,null,null,10,121,101,null,null,null,null,null,null,null,null,null,null,null,null,null,null,null,null,null,null,null,null,null,null,null,null,null,null,null,10,121,101,null,null,null,null,null,null,null,null,null,null,null,null,"2021-04-25",248,0,444,444,0,4,0]
[300,null,null,null,null,null,null,null,-10,113,121,10,121,113,null,null,null,10,121,113,null,null,null,null,null,null,null,null,null,null,null,null,null,null,null,null,null,null,null,null,null,null,null,null,null,null,null,-10,113,121,null,null,null,null,null,null,null,null,null,null,null,null,"2021-04-25",248,0,468,468,0,4,0]
[301,null,null,null,null,null,null,null,null,null,null,-10,98,121,null,null,null,10,121,98,null,null,null,null,null,null,null,null,null,null,null,null,null,null,null,null,null,null,null,null,null,null,null,null,null,null,null,null,null,null,null,null,null,null,null,null,null,null,null,null,null,null,"2021-04-26",249,0,219,219,{"$f":"+BN348-BO348","v":0},{"$f":"COUNT(C348:BJ348)/3","v":2},{"$f":"+BM348/BQ348","v":0}]
[302,null,null,null,null,null,null,null,null,null,null,null,null,null,null,null,null,-10,115,121,null,null,null,null,null,null,null,null,null,null,null,null,null,null,null,null,null,null,null,null,null,null,null,null,null,null,null,10,121,115,null,null,null,null,null,null,null,null,null,null,null,null,"2021-04-26",249,0,236,236,{"$f":"+BN349-BO349","v":0},{"$f":"COUNT(C349:BJ349)/3","v":2},{"$f":"+BM349/BQ349","v":0}]
[303,null,null,null,null,null,null,null,null,null,null,-11,82,121,null,null,null,11,121,82,null,null,null,null,null,null,null,null,null,null,null,null,null,null,null,null,null,null,null,null,null,null,null,null,null,null,null,null,null,null,null,null,null,null,null,null,null,null,null,null,null,null,"2021-04-29",252,0,203,203,0,2,0]
[304,null,null,null,null,null,null,null,null,null,null,10,121,110,null,null,null,-10,110,121,null,null,null,null,null,null,null,null,null,null,null,null,null,null,null,null,null,null,null,null,null,null,null,null,null,null,null,null,null,null,null,null,null,null,null,null,null,null,null,null,null,null,"2021-04-29",252,0,231,231,0,2,0]
[305,null,null,null,null,null,null,null,null,null,null,null,null,null,null,null,null,null,null,null,null,null,null,null,null,null,null,null,null,null,null,null,10,121,119,null,null,null,null,null,null,null,null,null,null,null,null,-10,119,121,null,null,null,null,null,null,null,null,null,null,null,null,"2021-05-03",257,0,240,240,0,2,0]
[306,null,null,null,null,null,null,null,null,null,null,null,null,null,null,null,null,10,121,104,null,null,null,null,null,null,null,null,null,null,null,null,null,null,null,null,null,null,null,null,null,null,null,null,null,null,null,-10,104,121,null,null,null,null,null,null,null,null,null,null,null,null,"2021-05-03",257,0,225,225,0,2,0]
[307,null,null,null,null,null,null,null,null,null,null,10,121,114,null,null,null,-10,114,121,null,null,null,null,null,null,null,null,null,null,null,null,null,null,null,null,null,null,null,null,null,null,null,null,null,null,null,null,null,null,null,null,null,null,null,null,null,null,null,null,null,null,"2021-05-05",259,0,235,235,0,2,0]
[308,null,null,null,null,null,null,null,null,null,null,-10,104,121,null,null,null,10,121,104,null,null,null,null,null,null,null,null,null,null,null,null,null,null,null,null,null,null,null,null,null,null,null,null,null,null,null,null,null,null,null,null,null,null,null,null,null,null,null,null,null,null,"2021-05-05",259,0,225,225,{"$f":"+BN355-BO355","v":0},{"$f":"COUNT(C355:BJ355)/3","v":2},{"$f":"+BM355/BQ355","v":0}]
[309,null,null,null,null,null,null,null,null,null,null,null,null,null,null,null,null,null,null,null,null,null,null,null,null,null,null,null,null,null,null,null,-10,103,121,null,null,null,null,null,null,null,null,null,null,null,null,10,121,103,null,null,null,null,null,null,null,null,null,null,null,null,"2021-05-07",261,0,224,224,0,2,0]
[310,null,null,null,null,null,null,null,null,null,null,null,null,null,null,null,null,-10,104,121,null,null,null,null,null,null,null,null,null,null,null,null,null,null,null,null,null,null,null,null,null,null,null,null,null,null,null,10,121,104,null,null,null,null,null,null,null,null,null,null,null,null,"2021-05-07",261,0,225,225,0,2,0]
[311,null,null,null,null,null,null,null,null,null,null,null,null,null,null,null,null,10,121,115,null,null,null,null,null,null,null,null,null,null,null,null,-10,115,121,null,null,null,null,null,null,null,null,null,null,null,null,null,null,null,null,null,null,null,null,null,null,null,null,null,null,null,"2021-05-07",261,0,236,236,0,2,0]
[312,null,-10,96,121,null,null,null,10,121,96,null,null,null,null,null,null,null,null,null,null,null,null,null,null,null,null,null,null,null,null,null,null,null,null,null,null,null,null,null,null,null,null,null,null,null,null,null,null,null,null,null,null,null,null,null,null,null,null,null,null,null,"2021-05-17",269,0,217,217,0,2,0]
[313,null,10,121,107,null,null,null,null,null,null,null,null,null,null,null,null,-10,107,121,null,null,null,null,null,null,null,null,null,null,null,null,null,null,null,null,null,null,null,null,null,null,null,null,null,null,null,null,null,null,null,null,null,null,null,null,null,null,null,null,null,null,"2021-05-18",270,0,228,228,0,2,0]
[314,null,10,121,112,null,null,null,null,null,null,-10,112,121,null,null,null,null,null,null,null,null,null,null,null,null,null,null,null,null,null,null,null,null,null,null,null,null,null,null,null,null,null,null,null,null,null,null,null,null,null,null,null,null,null,null,null,null,null,null,null,null,"2021-05-18",270,0,233,233,0,2,0]
[315,null,null,null,null,null,null,null,null,null,null,10,121,92,null,null,null,-10,92,121,null,null,null,null,null,null,null,null,null,null,null,null,null,null,null,null,null,null,null,null,null,null,null,null,null,null,null,null,null,null,null,null,null,null,null,null,null,null,null,null,null,null,"2021-05-19",271,0,213,213,0,2,0]
[316,null,null,null,null,null,null,null,null,null,null,-11,78,121,null,null,null,11,121,78,null,null,null,null,null,null,null,null,null,null,null,null,null,null,null,null,null,null,null,null,null,null,null,null,null,null,null,null,null,null,null,null,null,null,null,null,null,null,null,null,null,null,"2021-05-19",271,0,199,199,0,2,0]
[317,null,null,null,null,null,null,null,null,null,null,null,null,null,null,null,null,10,121,118,null,null,null,null,null,null,null,null,null,null,null,null,null,null,null,null,null,null,null,null,null,null,null,null,null,null,null,-10,118,121,null,null,null,null,null,null,null,null,null,null,null,null,"2021-05-20",272,0,239,239,{"$f":"+BN364-BO364","v":0},{"$f":"COUNT(C364:BJ364)/3","v":2},{"$f":"+BM364/BQ364","v":0}]
[318,null,null,null,null,null,null,null,null,null,null,10,121,107,null,null,null,-10,107,121,null,null,null,null,null,null,null,null,null,null,null,null,null,null,null,null,null,null,null,null,null,null,null,null,null,null,null,null,null,null,null,null,null,null,null,null,null,null,null,null,null,null,"2021-05-20",272,0,228,228,0,2,0]
[319,null,null,null,null,null,null,null,null,null,null,null,null,null,null,null,null,null,null,null,null,null,null,null,null,null,null,null,null,null,null,null,-10,117,121,null,null,null,null,null,null,null,null,null,null,null,null,10,121,117,null,null,null,null,null,null,null,null,null,null,null,null,"2021-06-02",279,0,238,238,0,2,0]
[320,null,10,61,{"$f":"101-60","v":41},null,null,null,0,46,{"$f":"108.5-60","v":48.5},null,null,null,null,null,null,-10,36,{"$f":"113.5-60","v":53.5},null,null,null,null,null,null,null,null,null,null,null,null,null,null,null,null,null,null,null,null,null,null,null,null,null,null,null,null,null,null,null,null,null,null,null,null,null,null,null,null,null,null,"2021-09-30",371,0,143,143,0,3,0]
[321,null,0,58,{"$f":"115-60","v":55},null,null,null,10,61,{"$f":"113.5-60","v":53.5},null,null,null,null,null,null,-10,49,{"$f":"119.5-60","v":59.5},null,null,null,null,null,null,null,null,null,null,null,null,null,null,null,null,null,null,null,null,null,null,null,null,null,null,null,null,null,null,null,null,null,null,null,null,null,null,null,null,null,null,"2021-09-30",371,{"$f":"+BH368+AJ368+AG368+AD368+AA368+X368+U368+R368+O368+L368+I368+F368+C368+AM368+AP368+AS368+AV368+AY368+BB368+BE368","v":0},168,168,0,3,0]
[322,null,0,52,{"$f":"112-60","v":52},null,null,null,10,61,{"$f":"107.5-60","v":47.5},null,null,null,null,null,null,-10,43,{"$f":"116.5-60","v":56.5},null,null,null,null,null,null,null,null,null,null,null,null,null,null,null,null,null,null,null,null,null,null,null,null,null,null,null,null,null,null,null,null,null,null,null,null,null,null,null,null,null,null,"2021-09-30",371,0,{"$f":"+BI369+AK369+AH369+AE369+AB369+Y369+V369+S369+P369+M369+J369+G369+D369+AN369+AQ369+AT369+AW369+AZ369+BC369+BF369","v":156},{"$f":"+BJ369+AL369+AI369+AF369+AC369+Z369+W369+T369+Q369+N369+K369+H369+E369+AO369+AR369+AU369+AX369+BA369+BD369+BG369","v":156},0,3,0]
[323,null,-10,93,121,null,null,null,10,121,103,-10,114,121,10,121,100,null,null,null,10,121,93,null,null,null,null,null,null,null,null,null,-10,120,121,null,null,null,-10,103,121,10,121,114,null,null,null,10,121,120,null,null,null,null,null,null,-10,100,121,null,null,null,"2021-10-11",374,0,1135,1135,0,10,0]
[324,"Partida anul·lada 376 16-10-21 CaJM-Ma-Ni 121-96",null,null,null,null,null,null,null,null,null,null,null,null,null,null,null,null,null,null,-10,107,121,null,null,null,null,null,null,null,null,null,null,null,null,null,null,null,-10,118,121,null,null,null,null,null,null,10,121,107,null,null,null,null,null,null,10,121,118,null,null,null,"2021-10-18",377,0,467,467,0,4,0]
[325,null,null,null,null,null,null,null,null,null,null,null,null,null,null,null,null,null,null,null,10,119,118,null,null,null,null,null,null,null,null,null,null,null,null,null,null,null,10,121,120,null,null,null,null,null,null,-10,118,119,null,null,null,null,null,null,-10,120,121,null,null,null,"2021-10-20",379,0,478,478,0,4,0]
[326,null,null,null,null,null,null,null,null,null,null,null,null,null,null,null,null,null,null,null,10,117,90,null,null,null,null,null,null,null,null,null,null,null,null,null,null,null,-10,103,121,null,null,null,null,null,null,null,null,null,10,121,103,null,null,null,-10,90,117,null,null,null,"2021-10-21",380,0,431,431,0,4,0]
[327,null,null,null,null,null,null,null,null,null,null,null,null,null,null,null,null,null,null,null,-10,103,121,null,null,null,null,null,null,null,null,null,null,null,null,null,null,null,10,121,103,null,null,null,null,null,null,null,null,null,10,121,94,null,null,null,-10,94,121,null,null,null,"2021-10-24",381,0,439,439,0,4,0]
[328,null,null,null,null,null,null,null,null,null,null,null,null,null,null,null,null,null,null,null,11,121,89,null,null,null,null,null,null,null,null,null,null,null,null,null,null,null,-11,89,121,null,null,null,null,null,null,null,null,null,-10,113,121,null,null,null,10,121,113,null,null,null,"2021-10-25",382,0,444,444,0,4,0]
[329,null,null,null,null,null,null,null,null,null,null,null,null,null,null,null,null,null,null,null,11,121,80,null,null,null,null,null,null,null,null,null,null,null,null,null,null,null,-11,84,121,null,null,null,null,null,null,null,null,null,11,121,84,null,null,null,-11,80,121,null,null,null,"2021-10-26",383,0,406,406,0,4,0]
[330,null,null,null,null,null,null,null,null,null,null,null,null,null,null,null,null,null,null,null,11,121,89,null,null,null,null,null,null,null,null,null,null,null,null,null,null,null,10,121,105,null,null,null,null,null,null,null,null,null,-10,105,121,null,null,null,-11,89,121,null,null,null,"2021-10-27",384,0,436,436,0,4,0]
[331,null,null,null,null,null,null,null,null,null,null,null,null,null,null,null,null,null,null,null,10,121,101,null,null,null,null,null,null,null,null,null,null,null,null,null,null,null,-10,101,121,null,null,null,null,null,null,null,null,null,11,121,78,null,null,null,-11,78,121,null,null,null,"2021-10-28",385,0,421,421,0,4,0]
[{"$f":"+A378+1","v":332},null,null,null,null,null,null,null,null,null,null,null,null,null,null,null,null,null,null,null,10,121,102,null,null,null,null,null,null,null,null,null,null,null,null,null,null,null,10,121,114,null,null,null,null,null,null,null,null,null,-10,102,121,null,null,null,-10,114,121,null,null,null,"2021-10-29",386,0,458,458,0,4,0]
[333,null,null,null,null,null,null,null,null,null,null,null,null,null,null,null,null,null,null,null,10,121,100,null,null,null,null,null,null,null,null,null,null,null,null,null,null,null,10,121,119,null,null,null,null,null,null,null,null,null,-10,100,121,null,null,null,-10,119,121,null,null,null,"2021-10-30",387,0,461,461,0,4,0]
[334,null,null,null,null,null,null,null,null,null,null,null,null,null,null,null,null,null,null,null,10,121,113,null,null,null,null,null,null,null,null,null,null,null,null,null,null,null,-10,109,121,null,null,null,null,null,null,null,null,null,-10,113,121,null,null,null,10,121,109,null,null,null,"2021-10-31",388,0,464,464,0,4,0]
[335,null,null,null,null,null,null,null,null,null,null,null,null,null,null,null,null,null,null,null,null,null,null,null,null,null,null,null,null,null,null,null,null,null,null,null,null,null,null,null,null,null,null,null,null,null,null,null,null,null,null,null,null,null,null,null,null,null,null,null,null,null,null,null,0,0,0,0,0,{"$error":"#DIV/0!"}]
[336,null,null,null,null,null,null,null,null,null,null,null,null,null,null,null,null,null,null,null,null,null,null,null,null,null,null,null,null,null,null,null,null,null,null,null,null,null,null,null,null,null,null,null,null,null,null,null,null,null,null,null,null,null,null,null,null,null,null,null,null,null,null,null,0,0,0,0,0,{"$error":"#DIV/0!"}]
[337,null,null,null,null,null,null,null,null,null,null,null,null,null,null,null,null,null,null,null,null,null,null,null,null,null,null,null,null,null,null,null,null,null,null,null,null,null,null,null,null,null,null,null,null,null,null,null,null,null,null,null,null,null,null,null,null,null,null,null,null,null,null,null,0,0,0,0,0,{"$error":"#DIV/0!"}]
[338,null,null,null,null,null,null,null,null,null,null,null,null,null,null,null,null,null,null,null,null,null,null,null,null,null,null,null,null,null,null,null,null,null,null,null,null,null,null,null,null,null,null,null,null,null,null,null,null,null,null,null,null,null,null,null,null,null,null,null,null,null,null,null,0,0,0,0,0,{"$error":"#DIV/0!"}]
[339,null,null,null,null,null,null,null,null,null,null,null,null,null,null,null,null,null,null,null,null,null,null,null,null,null,null,null,null,null,null,null,null,null,null,null,null,null,null,null,null,null,null,null,null,null,null,null,null,null,null,null,null,null,null,null,null,null,null,null,null,null,null,null,0,0,0,0,0,{"$error":"#DIV/0!"}]
[340,null,null,null,null,null,null,null,null,null,null,null,null,null,null,null,null,null,null,null,null,null,null,null,null,null,null,null,null,null,null,null,null,null,null,null,null,null,null,null,null,null,null,null,null,null,null,null,null,null,null,null,null,null,null,null,null,null,null,null,null,null,null,null,0,0,0,0,0,{"$error":"#DIV/0!"}]
[341,null,null,null,null,null,null,null,null,null,null,null,null,null,null,null,null,null,null,null,null,null,null,null,null,null,null,null,null,null,null,null,null,null,null,null,null,null,null,null,null,null,null,null,null,null,null,null,null,null,null,null,null,null,null,null,null,null,null,null,null,null,null,null,0,0,0,0,0,{"$error":"#DIV/0!"}]
[342,null,null,null,null,null,null,null,null,null,null,null,null,null,null,null,null,null,null,null,null,null,null,null,null,null,null,null,null,null,null,null,null,null,null,null,null,null,null,null,null,null,null,null,null,null,null,null,null,null,null,null,null,null,null,null,null,null,null,null,null,null,null,null,0,0,0,0,0,{"$error":"#DIV/0!"}]
[343,null,null,null,null,null,null,null,null,null,null,null,null,null,null,null,null,null,null,null,null,null,null,null,null,null,null,null,null,null,null,null,null,null,null,null,null,null,null,null,null,null,null,null,null,null,null,null,null,null,null,null,null,null,null,null,null,null,null,null,null,null,null,null,0,0,0,0,0,{"$error":"#DIV/0!"}]
[344,null,null,null,null,null,null,null,null,null,null,null,null,null,null,null,null,null,null,null,null,null,null,null,null,null,null,null,null,null,null,null,null,null,null,null,null,null,null,null,null,null,null,null,null,null,null,null,null,null,null,null,null,null,null,null,null,null,null,null,null,null,null,null,0,0,0,0,0,{"$error":"#DIV/0!"}]
[345,null,null,null,null,null,null,null,null,null,null,null,null,null,null,null,null,null,null,null,null,null,null,null,null,null,null,null,null,null,null,null,null,null,null,null,null,null,null,null,null,null,null,null,null,null,null,null,null,null,null,null,null,null,null,null,null,null,null,null,null,null,null,null,0,0,0,0,0,{"$error":"#DIV/0!"}]
[346,null,null,null,null,null,null,null,null,null,null,null,null,null,null,null,null,null,null,null,null,null,null,null,null,null,null,null,null,null,null,null,null,null,null,null,null,null,null,null,null,null,null,null,null,null,null,null,null,null,null,null,null,null,null,null,null,null,null,null,null,null,null,null,0,0,0,0,0,{"$error":"#DIV/0!"}]
[347,null,null,null,null,null,null,null,null,null,null,null,null,null,null,null,null,null,null,null,null,null,null,null,null,null,null,null,null,null,null,null,null,null,null,null,null,null,null,null,null,null,null,null,null,null,null,null,null,null,null,null,null,null,null,null,null,null,null,null,null,null,null,null,0,0,0,0,0,{"$error":"#DIV/0!"}]
[348,null,null,null,null,null,null,null,null,null,null,null,null,null,null,null,null,null,null,null,null,null,null,null,null,null,null,null,null,null,null,null,null,null,null,null,null,null,null,null,null,null,null,null,null,null,null,null,null,null,null,null,null,null,null,null,null,null,null,null,null,null,null,null,0,0,0,0,0,{"$error":"#DIV/0!"}]
[349,null,null,null,null,null,null,null,null,null,null,null,null,null,null,null,null,null,null,null,null,null,null,null,null,null,null,null,null,null,null,null,null,null,null,null,null,null,null,null,null,null,null,null,null,null,null,null,null,null,null,null,null,null,null,null,null,null,null,null,null,null,null,null,0,0,0,0,0,{"$error":"#DIV/0!"}]
[350,null,null,null,null,null,null,null,null,null,null,null,null,null,null,null,null,null,null,null,null,null,null,null,null,null,null,null,null,null,null,null,null,null,null,null,null,null,null,null,null,null,null,null,null,null,null,null,null,null,null,null,null,null,null,null,null,null,null,null,null,null,null,null,0,0,0,0,0,{"$error":"#DIV/0!"}]
[351,null,null,null,null,null,null,null,null,null,null,null,null,null,null,null,null,null,null,null,null,null,null,null,null,null,null,null,null,null,null,null,null,null,null,null,null,null,null,null,null,null,null,null,null,null,null,null,null,null,null,null,null,null,null,null,null,null,null,null,null,null,null,null,0,0,0,0,0,{"$error":"#DIV/0!"}]
[352,null,null,null,null,null,null,null,null,null,null,null,null,null,null,null,null,null,null,null,null,null,null,null,null,null,null,null,null,null,null,null,null,null,null,null,null,null,null,null,null,null,null,null,null,null,null,null,null,null,null,null,null,null,null,null,null,null,null,null,null,null,null,null,0,0,0,0,0,{"$error":"#DIV/0!"}]
[353,null,null,null,null,null,null,null,null,null,null,null,null,null,null,null,null,null,null,null,null,null,null,null,null,null,null,null,null,null,null,null,null,null,null,null,null,null,null,null,null,null,null,null,null,null,null,null,null,null,null,null,null,null,null,null,null,null,null,null,null,null,null,null,0,0,0,0,0,{"$error":"#DIV/0!"}]
[354,null,null,null,null,null,null,null,null,null,null,null,null,null,null,null,null,null,null,null,null,null,null,null,null,null,null,null,null,null,null,null,null,null,null,null,null,null,null,null,null,null,null,null,null,null,null,null,null,null,null,null,null,null,null,null,null,null,null,null,null,null,null,null,0,0,0,0,0,{"$error":"#DIV/0!"}]
[355,null,null,null,null,null,null,null,null,null,null,null,null,null,null,null,null,null,null,null,null,null,null,null,null,null,null,null,null,null,null,null,null,null,null,null,null,null,null,null,null,null,null,null,null,null,null,null,null,null,null,null,null,null,null,null,null,null,null,null,null,null,null,null,0,0,0,0,0,{"$error":"#DIV/0!"}]
[356,null,null,null,null,null,null,null,null,null,null,null,null,null,null,null,null,null,null,null,null,null,null,null,null,null,null,null,null,null,null,null,null,null,null,null,null,null,null,null,null,null,null,null,null,null,null,null,null,null,null,null,null,null,null,null,null,null,null,null,null,null,null,null,0,0,0,0,0,{"$error":"#DIV/0!"}]
[357,null,null,null,null,null,null,null,null,null,null,null,null,null,null,null,null,null,null,null,null,null,null,null,null,null,null,null,null,null,null,null,null,null,null,null,null,null,null,null,null,null,null,null,null,null,null,null,null,null,null,null,null,null,null,null,null,null,null,null,null,null,null,null,0,0,0,0,0,{"$error":"#DIV/0!"}]
[358,null,null,null,null,null,null,null,null,null,null,null,null,null,null,null,null,null,null,null,null,null,null,null,null,null,null,null,null,null,null,null,null,null,null,null,null,null,null,null,null,null,null,null,null,null,null,null,null,null,null,null,null,null,null,null,null,null,null,null,null,null,null,null,0,0,0,0,0,{"$error":"#DIV/0!"}]
[359,null,null,null,null,null,null,null,null,null,null,null,null,null,null,null,null,null,null,null,null,null,null,null,null,null,null,null,null,null,null,null,null,null,null,null,null,null,null,null,null,null,null,null,null,null,null,null,null,null,null,null,null,null,null,null,null,null,null,null,null,null,null,null,0,0,0,0,0,{"$error":"#DIV/0!"}]
[360,null,null,null,null,null,null,null,null,null,null,null,null,null,null,null,null,null,null,null,null,null,null,null,null,null,null,null,null,null,null,null,null,null,null,null,null,null,null,null,null,null,null,null,null,null,null,null,null,null,null,null,null,null,null,null,null,null,null,null,null,null,null,null,0,0,0,0,0,{"$error":"#DIV/0!"}]
[361,null,null,null,null,null,null,null,null,null,null,null,null,null,null,null,null,null,null,null,null,null,null,null,null,null,null,null,null,null,null,null,null,null,null,null,null,null,null,null,null,null,null,null,null,null,null,null,null,null,null,null,null,null,null,null,null,null,null,null,null,null,null,null,0,0,0,0,0,{"$error":"#DIV/0!"}]
[362,null,null,null,null,null,null,null,null,null,null,null,null,null,null,null,null,null,null,null,null,null,null,null,null,null,null,null,null,null,null,null,null,null,null,null,null,null,null,null,null,null,null,null,null,null,null,null,null,null,null,null,null,null,null,null,null,null,null,null,null,null,null,null,0,0,0,0,0,{"$error":"#DIV/0!"}]
[363,null,null,null,null,null,null,null,null,null,null,null,null,null,null,null,null,null,null,null,null,null,null,null,null,null,null,null,null,null,null,null,null,null,null,null,null,null,null,null,null,null,null,null,null,null,null,null,null,null,null,null,null,null,null,null,null,null,null,null,null,null,null,null,0,0,0,0,0,{"$error":"#DIV/0!"}]
[364,null,null,null,null,null,null,null,null,null,null,null,null,null,null,null,null,null,null,null,null,null,null,null,null,null,null,null,null,null,null,null,null,null,null,null,null,null,null,null,null,null,null,null,null,null,null,null,null,null,null,null,null,null,null,null,null,null,null,null,null,null,null,null,0,0,0,0,0,{"$error":"#DIV/0!"}]
[365,null,null,null,null,null,null,null,null,null,null,null,null,null,null,null,null,null,null,null,null,null,null,null,null,null,null,null,null,null,null,null,null,null,null,null,null,null,null,null,null,null,null,null,null,null,null,null,null,null,null,null,null,null,null,null,null,null,null,null,null,null,null,null,0,0,0,0,0,{"$error":"#DIV/0!"}]
[366,null,null,null,null,null,null,null,null,null,null,null,null,null,null,null,null,null,null,null,null,null,null,null,null,null,null,null,null,null,null,null,null,null,null,null,null,null,null,null,null,null,null,null,null,null,null,null,null,null,null,null,null,null,null,null,null,null,null,null,null,null,null,null,0,0,0,0,0,{"$error":"#DIV/0!"}]
[367,null,null,null,null,null,null,null,null,null,null,null,null,null,null,null,null,null,null,null,null,null,null,null,null,null,null,null,null,null,null,null,null,null,null,null,null,null,null,null,null,null,null,null,null,null,null,null,null,null,null,null,null,null,null,null,null,null,null,null,null,null,null,null,0,0,0,0,0,{"$error":"#DIV/0!"}]
[368,null,null,null,null,null,null,null,null,null,null,null,null,null,null,null,null,null,null,null,null,null,null,null,null,null,null,null,null,null,null,null,null,null,null,null,null,null,null,null,null,null,null,null,null,null,null,null,null,null,null,null,null,null,null,null,null,null,null,null,null,null,null,null,0,0,0,0,0,{"$error":"#DIV/0!"}]
[369,null,null,null,null,null,null,null,null,null,null,null,null,null,null,null,null,null,null,null,null,null,null,null,null,null,null,null,null,null,null,null,null,null,null,null,null,null,null,null,null,null,null,null,null,null,null,null,null,null,null,null,null,null,null,null,null,null,null,null,null,null,null,null,0,0,0,0,0,{"$error":"#DIV/0!"}]
[370,null,null,null,null,null,null,null,null,null,null,null,null,null,null,null,null,null,null,null,null,null,null,null,null,null,null,null,null,null,null,null,null,null,null,null,null,null,null,null,null,null,null,null,null,null,null,null,null,null,null,null,null,null,null,null,null,null,null,null,null,null,null,null,0,0,0,0,0,{"$error":"#DIV/0!"}]
[371,null,null,null,null,null,null,null,null,null,null,null,null,null,null,null,null,null,null,null,null,null,null,null,null,null,null,null,null,null,null,null,null,null,null,null,null,null,null,null,null,null,null,null,null,null,null,null,null,null,null,null,null,null,null,null,null,null,null,null,null,null,null,null,0,0,0,0,0,{"$error":"#DIV/0!"}]
[372,null,null,null,null,null,null,null,null,null,null,null,null,null,null,null,null,null,null,null,null,null,null,null,null,null,null,null,null,null,null,null,null,null,null,null,null,null,null,null,null,null,null,null,null,null,null,null,null,null,null,null,null,null,null,null,null,null,null,null,null,null,null,null,0,0,0,0,0,{"$error":"#DIV/0!"}]
[373,null,null,null,null,null,null,null,null,null,null,null,null,null,null,null,null,null,null,null,null,null,null,null,null,null,null,null,null,null,null,null,null,null,null,null,null,null,null,null,null,null,null,null,null,null,null,null,null,null,null,null,null,null,null,null,null,null,null,null,null,null,null,null,0,0,0,0,0,{"$error":"#DIV/0!"}]
[374,null,null,null,null,null,null,null,null,null,null,null,null,null,null,null,null,null,null,null,null,null,null,null,null,null,null,null,null,null,null,null,null,null,null,null,null,null,null,null,null,null,null,null,null,null,null,null,null,null,null,null,null,null,null,null,null,null,null,null,null,null,null,null,0,0,0,0,0,{"$error":"#DIV/0!"}]
[375,null,null,null,null,null,null,null,null,null,null,null,null,null,null,null,null,null,null,null,null,null,null,null,null,null,null,null,null,null,null,null,null,null,null,null,null,null,null,null,null,null,null,null,null,null,null,null,null,null,null,null,null,null,null,null,null,null,null,null,null,null,null,null,0,0,0,0,0,{"$error":"#DIV/0!"}]
[376,null,null,null,null,null,null,null,null,null,null,null,null,null,null,null,null,null,null,null,null,null,null,null,null,null,null,null,null,null,null,null,null,null,null,null,null,null,null,null,null,null,null,null,null,null,null,null,null,null,null,null,null,null,null,null,null,null,null,null,null,null,null,null,0,0,0,0,0,{"$error":"#DIV/0!"}]
[377,null,null,null,null,null,null,null,null,null,null,null,null,null,null,null,null,null,null,null,null,null,null,null,null,null,null,null,null,null,null,null,null,null,null,null,null,null,null,null,null,null,null,null,null,null,null,null,null,null,null,null,null,null,null,null,null,null,null,null,null,null,null,null,0,0,0,0,0,{"$error":"#DIV/0!"}]
[378,null,null,null,null,null,null,null,null,null,null,null,null,null,null,null,null,null,null,null,null,null,null,null,null,null,null,null,null,null,null,null,null,null,null,null,null,null,null,null,null,null,null,null,null,null,null,null,null,null,null,null,null,null,null,null,null,null,null,null,null,null,null,null,0,0,0,0,0,{"$error":"#DIV/0!"}]
[379,null,null,null,null,null,null,null,null,null,null,null,null,null,null,null,null,null,null,null,null,null,null,null,null,null,null,null,null,null,null,null,null,null,null,null,null,null,null,null,null,null,null,null,null,null,null,null,null,null,null,null,null,null,null,null,null,null,null,null,null,null,null,null,0,0,0,0,0,{"$error":"#DIV/0!"}]
[380,null,null,null,null,null,null,null,null,null,null,null,null,null,null,null,null,null,null,null,null,null,null,null,null,null,null,null,null,null,null,null,null,null,null,null,null,null,null,null,null,null,null,null,null,null,null,null,null,null,null,null,null,null,null,null,null,null,null,null,null,null,null,null,0,0,0,0,0,{"$error":"#DIV/0!"}]
[381,null,null,null,null,null,null,null,null,null,null,null,null,null,null,null,null,null,null,null,null,null,null,null,null,null,null,null,null,null,null,null,null,null,null,null,null,null,null,null,null,null,null,null,null,null,null,null,null,null,null,null,null,null,null,null,null,null,null,null,null,null,null,null,0,0,0,{"$f":"+BN428-BO428","v":0},{"$f":"COUNT(C428:BJ428)/3","v":0},{"$f":"+BM428/BQ428","v":{"$error":"#DIV/0!"}}]
[382,null,null,null,null,null,null,null,null,null,null,null,null,null,null,null,null,null,null,null,null,null,null,null,null,null,null,null,null,null,null,null,null,null,null,null,null,null,null,null,null,null,null,null,null,null,null,null,null,null,null,null,null,null,null,null,null,null,null,null,null,null,null,null,0,0,0,0,0,{"$error":"#DIV/0!"}]
[383,null,null,null,null,null,null,null,null,null,null,null,null,null,null,null,null,null,null,null,null,null,null,null,null,null,null,null,null,null,null,null,null,null,null,null,null,null,null,null,null,null,null,null,null,null,null,null,null,null,null,null,null,null,null,null,null,null,null,null,null,null,null,null,0,0,0,{"$f":"+BN430-BO430","v":0},{"$f":"COUNT(C430:BJ430)/3","v":0},{"$f":"+BM430/BQ430","v":{"$error":"#DIV/0!"}}]
[384,null,null,null,null,null,null,null,null,null,null,null,null,null,null,null,null,null,null,null,null,null,null,null,null,null,null,null,null,null,null,null,null,null,null,null,null,null,null,null,null,null,null,null,null,null,null,null,null,null,null,null,null,null,null,null,null,null,null,null,null,null,null,null,0,0,0,0,0,{"$error":"#DIV/0!"}]
[385,null,null,null,null,null,null,null,null,null,null,null,null,null,null,null,null,null,null,null,null,null,null,null,null,null,null,null,null,null,null,null,null,null,null,null,null,null,null,null,null,null,null,null,null,null,null,null,null,null,null,null,null,null,null,null,null,null,null,null,null,null,null,null,{"$f":"+BH432+AJ432+AG432+AD432+AA432+X432+U432+R432+O432+L432+I432+F432+C432+AM432+AP432+AS432+AV432+AY432+BB432+BE432","v":0},0,0,0,0,{"$error":"#DIV/0!"}]
[386,null,null,null,null,null,null,null,null,null,null,null,null,null,null,null,null,null,null,null,null,null,null,null,null,null,null,null,null,null,null,null,null,null,null,null,null,null,null,null,null,null,null,null,null,null,null,null,null,null,null,null,null,null,null,null,null,null,null,null,null,null,null,null,0,{"$f":"+BI433+AK433+AH433+AE433+AB433+Y433+V433+S433+P433+M433+J433+G433+D433+AN433+AQ433+AT433+AW433+AZ433+BC433+BF433","v":0},{"$f":"+BJ433+AL433+AI433+AF433+AC433+Z433+W433+T433+Q433+N433+K433+H433+E433+AO433+AR433+AU433+AX433+BA433+BD433+BG433","v":0},0,0,{"$error":"#DIV/0!"}]
[387,null,null,null,null,null,null,null,null,null,null,null,null,null,null,null,null,null,null,null,null,null,null,null,null,null,null,null,null,null,null,null,null,null,null,null,null,null,null,null,null,null,null,null,null,null,null,null,null,null,null,null,null,null,null,null,null,null,null,null,null,null,null,null,0,0,0,0,0,{"$error":"#DIV/0!"}]
[388,null,null,null,null,null,null,null,null,null,null,null,null,null,null,null,null,null,null,null,null,null,null,null,null,null,null,null,null,null,null,null,null,null,null,null,null,null,null,null,null,null,null,null,null,null,null,null,null,null,null,null,null,null,null,null,null,null,null,null,null,null,null,null,0,0,0,0,0,{"$error":"#DIV/0!"}]
[389,null,null,null,null,null,null,null,null,null,null,null,null,null,null,null,null,null,null,null,null,null,null,null,null,null,null,null,null,null,null,null,null,null,null,null,null,null,null,null,null,null,null,null,null,null,null,null,null,null,null,null,null,null,null,null,null,null,null,null,null,null,null,null,0,0,0,0,0,{"$error":"#DIV/0!"}]
[390,null,null,null,null,null,null,null,null,null,null,null,null,null,null,null,null,null,null,null,null,null,null,null,null,null,null,null,null,null,null,null,null,null,null,null,null,null,null,null,null,null,null,null,null,null,null,null,null,null,null,null,null,null,null,null,null,null,null,null,null,null,null,null,0,0,0,0,0,{"$error":"#DIV/0!"}]
[391,null,null,null,null,null,null,null,null,null,null,null,null,null,null,null,null,null,null,null,null,null,null,null,null,null,null,null,null,null,null,null,null,null,null,null,null,null,null,null,null,null,null,null,null,null,null,null,null,null,null,null,null,null,null,null,null,null,null,null,null,null,null,null,0,0,0,0,0,{"$error":"#DIV/0!"}]
[392,null,null,null,null,null,null,null,null,null,null,null,null,null,null,null,null,null,null,null,null,null,null,null,null,null,null,null,null,null,null,null,null,null,null,null,null,null,null,null,null,null,null,null,null,null,null,null,null,null,null,null,null,null,null,null,null,null,null,null,null,null,null,null,0,0,0,0,0,{"$error":"#DIV/0!"}]
[393,null,null,null,null,null,null,null,null,null,null,null,null,null,null,null,null,null,null,null,null,null,null,null,null,null,null,null,null,null,null,null,null,null,null,null,null,null,null,null,null,null,null,null,null,null,null,null,null,null,null,null,null,null,null,null,null,null,null,null,null,null,null,null,0,0,0,0,0,{"$error":"#DIV/0!"}]
[394,null,null,null,null,null,null,null,null,null,null,null,null,null,null,null,null,null,null,null,null,null,null,null,null,null,null,null,null,null,null,null,null,null,null,null,null,null,null,null,null,null,null,null,null,null,null,null,null,null,null,null,null,null,null,null,null,null,null,null,null,null,null,null,0,0,0,0,0,{"$error":"#DIV/0!"}]
[395,null,null,null,null,null,null,null,null,null,null,null,null,null,null,null,null,null,null,null,null,null,null,null,null,null,null,null,null,null,null,null,null,null,null,null,null,null,null,null,null,null,null,null,null,null,null,null,null,null,null,null,null,null,null,null,null,null,null,null,null,null,null,null,0,0,0,0,0,{"$error":"#DIV/0!"}]
[{"$f":"+A442+1","v":396},null,null,null,null,null,null,null,null,null,null,null,null,null,null,null,null,null,null,null,null,null,null,null,null,null,null,null,null,null,null,null,null,null,null,null,null,null,null,null,null,null,null,null,null,null,null,null,null,null,null,null,null,null,null,null,null,null,null,null,null,null,null,null,0,0,0,0,0,{"$error":"#DIV/0!"}]
[397,null,null,null,null,null,null,null,null,null,null,null,null,null,null,null,null,null,null,null,null,null,null,null,null,null,null,null,null,null,null,null,null,null,null,null,null,null,null,null,null,null,null,null,null,null,null,null,null,null,null,null,null,null,null,null,null,null,null,null,null,null,null,null,0,0,0,0,0,{"$error":"#DIV/0!"}]
[398,null,null,null,null,null,null,null,null,null,null,null,null,null,null,null,null,null,null,null,null,null,null,null,null,null,null,null,null,null,null,null,null,null,null,null,null,null,null,null,null,null,null,null,null,null,null,null,null,null,null,null,null,null,null,null,null,null,null,null,null,null,null,null,0,0,0,0,0,{"$error":"#DIV/0!"}]
[399,null,null,null,null,null,null,null,null,null,null,null,null,null,null,null,null,null,null,null,null,null,null,null,null,null,null,null,null,null,null,null,null,null,null,null,null,null,null,null,null,null,null,null,null,null,null,null,null,null,null,null,null,null,null,null,null,null,null,null,null,null,null,null,0,0,0,0,0,{"$error":"#DIV/0!"}]
[400,null,null,null,null,null,null,null,null,null,null,null,null,null,null,null,null,null,null,null,null,null,null,null,null,null,null,null,null,null,null,null,null,null,null,null,null,null,null,null,null,null,null,null,null,null,null,null,null,null,null,null,null,null,null,null,null,null,null,null,null,null,null,null,0,0,0,0,0,{"$error":"#DIV/0!"}]
[401,null,null,null,null,null,null,null,null,null,null,null,null,null,null,null,null,null,null,null,null,null,null,null,null,null,null,null,null,null,null,null,null,null,null,null,null,null,null,null,null,null,null,null,null,null,null,null,null,null,null,null,null,null,null,null,null,null,null,null,null,null,null,null,0,0,0,0,0,{"$error":"#DIV/0!"}]
[402,null,null,null,null,null,null,null,null,null,null,null,null,null,null,null,null,null,null,null,null,null,null,null,null,null,null,null,null,null,null,null,null,null,null,null,null,null,null,null,null,null,null,null,null,null,null,null,null,null,null,null,null,null,null,null,null,null,null,null,null,null,null,null,0,0,0,0,0,{"$error":"#DIV/0!"}]
[403,null,null,null,null,null,null,null,null,null,null,null,null,null,null,null,null,null,null,null,null,null,null,null,null,null,null,null,null,null,null,null,null,null,null,null,null,null,null,null,null,null,null,null,null,null,null,null,null,null,null,null,null,null,null,null,null,null,null,null,null,null,null,null,0,0,0,0,0,{"$error":"#DIV/0!"}]
[404,null,null,null,null,null,null,null,null,null,null,null,null,null,null,null,null,null,null,null,null,null,null,null,null,null,null,null,null,null,null,null,null,null,null,null,null,null,null,null,null,null,null,null,null,null,null,null,null,null,null,null,null,null,null,null,null,null,null,null,null,null,null,null,0,0,0,0,0,{"$error":"#DIV/0!"}]
[405,null,null,null,null,null,null,null,null,null,null,null,null,null,null,null,null,null,null,null,null,null,null,null,null,null,null,null,null,null,null,null,null,null,null,null,null,null,null,null,null,null,null,null,null,null,null,null,null,null,null,null,null,null,null,null,null,null,null,null,null,null,null,null,0,0,0,0,0,{"$error":"#DIV/0!"}]
[406,null,null,null,null,null,null,null,null,null,null,null,null,null,null,null,null,null,null,null,null,null,null,null,null,null,null,null,null,null,null,null,null,null,null,null,null,null,null,null,null,null,null,null,null,null,null,null,null,null,null,null,null,null,null,null,null,null,null,null,null,null,null,null,0,0,0,0,0,{"$error":"#DIV/0!"}]
[407,null,null,null,null,null,null,null,null,null,null,null,null,null,null,null,null,null,null,null,null,null,null,null,null,null,null,null,null,null,null,null,null,null,null,null,null,null,null,null,null,null,null,null,null,null,null,null,null,null,null,null,null,null,null,null,null,null,null,null,null,null,null,null,0,0,0,0,0,{"$error":"#DIV/0!"}]
[408,null,null,null,null,null,null,null,null,null,null,null,null,null,null,null,null,null,null,null,null,null,null,null,null,null,null,null,null,null,null,null,null,null,null,null,null,null,null,null,null,null,null,null,null,null,null,null,null,null,null,null,null,null,null,null,null,null,null,null,null,null,null,null,0,0,0,0,0,{"$error":"#DIV/0!"}]
[409,null,null,null,null,null,null,null,null,null,null,null,null,null,null,null,null,null,null,null,null,null,null,null,null,null,null,null,null,null,null,null,null,null,null,null,null,null,null,null,null,null,null,null,null,null,null,null,null,null,null,null,null,null,null,null,null,null,null,null,null,null,null,null,0,0,0,0,0,{"$error":"#DIV/0!"}]
[410,null,null,null,null,null,null,null,null,null,null,null,null,null,null,null,null,null,null,null,null,null,null,null,null,null,null,null,null,null,null,null,null,null,null,null,null,null,null,null,null,null,null,null,null,null,null,null,null,null,null,null,null,null,null,null,null,null,null,null,null,null,null,null,0,0,0,0,0,{"$error":"#DIV/0!"}]
[411,null,null,null,null,null,null,null,null,null,null,null,null,null,null,null,null,null,null,null,null,null,null,null,null,null,null,null,null,null,null,null,null,null,null,null,null,null,null,null,null,null,null,null,null,null,null,null,null,null,null,null,null,null,null,null,null,null,null,null,null,null,null,null,0,0,0,0,0,{"$error":"#DIV/0!"}]
[412,null,null,null,null,null,null,null,null,null,null,null,null,null,null,null,null,null,null,null,null,null,null,null,null,null,null,null,null,null,null,null,null,null,null,null,null,null,null,null,null,null,null,null,null,null,null,null,null,null,null,null,null,null,null,null,null,null,null,null,null,null,null,null,0,0,0,0,0,{"$error":"#DIV/0!"}]
[413,null,null,null,null,null,null,null,null,null,null,null,null,null,null,null,null,null,null,null,null,null,null,null,null,null,null,null,null,null,null,null,null,null,null,null,null,null,null,null,null,null,null,null,null,null,null,null,null,null,null,null,null,null,null,null,null,null,null,null,null,null,null,null,0,0,0,0,0,{"$error":"#DIV/0!"}]
[414,null,null,null,null,null,null,null,null,null,null,null,null,null,null,null,null,null,null,null,null,null,null,null,null,null,null,null,null,null,null,null,null,null,null,null,null,null,null,null,null,null,null,null,null,null,null,null,null,null,null,null,null,null,null,null,null,null,null,null,null,null,null,null,0,0,0,0,0,{"$error":"#DIV/0!"}]
[415,null,null,null,null,null,null,null,null,null,null,null,null,null,null,null,null,null,null,null,null,null,null,null,null,null,null,null,null,null,null,null,null,null,null,null,null,null,null,null,null,null,null,null,null,null,null,null,null,null,null,null,null,null,null,null,null,null,null,null,null,null,null,null,0,0,0,0,0,{"$error":"#DIV/0!"}]
[416,null,null,null,null,null,null,null,null,null,null,null,null,null,null,null,null,null,null,null,null,null,null,null,null,null,null,null,null,null,null,null,null,null,null,null,null,null,null,null,null,null,null,null,null,null,null,null,null,null,null,null,null,null,null,null,null,null,null,null,null,null,null,null,0,0,0,0,0,{"$error":"#DIV/0!"}]
[417,null,null,null,null,null,null,null,null,null,null,null,null,null,null,null,null,null,null,null,null,null,null,null,null,null,null,null,null,null,null,null,null,null,null,null,null,null,null,null,null,null,null,null,null,null,null,null,null,null,null,null,null,null,null,null,null,null,null,null,null,null,null,null,0,0,0,0,0,{"$error":"#DIV/0!"}]
[418,null,null,null,null,null,null,null,null,null,null,null,null,null,null,null,null,null,null,null,null,null,null,null,null,null,null,null,null,null,null,null,null,null,null,null,null,null,null,null,null,null,null,null,null,null,null,null,null,null,null,null,null,null,null,null,null,null,null,null,null,null,null,null,0,0,0,0,0,{"$error":"#DIV/0!"}]
[419,null,null,null,null,null,null,null,null,null,null,null,null,null,null,null,null,null,null,null,null,null,null,null,null,null,null,null,null,null,null,null,null,null,null,null,null,null,null,null,null,null,null,null,null,null,null,null,null,null,null,null,null,null,null,null,null,null,null,null,null,null,null,null,0,0,0,0,0,{"$error":"#DIV/0!"}]
[420,null,null,null,null,null,null,null,null,null,null,null,null,null,null,null,null,null,null,null,null,null,null,null,null,null,null,null,null,null,null,null,null,null,null,null,null,null,null,null,null,null,null,null,null,null,null,null,null,null,null,null,null,null,null,null,null,null,null,null,null,null,null,null,0,0,0,0,0,{"$error":"#DIV/0!"}]
[421,null,null,null,null,null,null,null,null,null,null,null,null,null,null,null,null,null,null,null,null,null,null,null,null,null,null,null,null,null,null,null,null,null,null,null,null,null,null,null,null,null,null,null,null,null,null,null,null,null,null,null,null,null,null,null,null,null,null,null,null,null,null,null,0,0,0,0,0,{"$error":"#DIV/0!"}]
[422,null,null,null,null,null,null,null,null,null,null,null,null,null,null,null,null,null,null,null,null,null,null,null,null,null,null,null,null,null,null,null,null,null,null,null,null,null,null,null,null,null,null,null,null,null,null,null,null,null,null,null,null,null,null,null,null,null,null,null,null,null,null,null,0,0,0,0,0,{"$error":"#DIV/0!"}]
[423,null,null,null,null,null,null,null,null,null,null,null,null,null,null,null,null,null,null,null,null,null,null,null,null,null,null,null,null,null,null,null,null,null,null,null,null,null,null,null,null,null,null,null,null,null,null,null,null,null,null,null,null,null,null,null,null,null,null,null,null,null,null,null,0,0,0,0,0,{"$error":"#DIV/0!"}]
[424,null,null,null,null,null,null,null,null,null,null,null,null,null,null,null,null,null,null,null,null,null,null,null,null,null,null,null,null,null,null,null,null,null,null,null,null,null,null,null,null,null,null,null,null,null,null,null,null,null,null,null,null,null,null,null,null,null,null,null,null,null,null,null,0,0,0,0,0,{"$error":"#DIV/0!"}]
[425,null,null,null,null,null,null,null,null,null,null,null,null,null,null,null,null,null,null,null,null,null,null,null,null,null,null,null,null,null,null,null,null,null,null,null,null,null,null,null,null,null,null,null,null,null,null,null,null,null,null,null,null,null,null,null,null,null,null,null,null,null,null,null,0,0,0,0,0,{"$error":"#DIV/0!"}]
[426,null,null,null,null,null,null,null,null,null,null,null,null,null,null,null,null,null,null,null,null,null,null,null,null,null,null,null,null,null,null,null,null,null,null,null,null,null,null,null,null,null,null,null,null,null,null,null,null,null,null,null,null,null,null,null,null,null,null,null,null,null,null,null,0,0,0,0,0,{"$error":"#DIV/0!"}]
[427,null,null,null,null,null,null,null,null,null,null,null,null,null,null,null,null,null,null,null,null,null,null,null,null,null,null,null,null,null,null,null,null,null,null,null,null,null,null,null,null,null,null,null,null,null,null,null,null,null,null,null,null,null,null,null,null,null,null,null,null,null,null,null,0,0,0,0,0,{"$error":"#DIV/0!"}]
[428,null,null,null,null,null,null,null,null,null,null,null,null,null,null,null,null,null,null,null,null,null,null,null,null,null,null,null,null,null,null,null,null,null,null,null,null,null,null,null,null,null,null,null,null,null,null,null,null,null,null,null,null,null,null,null,null,null,null,null,null,null,null,null,0,0,0,0,0,{"$error":"#DIV/0!"}]
[429,null,null,null,null,null,null,null,null,null,null,null,null,null,null,null,null,null,null,null,null,null,null,null,null,null,null,null,null,null,null,null,null,null,null,null,null,null,null,null,null,null,null,null,null,null,null,null,null,null,null,null,null,null,null,null,null,null,null,null,null,null,null,null,0,0,0,0,0,{"$error":"#DIV/0!"}]
[430,null,null,null,null,null,null,null,null,null,null,null,null,null,null,null,null,null,null,null,null,null,null,null,null,null,null,null,null,null,null,null,null,null,null,null,null,null,null,null,null,null,null,null,null,null,null,null,null,null,null,null,null,null,null,null,null,null,null,null,null,null,null,null,0,0,0,0,0,{"$error":"#DIV/0!"}]
[431,null,null,null,null,null,null,null,null,null,null,null,null,null,null,null,null,null,null,null,null,null,null,null,null,null,null,null,null,null,null,null,null,null,null,null,null,null,null,null,null,null,null,null,null,null,null,null,null,null,null,null,null,null,null,null,null,null,null,null,null,null,null,null,0,0,0,0,0,{"$error":"#DIV/0!"}]
[432,null,null,null,null,null,null,null,null,null,null,null,null,null,null,null,null,null,null,null,null,null,null,null,null,null,null,null,null,null,null,null,null,null,null,null,null,null,null,null,null,null,null,null,null,null,null,null,null,null,null,null,null,null,null,null,null,null,null,null,null,null,null,null,0,0,0,0,0,{"$error":"#DIV/0!"}]
[433,null,null,null,null,null,null,null,null,null,null,null,null,null,null,null,null,null,null,null,null,null,null,null,null,null,null,null,null,null,null,null,null,null,null,null,null,null,null,null,null,null,null,null,null,null,null,null,null,null,null,null,null,null,null,null,null,null,null,null,null,null,null,null,0,0,0,0,0,{"$error":"#DIV/0!"}]
[434,null,null,null,null,null,null,null,null,null,null,null,null,null,null,null,null,null,null,null,null,null,null,null,null,null,null,null,null,null,null,null,null,null,null,null,null,null,null,null,null,null,null,null,null,null,null,null,null,null,null,null,null,null,null,null,null,null,null,null,null,null,null,null,0,0,0,0,0,{"$error":"#DIV/0!"}]
[435,null,null,null,null,null,null,null,null,null,null,null,null,null,null,null,null,null,null,null,null,null,null,null,null,null,null,null,null,null,null,null,null,null,null,null,null,null,null,null,null,null,null,null,null,null,null,null,null,null,null,null,null,null,null,null,null,null,null,null,null,null,null,null,0,0,0,0,0,{"$error":"#DIV/0!"}]
[436,null,null,null,null,null,null,null,null,null,null,null,null,null,null,null,null,null,null,null,null,null,null,null,null,null,null,null,null,null,null,null,null,null,null,null,null,null,null,null,null,null,null,null,null,null,null,null,null,null,null,null,null,null,null,null,null,null,null,null,null,null,null,null,0,0,0,0,0,{"$error":"#DIV/0!"}]
[437,null,null,null,null,null,null,null,null,null,null,null,null,null,null,null,null,null,null,null,null,null,null,null,null,null,null,null,null,null,null,null,null,null,null,null,null,null,null,null,null,null,null,null,null,null,null,null,null,null,null,null,null,null,null,null,null,null,null,null,null,null,null,null,0,0,0,0,0,{"$error":"#DIV/0!"}]
[438,null,null,null,null,null,null,null,null,null,null,null,null,null,null,null,null,null,null,null,null,null,null,null,null,null,null,null,null,null,null,null,null,null,null,null,null,null,null,null,null,null,null,null,null,null,null,null,null,null,null,null,null,null,null,null,null,null,null,null,null,null,null,null,0,0,0,0,0,{"$error":"#DIV/0!"}]
[439,null,null,null,null,null,null,null,null,null,null,null,null,null,null,null,null,null,null,null,null,null,null,null,null,null,null,null,null,null,null,null,null,null,null,null,null,null,null,null,null,null,null,null,null,null,null,null,null,null,null,null,null,null,null,null,null,null,null,null,null,null,null,null,0,0,0,0,0,{"$error":"#DIV/0!"}]
[440,null,null,null,null,null,null,null,null,null,null,null,null,null,null,null,null,null,null,null,null,null,null,null,null,null,null,null,null,null,null,null,null,null,null,null,null,null,null,null,null,null,null,null,null,null,null,null,null,null,null,null,null,null,null,null,null,null,null,null,null,null,null,null,0,0,0,0,0,{"$error":"#DIV/0!"}]
[441,null,null,null,null,null,null,null,null,null,null,null,null,null,null,null,null,null,null,null,null,null,null,null,null,null,null,null,null,null,null,null,null,null,null,null,null,null,null,null,null,null,null,null,null,null,null,null,null,null,null,null,null,null,null,null,null,null,null,null,null,null,null,null,0,0,0,0,0,{"$error":"#DIV/0!"}]
[442,null,null,null,null,null,null,null,null,null,null,null,null,null,null,null,null,null,null,null,null,null,null,null,null,null,null,null,null,null,null,null,null,null,null,null,null,null,null,null,null,null,null,null,null,null,null,null,null,null,null,null,null,null,null,null,null,null,null,null,null,null,null,null,0,0,0,0,0,{"$error":"#DIV/0!"}]
[443,null,null,null,null,null,null,null,null,null,null,null,null,null,null,null,null,null,null,null,null,null,null,null,null,null,null,null,null,null,null,null,null,null,null,null,null,null,null,null,null,null,null,null,null,null,null,null,null,null,null,null,null,null,null,null,null,null,null,null,null,null,null,null,0,0,0,0,0,{"$error":"#DIV/0!"}]
[444,null,null,null,null,null,null,null,null,null,null,null,null,null,null,null,null,null,null,null,null,null,null,null,null,null,null,null,null,null,null,null,null,null,null,null,null,null,null,null,null,null,null,null,null,null,null,null,null,null,null,null,null,null,null,null,null,null,null,null,null,null,null,null,0,0,0,0,0,{"$error":"#DIV/0!"}]
[445,null,null,null,null,null,null,null,null,null,null,null,null,null,null,null,null,null,null,null,null,null,null,null,null,null,null,null,null,null,null,null,null,null,null,null,null,null,null,null,null,null,null,null,null,null,null,null,null,null,null,null,null,null,null,null,null,null,null,null,null,null,null,null,0,0,0,{"$f":"+BN492-BO492","v":0},{"$f":"COUNT(C492:BJ492)/3","v":0},{"$f":"+BM492/BQ492","v":{"$error":"#DIV/0!"}}]
[446,null,null,null,null,null,null,null,null,null,null,null,null,null,null,null,null,null,null,null,null,null,null,null,null,null,null,null,null,null,null,null,null,null,null,null,null,null,null,null,null,null,null,null,null,null,null,null,null,null,null,null,null,null,null,null,null,null,null,null,null,null,null,null,0,0,0,0,0,{"$error":"#DIV/0!"}]
[447,null,null,null,null,null,null,null,null,null,null,null,null,null,null,null,null,null,null,null,null,null,null,null,null,null,null,null,null,null,null,null,null,null,null,null,null,null,null,null,null,null,null,null,null,null,null,null,null,null,null,null,null,null,null,null,null,null,null,null,null,null,null,null,0,0,0,0,0,{"$error":"#DIV/0!"}]
[448,null,null,null,null,null,null,null,null,null,null,null,null,null,null,null,null,null,null,null,null,null,null,null,null,null,null,null,null,null,null,null,null,null,null,null,null,null,null,null,null,null,null,null,null,null,null,null,null,null,null,null,null,null,null,null,null,null,null,null,null,null,null,null,0,0,0,0,0,{"$error":"#DIV/0!"}]
[449,null,null,null,null,null,null,null,null,null,null,null,null,null,null,null,null,null,null,null,null,null,null,null,null,null,null,null,null,null,null,null,null,null,null,null,null,null,null,null,null,null,null,null,null,null,null,null,null,null,null,null,null,null,null,null,null,null,null,null,null,null,null,null,{"$f":"+BH496+AJ496+AG496+AD496+AA496+X496+U496+R496+O496+L496+I496+F496+C496+AM496+AP496+AS496+AV496+AY496+BB496+BE496","v":0},0,0,0,0,{"$error":"#DIV/0!"}]
[450,null,null,null,null,null,null,null,null,null,null,null,null,null,null,null,null,null,null,null,null,null,null,null,null,null,null,null,null,null,null,null,null,null,null,null,null,null,null,null,null,null,null,null,null,null,null,null,null,null,null,null,null,null,null,null,null,null,null,null,null,null,null,null,0,{"$f":"+BI497+AK497+AH497+AE497+AB497+Y497+V497+S497+P497+M497+J497+G497+D497+AN497+AQ497+AT497+AW497+AZ497+BC497+BF497","v":0},{"$f":"+BJ497+AL497+AI497+AF497+AC497+Z497+W497+T497+Q497+N497+K497+H497+E497+AO497+AR497+AU497+AX497+BA497+BD497+BG497","v":0},0,0,{"$error":"#DIV/0!"}]
[451,null,null,null,null,null,null,null,null,null,null,null,null,null,null,null,null,null,null,null,null,null,null,null,null,null,null,null,null,null,null,null,null,null,null,null,null,null,null,null,null,null,null,null,null,null,null,null,null,null,null,null,null,null,null,null,null,null,null,null,null,null,null,null,0,0,0,0,0,{"$error":"#DIV/0!"}]
[452,null,null,null,null,null,null,null,null,null,null,null,null,null,null,null,null,null,null,null,null,null,null,null,null,null,null,null,null,null,null,null,null,null,null,null,null,null,null,null,null,null,null,null,null,null,null,null,null,null,null,null,null,null,null,null,null,null,null,null,null,null,null,null,0,0,0,0,0,{"$error":"#DIV/0!"}]
[453,null,null,null,null,null,null,null,null,null,null,null,null,null,null,null,null,null,null,null,null,null,null,null,null,null,null,null,null,null,null,null,null,null,null,null,null,null,null,null,null,null,null,null,null,null,null,null,null,null,null,null,null,null,null,null,null,null,null,null,null,null,null,null,0,0,0,0,0,{"$error":"#DIV/0!"}]
[454,null,null,null,null,null,null,null,null,null,null,null,null,null,null,null,null,null,null,null,null,null,null,null,null,null,null,null,null,null,null,null,null,null,null,null,null,null,null,null,null,null,null,null,null,null,null,null,null,null,null,null,null,null,null,null,null,null,null,null,null,null,null,null,0,0,0,0,0,{"$error":"#DIV/0!"}]
[455,null,null,null,null,null,null,null,null,null,null,null,null,null,null,null,null,null,null,null,null,null,null,null,null,null,null,null,null,null,null,null,null,null,null,null,null,null,null,null,null,null,null,null,null,null,null,null,null,null,null,null,null,null,null,null,null,null,null,null,null,null,null,null,0,0,0,0,0,{"$error":"#DIV/0!"}]
[456,null,null,null,null,null,null,null,null,null,null,null,null,null,null,null,null,null,null,null,null,null,null,null,null,null,null,null,null,null,null,null,null,null,null,null,null,null,null,null,null,null,null,null,null,null,null,null,null,null,null,null,null,null,null,null,null,null,null,null,null,null,null,null,0,0,0,0,0,{"$error":"#DIV/0!"}]
[457,null,null,null,null,null,null,null,null,null,null,null,null,null,null,null,null,null,null,null,null,null,null,null,null,null,null,null,null,null,null,null,null,null,null,null,null,null,null,null,null,null,null,null,null,null,null,null,null,null,null,null,null,null,null,null,null,null,null,null,null,null,null,null,0,0,0,{"$f":"+BN504-BO504","v":0},{"$f":"COUNT(C504:BJ504)/3","v":0},{"$f":"+BM504/BQ504","v":{"$error":"#DIV/0!"}}]
[458,null,null,null,null,null,null,null,null,null,null,null,null,null,null,null,null,null,null,null,null,null,null,null,null,null,null,null,null,null,null,null,null,null,null,null,null,null,null,null,null,null,null,null,null,null,null,null,null,null,null,null,null,null,null,null,null,null,null,null,null,null,null,null,0,0,0,0,0,{"$error":"#DIV/0!"}]
[459,null,null,null,null,null,null,null,null,null,null,null,null,null,null,null,null,null,null,null,null,null,null,null,null,null,null,null,null,null,null,null,null,null,null,null,null,null,null,null,null,null,null,null,null,null,null,null,null,null,null,null,null,null,null,null,null,null,null,null,null,null,null,null,0,0,0,0,0,{"$error":"#DIV/0!"}]
[{"$f":"+A506+1","v":460},null,null,null,null,null,null,null,null,null,null,null,null,null,null,null,null,null,null,null,null,null,null,null,null,null,null,null,null,null,null,null,null,null,null,null,null,null,null,null,null,null,null,null,null,null,null,null,null,null,null,null,null,null,null,null,null,null,null,null,null,null,null,null,0,0,0,0,0,{"$error":"#DIV/0!"}]
[461,null,null,null,null,null,null,null,null,null,null,null,null,null,null,null,null,null,null,null,null,null,null,null,null,null,null,null,null,null,null,null,null,null,null,null,null,null,null,null,null,null,null,null,null,null,null,null,null,null,null,null,null,null,null,null,null,null,null,null,null,null,null,null,0,0,0,0,0,{"$error":"#DIV/0!"}]
[462,null,null,null,null,null,null,null,null,null,null,null,null,null,null,null,null,null,null,null,null,null,null,null,null,null,null,null,null,null,null,null,null,null,null,null,null,null,null,null,null,null,null,null,null,null,null,null,null,null,null,null,null,null,null,null,null,null,null,null,null,null,null,null,0,0,0,0,0,{"$error":"#DIV/0!"}]
[463,null,null,null,null,null,null,null,null,null,null,null,null,null,null,null,null,null,null,null,null,null,null,null,null,null,null,null,null,null,null,null,null,null,null,null,null,null,null,null,null,null,null,null,null,null,null,null,null,null,null,null,null,null,null,null,null,null,null,null,null,null,null,null,0,0,0,0,0,{"$error":"#DIV/0!"}]
[464,null,null,null,null,null,null,null,null,null,null,null,null,null,null,null,null,null,null,null,null,null,null,null,null,null,null,null,null,null,null,null,null,null,null,null,null,null,null,null,null,null,null,null,null,null,null,null,null,null,null,null,null,null,null,null,null,null,null,null,null,null,null,null,0,0,0,0,0,{"$error":"#DIV/0!"}]
[465,null,null,null,null,null,null,null,null,null,null,null,null,null,null,null,null,null,null,null,null,null,null,null,null,null,null,null,null,null,null,null,null,null,null,null,null,null,null,null,null,null,null,null,null,null,null,null,null,null,null,null,null,null,null,null,null,null,null,null,null,null,null,null,0,0,0,0,0,{"$error":"#DIV/0!"}]
[466,null,null,null,null,null,null,null,null,null,null,null,null,null,null,null,null,null,null,null,null,null,null,null,null,null,null,null,null,null,null,null,null,null,null,null,null,null,null,null,null,null,null,null,null,null,null,null,null,null,null,null,null,null,null,null,null,null,null,null,null,null,null,null,0,0,0,0,0,{"$error":"#DIV/0!"}]
[467,null,null,null,null,null,null,null,null,null,null,null,null,null,null,null,null,null,null,null,null,null,null,null,null,null,null,null,null,null,null,null,null,null,null,null,null,null,null,null,null,null,null,null,null,null,null,null,null,null,null,null,null,null,null,null,null,null,null,null,null,null,null,null,0,0,0,0,0,{"$error":"#DIV/0!"}]
[468,null,null,null,null,null,null,null,null,null,null,null,null,null,null,null,null,null,null,null,null,null,null,null,null,null,null,null,null,null,null,null,null,null,null,null,null,null,null,null,null,null,null,null,null,null,null,null,null,null,null,null,null,null,null,null,null,null,null,null,null,null,null,null,0,0,0,0,0,{"$error":"#DIV/0!"}]
[469,null,null,null,null,null,null,null,null,null,null,null,null,null,null,null,null,null,null,null,null,null,null,null,null,null,null,null,null,null,null,null,null,null,null,null,null,null,null,null,null,null,null,null,null,null,null,null,null,null,null,null,null,null,null,null,null,null,null,null,null,null,null,null,0,0,0,0,0,{"$error":"#DIV/0!"}]
[470,null,null,null,null,null,null,null,null,null,null,null,null,null,null,null,null,null,null,null,null,null,null,null,null,null,null,null,null,null,null,null,null,null,null,null,null,null,null,null,null,null,null,null,null,null,null,null,null,null,null,null,null,null,null,null,null,null,null,null,null,null,null,null,0,0,0,0,0,{"$error":"#DIV/0!"}]
[471,null,null,null,null,null,null,null,null,null,null,null,null,null,null,null,null,null,null,null,null,null,null,null,null,null,null,null,null,null,null,null,null,null,null,null,null,null,null,null,null,null,null,null,null,null,null,null,null,null,null,null,null,null,null,null,null,null,null,null,null,null,null,null,0,0,0,0,0,{"$error":"#DIV/0!"}]
[472,null,null,null,null,null,null,null,null,null,null,null,null,null,null,null,null,null,null,null,null,null,null,null,null,null,null,null,null,null,null,null,null,null,null,null,null,null,null,null,null,null,null,null,null,null,null,null,null,null,null,null,null,null,null,null,null,null,null,null,null,null,null,null,0,0,0,0,0,{"$error":"#DIV/0!"}]
[473,null,null,null,null,null,null,null,null,null,null,null,null,null,null,null,null,null,null,null,null,null,null,null,null,null,null,null,null,null,null,null,null,null,null,null,null,null,null,null,null,null,null,null,null,null,null,null,null,null,null,null,null,null,null,null,null,null,null,null,null,null,null,null,0,0,0,0,0,{"$error":"#DIV/0!"}]
[474,null,null,null,null,null,null,null,null,null,null,null,null,null,null,null,null,null,null,null,null,null,null,null,null,null,null,null,null,null,null,null,null,null,null,null,null,null,null,null,null,null,null,null,null,null,null,null,null,null,null,null,null,null,null,null,null,null,null,null,null,null,null,null,0,0,0,0,0,{"$error":"#DIV/0!"}]
[475,null,null,null,null,null,null,null,null,null,null,null,null,null,null,null,null,null,null,null,null,null,null,null,null,null,null,null,null,null,null,null,null,null,null,null,null,null,null,null,null,null,null,null,null,null,null,null,null,null,null,null,null,null,null,null,null,null,null,null,null,null,null,null,0,0,0,0,0,{"$error":"#DIV/0!"}]
[476,null,null,null,null,null,null,null,null,null,null,null,null,null,null,null,null,null,null,null,null,null,null,null,null,null,null,null,null,null,null,null,null,null,null,null,null,null,null,null,null,null,null,null,null,null,null,null,null,null,null,null,null,null,null,null,null,null,null,null,null,null,null,null,0,0,0,0,0,{"$error":"#DIV/0!"}]
[477,null,null,null,null,null,null,null,null,null,null,null,null,null,null,null,null,null,null,null,null,null,null,null,null,null,null,null,null,null,null,null,null,null,null,null,null,null,null,null,null,null,null,null,null,null,null,null,null,null,null,null,null,null,null,null,null,null,null,null,null,null,null,null,0,0,0,0,0,{"$error":"#DIV/0!"}]
[478,null,null,null,null,null,null,null,null,null,null,null,null,null,null,null,null,null,null,null,null,null,null,null,null,null,null,null,null,null,null,null,null,null,null,null,null,null,null,null,null,null,null,null,null,null,null,null,null,null,null,null,null,null,null,null,null,null,null,null,null,null,null,null,0,0,0,0,0,{"$error":"#DIV/0!"}]
[479,null,null,null,null,null,null,null,null,null,null,null,null,null,null,null,null,null,null,null,null,null,null,null,null,null,null,null,null,null,null,null,null,null,null,null,null,null,null,null,null,null,null,null,null,null,null,null,null,null,null,null,null,null,null,null,null,null,null,null,null,null,null,null,0,0,0,0,0,{"$error":"#DIV/0!"}]
[480,null,null,null,null,null,null,null,null,null,null,null,null,null,null,null,null,null,null,null,null,null,null,null,null,null,null,null,null,null,null,null,null,null,null,null,null,null,null,null,null,null,null,null,null,null,null,null,null,null,null,null,null,null,null,null,null,null,null,null,null,null,null,null,0,0,0,0,0,{"$error":"#DIV/0!"}]
[481,null,null,null,null,null,null,null,null,null,null,null,null,null,null,null,null,null,null,null,null,null,null,null,null,null,null,null,null,null,null,null,null,null,null,null,null,null,null,null,null,null,null,null,null,null,null,null,null,null,null,null,null,null,null,null,null,null,null,null,null,null,null,null,0,0,0,0,0,{"$error":"#DIV/0!"}]
[482,null,null,null,null,null,null,null,null,null,null,null,null,null,null,null,null,null,null,null,null,null,null,null,null,null,null,null,null,null,null,null,null,null,null,null,null,null,null,null,null,null,null,null,null,null,null,null,null,null,null,null,null,null,null,null,null,null,null,null,null,null,null,null,0,0,0,0,0,{"$error":"#DIV/0!"}]
[483,null,null,null,null,null,null,null,null,null,null,null,null,null,null,null,null,null,null,null,null,null,null,null,null,null,null,null,null,null,null,null,null,null,null,null,null,null,null,null,null,null,null,null,null,null,null,null,null,null,null,null,null,null,null,null,null,null,null,null,null,null,null,null,0,0,0,0,0,{"$error":"#DIV/0!"}]
[484,null,null,null,null,null,null,null,null,null,null,null,null,null,null,null,null,null,null,null,null,null,null,null,null,null,null,null,null,null,null,null,null,null,null,null,null,null,null,null,null,null,null,null,null,null,null,null,null,null,null,null,null,null,null,null,null,null,null,null,null,null,null,null,0,0,0,0,0,{"$error":"#DIV/0!"}]
[485,null,null,null,null,null,null,null,null,null,null,null,null,null,null,null,null,null,null,null,null,null,null,null,null,null,null,null,null,null,null,null,null,null,null,null,null,null,null,null,null,null,null,null,null,null,null,null,null,null,null,null,null,null,null,null,null,null,null,null,null,null,null,null,0,0,0,0,0,{"$error":"#DIV/0!"}]
[486,null,null,null,null,null,null,null,null,null,null,null,null,null,null,null,null,null,null,null,null,null,null,null,null,null,null,null,null,null,null,null,null,null,null,null,null,null,null,null,null,null,null,null,null,null,null,null,null,null,null,null,null,null,null,null,null,null,null,null,null,null,null,null,0,0,0,0,0,{"$error":"#DIV/0!"}]
[487,null,null,null,null,null,null,null,null,null,null,null,null,null,null,null,null,null,null,null,null,null,null,null,null,null,null,null,null,null,null,null,null,null,null,null,null,null,null,null,null,null,null,null,null,null,null,null,null,null,null,null,null,null,null,null,null,null,null,null,null,null,null,null,0,0,0,0,0,{"$error":"#DIV/0!"}]
[488,null,null,null,null,null,null,null,null,null,null,null,null,null,null,null,null,null,null,null,null,null,null,null,null,null,null,null,null,null,null,null,null,null,null,null,null,null,null,null,null,null,null,null,null,null,null,null,null,null,null,null,null,null,null,null,null,null,null,null,null,null,null,null,0,0,0,0,0,{"$error":"#DIV/0!"}]
[489,null,null,null,null,null,null,null,null,null,null,null,null,null,null,null,null,null,null,null,null,null,null,null,null,null,null,null,null,null,null,null,null,null,null,null,null,null,null,null,null,null,null,null,null,null,null,null,null,null,null,null,null,null,null,null,null,null,null,null,null,null,null,null,0,0,0,0,0,{"$error":"#DIV/0!"}]
[490,null,null,null,null,null,null,null,null,null,null,null,null,null,null,null,null,null,null,null,null,null,null,null,null,null,null,null,null,null,null,null,null,null,null,null,null,null,null,null,null,null,null,null,null,null,null,null,null,null,null,null,null,null,null,null,null,null,null,null,null,null,null,null,0,0,0,0,0,{"$error":"#DIV/0!"}]
[491,null,null,null,null,null,null,null,null,null,null,null,null,null,null,null,null,null,null,null,null,null,null,null,null,null,null,null,null,null,null,null,null,null,null,null,null,null,null,null,null,null,null,null,null,null,null,null,null,null,null,null,null,null,null,null,null,null,null,null,null,null,null,null,0,0,0,0,0,{"$error":"#DIV/0!"}]
[492,null,null,null,null,null,null,null,null,null,null,null,null,null,null,null,null,null,null,null,null,null,null,null,null,null,null,null,null,null,null,null,null,null,null,null,null,null,null,null,null,null,null,null,null,null,null,null,null,null,null,null,null,null,null,null,null,null,null,null,null,null,null,null,0,0,0,0,0,{"$error":"#DIV/0!"}]
[493,null,null,null,null,null,null,null,null,null,null,null,null,null,null,null,null,null,null,null,null,null,null,null,null,null,null,null,null,null,null,null,null,null,null,null,null,null,null,null,null,null,null,null,null,null,null,null,null,null,null,null,null,null,null,null,null,null,null,null,null,null,null,null,0,0,0,0,0,{"$error":"#DIV/0!"}]
[494,null,null,null,null,null,null,null,null,null,null,null,null,null,null,null,null,null,null,null,null,null,null,null,null,null,null,null,null,null,null,null,null,null,null,null,null,null,null,null,null,null,null,null,null,null,null,null,null,null,null,null,null,null,null,null,null,null,null,null,null,null,null,null,0,0,0,0,0,{"$error":"#DIV/0!"}]
[495,null,null,null,null,null,null,null,null,null,null,null,null,null,null,null,null,null,null,null,null,null,null,null,null,null,null,null,null,null,null,null,null,null,null,null,null,null,null,null,null,null,null,null,null,null,null,null,null,null,null,null,null,null,null,null,null,null,null,null,null,null,null,null,0,0,0,0,0,{"$error":"#DIV/0!"}]
[496,null,null,null,null,null,null,null,null,null,null,null,null,null,null,null,null,null,null,null,null,null,null,null,null,null,null,null,null,null,null,null,null,null,null,null,null,null,null,null,null,null,null,null,null,null,null,null,null,null,null,null,null,null,null,null,null,null,null,null,null,null,null,null,0,0,0,0,0,{"$error":"#DIV/0!"}]
[497,null,null,null,null,null,null,null,null,null,null,null,null,null,null,null,null,null,null,null,null,null,null,null,null,null,null,null,null,null,null,null,null,null,null,null,null,null,null,null,null,null,null,null,null,null,null,null,null,null,null,null,null,null,null,null,null,null,null,null,null,null,null,null,0,0,0,0,0,{"$error":"#DIV/0!"}]
[498,null,null,null,null,null,null,null,null,null,null,null,null,null,null,null,null,null,null,null,null,null,null,null,null,null,null,null,null,null,null,null,null,null,null,null,null,null,null,null,null,null,null,null,null,null,null,null,null,null,null,null,null,null,null,null,null,null,null,null,null,null,null,null,0,0,0,0,0,{"$error":"#DIV/0!"}]
[499,null,null,null,null,null,null,null,null,null,null,null,null,null,null,null,null,null,null,null,null,null,null,null,null,null,null,null,null,null,null,null,null,null,null,null,null,null,null,null,null,null,null,null,null,null,null,null,null,null,null,null,null,null,null,null,null,null,null,null,null,null,null,null,0,0,0,0,0,{"$error":"#DIV/0!"}]
[500,null,null,null,null,null,null,null,null,null,null,null,null,null,null,null,null,null,null,null,null,null,null,null,null,null,null,null,null,null,null,null,null,null,null,null,null,null,null,null,null,null,null,null,null,null,null,null,null,null,null,null,null,null,null,null,null,null,null,null,null,null,null,null,0,0,0,0,0,{"$error":"#DIV/0!"}]
[501,null,null,null,null,null,null,null,null,null,null,null,null,null,null,null,null,null,null,null,null,null,null,null,null,null,null,null,null,null,null,null,null,null,null,null,null,null,null,null,null,null,null,null,null,null,null,null,null,null,null,null,null,null,null,null,null,null,null,null,null,null,null,null,0,0,0,0,0,{"$error":"#DIV/0!"}]
[502,null,null,null,null,null,null,null,null,null,null,null,null,null,null,null,null,null,null,null,null,null,null,null,null,null,null,null,null,null,null,null,null,null,null,null,null,null,null,null,null,null,null,null,null,null,null,null,null,null,null,null,null,null,null,null,null,null,null,null,null,null,null,null,0,0,0,0,0,{"$error":"#DIV/0!"}]
[503,null,null,null,null,null,null,null,null,null,null,null,null,null,null,null,null,null,null,null,null,null,null,null,null,null,null,null,null,null,null,null,null,null,null,null,null,null,null,null,null,null,null,null,null,null,null,null,null,null,null,null,null,null,null,null,null,null,null,null,null,null,null,null,0,0,0,0,0,{"$error":"#DIV/0!"}]
[504,null,null,null,null,null,null,null,null,null,null,null,null,null,null,null,null,null,null,null,null,null,null,null,null,null,null,null,null,null,null,null,null,null,null,null,null,null,null,null,null,null,null,null,null,null,null,null,null,null,null,null,null,null,null,null,null,null,null,null,null,null,null,null,0,0,0,0,0,{"$error":"#DIV/0!"}]
[505,null,null,null,null,null,null,null,null,null,null,null,null,null,null,null,null,null,null,null,null,null,null,null,null,null,null,null,null,null,null,null,null,null,null,null,null,null,null,null,null,null,null,null,null,null,null,null,null,null,null,null,null,null,null,null,null,null,null,null,null,null,null,null,0,0,0,0,0,{"$error":"#DIV/0!"}]
[506,null,null,null,null,null,null,null,null,null,null,null,null,null,null,null,null,null,null,null,null,null,null,null,null,null,null,null,null,null,null,null,null,null,null,null,null,null,null,null,null,null,null,null,null,null,null,null,null,null,null,null,null,null,null,null,null,null,null,null,null,null,null,null,0,0,0,0,0,{"$error":"#DIV/0!"}]
[507,null,null,null,null,null,null,null,null,null,null,null,null,null,null,null,null,null,null,null,null,null,null,null,null,null,null,null,null,null,null,null,null,null,null,null,null,null,null,null,null,null,null,null,null,null,null,null,null,null,null,null,null,null,null,null,null,null,null,null,null,null,null,null,0,0,0,0,0,{"$error":"#DIV/0!"}]
[508,null,null,null,null,null,null,null,null,null,null,null,null,null,null,null,null,null,null,null,null,null,null,null,null,null,null,null,null,null,null,null,null,null,null,null,null,null,null,null,null,null,null,null,null,null,null,null,null,null,null,null,null,null,null,null,null,null,null,null,null,null,null,null,0,0,0,0,0,{"$error":"#DIV/0!"}]
[509,null,null,null,null,null,null,null,null,null,null,null,null,null,null,null,null,null,null,null,null,null,null,null,null,null,null,null,null,null,null,null,null,null,null,null,null,null,null,null,null,null,null,null,null,null,null,null,null,null,null,null,null,null,null,null,null,null,null,null,null,null,null,null,0,0,0,0,0,{"$error":"#DIV/0!"}]
[510,null,null,null,null,null,null,null,null,null,null,null,null,null,null,null,null,null,null,null,null,null,null,null,null,null,null,null,null,null,null,null,null,null,null,null,null,null,null,null,null,null,null,null,null,null,null,null,null,null,null,null,null,null,null,null,null,null,null,null,null,null,null,null,0,0,0,0,0,{"$error":"#DIV/0!"}]
[511,null,null,null,null,null,null,null,null,null,null,null,null,null,null,null,null,null,null,null,null,null,null,null,null,null,null,null,null,null,null,null,null,null,null,null,null,null,null,null,null,null,null,null,null,null,null,null,null,null,null,null,null,null,null,null,null,null,null,null,null,null,null,null,0,0,0,0,0,{"$error":"#DIV/0!"}]
[512,null,null,null,null,null,null,null,null,null,null,null,null,null,null,null,null,null,null,null,null,null,null,null,null,null,null,null,null,null,null,null,null,null,null,null,null,null,null,null,null,null,null,null,null,null,null,null,null,null,null,null,null,null,null,null,null,null,null,null,null,null,null,null,0,0,0,0,0,{"$error":"#DIV/0!"}]
[513,null,null,null,null,null,null,null,null,null,null,null,null,null,null,null,null,null,null,null,null,null,null,null,null,null,null,null,null,null,null,null,null,null,null,null,null,null,null,null,null,null,null,null,null,null,null,null,null,null,null,null,null,null,null,null,null,null,null,null,null,null,null,null,{"$f":"+BH560+AJ560+AG560+AD560+AA560+X560+U560+R560+O560+L560+I560+F560+C560+AM560+AP560+AS560+AV560+AY560+BB560+BE560","v":0},0,0,0,0,{"$error":"#DIV/0!"}]
[514,null,null,null,null,null,null,null,null,null,null,null,null,null,null,null,null,null,null,null,null,null,null,null,null,null,null,null,null,null,null,null,null,null,null,null,null,null,null,null,null,null,null,null,null,null,null,null,null,null,null,null,null,null,null,null,null,null,null,null,null,null,null,null,0,{"$f":"+BI561+AK561+AH561+AE561+AB561+Y561+V561+S561+P561+M561+J561+G561+D561+AN561+AQ561+AT561+AW561+AZ561+BC561+BF561","v":0},{"$f":"+BJ561+AL561+AI561+AF561+AC561+Z561+W561+T561+Q561+N561+K561+H561+E561+AO561+AR561+AU561+AX561+BA561+BD561+BG561","v":0},0,0,{"$error":"#DIV/0!"}]
[515,null,null,null,null,null,null,null,null,null,null,null,null,null,null,null,null,null,null,null,null,null,null,null,null,null,null,null,null,null,null,null,null,null,null,null,null,null,null,null,null,null,null,null,null,null,null,null,null,null,null,null,null,null,null,null,null,null,null,null,null,null,null,null,0,0,0,0,0,{"$error":"#DIV/0!"}]
[516,null,null,null,null,null,null,null,null,null,null,null,null,null,null,null,null,null,null,null,null,null,null,null,null,null,null,null,null,null,null,null,null,null,null,null,null,null,null,null,null,null,null,null,null,null,null,null,null,null,null,null,null,null,null,null,null,null,null,null,null,null,null,null,0,0,0,0,0,{"$error":"#DIV/0!"}]
[517,null,null,null,null,null,null,null,null,null,null,null,null,null,null,null,null,null,null,null,null,null,null,null,null,null,null,null,null,null,null,null,null,null,null,null,null,null,null,null,null,null,null,null,null,null,null,null,null,null,null,null,null,null,null,null,null,null,null,null,null,null,null,null,0,0,0,0,0,{"$error":"#DIV/0!"}]
[518,null,null,null,null,null,null,null,null,null,null,null,null,null,null,null,null,null,null,null,null,null,null,null,null,null,null,null,null,null,null,null,null,null,null,null,null,null,null,null,null,null,null,null,null,null,null,null,null,null,null,null,null,null,null,null,null,null,null,null,null,null,null,null,0,0,0,0,0,{"$error":"#DIV/0!"}]
[519,null,null,null,null,null,null,null,null,null,null,null,null,null,null,null,null,null,null,null,null,null,null,null,null,null,null,null,null,null,null,null,null,null,null,null,null,null,null,null,null,null,null,null,null,null,null,null,null,null,null,null,null,null,null,null,null,null,null,null,null,null,null,null,0,0,0,0,0,{"$error":"#DIV/0!"}]
[520,null,null,null,null,null,null,null,null,null,null,null,null,null,null,null,null,null,null,null,null,null,null,null,null,null,null,null,null,null,null,null,null,null,null,null,null,null,null,null,null,null,null,null,null,null,null,null,null,null,null,null,null,null,null,null,null,null,null,null,null,null,null,null,0,0,0,0,0,{"$error":"#DIV/0!"}]
[521,null,null,null,null,null,null,null,null,null,null,null,null,null,null,null,null,null,null,null,null,null,null,null,null,null,null,null,null,null,null,null,null,null,null,null,null,null,null,null,null,null,null,null,null,null,null,null,null,null,null,null,null,null,null,null,null,null,null,null,null,null,null,null,0,0,0,{"$f":"+BN568-BO568","v":0},{"$f":"COUNT(C568:BJ568)/3","v":0},{"$f":"+BM568/BQ568","v":{"$error":"#DIV/0!"}}]
[522,null,null,null,null,null,null,null,null,null,null,null,null,null,null,null,null,null,null,null,null,null,null,null,null,null,null,null,null,null,null,null,null,null,null,null,null,null,null,null,null,null,null,null,null,null,null,null,null,null,null,null,null,null,null,null,null,null,null,null,null,null,null,null,0,0,0,0,0,{"$error":"#DIV/0!"}]
[523,null,null,null,null,null,null,null,null,null,null,null,null,null,null,null,null,null,null,null,null,null,null,null,null,null,null,null,null,null,null,null,null,null,null,null,null,null,null,null,null,null,null,null,null,null,null,null,null,null,null,null,null,null,null,null,null,null,null,null,null,null,null,null,0,0,0,0,0,{"$error":"#DIV/0!"}]
[{"$f":"+A570+1","v":524},null,null,null,null,null,null,null,null,null,null,null,null,null,null,null,null,null,null,null,null,null,null,null,null,null,null,null,null,null,null,null,null,null,null,null,null,null,null,null,null,null,null,null,null,null,null,null,null,null,null,null,null,null,null,null,null,null,null,null,null,null,null,null,0,0,0,0,0,{"$error":"#DIV/0!"}]
[525,null,null,null,null,null,null,null,null,null,null,null,null,null,null,null,null,null,null,null,null,null,null,null,null,null,null,null,null,null,null,null,null,null,null,null,null,null,null,null,null,null,null,null,null,null,null,null,null,null,null,null,null,null,null,null,null,null,null,null,null,null,null,null,0,0,0,0,0,{"$error":"#DIV/0!"}]
[526,null,null,null,null,null,null,null,null,null,null,null,null,null,null,null,null,null,null,null,null,null,null,null,null,null,null,null,null,null,null,null,null,null,null,null,null,null,null,null,null,null,null,null,null,null,null,null,null,null,null,null,null,null,null,null,null,null,null,null,null,null,null,null,0,0,0,0,0,{"$error":"#DIV/0!"}]
[527,null,null,null,null,null,null,null,null,null,null,null,null,null,null,null,null,null,null,null,null,null,null,null,null,null,null,null,null,null,null,null,null,null,null,null,null,null,null,null,null,null,null,null,null,null,null,null,null,null,null,null,null,null,null,null,null,null,null,null,null,null,null,null,0,0,0,0,0,{"$error":"#DIV/0!"}]
[528,null,null,null,null,null,null,null,null,null,null,null,null,null,null,null,null,null,null,null,null,null,null,null,null,null,null,null,null,null,null,null,null,null,null,null,null,null,null,null,null,null,null,null,null,null,null,null,null,null,null,null,null,null,null,null,null,null,null,null,null,null,null,null,0,0,0,0,0,{"$error":"#DIV/0!"}]
[529,null,null,null,null,null,null,null,null,null,null,null,null,null,null,null,null,null,null,null,null,null,null,null,null,null,null,null,null,null,null,null,null,null,null,null,null,null,null,null,null,null,null,null,null,null,null,null,null,null,null,null,null,null,null,null,null,null,null,null,null,null,null,null,0,0,0,0,0,{"$error":"#DIV/0!"}]
[530,null,null,null,null,null,null,null,null,null,null,null,null,null,null,null,null,null,null,null,null,null,null,null,null,null,null,null,null,null,null,null,null,null,null,null,null,null,null,null,null,null,null,null,null,null,null,null,null,null,null,null,null,null,null,null,null,null,null,null,null,null,null,null,0,0,0,0,0,{"$error":"#DIV/0!"}]
[531,null,null,null,null,null,null,null,null,null,null,null,null,null,null,null,null,null,null,null,null,null,null,null,null,null,null,null,null,null,null,null,null,null,null,null,null,null,null,null,null,null,null,null,null,null,null,null,null,null,null,null,null,null,null,null,null,null,null,null,null,null,null,null,0,0,0,0,0,{"$error":"#DIV/0!"}]
[532,null,null,null,null,null,null,null,null,null,null,null,null,null,null,null,null,null,null,null,null,null,null,null,null,null,null,null,null,null,null,null,null,null,null,null,null,null,null,null,null,null,null,null,null,null,null,null,null,null,null,null,null,null,null,null,null,null,null,null,null,null,null,null,0,0,0,0,0,{"$error":"#DIV/0!"}]
[533,null,null,null,null,null,null,null,null,null,null,null,null,null,null,null,null,null,null,null,null,null,null,null,null,null,null,null,null,null,null,null,null,null,null,null,null,null,null,null,null,null,null,null,null,null,null,null,null,null,null,null,null,null,null,null,null,null,null,null,null,null,null,null,0,0,0,0,0,{"$error":"#DIV/0!"}]
[534,null,null,null,null,null,null,null,null,null,null,null,null,null,null,null,null,null,null,null,null,null,null,null,null,null,null,null,null,null,null,null,null,null,null,null,null,null,null,null,null,null,null,null,null,null,null,null,null,null,null,null,null,null,null,null,null,null,null,null,null,null,null,null,0,0,0,0,0,{"$error":"#DIV/0!"}]
[535,null,null,null,null,null,null,null,null,null,null,null,null,null,null,null,null,null,null,null,null,null,null,null,null,null,null,null,null,null,null,null,null,null,null,null,null,null,null,null,null,null,null,null,null,null,null,null,null,null,null,null,null,null,null,null,null,null,null,null,null,null,null,null,0,0,0,0,0,{"$error":"#DIV/0!"}]
[536,null,null,null,null,null,null,null,null,null,null,null,null,null,null,null,null,null,null,null,null,null,null,null,null,null,null,null,null,null,null,null,null,null,null,null,null,null,null,null,null,null,null,null,null,null,null,null,null,null,null,null,null,null,null,null,null,null,null,null,null,null,null,null,0,0,0,0,0,{"$error":"#DIV/0!"}]
[537,null,null,null,null,null,null,null,null,null,null,null,null,null,null,null,null,null,null,null,null,null,null,null,null,null,null,null,null,null,null,null,null,null,null,null,null,null,null,null,null,null,null,null,null,null,null,null,null,null,null,null,null,null,null,null,null,null,null,null,null,null,null,null,0,0,0,0,0,{"$error":"#DIV/0!"}]
[538,null,null,null,null,null,null,null,null,null,null,null,null,null,null,null,null,null,null,null,null,null,null,null,null,null,null,null,null,null,null,null,null,null,null,null,null,null,null,null,null,null,null,null,null,null,null,null,null,null,null,null,null,null,null,null,null,null,null,null,null,null,null,null,0,0,0,0,0,{"$error":"#DIV/0!"}]
[539,null,null,null,null,null,null,null,null,null,null,null,null,null,null,null,null,null,null,null,null,null,null,null,null,null,null,null,null,null,null,null,null,null,null,null,null,null,null,null,null,null,null,null,null,null,null,null,null,null,null,null,null,null,null,null,null,null,null,null,null,null,null,null,0,0,0,0,0,{"$error":"#DIV/0!"}]
[540,null,null,null,null,null,null,null,null,null,null,null,null,null,null,null,null,null,null,null,null,null,null,null,null,null,null,null,null,null,null,null,null,null,null,null,null,null,null,null,null,null,null,null,null,null,null,null,null,null,null,null,null,null,null,null,null,null,null,null,null,null,null,null,0,0,0,0,0,{"$error":"#DIV/0!"}]
[541,null,null,null,null,null,null,null,null,null,null,null,null,null,null,null,null,null,null,null,null,null,null,null,null,null,null,null,null,null,null,null,null,null,null,null,null,null,null,null,null,null,null,null,null,null,null,null,null,null,null,null,null,null,null,null,null,null,null,null,null,null,null,null,0,0,0,0,0,{"$error":"#DIV/0!"}]
[542,null,null,null,null,null,null,null,null,null,null,null,null,null,null,null,null,null,null,null,null,null,null,null,null,null,null,null,null,null,null,null,null,null,null,null,null,null,null,null,null,null,null,null,null,null,null,null,null,null,null,null,null,null,null,null,null,null,null,null,null,null,null,null,0,0,0,0,0,{"$error":"#DIV/0!"}]
[543,null,null,null,null,null,null,null,null,null,null,null,null,null,null,null,null,null,null,null,null,null,null,null,null,null,null,null,null,null,null,null,null,null,null,null,null,null,null,null,null,null,null,null,null,null,null,null,null,null,null,null,null,null,null,null,null,null,null,null,null,null,null,null,0,0,0,0,0,{"$error":"#DIV/0!"}]
[544,null,null,null,null,null,null,null,null,null,null,null,null,null,null,null,null,null,null,null,null,null,null,null,null,null,null,null,null,null,null,null,null,null,null,null,null,null,null,null,null,null,null,null,null,null,null,null,null,null,null,null,null,null,null,null,null,null,null,null,null,null,null,null,0,0,0,0,0,{"$error":"#DIV/0!"}]
[545,null,null,null,null,null,null,null,null,null,null,null,null,null,null,null,null,null,null,null,null,null,null,null,null,null,null,null,null,null,null,null,null,null,null,null,null,null,null,null,null,null,null,null,null,null,null,null,null,null,null,null,null,null,null,null,null,null,null,null,null,null,null,null,0,0,0,0,0,{"$error":"#DIV/0!"}]
[546,null,null,null,null,null,null,null,null,null,null,null,null,null,null,null,null,null,null,null,null,null,null,null,null,null,null,null,null,null,null,null,null,null,null,null,null,null,null,null,null,null,null,null,null,null,null,null,null,null,null,null,null,null,null,null,null,null,null,null,null,null,null,null,0,0,0,0,0,{"$error":"#DIV/0!"}]
[547,null,null,null,null,null,null,null,null,null,null,null,null,null,null,null,null,null,null,null,null,null,null,null,null,null,null,null,null,null,null,null,null,null,null,null,null,null,null,null,null,null,null,null,null,null,null,null,null,null,null,null,null,null,null,null,null,null,null,null,null,null,null,null,0,0,0,0,0,{"$error":"#DIV/0!"}]
[548,null,null,null,null,null,null,null,null,null,null,null,null,null,null,null,null,null,null,null,null,null,null,null,null,null,null,null,null,null,null,null,null,null,null,null,null,null,null,null,null,null,null,null,null,null,null,null,null,null,null,null,null,null,null,null,null,null,null,null,null,null,null,null,0,0,0,0,0,{"$error":"#DIV/0!"}]
[549,null,null,null,null,null,null,null,null,null,null,null,null,null,null,null,null,null,null,null,null,null,null,null,null,null,null,null,null,null,null,null,null,null,null,null,null,null,null,null,null,null,null,null,null,null,null,null,null,null,null,null,null,null,null,null,null,null,null,null,null,null,null,null,0,0,0,0,0,{"$error":"#DIV/0!"}]
[550,null,null,null,null,null,null,null,null,null,null,null,null,null,null,null,null,null,null,null,null,null,null,null,null,null,null,null,null,null,null,null,null,null,null,null,null,null,null,null,null,null,null,null,null,null,null,null,null,null,null,null,null,null,null,null,null,null,null,null,null,null,null,null,0,0,0,0,0,{"$error":"#DIV/0!"}]
[551,null,null,null,null,null,null,null,null,null,null,null,null,null,null,null,null,null,null,null,null,null,null,null,null,null,null,null,null,null,null,null,null,null,null,null,null,null,null,null,null,null,null,null,null,null,null,null,null,null,null,null,null,null,null,null,null,null,null,null,null,null,null,null,0,0,0,0,0,{"$error":"#DIV/0!"}]
[552,null,null,null,null,null,null,null,null,null,null,null,null,null,null,null,null,null,null,null,null,null,null,null,null,null,null,null,null,null,null,null,null,null,null,null,null,null,null,null,null,null,null,null,null,null,null,null,null,null,null,null,null,null,null,null,null,null,null,null,null,null,null,null,0,0,0,0,0,{"$error":"#DIV/0!"}]
[553,null,null,null,null,null,null,null,null,null,null,null,null,null,null,null,null,null,null,null,null,null,null,null,null,null,null,null,null,null,null,null,null,null,null,null,null,null,null,null,null,null,null,null,null,null,null,null,null,null,null,null,null,null,null,null,null,null,null,null,null,null,null,null,0,0,0,0,0,{"$error":"#DIV/0!"}]
[554,null,null,null,null,null,null,null,null,null,null,null,null,null,null,null,null,null,null,null,null,null,null,null,null,null,null,null,null,null,null,null,null,null,null,null,null,null,null,null,null,null,null,null,null,null,null,null,null,null,null,null,null,null,null,null,null,null,null,null,null,null,null,null,0,0,0,0,0,{"$error":"#DIV/0!"}]
[555,null,null,null,null,null,null,null,null,null,null,null,null,null,null,null,null,null,null,null,null,null,null,null,null,null,null,null,null,null,null,null,null,null,null,null,null,null,null,null,null,null,null,null,null,null,null,null,null,null,null,null,null,null,null,null,null,null,null,null,null,null,null,null,0,0,0,0,0,{"$error":"#DIV/0!"}]
[556,null,null,null,null,null,null,null,null,null,null,null,null,null,null,null,null,null,null,null,null,null,null,null,null,null,null,null,null,null,null,null,null,null,null,null,null,null,null,null,null,null,null,null,null,null,null,null,null,null,null,null,null,null,null,null,null,null,null,null,null,null,null,null,0,0,0,{"$f":"+BN603-BO603","v":0},{"$f":"COUNT(C603:BJ603)/3","v":0},{"$f":"+BM603/BQ603","v":{"$error":"#DIV/0!"}}]
[557,null,null,null,null,null,null,null,null,null,null,null,null,null,null,null,null,null,null,null,null,null,null,null,null,null,null,null,null,null,null,null,null,null,null,null,null,null,null,null,null,null,null,null,null,null,null,null,null,null,null,null,null,null,null,null,null,null,null,null,null,null,null,null,0,0,0,0,0,{"$error":"#DIV/0!"}]
[558,null,null,null,null,null,null,null,null,null,null,null,null,null,null,null,null,null,null,null,null,null,null,null,null,null,null,null,null,null,null,null,null,null,null,null,null,null,null,null,null,null,null,null,null,null,null,null,null,null,null,null,null,null,null,null,null,null,null,null,null,null,null,null,0,0,0,0,0,{"$error":"#DIV/0!"}]
[559,null,null,null,null,null,null,null,null,null,null,null,null,null,null,null,null,null,null,null,null,null,null,null,null,null,null,null,null,null,null,null,null,null,null,null,null,null,null,null,null,null,null,null,null,null,null,null,null,null,null,null,null,null,null,null,null,null,null,null,null,null,null,null,0,0,0,0,0,{"$error":"#DIV/0!"}]
[560,null,null,null,null,null,null,null,null,null,null,null,null,null,null,null,null,null,null,null,null,null,null,null,null,null,null,null,null,null,null,null,null,null,null,null,null,null,null,null,null,null,null,null,null,null,null,null,null,null,null,null,null,null,null,null,null,null,null,null,null,null,null,null,0,0,0,0,0,{"$error":"#DIV/0!"}]
[561,null,null,null,null,null,null,null,null,null,null,null,null,null,null,null,null,null,null,null,null,null,null,null,null,null,null,null,null,null,null,null,null,null,null,null,null,null,null,null,null,null,null,null,null,null,null,null,null,null,null,null,null,null,null,null,null,null,null,null,null,null,null,null,0,0,0,0,0,{"$error":"#DIV/0!"}]
[562,null,null,null,null,null,null,null,null,null,null,null,null,null,null,null,null,null,null,null,null,null,null,null,null,null,null,null,null,null,null,null,null,null,null,null,null,null,null,null,null,null,null,null,null,null,null,null,null,null,null,null,null,null,null,null,null,null,null,null,null,null,null,null,0,0,0,0,0,{"$error":"#DIV/0!"}]
[563,null,null,null,null,null,null,null,null,null,null,null,null,null,null,null,null,null,null,null,null,null,null,null,null,null,null,null,null,null,null,null,null,null,null,null,null,null,null,null,null,null,null,null,null,null,null,null,null,null,null,null,null,null,null,null,null,null,null,null,null,null,null,null,0,0,0,0,0,{"$error":"#DIV/0!"}]
[564,null,null,null,null,null,null,null,null,null,null,null,null,null,null,null,null,null,null,null,null,null,null,null,null,null,null,null,null,null,null,null,null,null,null,null,null,null,null,null,null,null,null,null,null,null,null,null,null,null,null,null,null,null,null,null,null,null,null,null,null,null,null,null,0,0,0,0,0,{"$error":"#DIV/0!"}]
[565,null,null,null,null,null,null,null,null,null,null,null,null,null,null,null,null,null,null,null,null,null,null,null,null,null,null,null,null,null,null,null,null,null,null,null,null,null,null,null,null,null,null,null,null,null,null,null,null,null,null,null,null,null,null,null,null,null,null,null,null,null,null,null,0,0,0,0,0,{"$error":"#DIV/0!"}]
[566,null,null,null,null,null,null,null,null,null,null,null,null,null,null,null,null,null,null,null,null,null,null,null,null,null,null,null,null,null,null,null,null,null,null,null,null,null,null,null,null,null,null,null,null,null,null,null,null,null,null,null,null,null,null,null,null,null,null,null,null,null,null,null,0,0,0,0,0,{"$error":"#DIV/0!"}]
[567,null,null,null,null,null,null,null,null,null,null,null,null,null,null,null,null,null,null,null,null,null,null,null,null,null,null,null,null,null,null,null,null,null,null,null,null,null,null,null,null,null,null,null,null,null,null,null,null,null,null,null,null,null,null,null,null,null,null,null,null,null,null,null,0,0,0,0,0,{"$error":"#DIV/0!"}]
[568,null,null,null,null,null,null,null,null,null,null,null,null,null,null,null,null,null,null,null,null,null,null,null,null,null,null,null,null,null,null,null,null,null,null,null,null,null,null,null,null,null,null,null,null,null,null,null,null,null,null,null,null,null,null,null,null,null,null,null,null,null,null,null,0,0,0,0,0,{"$error":"#DIV/0!"}]
[569,null,null,null,null,null,null,null,null,null,null,null,null,null,null,null,null,null,null,null,null,null,null,null,null,null,null,null,null,null,null,null,null,null,null,null,null,null,null,null,null,null,null,null,null,null,null,null,null,null,null,null,null,null,null,null,null,null,null,null,null,null,null,null,0,0,0,0,0,{"$error":"#DIV/0!"}]
[570,null,null,null,null,null,null,null,null,null,null,null,null,null,null,null,null,null,null,null,null,null,null,null,null,null,null,null,null,null,null,null,null,null,null,null,null,null,null,null,null,null,null,null,null,null,null,null,null,null,null,null,null,null,null,null,null,null,null,null,null,null,null,null,0,0,0,0,0,{"$error":"#DIV/0!"}]
[571,null,null,null,null,null,null,null,null,null,null,null,null,null,null,null,null,null,null,null,null,null,null,null,null,null,null,null,null,null,null,null,null,null,null,null,null,null,null,null,null,null,null,null,null,null,null,null,null,null,null,null,null,null,null,null,null,null,null,null,null,null,null,null,0,0,0,0,0,{"$error":"#DIV/0!"}]
[572,null,null,null,null,null,null,null,null,null,null,null,null,null,null,null,null,null,null,null,null,null,null,null,null,null,null,null,null,null,null,null,null,null,null,null,null,null,null,null,null,null,null,null,null,null,null,null,null,null,null,null,null,null,null,null,null,null,null,null,null,null,null,null,0,0,0,0,0,{"$error":"#DIV/0!"}]
[573,null,null,null,null,null,null,null,null,null,null,null,null,null,null,null,null,null,null,null,null,null,null,null,null,null,null,null,null,null,null,null,null,null,null,null,null,null,null,null,null,null,null,null,null,null,null,null,null,null,null,null,null,null,null,null,null,null,null,null,null,null,null,null,0,0,0,0,0,{"$error":"#DIV/0!"}]
[574,null,null,null,null,null,null,null,null,null,null,null,null,null,null,null,null,null,null,null,null,null,null,null,null,null,null,null,null,null,null,null,null,null,null,null,null,null,null,null,null,null,null,null,null,null,null,null,null,null,null,null,null,null,null,null,null,null,null,null,null,null,null,null,0,0,0,0,0,{"$error":"#DIV/0!"}]
[575,null,null,null,null,null,null,null,null,null,null,null,null,null,null,null,null,null,null,null,null,null,null,null,null,null,null,null,null,null,null,null,null,null,null,null,null,null,null,null,null,null,null,null,null,null,null,null,null,null,null,null,null,null,null,null,null,null,null,null,null,null,null,null,0,0,0,0,0,{"$error":"#DIV/0!"}]
[576,null,null,null,null,null,null,null,null,null,null,null,null,null,null,null,null,null,null,null,null,null,null,null,null,null,null,null,null,null,null,null,null,null,null,null,null,null,null,null,null,null,null,null,null,null,null,null,null,null,null,null,null,null,null,null,null,null,null,null,null,null,null,null,0,0,0,0,0,{"$error":"#DIV/0!"}]
[577,null,null,null,null,null,null,null,null,null,null,null,null,null,null,null,null,null,null,null,null,null,null,null,null,null,null,null,null,null,null,null,null,null,null,null,null,null,null,null,null,null,null,null,null,null,null,null,null,null,null,null,null,null,null,null,null,null,null,null,null,null,null,null,{"$f":"+BH624+AJ624+AG624+AD624+AA624+X624+U624+R624+O624+L624+I624+F624+C624+AM624+AP624+AS624+AV624+AY624+BB624+BE624","v":0},0,0,0,0,{"$error":"#DIV/0!"}]
[578,null,null,null,null,null,null,null,null,null,null,null,null,null,null,null,null,null,null,null,null,null,null,null,null,null,null,null,null,null,null,null,null,null,null,null,null,null,null,null,null,null,null,null,null,null,null,null,null,null,null,null,null,null,null,null,null,null,null,null,null,null,null,null,0,{"$f":"+BI625+AK625+AH625+AE625+AB625+Y625+V625+S625+P625+M625+J625+G625+D625+AN625+AQ625+AT625+AW625+AZ625+BC625+BF625","v":0},{"$f":"+BJ625+AL625+AI625+AF625+AC625+Z625+W625+T625+Q625+N625+K625+H625+E625+AO625+AR625+AU625+AX625+BA625+BD625+BG625","v":0},0,0,{"$error":"#DIV/0!"}]
[579,null,null,null,null,null,null,null,null,null,null,null,null,null,null,null,null,null,null,null,null,null,null,null,null,null,null,null,null,null,null,null,null,null,null,null,null,null,null,null,null,null,null,null,null,null,null,null,null,null,null,null,null,null,null,null,null,null,null,null,null,null,null,null,0,0,0,0,0,{"$error":"#DIV/0!"}]
[580,null,null,null,null,null,null,null,null,null,null,null,null,null,null,null,null,null,null,null,null,null,null,null,null,null,null,null,null,null,null,null,null,null,null,null,null,null,null,null,null,null,null,null,null,null,null,null,null,null,null,null,null,null,null,null,null,null,null,null,null,null,null,null,0,0,0,0,0,{"$error":"#DIV/0!"}]
[581,null,null,null,null,null,null,null,null,null,null,null,null,null,null,null,null,null,null,null,null,null,null,null,null,null,null,null,null,null,null,null,null,null,null,null,null,null,null,null,null,null,null,null,null,null,null,null,null,null,null,null,null,null,null,null,null,null,null,null,null,null,null,null,0,0,0,0,0,{"$error":"#DIV/0!"}]
[582,null,null,null,null,null,null,null,null,null,null,null,null,null,null,null,null,null,null,null,null,null,null,null,null,null,null,null,null,null,null,null,null,null,null,null,null,null,null,null,null,null,null,null,null,null,null,null,null,null,null,null,null,null,null,null,null,null,null,null,null,null,null,null,0,0,0,0,0,{"$error":"#DIV/0!"}]
[583,null,null,null,null,null,null,null,null,null,null,null,null,null,null,null,null,null,null,null,null,null,null,null,null,null,null,null,null,null,null,null,null,null,null,null,null,null,null,null,null,null,null,null,null,null,null,null,null,null,null,null,null,null,null,null,null,null,null,null,null,null,null,null,0,0,0,0,0,{"$error":"#DIV/0!"}]
[584,null,null,null,null,null,null,null,null,null,null,null,null,null,null,null,null,null,null,null,null,null,null,null,null,null,null,null,null,null,null,null,null,null,null,null,null,null,null,null,null,null,null,null,null,null,null,null,null,null,null,null,null,null,null,null,null,null,null,null,null,null,null,null,0,0,0,0,0,{"$error":"#DIV/0!"}]
[585,null,null,null,null,null,null,null,null,null,null,null,null,null,null,null,null,null,null,null,null,null,null,null,null,null,null,null,null,null,null,null,null,null,null,null,null,null,null,null,null,null,null,null,null,null,null,null,null,null,null,null,null,null,null,null,null,null,null,null,null,null,null,null,0,0,0,0,0,{"$error":"#DIV/0!"}]
[586,null,null,null,null,null,null,null,null,null,null,null,null,null,null,null,null,null,null,null,null,null,null,null,null,null,null,null,null,null,null,null,null,null,null,null,null,null,null,null,null,null,null,null,null,null,null,null,null,null,null,null,null,null,null,null,null,null,null,null,null,null,null,null,0,0,0,0,0,{"$error":"#DIV/0!"}]
[587,null,null,null,null,null,null,null,null,null,null,null,null,null,null,null,null,null,null,null,null,null,null,null,null,null,null,null,null,null,null,null,null,null,null,null,null,null,null,null,null,null,null,null,null,null,null,null,null,null,null,null,null,null,null,null,null,null,null,null,null,null,null,null,0,0,0,0,0,{"$error":"#DIV/0!"}]
[{"$f":"+A634+1","v":588},null,null,null,null,null,null,null,null,null,null,null,null,null,null,null,null,null,null,null,null,null,null,null,null,null,null,null,null,null,null,null,null,null,null,null,null,null,null,null,null,null,null,null,null,null,null,null,null,null,null,null,null,null,null,null,null,null,null,null,null,null,null,null,0,0,0,0,0,{"$error":"#DIV/0!"}]
[589,null,null,null,null,null,null,null,null,null,null,null,null,null,null,null,null,null,null,null,null,null,null,null,null,null,null,null,null,null,null,null,null,null,null,null,null,null,null,null,null,null,null,null,null,null,null,null,null,null,null,null,null,null,null,null,null,null,null,null,null,null,null,null,0,0,0,0,0,{"$error":"#DIV/0!"}]
[590,null,null,null,null,null,null,null,null,null,null,null,null,null,null,null,null,null,null,null,null,null,null,null,null,null,null,null,null,null,null,null,null,null,null,null,null,null,null,null,null,null,null,null,null,null,null,null,null,null,null,null,null,null,null,null,null,null,null,null,null,null,null,null,0,0,0,0,0,{"$error":"#DIV/0!"}]
[591,null,null,null,null,null,null,null,null,null,null,null,null,null,null,null,null,null,null,null,null,null,null,null,null,null,null,null,null,null,null,null,null,null,null,null,null,null,null,null,null,null,null,null,null,null,null,null,null,null,null,null,null,null,null,null,null,null,null,null,null,null,null,null,0,0,0,0,0,{"$error":"#DIV/0!"}]
[592,null,null,null,null,null,null,null,null,null,null,null,null,null,null,null,null,null,null,null,null,null,null,null,null,null,null,null,null,null,null,null,null,null,null,null,null,null,null,null,null,null,null,null,null,null,null,null,null,null,null,null,null,null,null,null,null,null,null,null,null,null,null,null,0,0,0,0,0,{"$error":"#DIV/0!"}]
[593,null,null,null,null,null,null,null,null,null,null,null,null,null,null,null,null,null,null,null,null,null,null,null,null,null,null,null,null,null,null,null,null,null,null,null,null,null,null,null,null,null,null,null,null,null,null,null,null,null,null,null,null,null,null,null,null,null,null,null,null,null,null,null,0,0,0,0,0,{"$error":"#DIV/0!"}]
[594,null,null,null,null,null,null,null,null,null,null,null,null,null,null,null,null,null,null,null,null,null,null,null,null,null,null,null,null,null,null,null,null,null,null,null,null,null,null,null,null,null,null,null,null,null,null,null,null,null,null,null,null,null,null,null,null,null,null,null,null,null,null,null,0,0,0,0,0,{"$error":"#DIV/0!"}]
[595,null,null,null,null,null,null,null,null,null,null,null,null,null,null,null,null,null,null,null,null,null,null,null,null,null,null,null,null,null,null,null,null,null,null,null,null,null,null,null,null,null,null,null,null,null,null,null,null,null,null,null,null,null,null,null,null,null,null,null,null,null,null,null,0,0,0,0,0,{"$error":"#DIV/0!"}]
[596,null,null,null,null,null,null,null,null,null,null,null,null,null,null,null,null,null,null,null,null,null,null,null,null,null,null,null,null,null,null,null,null,null,null,null,null,null,null,null,null,null,null,null,null,null,null,null,null,null,null,null,null,null,null,null,null,null,null,null,null,null,null,null,0,0,0,0,0,{"$error":"#DIV/0!"}]
[597,null,null,null,null,null,null,null,null,null,null,null,null,null,null,null,null,null,null,null,null,null,null,null,null,null,null,null,null,null,null,null,null,null,null,null,null,null,null,null,null,null,null,null,null,null,null,null,null,null,null,null,null,null,null,null,null,null,null,null,null,null,null,null,0,0,0,0,0,{"$error":"#DIV/0!"}]
[598,null,null,null,null,null,null,null,null,null,null,null,null,null,null,null,null,null,null,null,null,null,null,null,null,null,null,null,null,null,null,null,null,null,null,null,null,null,null,null,null,null,null,null,null,null,null,null,null,null,null,null,null,null,null,null,null,null,null,null,null,null,null,null,0,0,0,0,0,{"$error":"#DIV/0!"}]
[599,null,null,null,null,null,null,null,null,null,null,null,null,null,null,null,null,null,null,null,null,null,null,null,null,null,null,null,null,null,null,null,null,null,null,null,null,null,null,null,null,null,null,null,null,null,null,null,null,null,null,null,null,null,null,null,null,null,null,null,null,null,null,null,0,0,0,0,0,{"$error":"#DIV/0!"}]
[600,null,null,null,null,null,null,null,null,null,null,null,null,null,null,null,null,null,null,null,null,null,null,null,null,null,null,null,null,null,null,null,null,null,null,null,null,null,null,null,null,null,null,null,null,null,null,null,null,null,null,null,null,null,null,null,null,null,null,null,null,null,null,null,0,0,0,0,0,{"$error":"#DIV/0!"}]
[601,null,null,null,null,null,null,null,null,null,null,null,null,null,null,null,null,null,null,null,null,null,null,null,null,null,null,null,null,null,null,null,null,null,null,null,null,null,null,null,null,null,null,null,null,null,null,null,null,null,null,null,null,null,null,null,null,null,null,null,null,null,null,null,0,0,0,0,0,{"$error":"#DIV/0!"}]
[602,null,null,null,null,null,null,null,null,null,null,null,null,null,null,null,null,null,null,null,null,null,null,null,null,null,null,null,null,null,null,null,null,null,null,null,null,null,null,null,null,null,null,null,null,null,null,null,null,null,null,null,null,null,null,null,null,null,null,null,null,null,null,null,0,0,0,0,0,{"$error":"#DIV/0!"}]
[603,null,null,null,null,null,null,null,null,null,null,null,null,null,null,null,null,null,null,null,null,null,null,null,null,null,null,null,null,null,null,null,null,null,null,null,null,null,null,null,null,null,null,null,null,null,null,null,null,null,null,null,null,null,null,null,null,null,null,null,null,null,null,null,0,0,0,0,0,{"$error":"#DIV/0!"}]
[604,null,null,null,null,null,null,null,null,null,null,null,null,null,null,null,null,null,null,null,null,null,null,null,null,null,null,null,null,null,null,null,null,null,null,null,null,null,null,null,null,null,null,null,null,null,null,null,null,null,null,null,null,null,null,null,null,null,null,null,null,null,null,null,0,0,0,0,0,{"$error":"#DIV/0!"}]
[605,null,null,null,null,null,null,null,null,null,null,null,null,null,null,null,null,null,null,null,null,null,null,null,null,null,null,null,null,null,null,null,null,null,null,null,null,null,null,null,null,null,null,null,null,null,null,null,null,null,null,null,null,null,null,null,null,null,null,null,null,null,null,null,0,0,0,0,0,{"$error":"#DIV/0!"}]
[606,null,null,null,null,null,null,null,null,null,null,null,null,null,null,null,null,null,null,null,null,null,null,null,null,null,null,null,null,null,null,null,null,null,null,null,null,null,null,null,null,null,null,null,null,null,null,null,null,null,null,null,null,null,null,null,null,null,null,null,null,null,null,null,0,0,0,0,0,{"$error":"#DIV/0!"}]
[607,null,null,null,null,null,null,null,null,null,null,null,null,null,null,null,null,null,null,null,null,null,null,null,null,null,null,null,null,null,null,null,null,null,null,null,null,null,null,null,null,null,null,null,null,null,null,null,null,null,null,null,null,null,null,null,null,null,null,null,null,null,null,null,0,0,0,0,0,{"$error":"#DIV/0!"}]
[608,null,null,null,null,null,null,null,null,null,null,null,null,null,null,null,null,null,null,null,null,null,null,null,null,null,null,null,null,null,null,null,null,null,null,null,null,null,null,null,null,null,null,null,null,null,null,null,null,null,null,null,null,null,null,null,null,null,null,null,null,null,null,null,0,0,0,0,0,{"$error":"#DIV/0!"}]
[609,null,null,null,null,null,null,null,null,null,null,null,null,null,null,null,null,null,null,null,null,null,null,null,null,null,null,null,null,null,null,null,null,null,null,null,null,null,null,null,null,null,null,null,null,null,null,null,null,null,null,null,null,null,null,null,null,null,null,null,null,null,null,null,0,0,0,0,0,{"$error":"#DIV/0!"}]
[610,null,null,null,null,null,null,null,null,null,null,null,null,null,null,null,null,null,null,null,null,null,null,null,null,null,null,null,null,null,null,null,null,null,null,null,null,null,null,null,null,null,null,null,null,null,null,null,null,null,null,null,null,null,null,null,null,null,null,null,null,null,null,null,0,0,0,0,0,{"$error":"#DIV/0!"}]
[611,null,null,null,null,null,null,null,null,null,null,null,null,null,null,null,null,null,null,null,null,null,null,null,null,null,null,null,null,null,null,null,null,null,null,null,null,null,null,null,null,null,null,null,null,null,null,null,null,null,null,null,null,null,null,null,null,null,null,null,null,null,null,null,0,0,0,0,0,{"$error":"#DIV/0!"}]
[612,null,null,null,null,null,null,null,null,null,null,null,null,null,null,null,null,null,null,null,null,null,null,null,null,null,null,null,null,null,null,null,null,null,null,null,null,null,null,null,null,null,null,null,null,null,null,null,null,null,null,null,null,null,null,null,null,null,null,null,null,null,null,null,0,0,0,0,0,{"$error":"#DIV/0!"}]
[613,null,null,null,null,null,null,null,null,null,null,null,null,null,null,null,null,null,null,null,null,null,null,null,null,null,null,null,null,null,null,null,null,null,null,null,null,null,null,null,null,null,null,null,null,null,null,null,null,null,null,null,null,null,null,null,null,null,null,null,null,null,null,null,0,0,0,0,0,{"$error":"#DIV/0!"}]
[614,null,null,null,null,null,null,null,null,null,null,null,null,null,null,null,null,null,null,null,null,null,null,null,null,null,null,null,null,null,null,null,null,null,null,null,null,null,null,null,null,null,null,null,null,null,null,null,null,null,null,null,null,null,null,null,null,null,null,null,null,null,null,null,0,0,0,0,0,{"$error":"#DIV/0!"}]
[615,null,null,null,null,null,null,null,null,null,null,null,null,null,null,null,null,null,null,null,null,null,null,null,null,null,null,null,null,null,null,null,null,null,null,null,null,null,null,null,null,null,null,null,null,null,null,null,null,null,null,null,null,null,null,null,null,null,null,null,null,null,null,null,0,0,0,0,0,{"$error":"#DIV/0!"}]
[616,null,null,null,null,null,null,null,null,null,null,null,null,null,null,null,null,null,null,null,null,null,null,null,null,null,null,null,null,null,null,null,null,null,null,null,null,null,null,null,null,null,null,null,null,null,null,null,null,null,null,null,null,null,null,null,null,null,null,null,null,null,null,null,0,0,0,0,0,{"$error":"#DIV/0!"}]
[617,null,null,null,null,null,null,null,null,null,null,null,null,null,null,null,null,null,null,null,null,null,null,null,null,null,null,null,null,null,null,null,null,null,null,null,null,null,null,null,null,null,null,null,null,null,null,null,null,null,null,null,null,null,null,null,null,null,null,null,null,null,null,null,0,0,0,0,0,{"$error":"#DIV/0!"}]
[618,null,null,null,null,null,null,null,null,null,null,null,null,null,null,null,null,null,null,null,null,null,null,null,null,null,null,null,null,null,null,null,null,null,null,null,null,null,null,null,null,null,null,null,null,null,null,null,null,null,null,null,null,null,null,null,null,null,null,null,null,null,null,null,0,0,0,0,0,{"$error":"#DIV/0!"}]
[619,null,null,null,null,null,null,null,null,null,null,null,null,null,null,null,null,null,null,null,null,null,null,null,null,null,null,null,null,null,null,null,null,null,null,null,null,null,null,null,null,null,null,null,null,null,null,null,null,null,null,null,null,null,null,null,null,null,null,null,null,null,null,null,0,0,0,0,0,{"$error":"#DIV/0!"}]
[620,null,null,null,null,null,null,null,null,null,null,null,null,null,null,null,null,null,null,null,null,null,null,null,null,null,null,null,null,null,null,null,null,null,null,null,null,null,null,null,null,null,null,null,null,null,null,null,null,null,null,null,null,null,null,null,null,null,null,null,null,null,null,null,0,0,0,{"$f":"+BN667-BO667","v":0},{"$f":"COUNT(C667:BJ667)/3","v":0},{"$f":"+BM667/BQ667","v":{"$error":"#DIV/0!"}}]
[621,null,null,null,null,null,null,null,null,null,null,null,null,null,null,null,null,null,null,null,null,null,null,null,null,null,null,null,null,null,null,null,null,null,null,null,null,null,null,null,null,null,null,null,null,null,null,null,null,null,null,null,null,null,null,null,null,null,null,null,null,null,null,null,0,0,0,0,0,{"$error":"#DIV/0!"}]
[622,null,null,null,null,null,null,null,null,null,null,null,null,null,null,null,null,null,null,null,null,null,null,null,null,null,null,null,null,null,null,null,null,null,null,null,null,null,null,null,null,null,null,null,null,null,null,null,null,null,null,null,null,null,null,null,null,null,null,null,null,null,null,null,0,0,0,0,0,{"$error":"#DIV/0!"}]
[623,null,null,null,null,null,null,null,null,null,null,null,null,null,null,null,null,null,null,null,null,null,null,null,null,null,null,null,null,null,null,null,null,null,null,null,null,null,null,null,null,null,null,null,null,null,null,null,null,null,null,null,null,null,null,null,null,null,null,null,null,null,null,null,0,0,0,0,0,{"$error":"#DIV/0!"}]
[624,null,null,null,null,null,null,null,null,null,null,null,null,null,null,null,null,null,null,null,null,null,null,null,null,null,null,null,null,null,null,null,null,null,null,null,null,null,null,null,null,null,null,null,null,null,null,null,null,null,null,null,null,null,null,null,null,null,null,null,null,null,null,null,0,0,0,0,0,{"$error":"#DIV/0!"}]
[625,null,null,null,null,null,null,null,null,null,null,null,null,null,null,null,null,null,null,null,null,null,null,null,null,null,null,null,null,null,null,null,null,null,null,null,null,null,null,null,null,null,null,null,null,null,null,null,null,null,null,null,null,null,null,null,null,null,null,null,null,null,null,null,0,0,0,0,0,{"$error":"#DIV/0!"}]
[626,null,null,null,null,null,null,null,null,null,null,null,null,null,null,null,null,null,null,null,null,null,null,null,null,null,null,null,null,null,null,null,null,null,null,null,null,null,null,null,null,null,null,null,null,null,null,null,null,null,null,null,null,null,null,null,null,null,null,null,null,null,null,null,0,0,0,0,0,{"$error":"#DIV/0!"}]
[627,null,null,null,null,null,null,null,null,null,null,null,null,null,null,null,null,null,null,null,null,null,null,null,null,null,null,null,null,null,null,null,null,null,null,null,null,null,null,null,null,null,null,null,null,null,null,null,null,null,null,null,null,null,null,null,null,null,null,null,null,null,null,null,0,0,0,0,0,{"$error":"#DIV/0!"}]
[628,null,null,null,null,null,null,null,null,null,null,null,null,null,null,null,null,null,null,null,null,null,null,null,null,null,null,null,null,null,null,null,null,null,null,null,null,null,null,null,null,null,null,null,null,null,null,null,null,null,null,null,null,null,null,null,null,null,null,null,null,null,null,null,0,0,0,0,0,{"$error":"#DIV/0!"}]
[629,null,null,null,null,null,null,null,null,null,null,null,null,null,null,null,null,null,null,null,null,null,null,null,null,null,null,null,null,null,null,null,null,null,null,null,null,null,null,null,null,null,null,null,null,null,null,null,null,null,null,null,null,null,null,null,null,null,null,null,null,null,null,null,0,0,0,0,0,{"$error":"#DIV/0!"}]
[630,null,null,null,null,null,null,null,null,null,null,null,null,null,null,null,null,null,null,null,null,null,null,null,null,null,null,null,null,null,null,null,null,null,null,null,null,null,null,null,null,null,null,null,null,null,null,null,null,null,null,null,null,null,null,null,null,null,null,null,null,null,null,null,0,0,0,0,0,{"$error":"#DIV/0!"}]
[631,null,null,null,null,null,null,null,null,null,null,null,null,null,null,null,null,null,null,null,null,null,null,null,null,null,null,null,null,null,null,null,null,null,null,null,null,null,null,null,null,null,null,null,null,null,null,null,null,null,null,null,null,null,null,null,null,null,null,null,null,null,null,null,0,0,0,0,0,{"$error":"#DIV/0!"}]
[632,null,null,null,null,null,null,null,null,null,null,null,null,null,null,null,null,null,null,null,null,null,null,null,null,null,null,null,null,null,null,null,null,null,null,null,null,null,null,null,null,null,null,null,null,null,null,null,null,null,null,null,null,null,null,null,null,null,null,null,null,null,null,null,0,0,0,0,0,{"$error":"#DIV/0!"}]
[633,null,null,null,null,null,null,null,null,null,null,null,null,null,null,null,null,null,null,null,null,null,null,null,null,null,null,null,null,null,null,null,null,null,null,null,null,null,null,null,null,null,null,null,null,null,null,null,null,null,null,null,null,null,null,null,null,null,null,null,null,null,null,null,0,0,0,0,0,{"$error":"#DIV/0!"}]
[634,null,null,null,null,null,null,null,null,null,null,null,null,null,null,null,null,null,null,null,null,null,null,null,null,null,null,null,null,null,null,null,null,null,null,null,null,null,null,null,null,null,null,null,null,null,null,null,null,null,null,null,null,null,null,null,null,null,null,null,null,null,null,null,0,0,0,0,0,{"$error":"#DIV/0!"}]
[635,null,null,null,null,null,null,null,null,null,null,null,null,null,null,null,null,null,null,null,null,null,null,null,null,null,null,null,null,null,null,null,null,null,null,null,null,null,null,null,null,null,null,null,null,null,null,null,null,null,null,null,null,null,null,null,null,null,null,null,null,null,null,null,0,0,0,0,0,{"$error":"#DIV/0!"}]
[636,null,null,null,null,null,null,null,null,null,null,null,null,null,null,null,null,null,null,null,null,null,null,null,null,null,null,null,null,null,null,null,null,null,null,null,null,null,null,null,null,null,null,null,null,null,null,null,null,null,null,null,null,null,null,null,null,null,null,null,null,null,null,null,0,0,0,0,0,{"$error":"#DIV/0!"}]
[637,null,null,null,null,null,null,null,null,null,null,null,null,null,null,null,null,null,null,null,null,null,null,null,null,null,null,null,null,null,null,null,null,null,null,null,null,null,null,null,null,null,null,null,null,null,null,null,null,null,null,null,null,null,null,null,null,null,null,null,null,null,null,null,0,0,0,0,0,{"$error":"#DIV/0!"}]
[638,null,null,null,null,null,null,null,null,null,null,null,null,null,null,null,null,null,null,null,null,null,null,null,null,null,null,null,null,null,null,null,null,null,null,null,null,null,null,null,null,null,null,null,null,null,null,null,null,null,null,null,null,null,null,null,null,null,null,null,null,null,null,null,0,0,0,0,0,{"$error":"#DIV/0!"}]
[639,null,null,null,null,null,null,null,null,null,null,null,null,null,null,null,null,null,null,null,null,null,null,null,null,null,null,null,null,null,null,null,null,null,null,null,null,null,null,null,null,null,null,null,null,null,null,null,null,null,null,null,null,null,null,null,null,null,null,null,null,null,null,null,0,0,0,0,0,{"$error":"#DIV/0!"}]
[640,null,null,null,null,null,null,null,null,null,null,null,null,null,null,null,null,null,null,null,null,null,null,null,null,null,null,null,null,null,null,null,null,null,null,null,null,null,null,null,null,null,null,null,null,null,null,null,null,null,null,null,null,null,null,null,null,null,null,null,null,null,null,null,0,0,0,0,0,{"$error":"#DIV/0!"}]
[641,null,null,null,null,null,null,null,null,null,null,null,null,null,null,null,null,null,null,null,null,null,null,null,null,null,null,null,null,null,null,null,null,null,null,null,null,null,null,null,null,null,null,null,null,null,null,null,null,null,null,null,null,null,null,null,null,null,null,null,null,null,null,null,{"$f":"+BH688+AJ688+AG688+AD688+AA688+X688+U688+R688+O688+L688+I688+F688+C688+AM688+AP688+AS688+AV688+AY688+BB688+BE688","v":0},0,0,0,0,{"$error":"#DIV/0!"}]
[642,null,null,null,null,null,null,null,null,null,null,null,null,null,null,null,null,null,null,null,null,null,null,null,null,null,null,null,null,null,null,null,null,null,null,null,null,null,null,null,null,null,null,null,null,null,null,null,null,null,null,null,null,null,null,null,null,null,null,null,null,null,null,null,0,{"$f":"+BI689+AK689+AH689+AE689+AB689+Y689+V689+S689+P689+M689+J689+G689+D689+AN689+AQ689+AT689+AW689+AZ689+BC689+BF689","v":0},{"$f":"+BJ689+AL689+AI689+AF689+AC689+Z689+W689+T689+Q689+N689+K689+H689+E689+AO689+AR689+AU689+AX689+BA689+BD689+BG689","v":0},0,0,{"$error":"#DIV/0!"}]
[643,null,null,null,null,null,null,null,null,null,null,null,null,null,null,null,null,null,null,null,null,null,null,null,null,null,null,null,null,null,null,null,null,null,null,null,null,null,null,null,null,null,null,null,null,null,null,null,null,null,null,null,null,null,null,null,null,null,null,null,null,null,null,null,0,0,0,0,0,{"$error":"#DIV/0!"}]
[644,null,null,null,null,null,null,null,null,null,null,null,null,null,null,null,null,null,null,null,null,null,null,null,null,null,null,null,null,null,null,null,null,null,null,null,null,null,null,null,null,null,null,null,null,null,null,null,null,null,null,null,null,null,null,null,null,null,null,null,null,null,null,null,0,0,0,0,0,{"$error":"#DIV/0!"}]
[645,null,null,null,null,null,null,null,null,null,null,null,null,null,null,null,null,null,null,null,null,null,null,null,null,null,null,null,null,null,null,null,null,null,null,null,null,null,null,null,null,null,null,null,null,null,null,null,null,null,null,null,null,null,null,null,null,null,null,null,null,null,null,null,0,0,0,0,0,{"$error":"#DIV/0!"}]
[646,null,null,null,null,null,null,null,null,null,null,null,null,null,null,null,null,null,null,null,null,null,null,null,null,null,null,null,null,null,null,null,null,null,null,null,null,null,null,null,null,null,null,null,null,null,null,null,null,null,null,null,null,null,null,null,null,null,null,null,null,null,null,null,0,0,0,0,0,{"$error":"#DIV/0!"}]
[647,null,null,null,null,null,null,null,null,null,null,null,null,null,null,null,null,null,null,null,null,null,null,null,null,null,null,null,null,null,null,null,null,null,null,null,null,null,null,null,null,null,null,null,null,null,null,null,null,null,null,null,null,null,null,null,null,null,null,null,null,null,null,null,0,0,0,0,0,{"$error":"#DIV/0!"}]
[648,null,null,null,null,null,null,null,null,null,null,null,null,null,null,null,null,null,null,null,null,null,null,null,null,null,null,null,null,null,null,null,null,null,null,null,null,null,null,null,null,null,null,null,null,null,null,null,null,null,null,null,null,null,null,null,null,null,null,null,null,null,null,null,0,0,0,0,0,{"$error":"#DIV/0!"}]
[649,null,null,null,null,null,null,null,null,null,null,null,null,null,null,null,null,null,null,null,null,null,null,null,null,null,null,null,null,null,null,null,null,null,null,null,null,null,null,null,null,null,null,null,null,null,null,null,null,null,null,null,null,null,null,null,null,null,null,null,null,null,null,null,0,0,0,0,0,{"$error":"#DIV/0!"}]
[650,null,null,null,null,null,null,null,null,null,null,null,null,null,null,null,null,null,null,null,null,null,null,null,null,null,null,null,null,null,null,null,null,null,null,null,null,null,null,null,null,null,null,null,null,null,null,null,null,null,null,null,null,null,null,null,null,null,null,null,null,null,null,null,0,0,0,0,0,{"$error":"#DIV/0!"}]
[651,null,null,null,null,null,null,null,null,null,null,null,null,null,null,null,null,null,null,null,null,null,null,null,null,null,null,null,null,null,null,null,null,null,null,null,null,null,null,null,null,null,null,null,null,null,null,null,null,null,null,null,null,null,null,null,null,null,null,null,null,null,null,null,0,0,0,0,0,{"$error":"#DIV/0!"}]
[{"$f":"+A698+1","v":652},null,null,null,null,null,null,null,null,null,null,null,null,null,null,null,null,null,null,null,null,null,null,null,null,null,null,null,null,null,null,null,null,null,null,null,null,null,null,null,null,null,null,null,null,null,null,null,null,null,null,null,null,null,null,null,null,null,null,null,null,null,null,null,0,0,0,0,0,{"$error":"#DIV/0!"}]
[{"$f":"+A699+1","v":653},null,null,null,null,null,null,null,null,null,null,null,null,null,null,null,null,null,null,null,null,null,null,null,null,null,null,null,null,null,null,null,null,null,null,null,null,null,null,null,null,null,null,null,null,null,null,null,null,null,null,null,null,null,null,null,null,null,null,null,null,null,null,null,0,0,0,0,0,{"$error":"#DIV/0!"}]
[{"$f":"+A700+1","v":654},null,null,null,null,null,null,null,null,null,null,null,null,null,null,null,null,null,null,null,null,null,null,null,null,null,null,null,null,null,null,null,null,null,null,null,null,null,null,null,null,null,null,null,null,null,null,null,null,null,null,null,null,null,null,null,null,null,null,null,null,null,null,null,0,0,0,0,0,{"$error":"#DIV/0!"}]
[{"$f":"+A701+1","v":655},null,null,null,null,null,null,null,null,null,null,null,null,null,null,null,null,null,null,null,null,null,null,null,null,null,null,null,null,null,null,null,null,null,null,null,null,null,null,null,null,null,null,null,null,null,null,null,null,null,null,null,null,null,null,null,null,null,null,null,null,null,null,null,0,0,0,0,0,{"$error":"#DIV/0!"}]
[{"$f":"+A702+1","v":656},null,null,null,null,null,null,null,null,null,null,null,null,null,null,null,null,null,null,null,null,null,null,null,null,null,null,null,null,null,null,null,null,null,null,null,null,null,null,null,null,null,null,null,null,null,null,null,null,null,null,null,null,null,null,null,null,null,null,null,null,null,null,null,0,{"$f":"+BI703+AK703+AH703+AE703+AB703+Y703+V703+S703+P703+M703+J703+G703+D703+AN703+AQ703+AT703+AW703+AZ703+BC703+BF703","v":0},{"$f":"+BJ703+AL703+AI703+AF703+AC703+Z703+W703+T703+Q703+N703+K703+H703+E703+AO703+AR703+AU703+AX703+BA703+BD703+BG703","v":0},{"$f":"+BN703-BO703","v":0},{"$f":"COUNT(C703:BJ703)/3","v":0},{"$f":"+BM703/BQ703","v":{"$error":"#DIV/0!"}}]
[657,null,null,null,null,null,null,null,null,null,null,null,null,null,null,null,null,null,null,null,null,null,null,null,null,null,null,null,null,null,null,null,null,null,null,null,null,null,null,null,null,null,null,null,null,null,null,null,null,null,null,null,null,null,null,null,null,null,null,null,null,null,null,null,0,0,0,0,0,{"$error":"#DIV/0!"}]
[658,null,null,null,null,null,null,null,null,null,null,null,null,null,null,null,null,null,null,null,null,null,null,null,null,null,null,null,null,null,null,null,null,null,null,null,null,null,null,null,null,null,null,null,null,null,null,null,null,null,null,null,null,null,null,null,null,null,null,null,null,null,null,null,0,0,0,0,0,{"$error":"#DIV/0!"}]
[659,null,null,null,null,null,null,null,null,null,null,null,null,null,null,null,null,null,null,null,null,null,null,null,null,null,null,null,null,null,null,null,null,null,null,null,null,null,null,null,null,null,null,null,null,null,null,null,null,null,null,null,null,null,null,null,null,null,null,null,null,null,null,null,0,0,0,0,0,{"$error":"#DIV/0!"}]
[660,null,null,null,null,null,null,null,null,null,null,null,null,null,null,null,null,null,null,null,null,null,null,null,null,null,null,null,null,null,null,null,null,null,null,null,null,null,null,null,null,null,null,null,null,null,null,null,null,null,null,null,null,null,null,null,null,null,null,null,null,null,null,null,0,0,0,0,0,{"$error":"#DIV/0!"}]
[661,null,null,null,null,null,null,null,null,null,null,null,null,null,null,null,null,null,null,null,null,null,null,null,null,null,null,null,null,null,null,null,null,null,null,null,null,null,null,null,null,null,null,null,null,null,null,null,null,null,null,null,null,null,null,null,null,null,null,null,null,null,null,null,0,0,0,0,0,{"$error":"#DIV/0!"}]
[662,null,null,null,null,null,null,null,null,null,null,null,null,null,null,null,null,null,null,null,null,null,null,null,null,null,null,null,null,null,null,null,null,null,null,null,null,null,null,null,null,null,null,null,null,null,null,null,null,null,null,null,null,null,null,null,null,null,null,null,null,null,null,null,0,0,0,0,0,{"$error":"#DIV/0!"}]
[663,null,null,null,null,null,null,null,null,null,null,null,null,null,null,null,null,null,null,null,null,null,null,null,null,null,null,null,null,null,null,null,null,null,null,null,null,null,null,null,null,null,null,null,null,null,null,null,null,null,null,null,null,null,null,null,null,null,null,null,null,null,null,null,0,0,0,0,0,{"$error":"#DIV/0!"}]
[664,null,null,null,null,null,null,null,null,null,null,null,null,null,null,null,null,null,null,null,null,null,null,null,null,null,null,null,null,null,null,null,null,null,null,null,null,null,null,null,null,null,null,null,null,null,null,null,null,null,null,null,null,null,null,null,null,null,null,null,null,null,null,null,0,0,0,0,0,{"$error":"#DIV/0!"}]
[665,null,null,null,null,null,null,null,null,null,null,null,null,null,null,null,null,null,null,null,null,null,null,null,null,null,null,null,null,null,null,null,null,null,null,null,null,null,null,null,null,null,null,null,null,null,null,null,null,null,null,null,null,null,null,null,null,null,null,null,null,null,null,null,0,0,0,0,0,{"$error":"#DIV/0!"}]
[666,null,null,null,null,null,null,null,null,null,null,null,null,null,null,null,null,null,null,null,null,null,null,null,null,null,null,null,null,null,null,null,null,null,null,null,null,null,null,null,null,null,null,null,null,null,null,null,null,null,null,null,null,null,null,null,null,null,null,null,null,null,null,null,0,0,0,0,0,{"$error":"#DIV/0!"}]
[667,null,null,null,null,null,null,null,null,null,null,null,null,null,null,null,null,null,null,null,null,null,null,null,null,null,null,null,null,null,null,null,null,null,null,null,null,null,null,null,null,null,null,null,null,null,null,null,null,null,null,null,null,null,null,null,null,null,null,null,null,null,null,null,0,0,0,0,0,{"$error":"#DIV/0!"}]
[668,null,null,null,null,null,null,null,null,null,null,null,null,null,null,null,null,null,null,null,null,null,null,null,null,null,null,null,null,null,null,null,null,null,null,null,null,null,null,null,null,null,null,null,null,null,null,null,null,null,null,null,null,null,null,null,null,null,null,null,null,null,null,null,0,0,0,0,0,{"$error":"#DIV/0!"}]
[669,null,null,null,null,null,null,null,null,null,null,null,null,null,null,null,null,null,null,null,null,null,null,null,null,null,null,null,null,null,null,null,null,null,null,null,null,null,null,null,null,null,null,null,null,null,null,null,null,null,null,null,null,null,null,null,null,null,null,null,null,null,null,null,0,0,0,0,0,{"$error":"#DIV/0!"}]
[670,null,null,null,null,null,null,null,null,null,null,null,null,null,null,null,null,null,null,null,null,null,null,null,null,null,null,null,null,null,null,null,null,null,null,null,null,null,null,null,null,null,null,null,null,null,null,null,null,null,null,null,null,null,null,null,null,null,null,null,null,null,null,null,0,0,0,0,0,{"$error":"#DIV/0!"}]
[671,null,null,null,null,null,null,null,null,null,null,null,null,null,null,null,null,null,null,null,null,null,null,null,null,null,null,null,null,null,null,null,null,null,null,null,null,null,null,null,null,null,null,null,null,null,null,null,null,null,null,null,null,null,null,null,null,null,null,null,null,null,null,null,0,0,0,0,0,{"$error":"#DIV/0!"}]
[672,null,null,null,null,null,null,null,null,null,null,null,null,null,null,null,null,null,null,null,null,null,null,null,null,null,null,null,null,null,null,null,null,null,null,null,null,null,null,null,null,null,null,null,null,null,null,null,null,null,null,null,null,null,null,null,null,null,null,null,null,null,null,null,0,0,0,0,0,{"$error":"#DIV/0!"}]
[673,null,null,null,null,null,null,null,null,null,null,null,null,null,null,null,null,null,null,null,null,null,null,null,null,null,null,null,null,null,null,null,null,null,null,null,null,null,null,null,null,null,null,null,null,null,null,null,null,null,null,null,null,null,null,null,null,null,null,null,null,null,null,null,0,0,0,0,0,{"$error":"#DIV/0!"}]
[674,null,null,null,null,null,null,null,null,null,null,null,null,null,null,null,null,null,null,null,null,null,null,null,null,null,null,null,null,null,null,null,null,null,null,null,null,null,null,null,null,null,null,null,null,null,null,null,null,null,null,null,null,null,null,null,null,null,null,null,null,null,null,null,0,0,0,0,0,{"$error":"#DIV/0!"}]
[675,null,null,null,null,null,null,null,null,null,null,null,null,null,null,null,null,null,null,null,null,null,null,null,null,null,null,null,null,null,null,null,null,null,null,null,null,null,null,null,null,null,null,null,null,null,null,null,null,null,null,null,null,null,null,null,null,null,null,null,null,null,null,null,0,0,0,0,0,{"$error":"#DIV/0!"}]
[676,null,null,null,null,null,null,null,null,null,null,null,null,null,null,null,null,null,null,null,null,null,null,null,null,null,null,null,null,null,null,null,null,null,null,null,null,null,null,null,null,null,null,null,null,null,null,null,null,null,null,null,null,null,null,null,null,null,null,null,null,null,null,null,0,0,0,0,0,{"$error":"#DIV/0!"}]
[677,null,null,null,null,null,null,null,null,null,null,null,null,null,null,null,null,null,null,null,null,null,null,null,null,null,null,null,null,null,null,null,null,null,null,null,null,null,null,null,null,null,null,null,null,null,null,null,null,null,null,null,null,null,null,null,null,null,null,null,null,null,null,null,0,0,0,0,0,{"$error":"#DIV/0!"}]
[678,null,null,null,null,null,null,null,null,null,null,null,null,null,null,null,null,null,null,null,null,null,null,null,null,null,null,null,null,null,null,null,null,null,null,null,null,null,null,null,null,null,null,null,null,null,null,null,null,null,null,null,null,null,null,null,null,null,null,null,null,null,null,null,0,0,0,0,0,{"$error":"#DIV/0!"}]
[679,null,null,null,null,null,null,null,null,null,null,null,null,null,null,null,null,null,null,null,null,null,null,null,null,null,null,null,null,null,null,null,null,null,null,null,null,null,null,null,null,null,null,null,null,null,null,null,null,null,null,null,null,null,null,null,null,null,null,null,null,null,null,null,0,0,0,0,0,{"$error":"#DIV/0!"}]
[680,null,null,null,null,null,null,null,null,null,null,null,null,null,null,null,null,null,null,null,null,null,null,null,null,null,null,null,null,null,null,null,null,null,null,null,null,null,null,null,null,null,null,null,null,null,null,null,null,null,null,null,null,null,null,null,null,null,null,null,null,null,null,null,0,0,0,0,0,{"$error":"#DIV/0!"}]
[681,null,null,null,null,null,null,null,null,null,null,null,null,null,null,null,null,null,null,null,null,null,null,null,null,null,null,null,null,null,null,null,null,null,null,null,null,null,null,null,null,null,null,null,null,null,null,null,null,null,null,null,null,null,null,null,null,null,null,null,null,null,null,null,0,0,0,0,0,{"$error":"#DIV/0!"}]
[682,null,null,null,null,null,null,null,null,null,null,null,null,null,null,null,null,null,null,null,null,null,null,null,null,null,null,null,null,null,null,null,null,null,null,null,null,null,null,null,null,null,null,null,null,null,null,null,null,null,null,null,null,null,null,null,null,null,null,null,null,null,null,null,0,0,0,0,0,{"$error":"#DIV/0!"}]
[683,null,null,null,null,null,null,null,null,null,null,null,null,null,null,null,null,null,null,null,null,null,null,null,null,null,null,null,null,null,null,null,null,null,null,null,null,null,null,null,null,null,null,null,null,null,null,null,null,null,null,null,null,null,null,null,null,null,null,null,null,null,null,null,0,0,0,0,0,{"$error":"#DIV/0!"}]
[684,null,null,null,null,null,null,null,null,null,null,null,null,null,null,null,null,null,null,null,null,null,null,null,null,null,null,null,null,null,null,null,null,null,null,null,null,null,null,null,null,null,null,null,null,null,null,null,null,null,null,null,null,null,null,null,null,null,null,null,null,null,null,null,0,0,0,0,0,{"$error":"#DIV/0!"}]
[685,null,null,null,null,null,null,null,null,null,null,null,null,null,null,null,null,null,null,null,null,null,null,null,null,null,null,null,null,null,null,null,null,null,null,null,null,null,null,null,null,null,null,null,null,null,null,null,null,null,null,null,null,null,null,null,null,null,null,null,null,null,null,null,0,0,0,0,0,{"$error":"#DIV/0!"}]
[686,null,null,null,null,null,null,null,null,null,null,null,null,null,null,null,null,null,null,null,null,null,null,null,null,null,null,null,null,null,null,null,null,null,null,null,null,null,null,null,null,null,null,null,null,null,null,null,null,null,null,null,null,null,null,null,null,null,null,null,null,null,null,null,0,0,0,0,0,{"$error":"#DIV/0!"}]
[687,null,null,null,null,null,null,null,null,null,null,null,null,null,null,null,null,null,null,null,null,null,null,null,null,null,null,null,null,null,null,null,null,null,null,null,null,null,null,null,null,null,null,null,null,null,null,null,null,null,null,null,null,null,null,null,null,null,null,null,null,null,null,null,0,0,0,0,0,{"$error":"#DIV/0!"}]
[688,null,null,null,null,null,null,null,null,null,null,null,null,null,null,null,null,null,null,null,null,null,null,null,null,null,null,null,null,null,null,null,null,null,null,null,null,null,null,null,null,null,null,null,null,null,null,null,null,null,null,null,null,null,null,null,null,null,null,null,null,null,null,null,0,0,0,0,0,{"$error":"#DIV/0!"}]
[689,null,null,null,null,null,null,null,null,null,null,null,null,null,null,null,null,null,null,null,null,null,null,null,null,null,null,null,null,null,null,null,null,null,null,null,null,null,null,null,null,null,null,null,null,null,null,null,null,null,null,null,null,null,null,null,null,null,null,null,null,null,null,null,0,0,0,0,0,{"$error":"#DIV/0!"}]
[690,null,null,null,null,null,null,null,null,null,null,null,null,null,null,null,null,null,null,null,null,null,null,null,null,null,null,null,null,null,null,null,null,null,null,null,null,null,null,null,null,null,null,null,null,null,null,null,null,null,null,null,null,null,null,null,null,null,null,null,null,null,null,null,0,0,0,0,0,{"$error":"#DIV/0!"}]
[691,null,null,null,null,null,null,null,null,null,null,null,null,null,null,null,null,null,null,null,null,null,null,null,null,null,null,null,null,null,null,null,null,null,null,null,null,null,null,null,null,null,null,null,null,null,null,null,null,null,null,null,null,null,null,null,null,null,null,null,null,null,null,null,0,0,0,0,0,{"$error":"#DIV/0!"}]
[692,null,null,null,null,null,null,null,null,null,null,null,null,null,null,null,null,null,null,null,null,null,null,null,null,null,null,null,null,null,null,null,null,null,null,null,null,null,null,null,null,null,null,null,null,null,null,null,null,null,null,null,null,null,null,null,null,null,null,null,null,null,null,null,0,0,0,0,0,{"$error":"#DIV/0!"}]
[693,null,null,null,null,null,null,null,null,null,null,null,null,null,null,null,null,null,null,null,null,null,null,null,null,null,null,null,null,null,null,null,null,null,null,null,null,null,null,null,null,null,null,null,null,null,null,null,null,null,null,null,null,null,null,null,null,null,null,null,null,null,null,null,0,0,0,0,0,{"$error":"#DIV/0!"}]
[694,null,null,null,null,null,null,null,null,null,null,null,null,null,null,null,null,null,null,null,null,null,null,null,null,null,null,null,null,null,null,null,null,null,null,null,null,null,null,null,null,null,null,null,null,null,null,null,null,null,null,null,null,null,null,null,null,null,null,null,null,null,null,null,0,0,0,0,0,{"$error":"#DIV/0!"}]
[695,null,null,null,null,null,null,null,null,null,null,null,null,null,null,null,null,null,null,null,null,null,null,null,null,null,null,null,null,null,null,null,null,null,null,null,null,null,null,null,null,null,null,null,null,null,null,null,null,null,null,null,null,null,null,null,null,null,null,null,null,null,null,null,0,0,0,0,0,{"$error":"#DIV/0!"}]
[696,null,null,null,null,null,null,null,null,null,null,null,null,null,null,null,null,null,null,null,null,null,null,null,null,null,null,null,null,null,null,null,null,null,null,null,null,null,null,null,null,null,null,null,null,null,null,null,null,null,null,null,null,null,null,null,null,null,null,null,null,null,null,null,0,0,0,0,0,{"$error":"#DIV/0!"}]
[697,null,null,null,null,null,null,null,null,null,null,null,null,null,null,null,null,null,null,null,null,null,null,null,null,null,null,null,null,null,null,null,null,null,null,null,null,null,null,null,null,null,null,null,null,null,null,null,null,null,null,null,null,null,null,null,null,null,null,null,null,null,null,null,0,0,0,0,0,{"$error":"#DIV/0!"}]
[698,null,null,null,null,null,null,null,null,null,null,null,null,null,null,null,null,null,null,null,null,null,null,null,null,null,null,null,null,null,null,null,null,null,null,null,null,null,null,null,null,null,null,null,null,null,null,null,null,null,null,null,null,null,null,null,null,null,null,null,null,null,null,null,0,0,0,0,0,{"$error":"#DIV/0!"}]
[699,null,null,null,null,null,null,null,null,null,null,null,null,null,null,null,null,null,null,null,null,null,null,null,null,null,null,null,null,null,null,null,null,null,null,null,null,null,null,null,null,null,null,null,null,null,null,null,null,null,null,null,null,null,null,null,null,null,null,null,null,null,null,null,0,0,0,0,0,{"$error":"#DIV/0!"}]
[700,null,null,null,null,null,null,null,null,null,null,null,null,null,null,null,null,null,null,null,null,null,null,null,null,null,null,null,null,null,null,null,null,null,null,null,null,null,null,null,null,null,null,null,null,null,null,null,null,null,null,null,null,null,null,null,null,null,null,null,null,null,null,null,0,0,0,0,0,{"$error":"#DIV/0!"}]
[701,null,null,null,null,null,null,null,null,null,null,null,null,null,null,null,null,null,null,null,null,null,null,null,null,null,null,null,null,null,null,null,null,null,null,null,null,null,null,null,null,null,null,null,null,null,null,null,null,null,null,null,null,null,null,null,null,null,null,null,null,null,null,null,0,0,0,0,0,{"$error":"#DIV/0!"}]
[702,null,null,null,null,null,null,null,null,null,null,null,null,null,null,null,null,null,null,null,null,null,null,null,null,null,null,null,null,null,null,null,null,null,null,null,null,null,null,null,null,null,null,null,null,null,null,null,null,null,null,null,null,null,null,null,null,null,null,null,null,null,null,null,0,0,0,0,0,{"$error":"#DIV/0!"}]
[703,null,null,null,null,null,null,null,null,null,null,null,null,null,null,null,null,null,null,null,null,null,null,null,null,null,null,null,null,null,null,null,null,null,null,null,null,null,null,null,null,null,null,null,null,null,null,null,null,null,null,null,null,null,null,null,null,null,null,null,null,null,null,null,0,0,0,0,0,{"$error":"#DIV/0!"}]
[704,null,null,null,null,null,null,null,null,null,null,null,null,null,null,null,null,null,null,null,null,null,null,null,null,null,null,null,null,null,null,null,null,null,null,null,null,null,null,null,null,null,null,null,null,null,null,null,null,null,null,null,null,null,null,null,null,null,null,null,null,null,null,null,0,0,0,0,0,{"$error":"#DIV/0!"}]
[705,null,null,null,null,null,null,null,null,null,null,null,null,null,null,null,null,null,null,null,null,null,null,null,null,null,null,null,null,null,null,null,null,null,null,null,null,null,null,null,null,null,null,null,null,null,null,null,null,null,null,null,null,null,null,null,null,null,null,null,null,null,null,null,{"$f":"+BH752+AJ752+AG752+AD752+AA752+X752+U752+R752+O752+L752+I752+F752+C752+AM752+AP752+AS752+AV752+AY752+BB752+BE752","v":0},0,0,0,0,{"$error":"#DIV/0!"}]
[706,null,null,null,null,null,null,null,null,null,null,null,null,null,null,null,null,null,null,null,null,null,null,null,null,null,null,null,null,null,null,null,null,null,null,null,null,null,null,null,null,null,null,null,null,null,null,null,null,null,null,null,null,null,null,null,null,null,null,null,null,null,null,null,0,0,0,0,0,{"$error":"#DIV/0!"}]
[707,null,null,null,null,null,null,null,null,null,null,null,null,null,null,null,null,null,null,null,null,null,null,null,null,null,null,null,null,null,null,null,null,null,null,null,null,null,null,null,null,null,null,null,null,null,null,null,null,null,null,null,null,null,null,null,null,null,null,null,null,null,null,null,0,0,0,0,0,{"$error":"#DIV/0!"}]
[708,null,null,null,null,null,null,null,null,null,null,null,null,null,null,null,null,null,null,null,null,null,null,null,null,null,null,null,null,null,null,null,null,null,null,null,null,null,null,null,null,null,null,null,null,null,null,null,null,null,null,null,null,null,null,null,null,null,null,null,null,null,null,null,0,0,0,0,0,{"$error":"#DIV/0!"}]
[709,null,null,null,null,null,null,null,null,null,null,null,null,null,null,null,null,null,null,null,null,null,null,null,null,null,null,null,null,null,null,null,null,null,null,null,null,null,null,null,null,null,null,null,null,null,null,null,null,null,null,null,null,null,null,null,null,null,null,null,null,null,null,null,0,0,0,0,0,{"$error":"#DIV/0!"}]
[710,null,null,null,null,null,null,null,null,null,null,null,null,null,null,null,null,null,null,null,null,null,null,null,null,null,null,null,null,null,null,null,null,null,null,null,null,null,null,null,null,null,null,null,null,null,null,null,null,null,null,null,null,null,null,null,null,null,null,null,null,null,null,null,0,0,0,0,0,{"$error":"#DIV/0!"}]
[711,null,null,null,null,null,null,null,null,null,null,null,null,null,null,null,null,null,null,null,null,null,null,null,null,null,null,null,null,null,null,null,null,null,null,null,null,null,null,null,null,null,null,null,null,null,null,null,null,null,null,null,null,null,null,null,null,null,null,null,null,null,null,null,0,0,0,0,0,{"$error":"#DIV/0!"}]
[712,null,null,null,null,null,null,null,null,null,null,null,null,null,null,null,null,null,null,null,null,null,null,null,null,null,null,null,null,null,null,null,null,null,null,null,null,null,null,null,null,null,null,null,null,null,null,null,null,null,null,null,null,null,null,null,null,null,null,null,null,null,null,null,0,0,0,0,0,{"$error":"#DIV/0!"}]
[713,null,null,null,null,null,null,null,null,null,null,null,null,null,null,null,null,null,null,null,null,null,null,null,null,null,null,null,null,null,null,null,null,null,null,null,null,null,null,null,null,null,null,null,null,null,null,null,null,null,null,null,null,null,null,null,null,null,null,null,null,null,null,null,0,0,0,0,0,{"$error":"#DIV/0!"}]
[714,null,null,null,null,null,null,null,null,null,null,null,null,null,null,null,null,null,null,null,null,null,null,null,null,null,null,null,null,null,null,null,null,null,null,null,null,null,null,null,null,null,null,null,null,null,null,null,null,null,null,null,null,null,null,null,null,null,null,null,null,null,null,null,0,0,0,0,0,{"$error":"#DIV/0!"}]
[715,null,null,null,null,null,null,null,null,null,null,null,null,null,null,null,null,null,null,null,null,null,null,null,null,null,null,null,null,null,null,null,null,null,null,null,null,null,null,null,null,null,null,null,null,null,null,null,null,null,null,null,null,null,null,null,null,null,null,null,null,null,null,null,0,0,0,0,0,{"$error":"#DIV/0!"}]
[716,null,null,null,null,null,null,null,null,null,null,null,null,null,null,null,null,null,null,null,null,null,null,null,null,null,null,null,null,null,null,null,null,null,null,null,null,null,null,null,null,null,null,null,null,null,null,null,null,null,null,null,null,null,null,null,null,null,null,null,null,null,null,null,0,0,0,0,0,{"$error":"#DIV/0!"}]
[717,null,null,null,null,null,null,null,null,null,null,null,null,null,null,null,null,null,null,null,null,null,null,null,null,null,null,null,null,null,null,null,null,null,null,null,null,null,null,null,null,null,null,null,null,null,null,null,null,null,null,null,null,null,null,null,null,null,null,null,null,null,null,null,0,0,0,0,0,{"$error":"#DIV/0!"}]
[718,null,null,null,null,null,null,null,null,null,null,null,null,null,null,null,null,null,null,null,null,null,null,null,null,null,null,null,null,null,null,null,null,null,null,null,null,null,null,null,null,null,null,null,null,null,null,null,null,null,null,null,null,null,null,null,null,null,null,null,null,null,null,null,0,0,0,0,0,{"$error":"#DIV/0!"}]
[719,null,null,null,null,null,null,null,null,null,null,null,null,null,null,null,null,null,null,null,null,null,null,null,null,null,null,null,null,null,null,null,null,null,null,null,null,null,null,null,null,null,null,null,null,null,null,null,null,null,null,null,null,null,null,null,null,null,null,null,null,null,null,null,0,0,0,0,0,{"$error":"#DIV/0!"}]
[{"$f":"+A766+1","v":720},null,null,null,null,null,null,null,null,null,null,null,null,null,null,null,null,null,null,null,null,null,null,null,null,null,null,null,null,null,null,null,null,null,null,null,null,null,null,null,null,null,null,null,null,null,null,null,null,null,null,null,null,null,null,null,null,null,null,null,null,null,null,null,0,{"$f":"+BI767+AK767+AH767+AE767+AB767+Y767+V767+S767+P767+M767+J767+G767+D767+AN767+AQ767+AT767+AW767+AZ767+BC767+BF767","v":0},{"$f":"+BJ767+AL767+AI767+AF767+AC767+Z767+W767+T767+Q767+N767+K767+H767+E767+AO767+AR767+AU767+AX767+BA767+BD767+BG767","v":0},{"$f":"+BN767-BO767","v":0},{"$f":"COUNT(C767:BJ767)/3","v":0},{"$f":"+BM767/BQ767","v":{"$error":"#DIV/0!"}}]
[721,null,null,null,null,null,null,null,null,null,null,null,null,null,null,null,null,null,null,null,null,null,null,null,null,null,null,null,null,null,null,null,null,null,null,null,null,null,null,null,null,null,null,null,null,null,null,null,null,null,null,null,null,null,null,null,null,null,null,null,null,null,null,null,0,0,0,0,0,{"$error":"#DIV/0!"}]
[722,null,null,null,null,null,null,null,null,null,null,null,null,null,null,null,null,null,null,null,null,null,null,null,null,null,null,null,null,null,null,null,null,null,null,null,null,null,null,null,null,null,null,null,null,null,null,null,null,null,null,null,null,null,null,null,null,null,null,null,null,null,null,null,0,0,0,0,0,{"$error":"#DIV/0!"}]
[723,null,null,null,null,null,null,null,null,null,null,null,null,null,null,null,null,null,null,null,null,null,null,null,null,null,null,null,null,null,null,null,null,null,null,null,null,null,null,null,null,null,null,null,null,null,null,null,null,null,null,null,null,null,null,null,null,null,null,null,null,null,null,null,0,0,0,0,0,{"$error":"#DIV/0!"}]
[724,null,null,null,null,null,null,null,null,null,null,null,null,null,null,null,null,null,null,null,null,null,null,null,null,null,null,null,null,null,null,null,null,null,null,null,null,null,null,null,null,null,null,null,null,null,null,null,null,null,null,null,null,null,null,null,null,null,null,null,null,null,null,null,0,0,0,0,0,{"$error":"#DIV/0!"}]
[725,null,null,null,null,null,null,null,null,null,null,null,null,null,null,null,null,null,null,null,null,null,null,null,null,null,null,null,null,null,null,null,null,null,null,null,null,null,null,null,null,null,null,null,null,null,null,null,null,null,null,null,null,null,null,null,null,null,null,null,null,null,null,null,0,0,0,0,0,{"$error":"#DIV/0!"}]
[726,null,null,null,null,null,null,null,null,null,null,null,null,null,null,null,null,null,null,null,null,null,null,null,null,null,null,null,null,null,null,null,null,null,null,null,null,null,null,null,null,null,null,null,null,null,null,null,null,null,null,null,null,null,null,null,null,null,null,null,null,null,null,null,0,0,0,0,0,{"$error":"#DIV/0!"}]
[727,null,null,null,null,null,null,null,null,null,null,null,null,null,null,null,null,null,null,null,null,null,null,null,null,null,null,null,null,null,null,null,null,null,null,null,null,null,null,null,null,null,null,null,null,null,null,null,null,null,null,null,null,null,null,null,null,null,null,null,null,null,null,null,0,0,0,0,0,{"$error":"#DIV/0!"}]
[728,null,null,null,null,null,null,null,null,null,null,null,null,null,null,null,null,null,null,null,null,null,null,null,null,null,null,null,null,null,null,null,null,null,null,null,null,null,null,null,null,null,null,null,null,null,null,null,null,null,null,null,null,null,null,null,null,null,null,null,null,null,null,null,0,0,0,0,0,{"$error":"#DIV/0!"}]
[729,null,null,null,null,null,null,null,null,null,null,null,null,null,null,null,null,null,null,null,null,null,null,null,null,null,null,null,null,null,null,null,null,null,null,null,null,null,null,null,null,null,null,null,null,null,null,null,null,null,null,null,null,null,null,null,null,null,null,null,null,null,null,null,0,0,0,0,0,{"$error":"#DIV/0!"}]
[730,null,null,null,null,null,null,null,null,null,null,null,null,null,null,null,null,null,null,null,null,null,null,null,null,null,null,null,null,null,null,null,null,null,null,null,null,null,null,null,null,null,null,null,null,null,null,null,null,null,null,null,null,null,null,null,null,null,null,null,null,null,null,null,0,0,0,0,0,{"$error":"#DIV/0!"}]
[731,null,null,null,null,null,null,null,null,null,null,null,null,null,null,null,null,null,null,null,null,null,null,null,null,null,null,null,null,null,null,null,null,null,null,null,null,null,null,null,null,null,null,null,null,null,null,null,null,null,null,null,null,null,null,null,null,null,null,null,null,null,null,null,0,0,0,0,0,{"$error":"#DIV/0!"}]
[732,null,null,null,null,null,null,null,null,null,null,null,null,null,null,null,null,null,null,null,null,null,null,null,null,null,null,null,null,null,null,null,null,null,null,null,null,null,null,null,null,null,null,null,null,null,null,null,null,null,null,null,null,null,null,null,null,null,null,null,null,null,null,null,0,0,0,0,0,{"$error":"#DIV/0!"}]
[733,null,null,null,null,null,null,null,null,null,null,null,null,null,null,null,null,null,null,null,null,null,null,null,null,null,null,null,null,null,null,null,null,null,null,null,null,null,null,null,null,null,null,null,null,null,null,null,null,null,null,null,null,null,null,null,null,null,null,null,null,null,null,null,0,0,0,0,0,{"$error":"#DIV/0!"}]
[734,null,null,null,null,null,null,null,null,null,null,null,null,null,null,null,null,null,null,null,null,null,null,null,null,null,null,null,null,null,null,null,null,null,null,null,null,null,null,null,null,null,null,null,null,null,null,null,null,null,null,null,null,null,null,null,null,null,null,null,null,null,null,null,0,0,0,0,0,{"$error":"#DIV/0!"}]
[735,null,null,null,null,null,null,null,null,null,null,null,null,null,null,null,null,null,null,null,null,null,null,null,null,null,null,null,null,null,null,null,null,null,null,null,null,null,null,null,null,null,null,null,null,null,null,null,null,null,null,null,null,null,null,null,null,null,null,null,null,null,null,null,0,0,0,0,0,{"$error":"#DIV/0!"}]
[736,null,null,null,null,null,null,null,null,null,null,null,null,null,null,null,null,null,null,null,null,null,null,null,null,null,null,null,null,null,null,null,null,null,null,null,null,null,null,null,null,null,null,null,null,null,null,null,null,null,null,null,null,null,null,null,null,null,null,null,null,null,null,null,0,0,0,0,0,{"$error":"#DIV/0!"}]
[737,null,null,null,null,null,null,null,null,null,null,null,null,null,null,null,null,null,null,null,null,null,null,null,null,null,null,null,null,null,null,null,null,null,null,null,null,null,null,null,null,null,null,null,null,null,null,null,null,null,null,null,null,null,null,null,null,null,null,null,null,null,null,null,0,0,0,0,0,{"$error":"#DIV/0!"}]
[738,null,null,null,null,null,null,null,null,null,null,null,null,null,null,null,null,null,null,null,null,null,null,null,null,null,null,null,null,null,null,null,null,null,null,null,null,null,null,null,null,null,null,null,null,null,null,null,null,null,null,null,null,null,null,null,null,null,null,null,null,null,null,null,0,0,0,0,0,{"$error":"#DIV/0!"}]
[739,null,null,null,null,null,null,null,null,null,null,null,null,null,null,null,null,null,null,null,null,null,null,null,null,null,null,null,null,null,null,null,null,null,null,null,null,null,null,null,null,null,null,null,null,null,null,null,null,null,null,null,null,null,null,null,null,null,null,null,null,null,null,null,0,0,0,0,0,{"$error":"#DIV/0!"}]
[740,null,null,null,null,null,null,null,null,null,null,null,null,null,null,null,null,null,null,null,null,null,null,null,null,null,null,null,null,null,null,null,null,null,null,null,null,null,null,null,null,null,null,null,null,null,null,null,null,null,null,null,null,null,null,null,null,null,null,null,null,null,null,null,0,0,0,0,0,{"$error":"#DIV/0!"}]
[741,null,null,null,null,null,null,null,null,null,null,null,null,null,null,null,null,null,null,null,null,null,null,null,null,null,null,null,null,null,null,null,null,null,null,null,null,null,null,null,null,null,null,null,null,null,null,null,null,null,null,null,null,null,null,null,null,null,null,null,null,null,null,null,0,0,0,0,0,{"$error":"#DIV/0!"}]
[742,null,null,null,null,null,null,null,null,null,null,null,null,null,null,null,null,null,null,null,null,null,null,null,null,null,null,null,null,null,null,null,null,null,null,null,null,null,null,null,null,null,null,null,null,null,null,null,null,null,null,null,null,null,null,null,null,null,null,null,null,null,null,null,0,0,0,0,0,{"$error":"#DIV/0!"}]
[743,null,null,null,null,null,null,null,null,null,null,null,null,null,null,null,null,null,null,null,null,null,null,null,null,null,null,null,null,null,null,null,null,null,null,null,null,null,null,null,null,null,null,null,null,null,null,null,null,null,null,null,null,null,null,null,null,null,null,null,null,null,null,null,0,0,0,0,0,{"$error":"#DIV/0!"}]
[744,null,null,null,null,null,null,null,null,null,null,null,null,null,null,null,null,null,null,null,null,null,null,null,null,null,null,null,null,null,null,null,null,null,null,null,null,null,null,null,null,null,null,null,null,null,null,null,null,null,null,null,null,null,null,null,null,null,null,null,null,null,null,null,0,0,0,0,0,{"$error":"#DIV/0!"}]
[745,null,null,null,null,null,null,null,null,null,null,null,null,null,null,null,null,null,null,null,null,null,null,null,null,null,null,null,null,null,null,null,null,null,null,null,null,null,null,null,null,null,null,null,null,null,null,null,null,null,null,null,null,null,null,null,null,null,null,null,null,null,null,null,0,0,0,0,0,{"$error":"#DIV/0!"}]
[746,null,null,null,null,null,null,null,null,null,null,null,null,null,null,null,null,null,null,null,null,null,null,null,null,null,null,null,null,null,null,null,null,null,null,null,null,null,null,null,null,null,null,null,null,null,null,null,null,null,null,null,null,null,null,null,null,null,null,null,null,null,null,null,0,0,0,0,0,{"$error":"#DIV/0!"}]
[747,null,null,null,null,null,null,null,null,null,null,null,null,null,null,null,null,null,null,null,null,null,null,null,null,null,null,null,null,null,null,null,null,null,null,null,null,null,null,null,null,null,null,null,null,null,null,null,null,null,null,null,null,null,null,null,null,null,null,null,null,null,null,null,0,0,0,0,0,{"$error":"#DIV/0!"}]
[748,null,null,null,null,null,null,null,null,null,null,null,null,null,null,null,null,null,null,null,null,null,null,null,null,null,null,null,null,null,null,null,null,null,null,null,null,null,null,null,null,null,null,null,null,null,null,null,null,null,null,null,null,null,null,null,null,null,null,null,null,null,null,null,0,0,0,0,0,{"$error":"#DIV/0!"}]
[749,null,null,null,null,null,null,null,null,null,null,null,null,null,null,null,null,null,null,null,null,null,null,null,null,null,null,null,null,null,null,null,null,null,null,null,null,null,null,null,null,null,null,null,null,null,null,null,null,null,null,null,null,null,null,null,null,null,null,null,null,null,null,null,0,0,0,0,0,{"$error":"#DIV/0!"}]
[750,null,null,null,null,null,null,null,null,null,null,null,null,null,null,null,null,null,null,null,null,null,null,null,null,null,null,null,null,null,null,null,null,null,null,null,null,null,null,null,null,null,null,null,null,null,null,null,null,null,null,null,null,null,null,null,null,null,null,null,null,null,null,null,0,0,0,0,0,{"$error":"#DIV/0!"}]
[751,null,null,null,null,null,null,null,null,null,null,null,null,null,null,null,null,null,null,null,null,null,null,null,null,null,null,null,null,null,null,null,null,null,null,null,null,null,null,null,null,null,null,null,null,null,null,null,null,null,null,null,null,null,null,null,null,null,null,null,null,null,null,null,0,0,0,0,0,{"$error":"#DIV/0!"}]
[752,null,null,null,null,null,null,null,null,null,null,null,null,null,null,null,null,null,null,null,null,null,null,null,null,null,null,null,null,null,null,null,null,null,null,null,null,null,null,null,null,null,null,null,null,null,null,null,null,null,null,null,null,null,null,null,null,null,null,null,null,null,null,null,0,0,0,0,0,{"$error":"#DIV/0!"}]
[753,null,null,null,null,null,null,null,null,null,null,null,null,null,null,null,null,null,null,null,null,null,null,null,null,null,null,null,null,null,null,null,null,null,null,null,null,null,null,null,null,null,null,null,null,null,null,null,null,null,null,null,null,null,null,null,null,null,null,null,null,null,null,null,0,0,0,0,0,{"$error":"#DIV/0!"}]
[754,null,null,null,null,null,null,null,null,null,null,null,null,null,null,null,null,null,null,null,null,null,null,null,null,null,null,null,null,null,null,null,null,null,null,null,null,null,null,null,null,null,null,null,null,null,null,null,null,null,null,null,null,null,null,null,null,null,null,null,null,null,null,null,0,0,0,0,0,{"$error":"#DIV/0!"}]
[755,null,null,null,null,null,null,null,null,null,null,null,null,null,null,null,null,null,null,null,null,null,null,null,null,null,null,null,null,null,null,null,null,null,null,null,null,null,null,null,null,null,null,null,null,null,null,null,null,null,null,null,null,null,null,null,null,null,null,null,null,null,null,null,0,0,0,0,0,{"$error":"#DIV/0!"}]
[756,null,null,null,null,null,null,null,null,null,null,null,null,null,null,null,null,null,null,null,null,null,null,null,null,null,null,null,null,null,null,null,null,null,null,null,null,null,null,null,null,null,null,null,null,null,null,null,null,null,null,null,null,null,null,null,null,null,null,null,null,null,null,null,0,0,0,0,0,{"$error":"#DIV/0!"}]
[757,null,null,null,null,null,null,null,null,null,null,null,null,null,null,null,null,null,null,null,null,null,null,null,null,null,null,null,null,null,null,null,null,null,null,null,null,null,null,null,null,null,null,null,null,null,null,null,null,null,null,null,null,null,null,null,null,null,null,null,null,null,null,null,0,0,0,0,0,{"$error":"#DIV/0!"}]
[758,null,null,null,null,null,null,null,null,null,null,null,null,null,null,null,null,null,null,null,null,null,null,null,null,null,null,null,null,null,null,null,null,null,null,null,null,null,null,null,null,null,null,null,null,null,null,null,null,null,null,null,null,null,null,null,null,null,null,null,null,null,null,null,0,0,0,0,0,{"$error":"#DIV/0!"}]
[759,null,null,null,null,null,null,null,null,null,null,null,null,null,null,null,null,null,null,null,null,null,null,null,null,null,null,null,null,null,null,null,null,null,null,null,null,null,null,null,null,null,null,null,null,null,null,null,null,null,null,null,null,null,null,null,null,null,null,null,null,null,null,null,0,0,0,0,0,{"$error":"#DIV/0!"}]
[760,null,null,null,null,null,null,null,null,null,null,null,null,null,null,null,null,null,null,null,null,null,null,null,null,null,null,null,null,null,null,null,null,null,null,null,null,null,null,null,null,null,null,null,null,null,null,null,null,null,null,null,null,null,null,null,null,null,null,null,null,null,null,null,0,0,0,0,0,{"$error":"#DIV/0!"}]
[761,null,null,null,null,null,null,null,null,null,null,null,null,null,null,null,null,null,null,null,null,null,null,null,null,null,null,null,null,null,null,null,null,null,null,null,null,null,null,null,null,null,null,null,null,null,null,null,null,null,null,null,null,null,null,null,null,null,null,null,null,null,null,null,0,0,0,0,0,{"$error":"#DIV/0!"}]
[762,null,null,null,null,null,null,null,null,null,null,null,null,null,null,null,null,null,null,null,null,null,null,null,null,null,null,null,null,null,null,null,null,null,null,null,null,null,null,null,null,null,null,null,null,null,null,null,null,null,null,null,null,null,null,null,null,null,null,null,null,null,null,null,0,0,0,0,0,{"$error":"#DIV/0!"}]
[763,null,null,null,null,null,null,null,null,null,null,null,null,null,null,null,null,null,null,null,null,null,null,null,null,null,null,null,null,null,null,null,null,null,null,null,null,null,null,null,null,null,null,null,null,null,null,null,null,null,null,null,null,null,null,null,null,null,null,null,null,null,null,null,0,0,0,0,0,{"$error":"#DIV/0!"}]
[764,null,null,null,null,null,null,null,null,null,null,null,null,null,null,null,null,null,null,null,null,null,null,null,null,null,null,null,null,null,null,null,null,null,null,null,null,null,null,null,null,null,null,null,null,null,null,null,null,null,null,null,null,null,null,null,null,null,null,null,null,null,null,null,0,0,0,0,0,{"$error":"#DIV/0!"}]
[765,null,null,null,null,null,null,null,null,null,null,null,null,null,null,null,null,null,null,null,null,null,null,null,null,null,null,null,null,null,null,null,null,null,null,null,null,null,null,null,null,null,null,null,null,null,null,null,null,null,null,null,null,null,null,null,null,null,null,null,null,null,null,null,0,0,0,0,0,{"$error":"#DIV/0!"}]
[766,null,null,null,null,null,null,null,null,null,null,null,null,null,null,null,null,null,null,null,null,null,null,null,null,null,null,null,null,null,null,null,null,null,null,null,null,null,null,null,null,null,null,null,null,null,null,null,null,null,null,null,null,null,null,null,null,null,null,null,null,null,null,null,0,0,0,0,0,{"$error":"#DIV/0!"}]
[767,null,null,null,null,null,null,null,null,null,null,null,null,null,null,null,null,null,null,null,null,null,null,null,null,null,null,null,null,null,null,null,null,null,null,null,null,null,null,null,null,null,null,null,null,null,null,null,null,null,null,null,null,null,null,null,null,null,null,null,null,null,null,null,0,0,0,0,0,{"$error":"#DIV/0!"}]
[768,null,null,null,null,null,null,null,null,null,null,null,null,null,null,null,null,null,null,null,null,null,null,null,null,null,null,null,null,null,null,null,null,null,null,null,null,null,null,null,null,null,null,null,null,null,null,null,null,null,null,null,null,null,null,null,null,null,null,null,null,null,null,null,0,0,0,0,0,{"$error":"#DIV/0!"}]
[769,null,null,null,null,null,null,null,null,null,null,null,null,null,null,null,null,null,null,null,null,null,null,null,null,null,null,null,null,null,null,null,null,null,null,null,null,null,null,null,null,null,null,null,null,null,null,null,null,null,null,null,null,null,null,null,null,null,null,null,null,null,null,null,{"$f":"+BH816+AJ816+AG816+AD816+AA816+X816+U816+R816+O816+L816+I816+F816+C816+AM816+AP816+AS816+AV816+AY816+BB816+BE816","v":0},0,0,0,0,{"$error":"#DIV/0!"}]
[770,null,null,null,null,null,null,null,null,null,null,null,null,null,null,null,null,null,null,null,null,null,null,null,null,null,null,null,null,null,null,null,null,null,null,null,null,null,null,null,null,null,null,null,null,null,null,null,null,null,null,null,null,null,null,null,null,null,null,null,null,null,null,null,0,0,0,0,0,{"$error":"#DIV/0!"}]
[771,null,null,null,null,null,null,null,null,null,null,null,null,null,null,null,null,null,null,null,null,null,null,null,null,null,null,null,null,null,null,null,null,null,null,null,null,null,null,null,null,null,null,null,null,null,null,null,null,null,null,null,null,null,null,null,null,null,null,null,null,null,null,null,0,0,0,0,0,{"$error":"#DIV/0!"}]
[772,null,null,null,null,null,null,null,null,null,null,null,null,null,null,null,null,null,null,null,null,null,null,null,null,null,null,null,null,null,null,null,null,null,null,null,null,null,null,null,null,null,null,null,null,null,null,null,null,null,null,null,null,null,null,null,null,null,null,null,null,null,null,null,0,0,0,0,0,{"$error":"#DIV/0!"}]
[773,null,null,null,null,null,null,null,null,null,null,null,null,null,null,null,null,null,null,null,null,null,null,null,null,null,null,null,null,null,null,null,null,null,null,null,null,null,null,null,null,null,null,null,null,null,null,null,null,null,null,null,null,null,null,null,null,null,null,null,null,null,null,null,0,0,0,0,0,{"$error":"#DIV/0!"}]
[774,null,null,null,null,null,null,null,null,null,null,null,null,null,null,null,null,null,null,null,null,null,null,null,null,null,null,null,null,null,null,null,null,null,null,null,null,null,null,null,null,null,null,null,null,null,null,null,null,null,null,null,null,null,null,null,null,null,null,null,null,null,null,null,0,0,0,0,0,{"$error":"#DIV/0!"}]
[775,null,null,null,null,null,null,null,null,null,null,null,null,null,null,null,null,null,null,null,null,null,null,null,null,null,null,null,null,null,null,null,null,null,null,null,null,null,null,null,null,null,null,null,null,null,null,null,null,null,null,null,null,null,null,null,null,null,null,null,null,null,null,null,0,0,0,0,0,{"$error":"#DIV/0!"}]
[776,null,null,null,null,null,null,null,null,null,null,null,null,null,null,null,null,null,null,null,null,null,null,null,null,null,null,null,null,null,null,null,null,null,null,null,null,null,null,null,null,null,null,null,null,null,null,null,null,null,null,null,null,null,null,null,null,null,null,null,null,null,null,null,0,0,0,0,0,{"$error":"#DIV/0!"}]
[777,null,null,null,null,null,null,null,null,null,null,null,null,null,null,null,null,null,null,null,null,null,null,null,null,null,null,null,null,null,null,null,null,null,null,null,null,null,null,null,null,null,null,null,null,null,null,null,null,null,null,null,null,null,null,null,null,null,null,null,null,null,null,null,0,0,0,0,0,{"$error":"#DIV/0!"}]
[778,null,null,null,null,null,null,null,null,null,null,null,null,null,null,null,null,null,null,null,null,null,null,null,null,null,null,null,null,null,null,null,null,null,null,null,null,null,null,null,null,null,null,null,null,null,null,null,null,null,null,null,null,null,null,null,null,null,null,null,null,null,null,null,0,0,0,0,0,{"$error":"#DIV/0!"}]
[779,null,null,null,null,null,null,null,null,null,null,null,null,null,null,null,null,null,null,null,null,null,null,null,null,null,null,null,null,null,null,null,null,null,null,null,null,null,null,null,null,null,null,null,null,null,null,null,null,null,null,null,null,null,null,null,null,null,null,null,null,null,null,null,0,0,0,0,0,{"$error":"#DIV/0!"}]
[780,null,null,null,null,null,null,null,null,null,null,null,null,null,null,null,null,null,null,null,null,null,null,null,null,null,null,null,null,null,null,null,null,null,null,null,null,null,null,null,null,null,null,null,null,null,null,null,null,null,null,null,null,null,null,null,null,null,null,null,null,null,null,null,0,0,0,0,0,{"$error":"#DIV/0!"}]
[781,null,null,null,null,null,null,null,null,null,null,null,null,null,null,null,null,null,null,null,null,null,null,null,null,null,null,null,null,null,null,null,null,null,null,null,null,null,null,null,null,null,null,null,null,null,null,null,null,null,null,null,null,null,null,null,null,null,null,null,null,null,null,null,0,0,0,0,0,{"$error":"#DIV/0!"}]
[782,null,null,null,null,null,null,null,null,null,null,null,null,null,null,null,null,null,null,null,null,null,null,null,null,null,null,null,null,null,null,null,null,null,null,null,null,null,null,null,null,null,null,null,null,null,null,null,null,null,null,null,null,null,null,null,null,null,null,null,null,null,null,null,0,0,0,0,0,{"$error":"#DIV/0!"}]
[783,null,null,null,null,null,null,null,null,null,null,null,null,null,null,null,null,null,null,null,null,null,null,null,null,null,null,null,null,null,null,null,null,null,null,null,null,null,null,null,null,null,null,null,null,null,null,null,null,null,null,null,null,null,null,null,null,null,null,null,null,null,null,null,0,0,0,0,0,{"$error":"#DIV/0!"}]
[{"$f":"+A830+1","v":784},null,null,null,null,null,null,null,null,null,null,null,null,null,null,null,null,null,null,null,null,null,null,null,null,null,null,null,null,null,null,null,null,null,null,null,null,null,null,null,null,null,null,null,null,null,null,null,null,null,null,null,null,null,null,null,null,null,null,null,null,null,null,null,0,{"$f":"+BI831+AK831+AH831+AE831+AB831+Y831+V831+S831+P831+M831+J831+G831+D831+AN831+AQ831+AT831+AW831+AZ831+BC831+BF831","v":0},{"$f":"+BJ831+AL831+AI831+AF831+AC831+Z831+W831+T831+Q831+N831+K831+H831+E831+AO831+AR831+AU831+AX831+BA831+BD831+BG831","v":0},{"$f":"+BN831-BO831","v":0},{"$f":"COUNT(C831:BJ831)/3","v":0},{"$f":"+BM831/BQ831","v":{"$error":"#DIV/0!"}}]
[785,null,null,null,null,null,null,null,null,null,null,null,null,null,null,null,null,null,null,null,null,null,null,null,null,null,null,null,null,null,null,null,null,null,null,null,null,null,null,null,null,null,null,null,null,null,null,null,null,null,null,null,null,null,null,null,null,null,null,null,null,null,null,null,0,0,0,0,0,{"$error":"#DIV/0!"}]
[786,null,null,null,null,null,null,null,null,null,null,null,null,null,null,null,null,null,null,null,null,null,null,null,null,null,null,null,null,null,null,null,null,null,null,null,null,null,null,null,null,null,null,null,null,null,null,null,null,null,null,null,null,null,null,null,null,null,null,null,null,null,null,null,0,0,0,0,0,{"$error":"#DIV/0!"}]
[787,null,null,null,null,null,null,null,null,null,null,null,null,null,null,null,null,null,null,null,null,null,null,null,null,null,null,null,null,null,null,null,null,null,null,null,null,null,null,null,null,null,null,null,null,null,null,null,null,null,null,null,null,null,null,null,null,null,null,null,null,null,null,null,0,0,0,0,0,{"$error":"#DIV/0!"}]
[788,null,null,null,null,null,null,null,null,null,null,null,null,null,null,null,null,null,null,null,null,null,null,null,null,null,null,null,null,null,null,null,null,null,null,null,null,null,null,null,null,null,null,null,null,null,null,null,null,null,null,null,null,null,null,null,null,null,null,null,null,null,null,null,0,0,0,0,0,{"$error":"#DIV/0!"}]
[789,null,null,null,null,null,null,null,null,null,null,null,null,null,null,null,null,null,null,null,null,null,null,null,null,null,null,null,null,null,null,null,null,null,null,null,null,null,null,null,null,null,null,null,null,null,null,null,null,null,null,null,null,null,null,null,null,null,null,null,null,null,null,null,0,0,0,0,0,{"$error":"#DIV/0!"}]
[790,null,null,null,null,null,null,null,null,null,null,null,null,null,null,null,null,null,null,null,null,null,null,null,null,null,null,null,null,null,null,null,null,null,null,null,null,null,null,null,null,null,null,null,null,null,null,null,null,null,null,null,null,null,null,null,null,null,null,null,null,null,null,null,0,0,0,0,0,{"$error":"#DIV/0!"}]
[791,null,null,null,null,null,null,null,null,null,null,null,null,null,null,null,null,null,null,null,null,null,null,null,null,null,null,null,null,null,null,null,null,null,null,null,null,null,null,null,null,null,null,null,null,null,null,null,null,null,null,null,null,null,null,null,null,null,null,null,null,null,null,null,0,0,0,0,0,{"$error":"#DIV/0!"}]
[792,null,null,null,null,null,null,null,null,null,null,null,null,null,null,null,null,null,null,null,null,null,null,null,null,null,null,null,null,null,null,null,null,null,null,null,null,null,null,null,null,null,null,null,null,null,null,null,null,null,null,null,null,null,null,null,null,null,null,null,null,null,null,null,0,0,0,0,0,{"$error":"#DIV/0!"}]
[793,null,null,null,null,null,null,null,null,null,null,null,null,null,null,null,null,null,null,null,null,null,null,null,null,null,null,null,null,null,null,null,null,null,null,null,null,null,null,null,null,null,null,null,null,null,null,null,null,null,null,null,null,null,null,null,null,null,null,null,null,null,null,null,0,0,0,0,0,{"$error":"#DIV/0!"}]
[794,null,null,null,null,null,null,null,null,null,null,null,null,null,null,null,null,null,null,null,null,null,null,null,null,null,null,null,null,null,null,null,null,null,null,null,null,null,null,null,null,null,null,null,null,null,null,null,null,null,null,null,null,null,null,null,null,null,null,null,null,null,null,null,0,0,0,0,0,{"$error":"#DIV/0!"}]
[795,null,null,null,null,null,null,null,null,null,null,null,null,null,null,null,null,null,null,null,null,null,null,null,null,null,null,null,null,null,null,null,null,null,null,null,null,null,null,null,null,null,null,null,null,null,null,null,null,null,null,null,null,null,null,null,null,null,null,null,null,null,null,null,0,0,0,0,0,{"$error":"#DIV/0!"}]
[796,null,null,null,null,null,null,null,null,null,null,null,null,null,null,null,null,null,null,null,null,null,null,null,null,null,null,null,null,null,null,null,null,null,null,null,null,null,null,null,null,null,null,null,null,null,null,null,null,null,null,null,null,null,null,null,null,null,null,null,null,null,null,null,0,0,0,0,0,{"$error":"#DIV/0!"}]
[797,null,null,null,null,null,null,null,null,null,null,null,null,null,null,null,null,null,null,null,null,null,null,null,null,null,null,null,null,null,null,null,null,null,null,null,null,null,null,null,null,null,null,null,null,null,null,null,null,null,null,null,null,null,null,null,null,null,null,null,null,null,null,null,0,0,0,0,0,{"$error":"#DIV/0!"}]
[798,null,null,null,null,null,null,null,null,null,null,null,null,null,null,null,null,null,null,null,null,null,null,null,null,null,null,null,null,null,null,null,null,null,null,null,null,null,null,null,null,null,null,null,null,null,null,null,null,null,null,null,null,null,null,null,null,null,null,null,null,null,null,null,0,0,0,0,0,{"$error":"#DIV/0!"}]
[799,null,null,null,null,null,null,null,null,null,null,null,null,null,null,null,null,null,null,null,null,null,null,null,null,null,null,null,null,null,null,null,null,null,null,null,null,null,null,null,null,null,null,null,null,null,null,null,null,null,null,null,null,null,null,null,null,null,null,null,null,null,null,null,0,0,0,0,0,{"$error":"#DIV/0!"}]
[800,null,null,null,null,null,null,null,null,null,null,null,null,null,null,null,null,null,null,null,null,null,null,null,null,null,null,null,null,null,null,null,null,null,null,null,null,null,null,null,null,null,null,null,null,null,null,null,null,null,null,null,null,null,null,null,null,null,null,null,null,null,null,null,0,0,0,0,0,{"$error":"#DIV/0!"}]
[801,null,null,null,null,null,null,null,null,null,null,null,null,null,null,null,null,null,null,null,null,null,null,null,null,null,null,null,null,null,null,null,null,null,null,null,null,null,null,null,null,null,null,null,null,null,null,null,null,null,null,null,null,null,null,null,null,null,null,null,null,null,null,null,0,0,0,0,0,{"$error":"#DIV/0!"}]
[802,null,null,null,null,null,null,null,null,null,null,null,null,null,null,null,null,null,null,null,null,null,null,null,null,null,null,null,null,null,null,null,null,null,null,null,null,null,null,null,null,null,null,null,null,null,null,null,null,null,null,null,null,null,null,null,null,null,null,null,null,null,null,null,0,0,0,0,0,{"$error":"#DIV/0!"}]
[803,null,null,null,null,null,null,null,null,null,null,null,null,null,null,null,null,null,null,null,null,null,null,null,null,null,null,null,null,null,null,null,null,null,null,null,null,null,null,null,null,null,null,null,null,null,null,null,null,null,null,null,null,null,null,null,null,null,null,null,null,null,null,null,0,0,0,0,0,{"$error":"#DIV/0!"}]
[804,null,null,null,null,null,null,null,null,null,null,null,null,null,null,null,null,null,null,null,null,null,null,null,null,null,null,null,null,null,null,null,null,null,null,null,null,null,null,null,null,null,null,null,null,null,null,null,null,null,null,null,null,null,null,null,null,null,null,null,null,null,null,null,0,0,0,0,0,{"$error":"#DIV/0!"}]
[805,null,null,null,null,null,null,null,null,null,null,null,null,null,null,null,null,null,null,null,null,null,null,null,null,null,null,null,null,null,null,null,null,null,null,null,null,null,null,null,null,null,null,null,null,null,null,null,null,null,null,null,null,null,null,null,null,null,null,null,null,null,null,null,0,0,0,0,0,{"$error":"#DIV/0!"}]
[806,null,null,null,null,null,null,null,null,null,null,null,null,null,null,null,null,null,null,null,null,null,null,null,null,null,null,null,null,null,null,null,null,null,null,null,null,null,null,null,null,null,null,null,null,null,null,null,null,null,null,null,null,null,null,null,null,null,null,null,null,null,null,null,0,0,0,0,0,{"$error":"#DIV/0!"}]
[807,null,null,null,null,null,null,null,null,null,null,null,null,null,null,null,null,null,null,null,null,null,null,null,null,null,null,null,null,null,null,null,null,null,null,null,null,null,null,null,null,null,null,null,null,null,null,null,null,null,null,null,null,null,null,null,null,null,null,null,null,null,null,null,0,0,0,0,0,{"$error":"#DIV/0!"}]
[808,null,null,null,null,null,null,null,null,null,null,null,null,null,null,null,null,null,null,null,null,null,null,null,null,null,null,null,null,null,null,null,null,null,null,null,null,null,null,null,null,null,null,null,null,null,null,null,null,null,null,null,null,null,null,null,null,null,null,null,null,null,null,null,0,0,0,0,0,{"$error":"#DIV/0!"}]
[809,null,null,null,null,null,null,null,null,null,null,null,null,null,null,null,null,null,null,null,null,null,null,null,null,null,null,null,null,null,null,null,null,null,null,null,null,null,null,null,null,null,null,null,null,null,null,null,null,null,null,null,null,null,null,null,null,null,null,null,null,null,null,null,0,0,0,0,0,{"$error":"#DIV/0!"}]
[810,null,null,null,null,null,null,null,null,null,null,null,null,null,null,null,null,null,null,null,null,null,null,null,null,null,null,null,null,null,null,null,null,null,null,null,null,null,null,null,null,null,null,null,null,null,null,null,null,null,null,null,null,null,null,null,null,null,null,null,null,null,null,null,0,0,0,0,0,{"$error":"#DIV/0!"}]
[811,null,null,null,null,null,null,null,null,null,null,null,null,null,null,null,null,null,null,null,null,null,null,null,null,null,null,null,null,null,null,null,null,null,null,null,null,null,null,null,null,null,null,null,null,null,null,null,null,null,null,null,null,null,null,null,null,null,null,null,null,null,null,null,0,0,0,0,0,{"$error":"#DIV/0!"}]
[812,null,null,null,null,null,null,null,null,null,null,null,null,null,null,null,null,null,null,null,null,null,null,null,null,null,null,null,null,null,null,null,null,null,null,null,null,null,null,null,null,null,null,null,null,null,null,null,null,null,null,null,null,null,null,null,null,null,null,null,null,null,null,null,0,0,0,0,0,{"$error":"#DIV/0!"}]
[813,null,null,null,null,null,null,null,null,null,null,null,null,null,null,null,null,null,null,null,null,null,null,null,null,null,null,null,null,null,null,null,null,null,null,null,null,null,null,null,null,null,null,null,null,null,null,null,null,null,null,null,null,null,null,null,null,null,null,null,null,null,null,null,0,0,0,0,0,{"$error":"#DIV/0!"}]
[814,null,null,null,null,null,null,null,null,null,null,null,null,null,null,null,null,null,null,null,null,null,null,null,null,null,null,null,null,null,null,null,null,null,null,null,null,null,null,null,null,null,null,null,null,null,null,null,null,null,null,null,null,null,null,null,null,null,null,null,null,null,null,null,0,0,0,0,0,{"$error":"#DIV/0!"}]
[815,null,null,null,null,null,null,null,null,null,null,null,null,null,null,null,null,null,null,null,null,null,null,null,null,null,null,null,null,null,null,null,null,null,null,null,null,null,null,null,null,null,null,null,null,null,null,null,null,null,null,null,null,null,null,null,null,null,null,null,null,null,null,null,0,0,0,0,0,{"$error":"#DIV/0!"}]
[816,null,null,null,null,null,null,null,null,null,null,null,null,null,null,null,null,null,null,null,null,null,null,null,null,null,null,null,null,null,null,null,null,null,null,null,null,null,null,null,null,null,null,null,null,null,null,null,null,null,null,null,null,null,null,null,null,null,null,null,null,null,null,null,0,0,0,0,0,{"$error":"#DIV/0!"}]
[817,null,null,null,null,null,null,null,null,null,null,null,null,null,null,null,null,null,null,null,null,null,null,null,null,null,null,null,null,null,null,null,null,null,null,null,null,null,null,null,null,null,null,null,null,null,null,null,null,null,null,null,null,null,null,null,null,null,null,null,null,null,null,null,0,0,0,0,0,{"$error":"#DIV/0!"}]
[818,null,null,null,null,null,null,null,null,null,null,null,null,null,null,null,null,null,null,null,null,null,null,null,null,null,null,null,null,null,null,null,null,null,null,null,null,null,null,null,null,null,null,null,null,null,null,null,null,null,null,null,null,null,null,null,null,null,null,null,null,null,null,null,0,0,0,0,0,{"$error":"#DIV/0!"}]
[819,null,null,null,null,null,null,null,null,null,null,null,null,null,null,null,null,null,null,null,null,null,null,null,null,null,null,null,null,null,null,null,null,null,null,null,null,null,null,null,null,null,null,null,null,null,null,null,null,null,null,null,null,null,null,null,null,null,null,null,null,null,null,null,0,0,0,0,0,{"$error":"#DIV/0!"}]
[820,null,null,null,null,null,null,null,null,null,null,null,null,null,null,null,null,null,null,null,null,null,null,null,null,null,null,null,null,null,null,null,null,null,null,null,null,null,null,null,null,null,null,null,null,null,null,null,null,null,null,null,null,null,null,null,null,null,null,null,null,null,null,null,0,0,0,0,0,{"$error":"#DIV/0!"}]
[821,null,null,null,null,null,null,null,null,null,null,null,null,null,null,null,null,null,null,null,null,null,null,null,null,null,null,null,null,null,null,null,null,null,null,null,null,null,null,null,null,null,null,null,null,null,null,null,null,null,null,null,null,null,null,null,null,null,null,null,null,null,null,null,0,0,0,0,0,{"$error":"#DIV/0!"}]
[822,null,null,null,null,null,null,null,null,null,null,null,null,null,null,null,null,null,null,null,null,null,null,null,null,null,null,null,null,null,null,null,null,null,null,null,null,null,null,null,null,null,null,null,null,null,null,null,null,null,null,null,null,null,null,null,null,null,null,null,null,null,null,null,0,0,0,0,0,{"$error":"#DIV/0!"}]
[823,null,null,null,null,null,null,null,null,null,null,null,null,null,null,null,null,null,null,null,null,null,null,null,null,null,null,null,null,null,null,null,null,null,null,null,null,null,null,null,null,null,null,null,null,null,null,null,null,null,null,null,null,null,null,null,null,null,null,null,null,null,null,null,0,0,0,0,0,{"$error":"#DIV/0!"}]
[824,null,null,null,null,null,null,null,null,null,null,null,null,null,null,null,null,null,null,null,null,null,null,null,null,null,null,null,null,null,null,null,null,null,null,null,null,null,null,null,null,null,null,null,null,null,null,null,null,null,null,null,null,null,null,null,null,null,null,null,null,null,null,null,0,0,0,0,0,{"$error":"#DIV/0!"}]
[825,null,null,null,null,null,null,null,null,null,null,null,null,null,null,null,null,null,null,null,null,null,null,null,null,null,null,null,null,null,null,null,null,null,null,null,null,null,null,null,null,null,null,null,null,null,null,null,null,null,null,null,null,null,null,null,null,null,null,null,null,null,null,null,0,0,0,0,0,{"$error":"#DIV/0!"}]
[826,null,null,null,null,null,null,null,null,null,null,null,null,null,null,null,null,null,null,null,null,null,null,null,null,null,null,null,null,null,null,null,null,null,null,null,null,null,null,null,null,null,null,null,null,null,null,null,null,null,null,null,null,null,null,null,null,null,null,null,null,null,null,null,0,0,0,0,0,{"$error":"#DIV/0!"}]
[827,null,null,null,null,null,null,null,null,null,null,null,null,null,null,null,null,null,null,null,null,null,null,null,null,null,null,null,null,null,null,null,null,null,null,null,null,null,null,null,null,null,null,null,null,null,null,null,null,null,null,null,null,null,null,null,null,null,null,null,null,null,null,null,0,0,0,0,0,{"$error":"#DIV/0!"}]
[828,null,null,null,null,null,null,null,null,null,null,null,null,null,null,null,null,null,null,null,null,null,null,null,null,null,null,null,null,null,null,null,null,null,null,null,null,null,null,null,null,null,null,null,null,null,null,null,null,null,null,null,null,null,null,null,null,null,null,null,null,null,null,null,0,0,0,0,0,{"$error":"#DIV/0!"}]
[829,null,null,null,null,null,null,null,null,null,null,null,null,null,null,null,null,null,null,null,null,null,null,null,null,null,null,null,null,null,null,null,null,null,null,null,null,null,null,null,null,null,null,null,null,null,null,null,null,null,null,null,null,null,null,null,null,null,null,null,null,null,null,null,0,0,0,0,0,{"$error":"#DIV/0!"}]
[830,null,null,null,null,null,null,null,null,null,null,null,null,null,null,null,null,null,null,null,null,null,null,null,null,null,null,null,null,null,null,null,null,null,null,null,null,null,null,null,null,null,null,null,null,null,null,null,null,null,null,null,null,null,null,null,null,null,null,null,null,null,null,null,0,0,0,0,0,{"$error":"#DIV/0!"}]
[831,null,null,null,null,null,null,null,null,null,null,null,null,null,null,null,null,null,null,null,null,null,null,null,null,null,null,null,null,null,null,null,null,null,null,null,null,null,null,null,null,null,null,null,null,null,null,null,null,null,null,null,null,null,null,null,null,null,null,null,null,null,null,null,0,0,0,0,0,{"$error":"#DIV/0!"}]
[832,null,null,null,null,null,null,null,null,null,null,null,null,null,null,null,null,null,null,null,null,null,null,null,null,null,null,null,null,null,null,null,null,null,null,null,null,null,null,null,null,null,null,null,null,null,null,null,null,null,null,null,null,null,null,null,null,null,null,null,null,null,null,null,0,0,0,0,0,{"$error":"#DIV/0!"}]
[833,null,null,null,null,null,null,null,null,null,null,null,null,null,null,null,null,null,null,null,null,null,null,null,null,null,null,null,null,null,null,null,null,null,null,null,null,null,null,null,null,null,null,null,null,null,null,null,null,null,null,null,null,null,null,null,null,null,null,null,null,null,null,null,{"$f":"+BH880+AJ880+AG880+AD880+AA880+X880+U880+R880+O880+L880+I880+F880+C880+AM880+AP880+AS880+AV880+AY880+BB880+BE880","v":0},0,0,0,0,{"$error":"#DIV/0!"}]
[834,null,null,null,null,null,null,null,null,null,null,null,null,null,null,null,null,null,null,null,null,null,null,null,null,null,null,null,null,null,null,null,null,null,null,null,null,null,null,null,null,null,null,null,null,null,null,null,null,null,null,null,null,null,null,null,null,null,null,null,null,null,null,null,0,0,0,0,0,{"$error":"#DIV/0!"}]
[835,null,null,null,null,null,null,null,null,null,null,null,null,null,null,null,null,null,null,null,null,null,null,null,null,null,null,null,null,null,null,null,null,null,null,null,null,null,null,null,null,null,null,null,null,null,null,null,null,null,null,null,null,null,null,null,null,null,null,null,null,null,null,null,0,0,0,0,0,{"$error":"#DIV/0!"}]
[836,null,null,null,null,null,null,null,null,null,null,null,null,null,null,null,null,null,null,null,null,null,null,null,null,null,null,null,null,null,null,null,null,null,null,null,null,null,null,null,null,null,null,null,null,null,null,null,null,null,null,null,null,null,null,null,null,null,null,null,null,null,null,null,0,0,0,0,0,{"$error":"#DIV/0!"}]
[837,null,null,null,null,null,null,null,null,null,null,null,null,null,null,null,null,null,null,null,null,null,null,null,null,null,null,null,null,null,null,null,null,null,null,null,null,null,null,null,null,null,null,null,null,null,null,null,null,null,null,null,null,null,null,null,null,null,null,null,null,null,null,null,0,0,0,0,0,{"$error":"#DIV/0!"}]
[838,null,null,null,null,null,null,null,null,null,null,null,null,null,null,null,null,null,null,null,null,null,null,null,null,null,null,null,null,null,null,null,null,null,null,null,null,null,null,null,null,null,null,null,null,null,null,null,null,null,null,null,null,null,null,null,null,null,null,null,null,null,null,null,0,0,0,0,0,{"$error":"#DIV/0!"}]
[839,null,null,null,null,null,null,null,null,null,null,null,null,null,null,null,null,null,null,null,null,null,null,null,null,null,null,null,null,null,null,null,null,null,null,null,null,null,null,null,null,null,null,null,null,null,null,null,null,null,null,null,null,null,null,null,null,null,null,null,null,null,null,null,0,0,0,0,0,{"$error":"#DIV/0!"}]
[840,null,null,null,null,null,null,null,null,null,null,null,null,null,null,null,null,null,null,null,null,null,null,null,null,null,null,null,null,null,null,null,null,null,null,null,null,null,null,null,null,null,null,null,null,null,null,null,null,null,null,null,null,null,null,null,null,null,null,null,null,null,null,null,0,0,0,0,0,{"$error":"#DIV/0!"}]
[841,null,null,null,null,null,null,null,null,null,null,null,null,null,null,null,null,null,null,null,null,null,null,null,null,null,null,null,null,null,null,null,null,null,null,null,null,null,null,null,null,null,null,null,null,null,null,null,null,null,null,null,null,null,null,null,null,null,null,null,null,null,null,null,0,0,0,0,0,{"$error":"#DIV/0!"}]
[842,null,null,null,null,null,null,null,null,null,null,null,null,null,null,null,null,null,null,null,null,null,null,null,null,null,null,null,null,null,null,null,null,null,null,null,null,null,null,null,null,null,null,null,null,null,null,null,null,null,null,null,null,null,null,null,null,null,null,null,null,null,null,null,0,0,0,0,0,{"$error":"#DIV/0!"}]
[843,null,null,null,null,null,null,null,null,null,null,null,null,null,null,null,null,null,null,null,null,null,null,null,null,null,null,null,null,null,null,null,null,null,null,null,null,null,null,null,null,null,null,null,null,null,null,null,null,null,null,null,null,null,null,null,null,null,null,null,null,null,null,null,0,0,0,0,0,{"$error":"#DIV/0!"}]
[844,null,null,null,null,null,null,null,null,null,null,null,null,null,null,null,null,null,null,null,null,null,null,null,null,null,null,null,null,null,null,null,null,null,null,null,null,null,null,null,null,null,null,null,null,null,null,null,null,null,null,null,null,null,null,null,null,null,null,null,null,null,null,null,0,0,0,0,0,{"$error":"#DIV/0!"}]
[845,null,null,null,null,null,null,null,null,null,null,null,null,null,null,null,null,null,null,null,null,null,null,null,null,null,null,null,null,null,null,null,null,null,null,null,null,null,null,null,null,null,null,null,null,null,null,null,null,null,null,null,null,null,null,null,null,null,null,null,null,null,null,null,0,0,0,0,0,{"$error":"#DIV/0!"}]
[846,null,null,null,null,null,null,null,null,null,null,null,null,null,null,null,null,null,null,null,null,null,null,null,null,null,null,null,null,null,null,null,null,null,null,null,null,null,null,null,null,null,null,null,null,null,null,null,null,null,null,null,null,null,null,null,null,null,null,null,null,null,null,null,0,0,0,0,0,{"$error":"#DIV/0!"}]
[847,null,null,null,null,null,null,null,null,null,null,null,null,null,null,null,null,null,null,null,null,null,null,null,null,null,null,null,null,null,null,null,null,null,null,null,null,null,null,null,null,null,null,null,null,null,null,null,null,null,null,null,null,null,null,null,null,null,null,null,null,null,null,null,0,0,0,0,0,{"$error":"#DIV/0!"}]
[{"$f":"+A894+1","v":848},null,null,null,null,null,null,null,null,null,null,null,null,null,null,null,null,null,null,null,null,null,null,null,null,null,null,null,null,null,null,null,null,null,null,null,null,null,null,null,null,null,null,null,null,null,null,null,null,null,null,null,null,null,null,null,null,null,null,null,null,null,null,null,0,{"$f":"+BI895+AK895+AH895+AE895+AB895+Y895+V895+S895+P895+M895+J895+G895+D895+AN895+AQ895+AT895+AW895+AZ895+BC895+BF895","v":0},{"$f":"+BJ895+AL895+AI895+AF895+AC895+Z895+W895+T895+Q895+N895+K895+H895+E895+AO895+AR895+AU895+AX895+BA895+BD895+BG895","v":0},{"$f":"+BN895-BO895","v":0},{"$f":"COUNT(C895:BJ895)/3","v":0},{"$f":"+BM895/BQ895","v":{"$error":"#DIV/0!"}}]
[849,null,null,null,null,null,null,null,null,null,null,null,null,null,null,null,null,null,null,null,null,null,null,null,null,null,null,null,null,null,null,null,null,null,null,null,null,null,null,null,null,null,null,null,null,null,null,null,null,null,null,null,null,null,null,null,null,null,null,null,null,null,null,null,0,0,0,0,0,{"$error":"#DIV/0!"}]
[850,null,null,null,null,null,null,null,null,null,null,null,null,null,null,null,null,null,null,null,null,null,null,null,null,null,null,null,null,null,null,null,null,null,null,null,null,null,null,null,null,null,null,null,null,null,null,null,null,null,null,null,null,null,null,null,null,null,null,null,null,null,null,null,0,0,0,0,0,{"$error":"#DIV/0!"}]
[851,null,null,null,null,null,null,null,null,null,null,null,null,null,null,null,null,null,null,null,null,null,null,null,null,null,null,null,null,null,null,null,null,null,null,null,null,null,null,null,null,null,null,null,null,null,null,null,null,null,null,null,null,null,null,null,null,null,null,null,null,null,null,null,0,0,0,0,0,{"$error":"#DIV/0!"}]
[852,null,null,null,null,null,null,null,null,null,null,null,null,null,null,null,null,null,null,null,null,null,null,null,null,null,null,null,null,null,null,null,null,null,null,null,null,null,null,null,null,null,null,null,null,null,null,null,null,null,null,null,null,null,null,null,null,null,null,null,null,null,null,null,0,0,0,0,0,{"$error":"#DIV/0!"}]
[853,null,null,null,null,null,null,null,null,null,null,null,null,null,null,null,null,null,null,null,null,null,null,null,null,null,null,null,null,null,null,null,null,null,null,null,null,null,null,null,null,null,null,null,null,null,null,null,null,null,null,null,null,null,null,null,null,null,null,null,null,null,null,null,0,0,0,0,0,{"$error":"#DIV/0!"}]
[854,null,null,null,null,null,null,null,null,null,null,null,null,null,null,null,null,null,null,null,null,null,null,null,null,null,null,null,null,null,null,null,null,null,null,null,null,null,null,null,null,null,null,null,null,null,null,null,null,null,null,null,null,null,null,null,null,null,null,null,null,null,null,null,0,0,0,0,0,{"$error":"#DIV/0!"}]
[855,null,null,null,null,null,null,null,null,null,null,null,null,null,null,null,null,null,null,null,null,null,null,null,null,null,null,null,null,null,null,null,null,null,null,null,null,null,null,null,null,null,null,null,null,null,null,null,null,null,null,null,null,null,null,null,null,null,null,null,null,null,null,null,0,0,0,0,0,{"$error":"#DIV/0!"}]
[856,null,null,null,null,null,null,null,null,null,null,null,null,null,null,null,null,null,null,null,null,null,null,null,null,null,null,null,null,null,null,null,null,null,null,null,null,null,null,null,null,null,null,null,null,null,null,null,null,null,null,null,null,null,null,null,null,null,null,null,null,null,null,null,0,0,0,0,0,{"$error":"#DIV/0!"}]
[857,null,null,null,null,null,null,null,null,null,null,null,null,null,null,null,null,null,null,null,null,null,null,null,null,null,null,null,null,null,null,null,null,null,null,null,null,null,null,null,null,null,null,null,null,null,null,null,null,null,null,null,null,null,null,null,null,null,null,null,null,null,null,null,0,0,0,0,0,{"$error":"#DIV/0!"}]
[858,null,null,null,null,null,null,null,null,null,null,null,null,null,null,null,null,null,null,null,null,null,null,null,null,null,null,null,null,null,null,null,null,null,null,null,null,null,null,null,null,null,null,null,null,null,null,null,null,null,null,null,null,null,null,null,null,null,null,null,null,null,null,null,0,0,0,0,0,{"$error":"#DIV/0!"}]
[859,null,null,null,null,null,null,null,null,null,null,null,null,null,null,null,null,null,null,null,null,null,null,null,null,null,null,null,null,null,null,null,null,null,null,null,null,null,null,null,null,null,null,null,null,null,null,null,null,null,null,null,null,null,null,null,null,null,null,null,null,null,null,null,0,0,0,0,0,{"$error":"#DIV/0!"}]
[860,null,null,null,null,null,null,null,null,null,null,null,null,null,null,null,null,null,null,null,null,null,null,null,null,null,null,null,null,null,null,null,null,null,null,null,null,null,null,null,null,null,null,null,null,null,null,null,null,null,null,null,null,null,null,null,null,null,null,null,null,null,null,null,0,0,0,0,0,{"$error":"#DIV/0!"}]
[861,null,null,null,null,null,null,null,null,null,null,null,null,null,null,null,null,null,null,null,null,null,null,null,null,null,null,null,null,null,null,null,null,null,null,null,null,null,null,null,null,null,null,null,null,null,null,null,null,null,null,null,null,null,null,null,null,null,null,null,null,null,null,null,0,0,0,0,0,{"$error":"#DIV/0!"}]
[862,null,null,null,null,null,null,null,null,null,null,null,null,null,null,null,null,null,null,null,null,null,null,null,null,null,null,null,null,null,null,null,null,null,null,null,null,null,null,null,null,null,null,null,null,null,null,null,null,null,null,null,null,null,null,null,null,null,null,null,null,null,null,null,0,0,0,0,0,{"$error":"#DIV/0!"}]
[863,null,null,null,null,null,null,null,null,null,null,null,null,null,null,null,null,null,null,null,null,null,null,null,null,null,null,null,null,null,null,null,null,null,null,null,null,null,null,null,null,null,null,null,null,null,null,null,null,null,null,null,null,null,null,null,null,null,null,null,null,null,null,null,0,0,0,0,0,{"$error":"#DIV/0!"}]
[864,null,null,null,null,null,null,null,null,null,null,null,null,null,null,null,null,null,null,null,null,null,null,null,null,null,null,null,null,null,null,null,null,null,null,null,null,null,null,null,null,null,null,null,null,null,null,null,null,null,null,null,null,null,null,null,null,null,null,null,null,null,null,null,0,0,0,0,0,{"$error":"#DIV/0!"}]
[865,null,null,null,null,null,null,null,null,null,null,null,null,null,null,null,null,null,null,null,null,null,null,null,null,null,null,null,null,null,null,null,null,null,null,null,null,null,null,null,null,null,null,null,null,null,null,null,null,null,null,null,null,null,null,null,null,null,null,null,null,null,null,null,0,0,0,0,0,{"$error":"#DIV/0!"}]
[866,null,null,null,null,null,null,null,null,null,null,null,null,null,null,null,null,null,null,null,null,null,null,null,null,null,null,null,null,null,null,null,null,null,null,null,null,null,null,null,null,null,null,null,null,null,null,null,null,null,null,null,null,null,null,null,null,null,null,null,null,null,null,null,0,0,0,0,0,{"$error":"#DIV/0!"}]
[867,null,null,null,null,null,null,null,null,null,null,null,null,null,null,null,null,null,null,null,null,null,null,null,null,null,null,null,null,null,null,null,null,null,null,null,null,null,null,null,null,null,null,null,null,null,null,null,null,null,null,null,null,null,null,null,null,null,null,null,null,null,null,null,0,0,0,0,0,{"$error":"#DIV/0!"}]
[868,null,null,null,null,null,null,null,null,null,null,null,null,null,null,null,null,null,null,null,null,null,null,null,null,null,null,null,null,null,null,null,null,null,null,null,null,null,null,null,null,null,null,null,null,null,null,null,null,null,null,null,null,null,null,null,null,null,null,null,null,null,null,null,0,0,0,0,0,{"$error":"#DIV/0!"}]
[869,null,null,null,null,null,null,null,null,null,null,null,null,null,null,null,null,null,null,null,null,null,null,null,null,null,null,null,null,null,null,null,null,null,null,null,null,null,null,null,null,null,null,null,null,null,null,null,null,null,null,null,null,null,null,null,null,null,null,null,null,null,null,null,0,0,0,0,0,{"$error":"#DIV/0!"}]
[870,null,null,null,null,null,null,null,null,null,null,null,null,null,null,null,null,null,null,null,null,null,null,null,null,null,null,null,null,null,null,null,null,null,null,null,null,null,null,null,null,null,null,null,null,null,null,null,null,null,null,null,null,null,null,null,null,null,null,null,null,null,null,null,0,0,0,0,0,{"$error":"#DIV/0!"}]
[871,null,null,null,null,null,null,null,null,null,null,null,null,null,null,null,null,null,null,null,null,null,null,null,null,null,null,null,null,null,null,null,null,null,null,null,null,null,null,null,null,null,null,null,null,null,null,null,null,null,null,null,null,null,null,null,null,null,null,null,null,null,null,null,0,0,0,0,0,{"$error":"#DIV/0!"}]
[872,null,null,null,null,null,null,null,null,null,null,null,null,null,null,null,null,null,null,null,null,null,null,null,null,null,null,null,null,null,null,null,null,null,null,null,null,null,null,null,null,null,null,null,null,null,null,null,null,null,null,null,null,null,null,null,null,null,null,null,null,null,null,null,0,0,0,0,0,{"$error":"#DIV/0!"}]
[873,null,null,null,null,null,null,null,null,null,null,null,null,null,null,null,null,null,null,null,null,null,null,null,null,null,null,null,null,null,null,null,null,null,null,null,null,null,null,null,null,null,null,null,null,null,null,null,null,null,null,null,null,null,null,null,null,null,null,null,null,null,null,null,0,0,0,0,0,{"$error":"#DIV/0!"}]
[874,null,null,null,null,null,null,null,null,null,null,null,null,null,null,null,null,null,null,null,null,null,null,null,null,null,null,null,null,null,null,null,null,null,null,null,null,null,null,null,null,null,null,null,null,null,null,null,null,null,null,null,null,null,null,null,null,null,null,null,null,null,null,null,0,0,0,0,0,{"$error":"#DIV/0!"}]
[875,null,null,null,null,null,null,null,null,null,null,null,null,null,null,null,null,null,null,null,null,null,null,null,null,null,null,null,null,null,null,null,null,null,null,null,null,null,null,null,null,null,null,null,null,null,null,null,null,null,null,null,null,null,null,null,null,null,null,null,null,null,null,null,0,0,0,0,0,{"$error":"#DIV/0!"}]
[876,null,null,null,null,null,null,null,null,null,null,null,null,null,null,null,null,null,null,null,null,null,null,null,null,null,null,null,null,null,null,null,null,null,null,null,null,null,null,null,null,null,null,null,null,null,null,null,null,null,null,null,null,null,null,null,null,null,null,null,null,null,null,null,0,0,0,0,0,{"$error":"#DIV/0!"}]
[877,null,null,null,null,null,null,null,null,null,null,null,null,null,null,null,null,null,null,null,null,null,null,null,null,null,null,null,null,null,null,null,null,null,null,null,null,null,null,null,null,null,null,null,null,null,null,null,null,null,null,null,null,null,null,null,null,null,null,null,null,null,null,null,0,0,0,0,0,{"$error":"#DIV/0!"}]
[878,null,null,null,null,null,null,null,null,null,null,null,null,null,null,null,null,null,null,null,null,null,null,null,null,null,null,null,null,null,null,null,null,null,null,null,null,null,null,null,null,null,null,null,null,null,null,null,null,null,null,null,null,null,null,null,null,null,null,null,null,null,null,null,0,0,0,0,0,{"$error":"#DIV/0!"}]
[879,null,null,null,null,null,null,null,null,null,null,null,null,null,null,null,null,null,null,null,null,null,null,null,null,null,null,null,null,null,null,null,null,null,null,null,null,null,null,null,null,null,null,null,null,null,null,null,null,null,null,null,null,null,null,null,null,null,null,null,null,null,null,null,0,0,0,0,0,{"$error":"#DIV/0!"}]
[880,null,null,null,null,null,null,null,null,null,null,null,null,null,null,null,null,null,null,null,null,null,null,null,null,null,null,null,null,null,null,null,null,null,null,null,null,null,null,null,null,null,null,null,null,null,null,null,null,null,null,null,null,null,null,null,null,null,null,null,null,null,null,null,0,0,0,0,0,{"$error":"#DIV/0!"}]
[881,null,null,null,null,null,null,null,null,null,null,null,null,null,null,null,null,null,null,null,null,null,null,null,null,null,null,null,null,null,null,null,null,null,null,null,null,null,null,null,null,null,null,null,null,null,null,null,null,null,null,null,null,null,null,null,null,null,null,null,null,null,null,null,0,0,0,0,0,{"$error":"#DIV/0!"}]
[882,null,null,null,null,null,null,null,null,null,null,null,null,null,null,null,null,null,null,null,null,null,null,null,null,null,null,null,null,null,null,null,null,null,null,null,null,null,null,null,null,null,null,null,null,null,null,null,null,null,null,null,null,null,null,null,null,null,null,null,null,null,null,null,0,0,0,0,0,{"$error":"#DIV/0!"}]
[883,null,null,null,null,null,null,null,null,null,null,null,null,null,null,null,null,null,null,null,null,null,null,null,null,null,null,null,null,null,null,null,null,null,null,null,null,null,null,null,null,null,null,null,null,null,null,null,null,null,null,null,null,null,null,null,null,null,null,null,null,null,null,null,0,0,0,0,0,{"$error":"#DIV/0!"}]
[884,null,null,null,null,null,null,null,null,null,null,null,null,null,null,null,null,null,null,null,null,null,null,null,null,null,null,null,null,null,null,null,null,null,null,null,null,null,null,null,null,null,null,null,null,null,null,null,null,null,null,null,null,null,null,null,null,null,null,null,null,null,null,null,0,0,0,0,0,{"$error":"#DIV/0!"}]
[885,null,null,null,null,null,null,null,null,null,null,null,null,null,null,null,null,null,null,null,null,null,null,null,null,null,null,null,null,null,null,null,null,null,null,null,null,null,null,null,null,null,null,null,null,null,null,null,null,null,null,null,null,null,null,null,null,null,null,null,null,null,null,null,0,0,0,0,0,{"$error":"#DIV/0!"}]
[886,null,null,null,null,null,null,null,null,null,null,null,null,null,null,null,null,null,null,null,null,null,null,null,null,null,null,null,null,null,null,null,null,null,null,null,null,null,null,null,null,null,null,null,null,null,null,null,null,null,null,null,null,null,null,null,null,null,null,null,null,null,null,null,0,0,0,0,0,{"$error":"#DIV/0!"}]
[887,null,null,null,null,null,null,null,null,null,null,null,null,null,null,null,null,null,null,null,null,null,null,null,null,null,null,null,null,null,null,null,null,null,null,null,null,null,null,null,null,null,null,null,null,null,null,null,null,null,null,null,null,null,null,null,null,null,null,null,null,null,null,null,0,0,0,0,0,{"$error":"#DIV/0!"}]
[888,null,null,null,null,null,null,null,null,null,null,null,null,null,null,null,null,null,null,null,null,null,null,null,null,null,null,null,null,null,null,null,null,null,null,null,null,null,null,null,null,null,null,null,null,null,null,null,null,null,null,null,null,null,null,null,null,null,null,null,null,null,null,null,0,0,0,0,0,{"$error":"#DIV/0!"}]
[889,null,null,null,null,null,null,null,null,null,null,null,null,null,null,null,null,null,null,null,null,null,null,null,null,null,null,null,null,null,null,null,null,null,null,null,null,null,null,null,null,null,null,null,null,null,null,null,null,null,null,null,null,null,null,null,null,null,null,null,null,null,null,null,0,0,0,0,0,{"$error":"#DIV/0!"}]
[890,null,null,null,null,null,null,null,null,null,null,null,null,null,null,null,null,null,null,null,null,null,null,null,null,null,null,null,null,null,null,null,null,null,null,null,null,null,null,null,null,null,null,null,null,null,null,null,null,null,null,null,null,null,null,null,null,null,null,null,null,null,null,null,0,0,0,0,0,{"$error":"#DIV/0!"}]
[891,null,null,null,null,null,null,null,null,null,null,null,null,null,null,null,null,null,null,null,null,null,null,null,null,null,null,null,null,null,null,null,null,null,null,null,null,null,null,null,null,null,null,null,null,null,null,null,null,null,null,null,null,null,null,null,null,null,null,null,null,null,null,null,0,0,0,0,0,{"$error":"#DIV/0!"}]
[892,null,null,null,null,null,null,null,null,null,null,null,null,null,null,null,null,null,null,null,null,null,null,null,null,null,null,null,null,null,null,null,null,null,null,null,null,null,null,null,null,null,null,null,null,null,null,null,null,null,null,null,null,null,null,null,null,null,null,null,null,null,null,null,0,0,0,0,0,{"$error":"#DIV/0!"}]
[893,null,null,null,null,null,null,null,null,null,null,null,null,null,null,null,null,null,null,null,null,null,null,null,null,null,null,null,null,null,null,null,null,null,null,null,null,null,null,null,null,null,null,null,null,null,null,null,null,null,null,null,null,null,null,null,null,null,null,null,null,null,null,null,0,0,0,0,0,{"$error":"#DIV/0!"}]
[894,null,null,null,null,null,null,null,null,null,null,null,null,null,null,null,null,null,null,null,null,null,null,null,null,null,null,null,null,null,null,null,null,null,null,null,null,null,null,null,null,null,null,null,null,null,null,null,null,null,null,null,null,null,null,null,null,null,null,null,null,null,null,null,0,0,0,0,0,{"$error":"#DIV/0!"}]
[895,null,null,null,null,null,null,null,null,null,null,null,null,null,null,null,null,null,null,null,null,null,null,null,null,null,null,null,null,null,null,null,null,null,null,null,null,null,null,null,null,null,null,null,null,null,null,null,null,null,null,null,null,null,null,null,null,null,null,null,null,null,null,null,0,0,0,0,0,{"$error":"#DIV/0!"}]
[896,null,null,null,null,null,null,null,null,null,null,null,null,null,null,null,null,null,null,null,null,null,null,null,null,null,null,null,null,null,null,null,null,null,null,null,null,null,null,null,null,null,null,null,null,null,null,null,null,null,null,null,null,null,null,null,null,null,null,null,null,null,null,null,0,0,0,0,0,{"$error":"#DIV/0!"}]
[897,null,null,null,null,null,null,null,null,null,null,null,null,null,null,null,null,null,null,null,null,null,null,null,null,null,null,null,null,null,null,null,null,null,null,null,null,null,null,null,null,null,null,null,null,null,null,null,null,null,null,null,null,null,null,null,null,null,null,null,null,null,null,null,{"$f":"+BH944+AJ944+AG944+AD944+AA944+X944+U944+R944+O944+L944+I944+F944+C944+AM944+AP944+AS944+AV944+AY944+BB944+BE944","v":0},0,0,0,0,{"$error":"#DIV/0!"}]
[898,null,null,null,null,null,null,null,null,null,null,null,null,null,null,null,null,null,null,null,null,null,null,null,null,null,null,null,null,null,null,null,null,null,null,null,null,null,null,null,null,null,null,null,null,null,null,null,null,null,null,null,null,null,null,null,null,null,null,null,null,null,null,null,0,0,0,0,0,{"$error":"#DIV/0!"}]
[899,null,null,null,null,null,null,null,null,null,null,null,null,null,null,null,null,null,null,null,null,null,null,null,null,null,null,null,null,null,null,null,null,null,null,null,null,null,null,null,null,null,null,null,null,null,null,null,null,null,null,null,null,null,null,null,null,null,null,null,null,null,null,null,0,0,0,0,0,{"$error":"#DIV/0!"}]
[900,null,null,null,null,null,null,null,null,null,null,null,null,null,null,null,null,null,null,null,null,null,null,null,null,null,null,null,null,null,null,null,null,null,null,null,null,null,null,null,null,null,null,null,null,null,null,null,null,null,null,null,null,null,null,null,null,null,null,null,null,null,null,null,0,0,0,0,0,{"$error":"#DIV/0!"}]
[901,null,null,null,null,null,null,null,null,null,null,null,null,null,null,null,null,null,null,null,null,null,null,null,null,null,null,null,null,null,null,null,null,null,null,null,null,null,null,null,null,null,null,null,null,null,null,null,null,null,null,null,null,null,null,null,null,null,null,null,null,null,null,null,0,0,0,0,0,{"$error":"#DIV/0!"}]
[902,null,null,null,null,null,null,null,null,null,null,null,null,null,null,null,null,null,null,null,null,null,null,null,null,null,null,null,null,null,null,null,null,null,null,null,null,null,null,null,null,null,null,null,null,null,null,null,null,null,null,null,null,null,null,null,null,null,null,null,null,null,null,null,0,0,0,0,0,{"$error":"#DIV/0!"}]
[903,null,null,null,null,null,null,null,null,null,null,null,null,null,null,null,null,null,null,null,null,null,null,null,null,null,null,null,null,null,null,null,null,null,null,null,null,null,null,null,null,null,null,null,null,null,null,null,null,null,null,null,null,null,null,null,null,null,null,null,null,null,null,null,0,0,0,0,0,{"$error":"#DIV/0!"}]
[904,null,null,null,null,null,null,null,null,null,null,null,null,null,null,null,null,null,null,null,null,null,null,null,null,null,null,null,null,null,null,null,null,null,null,null,null,null,null,null,null,null,null,null,null,null,null,null,null,null,null,null,null,null,null,null,null,null,null,null,null,null,null,null,0,0,0,0,0,{"$error":"#DIV/0!"}]
[905,null,null,null,null,null,null,null,null,null,null,null,null,null,null,null,null,null,null,null,null,null,null,null,null,null,null,null,null,null,null,null,null,null,null,null,null,null,null,null,null,null,null,null,null,null,null,null,null,null,null,null,null,null,null,null,null,null,null,null,null,null,null,null,0,0,0,0,0,{"$error":"#DIV/0!"}]
[906,null,null,null,null,null,null,null,null,null,null,null,null,null,null,null,null,null,null,null,null,null,null,null,null,null,null,null,null,null,null,null,null,null,null,null,null,null,null,null,null,null,null,null,null,null,null,null,null,null,null,null,null,null,null,null,null,null,null,null,null,null,null,null,0,0,0,0,0,{"$error":"#DIV/0!"}]
[907,null,null,null,null,null,null,null,null,null,null,null,null,null,null,null,null,null,null,null,null,null,null,null,null,null,null,null,null,null,null,null,null,null,null,null,null,null,null,null,null,null,null,null,null,null,null,null,null,null,null,null,null,null,null,null,null,null,null,null,null,null,null,null,0,0,0,0,0,{"$error":"#DIV/0!"}]
[908,null,null,null,null,null,null,null,null,null,null,null,null,null,null,null,null,null,null,null,null,null,null,null,null,null,null,null,null,null,null,null,null,null,null,null,null,null,null,null,null,null,null,null,null,null,null,null,null,null,null,null,null,null,null,null,null,null,null,null,null,null,null,null,0,0,0,0,0,{"$error":"#DIV/0!"}]
[909,null,null,null,null,null,null,null,null,null,null,null,null,null,null,null,null,null,null,null,null,null,null,null,null,null,null,null,null,null,null,null,null,null,null,null,null,null,null,null,null,null,null,null,null,null,null,null,null,null,null,null,null,null,null,null,null,null,null,null,null,null,null,null,0,0,0,0,0,{"$error":"#DIV/0!"}]
[910,null,null,null,null,null,null,null,null,null,null,null,null,null,null,null,null,null,null,null,null,null,null,null,null,null,null,null,null,null,null,null,null,null,null,null,null,null,null,null,null,null,null,null,null,null,null,null,null,null,null,null,null,null,null,null,null,null,null,null,null,null,null,null,0,0,0,0,0,{"$error":"#DIV/0!"}]
[911,null,null,null,null,null,null,null,null,null,null,null,null,null,null,null,null,null,null,null,null,null,null,null,null,null,null,null,null,null,null,null,null,null,null,null,null,null,null,null,null,null,null,null,null,null,null,null,null,null,null,null,null,null,null,null,null,null,null,null,null,null,null,null,0,0,0,0,0,{"$error":"#DIV/0!"}]
[{"$f":"+A958+1","v":912},null,null,null,null,null,null,null,null,null,null,null,null,null,null,null,null,null,null,null,null,null,null,null,null,null,null,null,null,null,null,null,null,null,null,null,null,null,null,null,null,null,null,null,null,null,null,null,null,null,null,null,null,null,null,null,null,null,null,null,null,null,null,null,0,{"$f":"+BI959+AK959+AH959+AE959+AB959+Y959+V959+S959+P959+M959+J959+G959+D959+AN959+AQ959+AT959+AW959+AZ959+BC959+BF959","v":0},{"$f":"+BJ959+AL959+AI959+AF959+AC959+Z959+W959+T959+Q959+N959+K959+H959+E959+AO959+AR959+AU959+AX959+BA959+BD959+BG959","v":0},{"$f":"+BN959-BO959","v":0},{"$f":"COUNT(C959:BJ959)/3","v":0},{"$f":"+BM959/BQ959","v":{"$error":"#DIV/0!"}}]
[913,null,null,null,null,null,null,null,null,null,null,null,null,null,null,null,null,null,null,null,null,null,null,null,null,null,null,null,null,null,null,null,null,null,null,null,null,null,null,null,null,null,null,null,null,null,null,null,null,null,null,null,null,null,null,null,null,null,null,null,null,null,null,null,0,0,0,0,0,{"$error":"#DIV/0!"}]
[914,null,null,null,null,null,null,null,null,null,null,null,null,null,null,null,null,null,null,null,null,null,null,null,null,null,null,null,null,null,null,null,null,null,null,null,null,null,null,null,null,null,null,null,null,null,null,null,null,null,null,null,null,null,null,null,null,null,null,null,null,null,null,null,0,0,0,0,0,{"$error":"#DIV/0!"}]
[915,null,null,null,null,null,null,null,null,null,null,null,null,null,null,null,null,null,null,null,null,null,null,null,null,null,null,null,null,null,null,null,null,null,null,null,null,null,null,null,null,null,null,null,null,null,null,null,null,null,null,null,null,null,null,null,null,null,null,null,null,null,null,null,0,0,0,0,0,{"$error":"#DIV/0!"}]
[916,null,null,null,null,null,null,null,null,null,null,null,null,null,null,null,null,null,null,null,null,null,null,null,null,null,null,null,null,null,null,null,null,null,null,null,null,null,null,null,null,null,null,null,null,null,null,null,null,null,null,null,null,null,null,null,null,null,null,null,null,null,null,null,0,0,0,0,0,{"$error":"#DIV/0!"}]
[917,null,null,null,null,null,null,null,null,null,null,null,null,null,null,null,null,null,null,null,null,null,null,null,null,null,null,null,null,null,null,null,null,null,null,null,null,null,null,null,null,null,null,null,null,null,null,null,null,null,null,null,null,null,null,null,null,null,null,null,null,null,null,null,0,0,0,0,0,{"$error":"#DIV/0!"}]
[918,null,null,null,null,null,null,null,null,null,null,null,null,null,null,null,null,null,null,null,null,null,null,null,null,null,null,null,null,null,null,null,null,null,null,null,null,null,null,null,null,null,null,null,null,null,null,null,null,null,null,null,null,null,null,null,null,null,null,null,null,null,null,null,0,0,0,0,0,{"$error":"#DIV/0!"}]
[919,null,null,null,null,null,null,null,null,null,null,null,null,null,null,null,null,null,null,null,null,null,null,null,null,null,null,null,null,null,null,null,null,null,null,null,null,null,null,null,null,null,null,null,null,null,null,null,null,null,null,null,null,null,null,null,null,null,null,null,null,null,null,null,0,0,0,0,0,{"$error":"#DIV/0!"}]
[920,null,null,null,null,null,null,null,null,null,null,null,null,null,null,null,null,null,null,null,null,null,null,null,null,null,null,null,null,null,null,null,null,null,null,null,null,null,null,null,null,null,null,null,null,null,null,null,null,null,null,null,null,null,null,null,null,null,null,null,null,null,null,null,0,0,0,0,0,{"$error":"#DIV/0!"}]
[921,null,null,null,null,null,null,null,null,null,null,null,null,null,null,null,null,null,null,null,null,null,null,null,null,null,null,null,null,null,null,null,null,null,null,null,null,null,null,null,null,null,null,null,null,null,null,null,null,null,null,null,null,null,null,null,null,null,null,null,null,null,null,null,0,0,0,0,0,{"$error":"#DIV/0!"}]
[922,null,null,null,null,null,null,null,null,null,null,null,null,null,null,null,null,null,null,null,null,null,null,null,null,null,null,null,null,null,null,null,null,null,null,null,null,null,null,null,null,null,null,null,null,null,null,null,null,null,null,null,null,null,null,null,null,null,null,null,null,null,null,null,0,0,0,0,0,{"$error":"#DIV/0!"}]
[923,null,null,null,null,null,null,null,null,null,null,null,null,null,null,null,null,null,null,null,null,null,null,null,null,null,null,null,null,null,null,null,null,null,null,null,null,null,null,null,null,null,null,null,null,null,null,null,null,null,null,null,null,null,null,null,null,null,null,null,null,null,null,null,0,{"$f":"+BI970+AK970+AH970+AE970+AB970+Y970+V970+S970+P970+M970+J970+G970+D970+AN970+AQ970+AT970+AW970+AZ970+BC970+BF970","v":0},{"$f":"+BJ970+AL970+AI970+AF970+AC970+Z970+W970+T970+Q970+N970+K970+H970+E970+AO970+AR970+AU970+AX970+BA970+BD970+BG970","v":0},0,0,{"$error":"#DIV/0!"}]
[924,null,null,null,null,null,null,null,null,null,null,null,null,null,null,null,null,null,null,null,null,null,null,null,null,null,null,null,null,null,null,null,null,null,null,null,null,null,null,null,null,null,null,null,null,null,null,null,null,null,null,null,null,null,null,null,null,null,null,null,null,null,null,null,0,{"$f":"+BI971+AK971+AH971+AE971+AB971+Y971+V971+S971+P971+M971+J971+G971+D971+AN971+AQ971+AT971+AW971+AZ971+BC971+BF971","v":0},{"$f":"+BJ971+AL971+AI971+AF971+AC971+Z971+W971+T971+Q971+N971+K971+H971+E971+AO971+AR971+AU971+AX971+BA971+BD971+BG971","v":0},0,0,{"$error":"#DIV/0!"}]
[925,null,null,null,null,null,null,null,null,null,null,null,null,null,null,null,null,null,null,null,null,null,null,null,null,null,null,null,null,null,null,null,null,null,null,null,null,null,null,null,null,null,null,null,null,null,null,null,null,null,null,null,null,null,null,null,null,null,null,null,null,null,null,null,0,{"$f":"+BI972+AK972+AH972+AE972+AB972+Y972+V972+S972+P972+M972+J972+G972+D972+AN972+AQ972+AT972+AW972+AZ972+BC972+BF972","v":0},{"$f":"+BJ972+AL972+AI972+AF972+AC972+Z972+W972+T972+Q972+N972+K972+H972+E972+AO972+AR972+AU972+AX972+BA972+BD972+BG972","v":0},0,0,{"$error":"#DIV/0!"}]
[926,null,null,null,null,null,null,null,null,null,null,null,null,null,null,null,null,null,null,null,null,null,null,null,null,null,null,null,null,null,null,null,null,null,null,null,null,null,null,null,null,null,null,null,null,null,null,null,null,null,null,null,null,null,null,null,null,null,null,null,null,null,null,null,0,0,0,0,0,{"$error":"#DIV/0!"}]
[927,null,null,null,null,null,null,null,null,null,null,null,null,null,null,null,null,null,null,null,null,null,null,null,null,null,null,null,null,null,null,null,null,null,null,null,null,null,null,null,null,null,null,null,null,null,null,null,null,null,null,null,null,null,null,null,null,null,null,null,null,null,null,null,0,0,0,0,0,{"$error":"#DIV/0!"}]
[928,null,null,null,null,null,null,null,null,null,null,null,null,null,null,null,null,null,null,null,null,null,null,null,null,null,null,null,null,null,null,null,null,null,null,null,null,null,null,null,null,null,null,null,null,null,null,null,null,null,null,null,null,null,null,null,null,null,null,null,null,null,null,null,0,0,0,0,0,{"$error":"#DIV/0!"}]
[929,null,null,null,null,null,null,null,null,null,null,null,null,null,null,null,null,null,null,null,null,null,null,null,null,null,null,null,null,null,null,null,null,null,null,null,null,null,null,null,null,null,null,null,null,null,null,null,null,null,null,null,null,null,null,null,null,null,null,null,null,null,null,null,0,0,0,0,0,{"$error":"#DIV/0!"}]
[930,null,null,null,null,null,null,null,null,null,null,null,null,null,null,null,null,null,null,null,null,null,null,null,null,null,null,null,null,null,null,null,null,null,null,null,null,null,null,null,null,null,null,null,null,null,null,null,null,null,null,null,null,null,null,null,null,null,null,null,null,null,null,null,0,0,0,0,0,{"$error":"#DIV/0!"}]
[931,null,null,null,null,null,null,null,null,null,null,null,null,null,null,null,null,null,null,null,null,null,null,null,null,null,null,null,null,null,null,null,null,null,null,null,null,null,null,null,null,null,null,null,null,null,null,null,null,null,null,null,null,null,null,null,null,null,null,null,null,null,null,null,0,0,0,0,0,{"$error":"#DIV/0!"}]
[932,null,null,null,null,null,null,null,null,null,null,null,null,null,null,null,null,null,null,null,null,null,null,null,null,null,null,null,null,null,null,null,null,null,null,null,null,null,null,null,null,null,null,null,null,null,null,null,null,null,null,null,null,null,null,null,null,null,null,null,null,null,null,null,0,0,0,0,0,{"$error":"#DIV/0!"}]
[933,null,null,null,null,null,null,null,null,null,null,null,null,null,null,null,null,null,null,null,null,null,null,null,null,null,null,null,null,null,null,null,null,null,null,null,null,null,null,null,null,null,null,null,null,null,null,null,null,null,null,null,null,null,null,null,null,null,null,null,null,null,null,null,0,0,0,0,0,{"$error":"#DIV/0!"}]
[934,null,null,null,null,null,null,null,null,null,null,null,null,null,null,null,null,null,null,null,null,null,null,null,null,null,null,null,null,null,null,null,null,null,null,null,null,null,null,null,null,null,null,null,null,null,null,null,null,null,null,null,null,null,null,null,null,null,null,null,null,null,null,null,0,0,0,0,0,{"$error":"#DIV/0!"}]
[935,null,null,null,null,null,null,null,null,null,null,null,null,null,null,null,null,null,null,null,null,null,null,null,null,null,null,null,null,null,null,null,null,null,null,null,null,null,null,null,null,null,null,null,null,null,null,null,null,null,null,null,null,null,null,null,null,null,null,null,null,null,null,null,0,0,0,0,0,{"$error":"#DIV/0!"}]
[936,null,null,null,null,null,null,null,null,null,null,null,null,null,null,null,null,null,null,null,null,null,null,null,null,null,null,null,null,null,null,null,null,null,null,null,null,null,null,null,null,null,null,null,null,null,null,null,null,null,null,null,null,null,null,null,null,null,null,null,null,null,null,null,0,0,0,0,0,{"$error":"#DIV/0!"}]
[937,null,null,null,null,null,null,null,null,null,null,null,null,null,null,null,null,null,null,null,null,null,null,null,null,null,null,null,null,null,null,null,null,null,null,null,null,null,null,null,null,null,null,null,null,null,null,null,null,null,null,null,null,null,null,null,null,null,null,null,null,null,null,null,0,0,0,0,0,{"$error":"#DIV/0!"}]
[938,null,null,null,null,null,null,null,null,null,null,null,null,null,null,null,null,null,null,null,null,null,null,null,null,null,null,null,null,null,null,null,null,null,null,null,null,null,null,null,null,null,null,null,null,null,null,null,null,null,null,null,null,null,null,null,null,null,null,null,null,null,null,null,0,0,0,0,0,{"$error":"#DIV/0!"}]
[939,null,null,null,null,null,null,null,null,null,null,null,null,null,null,null,null,null,null,null,null,null,null,null,null,null,null,null,null,null,null,null,null,null,null,null,null,null,null,null,null,null,null,null,null,null,null,null,null,null,null,null,null,null,null,null,null,null,null,null,null,null,null,null,0,0,0,0,0,{"$error":"#DIV/0!"}]
[940,null,null,null,null,null,null,null,null,null,null,null,null,null,null,null,null,null,null,null,null,null,null,null,null,null,null,null,null,null,null,null,null,null,null,null,null,null,null,null,null,null,null,null,null,null,null,null,null,null,null,null,null,null,null,null,null,null,null,null,null,null,null,null,0,0,0,0,0,{"$error":"#DIV/0!"}]
[941,null,null,null,null,null,null,null,null,null,null,null,null,null,null,null,null,null,null,null,null,null,null,null,null,null,null,null,null,null,null,null,null,null,null,null,null,null,null,null,null,null,null,null,null,null,null,null,null,null,null,null,null,null,null,null,null,null,null,null,null,null,null,null,0,0,0,0,0,{"$error":"#DIV/0!"}]
[942,null,null,null,null,null,null,null,null,null,null,null,null,null,null,null,null,null,null,null,null,null,null,null,null,null,null,null,null,null,null,null,null,null,null,null,null,null,null,null,null,null,null,null,null,null,null,null,null,null,null,null,null,null,null,null,null,null,null,null,null,null,null,null,0,0,0,0,0,{"$error":"#DIV/0!"}]
[943,null,null,null,null,null,null,null,null,null,null,null,null,null,null,null,null,null,null,null,null,null,null,null,null,null,null,null,null,null,null,null,null,null,null,null,null,null,null,null,null,null,null,null,null,null,null,null,null,null,null,null,null,null,null,null,null,null,null,null,null,null,null,null,0,0,0,0,0,{"$error":"#DIV/0!"}]
[944,null,null,null,null,null,null,null,null,null,null,null,null,null,null,null,null,null,null,null,null,null,null,null,null,null,null,null,null,null,null,null,null,null,null,null,null,null,null,null,null,null,null,null,null,null,null,null,null,null,null,null,null,null,null,null,null,null,null,null,null,null,null,null,0,0,0,0,0,{"$error":"#DIV/0!"}]
[945,null,null,null,null,null,null,null,null,null,null,null,null,null,null,null,null,null,null,null,null,null,null,null,null,null,null,null,null,null,null,null,null,null,null,null,null,null,null,null,null,null,null,null,null,null,null,null,null,null,null,null,null,null,null,null,null,null,null,null,null,null,null,null,0,0,0,0,0,{"$error":"#DIV/0!"}]
[946,null,null,null,null,null,null,null,null,null,null,null,null,null,null,null,null,null,null,null,null,null,null,null,null,null,null,null,null,null,null,null,null,null,null,null,null,null,null,null,null,null,null,null,null,null,null,null,null,null,null,null,null,null,null,null,null,null,null,null,null,null,null,null,0,0,0,0,0,{"$error":"#DIV/0!"}]
[947,null,null,null,null,null,null,null,null,null,null,null,null,null,null,null,null,null,null,null,null,null,null,null,null,null,null,null,null,null,null,null,null,null,null,null,null,null,null,null,null,null,null,null,null,null,null,null,null,null,null,null,null,null,null,null,null,null,null,null,null,null,null,null,0,0,0,0,0,{"$error":"#DIV/0!"}]
[948,null,null,null,null,null,null,null,null,null,null,null,null,null,null,null,null,null,null,null,null,null,null,null,null,null,null,null,null,null,null,null,null,null,null,null,null,null,null,null,null,null,null,null,null,null,null,null,null,null,null,null,null,null,null,null,null,null,null,null,null,null,null,null,0,0,0,0,0,{"$error":"#DIV/0!"}]
[949,null,null,null,null,null,null,null,null,null,null,null,null,null,null,null,null,null,null,null,null,null,null,null,null,null,null,null,null,null,null,null,null,null,null,null,null,null,null,null,null,null,null,null,null,null,null,null,null,null,null,null,null,null,null,null,null,null,null,null,null,null,null,null,0,0,0,0,0,{"$error":"#DIV/0!"}]
[950,null,null,null,null,null,null,null,null,null,null,null,null,null,null,null,null,null,null,null,null,null,null,null,null,null,null,null,null,null,null,null,null,null,null,null,null,null,null,null,null,null,null,null,null,null,null,null,null,null,null,null,null,null,null,null,null,null,null,null,null,null,null,null,0,0,0,0,0,{"$error":"#DIV/0!"}]
[951,null,null,null,null,null,null,null,null,null,null,null,null,null,null,null,null,null,null,null,null,null,null,null,null,null,null,null,null,null,null,null,null,null,null,null,null,null,null,null,null,null,null,null,null,null,null,null,null,null,null,null,null,null,null,null,null,null,null,null,null,null,null,null,0,0,0,0,0,{"$error":"#DIV/0!"}]
[952,null,null,null,null,null,null,null,null,null,null,null,null,null,null,null,null,null,null,null,null,null,null,null,null,null,null,null,null,null,null,null,null,null,null,null,null,null,null,null,null,null,null,null,null,null,null,null,null,null,null,null,null,null,null,null,null,null,null,null,null,null,null,null,0,0,0,0,0,{"$error":"#DIV/0!"}]
[953,null,null,null,null,null,null,null,null,null,null,null,null,null,null,null,null,null,null,null,null,null,null,null,null,null,null,null,null,null,null,null,null,null,null,null,null,null,null,null,null,null,null,null,null,null,null,null,null,null,null,null,null,null,null,null,null,null,null,null,null,null,null,null,0,{"$f":"+BI1000+AK1000+AH1000+AE1000+AB1000+Y1000+V1000+S1000+P1000+M1000+J1000+G1000+D1000+AN1000+AQ1000+AT1000+AW1000+AZ1000+BC1000+BF1000","v":0},{"$f":"+BJ1000+AL1000+AI1000+AF1000+AC1000+Z1000+W1000+T1000+Q1000+N1000+K1000+H1000+E1000+AO1000+AR1000+AU1000+AX1000+BA1000+BD1000+BG1000","v":0},{"$f":"+BN1000-BO1000","v":0},{"$f":"COUNT(C1000:BJ1000)/3","v":0},{"$f":"+BM1000/BQ1000","v":{"$error":"#DIV/0!"}}]
[954,null,null,null,null,null,null,null,null,null,null,null,null,null,null,null,null,null,null,null,null,null,null,null,null,null,null,null,null,null,null,null,null,null,null,null,null,null,null,null,null,null,null,null,null,null,null,null,null,null,null,null,null,null,null,null,null,null,null,null,null,null,null,null,0,0,0,0,0,{"$error":"#DIV/0!"}]
[955,null,null,null,null,null,null,null,null,null,null,null,null,null,null,null,null,null,null,null,null,null,null,null,null,null,null,null,null,null,null,null,null,null,null,null,null,null,null,null,null,null,null,null,null,null,null,null,null,null,null,null,null,null,null,null,null,null,null,null,null,null,null,null,0,0,0,0,0,{"$error":"#DIV/0!"}]
[956,null,null,null,null,null,null,null,null,null,null,null,null,null,null,null,null,null,null,null,null,null,null,null,null,null,null,null,null,null,null,null,null,null,null,null,null,null,null,null,null,null,null,null,null,null,null,null,null,null,null,null,null,null,null,null,null,null,null,null,null,null,null,null,0,0,0,0,0,{"$error":"#DIV/0!"}]
[957,null,null,null,null,null,null,null,null,null,null,null,null,null,null,null,null,null,null,null,null,null,null,null,null,null,null,null,null,null,null,null,null,null,null,null,null,null,null,null,null,null,null,null,null,null,null,null,null,null,null,null,null,null,null,null,null,null,null,null,null,null,null,null,0,0,0,0,0,{"$error":"#DIV/0!"}]
[958,null,null,null,null,null,null,null,null,null,null,null,null,null,null,null,null,null,null,null,null,null,null,null,null,null,null,null,null,null,null,null,null,null,null,null,null,null,null,null,null,null,null,null,null,null,null,null,null,null,null,null,null,null,null,null,null,null,null,null,null,null,null,null,0,0,0,0,0,{"$error":"#DIV/0!"}]
[959,null,null,null,null,null,null,null,null,null,null,null,null,null,null,null,null,null,null,null,null,null,null,null,null,null,null,null,null,null,null,null,null,null,null,null,null,null,null,null,null,null,null,null,null,null,null,null,null,null,null,null,null,null,null,null,null,null,null,null,null,null,null,null,0,0,0,0,0,{"$error":"#DIV/0!"}]
[960,null,null,null,null,null,null,null,null,null,null,null,null,null,null,null,null,null,null,null,null,null,null,null,null,null,null,null,null,null,null,null,null,null,null,null,null,null,null,null,null,null,null,null,null,null,null,null,null,null,null,null,null,null,null,null,null,null,null,null,null,null,null,null,0,0,0,0,0,{"$error":"#DIV/0!"}]
[961,null,null,null,null,null,null,null,null,null,null,null,null,null,null,null,null,null,null,null,null,null,null,null,null,null,null,null,null,null,null,null,null,null,null,null,null,null,null,null,null,null,null,null,null,null,null,null,null,null,null,null,null,null,null,null,null,null,null,null,null,null,null,null,{"$f":"+BH1008+AJ1008+AG1008+AD1008+AA1008+X1008+U1008+R1008+O1008+L1008+I1008+F1008+C1008+AM1008+AP1008+AS1008+AV1008+AY1008+BB1008+BE1008","v":0},0,0,0,0,{"$error":"#DIV/0!"}]
[962,null,null,null,null,null,null,null,null,null,null,null,null,null,null,null,null,null,null,null,null,null,null,null,null,null,null,null,null,null,null,null,null,null,null,null,null,null,null,null,null,null,null,null,null,null,null,null,null,null,null,null,null,null,null,null,null,null,null,null,null,null,null,null,0,0,0,0,0,{"$error":"#DIV/0!"}]
[963,null,null,null,null,null,null,null,null,null,null,null,null,null,null,null,null,null,null,null,null,null,null,null,null,null,null,null,null,null,null,null,null,null,null,null,null,null,null,null,null,null,null,null,null,null,null,null,null,null,null,null,null,null,null,null,null,null,null,null,null,null,null,null,0,0,0,0,0,{"$error":"#DIV/0!"}]
[964,null,null,null,null,null,null,null,null,null,null,null,null,null,null,null,null,null,null,null,null,null,null,null,null,null,null,null,null,null,null,null,null,null,null,null,null,null,null,null,null,null,null,null,null,null,null,null,null,null,null,null,null,null,null,null,null,null,null,null,null,null,null,null,0,0,0,0,0,{"$error":"#DIV/0!"}]
[965,null,null,null,null,null,null,null,null,null,null,null,null,null,null,null,null,null,null,null,null,null,null,null,null,null,null,null,null,null,null,null,null,null,null,null,null,null,null,null,null,null,null,null,null,null,null,null,null,null,null,null,null,null,null,null,null,null,null,null,null,null,null,null,0,0,0,0,0,{"$error":"#DIV/0!"}]
[966,null,null,null,null,null,null,null,null,null,null,null,null,null,null,null,null,null,null,null,null,null,null,null,null,null,null,null,null,null,null,null,null,null,null,null,null,null,null,null,null,null,null,null,null,null,null,null,null,null,null,null,null,null,null,null,null,null,null,null,null,null,null,null,0,0,0,0,0,{"$error":"#DIV/0!"}]
[967,null,null,null,null,null,null,null,null,null,null,null,null,null,null,null,null,null,null,null,null,null,null,null,null,null,null,null,null,null,null,null,null,null,null,null,null,null,null,null,null,null,null,null,null,null,null,null,null,null,null,null,null,null,null,null,null,null,null,null,null,null,null,null,0,0,0,0,0,{"$error":"#DIV/0!"}]
[968,null,null,null,null,null,null,null,null,null,null,null,null,null,null,null,null,null,null,null,null,null,null,null,null,null,null,null,null,null,null,null,null,null,null,null,null,null,null,null,null,null,null,null,null,null,null,null,null,null,null,null,null,null,null,null,null,null,null,null,null,null,null,null,0,0,0,0,0,{"$error":"#DIV/0!"}]
[969,null,null,null,null,null,null,null,null,null,null,null,null,null,null,null,null,null,null,null,null,null,null,null,null,null,null,null,null,null,null,null,null,null,null,null,null,null,null,null,null,null,null,null,null,null,null,null,null,null,null,null,null,null,null,null,null,null,null,null,null,null,null,null,0,0,0,0,0,{"$error":"#DIV/0!"}]
[970,null,null,null,null,null,null,null,null,null,null,null,null,null,null,null,null,null,null,null,null,null,null,null,null,null,null,null,null,null,null,null,null,null,null,null,null,null,null,null,null,null,null,null,null,null,null,null,null,null,null,null,null,null,null,null,null,null,null,null,null,null,null,null,0,0,0,0,0,{"$error":"#DIV/0!"}]
[971,null,null,null,null,null,null,null,null,null,null,null,null,null,null,null,null,null,null,null,null,null,null,null,null,null,null,null,null,null,null,null,null,null,null,null,null,null,null,null,null,null,null,null,null,null,null,null,null,null,null,null,null,null,null,null,null,null,null,null,null,null,null,null,0,0,0,0,0,{"$error":"#DIV/0!"}]
[972,null,null,null,null,null,null,null,null,null,null,null,null,null,null,null,null,null,null,null,null,null,null,null,null,null,null,null,null,null,null,null,null,null,null,null,null,null,null,null,null,null,null,null,null,null,null,null,null,null,null,null,null,null,null,null,null,null,null,null,null,null,null,null,0,0,0,0,0,{"$error":"#DIV/0!"}]
[973,null,null,null,null,null,null,null,null,null,null,null,null,null,null,null,null,null,null,null,null,null,null,null,null,null,null,null,null,null,null,null,null,null,null,null,null,null,null,null,null,null,null,null,null,null,null,null,null,null,null,null,null,null,null,null,null,null,null,null,null,null,null,null,0,0,0,0,0,{"$error":"#DIV/0!"}]
[974,null,null,null,null,null,null,null,null,null,null,null,null,null,null,null,null,null,null,null,null,null,null,null,null,null,null,null,null,null,null,null,null,null,null,null,null,null,null,null,null,null,null,null,null,null,null,null,null,null,null,null,null,null,null,null,null,null,null,null,null,null,null,null,0,0,0,0,0,{"$error":"#DIV/0!"}]
[975,null,null,null,null,null,null,null,null,null,null,null,null,null,null,null,null,null,null,null,null,null,null,null,null,null,null,null,null,null,null,null,null,null,null,null,null,null,null,null,null,null,null,null,null,null,null,null,null,null,null,null,null,null,null,null,null,null,null,null,null,null,null,null,0,0,0,0,0,{"$error":"#DIV/0!"}]
[{"$f":"+A1022+1","v":976},null,null,null,null,null,null,null,null,null,null,null,null,null,null,null,null,null,null,null,null,null,null,null,null,null,null,null,null,null,null,null,null,null,null,null,null,null,null,null,null,null,null,null,null,null,null,null,null,null,null,null,null,null,null,null,null,null,null,null,null,null,null,null,0,0,0,0,0,{"$error":"#DIV/0!"}]
[977,null,null,null,null,null,null,null,null,null,null,null,null,null,null,null,null,null,null,null,null,null,null,null,null,null,null,null,null,null,null,null,null,null,null,null,null,null,null,null,null,null,null,null,null,null,null,null,null,null,null,null,null,null,null,null,null,null,null,null,null,null,null,null,0,0,0,0,0,{"$error":"#DIV/0!"}]
[978,null,null,null,null,null,null,null,null,null,null,null,null,null,null,null,null,null,null,null,null,null,null,null,null,null,null,null,null,null,null,null,null,null,null,null,null,null,null,null,null,null,null,null,null,null,null,null,null,null,null,null,null,null,null,null,null,null,null,null,null,null,null,null,0,0,0,0,0,{"$error":"#DIV/0!"}]
[979,null,null,null,null,null,null,null,null,null,null,null,null,null,null,null,null,null,null,null,null,null,null,null,null,null,null,null,null,null,null,null,null,null,null,null,null,null,null,null,null,null,null,null,null,null,null,null,null,null,null,null,null,null,null,null,null,null,null,null,null,null,null,null,0,0,0,0,0,{"$error":"#DIV/0!"}]
[980,null,null,null,null,null,null,null,null,null,null,null,null,null,null,null,null,null,null,null,null,null,null,null,null,null,null,null,null,null,null,null,null,null,null,null,null,null,null,null,null,null,null,null,null,null,null,null,null,null,null,null,null,null,null,null,null,null,null,null,null,null,null,null,0,0,0,0,0,{"$error":"#DIV/0!"}]
[981,null,null,null,null,null,null,null,null,null,null,null,null,null,null,null,null,null,null,null,null,null,null,null,null,null,null,null,null,null,null,null,null,null,null,null,null,null,null,null,null,null,null,null,null,null,null,null,null,null,null,null,null,null,null,null,null,null,null,null,null,null,null,null,0,0,0,0,0,{"$error":"#DIV/0!"}]
[982,null,null,null,null,null,null,null,null,null,null,null,null,null,null,null,null,null,null,null,null,null,null,null,null,null,null,null,null,null,null,null,null,null,null,null,null,null,null,null,null,null,null,null,null,null,null,null,null,null,null,null,null,null,null,null,null,null,null,null,null,null,null,null,0,0,0,0,0,{"$error":"#DIV/0!"}]
[983,null,null,null,null,null,null,null,null,null,null,null,null,null,null,null,null,null,null,null,null,null,null,null,null,null,null,null,null,null,null,null,null,null,null,null,null,null,null,null,null,null,null,null,null,null,null,null,null,null,null,null,null,null,null,null,null,null,null,null,null,null,null,null,0,0,0,0,0,{"$error":"#DIV/0!"}]
[984,null,null,null,null,null,null,null,null,null,null,null,null,null,null,null,null,null,null,null,null,null,null,null,null,null,null,null,null,null,null,null,null,null,null,null,null,null,null,null,null,null,null,null,null,null,null,null,null,null,null,null,null,null,null,null,null,null,null,null,null,null,null,null,0,0,0,0,0,{"$error":"#DIV/0!"}]
[985,null,null,null,null,null,null,null,null,null,null,null,null,null,null,null,null,null,null,null,null,null,null,null,null,null,null,null,null,null,null,null,null,null,null,null,null,null,null,null,null,null,null,null,null,null,null,null,null,null,null,null,null,null,null,null,null,null,null,null,null,null,null,null,0,0,0,0,0,{"$error":"#DIV/0!"}]
[986,null,null,null,null,null,null,null,null,null,null,null,null,null,null,null,null,null,null,null,null,null,null,null,null,null,null,null,null,null,null,null,null,null,null,null,null,null,null,null,null,null,null,null,null,null,null,null,null,null,null,null,null,null,null,null,null,null,null,null,null,null,null,null,0,0,0,0,0,{"$error":"#DIV/0!"}]
[987,null,null,null,null,null,null,null,null,null,null,null,null,null,null,null,null,null,null,null,null,null,null,null,null,null,null,null,null,null,null,null,null,null,null,null,null,null,null,null,null,null,null,null,null,null,null,null,null,null,null,null,null,null,null,null,null,null,null,null,null,null,null,null,0,0,0,0,0,{"$error":"#DIV/0!"}]
[988,null,null,null,null,null,null,null,null,null,null,null,null,null,null,null,null,null,null,null,null,null,null,null,null,null,null,null,null,null,null,null,null,null,null,null,null,null,null,null,null,null,null,null,null,null,null,null,null,null,null,null,null,null,null,null,null,null,null,null,null,null,null,null,0,0,0,0,0,{"$error":"#DIV/0!"}]
[989,null,null,null,null,null,null,null,null,null,null,null,null,null,null,null,null,null,null,null,null,null,null,null,null,null,null,null,null,null,null,null,null,null,null,null,null,null,null,null,null,null,null,null,null,null,null,null,null,null,null,null,null,null,null,null,null,null,null,null,null,null,null,null,0,0,0,0,0,{"$error":"#DIV/0!"}]
[990,null,null,null,null,null,null,null,null,null,null,null,null,null,null,null,null,null,null,null,null,null,null,null,null,null,null,null,null,null,null,null,null,null,null,null,null,null,null,null,null,null,null,null,null,null,null,null,null,null,null,null,null,null,null,null,null,null,null,null,null,null,null,null,0,0,0,0,0,{"$error":"#DIV/0!"}]
[991,null,null,null,null,null,null,null,null,null,null,null,null,null,null,null,null,null,null,null,null,null,null,null,null,null,null,null,null,null,null,null,null,null,null,null,null,null,null,null,null,null,null,null,null,null,null,null,null,null,null,null,null,null,null,null,null,null,null,null,null,null,null,null,0,0,0,0,0,{"$error":"#DIV/0!"}]
[992,null,null,null,null,null,null,null,null,null,null,null,null,null,null,null,null,null,null,null,null,null,null,null,null,null,null,null,null,null,null,null,null,null,null,null,null,null,null,null,null,null,null,null,null,null,null,null,null,null,null,null,null,null,null,null,null,null,null,null,null,null,null,null,0,0,0,0,0,{"$error":"#DIV/0!"}]
[993,null,null,null,null,null,null,null,null,null,null,null,null,null,null,null,null,null,null,null,null,null,null,null,null,null,null,null,null,null,null,null,null,null,null,null,null,null,null,null,null,null,null,null,null,null,null,null,null,null,null,null,null,null,null,null,null,null,null,null,null,null,null,null,0,0,0,0,0,{"$error":"#DIV/0!"}]
[994,null,null,null,null,null,null,null,null,null,null,null,null,null,null,null,null,null,null,null,null,null,null,null,null,null,null,null,null,null,null,null,null,null,null,null,null,null,null,null,null,null,null,null,null,null,null,null,null,null,null,null,null,null,null,null,null,null,null,null,null,null,null,null,0,0,0,0,0,{"$error":"#DIV/0!"}]
[995,null,null,null,null,null,null,null,null,null,null,null,null,null,null,null,null,null,null,null,null,null,null,null,null,null,null,null,null,null,null,null,null,null,null,null,null,null,null,null,null,null,null,null,null,null,null,null,null,null,null,null,null,null,null,null,null,null,null,null,null,null,null,null,0,0,0,0,0,{"$error":"#DIV/0!"}]
[996,null,null,null,null,null,null,null,null,null,null,null,null,null,null,null,null,null,null,null,null,null,null,null,null,null,null,null,null,null,null,null,null,null,null,null,null,null,null,null,null,null,null,null,null,null,null,null,null,null,null,null,null,null,null,null,null,null,null,null,null,null,null,null,0,0,0,0,0,{"$error":"#DIV/0!"}]
[997,null,null,null,null,null,null,null,null,null,null,null,null,null,null,null,null,null,null,null,null,null,null,null,null,null,null,null,null,null,null,null,null,null,null,null,null,null,null,null,null,null,null,null,null,null,null,null,null,null,null,null,null,null,null,null,null,null,null,null,null,null,null,null,0,0,0,0,0,{"$error":"#DIV/0!"}]
[998,null,null,null,null,null,null,null,null,null,null,null,null,null,null,null,null,null,null,null,null,null,null,null,null,null,null,null,null,null,null,null,null,null,null,null,null,null,null,null,null,null,null,null,null,null,null,null,null,null,null,null,null,null,null,null,null,null,null,null,null,null,null,null,0,0,0,0,0,{"$error":"#DIV/0!"}]
[999,null,null,null,null,null,null,null,null,null,null,null,null,null,null,null,null,null,null,null,null,null,null,null,null,null,null,null,null,null,null,null,null,null,null,null,null,null,null,null,null,null,null,null,null,null,null,null,null,null,null,null,null,null,null,null,null,null,null,null,null,null,null,null,0,0,0,0,0,{"$error":"#DIV/0!"}]
[1000,null,null,null,null,null,null,null,null,null,null,null,null,null,null,null,null,null,null,null,null,null,null,null,null,null,null,null,null,null,null,null,null,null,null,null,null,null,null,null,null,null,null,null,null,null,null,null,null,null,null,null,null,null,null,null,null,null,null,null,null,null,null,null,0,0,0,0,0,{"$error":"#DIV/0!"}]
[1001,null,null,null,null,null,null,null,null,null,null,null,null,null,null,null,null,null,null,null,null,null,null,null,null,null,null,null,null,null,null,null,null,null,null,null,null,null,null,null,null,null,null,null,null,null,null,null,null,null,null,null,null,null,null,null,null,null,null,null,null,null,null,null,0,0,0,0,0,{"$error":"#DIV/0!"}]
[1002,null,null,null,null,null,null,null,null,null,null,null,null,null,null,null,null,null,null,null,null,null,null,null,null,null,null,null,null,null,null,null,null,null,null,null,null,null,null,null,null,null,null,null,null,null,null,null,null,null,null,null,null,null,null,null,null,null,null,null,null,null,null,null,0,0,0,0,0,{"$error":"#DIV/0!"}]
[1003,null,null,null,null,null,null,null,null,null,null,null,null,null,null,null,null,null,null,null,null,null,null,null,null,null,null,null,null,null,null,null,null,null,null,null,null,null,null,null,null,null,null,null,null,null,null,null,null,null,null,null,null,null,null,null,null,null,null,null,null,null,null,null,0,0,0,0,0,{"$error":"#DIV/0!"}]
[1004,null,null,null,null,null,null,null,null,null,null,null,null,null,null,null,null,null,null,null,null,null,null,null,null,null,null,null,null,null,null,null,null,null,null,null,null,null,null,null,null,null,null,null,null,null,null,null,null,null,null,null,null,null,null,null,null,null,null,null,null,null,null,null,0,0,0,0,0,{"$error":"#DIV/0!"}]
[1005,null,null,null,null,null,null,null,null,null,null,null,null,null,null,null,null,null,null,null,null,null,null,null,null,null,null,null,null,null,null,null,null,null,null,null,null,null,null,null,null,null,null,null,null,null,null,null,null,null,null,null,null,null,null,null,null,null,null,null,null,null,null,null,0,0,0,0,0,{"$error":"#DIV/0!"}]
[1006,null,null,null,null,null,null,null,null,null,null,null,null,null,null,null,null,null,null,null,null,null,null,null,null,null,null,null,null,null,null,null,null,null,null,null,null,null,null,null,null,null,null,null,null,null,null,null,null,null,null,null,null,null,null,null,null,null,null,null,null,null,null,null,0,0,0,0,0,{"$error":"#DIV/0!"}]
[1007,null,null,null,null,null,null,null,null,null,null,null,null,null,null,null,null,null,null,null,null,null,null,null,null,null,null,null,null,null,null,null,null,null,null,null,null,null,null,null,null,null,null,null,null,null,null,null,null,null,null,null,null,null,null,null,null,null,null,null,null,null,null,null,0,0,0,0,0,{"$error":"#DIV/0!"}]
[1008,null,null,null,null,null,null,null,null,null,null,null,null,null,null,null,null,null,null,null,null,null,null,null,null,null,null,null,null,null,null,null,null,null,null,null,null,null,null,null,null,null,null,null,null,null,null,null,null,null,null,null,null,null,null,null,null,null,null,null,null,null,null,null,0,0,0,0,0,{"$error":"#DIV/0!"}]
[1009,null,null,null,null,null,null,null,null,null,null,null,null,null,null,null,null,null,null,null,null,null,null,null,null,null,null,null,null,null,null,null,null,null,null,null,null,null,null,null,null,null,null,null,null,null,null,null,null,null,null,null,null,null,null,null,null,null,null,null,null,null,null,null,0,0,0,0,0,{"$error":"#DIV/0!"}]
[1010,null,null,null,null,null,null,null,null,null,null,null,null,null,null,null,null,null,null,null,null,null,null,null,null,null,null,null,null,null,null,null,null,null,null,null,null,null,null,null,null,null,null,null,null,null,null,null,null,null,null,null,null,null,null,null,null,null,null,null,null,null,null,null,0,0,0,0,0,{"$error":"#DIV/0!"}]
[1011,null,null,null,null,null,null,null,null,null,null,null,null,null,null,null,null,null,null,null,null,null,null,null,null,null,null,null,null,null,null,null,null,null,null,null,null,null,null,null,null,null,null,null,null,null,null,null,null,null,null,null,null,null,null,null,null,null,null,null,null,null,null,null,0,0,0,0,0,{"$error":"#DIV/0!"}]
[1012,null,null,null,null,null,null,null,null,null,null,null,null,null,null,null,null,null,null,null,null,null,null,null,null,null,null,null,null,null,null,null,null,null,null,null,null,null,null,null,null,null,null,null,null,null,null,null,null,null,null,null,null,null,null,null,null,null,null,null,null,null,null,null,0,0,0,0,0,{"$error":"#DIV/0!"}]
[1013,null,null,null,null,null,null,null,null,null,null,null,null,null,null,null,null,null,null,null,null,null,null,null,null,null,null,null,null,null,null,null,null,null,null,null,null,null,null,null,null,null,null,null,null,null,null,null,null,null,null,null,null,null,null,null,null,null,null,null,null,null,null,null,0,0,0,0,0,{"$error":"#DIV/0!"}]
[1014,null,null,null,null,null,null,null,null,null,null,null,null,null,null,null,null,null,null,null,null,null,null,null,null,null,null,null,null,null,null,null,null,null,null,null,null,null,null,null,null,null,null,null,null,null,null,null,null,null,null,null,null,null,null,null,null,null,null,null,null,null,null,null,0,0,0,0,0,{"$error":"#DIV/0!"}]
[1015,null,null,null,null,null,null,null,null,null,null,null,null,null,null,null,null,null,null,null,null,null,null,null,null,null,null,null,null,null,null,null,null,null,null,null,null,null,null,null,null,null,null,null,null,null,null,null,null,null,null,null,null,null,null,null,null,null,null,null,null,null,null,null,0,{"$f":"+BI1062+AK1062+AH1062+AE1062+AB1062+Y1062+V1062+S1062+P1062+M1062+J1062+G1062+D1062+AN1062+AQ1062+AT1062+AW1062+AZ1062+BC1062+BF1062","v":0},{"$f":"+BJ1062+AL1062+AI1062+AF1062+AC1062+Z1062+W1062+T1062+Q1062+N1062+K1062+H1062+E1062+AO1062+AR1062+AU1062+AX1062+BA1062+BD1062+BG1062","v":0},{"$f":"+BN1062-BO1062","v":0},{"$f":"COUNT(C1062:BJ1062)/3","v":0},{"$error":"#DIV/0!"}]
[1016,null,null,null,null,null,null,null,null,null,null,null,null,null,null,null,null,null,null,null,null,null,null,null,null,null,null,null,null,null,null,null,null,null,null,null,null,null,null,null,null,null,null,null,null,null,null,null,null,null,null,null,null,null,null,null,null,null,null,null,null,null,null,null,0,0,0,0,0,{"$error":"#DIV/0!"}]
[1017,null,null,null,null,null,null,null,null,null,null,null,null,null,null,null,null,null,null,null,null,null,null,null,null,null,null,null,null,null,null,null,null,null,null,null,null,null,null,null,null,null,null,null,null,null,null,null,null,null,null,null,null,null,null,null,null,null,null,null,null,null,null,null,0,0,0,0,0,{"$error":"#DIV/0!"}]
[1018,null,null,null,null,null,null,null,null,null,null,null,null,null,null,null,null,null,null,null,null,null,null,null,null,null,null,null,null,null,null,null,null,null,null,null,null,null,null,null,null,null,null,null,null,null,null,null,null,null,null,null,null,null,null,null,null,null,null,null,null,null,null,null,0,0,0,0,0,{"$error":"#DIV/0!"}]
[1019,null,null,null,null,null,null,null,null,null,null,null,null,null,null,null,null,null,null,null,null,null,null,null,null,null,null,null,null,null,null,null,null,null,null,null,null,null,null,null,null,null,null,null,null,null,null,null,null,null,null,null,null,null,null,null,null,null,null,null,null,null,null,null,0,0,0,0,0,{"$error":"#DIV/0!"}]
[1020,null,null,null,null,null,null,null,null,null,null,null,null,null,null,null,null,null,null,null,null,null,null,null,null,null,null,null,null,null,null,null,null,null,null,null,null,null,null,null,null,null,null,null,null,null,null,null,null,null,null,null,null,null,null,null,null,null,null,null,null,null,null,null,0,0,0,0,0,{"$error":"#DIV/0!"}]
[1021,null,null,null,null,null,null,null,null,null,null,null,null,null,null,null,null,null,null,null,null,null,null,null,null,null,null,null,null,null,null,null,null,null,null,null,null,null,null,null,null,null,null,null,null,null,null,null,null,null,null,null,null,null,null,null,null,null,null,null,null,null,null,null,0,0,0,0,0,{"$error":"#DIV/0!"}]
[1022,null,null,null,null,null,null,null,null,null,null,null,null,null,null,null,null,null,null,null,null,null,null,null,null,null,null,null,null,null,null,null,null,null,null,null,null,null,null,null,null,null,null,null,null,null,null,null,null,null,null,null,null,null,null,null,null,null,null,null,null,null,null,null,0,0,0,0,0,{"$error":"#DIV/0!"}]
[1023,null,null,null,null,null,null,null,null,null,null,null,null,null,null,null,null,null,null,null,null,null,null,null,null,null,null,null,null,null,null,null,null,null,null,null,null,null,null,null,null,null,null,null,null,null,null,null,null,null,null,null,null,null,null,null,null,null,null,null,null,null,null,null,0,0,0,0,0,{"$error":"#DIV/0!"}]
[1024,null,null,null,null,null,null,null,null,null,null,null,null,null,null,null,null,null,null,null,null,null,null,null,null,null,null,null,null,null,null,null,null,null,null,null,null,null,null,null,null,null,null,null,null,null,null,null,null,null,null,null,null,null,null,null,null,null,null,null,null,null,null,null,0,0,0,0,0,{"$error":"#DIV/0!"}]
[1025,null,null,null,null,null,null,null,null,null,null,null,null,null,null,null,null,null,null,null,null,null,null,null,null,null,null,null,null,null,null,null,null,null,null,null,null,null,null,null,null,null,null,null,null,null,null,null,null,null,null,null,null,null,null,null,null,null,null,null,null,null,null,null,{"$f":"+BH1072+AJ1072+AG1072+AD1072+AA1072+X1072+U1072+R1072+O1072+L1072+I1072+F1072+C1072+AM1072+AP1072+AS1072+AV1072+AY1072+BB1072+BE1072","v":0},0,0,0,0,{"$error":"#DIV/0!"}]
[1026,null,null,null,null,null,null,null,null,null,null,null,null,null,null,null,null,null,null,null,null,null,null,null,null,null,null,null,null,null,null,null,null,null,null,null,null,null,null,null,null,null,null,null,null,null,null,null,null,null,null,null,null,null,null,null,null,null,null,null,null,null,null,null,{"$f":"+BH1073+AJ1073+AG1073+AD1073+AA1073+X1073+U1073+R1073+O1073+L1073+I1073+F1073+C1073+AM1073+AP1073+AS1073+AV1073+AY1073+BB1073+BE1073","v":0},0,0,0,0,{"$error":"#DIV/0!"}]
[1027,null,null,null,null,null,null,null,null,null,null,null,null,null,null,null,null,null,null,null,null,null,null,null,null,null,null,null,null,null,null,null,null,null,null,null,null,null,null,null,null,null,null,null,null,null,null,null,null,null,null,null,null,null,null,null,null,null,null,null,null,null,null,null,{"$f":"+BH1074+AJ1074+AG1074+AD1074+AA1074+X1074+U1074+R1074+O1074+L1074+I1074+F1074+C1074+AM1074+AP1074+AS1074+AV1074+AY1074+BB1074+BE1074","v":0},0,0,0,0,{"$error":"#DIV/0!"}]
[1028,null,null,null,null,null,null,null,null,null,null,null,null,null,null,null,null,null,null,null,null,null,null,null,null,null,null,null,null,null,null,null,null,null,null,null,null,null,null,null,null,null,null,null,null,null,null,null,null,null,null,null,null,null,null,null,null,null,null,null,null,null,null,null,{"$f":"+BH1075+AJ1075+AG1075+AD1075+AA1075+X1075+U1075+R1075+O1075+L1075+I1075+F1075+C1075+AM1075+AP1075+AS1075+AV1075+AY1075+BB1075+BE1075","v":0},0,0,0,0,{"$error":"#DIV/0!"}]
[1029,null,null,null,null,null,null,null,null,null,null,null,null,null,null,null,null,null,null,null,null,null,null,null,null,null,null,null,null,null,null,null,null,null,null,null,null,null,null,null,null,null,null,null,null,null,null,null,null,null,null,null,null,null,null,null,null,null,null,null,null,null,null,null,{"$f":"+BH1076+AJ1076+AG1076+AD1076+AA1076+X1076+U1076+R1076+O1076+L1076+I1076+F1076+C1076+AM1076+AP1076+AS1076+AV1076+AY1076+BB1076+BE1076","v":0},0,0,0,0,{"$error":"#DIV/0!"}]
[1030]
[1031]
[1032]
[1033]
[1034]
[1035]
[1036]
[1037]
[1038]
[1039]
[{"$f":"+A1086+1","v":1040}]
[1041]
[1042]
[1043]
[1044]
[1045]
[1046]
[1047]
[1048]
[1049]
[1050]
[1051]
[1052]
[1053,null,null,null,null,null,null,null,null,null,null,null,null,null,null,null,null,null,null,null,null,null,null,null,null,null,null,null,null,null,null,null,null,null,null,null,null,null,null,null,null,null,null,null,null,null,null,null,null,null,null,null,null,null,null,null,null,null,null,null,null,null,null,null,{"$f":"+BH1100+AJ1100+AG1100+AD1100+AA1100+X1100+U1100+R1100+O1100+L1100+I1100+F1100+C1100+AM1100+AP1100+AS1100+AV1100+AY1100+BB1100+BE1100","v":0},0,0,0,0,{"$error":"#DIV/0!"}]
[]
[]
[]
[]
[]
[]
[]
[]
[]
[]
[]
[]
[]
[]
[]
[null,null,null,null,null,null,null,null,null,null,null,null,null,null,null,null,null,null,null,null,null,null,null,null,null,null,null,null,null,null,null,null,null,null,null,null,null,null,null,null,null,null,null,null,null,null,null,null,null,null,null,null,null,null,null,null,null,null,null,null,null,null,null,{"$f":"+BI253BI254:BL1116","v":{"$error":"#NAME?"}}]

{"sheet":"Podrida","index":3,"n_rows":250,"n_cols":55,"rows_kept":250,"cut":false,"hidden":false,"merged":[[40,12,40,13],[40,2,40,3],[40,4,40,5],[40,6,40,7],[40,8,40,9],[40,10,40,11],[40,14,40,15],[40,16,40,17],[40,26,40,27],[40,32,40,33],[40,28,40,29],[40,34,40,35],[40,18,40,19],[40,20,40,21],[40,22,40,23],[40,24,40,25],[40,30,40,31]]}
["PODRIDA"]
["Mes"]
[{"$f":"+GENERAL!B6","v":12},null,{"$f":"SUM(C5:C20)+AP41","v":0}]
[null,null,"Premi","Punts","Partides","General"]
[1,"Jordi",{"$f":"+G$38","v":182},{"$f":"+H$39","v":87.098113207547172},{"$f":"+H$38","v":53},{"$f":"+G$24","v":80},{"$f":"IF(E5<A$3/2,-1,1)*800000+C5*1000+D5*10+E5","v":982923.98113207542}]
[2,"Carles",{"$f":"+O$38","v":126},{"$f":"+P$39","v":91.913043478260875},{"$f":"+P$38","v":23},{"$f":"+O$24","v":40},926942.13043478259]
[3,"Núria",{"$f":"+W$38","v":41},{"$f":"+X$39","v":79.267857142857139},{"$f":"+X$38","v":56},{"$f":"+W$24","v":20},841848.67857142852]
[4,"Cyber X",{"$f":"+E$38","v":-6},{"$f":"+F$39","v":65.2},{"$f":"+F$38","v":10},{"$f":"+E$24","v":10},794662]
[5,"Sebas",{"$f":"+AC$38","v":-24},{"$f":"+AD$39","v":77.083333333333329},{"$f":"+AD$38","v":36},{"$f":"+AC$24","v":5},776806.83333333337]
[6,"Manolo",{"$f":"+Y$38","v":-24},{"$f":"+Z$39","v":63},{"$f":"+Z$38","v":11},{"$f":"+Y$24","v":0},776641]
[7,"Grau",{"$f":"+AG$38","v":-36},{"$f":"+AH$39","v":75.692307692307693},{"$f":"+AH$38+1","v":79},{"$f":"+AG$24","v":0},764835.92307692312]
[8,"Nogué",{"$f":"+AE$38","v":-51},{"$f":"+AF$39","v":77.230769230769226},{"$f":"+AF$38","v":65},{"$f":"+AE$24","v":0},749837.30769230775]
[9,"Ana B",{"$f":"+Q$38","v":-63},{"$f":"+R$39","v":69.75},{"$f":"+R$38","v":24},{"$f":"+Q$24","v":0},737721.5]
[10,"Nin",{"$f":"+U$38","v":-72},{"$f":"+V$39","v":51.583333333333336},{"$f":"+V$38","v":12},{"$f":"+U$24","v":0},728527.83333333337,null,null,null,null,null,null,null,null,null,null,null,null,null,null,null,null,null,null,null,null,null,null,null,null,null,null,null,null,null,null,null,null,null,null,null,"Càlcul punts segons partida a 4 jugadors",null,null,null,null,null,null,null,null,null,"Máx.","Mitj.","Factor"]
[11,"Gemma",{"$f":"+AA$38","v":-77},{"$f":"+AB$39","v":69.573333333333338},{"$f":"+AB$38","v":75},{"$f":"+AA$24","v":0},723770.73333333328,null,null,null,null,null,null,null,null,null,null,null,null,null,null,null,null,null,null,null,null,null,null,null,null,null,null,null,null,null,null,null,null,null,null,null,"2020-02-13",12,40,0.75,null,6,{"$f":"13*3/4","v":9.75},1,1,null,{"$f":"((AV15*AW15*AX15+12)*AY15+AR15*AS15)*AT15","v":412.875},{"$f":"+AQ41","v":273.28888888888889},1]
[12,"Rosa M",{"$f":"+C$38","v":18},{"$f":"+D$39","v":94.600000000000009},{"$f":"+D$38","v":3},{"$f":"+C$24","v":0},-781051,null,null,null,null,null,null,null,null,null,null,null,null,null,null,null,null,null,null,null,null,null,null,null,null,null,null,null,null,null,null,null,null,null,null,null,"1-13/13-1/13x4",30,40,0.75,null,18,{"$f":"13*3/4","v":9.75},2,1,null,{"$f":"(AV16*AW16*AX16*AY16+AR16*AS16)*AT16","v":1163.25},{"$f":"+AQ40/0.4","v":715.625},{"$f":"+BA16/BA15","v":2.8174386920980927}]
[13,"Mariajo",{"$f":"+AI$38","v":0},{"$f":"+AJ$39","v":73},{"$f":"+AJ$38","v":1},{"$f":"+AI$24","v":0},-799269,null,null,null,null,null,null,null,null,null,null,null,null,null,null,null,null,null,null,null,null,null,null,null,null,null,null,null,null,null,null,null,null,null,null,null,"13*4",4,40,0.75,null,4,{"$f":"13*3/4","v":9.75},2,1,null,{"$f":"(AV17*AW17*AX17*AY17+AR17*AS17)*AT17","v":178.5},{"$f":"+AQ37/2.5","v":130.4},{"$f":"+BA17/BA15","v":0.43233424159854678}]
[14,"Sergi",{"$f":"+M$38","v":0},{"$f":"+N$39","v":73},{"$f":"+N$38","v":1},{"$f":"+M$24","v":0},-799269]
[15,"Joan",{"$f":"+I$38","v":-4},{"$f":"+J$39","v":74.333333333333329},{"$f":"+J$38","v":3},{"$f":"+I$24","v":0},-803253.66666666663]
[16,"Anna P.",{"$f":"+S$38","v":-10},{"$f":"+T$39","v":94.600000000000009},{"$f":"+T$38","v":3},{"$f":"+S$24","v":0},-809051]
[17,"Tito",{"$f":"+K$38","v":-100000000},{"$f":"+L$39","v":1E-4},{"$f":"+L$38+1","v":1},{"$f":"+K$24","v":0},{"$f":"IF(E21<A$3/2,-1,1)*800000+C21*1000+D21*10+E21","v":-100000799998.99899}]
[]
[null,null,null,null,null,null,null,null,null,null,null,null,null,null,null,null,null,null,null,null,null,null,null,null,null,null,null,null,null,null,null,null,null,null,null,null,null,null,null,null,null,null,null,0.4,{"$f":"1/AR23","v":2.5}]
[null,"General",{"$f":"+C25*C26","v":0},{"$f":"+D25*D26","v":3},10,10,80,53,0,3,0,0,0,1,40,23,0,24,0,3,0,12,20,56,0,11,{"$f":"+AA25*AA26","v":0},75,5,36,0,65,0,78,0,1,null,null,null,null,null,null,null,null,{"$error":"#DIV/0!"}]
[null,null,{"$f":"IF($B37>3,1,0)","v":1},{"$f":"IF($B37>3,1,0)","v":1},1,1,1,1,1,1,1,1,1,1,1,1,1,1,1,1,1,1,1,1,1,1,{"$f":"IF($B37>3,1,0)","v":1},1,1,1,1,1,1,1,1,1,null,null,null,null,null,null,null,null,{"$error":"#DIV/0!"}]
[null,null,{"$f":"MAX(C27:C31)","v":0},{"$f":"+D38","v":3},{"$f":"MAX(E27:E31)","v":10},{"$f":"+F38","v":10},{"$f":"MAX(G27:G31)","v":80},{"$f":"+H38","v":53},{"$f":"MAX(I27:I31)","v":0},{"$f":"+J38","v":3},{"$f":"MAX(K27:K31)","v":0},{"$f":"+L38","v":0},{"$f":"MAX(M27:M31)","v":0},{"$f":"+N38","v":1},{"$f":"MAX(O27:O31)","v":40},{"$f":"+P38","v":23},{"$f":"MAX(Q27:Q31)","v":0},{"$f":"+R38","v":24},{"$f":"MAX(S27:S31)","v":0},{"$f":"+T38","v":3},{"$f":"MAX(U27:U31)","v":0},{"$f":"+V38","v":12},{"$f":"MAX(W27:W31)","v":20},{"$f":"+X38","v":56},{"$f":"MAX(Y27:Y31)","v":0},{"$f":"+Z38","v":11},{"$f":"MAX(AA27:AA31)","v":0},{"$f":"+AB38","v":75},{"$f":"MAX(AC27:AC31)","v":5},{"$f":"+AD38","v":36},{"$f":"MAX(AE27:AE31)","v":0},{"$f":"+AF38","v":65},{"$f":"MAX(AG27:AG31)","v":0},{"$f":"+AH38","v":78},{"$f":"MAX(AI27:AI31)","v":0},{"$f":"+AJ38","v":1},null,null,null,null,null,null,null,null,{"$error":"#DIV/0!"}]
[null,null,{"$f":"IF(C$32=5,5,0)","v":0},null,{"$f":"IF(E$32=5,5,0)","v":0},null,{"$f":"IF(G$32=5,5,0)","v":0},null,{"$f":"IF(I$32=5,5,0)","v":0},null,{"$f":"IF(K$32=5,5,0)","v":0},null,{"$f":"IF(M$32=5,5,0)","v":0},null,{"$f":"IF(O$32=5,5,0)","v":0},null,{"$f":"IF(Q$32=5,5,0)","v":0},null,{"$f":"IF(S$32=5,5,0)","v":0},null,{"$f":"IF(U$32=5,5,0)","v":0},null,{"$f":"IF(W$32=5,5,0)","v":0},null,{"$f":"IF(Y$32=5,5,0)","v":0},null,{"$f":"IF(AA$32=5,5,0)","v":0},null,{"$f":"IF(AC$32=5,5,0)","v":5},null,{"$f":"IF(AE$32=5,5,0)","v":0},null,{"$f":"IF(AG$32=5,5,0)","v":0},null,{"$f":"IF(AI$32=5,5,0)","v":0},null,null,null,null,null,null,null,null,null,{"$error":"#DIV/0!"}]
[null,null,{"$f":"IF(C$32=4,10,0)","v":0},null,{"$f":"IF(E$32=4,10,0)","v":10},null,{"$f":"IF(G$32=4,10,0)","v":0},null,{"$f":"IF(I$32=4,10,0)","v":0},null,{"$f":"IF(K$32=4,10,0)","v":0},null,{"$f":"IF(M$32=4,10,0)","v":0},null,{"$f":"IF(O$32=4,10,0)","v":0},null,{"$f":"IF(Q$32=4,10,0)","v":0},null,{"$f":"IF(S$32=4,10,0)","v":0},null,{"$f":"IF(U$32=4,10,0)","v":0},null,{"$f":"IF(W$32=4,10,0)","v":0},null,{"$f":"IF(Y$32=4,10,0)","v":0},null,{"$f":"IF(AA$32=4,10,0)","v":0},null,{"$f":"IF(AC$32=4,10,0)","v":0},null,{"$f":"IF(AE$32=4,10,0)","v":0},null,{"$f":"IF(AG$32=4,10,0)","v":0},null,{"$f":"IF(AI$32=4,10,0)","v":0},null,null,null,null,null,null,null,null,null,{"$error":"#DIV/0!"}]
[null,null,{"$f":"IF(C$32=3,20,0)","v":0},null,{"$f":"IF(E$32=3,20,0)","v":0},null,{"$f":"IF(G$32=3,20,0)","v":0},null,{"$f":"IF(I$32=3,20,0)","v":0},null,{"$f":"IF(K$32=3,20,0)","v":0},null,{"$f":"IF(M$32=3,20,0)","v":0},null,{"$f":"IF(O$32=3,20,0)","v":0},null,{"$f":"IF(Q$32=3,20,0)","v":0},null,{"$f":"IF(S$32=3,20,0)","v":0},null,{"$f":"IF(U$32=3,20,0)","v":0},null,{"$f":"IF(W$32=3,20,0)","v":20},null,{"$f":"IF(Y$32=3,20,0)","v":0},null,{"$f":"IF(AA$32=3,20,0)","v":0},null,{"$f":"IF(AC$32=3,20,0)","v":0},null,{"$f":"IF(AE$32=3,20,0)","v":0},null,{"$f":"IF(AG$32=3,20,0)","v":0},null,{"$f":"IF(AI$32=3,20,0)","v":0},null,null,null,null,null,null,null,null,null,{"$error":"#DIV/0!"}]
[null,null,{"$f":"IF(C$32=2,40,0)","v":0},null,{"$f":"IF(E$32=2,40,0)","v":0},null,{"$f":"IF(G$32=2,40,0)","v":0},null,{"$f":"IF(I$32=2,40,0)","v":0},null,{"$f":"IF(K$32=2,40,0)","v":0},null,{"$f":"IF(M$32=2,40,0)","v":0},null,{"$f":"IF(O$32=2,40,0)","v":40},null,{"$f":"IF(Q$32=2,40,0)","v":0},null,{"$f":"IF(S$32=2,40,0)","v":0},null,{"$f":"IF(U$32=2,40,0)","v":0},null,{"$f":"IF(W$32=2,40,0)","v":0},null,{"$f":"IF(Y$32=2,40,0)","v":0},null,{"$f":"IF(AA$32=2,40,0)","v":0},null,{"$f":"IF(AC$32=2,40,0)","v":0},null,{"$f":"IF(AE$32=2,40,0)","v":0},null,{"$f":"IF(AG$32=2,40,0)","v":0},null,{"$f":"IF(AI$32=2,40,0)","v":0},null,null,null,null,null,null,null,null,null,{"$error":"#DIV/0!"}]
[null,null,{"$f":"IF(C$32=1,80,0)","v":0},null,{"$f":"IF(E$32=1,80,0)","v":0},null,{"$f":"IF(G$32=1,80,0)","v":80},null,{"$f":"IF(I$32=1,80,0)","v":0},null,{"$f":"IF(K$32=1,80,0)","v":0},null,{"$f":"IF(M$32=1,80,0)","v":0},null,{"$f":"IF(O$32=1,80,0)","v":0},null,{"$f":"IF(Q$32=1,80,0)","v":0},null,{"$f":"IF(S$32=1,80,0)","v":0},null,{"$f":"IF(U$32=1,80,0)","v":0},null,{"$f":"IF(W$32=1,80,0)","v":0},null,{"$f":"IF(Y$32=1,80,0)","v":0},null,{"$f":"IF(AA$32=1,80,0)","v":0},null,{"$f":"IF(AC$32=1,80,0)","v":0},null,{"$f":"IF(AE$32=1,80,0)","v":0},null,{"$f":"IF(AG$32=1,80,0)","v":0},null,{"$f":"IF(AI$32=1,80,0)","v":0},null,null,null,null,null,null,null,null,null,{"$error":"#DIV/0!"}]
[null,null,{"$f":"RANK(C33,$C33:$AJ33)*C37","v":0},null,{"$f":"RANK(E33,$C33:$AJ33)*E37","v":4},null,{"$f":"RANK(G33,$C33:$AJ33)*G37","v":1},null,{"$f":"RANK(I33,$C33:$AJ33)*I37","v":0},null,{"$f":"RANK(K33,$C33:$AJ33)*K37","v":0},null,{"$f":"RANK(M33,$C33:$AJ33)*M37","v":0},null,{"$f":"RANK(O33,$C33:$AJ33)*O37","v":2},null,{"$f":"RANK(Q33,$C33:$AJ33)*Q37","v":9},null,{"$f":"RANK(S33,$C33:$AJ33)*S37","v":0},null,{"$f":"RANK(U33,$C33:$AJ33)*U37","v":10},null,{"$f":"RANK(W33,$C33:$AJ33)*W37","v":3},null,{"$f":"RANK(Y33,$C33:$AJ33)*Y37","v":6},null,{"$f":"RANK(AA33,$C33:$AJ33)*AA37","v":11},null,{"$f":"RANK(AC33,$C33:$AJ33)*AC37","v":5},null,{"$f":"RANK(AE33,$C33:$AJ33)*AE37","v":8},null,{"$f":"RANK(AG33,$C33:$AJ33)*AG37","v":7},null,{"$f":"RANK(AI33,$C33:$AJ33)*AI37","v":0},null,null,null,null,null,null,null,null,null,{"$error":"#DIV/0!"}]
[null,null,{"$f":"SUM(C34:C36)","v":-990519},null,{"$f":"SUM(E34:E36)","v":-53476},null,{"$f":"SUM(G34:G36)","v":1828944.8113207547},null,{"$f":"SUM(I34:I36)","v":-992567.66666666663},null,{"$f":"SUM(K34:K36)","v":-100999999.98999999},null,{"$f":"SUM(M34:M36)","v":-992699},null,{"$f":"SUM(O34:O36)","v":1269340.3043478262},null,{"$f":"SUM(Q34:Q36)","v":-623064},null,{"$f":"SUM(S34:S36)","v":-990547},null,{"$f":"SUM(U34:U36)","v":-714901.66666666663},null,{"$f":"SUM(W34:W36)","v":418023.78571428574},null,{"$f":"SUM(Y34:Y36)","v":-233713},null,{"$f":"SUM(AA34:AA36)","v":-763044.66666666663},null,{"$f":"SUM(AC34:AC36)","v":-232279.66666666666},null,{"$f":"SUM(AE34:AE36)","v":-502262.92307692306},null,{"$f":"SUM(AG34:AG36)","v":-352388.76923076925},null,{"$f":"SUM(AI34:AI36)","v":-992699},null,null,null,null,null,null,null,null,null,{"$error":"#DIV/0!"}]
[null,null,{"$f":"+D38","v":3},null,{"$f":"+F38","v":10},null,{"$f":"+H38","v":53},null,{"$f":"+J38","v":3},null,{"$f":"+L38","v":0},null,{"$f":"+N38","v":1},null,{"$f":"+P38","v":23},null,{"$f":"+R38","v":24},null,{"$f":"+T38","v":3},null,{"$f":"+V38","v":12},null,{"$f":"+X38","v":56},null,{"$f":"+Z38","v":11},null,{"$f":"+AB38","v":75},null,{"$f":"+AD38","v":36},null,{"$f":"+AF38","v":65},null,{"$f":"+AH38","v":78},null,{"$f":"+AJ38","v":1},null,null,null,null,null,null,null,null,null,{"$error":"#DIV/0!"}]
[null,null,{"$f":"+D39*100","v":9460},null,{"$f":"+F39*100","v":6520},null,{"$f":"+H39*100","v":8709.8113207547176},null,{"$f":"+J39*100","v":7433.333333333333},null,{"$f":"+L39*100","v":0.01},null,{"$f":"+N39*100","v":7300},null,{"$f":"+P39*100","v":9191.3043478260879},null,{"$f":"+R39*100","v":6975},null,{"$f":"+T39*100","v":9460},null,{"$f":"+V39*100","v":5158.3333333333339},null,{"$f":"+X39*100","v":7926.7857142857138},null,{"$f":"+Z39*100","v":6300},null,{"$f":"+AB39*100","v":6957.3333333333339},null,{"$f":"+AD39*100","v":7708.333333333333},null,{"$f":"+AF39*100","v":7723.0769230769229},null,{"$f":"+AH39*100","v":7569.2307692307695},null,{"$f":"+AJ39*100","v":7300},null,null,null,null,null,null,null,null,null,{"$error":"#DIV/0!"}]
[null,null,{"$f":"IF(C37=1,C38*C37*10000+C38,-1000000+C38)","v":-999982},null,{"$f":"IF(E37=1,E38*E37*10000+E38,-1000000+E38)","v":-60006},null,{"$f":"IF(G37=1,G38*G37*10000+G38,-1000000+G38)","v":1820182},null,{"$f":"IF(I37=1,I38*I37*10000+I38,-1000000+I38)","v":-1000004},null,{"$f":"IF(K37=1,K38*K37*10000+K38,-1000000+K38)","v":-101000000},null,{"$f":"IF(M37=1,M38*M37*10000+M38,-1000000+M38)","v":-1000000},null,{"$f":"IF(O37=1,O38*O37*10000+O38,-1000000+O38)","v":1260126},null,{"$f":"IF(Q37=1,Q38*Q37*10000+Q38,-1000000+Q38)","v":-630063},null,{"$f":"IF(S37=1,S38*S37*10000+S38,-1000000+S38)","v":-1000010},null,{"$f":"IF(U37=1,U38*U37*10000+U38,-1000000+U38)","v":-720072},null,{"$f":"IF(W37=1,W38*W37*10000+W38,-1000000+W38)","v":410041},null,{"$f":"IF(Y37=1,Y38*Y37*10000+Y38,-1000000+Y38)","v":-240024},null,{"$f":"IF(AA37=1,AA38*AA37*10000+AA38,-1000000+AA38)","v":-770077},null,{"$f":"IF(AC37=1,AC38*AC37*10000+AC38,-1000000+AC38)","v":-240024},null,{"$f":"IF(AE37=1,AE38*AE37*10000+AE38,-1000000+AE38)","v":-510051},null,{"$f":"IF(AG37=1,AG38*AG37*10000+AG38,-1000000+AG38)","v":-360036},null,{"$f":"IF(AI37=1,AI38*AI37*10000+AI38,-1000000+AI38)","v":-1000000},null,null,null,null,null,null,null,null,null,{"$error":"#DIV/0!"}]
["Classificats",{"$f":"SUM(C37:AI37)","v":11},{"$f":"IF(D38>=$A3/2,1,0)","v":0},null,{"$f":"IF(F38>=$A3/2,1,0)","v":1},null,{"$f":"IF(H38>=$A3/2,1,0)","v":1},null,{"$f":"IF(J38>=$A3/2,1,0)","v":0},null,{"$f":"IF(L38>=$A3/2,1,0)","v":0},null,{"$f":"IF(N38>=$A3/2,1,0)","v":0},null,{"$f":"IF(P38>=$A3/2,1,0)","v":1},null,{"$f":"IF(R38>=$A3/2,1,0)","v":1},null,{"$f":"IF(T38>=$A3/2,1,0)","v":0},null,{"$f":"IF(V38>=$A3/2,1,0)","v":1},null,{"$f":"IF(X38>=$A3/2,1,0)","v":1},null,{"$f":"IF(Z38>=$A3/2,1,0)","v":1},null,{"$f":"IF(AB38>=$A3/2,1,0)","v":1},null,{"$f":"IF(AD38>=$A3/2,1,0)","v":1},null,{"$f":"IF(AF38>=$A3/2,1,0)","v":1},null,{"$f":"IF(AH38>=$A3/2,1,0)","v":1},null,{"$f":"IF(AJ38>=$A3/2,1,0)","v":0},null,{"$f":"MAX(AL43:AL99)","v":198},null,null,null,null,null,{"$f":"AVERAGE(AQ47:AQ48)","v":326},{"$f":"+AQ37/AQ41","v":1.1928768905513092},{"$f":"1/AR37","v":0.8383094751192911}]
[null,null,{"$f":"IF(SUM(C43:C353)<-1000,-100000000,SUM(C43:C353))","v":18},{"$f":"COUNT(D43:D353)","v":3},{"$f":"IF(SUM(E43:E353)<-1000,-100000000,SUM(E43:E353))","v":-6},{"$f":"COUNT(F43:F353)","v":10},{"$f":"IF(SUM(G43:G353)<-1000,-100000000,SUM(G43:G353))","v":182},{"$f":"COUNT(H43:H353)","v":53},{"$f":"IF(SUM(I43:I353)<-1000,-100000000,SUM(I43:I353))","v":-4},{"$f":"COUNT(J43:J353)","v":3},{"$f":"IF(SUM(K43:K353)<-1000,-100000000,SUM(K43:K353))","v":-100000000},{"$f":"COUNT(L43:L353)","v":0},{"$f":"IF(SUM(M43:M353)<-1000,-100000000,SUM(M43:M353))","v":0},{"$f":"COUNT(N43:N353)","v":1},{"$f":"IF(SUM(O43:O353)<-1000,-100000000,SUM(O43:O353))","v":126},{"$f":"COUNT(P43:P353)","v":23},{"$f":"IF(SUM(Q43:Q353)<-1000,-100000000,SUM(Q43:Q353))","v":-63},{"$f":"COUNT(R43:R353)","v":24},{"$f":"IF(SUM(S43:S353)<-1000,-100000000,SUM(S43:S353))","v":-10},{"$f":"COUNT(T43:T353)","v":3},{"$f":"IF(SUM(U43:U353)<-1000,-100000000,SUM(U43:U353))","v":-72},{"$f":"COUNT(V43:V353)","v":12},{"$f":"IF(SUM(W43:W353)<-1000,-100000000,SUM(W43:W353))","v":41},{"$f":"COUNT(X43:X353)","v":56},{"$f":"IF(SUM(Y43:Y353)<-1000,-100000000,SUM(Y43:Y353))","v":-24},{"$f":"COUNT(Z43:Z353)","v":11},{"$f":"IF(SUM(AA43:AA353)<-1000,-100000000,SUM(AA43:AA353))","v":-77},{"$f":"COUNT(AB43:AB353)","v":75},{"$f":"IF(SUM(AC43:AC353)<-1000,-100000000,SUM(AC43:AC353))","v":-24},{"$f":"COUNT(AD43:AD353)","v":36},{"$f":"IF(SUM(AE43:AE353)<-1000,-100000000,SUM(AE43:AE353))","v":-51},{"$f":"COUNT(AF43:AF353)","v":65},{"$f":"IF(SUM(AG43:AG353)<-1000,-100000000,SUM(AG43:AG353))","v":-36},{"$f":"COUNT(AH43:AH353)","v":78},{"$f":"IF(SUM(AI43:AI353)<-1000,-100000000,SUM(AI43:AI353))","v":0},{"$f":"COUNT(AJ43:AJ353)","v":1},null,null,null,null,null,null,{"$f":"AVERAGE(AQ41:AQ44)","v":284.42962962962963}]
[null,null,null,{"$f":"IF(D38=0,0.0001,AVERAGE(D43:D250))","v":94.600000000000009},null,{"$f":"IF(F38=0,0.0001,AVERAGE(F43:F250))","v":65.2},null,{"$f":"IF(H38=0,0.0001,AVERAGE(H43:H250))","v":87.098113207547172},null,{"$f":"IF(J38=0,0.0001,AVERAGE(J43:J250))","v":74.333333333333329},null,{"$f":"IF(L38=0,0.0001,AVERAGE(L43:L250))","v":1E-4},null,{"$f":"IF(N38=0,0.0001,AVERAGE(N43:N250))","v":73},null,{"$f":"IF(P38=0,0.0001,AVERAGE(P43:P250))","v":91.913043478260875},null,{"$f":"IF(R38=0,0.0001,AVERAGE(R43:R250))","v":69.75},null,{"$f":"IF(T38=0,0.0001,AVERAGE(T43:T250))","v":94.600000000000009},null,{"$f":"IF(V38=0,0.0001,AVERAGE(V43:V250))","v":51.583333333333336},null,{"$f":"IF(X38=0,0.0001,AVERAGE(X43:X250))","v":79.267857142857139},null,{"$f":"IF(Z38=0,0.0001,AVERAGE(Z43:Z250))","v":63},null,{"$f":"IF(AB38=0,0.0001,AVERAGE(AB43:AB250))","v":69.573333333333338},null,{"$f":"IF(AD38=0,0.0001,AVERAGE(AD43:AD250))","v":77.083333333333329},null,{"$f":"IF(AF38=0,0.0001,AVERAGE(AF43:AF250))","v":77.230769230769226},null,{"$f":"IF(AH38=0,0.0001,AVERAGE(AH43:AH250))","v":75.692307692307693},null,{"$f":"IF(AJ38=0,0.0001,AVERAGE(AJ43:AJ250))","v":73},null,null,null,null,null,null,{"$f":"AVERAGE(AQ42:AQ45)","v":285.33333333333331}]
[null,null,null,null,null,null,null,null,null,null,null,null,null,null,null,null,null,null,null,null,null,null,null,null,null,null,null,null,null,null,null,null,null,null,null,null,null,null,null,null,null,null,{"$f":"AVERAGE(AQ43:AQ46)","v":286.25},{"$f":"+AQ40/AQ41","v":1.0474264107985038}]
[null,"Comentaris","Rosa M",null,"Cyber X",null,"Jordi",null,"Joan",null,"Tito",null,"Sergi",null,"Carles",null,"Ana B",null,"Anna P.",null,"Nin",null,"Núria",null,"Manolo",null,"Gemma",null,"Sebas",null,"Nogué",null,"Grau",null,"Mariajo",null,{"$f":"COUNT(AK43:AK268)","v":114},"A","B","C",null,{"$f":"SUM(AP43:AP98)","v":0},{"$f":"AVERAGE(AQ49:AQ75)","v":273.28888888888889}]
[null,null,"Premi","Punts","Premi","Punts","Premi","Punts","Premi","Punts","Premi","Punts","Premi","Punts","Premi","Punts","Premi","Punts","Premi","Punts","Premi","Punts","Premi","Punts","Premi","Punts","Premi","Punts","Premi","Punts","Premi","Punts","Premi","Punts","Premi","Punts","Data","Timbes",null,null,null,"Excés cyber"]
[1,null,null,null,null,null,4,84,null,null,-10000,null,null,null,null,null,null,null,null,null,null,null,-4,82,null,null,null,null,-10,78,10,93,null,null,null,null,"2020-10-18",26,{"$f":"+C43+E43+G43+I43++K43++M43+O43+Q43+S43+U43+W43+Y43+AI43+AA43+AG43+AC43+AE43","v":-10000},{"$f":"COUNT(C43:AJ43)/2","v":4.5},{"$f":"+AM43/AN43","v":-2222.2222222222222},null,{"$f":"+D43+F43+H43+J43+L43+N43+P43+R43+T43+V43+X43+Z43+AH43+AJ43++AF43+AD43+AB43","v":337}]
[{"$f":"+A43+1","v":2},null,null,null,null,null,null,null,null,null,null,null,null,null,-4,48,null,null,null,null,null,null,10,103,null,null,-10,33,4,59,null,null,null,null,null,null,"2020-10-18",26,0,4,0,null,243]
[{"$f":"+A44+1","v":3},null,null,null,null,null,null,null,null,null,null,null,null,null,4,74,null,null,null,null,null,null,-4,70,null,null,-10,56,10,76,null,null,null,null,null,null,"2020-10-18",26,0,4,0,null,276]
[4,null,null,null,null,null,null,null,null,null,null,null,null,null,10,134,null,null,null,null,null,null,4,88,null,null,-10,11,-4,56,null,null,null,null,null,null,"2020-10-18",26,0,4,0,null,289]
[5,null,null,null,null,null,4,94,null,null,null,null,null,null,null,null,null,null,null,null,null,null,10,104,null,null,-10,35,-4,89,null,null,null,null,null,null,"2020-10-20",29,0,4,0,null,322]
[6,null,null,null,null,null,0,81,null,null,null,null,null,null,null,null,null,null,null,null,null,null,-10,63,null,null,0,81,10,105,null,null,null,null,null,null,"2020-10-22",33,0,4,0,null,330]
[7,null,null,null,null,null,10,69,null,null,null,null,null,null,null,null,null,null,null,null,null,null,4,68,null,null,-10,55,-4,59,null,null,null,null,null,null,"2020-10-22",33,0,4,0,null,251]
[8,null,null,null,null,null,null,null,null,null,null,null,null,null,null,null,null,null,null,null,null,null,null,null,null,null,10,78,-10,43,null,null,null,null,null,null,"2020-10-23",34,0,2,0,null,{"$f":"+D50+F50+H50+J50+L50+N50+P50+R50+T50+V50+X50+Z50+AH50+AJ50++AF50+AD50+AB50","v":121}]
[9,null,null,null,null,null,null,null,null,null,null,null,null,null,null,null,null,null,null,null,null,null,null,null,null,null,null,null,-10,41,null,null,10,76,null,null,"2020-10-23",34,{"$f":"+C51+E51+G51+I51++K51++M51+O51+Q51+S51+U51+W51+Y51+AI51+AA51+AG51+AC51+AE51","v":0},{"$f":"COUNT(C51:AJ51)/2","v":2},{"$f":"+AM51/AN51","v":0},null,{"$f":"+D51+F51+H51+J51+L51+N51+P51+R51+T51+V51+X51+Z51+AH51+AJ51++AF51+AD51+AB51","v":117}]
[10,null,null,null,null,null,null,null,null,null,null,null,null,null,null,null,null,null,null,null,null,null,null,null,null,null,10,15,null,null,null,null,-10,14,null,null,"2020-10-23",34,0,2,0,null,29]
[11,null,null,null,null,null,10,80,null,null,null,null,null,null,4,71,null,null,null,null,null,null,null,null,null,null,-10,48,null,null,null,null,-4,67,null,null,"2020-10-23",34,0,4,0,null,266]
[12,null,null,null,null,null,10,116,null,null,null,null,null,null,4,103,null,null,null,null,null,null,null,null,null,null,-10,24,null,null,-4,57,null,null,null,null,"2020-10-23",34,0,4,0,null,300]
[13,null,null,null,null,null,10,94,null,null,null,null,null,null,4,92,null,null,null,null,null,null,null,null,null,null,-10,32,null,null,-4,62,null,null,null,null,"2020-10-23",34,0,4,0,null,280]
[14,null,null,null,null,null,10,81,null,null,null,null,null,null,null,null,null,null,null,null,null,null,null,null,null,null,-10,35,-4,46,4,63,null,null,null,null,"2020-10-24",36,0,4,0,null,225]
[15,"P1-13-13-1. Reg. 0,4 F.O.",4,{"$f":"212*0.4","v":84.800000000000011},null,null,-4,{"$f":"148*0.4","v":59.2},10,{"$f":"215*0.4","v":86},null,null,null,null,null,null,null,null,-10,{"$f":"127*0.4","v":50.800000000000004},null,null,null,null,null,null,null,null,null,null,null,null,null,null,null,null,"2020-10-25",38,0,4,0,null,280.8]
[16,"P13-2 F.O",10,102,null,null,4,98,-4,94,null,null,null,null,null,null,null,null,-10,89,null,null,null,null,null,null,null,null,null,null,null,null,null,null,null,null,"2020-10-25",38,0,4,0,null,383]
[17,"P13-2 F.LL.",4,97,null,null,-4,72,-10,43,null,null,null,null,null,null,null,null,10,144,null,null,null,null,null,null,null,null,null,null,null,null,null,null,null,null,"2020-10-25",38,0,4,0,null,356]
[18,"Punts no anotats en acta. S'apunta mitjana ",null,null,null,null,null,null,null,null,null,null,null,null,null,null,null,null,null,null,null,null,null,null,null,null,-4,42,4,65,-10,69,10,52,null,null,"2020-10-28",41,0,4,0,null,228]
[19,null,null,null,null,null,-4,65,null,null,null,null,null,null,null,null,null,null,null,null,null,null,10,97,null,null,-10,57,null,null,4,69,null,null,null,null,"2020-10-30",42,0,4,0,null,288]
[20,null,null,null,null,null,null,null,null,null,null,null,null,null,null,null,null,null,null,null,null,null,-10,61,null,null,10,82,4,81,-4,69,null,null,null,null,"2020-11-05",48,0,4,0,null,293]
[21,null,null,null,null,null,null,null,null,null,null,null,null,null,4,70,null,null,null,null,null,null,-10,47,null,null,10,90,-4,67,null,null,null,null,null,null,"2020-11-08",51,0,4,0,null,274]
[22,null,null,null,null,null,null,null,null,null,null,null,null,null,10,103,null,null,null,null,null,null,4,52,null,null,-4,44,-10,20,null,null,null,null,null,null,"2020-11-08",51,0,4,0,null,219]
[23,null,null,null,null,null,10,98,null,null,null,null,null,null,null,null,null,null,null,null,null,null,4,82,null,null,-10,55,-4,57,null,null,null,null,null,null,"2020-11-17",61,0,4,0,null,292]
[24,null,null,null,null,null,10,100,null,null,null,null,null,null,null,null,null,null,null,null,null,null,4,81,null,null,-4,67,null,null,-10,55,null,null,null,null,"2020-11-24",70,0,4,0,null,303]
[25,null,null,null,null,null,10,107,null,null,null,null,null,null,null,null,null,null,null,null,null,null,-4,69,null,null,-10,59,null,null,4,75,null,null,null,null,"2020-11-24",70,0,4,0,null,310]
[26,null,null,null,null,null,null,null,null,null,null,null,null,null,null,null,null,null,null,null,null,null,-10,58,null,null,-4,68,null,null,10,111,4,90,null,null,"2020-11-30",77,0,4,0,null,327]
[27,null,null,null,null,null,null,null,null,null,null,null,null,null,null,null,null,null,null,null,null,null,-10,60,null,null,null,null,10,130,4,116,-4,74,null,null,"2020-12-03",81,0,4,0,null,380]
[28,null,null,null,null,null,null,null,null,null,null,null,null,null,null,null,null,null,null,null,null,null,10,93,null,null,-10,22,null,null,4,81,-4,45,null,null,"2020-12-14",97,0,4,0,null,241]
[29,null,null,null,null,null,4,88,null,null,null,null,null,null,null,null,null,null,null,null,null,null,-10,58,null,null,null,null,10,91,null,null,-4,83,null,null,"2020-12-17",99,0,4,0,null,320]
[{"$f":"+A71+1","v":30},null,null,null,null,null,10,79,null,null,null,null,null,null,null,null,null,null,null,null,null,null,4,76,null,null,null,null,-10,40,null,null,-4,67,null,null,"2020-12-17",99,0,4,0,null,262]
[31,null,null,null,null,null,10,92,null,null,null,null,null,null,null,null,null,null,null,null,null,null,-4,58,null,null,-10,54,null,null,null,null,4,83,null,null,"2020-12-18",100,0,4,0,null,287]
[32,null,null,null,null,null,4,100,null,null,null,null,null,null,null,null,null,null,null,null,null,null,-10,45,null,null,null,null,-4,97,10,103,null,null,null,null,"2020-12-29",117,0,4,0,null,345]
[33,null,null,null,null,null,4,120,null,null,null,null,null,null,null,null,null,null,null,null,null,null,-4,98,null,null,null,null,10,127,-10,56,null,null,null,null,"2020-12-29",117,0,4,0,null,401]
[34,null,null,null,null,null,null,null,null,null,null,null,null,null,null,null,null,null,null,null,null,null,-4,93,null,null,-10,80,4,99,null,null,10,105,null,null,"2021-01-09",132,0,4,0,null,377]
[35,null,null,null,null,null,null,null,null,null,null,null,null,null,null,null,null,null,null,null,null,null,4,72,null,null,10,91,-4,70,null,null,-10,61,null,null,"2021-01-09",132,0,4,0,null,294]
[36,null,null,null,null,null,null,null,null,null,null,null,null,null,-4,95,null,null,null,null,null,null,null,null,null,null,null,null,4,96,10,101,-10,72,null,null,"2021-01-16",140,0,4,0,null,364]
[37,null,null,null,null,null,10,120,null,null,null,null,null,null,null,null,null,null,null,null,null,null,null,null,null,null,-4,48,null,null,4,102,-10,46,null,null,"2021-02-05",163,0,{"$f":"COUNT(C79:AJ79)/2","v":4},{"$f":"+AM79/AN79","v":0},null,316]
[38,null,null,null,null,null,4,85,null,null,null,null,null,null,null,null,null,null,null,null,null,null,10,118,null,null,-4,80,null,null,-10,44,null,null,null,null,"2021-02-07",166,0,4,0,null,327]
[39,null,null,null,null,null,-4,66,null,null,null,null,null,null,null,null,null,null,null,null,null,null,4,80,null,null,null,null,null,null,-10,38,10,131,null,null,"2021-02-08",167,0,4,0,null,315]
[40,null,null,null,null,null,null,null,null,null,null,null,null,null,null,null,null,null,null,null,null,null,null,null,null,null,-10,47,4,99,10,104,-4,72,null,null,"2021-02-09",169,0,4,0,null,322]
[41,null,null,null,null,null,null,null,null,null,null,null,null,null,null,null,null,null,null,null,null,null,10,88,null,null,4,78,null,null,-4,69,-10,68,null,null,"2021-02-11",171,0,4,0,null,303]
[42,null,null,null,null,null,4,63,null,null,null,null,null,null,null,null,null,null,null,null,null,null,-4,45,null,null,10,80,null,null,null,null,-10,33,null,null,"2021-02-12",172,0,4,0,null,221]
[43,null,null,null,null,null,null,null,null,null,null,null,null,null,null,null,null,null,null,null,null,null,null,null,null,null,-10,66,4,97,-4,81,10,107,null,null,"2021-02-13",173,0,4,0,null,351]
[44,null,null,null,null,null,null,null,null,null,null,null,null,null,null,null,null,null,null,null,null,null,null,null,null,null,4,61,-4,60,10,71,-10,47,null,null,"2021-02-15",176,0,4,0,null,239]
[45,null,null,null,null,null,null,null,null,null,null,null,null,null,null,null,null,null,null,null,null,null,null,null,null,null,10,102,-10,43,-4,88,4,90,null,null,"2021-02-15",176,0,4,0,null,323]
[46,null,null,null,null,null,10,124,null,null,null,null,null,null,null,null,null,null,null,null,null,null,null,null,null,null,-4,81,null,null,-10,59,4,95,null,null,"2021-02-18",179,0,4,0,null,359]
[47,null,null,null,null,null,10,95,null,null,null,null,null,null,null,null,null,null,null,null,null,null,-10,45,null,null,-4,57,null,null,null,null,4,68,null,null,"2021-02-19",180,0,4,0,null,265]
[48,null,null,null,null,null,-10,46,null,null,null,null,null,null,null,null,null,null,null,null,null,null,10,105,null,null,4,85,-4,80,null,null,null,null,null,null,"2021-02-23",184,0,4,0,null,316]
[49,null,null,null,null,null,null,null,null,null,null,null,null,null,null,null,null,null,null,null,null,null,10,97,null,null,-4,59,null,null,-10,33,4,82,null,null,"2021-02-25",186,0,4,0,null,271]
[50,null,null,null,null,null,10,106,null,null,null,null,null,null,null,null,null,null,null,null,null,null,4,80,null,null,null,null,null,null,-10,59,-4,71,null,null,"2021-02-26",187,0,4,0,null,316]
[51,null,null,null,null,null,null,null,null,null,null,null,null,null,null,null,null,null,null,null,null,null,-10,56,null,null,-4,75,null,null,4,80,10,107,null,null,"2021-03-01",190,0,4,0,null,318]
[52,null,null,null,null,null,null,null,null,null,null,null,null,null,null,null,null,null,null,null,null,null,-4,69,null,null,10,110,null,null,4,87,-10,56,null,null,"2021-03-03",192,0,4,0,null,322]
[53,null,null,null,null,null,null,null,null,null,null,null,null,null,null,null,null,null,null,null,null,null,-10,71,null,null,4,93,null,null,10,115,-4,83,null,null,"2021-03-03",192,0,4,0,null,362]
[54,null,null,null,null,null,null,null,null,null,null,null,null,null,null,null,null,null,null,null,null,null,null,null,null,null,4,85,10,105,-4,84,-10,56,null,null,"2021-03-04",193,0,4,0,null,330]
[55,null,null,null,null,null,null,null,null,null,null,null,null,null,null,null,-4,49,null,null,null,null,null,null,null,null,-10,46,null,null,4,83,10,106,null,null,"2021-03-10",198,0,4,0,null,284]
[56,null,null,null,null,null,null,null,null,null,null,null,null,null,null,null,4,96,null,null,null,null,null,null,null,null,10,114,null,null,-10,57,-4,60,null,null,"2021-03-10",198,0,4,0,null,327]
[57,null,null,null,null,null,null,null,null,null,null,null,null,null,null,null,-10,55,null,null,null,null,null,null,null,null,-4,68,null,null,10,87,4,69,null,null,"2021-03-10",198,0,4,0,null,279]
[58,null,null,null,null,null,-10,69,null,null,null,null,null,null,null,null,null,null,null,null,null,null,null,null,null,null,10,111,null,null,0,81,0,81,null,null,"2021-03-11",199,0,4,0,null,342]
[59,null,null,null,null,null,10,93,null,null,null,null,null,null,null,null,4,82,null,null,null,null,null,null,null,null,-4,35,null,null,null,null,-10,25,null,null,"2021-03-11",199,0,4,0,null,235]
[60,null,null,null,null,null,4,79,null,null,null,null,null,null,null,null,null,null,null,null,null,null,null,null,null,null,-10,36,null,null,10,91,-4,69,null,null,"2021-03-13",201,0,4,0,null,275]
[61,null,null,null,null,null,-10,75,null,null,null,null,null,null,null,null,null,null,null,null,null,null,10,121,null,null,null,null,-4,85,null,null,4,91,null,null,"2021-03-15",203,0,4,0,null,372]
[62,null,null,null,null,null,null,null,null,null,null,null,null,null,null,null,null,null,null,null,null,null,-10,47,null,null,4,94,null,null,10,110,-4,66,null,null,"2021-03-17",205,0,4,0,null,317]
[63,null,null,null,null,null,null,null,null,null,null,null,null,null,null,null,null,null,null,null,null,null,-10,47,null,null,7,83,null,null,-4,73,7,83,null,null,"2021-03-17",205,0,4,0,null,286]
[64,null,null,null,null,null,4,73,null,null,null,null,null,null,null,null,null,null,null,null,null,null,null,null,null,null,-4,64,null,null,-10,32,10,94,null,null,"2021-03-18",206,0,4,0,null,263]
[65,null,null,null,null,null,null,null,null,null,null,null,null,null,null,null,-4,79,null,null,null,null,null,null,null,null,4,82,null,null,-10,59,10,131,null,null,"2021-03-21",209,0,4,0,null,351]
[66,null,null,null,null,null,null,null,null,null,null,null,null,null,null,null,null,null,null,null,null,null,10,140,null,null,null,null,-10,74,4,92,-4,83,null,null,"2021-03-24",212,0,4,0,null,389]
[{"$f":"+A108+1","v":67},null,null,null,null,null,-4,83,null,null,null,null,null,null,null,null,7,103,null,null,null,null,7,103,null,null,null,null,null,null,null,null,-10,46,null,null,"2021-03-25",213,{"$f":"+C109+E109+G109+I109++K109++M109+O109+Q109+S109+U109+W109+Y109+AI109+AA109+AG109+AC109+AE109","v":0},{"$f":"COUNT(C109:AJ109)/2","v":4},{"$f":"+AM109/AN109","v":0},null,335]
[68,null,null,null,null,null,10,74,null,null,null,null,null,null,null,null,-4,64,null,null,null,null,4,69,null,null,null,null,null,null,null,null,-10,58,null,null,"2021-03-25",213,0,4,0,null,265]
[69,null,null,null,null,null,-4,70,null,null,null,null,null,null,null,null,null,null,null,null,null,null,null,null,null,null,-10,11,null,null,4,80,10,97,null,null,"2021-04-03",224,0,4,0,null,258]
[70,null,null,null,null,null,-10,71,null,null,null,null,null,null,null,null,null,null,null,null,null,null,null,null,null,null,10,105,null,null,-4,80,4,89,null,null,"2021-04-03",224,0,4,0,null,345]
[71,null,null,null,null,null,null,null,null,null,null,null,null,null,null,null,null,null,null,null,null,null,null,null,null,null,4,67,-4,57,-10,50,10,70,null,null,"2021-04-04",225,0,4,0,null,244]
[72,null,null,null,null,null,null,null,null,null,null,null,null,null,null,null,-10,74,null,null,null,null,null,null,null,null,null,null,-4,94,10,106,4,95,null,null,"2021-04-06",227,0,4,0,null,369]
[73,null,null,null,null,null,null,null,null,null,null,null,null,null,null,null,null,null,null,null,null,null,null,null,null,null,4,103,10,112,-10,73,-4,79,null,null,"2021-04-12",234,0,4,0,null,{"$f":"+D115+F115+H115+J115+L115+N115+P115+R115+T115+V115+X115+Z115+AH115+AJ115++AF115+AD115+AB115","v":367}]
[74,null,null,null,null,null,10,106,null,null,null,null,null,null,null,null,null,null,null,null,null,null,-4,67,null,null,null,null,null,null,4,81,-10,54,null,null,"2021-04-13",235,0,4,0,null,308]
[75,null,null,null,null,null,10,97,null,null,null,null,null,null,null,null,null,null,null,null,null,null,null,null,null,null,4,80,null,null,-7,73,-7,73,null,null,"2021-04-15",237,0,4,0,null,323]
[76,null,null,null,null,null,null,null,null,null,null,null,null,null,null,null,null,null,null,null,null,null,4,78,null,null,10,107,null,null,-4,73,-10,70,null,null,"2021-04-16",238,0,4,0,null,328]
[77,null,null,null,null,null,null,null,null,null,null,null,null,null,null,null,4,79,null,null,null,null,null,null,null,null,-10,33,null,null,10,99,-4,71,null,null,"2021-04-18",241,0,4,0,null,282]
[78,null,null,null,null,null,null,null,null,null,null,null,null,null,null,null,-10,55,null,null,null,null,null,null,null,null,10,93,null,null,-4,77,4,82,null,null,"2021-04-18",241,0,4,0,null,307]
[79,null,null,null,null,null,4,95,null,null,null,null,null,null,null,null,-10,43,null,null,null,null,null,null,null,null,-4,89,null,null,null,null,10,113,null,null,"2021-04-18",241,0,4,0,null,340]
[80,null,null,null,null,null,4,87,null,null,null,null,null,null,null,null,-10,57,null,null,null,null,null,null,null,null,-4,86,null,null,null,null,10,89,null,null,"2021-04-18",241,{"$f":"+C122+E122+G122+I122++K122++M122+O122+Q122+S122+U122+W122+Y122+AI122+AA122+AG122+AC122+AE122","v":0},{"$f":"COUNT(C122:AJ122)/2","v":4},{"$f":"+AM122/AN122","v":0},null,319]
[81,null,null,null,null,null,-4,79,null,null,null,null,null,null,null,null,null,null,null,null,null,null,null,null,null,null,4,92,null,null,-10,71,10,95,null,null,"2021-04-19",242,0,4,0,null,337]
[82,null,null,null,null,null,-4,84,null,null,null,null,null,null,null,null,10,108,null,null,null,null,-10,70,null,null,4,96,null,null,null,null,null,null,null,null,"2021-04-22",245,0,4,0,null,358]
[83,null,null,null,null,null,null,null,null,null,null,null,null,null,null,null,null,null,null,null,null,null,10,93,null,null,4,82,null,null,-4,69,-10,57,null,null,"2021-04-25",248,0,4,0,null,301]
[84,null,null,null,null,null,null,null,null,null,null,null,null,null,null,null,null,null,null,null,null,null,10,116,null,null,4,114,null,null,-10,48,-4,83,null,null,"2021-04-25",248,0,4,0,null,361]
[85,null,null,null,null,null,null,null,null,null,null,null,null,null,null,null,null,null,null,null,null,null,4,81,null,null,-10,59,null,null,-4,68,10,116,null,null,"2021-04-26",249,0,4,0,null,324]
[86,null,null,null,null,null,null,null,null,null,null,null,null,null,null,null,null,null,null,null,null,null,10,127,null,null,-4,84,null,null,4,117,-10,48,null,null,"2021-04-26",249,0,4,0,null,376]
[87,null,null,null,null,null,null,null,null,null,null,null,null,null,null,null,null,null,null,null,null,null,4,102,null,null,-10,68,null,null,-4,73,10,117,null,null,"2021-04-29",252,0,4,0,null,360]
[88,null,null,null,null,null,null,null,null,null,null,null,null,null,null,null,-10,44,null,null,null,null,10,102,null,null,-4,57,null,null,null,null,4,81,null,null,"2021-04-29",252,0,4,0,null,284]
[89,null,null,null,null,null,null,null,null,null,null,null,null,null,null,null,-10,12,null,null,null,null,10,98,null,null,4,90,null,null,null,null,-4,83,null,null,"2021-04-29",252,0,4,0,null,283]
[90,null,null,null,null,null,null,null,null,null,null,null,null,null,null,null,4,72,null,null,null,null,-10,45,null,null,null,null,null,null,-4,46,10,96,null,null,"2021-05-03",257,0,4,0,null,259]
[91,null,null,null,null,null,-4,86,null,null,null,null,null,null,null,null,-10,82,null,null,null,null,null,null,null,null,null,null,null,null,4,92,10,97,null,null,"2021-05-04",258,0,4,0,null,357]
[92,null,null,null,null,null,4,107,null,null,null,null,null,null,null,null,-4,58,null,null,null,null,null,null,null,null,null,null,null,null,10,132,-10,45,null,null,"2021-05-04",258,0,4,0,null,342]
[93,null,null,null,null,null,10,97,null,null,null,null,null,null,null,null,-10,47,null,null,null,null,4,71,null,null,null,null,null,null,null,null,-4,56,null,null,"2021-05-04",258,0,4,0,null,271]
[94,null,null,null,null,null,null,null,null,null,null,null,null,null,null,null,null,null,null,null,null,null,4,78,null,null,10,85,null,null,-10,56,-4,59,null,null,"2021-05-05",259,0,4,0,null,278]
[95,null,null,null,null,null,10,90,null,null,null,null,null,null,null,null,-4,70,null,null,null,null,null,null,null,null,4,81,null,null,null,null,-10,56,null,null,"2021-05-06",260,0,4,0,null,297]
[96,null,null,null,null,null,4,82,null,null,null,null,null,null,null,null,-4,58,null,null,null,null,null,null,null,null,10,114,null,null,null,null,-10,34,null,null,"2021-05-06",260,0,4,0,null,288]
[97,null,null,null,10,108,null,null,null,null,null,null,null,null,-10,74,null,null,null,null,null,null,null,null,null,null,null,null,null,null,4,82,-4,78,null,null,"2021-05-13",266,0,4,0,null,342]
[98,null,null,null,-10,35,null,null,null,null,null,null,null,null,4,89,null,null,null,null,null,null,null,null,null,null,null,null,null,null,10,106,-4,83,null,null,"2021-05-13",266,0,4,0,null,313]
[99,null,null,null,null,null,10,86,null,null,null,null,null,null,null,null,null,null,null,null,null,null,null,null,null,null,-10,69,null,null,-4,82,4,84,null,null,"2021-05-18",270,0,4,0,null,321]
[100,null,null,null,null,null,-4,97,null,null,null,null,null,null,null,null,10,102,null,null,null,null,null,null,null,null,null,null,null,null,-10,58,4,99,null,null,"2021-06-05",282,0,4,0,null,356]
[101,null,null,null,null,null,-10,44,null,null,null,null,null,null,null,null,4,91,null,null,null,null,10,108,null,null,null,null,null,null,null,null,-4,64,null,null,"2021-06-19",287,0,4,0,null,307]
[102,null,null,null,null,null,10,122,null,null,null,null,null,null,null,null,4,94,null,null,null,null,-10,44,null,null,null,null,-4,84,null,null,null,null,null,null,"2021-07-13",300,0,4,0,null,344]
[103,null,null,null,null,null,-4,88,null,null,null,null,0,73,10,124,null,null,null,null,-10,75,null,null,null,null,10,99,4,93,-10,69,null,null,0,73,"2021-09-18",363,0,8,0,null,694]
[104,"Temps exhaurit amb 26p",null,null,4,24,null,null,null,null,null,null,null,null,10,67,null,null,null,null,-10,-1,null,null,-4,0,null,null,null,null,null,null,null,null,null,null,"2021-10-12",374,0,4,0,null,90]
[105,null,null,null,-4,60,null,null,null,null,null,null,null,null,10,96,null,null,null,null,4,92,null,null,-10,59,null,null,null,null,null,null,null,null,null,null,"2021-10-14",375,0,4,0,null,307]
[106,null,null,null,null,null,null,null,null,null,null,null,null,null,-4,60,null,null,null,null,-10,36,null,null,4,76,null,null,null,null,null,null,10,92,null,null,"2021-10-16",376,0,4,0,null,264]
[107,null,null,null,null,null,null,null,null,null,null,null,null,null,10,95,null,null,null,null,-10,54,null,null,4,76,null,null,null,null,null,null,-4,73,null,null,"2021-10-18",377,0,4,0,null,298]
[108,null,null,null,-4,58,null,null,null,null,null,null,null,null,10,95,null,null,null,null,4,66,null,null,-10,53,null,null,null,null,null,null,null,null,null,null,"2021-10-19",378,0,4,0,null,272]
[109,null,null,null,null,null,null,null,null,null,null,null,null,null,10,90,null,null,null,null,-10,34,null,null,4,72,null,null,null,null,null,null,-4,63,null,null,"2021-10-20",379,0,4,0,null,259]
[110,null,null,null,4,48,null,null,null,null,null,null,null,null,10,102,null,null,null,null,-4,44,null,null,-10,42,null,null,null,null,null,null,null,null,null,null,"2021-10-26",383,0,4,0,null,236]
[111,null,null,null,4,101,null,null,null,null,null,null,null,null,10,120,null,null,null,null,-10,64,null,null,-4,69,null,null,null,null,null,null,null,null,null,null,"2021-10-27",384,0,4,0,null,354]
[112,null,null,null,-4,81,null,null,null,null,null,null,null,null,4,101,null,null,null,null,-10,34,null,null,10,118,null,null,null,null,null,null,null,null,null,null,"2021-10-28",385,0,4,0,null,334]
[113,null,null,null,-10,57,null,null,null,null,null,null,null,null,10,79,null,null,null,null,4,72,null,null,-4,61,null,null,null,null,null,null,null,null,null,null,"2021-10-29",386,0,4,0,null,269]
[114,null,null,null,4,80,null,null,null,null,null,null,null,null,10,132,null,null,null,null,-10,49,null,null,-4,67,null,null,null,null,null,null,null,null,null,null,"2021-10-30",387,0,4,0,null,328]
[115,null,null,null,null,null,null,null,null,null,null,null,null,null,null,null,null,null,null,null,null,null,null,null,null,null,null,null,null,null,null,null,null,null,null,null,null,null,0,0,{"$error":"#DIV/0!"},null,0]
[116,null,null,null,null,null,null,null,null,null,null,null,null,null,null,null,null,null,null,null,null,null,null,null,null,null,null,null,null,null,null,null,null,null,null,null,null,null,0,0,{"$error":"#DIV/0!"},null,0]
[117,null,null,null,null,null,null,null,null,null,null,null,null,null,null,null,null,null,null,null,null,null,null,null,null,null,null,null,null,null,null,null,null,null,null,null,null,null,0,0,{"$error":"#DIV/0!"},null,0]
[118,null,null,null,null,null,null,null,null,null,null,null,null,null,null,null,null,null,null,null,null,null,null,null,null,null,null,null,null,null,null,null,null,null,null,null,null,null,0,0,{"$error":"#DIV/0!"},null,0]
[119,null,null,null,null,null,null,null,null,null,null,null,null,null,null,null,null,null,null,null,null,null,null,null,null,null,null,null,null,null,null,null,null,null,null,null,null,null,0,0,{"$error":"#DIV/0!"},null,0]
[120,null,null,null,null,null,null,null,null,null,null,null,null,null,null,null,null,null,null,null,null,null,null,null,null,null,null,null,null,null,null,null,null,null,null,null,null,null,0,0,{"$error":"#DIV/0!"},null,0]
[121,null,null,null,null,null,null,null,null,null,null,null,null,null,null,null,null,null,null,null,null,null,null,null,null,null,null,null,null,null,null,null,null,null,null,null,null,null,0,0,{"$error":"#DIV/0!"},null,0]
[122,null,null,null,null,null,null,null,null,null,null,null,null,null,null,null,null,null,null,null,null,null,null,null,null,null,null,null,null,null,null,null,null,null,null,null,null,null,0,0,{"$error":"#DIV/0!"},null,0]
[123,null,null,null,null,null,null,null,null,null,null,null,null,null,null,null,null,null,null,null,null,null,null,null,null,null,null,null,null,null,null,null,null,null,null,null,null,null,0,0,{"$error":"#DIV/0!"},null,0]
[124,null,null,null,null,null,null,null,null,null,null,null,null,null,null,null,null,null,null,null,null,null,null,null,null,null,null,null,null,null,null,null,null,null,null,null,null,null,0,0,{"$error":"#DIV/0!"},null,0]
[125,null,null,null,null,null,null,null,null,null,null,null,null,null,null,null,null,null,null,null,null,null,null,null,null,null,null,null,null,null,null,null,null,null,null,null,null,null,0,0,{"$error":"#DIV/0!"},null,0]
[126,null,null,null,null,null,null,null,null,null,null,null,null,null,null,null,null,null,null,null,null,null,null,null,null,null,null,null,null,null,null,null,null,null,null,null,null,null,0,0,{"$error":"#DIV/0!"},null,0]
[127,null,null,null,null,null,null,null,null,null,null,null,null,null,null,null,null,null,null,null,null,null,null,null,null,null,null,null,null,null,null,null,null,null,null,null,null,null,0,0,{"$error":"#DIV/0!"},null,0]
[128,null,null,null,null,null,null,null,null,null,null,null,null,null,null,null,null,null,null,null,null,null,null,null,null,null,null,null,null,null,null,null,null,null,null,null,null,null,0,0,{"$error":"#DIV/0!"},null,0]
[129,null,null,null,null,null,null,null,null,null,null,null,null,null,null,null,null,null,null,null,null,null,null,null,null,null,null,null,null,null,null,null,null,null,null,null,null,null,0,0,{"$error":"#DIV/0!"},null,0]
[130,null,null,null,null,null,null,null,null,null,null,null,null,null,null,null,null,null,null,null,null,null,null,null,null,null,null,null,null,null,null,null,null,null,null,null,null,null,0,0,{"$error":"#DIV/0!"},null,0]
[{"$f":"+A172+1","v":131},null,null,null,null,null,null,null,null,null,null,null,null,null,null,null,null,null,null,null,null,null,null,null,null,null,null,null,null,null,null,null,null,null,null,null,null,null,0,0,{"$error":"#DIV/0!"},null,0]
[132,null,null,null,null,null,null,null,null,null,null,null,null,null,null,null,null,null,null,null,null,null,null,null,null,null,null,null,null,null,null,null,null,null,null,null,null,null,0,0,{"$error":"#DIV/0!"},null,0]
[133,null,null,null,null,null,null,null,null,null,null,null,null,null,null,null,null,null,null,null,null,null,null,null,null,null,null,null,null,null,null,null,null,null,null,null,null,null,0,0,{"$error":"#DIV/0!"},null,0]
[134,null,null,null,null,null,null,null,null,null,null,null,null,null,null,null,null,null,null,null,null,null,null,null,null,null,null,null,null,null,null,null,null,null,null,null,null,null,0,0,{"$error":"#DIV/0!"},null,0]
[135,null,null,null,null,null,null,null,null,null,null,null,null,null,null,null,null,null,null,null,null,null,null,null,null,null,null,null,null,null,null,null,null,null,null,null,null,null,0,0,{"$error":"#DIV/0!"},null,0]
[136,null,null,null,null,null,null,null,null,null,null,null,null,null,null,null,null,null,null,null,null,null,null,null,null,null,null,null,null,null,null,null,null,null,null,null,null,null,0,0,{"$error":"#DIV/0!"},null,0]
[137,null,null,null,null,null,null,null,null,null,null,null,null,null,null,null,null,null,null,null,null,null,null,null,null,null,null,null,null,null,null,null,null,null,null,null,null,null,0,0,{"$error":"#DIV/0!"},null,{"$f":"+D179+F179+H179+J179+L179+N179+P179+R179+T179+V179+X179+Z179+AH179+AJ179++AF179+AD179+AB179","v":0}]
[138,null,null,null,null,null,null,null,null,null,null,null,null,null,null,null,null,null,null,null,null,null,null,null,null,null,null,null,null,null,null,null,null,null,null,null,null,null,0,0,{"$error":"#DIV/0!"},null,0]
[139,null,null,null,null,null,null,null,null,null,null,null,null,null,null,null,null,null,null,null,null,null,null,null,null,null,null,null,null,null,null,null,null,null,null,null,null,null,0,0,{"$error":"#DIV/0!"},null,0]
[140,null,null,null,null,null,null,null,null,null,null,null,null,null,null,null,null,null,null,null,null,null,null,null,null,null,null,null,null,null,null,null,null,null,null,null,null,null,0,0,{"$error":"#DIV/0!"},null,0]
[141,null,null,null,null,null,null,null,null,null,null,null,null,null,null,null,null,null,null,null,null,null,null,null,null,null,null,null,null,null,null,null,null,null,null,null,null,null,0,0,{"$error":"#DIV/0!"},null,0]
[142,null,null,null,null,null,null,null,null,null,null,null,null,null,null,null,null,null,null,null,null,null,null,null,null,null,null,null,null,null,null,null,null,null,null,null,null,null,0,0,{"$error":"#DIV/0!"},null,0]
[143,null,null,null,null,null,null,null,null,null,null,null,null,null,null,null,null,null,null,null,null,null,null,null,null,null,null,null,null,null,null,null,null,null,null,null,null,null,0,0,{"$error":"#DIV/0!"},null,0]
[144,null,null,null,null,null,null,null,null,null,null,null,null,null,null,null,null,null,null,null,null,null,null,null,null,null,null,null,null,null,null,null,null,null,null,null,null,null,{"$f":"+C186+E186+G186+I186++K186++M186+O186+Q186+S186+U186+W186+Y186+AI186+AA186+AG186+AC186+AE186","v":0},{"$f":"COUNT(C186:AJ186)/2","v":0},{"$f":"+AM186/AN186","v":{"$error":"#DIV/0!"}},null,0]
[145,null,null,null,null,null,null,null,null,null,null,null,null,null,null,null,null,null,null,null,null,null,null,null,null,null,null,null,null,null,null,null,null,null,null,null,null,null,0,0,{"$error":"#DIV/0!"},null,0]
[146,null,null,null,null,null,null,null,null,null,null,null,null,null,null,null,null,null,null,null,null,null,null,null,null,null,null,null,null,null,null,null,null,null,null,null,null,null,0,0,{"$error":"#DIV/0!"},null,0]
[147,null,null,null,null,null,null,null,null,null,null,null,null,null,null,null,null,null,null,null,null,null,null,null,null,null,null,null,null,null,null,null,null,null,null,null,null,null,0,0,{"$error":"#DIV/0!"},null,0]
[148,null,null,null,null,null,null,null,null,null,null,null,null,null,null,null,null,null,null,null,null,null,null,null,null,null,null,null,null,null,null,null,null,null,null,null,null,null,0,0,{"$error":"#DIV/0!"},null,0]
[149,null,null,null,null,null,null,null,null,null,null,null,null,null,null,null,null,null,null,null,null,null,null,null,null,null,null,null,null,null,null,null,null,null,null,null,null,null,0,0,{"$error":"#DIV/0!"},null,0]
[150,null,null,null,null,null,null,null,null,null,null,null,null,null,null,null,null,null,null,null,null,null,null,null,null,null,null,null,null,null,null,null,null,null,null,null,null,null,0,0,{"$error":"#DIV/0!"},null,0]
[151,null,null,null,null,null,null,null,null,null,null,null,null,null,null,null,null,null,null,null,null,null,null,null,null,null,null,null,null,null,null,null,null,null,null,null,null,null,0,0,{"$error":"#DIV/0!"},null,0]
[152,null,null,null,null,null,null,null,null,null,null,null,null,null,null,null,null,null,null,null,null,null,null,null,null,null,null,null,null,null,null,null,null,null,null,null,null,null,0,0,{"$error":"#DIV/0!"},null,0]
[153,null,null,null,null,null,null,null,null,null,null,null,null,null,null,null,null,null,null,null,null,null,null,null,null,null,null,null,null,null,null,null,null,null,null,null,null,null,0,0,{"$error":"#DIV/0!"},null,0]
[154,null,null,null,null,null,null,null,null,null,null,null,null,null,null,null,null,null,null,null,null,null,null,null,null,null,null,null,null,null,null,null,null,null,null,null,null,null,0,0,{"$error":"#DIV/0!"},null,0]
[155,null,null,null,null,null,null,null,null,null,null,null,null,null,null,null,null,null,null,null,null,null,null,null,null,null,null,null,null,null,null,null,null,null,null,null,null,null,0,0,{"$error":"#DIV/0!"},null,0]
[156,null,null,null,null,null,null,null,null,null,null,null,null,null,null,null,null,null,null,null,null,null,null,null,null,null,null,null,null,null,null,null,null,null,null,null,null,null,0,0,{"$error":"#DIV/0!"},null,0]
[157,null,null,null,null,null,null,null,null,null,null,null,null,null,null,null,null,null,null,null,null,null,null,null,null,null,null,null,null,null,null,null,null,null,null,null,null,null,0,0,{"$error":"#DIV/0!"},null,0]
[158,null,null,null,null,null,null,null,null,null,null,null,null,null,null,null,null,null,null,null,null,null,null,null,null,null,null,null,null,null,null,null,null,null,null,null,null,null,0,0,{"$error":"#DIV/0!"},null,0]
[159,null,null,null,null,null,null,null,null,null,null,null,null,null,null,null,null,null,null,null,null,null,null,null,null,null,null,null,null,null,null,null,null,null,null,null,null,null,0,0,{"$error":"#DIV/0!"},null,0]
[160,null,null,null,null,null,null,null,null,null,null,null,null,null,null,null,null,null,null,null,null,null,null,null,null,null,null,null,null,null,null,null,null,null,null,null,null,null,0,0,{"$error":"#DIV/0!"},null,0]
[161,null,null,null,null,null,null,null,null,null,null,null,null,null,null,null,null,null,null,null,null,null,null,null,null,null,null,null,null,null,null,null,null,null,null,null,null,null,0,0,{"$error":"#DIV/0!"},null,0]
[162,null,null,null,null,null,null,null,null,null,null,null,null,null,null,null,null,null,null,null,null,null,null,null,null,null,null,null,null,null,null,null,null,null,null,null,null,null,0,0,{"$error":"#DIV/0!"},null,0]
[163,null,null,null,null,null,null,null,null,null,null,null,null,null,null,null,null,null,null,null,null,null,null,null,null,null,null,null,null,null,null,null,null,null,null,null,null,null,0,0,{"$error":"#DIV/0!"},null,0]
[164,null,null,null,null,null,null,null,null,null,null,null,null,null,null,null,null,null,null,null,null,null,null,null,null,null,null,null,null,null,null,null,null,null,null,null,null,null,0,0,{"$error":"#DIV/0!"},null,0]
[165,null,null,null,null,null,null,null,null,null,null,null,null,null,null,null,null,null,null,null,null,null,null,null,null,null,null,null,null,null,null,null,null,null,null,null,null,null,0,0,{"$error":"#DIV/0!"},null,0]
[166,null,null,null,null,null,null,null,null,null,null,null,null,null,null,null,null,null,null,null,null,null,null,null,null,null,null,null,null,null,null,null,null,null,null,null,null,null,0,0,{"$error":"#DIV/0!"},null,0]
[167,null,null,null,null,null,null,null,null,null,null,null,null,null,null,null,null,null,null,null,null,null,null,null,null,null,null,null,null,null,null,null,null,null,null,null,null,null,0,0,{"$error":"#DIV/0!"},null,0]
[168,null,null,null,null,null,null,null,null,null,null,null,null,null,null,null,null,null,null,null,null,null,null,null,null,null,null,null,null,null,null,null,null,null,null,null,null,null,0,0,{"$error":"#DIV/0!"},null,0]
[169,null,null,null,null,null,null,null,null,null,null,null,null,null,null,null,null,null,null,null,null,null,null,null,null,null,null,null,null,null,null,null,null,null,null,null,null,null,0,0,{"$error":"#DIV/0!"},null,0]
[170,null,null,null,null,null,null,null,null,null,null,null,null,null,null,null,null,null,null,null,null,null,null,null,null,null,null,null,null,null,null,null,null,null,null,null,null,null,0,0,{"$error":"#DIV/0!"},null,0]
[171,null,null,null,null,null,null,null,null,null,null,null,null,null,null,null,null,null,null,null,null,null,null,null,null,null,null,null,null,null,null,null,null,null,null,null,null,null,0,0,{"$error":"#DIV/0!"},null,0]
[172,null,null,null,null,null,null,null,null,null,null,null,null,null,null,null,null,null,null,null,null,null,null,null,null,null,null,null,null,null,null,null,null,null,null,null,null,null,0,0,{"$error":"#DIV/0!"},null,0]
[173,null,null,null,null,null,null,null,null,null,null,null,null,null,null,null,null,null,null,null,null,null,null,null,null,null,null,null,null,null,null,null,null,null,null,null,null,null,0,0,{"$error":"#DIV/0!"},null,0]
[174,null,null,null,null,null,null,null,null,null,null,null,null,null,null,null,null,null,null,null,null,null,null,null,null,null,null,null,null,null,null,null,null,null,null,null,null,null,0,0,{"$error":"#DIV/0!"},null,0]
[175,null,null,null,null,null,null,null,null,null,null,null,null,null,null,null,null,null,null,null,null,null,null,null,null,null,null,null,null,null,null,null,null,null,null,null,null,null,0,0,{"$error":"#DIV/0!"},null,0]
[176,null,null,null,null,null,null,null,null,null,null,null,null,null,null,null,null,null,null,null,null,null,null,null,null,null,null,null,null,null,null,null,null,null,null,null,null,null,0,0,{"$error":"#DIV/0!"},null,0]
[177,null,null,null,null,null,null,null,null,null,null,null,null,null,null,null,null,null,null,null,null,null,null,null,null,null,null,null,null,null,null,null,null,null,null,null,null,null,0,0,{"$error":"#DIV/0!"},null,0]
[178,null,null,null,null,null,null,null,null,null,null,null,null,null,null,null,null,null,null,null,null,null,null,null,null,null,null,null,null,null,null,null,null,null,null,null,null,null,0,0,{"$error":"#DIV/0!"},null,0]
[179,null,null,null,null,null,null,null,null,null,null,null,null,null,null,null,null,null,null,null,null,null,null,null,null,null,null,null,null,null,null,null,null,null,null,null,null,null,0,0,{"$error":"#DIV/0!"},null,0]
[180,null,null,null,null,null,null,null,null,null,null,null,null,null,null,null,null,null,null,null,null,null,null,null,null,null,null,null,null,null,null,null,null,null,null,null,null,null,0,0,{"$error":"#DIV/0!"},null,0]
[181,null,null,null,null,null,null,null,null,null,null,null,null,null,null,null,null,null,null,null,null,null,null,null,null,null,null,null,null,null,null,null,null,null,null,null,null,null,0,0,{"$error":"#DIV/0!"},null,0]
[182,null,null,null,null,null,null,null,null,null,null,null,null,null,null,null,null,null,null,null,null,null,null,null,null,null,null,null,null,null,null,null,null,null,null,null,null,null,0,0,{"$error":"#DIV/0!"},null,0]
[183,null,null,null,null,null,null,null,null,null,null,null,null,null,null,null,null,null,null,null,null,null,null,null,null,null,null,null,null,null,null,null,null,null,null,null,null,null,0,0,{"$error":"#DIV/0!"},null,0]
[184,null,null,null,null,null,null,null,null,null,null,null,null,null,null,null,null,null,null,null,null,null,null,null,null,null,null,null,null,null,null,null,null,null,null,null,null,null,0,0,{"$error":"#DIV/0!"},null,0]
[185,null,null,null,null,null,null,null,null,null,null,null,null,null,null,null,null,null,null,null,null,null,null,null,null,null,null,null,null,null,null,null,null,null,null,null,null,null,0,0,{"$error":"#DIV/0!"},null,0]
[186,null,null,null,null,null,null,null,null,null,null,null,null,null,null,null,null,null,null,null,null,null,null,null,null,null,null,null,null,null,null,null,null,null,null,null,null,null,0,0,{"$error":"#DIV/0!"},null,0]
[187,null,null,null,null,null,null,null,null,null,null,null,null,null,null,null,null,null,null,null,null,null,null,null,null,null,null,null,null,null,null,null,null,null,null,null,null,null,0,0,{"$error":"#DIV/0!"},null,0]
[188,null,null,null,null,null,null,null,null,null,null,null,null,null,null,null,null,null,null,null,null,null,null,null,null,null,null,null,null,null,null,null,null,null,null,null,null,null,0,0,{"$error":"#DIV/0!"},null,0]
[189,null,null,null,null,null,null,null,null,null,null,null,null,null,null,null,null,null,null,null,null,null,null,null,null,null,null,null,null,null,null,null,null,null,null,null,null,null,0,0,{"$error":"#DIV/0!"},null,0]
[190,null,null,null,null,null,null,null,null,null,null,null,null,null,null,null,null,null,null,null,null,null,null,null,null,null,null,null,null,null,null,null,null,null,null,null,null,null,0,0,{"$error":"#DIV/0!"},null,0]
[191,null,null,null,null,null,null,null,null,null,null,null,null,null,null,null,null,null,null,null,null,null,null,null,null,null,null,null,null,null,null,null,null,null,null,null,null,null,0,0,{"$error":"#DIV/0!"},null,0]
[192,null,null,null,null,null,null,null,null,null,null,null,null,null,null,null,null,null,null,null,null,null,null,null,null,null,null,null,null,null,null,null,null,null,null,null,null,null,0,0,{"$error":"#DIV/0!"},null,0]
[193,null,null,null,null,null,null,null,null,null,null,null,null,null,null,null,null,null,null,null,null,null,null,null,null,null,null,null,null,null,null,null,null,null,null,null,null,null,0,0,{"$error":"#DIV/0!"},null,0]
[194,null,null,null,null,null,null,null,null,null,null,null,null,null,null,null,null,null,null,null,null,null,null,null,null,null,null,null,null,null,null,null,null,null,null,null,null,null,0,0,{"$error":"#DIV/0!"},null,0]
[{"$f":"+A236+1","v":195},null,null,null,null,null,null,null,null,null,null,null,null,null,null,null,null,null,null,null,null,null,null,null,null,null,null,null,null,null,null,null,null,null,null,null,null,null,0,0,{"$error":"#DIV/0!"},null,0]
[196,null,null,null,null,null,null,null,null,null,null,null,null,null,null,null,null,null,null,null,null,null,null,null,null,null,null,null,null,null,null,null,null,null,null,null,null,null,0,0,{"$error":"#DIV/0!"},null,0]
[197,null,null,null,null,null,null,null,null,null,null,null,null,null,null,null,null,null,null,null,null,null,null,null,null,null,null,null,null,null,null,null,null,null,null,null,null,null,0,0,{"$error":"#DIV/0!"},null,0]
[198,null,null,null,null,null,null,null,null,null,null,null,null,null,null,null,null,null,null,null,null,null,null,null,null,null,null,null,null,null,null,null,null,null,null,null,null,null,0,0,{"$error":"#DIV/0!"},null,0]
[199,null,null,null,null,null,null,null,null,null,null,null,null,null,null,null,null,null,null,null,null,null,null,null,null,null,null,null,null,null,null,null,null,null,null,null,null,null,0,0,{"$error":"#DIV/0!"},null,0]
[200,null,null,null,null,null,null,null,null,null,null,null,null,null,null,null,null,null,null,null,null,null,null,null,null,null,null,null,null,null,null,null,null,null,null,null,null,null,0,0,{"$error":"#DIV/0!"},null,0]
[201,null,null,null,null,null,null,null,null,null,null,null,null,null,null,null,null,null,null,null,null,null,null,null,null,null,null,null,null,null,null,null,null,null,null,null,null,null,0,0,{"$error":"#DIV/0!"},null,{"$f":"+D243+F243+H243+J243+L243+N243+P243+R243+T243+V243+X243+Z243+AH243+AJ243++AF243+AD243+AB243","v":0}]
[202,null,null,null,null,null,null,null,null,null,null,null,null,null,null,null,null,null,null,null,null,null,null,null,null,null,null,null,null,null,null,null,null,null,null,null,null,null,0,0,{"$error":"#DIV/0!"},null,0]
[203,null,null,null,null,null,null,null,null,null,null,null,null,null,null,null,null,null,null,null,null,null,null,null,null,null,null,null,null,null,null,null,null,null,null,null,null,null,0,0,{"$error":"#DIV/0!"},null,0]
[204,null,null,null,null,null,null,null,null,null,null,null,null,null,null,null,null,null,null,null,null,null,null,null,null,null,null,null,null,null,null,null,null,null,null,null,null,null,0,0,{"$error":"#DIV/0!"},null,0]
[205,null,null,null,null,null,null,null,null,null,null,null,null,null,null,null,null,null,null,null,null,null,null,null,null,null,null,null,null,null,null,null,null,null,null,null,null,null,0,0,{"$error":"#DIV/0!"},null,0]
[206,null,null,null,null,null,null,null,null,null,null,null,null,null,null,null,null,null,null,null,null,null,null,null,null,null,null,null,null,null,null,null,null,null,null,null,null,null,0,0,{"$error":"#DIV/0!"},null,0]
[207,null,null,null,null,null,null,null,null,null,null,null,null,null,null,null,null,null,null,null,null,null,null,null,null,null,null,null,null,null,null,null,null,null,null,null,null,null,0,0,{"$error":"#DIV/0!"},null,0]
[208,null,null,null,null,null,null,null,null,null,null,null,null,null,null,null,null,null,null,null,null,null,null,null,null,null,null,null,null,null,null,null,null,null,null,null,null,null,{"$f":"+C250+E250+G250+I250++K250++M250+O250+Q250+S250+U250+W250+Y250+AI250+AA250+AG250+AC250+AE250","v":0},{"$f":"COUNT(C250:AJ250)/2","v":0},{"$f":"+AM250/AN250","v":{"$error":"#DIV/0!"}},null,0]

{"sheet":"King","index":4,"n_rows":200,"n_cols":46,"rows_kept":200,"cut":false,"hidden":false,"merged":[[43,22,43,23],[43,36,43,37],[43,38,43,39],[43,24,43,25],[43,34,43,35],[43,26,43,27],[43,28,43,29],[43,30,43,31],[43,32,43,33],[43,14,43,15],[43,16,43,17],[43,18,43,19],[43,10,43,11],[43,20,43,21],[43,2,43,3],[43,4,43,5],[43,6,43,7],[43,8,43,9],[43,12,43,13]]}
["KING"]
["Mes"]
[{"$f":"+GENERAL!B6","v":12},null,{"$f":"SUM(C5:C17)","v":0}]
[null,null,"Premi","Punts","Partides","General"]
[1,"Carles",{"$f":"+C$41","v":86},{"$f":"+D$42","v":5.8823529411764705E-2},{"$f":"+D$41","v":17},{"$f":"+C$27","v":80},{"$f":"IF(E5<A$3/2,-1,1)*80+C5/1000","v":80.085999999999999}]
[2,"Jordi",{"$f":"+G$41","v":61},{"$f":"+H$42","v":1.8187500000000001},{"$f":"+H$41","v":16},{"$f":"+G$27","v":40},80.061000000000007]
[3,"Manolo",{"$f":"+AA$41","v":31},{"$f":"+AB$42","v":-3.1733333333333329},{"$f":"+AB$41","v":15},{"$f":"+AA$27","v":20},80.031000000000006]
[4,"Sebas",{"$f":"+U$41","v":20},{"$f":"+V$42","v":-1.7235294117647062},{"$f":"+AD$41","v":14},{"$f":"+U$27","v":10},80.02]
[5,"Núria",{"$f":"+AK$41","v":12},{"$f":"+AL$42","v":-1.3363636363636362},{"$f":"+AL$41","v":11},{"$f":"+AK$27","v":5},80.012]
[6,"Montse",{"$f":"+Y$41","v":-30},{"$f":"+Z$42","v":-2.7166666666666668},{"$f":"+Z$41","v":9},{"$f":"+Y$27","v":0},79.97]
[7,"Cyber X",{"$f":"+Q$41","v":-28},{"$f":"+R$42","v":-6.040909090909091},{"$f":"+R$41","v":11},{"$f":"+Q$27","v":0},79.971999999999994]
[8,"Gemma",{"$f":"+AC$41","v":-46},{"$f":"+AD$42","v":-4.1892857142857141},{"$f":"+AD$41","v":14},{"$f":"+AC$27","v":0},79.953999999999994]
[9,"Nin",{"$f":"+AE$41","v":-100},{"$f":"+AF$42","v":-6.328125},{"$f":"+AF$41","v":16},{"$f":"+AE$27","v":0},79.900000000000006]
[10,"Òscar",{"$f":"+W$41","v":4},{"$f":"+X$42","v":0},{"$f":"+X$41","v":4},{"$f":"+W$27","v":0},-79.995999999999995]
[11,"Mariajo",{"$f":"+AM$41","v":-2},{"$f":"+AN$42","v":0},{"$f":"+AN$41","v":2},{"$f":"+AM$27","v":0},-80.001999999999995]
[12,"Grau",{"$f":"+AG$41","v":-2},{"$f":"+AH$42","v":-4.8666666666666663},{"$f":"+AH$41","v":3},{"$f":"+AG$27","v":0},-80.001999999999995]
[13,"Sergi",{"$f":"+M$41","v":-6},{"$f":"+N$42","v":-1.5},{"$f":"+N$41","v":2},{"$f":"+M$27","v":0},-80.006]
[14,"Tito",{"$f":"+K$41","v":-100000000},{"$f":"+L$42","v":1E-4},{"$f":"+L$41","v":0},{"$f":"+K$27","v":0},{"$f":"IF(E18<A$3/2,-1,1)*80+C18/1000","v":-100080}]
[15,"Anna P.",{"$f":"+O$41","v":-100000000},{"$f":"+P$42","v":1E-4},{"$f":"+P$41","v":0},{"$f":"+O$27","v":0},-100080]
[16,"Rosa M.",{"$f":"+E$41","v":-100000000},{"$f":"+F$42","v":1E-4},{"$f":"+F$41","v":0},{"$f":"+E$27","v":0},-100080]
[17,"Angie",{"$f":"+S$41","v":-100000000},{"$f":"+T$42","v":1E-4},{"$f":"+T$41","v":0},{"$f":"+S$27","v":0},-100080]
[18,"Goretti",{"$f":"+AI$41","v":-100000000},{"$f":"+AJ$42","v":1E-4},{"$f":"+AJ$41","v":0},{"$f":"+AI$27","v":0},-100080]
[19,"Joan",{"$f":"+I$41","v":-100000000},{"$f":"+J$42","v":1E-4},{"$f":"+J$41","v":0},{"$f":"+I$27","v":0},-100080]
[]
[]
[]
[null,"General",{"$f":"+C28*C29","v":80},{"$f":"+D28*D29","v":17},0,0,40,16,0,0,0,0,0,2,0,0,0,11,0,0,10,17,0,4,{"$f":"+Y28*Y29","v":0},9,20,15,0,14,0,16,0,3,0,0,5,11,0,2]
[null,null,{"$f":"IF($B40>3,1,0)","v":1},{"$f":"IF($B40>3,1,0)","v":1},{"$f":"IF($B40>3,1,0)","v":1},1,1,1,1,1,1,1,1,1,1,1,1,1,1,1,1,1,1,1,{"$f":"IF($B40>3,1,0)","v":1},1,1,1,1,1,1,1,1,1,1,1,1,1,1,1]
[null,null,{"$f":"MAX(C30:C34)","v":80},{"$f":"+D41","v":17},{"$f":"MAX(E30:E34)","v":0},{"$f":"+F41","v":0},{"$f":"MAX(G30:G34)","v":40},{"$f":"+H41","v":16},{"$f":"MAX(I30:I34)","v":0},{"$f":"+J41","v":0},{"$f":"MAX(K30:K34)","v":0},{"$f":"+L41","v":0},{"$f":"MAX(M30:M34)","v":0},{"$f":"+N41","v":2},{"$f":"MAX(O30:O34)","v":0},{"$f":"+P41","v":0},{"$f":"MAX(Q30:Q34)","v":0},{"$f":"+R41","v":11},{"$f":"MAX(S30:S34)","v":0},{"$f":"+T41","v":0},{"$f":"MAX(U30:U34)","v":10},{"$f":"+V41","v":17},{"$f":"MAX(W30:W34)","v":0},{"$f":"+X41","v":4},{"$f":"MAX(Y30:Y34)","v":0},{"$f":"+Z41","v":9},{"$f":"MAX(AA30:AA34)","v":20},{"$f":"+AB41","v":15},{"$f":"MAX(AC30:AC34)","v":0},{"$f":"+AD41","v":14},{"$f":"MAX(AE30:AE34)","v":0},{"$f":"+AF41","v":16},{"$f":"MAX(AG30:AG34)","v":0},{"$f":"+AH41","v":3},{"$f":"MAX(AI30:AI34)","v":0},{"$f":"+AJ41","v":0},{"$f":"MAX(AK30:AK34)","v":5},{"$f":"+AL41","v":11},{"$f":"MAX(AM30:AM34)","v":0},{"$f":"+AN41","v":2}]
[null,null,{"$f":"IF(C$35=5,5,0)","v":0},null,{"$f":"IF(E$35=5,5,0)","v":0},null,{"$f":"IF(G$35=5,5,0)","v":0},null,{"$f":"IF(I$35=5,5,0)","v":0},null,{"$f":"IF(K$35=5,5,0)","v":0},null,{"$f":"IF(M$35=5,5,0)","v":0},null,{"$f":"IF(O$35=5,5,0)","v":0},null,{"$f":"IF(Q$35=5,5,0)","v":0},null,{"$f":"IF(S$35=5,5,0)","v":0},null,{"$f":"IF(U$35=5,5,0)","v":0},null,{"$f":"IF(W$35=5,5,0)","v":0},null,{"$f":"IF(Y$35=5,5,0)","v":0},null,{"$f":"IF(AA$35=5,5,0)","v":0},null,{"$f":"IF(AC$35=5,5,0)","v":0},null,{"$f":"IF(AE$35=5,5,0)","v":0},null,{"$f":"IF(AG$35=5,5,0)","v":0},null,{"$f":"IF(AI$35=5,5,0)","v":0},null,{"$f":"IF(AK$35=5,5,0)","v":5},null,{"$f":"IF(AM$35=5,5,0)","v":0}]
[null,null,{"$f":"IF(C$35=4,10,0)","v":0},null,{"$f":"IF(E$35=4,10,0)","v":0},null,{"$f":"IF(G$35=4,10,0)","v":0},null,{"$f":"IF(I$35=4,10,0)","v":0},null,{"$f":"IF(K$35=4,10,0)","v":0},null,{"$f":"IF(M$35=4,10,0)","v":0},null,{"$f":"IF(O$35=4,10,0)","v":0},null,{"$f":"IF(Q$35=4,10,0)","v":0},null,{"$f":"IF(S$35=4,10,0)","v":0},null,{"$f":"IF(U$35=4,10,0)","v":10},null,{"$f":"IF(W$35=4,10,0)","v":0},null,{"$f":"IF(Y$35=4,10,0)","v":0},null,{"$f":"IF(AA$35=4,10,0)","v":0},null,{"$f":"IF(AC$35=4,10,0)","v":0},null,{"$f":"IF(AE$35=4,10,0)","v":0},null,{"$f":"IF(AG$35=4,10,0)","v":0},null,{"$f":"IF(AI$35=4,10,0)","v":0},null,{"$f":"IF(AK$35=4,10,0)","v":0},null,{"$f":"IF(AM$35=4,10,0)","v":0}]
[null,null,{"$f":"IF(C$35=3,20,0)","v":0},null,{"$f":"IF(E$35=3,20,0)","v":0},null,{"$f":"IF(G$35=3,20,0)","v":0},null,{"$f":"IF(I$35=3,20,0)","v":0},null,{"$f":"IF(K$35=3,20,0)","v":0},null,{"$f":"IF(M$35=3,20,0)","v":0},null,{"$f":"IF(O$35=3,20,0)","v":0},null,{"$f":"IF(Q$35=3,20,0)","v":0},null,{"$f":"IF(S$35=3,20,0)","v":0},null,{"$f":"IF(U$35=3,20,0)","v":0},null,{"$f":"IF(W$35=3,20,0)","v":0},null,{"$f":"IF(Y$35=3,20,0)","v":0},null,{"$f":"IF(AA$35=3,20,0)","v":20},null,{"$f":"IF(AC$35=3,20,0)","v":0},null,{"$f":"IF(AE$35=3,20,0)","v":0},null,{"$f":"IF(AG$35=3,20,0)","v":0},null,{"$f":"IF(AI$35=3,20,0)","v":0},null,{"$f":"IF(AK$35=3,20,0)","v":0},null,{"$f":"IF(AM$35=3,20,0)","v":0}]
[null,null,{"$f":"IF(C$35=2,40,0)","v":0},null,{"$f":"IF(E$35=2,40,0)","v":0},null,{"$f":"IF(G$35=2,40,0)","v":40},null,{"$f":"IF(I$35=2,40,0)","v":0},null,{"$f":"IF(K$35=2,40,0)","v":0},null,{"$f":"IF(M$35=2,40,0)","v":0},null,{"$f":"IF(O$35=2,40,0)","v":0},null,{"$f":"IF(Q$35=2,40,0)","v":0},null,{"$f":"IF(S$35=2,40,0)","v":0},null,{"$f":"IF(U$35=2,40,0)","v":0},null,{"$f":"IF(W$35=2,40,0)","v":0},null,{"$f":"IF(Y$35=2,40,0)","v":0},null,{"$f":"IF(AA$35=2,40,0)","v":0},null,{"$f":"IF(AC$35=2,40,0)","v":0},null,{"$f":"IF(AE$35=2,40,0)","v":0},null,{"$f":"IF(AG$35=2,40,0)","v":0},null,{"$f":"IF(AI$35=2,40,0)","v":0},null,{"$f":"IF(AK$35=2,40,0)","v":0},null,{"$f":"IF(AM$35=2,40,0)","v":0}]
[null,null,{"$f":"IF(C$35=1,80,0)","v":80},null,{"$f":"IF(E$35=1,80,0)","v":0},null,{"$f":"IF(G$35=1,80,0)","v":0},null,{"$f":"IF(I$35=1,80,0)","v":0},null,{"$f":"IF(K$35=1,80,0)","v":0},null,{"$f":"IF(M$35=1,80,0)","v":0},null,{"$f":"IF(O$35=1,80,0)","v":0},null,{"$f":"IF(Q$35=1,80,0)","v":0},null,{"$f":"IF(S$35=1,80,0)","v":0},null,{"$f":"IF(U$35=1,80,0)","v":0},null,{"$f":"IF(W$35=1,80,0)","v":0},null,{"$f":"IF(Y$35=1,80,0)","v":0},null,{"$f":"IF(AA$35=1,80,0)","v":0},null,{"$f":"IF(AC$35=1,80,0)","v":0},null,{"$f":"IF(AE$35=1,80,0)","v":0},null,{"$f":"IF(AG$35=1,80,0)","v":0},null,{"$f":"IF(AI$35=1,80,0)","v":0},null,{"$f":"IF(AK$35=1,80,0)","v":0},null,{"$f":"IF(AM$35=1,80,0)","v":0}]
[null,null,{"$f":"RANK(C36,$C36:$BG36)*C40","v":1},null,{"$f":"RANK(E36,$C36:$BG36)*E40","v":0},null,{"$f":"RANK(G36,$C36:$BG36)*G40","v":2},null,{"$f":"RANK(I36,$C36:$BG36)*I40","v":0},null,{"$f":"RANK(K36,$C36:$BG36)*K40","v":0},null,{"$f":"RANK(M36,$C36:$BG36)*M40","v":0},null,{"$f":"RANK(O36,$C36:$BG36)*O40","v":0},null,{"$f":"RANK(Q36,$C36:$BG36)*Q40","v":6},null,{"$f":"RANK(S36,$C36:$BG36)*S40","v":0},null,{"$f":"RANK(U36,$C36:$BG36)*U40","v":4},null,{"$f":"RANK(W36,$C36:$BG36)*W40","v":0},null,{"$f":"RANK(Y36,$C36:$BG36)*Y40","v":7},null,{"$f":"RANK(AA36,$C36:$BG36)*AA40","v":3},null,{"$f":"RANK(AC36,$C36:$BG36)*AC40","v":8},null,{"$f":"RANK(AE36,$C36:$BG36)*AE40","v":9},null,{"$f":"RANK(AG36,$C36:$BG36)*AG40","v":0},null,{"$f":"RANK(AI36,$C36:$BG36)*AI40","v":0},null,{"$f":"RANK(AK36,$C36:$BG36)*AK40","v":5},null,{"$f":"RANK(AM36,$C36:$BG36)*AM40","v":0}]
[null,null,{"$f":"SUM(C37:C39)","v":86108.882352941175},null,{"$f":"SUM(E37:E39)","v":-100999999.98999999},null,{"$f":"SUM(G37:G39)","v":61258.875},null,{"$f":"SUM(I37:I39)","v":-100999999.98999999},null,{"$f":"SUM(K37:K39)","v":-100999999.98999999},null,{"$f":"SUM(M37:M39)","v":-1000154},null,{"$f":"SUM(O37:O39)","v":-100999999.98999999},null,{"$f":"SUM(Q37:Q39)","v":-28621.090909090908},null,{"$f":"SUM(S37:S39)","v":-100999999.98999999},null,{"$f":"SUM(U37:U39)","v":19864.647058823528},null,{"$f":"SUM(W37:W39)","v":-999992},null,{"$f":"SUM(Y37:Y39)","v":-30292.666666666668},null,{"$f":"SUM(AA37:AA39)","v":30728.666666666668},null,{"$f":"SUM(AC37:AC39)","v":-46450.928571428572},null,{"$f":"SUM(AE37:AE39)","v":-100716.8125},null,{"$f":"SUM(AG37:AG39)","v":-1000485.6666666666},null,{"$f":"SUM(AI37:AI39)","v":-100999999.98999999},null,{"$f":"SUM(AK37:AK39)","v":11889.363636363636},null,{"$f":"SUM(AM37:AM39)","v":-1000000}]
[null,null,{"$f":"+D41","v":17},null,{"$f":"+F41","v":0},null,{"$f":"+H41","v":16},null,{"$f":"+J41","v":0},null,{"$f":"+L41","v":0},null,{"$f":"+N41","v":2},null,{"$f":"+P41","v":0},null,{"$f":"+R41","v":11},null,{"$f":"+T41","v":0},null,{"$f":"+V41","v":17},null,{"$f":"+X41","v":4},null,{"$f":"+Z41","v":9},null,{"$f":"+AB41","v":15},null,{"$f":"+AD41","v":14},null,{"$f":"+AF41","v":16},null,{"$f":"+AH41","v":3},null,{"$f":"+AJ41","v":0},null,{"$f":"+AL41","v":11},null,{"$f":"+AN41","v":2}]
[null,null,{"$f":"+D42*100","v":5.8823529411764701},null,{"$f":"+F42*100","v":0.01},null,{"$f":"+H42*100","v":181.875},null,{"$f":"+J42*100","v":0.01},null,{"$f":"+L42*100","v":0.01},null,{"$f":"+N42*100","v":-150},null,{"$f":"+P42*100","v":0.01},null,{"$f":"+R42*100","v":-604.09090909090912},null,{"$f":"+T42*100","v":0.01},null,{"$f":"+V42*100","v":-172.35294117647061},null,{"$f":"+X42*100","v":0},null,{"$f":"+Z42*100","v":-271.66666666666669},null,{"$f":"+AB42*100","v":-317.33333333333331},null,{"$f":"+AD42*100","v":-418.92857142857139},null,{"$f":"+AF42*100","v":-632.8125},null,{"$f":"+AH42*100","v":-486.66666666666663},null,{"$f":"+AJ42*100","v":0.01},null,{"$f":"+AL42*100","v":-133.63636363636363},null,{"$f":"+AN42*100","v":0}]
[null,null,{"$f":"IF(C40=1,C41*C40*1000+C41,-1000000+C41)","v":86086},null,{"$f":"IF(E40=1,E41*E40*1000+E41,-1000000+E41)","v":-101000000},null,{"$f":"IF(G40=1,G41*G40*1000+G41,-1000000+G41)","v":61061},null,{"$f":"IF(I40=1,I41*I40*1000+I41,-1000000+I41)","v":-101000000},null,{"$f":"IF(K40=1,K41*K40*1000+K41,-1000000+K41)","v":-101000000},null,{"$f":"IF(M40=1,M41*M40*1000+M41,-1000000+M41)","v":-1000006},null,{"$f":"IF(O40=1,O41*O40*1000+O41,-1000000+O41)","v":-101000000},null,{"$f":"IF(Q40=1,Q41*Q40*1000+Q41,-1000000+Q41)","v":-28028},null,{"$f":"IF(S40=1,S41*S40*1000+S41,-1000000+S41)","v":-101000000},null,{"$f":"IF(U40=1,U41*U40*1000+U41,-1000000+U41)","v":20020},null,{"$f":"IF(W40=1,W41*W40*1000+W41,-1000000+W41)","v":-999996},null,{"$f":"IF(Y40=1,Y41*Y40*1000+Y41,-1000000+Y41)","v":-30030},null,{"$f":"IF(AA40=1,AA41*AA40*1000+AA41,-1000000+AA41)","v":31031},null,{"$f":"IF(AC40=1,AC41*AC40*1000+AC41,-1000000+AC41)","v":-46046},null,{"$f":"IF(AE40=1,AE41*AE40*1000+AE41,-1000000+AE41)","v":-100100},null,{"$f":"IF(AG40=1,AG41*AG40*1000+AG41,-1000000+AG41)","v":-1000002},null,{"$f":"IF(AI40=1,AI41*AI40*1000+AI41,-1000000+AI41)","v":-101000000},null,{"$f":"IF(AK40=1,AK41*AK40*1000+AK41,-1000000+AK41)","v":12012},null,{"$f":"IF(AM40=1,AM41*AM40*1000+AM41,-1000000+AM41)","v":-1000002}]
["Classificats",{"$f":"SUM(C40:AM40)","v":9},{"$f":"IF(D41>=$A3/2,1,0)","v":1},null,{"$f":"IF(F41>=$A3/2,1,0)","v":0},null,{"$f":"IF(H41>=$A3/2,1,0)","v":1},null,{"$f":"IF(J41>=$A3/2,1,0)","v":0},null,{"$f":"IF(L41>=$A3/2,1,0)","v":0},null,{"$f":"IF(N41>=$A3/2,1,0)","v":0},null,{"$f":"IF(P41>=$A3/2,1,0)","v":0},null,{"$f":"IF(R41>=$A3/2,1,0)","v":1},null,{"$f":"IF(T41>=$A3/2,1,0)","v":0},null,{"$f":"IF(V41>=$A3/2,1,0)","v":1},null,{"$f":"IF(X41>=$A3/2,1,0)","v":0},null,{"$f":"IF(Z41>=$A3/2,1,0)","v":1},null,{"$f":"IF(AB41>=$A3/2,1,0)","v":1},null,{"$f":"IF(AD41>=$A3/2,1,0)","v":1},null,{"$f":"IF(AF41>=$A3/2,1,0)","v":1},null,{"$f":"IF(AH41>=$A3/2,1,0)","v":0},null,{"$f":"IF(AJ41>=$A3/2,1,0)","v":0},null,{"$f":"IF(AL41>=$A3/2,1,0)","v":1},null,{"$f":"IF(AN41>=$A3/2,1,0)","v":0}]
[null,null,{"$f":"IF(SUM(C46:C303)<-1000,-100000000,SUM(C46:C303))","v":86},{"$f":"COUNT(D46:D303)","v":17},{"$f":"IF(SUM(E46:E303)<-1000,-100000000,SUM(E46:E303))","v":-100000000},{"$f":"COUNT(F46:F303)","v":0},{"$f":"IF(SUM(G46:G303)<-1000,-100000000,SUM(G46:G303))","v":61},{"$f":"COUNT(H46:H303)","v":16},{"$f":"IF(SUM(I46:I303)<-1000,-100000000,SUM(I46:I303))","v":-100000000},{"$f":"COUNT(J46:J303)","v":0},{"$f":"IF(SUM(K46:K303)<-1000,-100000000,SUM(K46:K303))","v":-100000000},{"$f":"COUNT(L46:L303)","v":0},{"$f":"IF(SUM(M46:M303)<-1000,-100000000,SUM(M46:M303))","v":-6},{"$f":"COUNT(N46:N303)","v":2},{"$f":"IF(SUM(O46:O303)<-1000,-100000000,SUM(O46:O303))","v":-100000000},{"$f":"COUNT(P46:P303)","v":0},{"$f":"IF(SUM(Q46:Q303)<-1000,-100000000,SUM(Q46:Q303))","v":-28},{"$f":"COUNT(R46:R303)","v":11},{"$f":"IF(SUM(S46:S303)<-1000,-100000000,SUM(S46:S303))","v":-100000000},{"$f":"COUNT(T46:T303)","v":0},{"$f":"IF(SUM(U46:U303)<-1000,-100000000,SUM(U46:U303))","v":20},{"$f":"COUNT(V46:V303)","v":17},{"$f":"IF(SUM(W46:W303)<-1000,-100000000,SUM(W46:W303))","v":4},{"$f":"COUNT(X46:X303)","v":4},{"$f":"IF(SUM(Y46:Y303)<-1000,-100000000,SUM(Y46:Y303))","v":-30},{"$f":"COUNT(Z46:Z303)","v":9},{"$f":"IF(SUM(AA46:AA303)<-1000,-100000000,SUM(AA46:AA303))","v":31},{"$f":"COUNT(AB46:AB303)","v":15},{"$f":"IF(SUM(AC46:AC303)<-1000,-100000000,SUM(AC46:AC303))","v":-46},{"$f":"COUNT(AD46:AD303)","v":14},{"$f":"IF(SUM(AE46:AE303)<-1000,-100000000,SUM(AE46:AE303))","v":-100},{"$f":"COUNT(AF46:AF303)","v":16},{"$f":"IF(SUM(AG46:AG303)<-1000,-100000000,SUM(AG46:AG303))","v":-2},{"$f":"COUNT(AH46:AH303)","v":3},{"$f":"IF(SUM(AI46:AI303)<-1000,-100000000,SUM(AI46:AI303))","v":-100000000},{"$f":"COUNT(AJ46:AJ303)","v":0},{"$f":"IF(SUM(AK46:AK303)<-1000,-100000000,SUM(AK46:AK303))","v":12},{"$f":"COUNT(AL46:AL303)","v":11},{"$f":"IF(SUM(AM46:AM303)<-1000,-100000000,SUM(AM46:AM303))","v":-2},{"$f":"COUNT(AN46:AN303)","v":2}]
[null,null,null,{"$f":"IF(D41=0,0.0001,AVERAGE(D46:D200))","v":5.8823529411764705E-2},null,{"$f":"IF(F41=0,0.0001,AVERAGE(F46:F200))","v":1E-4},null,{"$f":"IF(H41=0,0.0001,AVERAGE(H46:H200))","v":1.8187500000000001},null,{"$f":"IF(J41=0,0.0001,AVERAGE(J46:J200))","v":1E-4},null,{"$f":"IF(L41=0,0.0001,AVERAGE(L46:L200))","v":1E-4},null,{"$f":"IF(N41=0,0.0001,AVERAGE(N46:N200))","v":-1.5},null,{"$f":"IF(P41=0,0.0001,AVERAGE(P46:P200))","v":1E-4},null,{"$f":"IF(R41=0,0.0001,AVERAGE(R46:R200))","v":-6.040909090909091},null,{"$f":"IF(T41=0,0.0001,AVERAGE(T46:T200))","v":1E-4},null,{"$f":"IF(V41=0,0.0001,AVERAGE(V46:V200))","v":-1.7235294117647062},null,{"$f":"IF(X41=0,0.0001,AVERAGE(X46:X200))","v":0},null,{"$f":"IF(Z41=0,0.0001,AVERAGE(Z46:Z200))","v":-2.7166666666666668},null,{"$f":"IF(AB41=0,0.0001,AVERAGE(AB46:AB200))","v":-3.1733333333333329},null,{"$f":"IF(AD41=0,0.0001,AVERAGE(AD46:AD200))","v":-4.1892857142857141},null,{"$f":"IF(AF41=0,0.0001,AVERAGE(AF46:AF200))","v":-6.328125},null,{"$f":"IF(AH41=0,0.0001,AVERAGE(AH46:AH200))","v":-4.8666666666666663},null,{"$f":"IF(AJ41=0,0.0001,AVERAGE(AJ46:AJ200))","v":1E-4},null,{"$f":"IF(AL41=0,0.0001,AVERAGE(AL46:AL200))","v":-1.3363636363636362},null,{"$f":"IF(AN41=0,0.0001,AVERAGE(AN46:AN200))","v":0}]
[null,null,null,null,null,null,null,null,null,null,null,null,null,null,null,null,null,null,null,null,null,null,null,null,null,null,null,null,null,null,null,null,null,null,null,null,null,null,null,null,{"$f":"MAX(AP46:AP200)","v":387}]
[null,"Nº partida ","Carles",null,"Rosa M.",null,"Jordi",null,"Joan",null,"Tito",null,"Sergi",null,"Anna P.",null,"Cyber X",null,"Angie",null,"Sebas",null,"Òscar",null,"Montse",null,"Manolo",null,"Gemma",null,"Nin",null,"Grau",null,"Goretti",null,"Núria",null,"Mariajo",null,{"$f":"COUNT(AO46:AO218)","v":33},"A","B","C"]
[null,null,"Premi","Punts","Premi","Punts","Premi","Punts","Premi","Punts","Premi","Punts","Premi","Punts","Premi","Punts","Premi","Punts","Premi","Punts","Premi","Punts","Premi","Punts","Premi","Punts","Premi","Punts","Premi","Punts","Premi","Punts","Premi","Punts","Premi","Punts","Premi","Punts","Premi","Punts","Data","Timba"]
[1,null,null,null,-10000000,null,10,6,-10000000,null,-10000000,null,null,null,-10000000,null,null,null,-10000000,null,-5,-13,null,null,-10,-17,null,null,0,1,null,null,null,null,-10000000,null,5,5,null,null,"2021-08-31",344,{"$f":"+C46+E46+G46+I46++K46++M46+O46+Q46+S46+U46+W46+AK46+AM46+Y46+AC46+AE46+AG46+AI46+AA46","v":-60000000},{"$f":"+D46+F46+H46+J46++L46++N46+P46+R46+T46+V46+X46+AL46+AN46+Z46+AD46+AF46+AH46+AJ46+AB46","v":-18},{"$f":"COUNT(C46:AN46)/2","v":8},-10000000]
[{"$f":"+A46+1","v":2},null,null,null,null,null,-4,-4,null,null,null,null,null,null,null,null,null,null,null,null,4,-2,null,null,null,null,null,null,-10,-5,null,null,null,null,null,null,10,10,null,null,"2021-09-02",346,0,-1,4,{"$f":"+AR47/AS47","v":-0.25}]
[{"$f":"+A47+1","v":3},null,null,null,null,null,-10,-6,null,null,null,null,null,null,null,null,null,null,null,null,-4,-1,null,null,null,null,null,null,4,2,null,null,null,null,null,null,10,4,null,null,"2021-09-02",346,0,-1,4,-0.25]
[4,null,null,null,null,null,-5,0,null,null,null,null,null,null,null,null,null,null,null,null,5,4,10,7,0,3,null,null,-10,-12,null,null,null,null,null,null,null,null,null,null,"2021-09-05",349,0,2,5,0.4]
[{"$f":"+A49+1","v":5},null,null,null,null,null,null,null,null,null,null,null,null,null,null,null,null,null,null,null,-4,-6,4,2,10,11,null,null,-10,-8,null,null,null,null,null,null,null,null,null,null,"2021-09-05",349,0,-1,4,-0.25]
[6,null,null,null,null,null,null,null,null,null,null,null,null,null,null,null,null,null,null,null,4,-2.85,null,null,-10,-6.45,null,null,10,1.4,null,null,null,null,null,null,-4,-5.0999999999999996,null,null,"2021-09-07",352,0,-12.999999999999998,4,-3.2499999999999996]
[7,null,null,null,null,null,10,3.8,null,null,null,null,null,null,null,null,null,null,null,null,-4,-5.85,null,null,null,null,null,null,-10,-7.15,null,null,null,null,null,null,4,-3.8,null,null,"2021-09-07",352,0,-13,4,-3.25]
[8,null,null,null,null,null,10,1.3,null,null,null,null,null,null,null,null,null,null,null,null,4,-2.6,null,null,null,null,null,null,-10,-7.9,null,null,null,null,null,null,-4,-3.8,null,null,"2021-09-07",352,0,-13,4,-3.25]
[9,null,null,null,null,null,null,null,null,null,null,null,null,null,null,null,null,null,null,null,-10,-8,null,null,null,null,null,null,10,3,null,null,null,null,null,null,0,-3,null,null,"2021-09-09",354,0,-8,3,-2.6666666666666665]
[10,null,null,null,null,null,10,6,null,null,null,null,null,null,null,null,null,null,null,null,-10,-5,null,null,0,0,null,null,-5,-2,null,null,null,null,null,null,5,3,null,null,"2021-09-09",354,0,2,5,0.4]
[11,null,null,null,null,null,-10,-10,null,null,null,null,null,null,null,null,null,null,null,null,10,7,null,null,null,null,null,null,null,null,null,null,null,null,null,null,0,-6,null,null,"2021-09-16",361,0,-9,3,-3]
[12,null,null,null,null,null,0,1,null,null,null,null,null,null,null,null,null,null,null,null,10,2,null,null,null,null,null,null,null,null,null,null,null,null,null,null,-10,-12,null,null,"2021-09-16",361,0,-9,3,-3]
[{"$f":"+A57+1","v":13},null,null,null,null,null,10,5,null,null,null,null,null,null,null,null,null,null,null,null,null,null,0,-5,null,null,null,null,-10,-7,null,null,null,null,null,null,null,null,null,null,"2021-09-17",362,0,{"$f":"+D58+F58+H58+J58++L58++N58+P58+R58+T58+V58+X58+AL58+AN58+Z58+AD58+AF58+AH58+AJ58+AB58","v":-7},3,-2.3333333333333335]
[{"$f":"+A58+1","v":14},null,null,null,null,null,10,-1,null,null,null,null,null,null,null,null,null,null,null,null,null,null,-10,-4,null,null,null,null,0,-3,null,null,null,null,null,null,null,null,null,null,"2021-09-17",362,0,-8,{"$f":"COUNT(C59:AN59)/2","v":3},-2.6666666666666665]
[15,null,-4,2,null,null,10,9,null,null,null,null,4,3,null,null,null,null,null,null,10,9,null,null,-4,0,null,null,-10,-13,-10,-15,null,null,null,null,null,null,4,3,"2021-09-18",363,0,-2,8,-0.25]
[16,null,6,5,null,null,10,11,null,null,null,null,-10,-6,null,null,null,null,null,null,0,1,null,null,null,null,null,null,null,null,0,1,null,null,null,null,null,null,-6,-3,"2021-09-18",363,0,9,6,1.5]
[17,null,null,null,null,null,0,-2,null,null,null,null,null,null,null,null,null,null,null,null,10,-1,null,null,-10,-5,null,null,null,null,null,null,null,null,null,null,null,null,null,null,"2021-09-19",365,0,-8,3,-2.6666666666666665]
[18,null,null,null,null,null,0,3,null,null,null,null,null,null,null,null,null,null,null,null,10,5,null,null,-10,-15,null,null,null,null,null,null,null,null,null,null,null,null,null,null,"2021-09-19",365,0,-7,3,-2.3333333333333335]
[19,null,-10,-4,null,null,10,6,null,null,null,null,null,null,null,null,null,null,null,null,-10,-10,null,null,4,5,5,-1,5,-1,null,null,null,null,null,null,-4,-3,null,null,"2021-10-08",373,{"$f":"+C64+E64+G64+I64++K64++M64+O64+Q64+S64+U64+W64+AK64+AM64+Y64+AC64+AE64+AG64+AI64+AA64","v":0},-8,7,-1.1428571428571428]
[20,null,10,-1,null,null,null,null,null,null,null,null,null,null,null,null,4,-2.9,null,null,null,null,null,null,null,null,-4,-6.45,null,null,-10,-15.65,null,null,null,null,null,null,null,null,"2021-10-12",374,0,{"$f":"+D65+F65+H65+J65++L65++N65+P65+R65+T65+V65+X65+AL65+AN65+Z65+AD65+AF65+AH65+AJ65+AB65","v":-26},{"$f":"COUNT(C65:AN65)/2","v":4},-6.5]
[21,null,4,0.95,null,null,null,null,null,null,null,null,null,null,null,null,-4,-3.4,null,null,null,null,null,null,null,null,10,1.65,null,null,-10,12.2,null,null,null,null,null,null,null,null,"2021-10-14",375,0,{"$f":"+D66+F66+H66+J66++L66++N66+P66+R66+T66+V66+X66+AL66+AN66+Z66+AD66+AF66+AH66+AJ66+AB66","v":11.4},{"$f":"COUNT(C66:AN66)/2","v":4},2.85]
[22,null,4,-2.25,null,null,null,null,null,null,null,null,null,null,null,null,null,null,null,null,null,null,null,null,null,null,10,1.85,null,null,-4,-2.5499999999999998,-10,-10.55,null,null,null,null,null,null,"2021-10-16",376,0,{"$f":"+D67+F67+H67+J67++L67++N67+P67+R67+T67+V67+X67+AL67+AN67+Z67+AD67+AF67+AH67+AJ67+AB67","v":-13.500000000000002},{"$f":"COUNT(C67:AN67)/2","v":4},-3.3750000000000004]
[23,null,-10,-4.8499999999999996,null,null,null,null,null,null,null,null,null,null,null,null,null,null,null,null,null,null,null,null,null,null,10,0.7,null,null,-4,-4.75,4,-2.7,null,null,null,null,null,null,"2021-10-18",377,0,{"$f":"+D68+F68+H68+J68++L68++N68+P68+R68+T68+V68+X68+AL68+AN68+Z68+AD68+AF68+AH68+AJ68+AB68","v":-11.600000000000001},{"$f":"COUNT(C68:AN68)/2","v":4},{"$f":"+AR68/AS68","v":-2.9000000000000004}]
[24,null,10,4.3499999999999996,null,null,null,null,null,null,null,null,null,null,null,null,-10,-8.85,null,null,null,null,null,null,null,null,4,-2.65,null,null,-4,-5.85,null,null,null,null,null,null,null,null,"2021-10-19",378,{"$f":"+C69+E69+G69+I69++K69++M69+O69+Q69+S69+U69+W69+AK69+AM69+Y69+AC69+AE69+AG69+AI69+AA69","v":0},{"$f":"+D69+F69+H69+J69++L69++N69+P69+R69+T69+V69+X69+AL69+AN69+Z69+AD69+AF69+AH69+AJ69+AB69","v":-13},{"$f":"COUNT(C69:AN69)/2","v":4},{"$f":"+AR69/AS69","v":-3.25}]
[25,null,10,-0.45,null,null,null,null,null,null,null,null,null,null,null,null,null,null,null,null,null,null,null,null,null,null,-4,-8.35,null,null,-10,-9.35,4,-1.35,null,null,null,null,null,null,"2021-10-20",379,0,-19.5,4,-4.875]
[26,null,10,0.55000000000000004,null,null,null,null,null,null,null,null,null,null,null,null,-10,-18.399999999999999,null,null,null,null,null,null,null,null,4,-3.7,null,null,-4,-17.399999999999999,null,null,null,null,null,null,null,null,"2021-10-21",380,0,-38.950000000000003,4,-9.7375000000000007]
[27,null,10,1.9,null,null,null,null,null,null,null,null,null,null,null,null,4,-3.4,null,null,null,null,null,null,null,null,-4,-8.9,null,null,-10,-9.9,null,null,null,null,null,null,null,null,"2021-10-24",381,0,-20.3,4,-5.0750000000000002]
[28,null,10,-0.9,null,null,null,null,null,null,null,null,null,null,null,null,4,-2.25,null,null,null,null,null,null,null,null,-4,-2.4,null,null,-10,-7.45,null,null,null,null,null,null,null,null,"2021-10-25",382,0,-13,4,-3.25]
[29,null,10,2.15,null,null,null,null,null,null,null,null,null,null,null,null,4,-0.35,null,null,null,null,null,null,null,null,-4,-6.8,null,null,-10,-8,null,null,null,null,null,null,null,null,"2021-10-26",383,0,-13,4,-3.25]
[30,null,10,0.6,null,null,null,null,null,null,null,null,null,null,null,null,-10,-11.85,null,null,null,null,null,null,null,null,-4,-0.9,null,null,4,-0.85,null,null,null,null,null,null,null,null,"2021-10-27",384,0,-13,4,-3.25]
[31,"Plega amb -570",10,1.5,null,null,null,null,null,null,null,null,null,null,null,null,-10,-9.9,null,null,null,null,null,null,null,null,4,-3.15,null,null,-4,-8.9,null,null,null,null,null,null,null,null,"2021-10-28",385,0,-20.45,4,-5.1124999999999998]
[32,null,10,0.2,null,null,null,null,null,null,null,null,null,null,null,null,-10,-6.25,null,null,null,null,null,null,null,null,4,-3.1,null,null,-4,-3.85,null,null,null,null,null,null,null,null,"2021-10-29",386,0,-13,4,-3.25]
[33,null,-4,-4.75,null,null,null,null,null,null,null,null,null,null,null,null,10,1.1000000000000001,null,null,null,null,null,null,null,null,4,-4.4000000000000004,null,null,-10,-4.95,null,null,null,null,null,null,null,null,"2021-10-30",387,0,-13,4,-3.25]
[34,null,null,null,null,null,null,null,null,null,null,null,null,null,null,null,null,null,null,null,null,null,null,null,null,null,null,null,null,null,null,null,null,null,null,null,null,null,null,null,null,null,0,0,0,{"$error":"#DIV/0!"}]
[35,null,null,null,null,null,null,null,null,null,null,null,null,null,null,null,null,null,null,null,null,null,null,null,null,null,null,null,null,null,null,null,null,null,null,null,null,null,null,null,null,null,0,0,0,{"$error":"#DIV/0!"}]
[36,null,null,null,null,null,null,null,null,null,null,null,null,null,null,null,null,null,null,null,null,null,null,null,null,null,null,null,null,null,null,null,null,null,null,null,null,null,null,null,null,null,0,0,0,{"$error":"#DIV/0!"}]
[37,null,null,null,null,null,null,null,null,null,null,null,null,null,null,null,null,null,null,null,null,null,null,null,null,null,null,null,null,null,null,null,null,null,null,null,null,null,null,null,null,null,0,0,0,{"$error":"#DIV/0!"}]
[38,null,null,null,null,null,null,null,null,null,null,null,null,null,null,null,null,null,null,null,null,null,null,null,null,null,null,null,null,null,null,null,null,null,null,null,null,null,null,null,null,null,0,0,0,{"$error":"#DIV/0!"}]
[39,null,null,null,null,null,null,null,null,null,null,null,null,null,null,null,null,null,null,null,null,null,null,null,null,null,null,null,null,null,null,null,null,null,null,null,null,null,null,null,null,null,0,0,0,{"$error":"#DIV/0!"}]
[40,null,null,null,null,null,null,null,null,null,null,null,null,null,null,null,null,null,null,null,null,null,null,null,null,null,null,null,null,null,null,null,null,null,null,null,null,null,null,null,null,null,0,0,0,{"$error":"#DIV/0!"}]
[41,null,null,null,null,null,null,null,null,null,null,null,null,null,null,null,null,null,null,null,null,null,null,null,null,null,null,null,null,null,null,null,null,null,null,null,null,null,null,null,null,null,0,0,0,{"$error":"#DIV/0!"}]
[42,null,null,null,null,null,null,null,null,null,null,null,null,null,null,null,null,null,null,null,null,null,null,null,null,null,null,null,null,null,null,null,null,null,null,null,null,null,null,null,null,null,0,0,0,{"$error":"#DIV/0!"}]
[43,null,null,null,null,null,null,null,null,null,null,null,null,null,null,null,null,null,null,null,null,null,null,null,null,null,null,null,null,null,null,null,null,null,null,null,null,null,null,null,null,null,{"$f":"+C88+E88+G88+I88++K88++M88+O88+Q88+S88+U88+W88+AK88+AM88+Y88+AC88+AE88+AG88+AI88+AA88","v":0},0,0,{"$error":"#DIV/0!"}]
[44,null,null,null,null,null,null,null,null,null,null,null,null,null,null,null,null,null,null,null,null,null,null,null,null,null,null,null,null,null,null,null,null,null,null,null,null,null,null,null,null,null,0,0,0,{"$error":"#DIV/0!"}]
[45,null,null,null,null,null,null,null,null,null,null,null,null,null,null,null,null,null,null,null,null,null,null,null,null,null,null,null,null,null,null,null,null,null,null,null,null,null,null,null,null,null,0,0,0,{"$error":"#DIV/0!"}]
[46,null,null,null,null,null,null,null,null,null,null,null,null,null,null,null,null,null,null,null,null,null,null,null,null,null,null,null,null,null,null,null,null,null,null,null,null,null,null,null,null,null,{"$f":"+C91+E91+G91+I91++K91++M91+O91+Q91+S91+U91+W91+AK91+AM91+Y91+AC91+AE91+AG91+AI91+AA91","v":0},{"$f":"+D91+F91+H91+J91++L91++N91+P91+R91+T91+V91+X91+AL91+AN91+Z91+AD91+AF91+AH91+AJ91+AB91","v":0},0,{"$error":"#DIV/0!"}]
[47,null,null,null,null,null,null,null,null,null,null,null,null,null,null,null,null,null,null,null,null,null,null,null,null,null,null,null,null,null,null,null,null,null,null,null,null,null,null,null,null,null,0,0,0,{"$error":"#DIV/0!"}]
[48,null,null,null,null,null,null,null,null,null,null,null,null,null,null,null,null,null,null,null,null,null,null,null,null,null,null,null,null,null,null,null,null,null,null,null,null,null,null,null,null,null,0,0,0,{"$error":"#DIV/0!"}]
[49,null,null,null,null,null,null,null,null,null,null,null,null,null,null,null,null,null,null,null,null,null,null,null,null,null,null,null,null,null,null,null,null,null,null,null,null,null,null,null,null,null,0,0,0,{"$error":"#DIV/0!"}]
[50,null,null,null,null,null,null,null,null,null,null,null,null,null,null,null,null,null,null,null,null,null,null,null,null,null,null,null,null,null,null,null,null,null,null,null,null,null,null,null,null,null,0,0,0,{"$error":"#DIV/0!"}]
[51,null,null,null,null,null,null,null,null,null,null,null,null,null,null,null,null,null,null,null,null,null,null,null,null,null,null,null,null,null,null,null,null,null,null,null,null,null,null,null,null,null,0,0,0,{"$error":"#DIV/0!"}]
[52,null,null,null,null,null,null,null,null,null,null,null,null,null,null,null,null,null,null,null,null,null,null,null,null,null,null,null,null,null,null,null,null,null,null,null,null,null,null,null,null,null,0,0,0,{"$error":"#DIV/0!"}]
[53,null,null,null,null,null,null,null,null,null,null,null,null,null,null,null,null,null,null,null,null,null,null,null,null,null,null,null,null,null,null,null,null,null,null,null,null,null,null,null,null,null,0,0,0,{"$error":"#DIV/0!"}]
[54,null,null,null,null,null,null,null,null,null,null,null,null,null,null,null,null,null,null,null,null,null,null,null,null,null,null,null,null,null,null,null,null,null,null,null,null,null,null,null,null,null,0,0,0,{"$error":"#DIV/0!"}]
[55,null,null,null,null,null,null,null,null,null,null,null,null,null,null,null,null,null,null,null,null,null,null,null,null,null,null,null,null,null,null,null,null,null,null,null,null,null,null,null,null,null,0,0,0,{"$error":"#DIV/0!"}]
[56,null,null,null,null,null,null,null,null,null,null,null,null,null,null,null,null,null,null,null,null,null,null,null,null,null,null,null,null,null,null,null,null,null,null,null,null,null,null,null,null,null,0,0,0,{"$error":"#DIV/0!"}]
[57,null,null,null,null,null,null,null,null,null,null,null,null,null,null,null,null,null,null,null,null,null,null,null,null,null,null,null,null,null,null,null,null,null,null,null,null,null,null,null,null,null,0,0,0,{"$error":"#DIV/0!"}]
[58,null,null,null,null,null,null,null,null,null,null,null,null,null,null,null,null,null,null,null,null,null,null,null,null,null,null,null,null,null,null,null,null,null,null,null,null,null,null,null,null,null,0,0,0,{"$error":"#DIV/0!"}]
[59,null,null,null,null,null,null,null,null,null,null,null,null,null,null,null,null,null,null,null,null,null,null,null,null,null,null,null,null,null,null,null,null,null,null,null,null,null,null,null,null,null,0,0,0,{"$error":"#DIV/0!"}]
[60,null,null,null,null,null,null,null,null,null,null,null,null,null,null,null,null,null,null,null,null,null,null,null,null,null,null,null,null,null,null,null,null,null,null,null,null,null,null,null,null,null,{"$f":"+C105+E105+G105+I105++K105++M105+O105+Q105+S105+U105+W105+AK105+AM105+Y105+AC105+AE105+AG105+AI105+AA105","v":0},{"$f":"+D105+F105+H105+J105++L105++N105+P105+R105+T105+V105+X105+AL105+AN105+Z105+AD105+AF105+AH105+AJ105+AB105","v":0},0,{"$error":"#DIV/0!"}]
[61,null,null,null,null,null,null,null,null,null,null,null,null,null,null,null,null,null,null,null,null,null,null,null,null,null,null,null,null,null,null,null,null,null,null,null,null,null,null,null,null,null,0,0,0,{"$error":"#DIV/0!"}]
[62,null,null,null,null,null,null,null,null,null,null,null,null,null,null,null,null,null,null,null,null,null,null,null,null,null,null,null,null,null,null,null,null,null,null,null,null,null,null,null,null,null,0,0,0,{"$error":"#DIV/0!"}]
[63,null,null,null,null,null,null,null,null,null,null,null,null,null,null,null,null,null,null,null,null,null,null,null,null,null,null,null,null,null,null,null,null,null,null,null,null,null,null,null,null,null,0,0,0,{"$error":"#DIV/0!"}]
[64,null,null,null,null,null,null,null,null,null,null,null,null,null,null,null,null,null,null,null,null,null,null,null,null,null,null,null,null,null,null,null,null,null,null,null,null,null,null,null,null,null,0,0,0,{"$error":"#DIV/0!"}]
[65,null,null,null,null,null,null,null,null,null,null,null,null,null,null,null,null,null,null,null,null,null,null,null,null,null,null,null,null,null,null,null,null,null,null,null,null,null,null,null,null,null,0,0,0,{"$error":"#DIV/0!"}]
[66,null,null,null,null,null,null,null,null,null,null,null,null,null,null,null,null,null,null,null,null,null,null,null,null,null,null,null,null,null,null,null,null,null,null,null,null,null,null,null,null,null,0,0,0,{"$error":"#DIV/0!"}]
[{"$f":"+A111+1","v":67},null,null,null,null,null,null,null,null,null,null,null,null,null,null,null,null,null,null,null,null,null,null,null,null,null,null,null,null,null,null,null,null,null,null,null,null,null,null,null,null,null,0,0,0,{"$error":"#DIV/0!"}]
[68,null,null,null,null,null,null,null,null,null,null,null,null,null,null,null,null,null,null,null,null,null,null,null,null,null,null,null,null,null,null,null,null,null,null,null,null,null,null,null,null,null,0,0,0,{"$error":"#DIV/0!"}]
[69,null,null,null,null,null,null,null,null,null,null,null,null,null,null,null,null,null,null,null,null,null,null,null,null,null,null,null,null,null,null,null,null,null,null,null,null,null,null,null,null,null,0,0,0,{"$error":"#DIV/0!"}]
[70,null,null,null,null,null,null,null,null,null,null,null,null,null,null,null,null,null,null,null,null,null,null,null,null,null,null,null,null,null,null,null,null,null,null,null,null,null,null,null,null,null,0,0,0,{"$error":"#DIV/0!"}]
[71,null,null,null,null,null,null,null,null,null,null,null,null,null,null,null,null,null,null,null,null,null,null,null,null,null,null,null,null,null,null,null,null,null,null,null,null,null,null,null,null,null,0,0,0,{"$error":"#DIV/0!"}]
[72,null,null,null,null,null,null,null,null,null,null,null,null,null,null,null,null,null,null,null,null,null,null,null,null,null,null,null,null,null,null,null,null,null,null,null,null,null,null,null,null,null,0,0,0,{"$error":"#DIV/0!"}]
[73,null,null,null,null,null,null,null,null,null,null,null,null,null,null,null,null,null,null,null,null,null,null,null,null,null,null,null,null,null,null,null,null,null,null,null,null,null,null,null,null,null,0,0,0,{"$error":"#DIV/0!"}]
[74,null,null,null,null,null,null,null,null,null,null,null,null,null,null,null,null,null,null,null,null,null,null,null,null,null,null,null,null,null,null,null,null,null,null,null,null,null,null,null,null,null,0,0,0,{"$error":"#DIV/0!"}]
[75,null,null,null,null,null,null,null,null,null,null,null,null,null,null,null,null,null,null,null,null,null,null,null,null,null,null,null,null,null,null,null,null,null,null,null,null,null,null,null,null,null,0,0,0,{"$error":"#DIV/0!"}]
[76,null,null,null,null,null,null,null,null,null,null,null,null,null,null,null,null,null,null,null,null,null,null,null,null,null,null,null,null,null,null,null,null,null,null,null,null,null,null,null,null,null,0,0,0,{"$error":"#DIV/0!"}]
[77,null,null,null,null,null,null,null,null,null,null,null,null,null,null,null,null,null,null,null,null,null,null,null,null,null,null,null,null,null,null,null,null,null,null,null,null,null,null,null,null,null,0,0,0,{"$error":"#DIV/0!"}]
[78,null,null,null,null,null,null,null,null,null,null,null,null,null,null,null,null,null,null,null,null,null,null,null,null,null,null,null,null,null,null,null,null,null,null,null,null,null,null,null,null,null,0,0,0,{"$error":"#DIV/0!"}]
[79,null,null,null,null,null,null,null,null,null,null,null,null,null,null,null,null,null,null,null,null,null,null,null,null,null,null,null,null,null,null,null,null,null,null,null,null,null,null,null,null,null,0,0,0,{"$error":"#DIV/0!"}]
[80,null,null,null,null,null,null,null,null,null,null,null,null,null,null,null,null,null,null,null,null,null,null,null,null,null,null,null,null,null,null,null,null,null,null,null,null,null,null,null,null,null,0,0,0,{"$error":"#DIV/0!"}]
[81,null,null,null,null,null,null,null,null,null,null,null,null,null,null,null,null,null,null,null,null,null,null,null,null,null,null,null,null,null,null,null,null,null,null,null,null,null,null,null,null,null,0,0,0,{"$error":"#DIV/0!"}]
[82,null,null,null,null,null,null,null,null,null,null,null,null,null,null,null,null,null,null,null,null,null,null,null,null,null,null,null,null,null,null,null,null,null,null,null,null,null,null,null,null,null,0,0,0,{"$error":"#DIV/0!"}]
[83,null,null,null,null,null,null,null,null,null,null,null,null,null,null,null,null,null,null,null,null,null,null,null,null,null,null,null,null,null,null,null,null,null,null,null,null,null,null,null,null,null,0,0,0,{"$error":"#DIV/0!"}]
[84,null,null,null,null,null,null,null,null,null,null,null,null,null,null,null,null,null,null,null,null,null,null,null,null,null,null,null,null,null,null,null,null,null,null,null,null,null,null,null,null,null,0,0,0,{"$error":"#DIV/0!"}]
[85,null,null,null,null,null,null,null,null,null,null,null,null,null,null,null,null,null,null,null,null,null,null,null,null,null,null,null,null,null,null,null,null,null,null,null,null,null,null,null,null,null,0,0,0,{"$error":"#DIV/0!"}]
[86,null,null,null,null,null,null,null,null,null,null,null,null,null,null,null,null,null,null,null,null,null,null,null,null,null,null,null,null,null,null,null,null,null,null,null,null,null,null,null,null,null,0,0,0,{"$error":"#DIV/0!"}]
[87,null,null,null,null,null,null,null,null,null,null,null,null,null,null,null,null,null,null,null,null,null,null,null,null,null,null,null,null,null,null,null,null,null,null,null,null,null,null,null,null,null,0,0,0,{"$error":"#DIV/0!"}]
[88,null,null,null,null,null,null,null,null,null,null,null,null,null,null,null,null,null,null,null,null,null,null,null,null,null,null,null,null,null,null,null,null,null,null,null,null,null,null,null,null,null,0,0,{"$f":"COUNT(C133:AN133)/2","v":0},{"$f":"+AR133/AS133","v":{"$error":"#DIV/0!"}}]
[89,null,null,null,null,null,null,null,null,null,null,null,null,null,null,null,null,null,null,null,null,null,null,null,null,null,null,null,null,null,null,null,null,null,null,null,null,null,null,null,null,null,0,0,0,{"$error":"#DIV/0!"}]
[90,null,null,null,null,null,null,null,null,null,null,null,null,null,null,null,null,null,null,null,null,null,null,null,null,null,null,null,null,null,null,null,null,null,null,null,null,null,null,null,null,null,0,0,0,{"$error":"#DIV/0!"}]
[91,null,null,null,null,null,null,null,null,null,null,null,null,null,null,null,null,null,null,null,null,null,null,null,null,null,null,null,null,null,null,null,null,null,null,null,null,null,null,null,null,null,0,0,0,{"$error":"#DIV/0!"}]
[92,null,null,null,null,null,null,null,null,null,null,null,null,null,null,null,null,null,null,null,null,null,null,null,null,null,null,null,null,null,null,null,null,null,null,null,null,null,null,null,null,null,0,0,0,{"$error":"#DIV/0!"}]
[93,null,null,null,null,null,null,null,null,null,null,null,null,null,null,null,null,null,null,null,null,null,null,null,null,null,null,null,null,null,null,null,null,null,null,null,null,null,null,null,null,null,0,0,0,{"$error":"#DIV/0!"}]
[94,null,null,null,null,null,null,null,null,null,null,null,null,null,null,null,null,null,null,null,null,null,null,null,null,null,null,null,null,null,null,null,null,null,null,null,null,null,null,null,null,null,0,0,0,{"$error":"#DIV/0!"}]
[95,null,null,null,null,null,null,null,null,null,null,null,null,null,null,null,null,null,null,null,null,null,null,null,null,null,null,null,null,null,null,null,null,null,null,null,null,null,null,null,null,null,0,0,0,{"$error":"#DIV/0!"}]
[96,null,null,null,null,null,null,null,null,null,null,null,null,null,null,null,null,null,null,null,null,null,null,null,null,null,null,null,null,null,null,null,null,null,null,null,null,null,null,null,null,null,0,0,0,{"$error":"#DIV/0!"}]
[97,null,null,null,null,null,null,null,null,null,null,null,null,null,null,null,null,null,null,null,null,null,null,null,null,null,null,null,null,null,null,null,null,null,null,null,null,null,null,null,null,null,0,0,0,{"$error":"#DIV/0!"}]
[98,null,null,null,null,null,null,null,null,null,null,null,null,null,null,null,null,null,null,null,null,null,null,null,null,null,null,null,null,null,null,null,null,null,null,null,null,null,null,null,null,null,0,0,0,{"$error":"#DIV/0!"}]
[99,null,null,null,null,null,null,null,null,null,null,null,null,null,null,null,null,null,null,null,null,null,null,null,null,null,null,null,null,null,null,null,null,null,null,null,null,null,null,null,null,null,0,0,0,{"$error":"#DIV/0!"}]
[100,null,null,null,null,null,null,null,null,null,null,null,null,null,null,null,null,null,null,null,null,null,null,null,null,null,null,null,null,null,null,null,null,null,null,null,null,null,null,null,null,null,0,0,0,{"$error":"#DIV/0!"}]
[101,null,null,null,null,null,null,null,null,null,null,null,null,null,null,null,null,null,null,null,null,null,null,null,null,null,null,null,null,null,null,null,null,null,null,null,null,null,null,null,null,null,0,0,0,{"$error":"#DIV/0!"}]
[102,null,null,null,null,null,null,null,null,null,null,null,null,null,null,null,null,null,null,null,null,null,null,null,null,null,null,null,null,null,null,null,null,null,null,null,null,null,null,null,null,null,0,0,0,{"$error":"#DIV/0!"}]
[103,null,null,null,null,null,null,null,null,null,null,null,null,null,null,null,null,null,null,null,null,null,null,null,null,null,null,null,null,null,null,null,null,null,null,null,null,null,null,null,null,null,0,0,0,{"$error":"#DIV/0!"}]
[104,null,null,null,null,null,null,null,null,null,null,null,null,null,null,null,null,null,null,null,null,null,null,null,null,null,null,null,null,null,null,null,null,null,null,null,null,null,null,null,null,null,0,0,0,{"$error":"#DIV/0!"}]
[105,null,null,null,null,null,null,null,null,null,null,null,null,null,null,null,null,null,null,null,null,null,null,null,null,null,null,null,null,null,null,null,null,null,null,null,null,null,null,null,null,null,0,0,0,{"$error":"#DIV/0!"}]
[106,null,null,null,null,null,null,null,null,null,null,null,null,null,null,null,null,null,null,null,null,null,null,null,null,null,null,null,null,null,null,null,null,null,null,null,null,null,null,null,null,null,0,0,0,{"$error":"#DIV/0!"}]
[107,null,null,null,null,null,null,null,null,null,null,null,null,null,null,null,null,null,null,null,null,null,null,null,null,null,null,null,null,null,null,null,null,null,null,null,null,null,null,null,null,null,0,0,0,{"$error":"#DIV/0!"}]
[108,null,null,null,null,null,null,null,null,null,null,null,null,null,null,null,null,null,null,null,null,null,null,null,null,null,null,null,null,null,null,null,null,null,null,null,null,null,null,null,null,null,0,0,0,{"$error":"#DIV/0!"}]
[109,null,null,null,null,null,null,null,null,null,null,null,null,null,null,null,null,null,null,null,null,null,null,null,null,null,null,null,null,null,null,null,null,null,null,null,null,null,null,null,null,null,0,0,0,{"$error":"#DIV/0!"}]
[110,null,null,null,null,null,null,null,null,null,null,null,null,null,null,null,null,null,null,null,null,null,null,null,null,null,null,null,null,null,null,null,null,null,null,null,null,null,null,null,null,null,0,0,0,{"$error":"#DIV/0!"}]
[111,null,null,null,null,null,null,null,null,null,null,null,null,null,null,null,null,null,null,null,null,null,null,null,null,null,null,null,null,null,null,null,null,null,null,null,null,null,null,null,null,null,0,0,0,{"$error":"#DIV/0!"}]
[112,null,null,null,null,null,null,null,null,null,null,null,null,null,null,null,null,null,null,null,null,null,null,null,null,null,null,null,null,null,null,null,null,null,null,null,null,null,null,null,null,null,0,0,0,{"$error":"#DIV/0!"}]
[113,null,null,null,null,null,null,null,null,null,null,null,null,null,null,null,null,null,null,null,null,null,null,null,null,null,null,null,null,null,null,null,null,null,null,null,null,null,null,null,null,null,0,0,0,{"$error":"#DIV/0!"}]
[114,null,null,null,null,null,null,null,null,null,null,null,null,null,null,null,null,null,null,null,null,null,null,null,null,null,null,null,null,null,null,null,null,null,null,null,null,null,null,null,null,null,0,0,0,{"$error":"#DIV/0!"}]
[115,null,null,null,null,null,null,null,null,null,null,null,null,null,null,null,null,null,null,null,null,null,null,null,null,null,null,null,null,null,null,null,null,null,null,null,null,null,null,null,null,null,0,0,0,{"$error":"#DIV/0!"}]
[116,null,null,null,null,null,null,null,null,null,null,null,null,null,null,null,null,null,null,null,null,null,null,null,null,null,null,null,null,null,null,null,null,null,null,null,null,null,null,null,null,null,0,0,0,{"$error":"#DIV/0!"}]
[117,null,null,null,null,null,null,null,null,null,null,null,null,null,null,null,null,null,null,null,null,null,null,null,null,null,null,null,null,null,null,null,null,null,null,null,null,null,null,null,null,null,0,0,0,{"$error":"#DIV/0!"}]
[118,null,null,null,null,null,null,null,null,null,null,null,null,null,null,null,null,null,null,null,null,null,null,null,null,null,null,null,null,null,null,null,null,null,null,null,null,null,null,null,null,null,0,0,0,{"$error":"#DIV/0!"}]
[119,null,null,null,null,null,null,null,null,null,null,null,null,null,null,null,null,null,null,null,null,null,null,null,null,null,null,null,null,null,null,null,null,null,null,null,null,null,null,null,null,null,0,0,0,{"$error":"#DIV/0!"}]
[120,null,null,null,null,null,null,null,null,null,null,null,null,null,null,null,null,null,null,null,null,null,null,null,null,null,null,null,null,null,null,null,null,null,null,null,null,null,null,null,null,null,0,0,0,{"$error":"#DIV/0!"}]
[121,null,null,null,null,null,null,null,null,null,null,null,null,null,null,null,null,null,null,null,null,null,null,null,null,null,null,null,null,null,null,null,null,null,null,null,null,null,null,null,null,null,0,0,0,{"$error":"#DIV/0!"}]
[122,null,null,null,null,null,null,null,null,null,null,null,null,null,null,null,null,null,null,null,null,null,null,null,null,null,null,null,null,null,null,null,null,null,null,null,null,null,null,null,null,null,0,0,0,{"$error":"#DIV/0!"}]
[123,null,null,null,null,null,null,null,null,null,null,null,null,null,null,null,null,null,null,null,null,null,null,null,null,null,null,null,null,null,null,null,null,null,null,null,null,null,null,null,null,null,0,0,0,{"$error":"#DIV/0!"}]
[124,null,null,null,null,null,null,null,null,null,null,null,null,null,null,null,null,null,null,null,null,null,null,null,null,null,null,null,null,null,null,null,null,null,null,null,null,null,null,null,null,null,{"$f":"+C169+E169+G169+I169++K169++M169+O169+Q169+S169+U169+W169+AK169+AM169+Y169+AC169+AE169+AG169+AI169+AA169","v":0},{"$f":"+D169+F169+H169+J169++L169++N169+P169+R169+T169+V169+X169+AL169+AN169+Z169+AD169+AF169+AH169+AJ169+AB169","v":0},0,{"$error":"#DIV/0!"}]
[125,null,null,null,null,null,null,null,null,null,null,null,null,null,null,null,null,null,null,null,null,null,null,null,null,null,null,null,null,null,null,null,null,null,null,null,null,null,null,null,null,null,0,0,0,{"$error":"#DIV/0!"}]
[126,null,null,null,null,null,null,null,null,null,null,null,null,null,null,null,null,null,null,null,null,null,null,null,null,null,null,null,null,null,null,null,null,null,null,null,null,null,null,null,null,null,0,0,0,{"$error":"#DIV/0!"}]
[127,null,null,null,null,null,null,null,null,null,null,null,null,null,null,null,null,null,null,null,null,null,null,null,null,null,null,null,null,null,null,null,null,null,null,null,null,null,null,null,null,null,0,0,0,{"$error":"#DIV/0!"}]
[128,null,null,null,null,null,null,null,null,null,null,null,null,null,null,null,null,null,null,null,null,null,null,null,null,null,null,null,null,null,null,null,null,null,null,null,null,null,null,null,null,null,0,0,0,{"$error":"#DIV/0!"}]
[129,null,null,null,null,null,null,null,null,null,null,null,null,null,null,null,null,null,null,null,null,null,null,null,null,null,null,null,null,null,null,null,null,null,null,null,null,null,null,null,null,null,0,0,0,{"$error":"#DIV/0!"}]
[130,null,null,null,null,null,null,null,null,null,null,null,null,null,null,null,null,null,null,null,null,null,null,null,null,null,null,null,null,null,null,null,null,null,null,null,null,null,null,null,null,null,0,0,0,{"$error":"#DIV/0!"}]
[{"$f":"+A175+1","v":131},null,null,null,null,null,null,null,null,null,null,null,null,null,null,null,null,null,null,null,null,null,null,null,null,null,null,null,null,null,null,null,null,null,null,null,null,null,null,null,null,null,0,0,0,{"$error":"#DIV/0!"}]
[132,null,null,null,null,null,null,null,null,null,null,null,null,null,null,null,null,null,null,null,null,null,null,null,null,null,null,null,null,null,null,null,null,null,null,null,null,null,null,null,null,null,0,0,0,{"$error":"#DIV/0!"}]
[133,null,null,null,null,null,null,null,null,null,null,null,null,null,null,null,null,null,null,null,null,null,null,null,null,null,null,null,null,null,null,null,null,null,null,null,null,null,null,null,null,null,0,0,0,{"$error":"#DIV/0!"}]
[134,null,null,null,null,null,null,null,null,null,null,null,null,null,null,null,null,null,null,null,null,null,null,null,null,null,null,null,null,null,null,null,null,null,null,null,null,null,null,null,null,null,0,0,0,{"$error":"#DIV/0!"}]
[135,null,null,null,null,null,null,null,null,null,null,null,null,null,null,null,null,null,null,null,null,null,null,null,null,null,null,null,null,null,null,null,null,null,null,null,null,null,null,null,null,null,0,0,0,{"$error":"#DIV/0!"}]
[136,null,null,null,null,null,null,null,null,null,null,null,null,null,null,null,null,null,null,null,null,null,null,null,null,null,null,null,null,null,null,null,null,null,null,null,null,null,null,null,null,null,0,0,0,{"$error":"#DIV/0!"}]
[137,null,null,null,null,null,null,null,null,null,null,null,null,null,null,null,null,null,null,null,null,null,null,null,null,null,null,null,null,null,null,null,null,null,null,null,null,null,null,null,null,null,0,0,0,{"$error":"#DIV/0!"}]
[138,null,null,null,null,null,null,null,null,null,null,null,null,null,null,null,null,null,null,null,null,null,null,null,null,null,null,null,null,null,null,null,null,null,null,null,null,null,null,null,null,null,0,0,0,{"$error":"#DIV/0!"}]
[139,null,null,null,null,null,null,null,null,null,null,null,null,null,null,null,null,null,null,null,null,null,null,null,null,null,null,null,null,null,null,null,null,null,null,null,null,null,null,null,null,null,0,0,0,{"$error":"#DIV/0!"}]
[140,null,null,null,null,null,null,null,null,null,null,null,null,null,null,null,null,null,null,null,null,null,null,null,null,null,null,null,null,null,null,null,null,null,null,null,null,null,null,null,null,null,0,0,0,{"$error":"#DIV/0!"}]
[141,null,null,null,null,null,null,null,null,null,null,null,null,null,null,null,null,null,null,null,null,null,null,null,null,null,null,null,null,null,null,null,null,null,null,null,null,null,null,null,null,null,0,0,0,{"$error":"#DIV/0!"}]
[142,null,null,null,null,null,null,null,null,null,null,null,null,null,null,null,null,null,null,null,null,null,null,null,null,null,null,null,null,null,null,null,null,null,null,null,null,null,null,null,null,null,0,0,0,{"$error":"#DIV/0!"}]
[143,null,null,null,null,null,null,null,null,null,null,null,null,null,null,null,null,null,null,null,null,null,null,null,null,null,null,null,null,null,null,null,null,null,null,null,null,null,null,null,null,null,0,0,0,{"$error":"#DIV/0!"}]
[144,null,null,null,null,null,null,null,null,null,null,null,null,null,null,null,null,null,null,null,null,null,null,null,null,null,null,null,null,null,null,null,null,null,null,null,null,null,null,null,null,null,0,0,0,{"$error":"#DIV/0!"}]
[145,null,null,null,null,null,null,null,null,null,null,null,null,null,null,null,null,null,null,null,null,null,null,null,null,null,null,null,null,null,null,null,null,null,null,null,null,null,null,null,null,null,0,0,0,{"$error":"#DIV/0!"}]
[146,null,null,null,null,null,null,null,null,null,null,null,null,null,null,null,null,null,null,null,null,null,null,null,null,null,null,null,null,null,null,null,null,null,null,null,null,null,null,null,null,null,0,0,0,{"$error":"#DIV/0!"}]
[147,null,null,null,null,null,null,null,null,null,null,null,null,null,null,null,null,null,null,null,null,null,null,null,null,null,null,null,null,null,null,null,null,null,null,null,null,null,null,null,null,null,0,0,0,{"$error":"#DIV/0!"}]
[148,null,null,null,null,null,null,null,null,null,null,null,null,null,null,null,null,null,null,null,null,null,null,null,null,null,null,null,null,null,null,null,null,null,null,null,null,null,null,null,null,null,0,0,0,{"$error":"#DIV/0!"}]
[149,null,null,null,null,null,null,null,null,null,null,null,null,null,null,null,null,null,null,null,null,null,null,null,null,null,null,null,null,null,null,null,null,null,null,null,null,null,null,null,null,null,0,0,0,{"$error":"#DIV/0!"}]
[150,null,null,null,null,null,null,null,null,null,null,null,null,null,null,null,null,null,null,null,null,null,null,null,null,null,null,null,null,null,null,null,null,null,null,null,null,null,null,null,null,null,0,0,0,{"$error":"#DIV/0!"}]
[151,null,null,null,null,null,null,null,null,null,null,null,null,null,null,null,null,null,null,null,null,null,null,null,null,null,null,null,null,null,null,null,null,null,null,null,null,null,null,null,null,null,0,0,0,{"$error":"#DIV/0!"}]
[152,null,null,null,null,null,null,null,null,null,null,null,null,null,null,null,null,null,null,null,null,null,null,null,null,null,null,null,null,null,null,null,null,null,null,null,null,null,null,null,null,null,0,0,{"$f":"COUNT(C197:AN197)/2","v":0},{"$f":"+AR197/AS197","v":{"$error":"#DIV/0!"}}]
[153,null,null,null,null,null,null,null,null,null,null,null,null,null,null,null,null,null,null,null,null,null,null,null,null,null,null,null,null,null,null,null,null,null,null,null,null,null,null,null,null,null,0,0,{"$f":"COUNT(C198:AN198)/2","v":0},{"$f":"+AR198/AS198","v":{"$error":"#DIV/0!"}}]
[154,null,null,null,null,null,null,null,null,null,null,null,null,null,null,null,null,null,null,null,null,null,null,null,null,null,null,null,null,null,null,null,null,null,null,null,null,null,null,null,null,null,0,0,{"$f":"COUNT(C199:AN199)/2","v":0},{"$f":"+AR199/AS199","v":{"$error":"#DIV/0!"}}]
[155,null,null,null,null,null,null,null,null,null,null,null,null,null,null,null,null,null,null,null,null,null,null,null,null,null,null,null,null,null,null,null,null,null,null,null,null,null,null,null,null,null,0,0,{"$f":"COUNT(C200:AN200)/2","v":0},{"$f":"+AR200/AS200","v":{"$error":"#DIV/0!"}}]

{"sheet":"Kul","index":5,"n_rows":112,"n_cols":40,"rows_kept":112,"cut":false,"hidden":false,"merged":[[39,26,39,27],[39,32,39,33],[39,18,39,19],[39,20,39,21],[39,22,39,23],[39,24,39,25],[39,28,39,29],[39,30,39,31],[39,10,39,11],[39,12,39,13],[39,14,39,15],[39,16,39,17],[39,2,39,3],[39,4,39,5],[39,6,39,7],[39,8,39,9]]}
["KUL"]
["Mes"]
[{"$f":"+GENERAL!B6","v":12},null,{"$f":"SUM(C5:C13)","v":0}]
[null,null,"Premi","Punts","Partides","General"]
[1,"Jordi",{"$f":"+G$37","v":25},{"$f":"+H$38","v":15},{"$f":"+H$37","v":3},{"$f":"+G$23","v":0},{"$f":"IF(E5<A$3/2,-1,1)*8000+C5*100+D5+E5/100","v":-5484.97}]
[2,"Núria",{"$f":"+E$37","v":5},{"$f":"+F$38","v":5},{"$f":"+F$37","v":1},{"$f":"+E$23","v":0},-7494.99]
[3,"Carles",{"$f":"+O$37","v":5},{"$f":"+P$38","v":-4},{"$f":"+P$37","v":2},{"$f":"+O$23","v":0},-7503.98]
[4,"Gemma",{"$f":"+Y$37","v":0},{"$f":"+Z$38","v":6},{"$f":"+Z$37","v":1},{"$f":"+Y$23","v":0},-7993.99]
[5,"Sergi",{"$f":"+M$37","v":0},{"$f":"+N$38","v":4},{"$f":"+N$37","v":2},{"$f":"+M$23","v":0},-7995.98]
[6,"Sebas",{"$f":"+AC$37","v":-5},{"$f":"+AD$38","v":-5},{"$f":"+AD$37","v":1},{"$f":"+AC$23","v":0},-8504.99]
[7,"Goretti",{"$f":"+AA$37","v":-5},{"$f":"+AB$38","v":-8},{"$f":"+AB$37","v":2},{"$f":"+AA$23","v":0},-8507.98]
[8,"Nogué",{"$f":"+AE$37","v":-10},{"$f":"+AF$38","v":-8},{"$f":"+AF$37","v":1},{"$f":"+AE$23","v":0},-9007.99]
[9,"Mariajo",{"$f":"+Q$37","v":-15},{"$f":"+R$38","v":-5},{"$f":"+R$37","v":2},{"$f":"+Q$23","v":0},-9504.98]
[10,"Grau",{"$f":"+K$37","v":-100000000},{"$f":"+L$38","v":0},{"$f":"+L$37","v":0},{"$f":"+K$23","v":0},-10000008000]
[11,"Manolo",{"$f":"+I$37","v":-100000000},{"$f":"+J$38","v":0},{"$f":"+J$37","v":0},{"$f":"+I$23","v":0},-10000008000]
[12,"Joan",{"$f":"+U$37","v":-100000000},{"$f":"+V$38","v":0},{"$f":"+V$37","v":0},{"$f":"+U$23","v":0},-10000008000]
[13,"Tito",{"$f":"+W$37","v":-100000000},{"$f":"+X$38","v":0},{"$f":"+X$37","v":0},{"$f":"+W$23","v":0},-10000008000]
[14,"Rosa M.",{"$f":"+AG$37","v":-100000000},{"$f":"+AH$38","v":0},{"$f":"+AH$37","v":0},{"$f":"+AG$23","v":0},-10000008000]
[15,"Angie",{"$f":"+C$37","v":-100000000},{"$f":"+D$38","v":0},{"$f":"+D$37","v":0},{"$f":"+C$23","v":0},-10000008000]
[16,"Anna P.",{"$f":"+S$37","v":-100000000},{"$f":"+T$38","v":0},{"$f":"+T$37","v":0},{"$f":"+S$23","v":0},-10000008000]
[]
[]
[null,"General",{"$f":"+C24*C25","v":0},{"$f":"+D24*D25","v":0},0,0,0,0,0,0,0,0,0,0,0,0,0,0,0,0,0,0,0,0,0,0,{"$f":"+AA24*AA25","v":0},0,0,0,0,0,0,0]
[null,null,{"$f":"IF($B36>3,1,0)","v":0},{"$f":"IF($B36>3,1,0)","v":0},0,0,0,0,0,0,0,0,0,0,0,0,0,0,0,0,0,0,0,0,0,0,{"$f":"IF($B36>3,1,0)","v":0},0,0,0,0,0,0,0]
[null,null,{"$f":"MAX(C26:C30)","v":0},{"$f":"+D37","v":0},{"$f":"MAX(E26:E30)","v":0},{"$f":"+F37","v":1},{"$f":"MAX(G26:G30)","v":0},{"$f":"+H37","v":3},{"$f":"MAX(I26:I30)","v":0},{"$f":"+J37","v":0},{"$f":"MAX(K26:K30)","v":0},{"$f":"+L37","v":0},{"$f":"MAX(M26:M30)","v":0},{"$f":"+N37","v":2},{"$f":"MAX(O26:O30)","v":0},{"$f":"+P37","v":2},{"$f":"MAX(Q26:Q30)","v":0},{"$f":"+R37","v":2},{"$f":"MAX(S26:S30)","v":0},{"$f":"+T37","v":0},{"$f":"MAX(U26:U30)","v":0},{"$f":"+V37","v":0},{"$f":"MAX(W26:W30)","v":0},{"$f":"+X37","v":0},{"$f":"MAX(Y26:Y30)","v":0},{"$f":"+Z37","v":1},{"$f":"MAX(AA26:AA30)","v":0},{"$f":"+AB37","v":2},{"$f":"MAX(AC26:AC30)","v":0},{"$f":"+AD37","v":1},{"$f":"MAX(AE26:AE30)","v":0},{"$f":"+AF37","v":1},{"$f":"MAX(AG26:AG30)","v":0},{"$f":"+AH37","v":0}]
[null,null,{"$f":"IF(C$31=5,5,0)","v":0},null,{"$f":"IF(E$31=5,5,0)","v":0},null,{"$f":"IF(G$31=5,5,0)","v":0},null,{"$f":"IF(I$31=5,5,0)","v":0},null,{"$f":"IF(K$31=5,5,0)","v":0},null,{"$f":"IF(M$31=5,5,0)","v":0},null,{"$f":"IF(O$31=5,5,0)","v":0},null,{"$f":"IF(Q$31=5,5,0)","v":0},null,{"$f":"IF(S$31=5,5,0)","v":0},null,{"$f":"IF(U$31=5,5,0)","v":0},null,{"$f":"IF(W$31=5,5,0)","v":0},null,{"$f":"IF(Y$31=5,5,0)","v":0},null,{"$f":"IF(AA$31=5,5,0)","v":0},null,{"$f":"IF(AC$31=5,5,0)","v":0},null,{"$f":"IF(AE$31=5,5,0)","v":0},null,{"$f":"IF(AG$31=5,5,0)","v":0}]
[null,null,{"$f":"IF(C$31=4,10,0)","v":0},null,{"$f":"IF(E$31=4,10,0)","v":0},null,{"$f":"IF(G$31=4,10,0)","v":0},null,{"$f":"IF(I$31=4,10,0)","v":0},null,{"$f":"IF(K$31=4,10,0)","v":0},null,{"$f":"IF(M$31=4,10,0)","v":0},null,{"$f":"IF(O$31=4,10,0)","v":0},null,{"$f":"IF(Q$31=4,10,0)","v":0},null,{"$f":"IF(S$31=4,10,0)","v":0},null,{"$f":"IF(U$31=4,10,0)","v":0},null,{"$f":"IF(W$31=4,10,0)","v":0},null,{"$f":"IF(Y$31=4,10,0)","v":0},null,{"$f":"IF(AA$31=4,10,0)","v":0},null,{"$f":"IF(AC$31=4,10,0)","v":0},null,{"$f":"IF(AE$31=4,10,0)","v":0},null,{"$f":"IF(AG$31=4,10,0)","v":0}]
[null,null,{"$f":"IF(C$31=3,20,0)","v":0},null,{"$f":"IF(E$31=3,20,0)","v":0},null,{"$f":"IF(G$31=3,20,0)","v":0},null,{"$f":"IF(I$31=3,20,0)","v":0},null,{"$f":"IF(K$31=3,20,0)","v":0},null,{"$f":"IF(M$31=3,20,0)","v":0},null,{"$f":"IF(O$31=3,20,0)","v":0},null,{"$f":"IF(Q$31=3,20,0)","v":0},null,{"$f":"IF(S$31=3,20,0)","v":0},null,{"$f":"IF(U$31=3,20,0)","v":0},null,{"$f":"IF(W$31=3,20,0)","v":0},null,{"$f":"IF(Y$31=3,20,0)","v":0},null,{"$f":"IF(AA$31=3,20,0)","v":0},null,{"$f":"IF(AC$31=3,20,0)","v":0},null,{"$f":"IF(AE$31=3,20,0)","v":0},null,{"$f":"IF(AG$31=3,20,0)","v":0}]
[null,null,{"$f":"IF(C$31=2,40,0)","v":0},null,{"$f":"IF(E$31=2,40,0)","v":0},null,{"$f":"IF(G$31=2,40,0)","v":0},null,{"$f":"IF(I$31=2,40,0)","v":0},null,{"$f":"IF(K$31=2,40,0)","v":0},null,{"$f":"IF(M$31=2,40,0)","v":0},null,{"$f":"IF(O$31=2,40,0)","v":0},null,{"$f":"IF(Q$31=2,40,0)","v":0},null,{"$f":"IF(S$31=2,40,0)","v":0},null,{"$f":"IF(U$31=2,40,0)","v":0},null,{"$f":"IF(W$31=2,40,0)","v":0},null,{"$f":"IF(Y$31=2,40,0)","v":0},null,{"$f":"IF(AA$31=2,40,0)","v":0},null,{"$f":"IF(AC$31=2,40,0)","v":0},null,{"$f":"IF(AE$31=2,40,0)","v":0},null,{"$f":"IF(AG$31=2,40,0)","v":0}]
[null,null,{"$f":"IF(C$31=1,80,0)","v":0},null,{"$f":"IF(E$31=1,80,0)","v":0},null,{"$f":"IF(G$31=1,80,0)","v":0},null,{"$f":"IF(I$31=1,80,0)","v":0},null,{"$f":"IF(K$31=1,80,0)","v":0},null,{"$f":"IF(M$31=1,80,0)","v":0},null,{"$f":"IF(O$31=1,80,0)","v":0},null,{"$f":"IF(Q$31=1,80,0)","v":0},null,{"$f":"IF(S$31=1,80,0)","v":0},null,{"$f":"IF(U$31=1,80,0)","v":0},null,{"$f":"IF(W$31=1,80,0)","v":0},null,{"$f":"IF(Y$31=1,80,0)","v":0},null,{"$f":"IF(AA$31=1,80,0)","v":0},null,{"$f":"IF(AC$31=1,80,0)","v":0},null,{"$f":"IF(AE$31=1,80,0)","v":0},null,{"$f":"IF(AG$31=1,80,0)","v":0}]
[null,null,{"$f":"RANK(C32,$C32:$AT32)*C36","v":0},null,{"$f":"RANK(E32,$C32:$AT32)*E36","v":0},null,{"$f":"RANK(G32,$C32:$AT32)*G36","v":0},null,{"$f":"RANK(I32,$C32:$AT32)*I36","v":0},null,{"$f":"RANK(K32,$C32:$AT32)*K36","v":0},null,{"$f":"RANK(M32,$C32:$AT32)*M36","v":0},null,{"$f":"RANK(O32,$C32:$AT32)*O36","v":0},null,{"$f":"RANK(Q32,$C32:$AT32)*Q36","v":0},null,{"$f":"RANK(S32,$C32:$AT32)*S36","v":0},null,{"$f":"RANK(U32,$C32:$AT32)*U36","v":0},null,{"$f":"RANK(W32,$C32:$AT32)*W36","v":0},null,{"$f":"RANK(Y32,$C32:$AT32)*Y36","v":0},null,{"$f":"RANK(AA32,$C32:$AT32)*AA36","v":0},null,{"$f":"RANK(AC32,$C32:$AT32)*AC36","v":0},null,{"$f":"RANK(AE32,$C32:$AT32)*AE36","v":0},null,{"$f":"RANK(AG32,$C32:$AT32)*AG36","v":0}]
[null,null,{"$f":"SUM(C33:C35)","v":-101000000},null,{"$f":"SUM(E33:E35)","v":-999944},null,{"$f":"SUM(G33:G35)","v":-999822},null,{"$f":"SUM(I33:I35)","v":-101000000},null,{"$f":"SUM(K33:K35)","v":-101000000},null,{"$f":"SUM(M33:M35)","v":-999958},null,{"$f":"SUM(O33:O35)","v":-1000033},null,{"$f":"SUM(Q33:Q35)","v":-1000063},null,{"$f":"SUM(S33:S35)","v":-101000000},null,{"$f":"SUM(U33:U35)","v":-101000000},null,{"$f":"SUM(W33:W35)","v":-101000000},null,{"$f":"SUM(Y33:Y35)","v":-999939},null,{"$f":"SUM(AA33:AA35)","v":-1000083},null,{"$f":"SUM(AC33:AC35)","v":-1000054},null,{"$f":"SUM(AE33:AE35)","v":-1000089},null,{"$f":"SUM(AG33:AG35)","v":-101000000}]
[null,null,{"$f":"+D37","v":0},null,{"$f":"+F37","v":1},null,{"$f":"+H37","v":3},null,{"$f":"+J37","v":0},null,{"$f":"+L37","v":0},null,{"$f":"+N37","v":2},null,{"$f":"+P37","v":2},null,{"$f":"+R37","v":2},null,{"$f":"+T37","v":0},null,{"$f":"+V37","v":0},null,{"$f":"+X37","v":0},null,{"$f":"+Z37","v":1},null,{"$f":"+AB37","v":2},null,{"$f":"+AD37","v":1},null,{"$f":"+AF37","v":1},null,{"$f":"+AH37","v":0}]
[null,null,{"$f":"D38*10","v":0},null,{"$f":"F38*10","v":50},null,{"$f":"H38*10","v":150},null,{"$f":"J38*10","v":0},null,{"$f":"L38*10","v":0},null,{"$f":"N38*10","v":40},null,{"$f":"P38*10","v":-40},null,{"$f":"R38*10","v":-50},null,{"$f":"T38*10","v":0},null,{"$f":"V38*10","v":0},null,{"$f":"X38*10","v":0},null,{"$f":"Z38*10","v":60},null,{"$f":"AB38*10","v":-80},null,{"$f":"AD38*10","v":-50},null,{"$f":"AF38*10","v":-80},null,{"$f":"AH38*10","v":0}]
[null,null,{"$f":"IF(C36=1,C37*C36*1000+C37,-1000000+C37)","v":-101000000},null,{"$f":"IF(E36=1,E37*E36*1000+E37,-1000000+E37)","v":-999995},null,{"$f":"IF(G36=1,G37*G36*1000+G37,-1000000+G37)","v":-999975},null,{"$f":"IF(I36=1,I37*I36*1000+I37,-1000000+I37)","v":-101000000},null,{"$f":"IF(K36=1,K37*K36*1000+K37,-1000000+K37)","v":-101000000},null,{"$f":"IF(M36=1,M37*M36*1000+M37,-1000000+M37)","v":-1000000},null,{"$f":"IF(O36=1,O37*O36*1000+O37,-1000000+O37)","v":-999995},null,{"$f":"IF(Q36=1,Q37*Q36*1000+Q37,-1000000+Q37)","v":-1000015},null,{"$f":"IF(S36=1,S37*S36*1000+S37,-1000000+S37)","v":-101000000},null,{"$f":"IF(U36=1,U37*U36*1000+U37,-1000000+U37)","v":-101000000},null,{"$f":"IF(W36=1,W37*W36*1000+W37,-1000000+W37)","v":-101000000},null,{"$f":"IF(Y36=1,Y37*Y36*1000+Y37,-1000000+Y37)","v":-1000000},null,{"$f":"IF(AA36=1,AA37*AA36*1000+AA37,-1000000+AA37)","v":-1000005},null,{"$f":"IF(AC36=1,AC37*AC36*1000+AC37,-1000000+AC37)","v":-1000005},null,{"$f":"IF(AE36=1,AE37*AE36*1000+AE37,-1000000+AE37)","v":-1000010},null,{"$f":"IF(AG36=1,AG37*AG36*1000+AG37,-1000000+AG37)","v":-101000000}]
["Classificats",{"$f":"SUM(C36:AG36)","v":0},{"$f":"IF(D37>=$A3/2,1,0)","v":0},null,{"$f":"IF(F37>=$A3/2,1,0)","v":0},null,{"$f":"IF(H37>=$A3/2,1,0)","v":0},null,{"$f":"IF(J37>=$A3/2,1,0)","v":0},null,{"$f":"IF(L37>=$A3/2,1,0)","v":0},null,{"$f":"IF(N37>=$A3/2,1,0)","v":0},null,{"$f":"IF(P37>=$A3/2,1,0)","v":0},null,{"$f":"IF(R37>=$A3/2,1,0)","v":0},null,{"$f":"IF(T37>=$A3/2,1,0)","v":0},null,{"$f":"IF(V37>=$A3/2,1,0)","v":0},null,{"$f":"IF(X37>=$A3/2,1,0)","v":0},null,{"$f":"IF(Z37>=$A3/2,1,0)","v":0},null,{"$f":"IF(AB37>=$A3/2,1,0)","v":0},null,{"$f":"IF(AD37>=$A3/2,1,0)","v":0},null,{"$f":"IF(AF37>=$A3/2,1,0)","v":0},null,{"$f":"IF(AH37>=$A3/2,1,0)","v":0}]
[null,null,{"$f":"IF(SUM(C42:C280)<-1000,-100000000,SUM(C42:C280))","v":-100000000},{"$f":"COUNT(D42:D280)","v":0},{"$f":"IF(SUM(E42:E280)<-1000,-100000000,SUM(E42:E280))","v":5},{"$f":"COUNT(F42:F280)","v":1},{"$f":"IF(SUM(G42:G280)<-1000,-100000000,SUM(G42:G280))","v":25},{"$f":"COUNT(H42:H280)","v":3},{"$f":"IF(SUM(I42:I280)<-1000,-100000000,SUM(I42:I280))","v":-100000000},{"$f":"COUNT(J42:J280)","v":0},{"$f":"IF(SUM(K42:K280)<-1000,-100000000,SUM(K42:K280))","v":-100000000},{"$f":"COUNT(L42:L280)","v":0},{"$f":"IF(SUM(M42:M280)<-1000,-100000000,SUM(M42:M280))","v":0},{"$f":"COUNT(N42:N280)","v":2},{"$f":"IF(SUM(O42:O280)<-1000,-100000000,SUM(O42:O280))","v":5},{"$f":"COUNT(P42:P280)","v":2},{"$f":"IF(SUM(Q42:Q280)<-1000,-100000000,SUM(Q42:Q280))","v":-15},{"$f":"COUNT(R42:R280)","v":2},{"$f":"IF(SUM(S42:S280)<-1000,-100000000,SUM(S42:S280))","v":-100000000},{"$f":"COUNT(T42:T280)","v":0},{"$f":"IF(SUM(U42:U280)<-1000,-100000000,SUM(U42:U280))","v":-100000000},{"$f":"COUNT(V42:V280)","v":0},{"$f":"IF(SUM(W42:W280)<-1000,-100000000,SUM(W42:W280))","v":-100000000},{"$f":"COUNT(X42:X280)","v":0},{"$f":"IF(SUM(Y42:Y280)<-1000,-100000000,SUM(Y42:Y280))","v":0},{"$f":"COUNT(Z42:Z280)","v":1},{"$f":"IF(SUM(AA42:AA280)<-1000,-100000000,SUM(AA42:AA280))","v":-5},{"$f":"COUNT(AB42:AB280)","v":2},{"$f":"IF(SUM(AC42:AC280)<-1000,-100000000,SUM(AC42:AC280))","v":-5},{"$f":"COUNT(AD42:AD280)","v":1},{"$f":"IF(SUM(AE42:AE280)<-1000,-100000000,SUM(AE42:AE280))","v":-10},{"$f":"COUNT(AF42:AF280)","v":1},{"$f":"IF(SUM(AG42:AG280)<-1000,-100000000,SUM(AG42:AG280))","v":-100000000},{"$f":"COUNT(AH42:AH280)","v":0}]
[null,null,{"$f":"SUM(C42:C174)","v":-10000},0,5,5,25,15,-10000,0,-10000,0,0,4,5,-4,-15,-5,-10000,0,-10000,0,-10000,0,0,6,{"$f":"SUM(AA42:AA174)","v":-5},-8,-5,-5,-10,-8,-10000,0]
[null,null,null,null,null,null,null,null,null,null,null,null,null,null,null,null,null,null,null,null,null,null,null,null,null,null,null,null,null,null,null,null,null,null,{"$f":"MAX(AJ42:AJ101)","v":363}]
[null,"Nº partida ","Angie",null,"Núria",null,"Jordi",null,"Manolo",null,"Grau",null,"Sergi",null,"Carles",null,"Mariajo",null,"Anna P.",null,"Joan",null,"Tito",null,"Gemma",null,"Nin",null,"Sebas",null,"Nogué",null,"Rosa M.",null,{"$f":"COUNT(AI42:AI195)","v":3},"A","B","C"]
[null,null,"Premi","Punts","Premi","Punts","Premi","Punts","Premi","Punts","Premi","Punts","Premi","Punts","Premi","Punts","Premi","Punts","Premi","Punts","Premi","Punts","Premi","Punts","Premi","Punts","Premi","Punts","Premi","Punts","Premi","Punts","Premi","Punts","Data","Timbes"]
[1,null,-10000,null,5,5,10,2,-10000,null,-10000,null,null,null,null,null,null,null,-10000,null,-10000,null,-10000,null,0,6,null,null,-5,-5,-10,-8,-10000,null,"2021-09-09",354,{"$f":"+C42+E42+G42+I42++K42++M42+O42+Q42+S42+U42+W42+Y42+AG42+AA42+AC42+AE42","v":-70000},0,{"$f":"COUNT(C42:AH42)/2","v":8.5},{"$f":"+AK42/AM42","v":-8235.2941176470595}]
[{"$f":"+A42+1","v":2},null,null,null,null,null,10,9,null,null,null,null,-10,-6,5,-2,-5,3,null,null,null,null,null,null,null,null,0,-4,null,null,null,null,null,null,"2021-09-18",363,0,0,5,0]
[{"$f":"+A43+1","v":3},null,null,null,null,null,5,4,null,null,null,null,10,10,0,-2,-10,-8,null,null,null,null,null,null,null,null,-5,-4,null,null,null,null,null,null,"2021-09-18",363,0,{"$f":"+D44+F44+H44+J44++L44++N44+P44+R44+T44+V44+X44+Z44+AH44+AB44+AD44+AF44","v":0},5,0]
[4,null,null,null,null,null,null,null,null,null,null,null,null,null,null,null,null,null,null,null,null,null,null,null,null,null,null,null,null,null,null,null,null,null,null,null,0,0,0,{"$error":"#DIV/0!"}]
[5,null,null,null,null,null,null,null,null,null,null,null,null,null,null,null,null,null,null,null,null,null,null,null,null,null,null,null,null,null,null,null,null,null,null,null,0,0,0,{"$error":"#DIV/0!"}]
[6,null,null,null,null,null,null,null,null,null,null,null,null,null,null,null,null,null,null,null,null,null,null,null,null,null,null,null,null,null,null,null,null,null,null,null,{"$f":"+C47+E47+G47+I47++K47++M47+O47+Q47+S47+U47+W47+Y47+AG47+AA47+AC47+AE47","v":0},0,0,{"$error":"#DIV/0!"}]
[7,null,null,null,null,null,null,null,null,null,null,null,null,null,null,null,null,null,null,null,null,null,null,null,null,null,null,null,null,null,null,null,null,null,null,null,0,0,0,{"$error":"#DIV/0!"}]
[8,null,null,null,null,null,null,null,null,null,null,null,null,null,null,null,null,null,null,null,null,null,null,null,null,null,null,null,null,null,null,null,null,null,null,null,0,0,0,{"$error":"#DIV/0!"}]
[9,null,null,null,null,null,null,null,null,null,null,null,null,null,null,null,null,null,null,null,null,null,null,null,null,null,null,null,null,null,null,null,null,null,null,null,0,0,0,{"$error":"#DIV/0!"}]
[10,null,null,null,null,null,null,null,null,null,null,null,null,null,null,null,null,null,null,null,null,null,null,null,null,null,null,null,null,null,null,null,null,null,null,null,{"$f":"+C51+E51+G51+I51++K51++M51+O51+Q51+S51+U51+W51+Y51+AG51+AA51+AC51+AE51","v":0},0,{"$f":"COUNT(C51:AH51)/2","v":0},{"$f":"+AK51/AM51","v":{"$error":"#DIV/0!"}}]
[11,null,null,null,null,null,null,null,null,null,null,null,null,null,null,null,null,null,null,null,null,null,null,null,null,null,null,null,null,null,null,null,null,null,null,null,0,0,0,{"$error":"#DIV/0!"}]
[12,null,null,null,null,null,null,null,null,null,null,null,null,null,null,null,null,null,null,null,null,null,null,null,null,null,null,null,null,null,null,null,null,null,null,null,0,0,0,{"$error":"#DIV/0!"}]
[13,null,null,null,null,null,null,null,null,null,null,null,null,null,null,null,null,null,null,null,null,null,null,null,null,null,null,null,null,null,null,null,null,null,null,null,0,0,0,{"$error":"#DIV/0!"}]
[14,null,null,null,null,null,null,null,null,null,null,null,null,null,null,null,null,null,null,null,null,null,null,null,null,null,null,null,null,null,null,null,null,null,null,null,0,0,0,{"$error":"#DIV/0!"}]
[15,null,null,null,null,null,null,null,null,null,null,null,null,null,null,null,null,null,null,null,null,null,null,null,null,null,null,null,null,null,null,null,null,null,null,null,{"$f":"+C56+E56+G56+I56++K56++M56+O56+Q56+S56+U56+W56+Y56+AG56+AA56+AC56+AE56","v":0},0,0,{"$error":"#DIV/0!"}]
[16,null,null,null,null,null,null,null,null,null,null,null,null,null,null,null,null,null,null,null,null,null,null,null,null,null,null,null,null,null,null,null,null,null,null,null,0,0,0,{"$error":"#DIV/0!"}]
[17,null,null,null,null,null,null,null,null,null,null,null,null,null,null,null,null,null,null,null,null,null,null,null,null,null,null,null,null,null,null,null,null,null,null,null,0,0,0,{"$error":"#DIV/0!"}]
[18,null,null,null,null,null,null,null,null,null,null,null,null,null,null,null,null,null,null,null,null,null,null,null,null,null,null,null,null,null,null,null,null,null,null,null,0,0,0,{"$error":"#DIV/0!"}]
[19,null,null,null,null,null,null,null,null,null,null,null,null,null,null,null,null,null,null,null,null,null,null,null,null,null,null,null,null,null,null,null,null,null,null,null,0,0,0,{"$error":"#DIV/0!"}]
[20,null,null,null,null,null,null,null,null,null,null,null,null,null,null,null,null,null,null,null,null,null,null,null,null,null,null,null,null,null,null,null,null,null,null,null,{"$f":"+C61+E61+G61+I61++K61++M61+O61+Q61+S61+U61+W61+Y61+AG61+AA61+AC61+AE61","v":0},0,{"$f":"COUNT(C61:AH61)/2","v":0},{"$f":"+AK61/AM61","v":{"$error":"#DIV/0!"}}]
[21,null,null,null,null,null,null,null,null,null,null,null,null,null,null,null,null,null,null,null,null,null,null,null,null,null,null,null,null,null,null,null,null,null,null,null,0,0,{"$f":"COUNT(C62:AH62)/2","v":0},{"$f":"+AK62/AM62","v":{"$error":"#DIV/0!"}}]
[{"$f":"+A62+1","v":22},null,null,null,null,null,null,null,null,null,null,null,null,null,null,null,null,null,null,null,null,null,null,null,null,null,null,null,null,null,null,null,null,null,null,null,0,0,{"$f":"COUNT(C63:AH63)/2","v":0},{"$f":"+AK63/AM63","v":{"$error":"#DIV/0!"}}]
[23]
[24]
[25]
[26]
[27]
[28]
[29]
[30]
[31]
[{"$f":"+A72+1","v":32}]
[33]
[34]
[35]
[36]
[37]
[38]
[{"$f":"+A79+1","v":39}]
[40]
[41]
[42]
[43]
[44]
[45]
[46]
[47]
[48]
[49]
[50]
[51]
[52]
[53]
[{"$f":"+A94+1","v":54}]
[55]
[56]
[57]
[58]
[59]
[60]
[61]
[62]
[63]
[64]
[65]
[{"$f":"+A106+1","v":66}]
[67]
[68]
[69]
[70]
[71]

{"sheet":"Tarot","index":6,"n_rows":240,"n_cols":67,"rows_kept":240,"cut":false,"hidden":false,"merged":[[42,56,42,58],[42,38,42,40],[42,41,42,43],[42,44,42,46],[42,47,42,49],[42,50,42,52],[42,53,42,55],[42,35,42,37],[42,2,42,4],[42,5,42,7],[42,8,42,10],[42,11,42,13],[42,14,42,16],[42,17,42,19],[42,20,42,22],[42,23,42,25],[42,26,42,28],[42,29,42,31],[42,32,42,34]]}
["TAROT"]
["Mes"]
[{"$f":"+GENERAL!B6","v":12},null,{"$f":"SUM(C5:C10)","v":-100000000}]
[null,null,"Premi","Punts","Partides","General"]
[1,"Nin",{"$f":"+AY$40","v":10},{"$f":"+AY$41","v":15.8},{"$f":"+AZ$40","v":1},{"$f":"+AY$26","v":0},{"$f":"IF(E5<A$3/2,-1,1)*800+C5+D5/1000","v":-789.98419999999999}]
[2,"Jordi",{"$f":"+I$40","v":5},{"$f":"+I$41","v":-43.7},{"$f":"+J$40","v":1},{"$f":"+I$26","v":0},-795.04369999999994]
[3,"Sergi",{"$f":"+R$40","v":0},{"$f":"+R$41","v":-45.2},{"$f":"+S$40","v":1},{"$f":"+R$26","v":0},-800.04520000000002]
[4,"Carles",{"$f":"+U$40","v":-5},{"$f":"+U$41","v":-57.6},{"$f":"+V$40","v":1},{"$f":"+U$26","v":0},-805.05759999999998]
[5,"Mariajo",{"$f":"+X$40","v":-10},{"$f":"+X$41","v":-76.3},{"$f":"+Y$40","v":1},{"$f":"+X$26","v":0},-810.07629999999995]
[6,"Grau",{"$f":"+AV$40","v":-100000000},{"$f":"+AV$41","v":1},{"$f":"+AW$40","v":0},{"$f":"+AV$26","v":0},-100000799.999]
[7,"Manolo",{"$f":"+AM$40","v":-100000000},{"$f":"+AM$41","v":1},{"$f":"+AN$40","v":0},{"$f":"+AM$26","v":0},-100000799.999,null,null,null,null,null,null,null,null,null,null,null,null,null,null,null,null,null,null," "]
[8,"Goretti",{"$f":"+AS$40","v":-100000000},{"$f":"+AS$41","v":1},{"$f":"+AT$40","v":0},{"$f":"+AS$26","v":0},-100000799.999]
[9,"Joan Carles",{"$f":"+O$40","v":-100000000},{"$f":"+O$41","v":1},{"$f":"+P$40","v":0},{"$f":"+O$26","v":0},-100000799.999]
[10,"Marina",{"$f":"+BE$40","v":-100000000},{"$f":"+BE$41","v":1},{"$f":"+BF$40","v":0},{"$f":"+BE$26","v":0},-100000799.999]
[11,"Xavi",{"$f":"+AG$40","v":-100000000},{"$f":"+AG$41","v":1},{"$f":"+AH$40","v":0},{"$f":"+AG$26","v":0},-100000799.999]
[12,"Josep Mª",{"$f":"+L$40","v":-100000000},{"$f":"+L$41","v":1},{"$f":"+M$40","v":0},{"$f":"+L$26","v":0},-100000799.999]
[13,"Tina",{"$f":"+AP$40","v":-100000000},{"$f":"+AP$41","v":1},{"$f":"+AQ$40","v":0},{"$f":"+AP$26","v":0},-100000799.999]
[14,"David",{"$f":"+AD$40","v":-100000000},{"$f":"+AD$41","v":1},{"$f":"+AE$40","v":0},{"$f":"+AD$26","v":0},-100000799.999]
[15,"Otins",{"$f":"+C$40","v":-100000000},{"$f":"+C$41","v":1},{"$f":"+D$40","v":0},{"$f":"+C$26","v":0},-100000799.999]
[16,"Martín",{"$f":"+F$40","v":-100000000},{"$f":"+F$41","v":1},{"$f":"+G$40","v":0},{"$f":"+F$26","v":0},-100000799.999]
[17,"Iglesias",{"$f":"+AA$40","v":-100000000},{"$f":"+AA$41","v":1},{"$f":"+AB$40","v":0},{"$f":"+AA$26","v":0},-100000799.999]
[18,"Salvadó",{"$f":"+AJ$40","v":-100000000},{"$f":"+AJ$41","v":1},{"$f":"+AK$40","v":0},{"$f":"+AJ$26","v":0},-100000799.999]
[19,"Jorge",{"$f":"+BB$40","v":-100000000},{"$f":"+BB$41","v":1},{"$f":"+BC$40","v":0},{"$f":"+BB$26","v":0},-100000799.999]
[]
[]
[null,"General",{"$f":"+C27*C28","v":0},{"$f":"+D27*D28","v":0},null,{"$f":"+F27*F28","v":0},{"$f":"+G27*G28","v":0},null,{"$f":"+I27*I28","v":0},{"$f":"+J27*J28","v":0},null,{"$f":"+L27*L28","v":0},{"$f":"+M27*M28","v":0},null,{"$f":"+O27*O28","v":0},{"$f":"+P27*P28","v":0},null,{"$f":"+R27*R28","v":0},{"$f":"+S27*S28","v":0},null,{"$f":"+U27*U28","v":0},{"$f":"+V27*V28","v":0},null,{"$f":"+X27*X28","v":0},{"$f":"+Y27*Y28","v":0},null,{"$f":"+AA27*AA28","v":0},{"$f":"+AB27*AB28","v":0},null,{"$f":"+AD27*AD28","v":0},{"$f":"+AE27*AE28","v":0},null,{"$f":"+AG27*AG28","v":0},{"$f":"+AH27*AH28","v":0},null,{"$f":"+AJ27*AJ28","v":0},{"$f":"+AK27*AK28","v":0},null,{"$f":"+AM27*AM28","v":0},{"$f":"+AN27*AN28","v":0},null,{"$f":"+AP27*AP28","v":0},{"$f":"+AQ27*AQ28","v":0},null,{"$f":"+AS27*AS28","v":0},{"$f":"+AT27*AT28","v":0},null,{"$f":"+AV27*AV28","v":0},{"$f":"+AW27*AW28","v":0},null,{"$f":"+AY27*AY28","v":0},{"$f":"+AZ27*AZ28","v":0},null,{"$f":"+BB27*BB28","v":0},{"$f":"+BC27*BC28","v":0},null,{"$f":"+BE27*BE28","v":0},{"$f":"+BF27*BF28","v":0}]
[null,null,{"$f":"IF($B39>3,1,0)","v":0},{"$f":"IF($B39>3,1,0)","v":0},null,{"$f":"IF($B39>3,1,0)","v":0},{"$f":"IF($B39>3,1,0)","v":0},null,{"$f":"IF($B39>3,1,0)","v":0},{"$f":"IF($B39>3,1,0)","v":0},null,{"$f":"IF($B39>3,1,0)","v":0},{"$f":"IF($B39>3,1,0)","v":0},null,{"$f":"IF($B39>3,1,0)","v":0},{"$f":"IF($B39>3,1,0)","v":0},null,{"$f":"IF($B39>3,1,0)","v":0},{"$f":"IF($B39>3,1,0)","v":0},null,{"$f":"IF($B39>3,1,0)","v":0},{"$f":"IF($B39>3,1,0)","v":0},null,{"$f":"IF($B39>3,1,0)","v":0},{"$f":"IF($B39>3,1,0)","v":0},null,{"$f":"IF($B39>3,1,0)","v":0},{"$f":"IF($B39>3,1,0)","v":0},null,{"$f":"IF($B39>3,1,0)","v":0},{"$f":"IF($B39>3,1,0)","v":0},null,{"$f":"IF($B39>3,1,0)","v":0},{"$f":"IF($B39>3,1,0)","v":0},null,{"$f":"IF($B39>3,1,0)","v":0},{"$f":"IF($B39>3,1,0)","v":0},null,{"$f":"IF($B39>3,1,0)","v":0},{"$f":"IF($B39>3,1,0)","v":0},null,{"$f":"IF($B39>3,1,0)","v":0},{"$f":"IF($B39>3,1,0)","v":0},null,{"$f":"IF($B39>3,1,0)","v":0},{"$f":"IF($B39>3,1,0)","v":0},null,{"$f":"IF($B39>3,1,0)","v":0},{"$f":"IF($B39>3,1,0)","v":0},null,{"$f":"IF($B39>3,1,0)","v":0},{"$f":"IF($B39>3,1,0)","v":0},null,{"$f":"IF($B39>3,1,0)","v":0},{"$f":"IF($B39>3,1,0)","v":0},null,{"$f":"IF($B39>3,1,0)","v":0},{"$f":"IF($B39>3,1,0)","v":0}]
[null,null,{"$f":"MAX(C29:C33)","v":0},{"$f":"+D40","v":0},null,{"$f":"MAX(F29:F33)","v":0},{"$f":"+G40","v":0},null,{"$f":"MAX(I29:I33)","v":0},{"$f":"+J40","v":1},null,{"$f":"MAX(L29:L33)","v":0},{"$f":"+M40","v":0},null,{"$f":"MAX(O29:O33)","v":0},{"$f":"+P40","v":0},null,{"$f":"MAX(R29:R33)","v":0},{"$f":"+S40","v":1},null,{"$f":"MAX(U29:U33)","v":0},{"$f":"+V40","v":1},null,{"$f":"MAX(X29:X33)","v":0},{"$f":"+Y40","v":1},null,{"$f":"MAX(AA29:AA33)","v":0},{"$f":"+AB40","v":0},null,{"$f":"MAX(AD29:AD33)","v":0},{"$f":"+AE40","v":0},null,{"$f":"MAX(AG29:AG33)","v":0},{"$f":"+AH40","v":0},null,{"$f":"MAX(AJ29:AJ33)","v":0},{"$f":"+AK40","v":0},null,{"$f":"MAX(AM29:AM33)","v":0},{"$f":"+AN40","v":0},null,{"$f":"MAX(AP29:AP33)","v":0},{"$f":"+AQ40","v":0},null,{"$f":"MAX(AS29:AS33)","v":0},{"$f":"+AT40","v":0},null,{"$f":"MAX(AV29:AV33)","v":0},{"$f":"+AW40","v":0},null,{"$f":"MAX(AY29:AY33)","v":0},{"$f":"+AZ40","v":1},null,{"$f":"MAX(BB29:BB33)","v":0},{"$f":"+BC40","v":0},null,{"$f":"MAX(BE29:BE33)","v":0},{"$f":"+BF40","v":0}]
[null,null,{"$f":"IF(C$34=5,5,0)","v":0},null,null,{"$f":"IF(F$34=5,5,0)","v":0},null,null,{"$f":"IF(I$34=5,5,0)","v":0},null,null,{"$f":"IF(L$34=5,5,0)","v":0},null,null,{"$f":"IF(O$34=5,5,0)","v":0},null,null,{"$f":"IF(R$34=5,5,0)","v":0},null,null,{"$f":"IF(U$34=5,5,0)","v":0},null,null,{"$f":"IF(X$34=5,5,0)","v":0},null,null,{"$f":"IF(AA$34=5,5,0)","v":0},null,null,{"$f":"IF(AD$34=5,5,0)","v":0},null,null,{"$f":"IF(AG$34=5,5,0)","v":0},null,null,{"$f":"IF(AJ$34=5,5,0)","v":0},null,null,{"$f":"IF(AM$34=5,5,0)","v":0},null,null,{"$f":"IF(AP$34=5,5,0)","v":0},null,null,{"$f":"IF(AS$34=5,5,0)","v":0},null,null,{"$f":"IF(AV$34=5,5,0)","v":0},null,null,{"$f":"IF(AY$34=5,5,0)","v":0},null,null,{"$f":"IF(BB$34=5,5,0)","v":0},null,null,{"$f":"IF(BE$34=5,5,0)","v":0}]
[null,null,{"$f":"IF(C$34=4,10,0)","v":0},null,null,{"$f":"IF(F$34=4,10,0)","v":0},null,null,{"$f":"IF(I$34=4,10,0)","v":0},null,null,{"$f":"IF(L$34=4,10,0)","v":0},null,null,{"$f":"IF(O$34=4,10,0)","v":0},null,null,{"$f":"IF(R$34=4,10,0)","v":0},null,null,{"$f":"IF(U$34=4,10,0)","v":0},null,null,{"$f":"IF(X$34=4,10,0)","v":0},null,null,{"$f":"IF(AA$34=4,10,0)","v":0},null,null,{"$f":"IF(AD$34=4,10,0)","v":0},null,null,{"$f":"IF(AG$34=4,10,0)","v":0},null,null,{"$f":"IF(AJ$34=4,10,0)","v":0},null,null,{"$f":"IF(AM$34=4,10,0)","v":0},null,null,{"$f":"IF(AP$34=4,10,0)","v":0},null,null,{"$f":"IF(AS$34=4,10,0)","v":0},null,null,{"$f":"IF(AV$34=4,10,0)","v":0},null,null,{"$f":"IF(AY$34=4,10,0)","v":0},null,null,{"$f":"IF(BB$34=4,10,0)","v":0},null,null,{"$f":"IF(BE$34=4,10,0)","v":0}]
[null,null,{"$f":"IF(C$34=3,20,0)","v":0},null,null,{"$f":"IF(F$34=3,20,0)","v":0},null,null,{"$f":"IF(I$34=3,20,0)","v":0},null,null,{"$f":"IF(L$34=3,20,0)","v":0},null,null,{"$f":"IF(O$34=3,20,0)","v":0},null,null,{"$f":"IF(R$34=3,20,0)","v":0},null,null,{"$f":"IF(U$34=3,20,0)","v":0},null,null,{"$f":"IF(X$34=3,20,0)","v":0},null,null,{"$f":"IF(AA$34=3,20,0)","v":0},null,null,{"$f":"IF(AD$34=3,20,0)","v":0},null,null,{"$f":"IF(AG$34=3,20,0)","v":0},null,null,{"$f":"IF(AJ$34=3,20,0)","v":0},null,null,{"$f":"IF(AM$34=3,20,0)","v":0},null,null,{"$f":"IF(AP$34=3,20,0)","v":0},null,null,{"$f":"IF(AS$34=3,20,0)","v":0},null,null,{"$f":"IF(AV$34=3,20,0)","v":0},null,null,{"$f":"IF(AY$34=3,20,0)","v":0},null,null,{"$f":"IF(BB$34=3,20,0)","v":0},null,null,{"$f":"IF(BE$34=3,20,0)","v":0}]
[null,null,{"$f":"IF(C$34=2,40,0)","v":0},null,null,{"$f":"IF(F$34=2,40,0)","v":0},null,null,{"$f":"IF(I$34=2,40,0)","v":0},null,null,{"$f":"IF(L$34=2,40,0)","v":0},null,null,{"$f":"IF(O$34=2,40,0)","v":0},null,null,{"$f":"IF(R$34=2,40,0)","v":0},null,null,{"$f":"IF(U$34=2,40,0)","v":0},null,null,{"$f":"IF(X$34=2,40,0)","v":0},null,null,{"$f":"IF(AA$34=2,40,0)","v":0},null,null,{"$f":"IF(AD$34=2,40,0)","v":0},null,null,{"$f":"IF(AG$34=2,40,0)","v":0},null,null,{"$f":"IF(AJ$34=2,40,0)","v":0},null,null,{"$f":"IF(AM$34=2,40,0)","v":0},null,null,{"$f":"IF(AP$34=2,40,0)","v":0},null,null,{"$f":"IF(AS$34=2,40,0)","v":0},null,null,{"$f":"IF(AV$34=2,40,0)","v":0},null,null,{"$f":"IF(AY$34=2,40,0)","v":0},null,null,{"$f":"IF(BB$34=2,40,0)","v":0},null,null,{"$f":"IF(BE$34=2,40,0)","v":0}]
[null,null,{"$f":"IF(C$34=1,80,0)","v":0},null,null,{"$f":"IF(F$34=1,80,0)","v":0},null,null,{"$f":"IF(I$34=1,80,0)","v":0},null,null,{"$f":"IF(L$34=1,80,0)","v":0},null,null,{"$f":"IF(O$34=1,80,0)","v":0},null,null,{"$f":"IF(R$34=1,80,0)","v":0},null,null,{"$f":"IF(U$34=1,80,0)","v":0},null,null,{"$f":"IF(X$34=1,80,0)","v":0},null,null,{"$f":"IF(AA$34=1,80,0)","v":0},null,null,{"$f":"IF(AD$34=1,80,0)","v":0},null,null,{"$f":"IF(AG$34=1,80,0)","v":0},null,null,{"$f":"IF(AJ$34=1,80,0)","v":0},null,null,{"$f":"IF(AM$34=1,80,0)","v":0},null,null,{"$f":"IF(AP$34=1,80,0)","v":0},null,null,{"$f":"IF(AS$34=1,80,0)","v":0},null,null,{"$f":"IF(AV$34=1,80,0)","v":0},null,null,{"$f":"IF(AY$34=1,80,0)","v":0},null,null,{"$f":"IF(BB$34=1,80,0)","v":0},null,null,{"$f":"IF(BE$34=1,80,0)","v":0}]
[null,null,{"$f":"RANK(C35,$C35:$BF35)*C39","v":0},null,null,{"$f":"RANK(F35,$C35:$BF35)*F39","v":0},null,null,{"$f":"RANK(I35,$C35:$BF35)*I39","v":0},null,null,{"$f":"RANK(L35,$C35:$BF35)*L39","v":0},null,null,{"$f":"RANK(O35,$C35:$BF35)*O39","v":0},null,null,{"$f":"RANK(R35,$C35:$BF35)*R39","v":0},null,null,{"$f":"RANK(U35,$C35:$BF35)*U39","v":0},null,null,{"$f":"RANK(X35,$C35:$BF35)*X39","v":0},null,null,{"$f":"RANK(AA35,$C35:$BF35)*AA39","v":0},null,null,{"$f":"RANK(AD35,$C35:$BF35)*AD39","v":0},null,null,{"$f":"RANK(AG35,$C35:$BF35)*AG39","v":0},null,null,{"$f":"RANK(AJ35,$C35:$BF35)*AJ39","v":0},null,null,{"$f":"RANK(AM35,$C35:$BF35)*AM39","v":0},null,null,{"$f":"RANK(AP35,$C35:$BF35)*AP39","v":0},null,null,{"$f":"RANK(AS35,$C35:$BF35)*AS39","v":0},null,null,{"$f":"RANK(AV35,$C35:$BF35)*AV39","v":0},null,null,{"$f":"RANK(AY35,$C35:$BF35)*AY39","v":0},null,null,{"$f":"RANK(BB35,$C35:$BF35)*BB39","v":0},null,null,{"$f":"RANK(BE35,$C35:$BF35)*BE39","v":0}]
[null,null,{"$f":"SUM(C36:C38)","v":-999999900},null,null,{"$f":"SUM(F36:F38)","v":-999999900},null,null,{"$f":"SUM(I36:I38)","v":-1000004369},null,null,{"$f":"SUM(L36:L38)","v":-999999900},null,null,{"$f":"SUM(O36:O38)","v":-999999900},null,null,{"$f":"SUM(R36:R38)","v":-1000004519},null,null,{"$f":"SUM(U36:U38)","v":-1000005759},null,null,{"$f":"SUM(X36:X38)","v":-1000007629},null,null,{"$f":"SUM(AA36:AA38)","v":-999999900},null,null,{"$f":"SUM(AD36:AD38)","v":-999999900},null,null,{"$f":"SUM(AG36:AG38)","v":-999999900},null,null,{"$f":"SUM(AJ36:AJ38)","v":-999999998},null,null,{"$f":"SUM(AM36:AM38)","v":-999999900},null,null,{"$f":"SUM(AP36:AP38)","v":-999999998},null,null,{"$f":"SUM(AS36:AS38)","v":-999999900},null,null,{"$f":"SUM(AV36:AV38)","v":-999999900},null,null,{"$f":"SUM(AY36:AY38)","v":-999998419},null,null,{"$f":"SUM(BB36:BB38)","v":-9999900},null,null,{"$f":"SUM(BE36:BE38)","v":-9999900}]
[null,null,{"$f":"+D40","v":0},null,null,{"$f":"+G40","v":0},null,null,{"$f":"+J40","v":1},null,null,{"$f":"+M40","v":0},null,null,{"$f":"+P40","v":0},null,null,{"$f":"+S40","v":1},null,null,{"$f":"+V40","v":1},null,null,{"$f":"+Y40","v":1},null,null,{"$f":"+AB40","v":0},null,null,{"$f":"+AE40","v":0},null,null,{"$f":"+AH40","v":0},null,null,{"$f":"+AK40","v":0},null,null,{"$f":"+AN40","v":0},null,null,{"$f":"+AQ40","v":0},null,null,{"$f":"+AT40","v":0},null,null,{"$f":"+AW40","v":0},null,null,{"$f":"+AZ40","v":1},null,null,{"$f":"+BC40","v":0},null,null,{"$f":"+BF40","v":0}]
[null,null,{"$f":"+C41*100","v":100},null,null,{"$f":"+F41*100","v":100},null,null,{"$f":"+I41*100","v":-4370},null,null,{"$f":"+L41*100","v":100},null,null,{"$f":"+O41*100","v":100},null,null,{"$f":"+R41*100","v":-4520},null,null,{"$f":"+U41*100","v":-5760},null,null,{"$f":"+X41*100","v":-7630},null,null,{"$f":"+AA41*100","v":100},null,null,{"$f":"+AD41*100","v":100},null,null,{"$f":"+AG41*100","v":100},null,null,{"$f":"+AJ41*2","v":2},null,null,{"$f":"+AM41*100","v":100},null,null,{"$f":"+AP41*2","v":2},null,null,{"$f":"+AS41*100","v":100},null,null,{"$f":"+AV41*100","v":100},null,null,{"$f":"+AY41*100","v":1580},null,null,{"$f":"+BB41*100","v":100},null,null,{"$f":"+BE41*100","v":100}]
[null,null,{"$f":"IF(D40-$A3/2<0,-1000000000,C40*C39*100000+C40)","v":-1000000000},null,null,{"$f":"IF(G40-$A3/2<0,-1000000000,F40*F39*100000+F40)","v":-1000000000},null,null,{"$f":"IF(J40-$A3/2<0,-1000000000,I40*I39*100000+I40)","v":-1000000000},null,null,{"$f":"IF(M40-$A3/2<0,-1000000000,L40*L39*100000+L40)","v":-1000000000},null,null,{"$f":"IF(P40-$A3/2<0,-1000000000,O40*O39*100000+O40)","v":-1000000000},null,null,{"$f":"IF(S40-$A3/2<0,-1000000000,R40*R39*100000+R40)","v":-1000000000},null,null,{"$f":"IF(V40-$A3/2<0,-1000000000,U40*U39*100000+U40)","v":-1000000000},null,null,{"$f":"IF(Y40-$A3/2<0,-1000000000,X40*X39*100000+X40)","v":-1000000000},null,null,{"$f":"IF(AB40-$A3/2<0,-1000000000,AA40*AA39*100000+AA40)","v":-1000000000},null,null,{"$f":"IF(AE40-$A3/2<0,-1000000000,AD40*AD39*100000+AD40)","v":-1000000000},null,null,{"$f":"IF(AH40-$A3/2<0,-1000000000,AG40*AG39*100000+AG40)","v":-1000000000},null,null,{"$f":"IF(AK40-$A3/2<0,-1000000000,AJ40*AJ39*100000+AJ40)","v":-1000000000},null,null,{"$f":"IF(AN40-$A3/2<0,-1000000000,AM40*AM39*100000+AM40)","v":-1000000000},null,null,{"$f":"IF(AQ40-$A3/2<0,-1000000000,AP40*AP39*100000+AP40)","v":-1000000000},null,null,{"$f":"IF(AT40-$A3/2<0,-1000000000,AS40*AS39*100000+AS40)","v":-1000000000},null,null,{"$f":"IF(AW40-$A3/2<0,-1000000000,AV40*AV39*100000+AV40)","v":-1000000000},null,null,{"$f":"IF(AZ40-$A3/2<0,-1000000000,AY40*AY39*100000+AY40)","v":-1000000000},null,null,{"$f":"IF(BC40-$A3/2<0,-10000000,BB40*BB39*100000+BB40)","v":-10000000},null,null,{"$f":"IF(BF40-$A3/2<0,-10000000,BE40*BE39*100000+BE40)","v":-10000000}]
["Classificats",{"$f":"SUM(C39:BE39)","v":0},{"$f":"IF(D40>=$A3/2,1,0)","v":0},null,null,{"$f":"IF(G40>=$A3/2,1,0)","v":0},null,null,{"$f":"IF(J40>=$A3/2,1,0)","v":0},null,null,{"$f":"IF(M40>=$A3/2,1,0)","v":0},null,null,{"$f":"IF(P40>=$A3/2,1,0)","v":0},null,null,{"$f":"IF(S40>=$A3/2,1,0)","v":0},null,null,{"$f":"IF(V40>=$A3/2,1,0)","v":0},null,null,{"$f":"IF(Y40>=$A3/2,1,0)","v":0},null,null,{"$f":"IF(AB40>=$A3/2,1,0)","v":0},null,null,{"$f":"IF(AE40>=$A3/2,1,0)","v":0},null,null,{"$f":"IF(AH40>=$A3/2,1,0)","v":0},null,null,{"$f":"IF(AK40>=$A3/2,1,0)","v":0},null,null,{"$f":"IF(AN40>=$A3/2,1,0)","v":0},null,null,{"$f":"IF(AQ40>=$A3/2,1,0)","v":0},null,null,{"$f":"IF(AT40>=$A3/2,1,0)","v":0},null,null,{"$f":"IF(AW40>=$A3/2,1,0)","v":0},null,null,{"$f":"IF(AZ40>=$A3/2,1,0)","v":0},null,null,{"$f":"IF(BC40>=$A3/2,1,0)","v":0},null,null,{"$f":"IF(BF40>=$A3/2,1,0)","v":0}]
[null,null,{"$f":"IF(SUM(C45:C240)<-1000,-100000000,SUM(C45:C240))","v":-100000000},{"$f":"COUNT(D45:D240)","v":0},null,{"$f":"IF(SUM(F45:F240)<-1000,-100000000,SUM(F45:F240))","v":-100000000},{"$f":"COUNT(G45:G240)","v":0},null,{"$f":"IF(SUM(I45:I240)<-1000,-100000000,SUM(I45:I240))","v":5},{"$f":"COUNT(J45:J240)","v":1},null,{"$f":"IF(SUM(L45:L240)<-1000,-100000000,SUM(L45:L240))","v":-100000000},{"$f":"COUNT(M45:M240)","v":0},null,{"$f":"IF(SUM(O45:O240)<-1000,-100000000,SUM(O45:O240))","v":-100000000},{"$f":"COUNT(P45:P240)","v":0},null,{"$f":"IF(SUM(R45:R240)<-1000,-100000000,SUM(R45:R240))","v":0},{"$f":"COUNT(S45:S240)","v":1},null,{"$f":"IF(SUM(U45:U240)<-1000,-100000000,SUM(U45:U240))","v":-5},{"$f":"COUNT(V45:V240)","v":1},null,{"$f":"IF(SUM(X45:X240)<-1000,-100000000,SUM(X45:X240))","v":-10},{"$f":"COUNT(Y45:Y240)","v":1},null,{"$f":"IF(SUM(AA45:AA240)<-1000,-100000000,SUM(AA45:AA240))","v":-100000000},{"$f":"COUNT(AB45:AB240)","v":0},null,{"$f":"IF(SUM(AD45:AD240)<-1000,-100000000,SUM(AD45:AD240))","v":-100000000},{"$f":"COUNT(AE45:AE240)","v":0},null,{"$f":"IF(SUM(AG45:AG240)<-1000,-100000000,SUM(AG45:AG240))","v":-100000000},{"$f":"COUNT(AH45:AH240)","v":0},null,{"$f":"IF(SUM(AJ45:AJ240)<-1000,-100000000,SUM(AJ45:AJ240))","v":-100000000},{"$f":"COUNT(AK45:AK240)","v":0},null,{"$f":"IF(SUM(AM45:AM240)<-1000,-100000000,SUM(AM45:AM240))","v":-100000000},{"$f":"COUNT(AN45:AN240)","v":0},null,{"$f":"IF(SUM(AP45:AP240)<-1000,-100000000,SUM(AP45:AP240))","v":-100000000},{"$f":"COUNT(AQ45:AQ240)","v":0},null,{"$f":"IF(SUM(AS45:AS240)<-1000,-100000000,SUM(AS45:AS240))","v":-100000000},{"$f":"COUNT(AT45:AT240)","v":0},null,{"$f":"IF(SUM(AV45:AV240)<-1000,-100000000,SUM(AV45:AV240))","v":-100000000},{"$f":"COUNT(AW45:AW240)","v":0},null,{"$f":"IF(SUM(AY45:AY240)<-1000,-100000000,SUM(AY45:AY240))","v":10},{"$f":"COUNT(AZ45:AZ240)","v":1},null,{"$f":"IF(SUM(BB45:BB240)<-1000,-100000000,SUM(BB45:BB240))","v":-100000000},{"$f":"COUNT(BC45:BC240)","v":0},null,{"$f":"IF(SUM(BE45:BE240)<-1000,-100000000,SUM(BE45:BE240))","v":-100000000},{"$f":"COUNT(BF45:BF240)","v":0},null,null,"A"]
[null,null,{"$f":"+D41-E41","v":1},{"$f":"SUM(D45:D240)","v":0},{"$f":"SUM(E45:E240)","v":-1},{"$f":"+G41-H41","v":1},{"$f":"SUM(G45:G240)","v":0},{"$f":"SUM(H45:H240)","v":-1},{"$f":"+J41-K41","v":-43.7},{"$f":"SUM(J45:J240)","v":-38.700000000000003},{"$f":"SUM(K45:K240)","v":5},{"$f":"+M41-N41","v":1},{"$f":"SUM(M45:M240)","v":0},{"$f":"SUM(N45:N240)","v":-1},{"$f":"+P41-Q41","v":1},{"$f":"SUM(P45:P240)","v":0},{"$f":"SUM(Q45:Q240)","v":-1},{"$f":"+S41-T41","v":-45.2},{"$f":"SUM(S45:S240)","v":-40.200000000000003},{"$f":"SUM(T45:T240)","v":5},{"$f":"+V41-W41","v":-57.6},{"$f":"SUM(V45:V240)","v":-52.6},{"$f":"SUM(W45:W240)","v":5},{"$f":"+Y41-Z41","v":-76.3},{"$f":"SUM(Y45:Y240)","v":-71.3},{"$f":"SUM(Z45:Z240)","v":5},{"$f":"+AB41-AC41","v":1},{"$f":"SUM(AB45:AB240)","v":0},{"$f":"SUM(AC45:AC240)","v":-1},{"$f":"+AE41-AF41","v":1},{"$f":"SUM(AE45:AE240)","v":0},{"$f":"SUM(AF45:AF240)","v":-1},{"$f":"+AH41-AI41","v":1},{"$f":"SUM(AH45:AH240)","v":0},{"$f":"SUM(AI45:AI240)","v":-1},{"$f":"+AK41-AL41","v":1},{"$f":"SUM(AK45:AK240)","v":0},{"$f":"SUM(AL45:AL240)","v":-1},{"$f":"+AN41-AO41","v":1},{"$f":"SUM(AN45:AN240)","v":0},{"$f":"SUM(AO45:AO240)","v":-1},{"$f":"+AQ41-AR41","v":1},{"$f":"SUM(AQ45:AQ240)","v":0},{"$f":"SUM(AR45:AR240)","v":-1},{"$f":"+AT41-AU41","v":1},{"$f":"SUM(AT45:AT240)","v":0},{"$f":"SUM(AU45:AU240)","v":-1},{"$f":"+AW41-AX41","v":1},{"$f":"SUM(AW45:AW240)","v":0},{"$f":"SUM(AX45:AX240)","v":-1},{"$f":"+AZ41-BA41","v":15.8},{"$f":"SUM(AZ45:AZ240)","v":20.8},{"$f":"SUM(BA45:BA240)","v":5},{"$f":"+BC41-BD41","v":1},{"$f":"SUM(BC45:BC240)","v":0},{"$f":"SUM(BD45:BD240)","v":-1},{"$f":"+BF41-BG41","v":1},{"$f":"SUM(BF45:BF240)","v":0},{"$f":"SUM(BG45:BG240)","v":-1},null,"B"]
[null,null,null,null,null,null,null,null,{"$f":"COUNTIF(I45:I64,10)","v":0},null,null,null,null,null,null,null,null,{"$f":"COUNTIF(R45:R64,10)","v":0},null,null,{"$f":"COUNTIF(U45:U64,10)","v":0},null,null,{"$f":"COUNTIF(X45:X64,10)","v":0},null,null,null,null,null,null,null,null,null,null,null,null,null,null,{"$f":"COUNTIF(AM45:AM64,10)","v":0},null,null,null,null,null,{"$f":"COUNTIF(AS45:AS64,10)","v":0},null,null,{"$f":"COUNTIF(AV45:AV64,10)","v":0},null,null,{"$f":"COUNTIF(AY45:AY64,10)","v":1},null,null,null,null,null,null,null,null,{"$f":"MAX(BI45:BI104)","v":363}]
[null,"Nº partida ","Otins",null,null,"Martin",null,null,"Jordi",null,null,"Josep Mª",null,null,"Joan Carles",null,null,"Sergi",null,null,"Carles",null,null,"Mariajo",null,null,"Iglesias",null,null,"David",null,null,"Xavi",null,null,"Salvadó",null,null,"Manolo",null,null,"Tina",null,null,"Goretti",null,null,"Grau",null,null,"Nin",null,null,"Jorge",null,null,"Marina",null,null,{"$f":"COUNT(BH45:BH255)","v":1},"A","B","C"]
[null,"5 copes","Premi","Punts",null,"Premi","Punts",null,"Premi","Punts",null,"Premi","Punts",null,"Premi","Punts",null,"Premi","Punts",null,"Premi","Punts",null,"Premi","Punts",null,"Premi","Punts",null,"Premi","Punts",null,"Premi","Punts",null,"Premi","Punts",null,"Premi","Punts",null,"Premi","Punts",null,"Premi","Punts",null,"Premi","Punts",null,"Premi","Punts",null,"Premi","Punts",null,"Premi","Punts",null,"Data","Timba"]
[1,null,-10000,null,-1,-10000,null,-1,5,-38.700000000000003,5,-10000,null,-1,-10000,null,-1,0,-40.200000000000003,5,-5,-52.6,5,-10,-71.3,5,-10000,null,-1,-10000,null,-1,-10000,null,-1,-10000,null,-1,-10000,null,-1,-10000,null,-1,-10000,null,-1,-10000,null,-1,10,20.8,5,-10000,null,-1,-10000,null,-1,"2021-09-18",363,{"$f":"+BE45+AJ45+AG45+AD45+AA45+X45+U45+R45+O45+L45+I45+F45+C45+AM45+AP45+AS45+AV45+AY45+BB45","v":-140000},-182,11,{"$f":"+BK45-BL45","v":-193},{"$f":"COUNT(C45:BG45)/3","v":14.333333333333334},{"$f":"+BJ45/BN45","v":-9767.4418604651164}]
[{"$f":"+A45+1","v":2},null,null,null,null,null,null,null,null,null,null,null,null,null,null,null,null,null,null,null,null,null,null,null,null,null,null,null,null,null,null,null,null,null,null,null,null,null,null,null,null,null,null,null,null,null,null,null,null,null,null,null,null,null,null,null,null,null,null,null,null,0,0,0,0,0,{"$error":"#DIV/0!"}]
[{"$f":"+A46+1","v":3},null,null,null,null,null,null,null,null,null,null,null,null,null,null,null,null,null,null,null,null,null,null,null,null,null,null,null,null,null,null,null,null,null,null,null,null,null,null,null,null,null,null,null,null,null,null,null,null,null,null,null,null,null,null,null,null,null,null,null,null,0,0,0,0,0,{"$error":"#DIV/0!"}]
[4,null,null,null,null,null,null,null,null,null,null,null,null,null,null,null,null,null,null,null,null,null,null,null,null,null,null,null,null,null,null,null,null,null,null,null,null,null,null,null,null,null,null,null,null,null,null,null,null,null,null,null,null,null,null,null,null,null,null,null,null,0,0,0,0,0,{"$error":"#DIV/0!"}]
[5,null,null,null,null,null,null,null,null,null,null,null,null,null,null,null,null,null,null,null,null,null,null,null,null,null,null,null,null,null,null,null,null,null,null,null,null,null,null,null,null,null,null,null,null,null,null,null,null,null,null,null,null,null,null,null,null,null,null,null,null,0,0,0,0,0,{"$error":"#DIV/0!"}]
[6,null,null,null,null,null,null,null,null,null,null,null,null,null,null,null,null,null,null,null,null,null,null,null,null,null,null,null,null,null,null,null,null,null,null,null,null,null,null,null,null,null,null,null,null,null,null,null,null,null,null,null,null,null,null,null,null,null,null,null,null,0,0,0,0,0,{"$error":"#DIV/0!"}]
[7,null,null,null,null,null,null,null,null,null,null,null,null,null,null,null,null,null,null,null,null,null,null,null,null,null,null,null,null,null,null,null,null,null,null,null,null,null,null,null,null,null,null,null,null,null,null,null,null,null,null,null,null,null,null,null,null,null,null,null,null,0,0,0,0,0,{"$error":"#DIV/0!"}]
[8,null,null,null,null,null,null,null,null,null,null,null,null,null,null,null,null,null,null,null,null,null,null,null,null,null,null,null,null,null,null,null,null,null,null,null,null,null,null,null,null,null,null,null,null,null,null,null,null,null,null,null,null,null,null,null,null,null,null,null,null,0,0,0,0,0,{"$error":"#DIV/0!"}]
[9,null,null,null,null,null,null,null,null,null,null,null,null,null,null,null,null,null,null,null,null,null,null,null,null,null,null,null,null,null,null,null,null,null,null,null,null,null,null,null,null,null,null,null,null,null,null,null,null,null,null,null,null,null,null,null,null,null,null,null,null,0,0,0,0,0,{"$error":"#DIV/0!"}]
[10,null,null,null,null,null,null,null,null,null,null,null,null,null,null,null,null,null,null,null,null,null,null,null,null,null,null,null,null,null,null,null,null,null,null,null,null,null,null,null,null,null,null,null,null,null,null,null,null,null,null,null,null,null,null,null,null,null,null,null,null,0,0,0,0,0,{"$error":"#DIV/0!"}]
[11,null,null,null,null,null,null,null,null,null,null,null,null,null,null,null,null,null,null,null,null,null,null,null,null,null,null,null,null,null,null,null,null,null,null,null,null,null,null,null,null,null,null,null,null,null,null,null,null,null,null,null,null,null,null,null,null,null,null,null,null,0,0,0,0,0,{"$error":"#DIV/0!"}]
[12,null,null,null,null,null,null,null,null,null,null,null,null,null,null,null,null,null,null,null,null,null,null,null,null,null,null,null,null,null,null,null,null,null,null,null,null,null,null,null,null,null,null,null,null,null,null,null,null,null,null,null,null,null,null,null,null,null,null,null,null,0,0,0,0,0,{"$error":"#DIV/0!"}]
[13,null,null,null,null,null,null,null,null,null,null,null,null,null,null,null,null,null,null,null,null,null,null,null,null,null,null,null,null,null,null,null,null,null,null,null,null,null,null,null,null,null,null,null,null,null,null,null,null,null,null,null,null,null,null,null,null,null,null,null,null,0,0,0,0,0,{"$error":"#DIV/0!"}]
[14,null,null,null,null,null,null,null,null,null,null,null,null,null,null,null,null,null,null,null,null,null,null,null,null,null,null,null,null,null,null,null,null,null,null,null,null,null,null,null,null,null,null,null,null,null,null,null,null,null,null,null,null,null,null,null,null,null,null,null,null,0,0,0,0,0,{"$error":"#DIV/0!"}]
[15,null,null,null,null,null,null,null,null,null,null,null,null,null,null,null,null,null,null,null,null,null,null,null,null,null,null,null,null,null,null,null,null,null,null,null,null,null,null,null,null,null,null,null,null,null,null,null,null,null,null,null,null,null,null,null,null,null,null,null,null,0,0,0,0,0,{"$error":"#DIV/0!"}]
[16,null,null,null,null,null,null,null,null,null,null,null,null,null,null,null,null,null,null,null,null,null,null,null,null,null,null,null,null,null,null,null,null,null,null,null,null,null,null,null,null,null,null,null,null,null,null,null,null,null,null,null,null,null,null,null,null,null,null,null,null,0,0,0,0,0,{"$error":"#DIV/0!"}]
[17,null,null,null,null,null,null,null,null,null,null,null,null,null,null,null,null,null,null,null,null,null,null,null,null,null,null,null,null,null,null,null,null,null,null,null,null,null,null,null,null,null,null,null,null,null,null,null,null,null,null,null,null,null,null,null,null,null,null,null,null,0,0,0,0,0,{"$error":"#DIV/0!"}]
[18,null,null,null,null,null,null,null,null,null,null,null,null,null,null,null,null,null,null,null,null,null,null,null,null,null,null,null,null,null,null,null,null,null,null,null,null,null,null,null,null,null,null,null,null,null,null,null,null,null,null,null,null,null,null,null,null,null,null,null,null,0,0,0,0,0,{"$error":"#DIV/0!"}]
[19,null,null,null,null,null,null,null,null,null,null,null,null,null,null,null,null,null,null,null,null,null,null,null,null,null,null,null,null,null,null,null,null,null,null,null,null,null,null,null,null,null,null,null,null,null,null,null,null,null,null,null,null,null,null,null,null,null,null,null,null,0,0,0,0,0,{"$error":"#DIV/0!"}]
[20,null,null,null,null,null,null,null,null,null,null,null,null,null,null,null,null,null,null,null,null,null,null,null,null,null,null,null,null,null,null,null,null,null,null,null,null,null,null,null,null,null,null,null,null,null,null,null,null,null,null,null,null,null,null,null,null,null,null,null,null,{"$f":"+BE64+AJ64+AG64+AD64+AA64+X64+U64+R64+O64+L64+I64+F64+C64+AM64+AP64+AS64+AV64+AY64+BB64","v":0},0,0,0,0,{"$error":"#DIV/0!"}]
[21,null,null,null,null,null,null,null,null,null,null,null,null,null,null,null,null,null,null,null,null,null,null,null,null,null,null,null,null,null,null,null,null,null,null,null,null,null,null,null,null,null,null,null,null,null,null,null,null,null,null,null,null,null,null,null,null,null,null,null,null,0,0,0,0,0,{"$error":"#DIV/0!"}]
[22,null,null,null,null,null,null,null,null,null,null,null,null,null,null,null,null,null,null,null,null,null,null,null,null,null,null,null,null,null,null,null,null,null,null,null,null,null,null,null,null,null,null,null,null,null,null,null,null,null,null,null,null,null,null,null,null,null,null,null,null,0,0,0,0,0,{"$error":"#DIV/0!"}]
[23,null,null,null,null,null,null,null,null,null,null,null,null,null,null,null,null,null,null,null,null,null,null,null,null,null,null,null,null,null,null,null,null,null,null,null,null,null,null,null,null,null,null,null,null,null,null,null,null,null,null,null,null,null,null,null,null,null,null,null,null,0,0,0,0,0,{"$error":"#DIV/0!"}]
[24,null,null,null,null,null,null,null,null,null,null,null,null,null,null,null,null,null,null,null,null,null,null,null,null,null,null,null,null,null,null,null,null,null,null,null,null,null,null,null,null,null,null,null,null,null,null,null,null,null,null,null,null,null,null,null,null,null,null,null,null,0,0,0,0,0,{"$error":"#DIV/0!"}]
[25,null,null,null,null,null,null,null,null,null,null,null,null,null,null,null,null,null,null,null,null,null,null,null,null,null,null,null,null,null,null,null,null,null,null,null,null,null,null,null,null,null,null,null,null,null,null,null,null,null,null,null,null,null,null,null,null,null,null,null,null,0,0,0,0,0,{"$error":"#DIV/0!"}]
[26,null,null,null,null,null,null,null,null,null,null,null,null,null,null,null,null,null,null,null,null,null,null,null,null,null,null,null,null,null,null,null,null,null,null,null,null,null,null,null,null,null,null,null,null,null,null,null,null,null,null,null,null,null,null,null,null,null,null,null,null,0,0,0,0,0,{"$error":"#DIV/0!"}]
[27,null,null,null,null,null,null,null,null,null,null,null,null,null,null,null,null,null,null,null,null,null,null,null,null,null,null,null,null,null,null,null,null,null,null,null,null,null,null,null,null,null,null,null,null,null,null,null,null,null,null,null,null,null,null,null,null,null,null,null,null,0,0,0,0,0,{"$error":"#DIV/0!"}]
[28,null,null,null,null,null,null,null,null,null,null,null,null,null,null,null,null,null,null,null,null,null,null,null,null,null,null,null,null,null,null,null,null,null,null,null,null,null,null,null,null,null,null,null,null,null,null,null,null,null,null,null,null,null,null,null,null,null,null,null,null,0,0,0,0,0,{"$error":"#DIV/0!"}]
[29,null,null,null,null,null,null,null,null,null,null,null,null,null,null,null,null,null,null,null,null,null,null,null,null,null,null,null,null,null,null,null,null,null,null,null,null,null,null,null,null,null,null,null,null,null,null,null,null,null,null,null,null,null,null,null,null,null,null,null,null,0,0,0,0,0,{"$error":"#DIV/0!"}]
[30,null,null,null,null,null,null,null,null,null,null,null,null,null,null,null,null,null,null,null,null,null,null,null,null,null,null,null,null,null,null,null,null,null,null,null,null,null,null,null,null,null,null,null,null,null,null,null,null,null,null,null,null,null,null,null,null,null,null,null,null,0,0,0,0,0,{"$error":"#DIV/0!"}]
[31,null,null,null,null,null,null,null,null,null,null,null,null,null,null,null,null,null,null,null,null,null,null,null,null,null,null,null,null,null,null,null,null,null,null,null,null,null,null,null,null,null,null,null,null,null,null,null,null,null,null,null,null,null,null,null,null,null,null,null,null,0,0,0,0,0,{"$error":"#DIV/0!"}]
[32,null,null,null,null,null,null,null,null,null,null,null,null,null,null,null,null,null,null,null,null,null,null,null,null,null,null,null,null,null,null,null,null,null,null,null,null,null,null,null,null,null,null,null,null,null,null,null,null,null,null,null,null,null,null,null,null,null,null,null,null,0,0,0,0,0,{"$error":"#DIV/0!"}]
[33]
[34]
[35]
[36]
[37]
[38]
[39]
[40]
[41]
[42]
[43]
[44]
[45]
[{"$f":"+A89+1","v":46}]
[47]
[48]
[49]
[50]
[51]
[52]
[53]
[54]
[55]
[56]
[57]
[58]
[59]
[60]
[61]
[62]
[63]
[64]
[65]
[66]
[{"$f":"+A110+1","v":67}]
[68]
[69]
[70]
[71]
[72]
[73]
[74]
[75]
[76]
[77]
[78]
[79]
[80]
[81]
[82]
[83]
[84]
[85]
[86]
[87]
[88]
[89]
[90]
[91]
[92]
[93]
[94]
[95]
[96]
[97]
[98]
[99]
[100]
[101]
[102]
[103]
[104]
[105]
[106]
[107]
[108]
[109]
[110]
[111]
[112]
[113]
[114]
[115]
[116]
[117]
[118]
[119]
[120]
[121]
[122]
[123]
[124]
[125]
[126]
[127]
[128]
[129]
[130]
[{"$f":"+A174+1","v":131}]
[132]
[133]
[134]
[135]
[136]
[{"$f":"+A180+1","v":137}]
[{"$f":"+A181+1","v":138}]
[{"$f":"+A182+1","v":139}]
[{"$f":"+A183+1","v":140}]
[141]
[142]
[143]
[144]
[145]
[146]
[147]
[148]
[149]
[150]
[151]
[152]
[153]
[154]
[155]
[156]
[157]
[158]
[159]
[160]
[161]
[162]
[163]
[164]
[165]
[166]
[167]
[168]
[169]
[170]
[171]
[172]
[173]
[174]
[175]
[176]
[177]
[178]
[179]
[180]
[181]
[182]
[183]
[184]
[185]
[186]
[187]
[188]
[189]
[190]
[191]
[192]
[193]
[194]
[195]
[196]

{"sheet":"Cors","index":7,"n_rows":251,"n_cols":38,"rows_kept":251,"cut":false,"hidden":false,"merged":[[42,1,43,1],[42,2,42,3],[42,4,42,5],[42,6,42,7],[42,8,42,9],[42,10,42,11],[42,12,42,13],[42,14,42,15],[42,16,42,17],[42,28,42,29],[42,18,42,19],[42,20,42,21],[42,22,42,23],[42,24,42,25],[42,26,42,27]]}
["CORS"]
["Mes"]
[{"$f":"+GENERAL!B6","v":12},null,{"$f":"SUM(C5:C14)","v":-1000000000}]
[null,null,"Premi","Punts","Partides","General"]
[1,"Carles",{"$f":"+O$40","v":-100000000},{"$f":"+P$41","v":1E-4},{"$f":"+P$40","v":0},{"$f":"+O$22","v":0},{"$f":"IF(E5<A$3/2,-1,1)*800000+C5*1000-D5*10+E5","v":-100000800000.00101}]
[2,"Jordi",{"$f":"+G$40","v":-100000000},{"$f":"+H$41","v":1E-4},{"$f":"+H$40","v":0},{"$f":"+G$22","v":0},-100000800000.00101]
[3,"Manolo",{"$f":"+E$40","v":-100000000},{"$f":"+F$41","v":1E-4},{"$f":"+F$40","v":0},{"$f":"+E$22","v":0},-100000800000.00101]
[4,"Cyber X",{"$f":"+S$40","v":-100000000},{"$f":"+T$41","v":1E-4},{"$f":"+T$40","v":0},{"$f":"+S$22","v":0},-100000800000.00101]
[5,"Sergi",{"$f":"+M$40","v":-100000000},{"$f":"+N$41","v":1E-4},{"$f":"+N$40","v":0},{"$f":"+M$22","v":0},-100000800000.00101]
[6,"Grau",{"$f":"+C$40","v":-100000000},{"$f":"+D$41","v":1E-4},{"$f":"+D$40","v":0},{"$f":"+C$22","v":0},-100000800000.00101]
[7,"Nin",{"$f":"+U$40","v":-100000000},{"$f":"+V$41","v":1E-4},{"$f":"+V$40","v":0},{"$f":"+U$22","v":0},-100000800000.00101]
[8,"Mariajo",{"$f":"+Q$40","v":-100000000},{"$f":"+R$41","v":1E-4},{"$f":"+R$40","v":0},{"$f":"+Q$22","v":0},-100000800000.00101]
[9,"Tito",{"$f":"+I$40","v":-100000000},{"$f":"+J$41","v":1E-4},{"$f":"+J$40","v":0},{"$f":"+I$22","v":0},-100000800000.00101]
[10,"Òscar",{"$f":"+W$40","v":-100000000},{"$f":"+X$41","v":1E-4},{"$f":"+X$40","v":0},{"$f":"+W$22","v":0},-100000800000.00101]
[11,"Anna",{"$f":"+AA$40","v":-100000000},{"$f":"+AB$41","v":1E-4},{"$f":"+AB$40","v":0},{"$f":"+AA$22","v":0},-100000800000.00101]
[12,"Goretti",{"$f":"+K$40","v":-100000000},{"$f":"+L$41","v":1E-4},{"$f":"+L$40","v":0},{"$f":"+K$22","v":0},-100000800000.00101]
[13,"Mercè",{"$f":"+Y$40","v":-100000000},{"$f":"+Z$41","v":1E-4},{"$f":"+Z$40","v":0},{"$f":"+Y$22","v":0},-100000800000.00101]
[14,"Oleguer",{"$f":"+AC$40","v":-100000000},{"$f":"+AD$41","v":1E-4},{"$f":"+AD$40","v":0},{"$f":"+AC$22","v":0},-100000800000.00101]
[]
[]
[]
[null,"General",{"$f":"+C23*C24","v":0},{"$f":"+D23*D24","v":0},0,0,{"$f":"+G23*G24","v":0},0,0,0,0,0,0,0,0,0,0,0,{"$f":"+S23*S24","v":0},0,0,0,0,0,{"$f":"+Y23*Y24","v":0},0,{"$f":"+AA23*AA24","v":0},{"$f":"+AB23*AB24","v":0},0,0]
[null,null,{"$f":"IF($B39>3,1,0)","v":0},{"$f":"IF($B39>3,1,0)","v":0},0,0,{"$f":"IF($B39>3,1,0)","v":0},0,0,0,0,0,0,0,0,0,0,0,0,0,0,0,0,0,0,0,{"$f":"IF($B39>3,1,0)","v":0},{"$f":"IF($B39>3,1,0)","v":0},0,0]
[null,null,{"$f":"MAX(C25:C29)","v":0},{"$f":"+D40","v":0},{"$f":"MAX(E25:E29)","v":0},{"$f":"+F40","v":0},{"$f":"MAX(G25:G29)","v":0},{"$f":"+H40","v":0},{"$f":"MAX(I25:I29)","v":0},{"$f":"+J40","v":0},{"$f":"MAX(K25:K29)","v":0},{"$f":"+L40","v":0},{"$f":"MAX(M25:M29)","v":0},{"$f":"+N40","v":0},{"$f":"MAX(O25:O29)","v":0},{"$f":"+P40","v":0},{"$f":"MAX(Q25:Q29)","v":0},{"$f":"+R40","v":0},{"$f":"MAX(S25:S29)","v":0},{"$f":"+T40","v":0},{"$f":"MAX(U25:U29)","v":0},{"$f":"+V40","v":0},{"$f":"MAX(W25:W29)","v":0},{"$f":"+X40","v":0},{"$f":"MAX(Y25:Y29)","v":0},{"$f":"+Z40","v":0},{"$f":"MAX(AA25:AA29)","v":0},{"$f":"+AB40","v":0},{"$f":"MAX(AC25:AC29)","v":0},{"$f":"+AD40","v":0}]
[null,null,{"$f":"IF(C$30=5,5,0)","v":0},null,{"$f":"IF(E$30=5,5,0)","v":0},null,{"$f":"IF(G$30=5,5,0)","v":0},null,{"$f":"IF(I$30=5,5,0)","v":0},null,{"$f":"IF(K$30=5,5,0)","v":0},null,{"$f":"IF(M$30=5,5,0)","v":0},null,{"$f":"IF(O$30=5,5,0)","v":0},null,{"$f":"IF(Q$30=5,5,0)","v":0},null,{"$f":"IF(S$30=5,5,0)","v":0},null,{"$f":"IF(U$30=5,5,0)","v":0},null,{"$f":"IF(W$30=5,5,0)","v":0},null,{"$f":"IF(Y$30=5,5,0)","v":0},null,{"$f":"IF(AA$30=5,5,0)","v":0},null,{"$f":"IF(AC$30=5,5,0)","v":0}]
[null,null,{"$f":"IF(C$30=4,10,0)","v":0},null,{"$f":"IF(E$30=4,10,0)","v":0},null,{"$f":"IF(G$30=4,10,0)","v":0},null,{"$f":"IF(I$30=4,10,0)","v":0},null,{"$f":"IF(K$30=4,10,0)","v":0},null,{"$f":"IF(M$30=4,10,0)","v":0},null,{"$f":"IF(O$30=4,10,0)","v":0},null,{"$f":"IF(Q$30=4,10,0)","v":0},null,{"$f":"IF(S$30=4,10,0)","v":0},null,{"$f":"IF(U$30=4,10,0)","v":0},null,{"$f":"IF(W$30=4,10,0)","v":0},null,{"$f":"IF(Y$30=4,10,0)","v":0},null,{"$f":"IF(AA$30=4,10,0)","v":0},null,{"$f":"IF(AC$30=4,10,0)","v":0}]
[null,null,{"$f":"IF(C$30=3,20,0)","v":0},null,{"$f":"IF(E$30=3,20,0)","v":0},null,{"$f":"IF(G$30=3,20,0)","v":0},null,{"$f":"IF(I$30=3,20,0)","v":0},null,{"$f":"IF(K$30=3,20,0)","v":0},null,{"$f":"IF(M$30=3,20,0)","v":0},null,{"$f":"IF(O$30=3,20,0)","v":0},null,{"$f":"IF(Q$30=3,20,0)","v":0},null,{"$f":"IF(S$30=3,20,0)","v":0},null,{"$f":"IF(U$30=3,20,0)","v":0},null,{"$f":"IF(W$30=3,20,0)","v":0},null,{"$f":"IF(Y$30=3,20,0)","v":0},null,{"$f":"IF(AA$30=3,20,0)","v":0},null,{"$f":"IF(AC$30=3,20,0)","v":0}]
[null,null,{"$f":"IF(C$30=2,40,0)","v":0},null,{"$f":"IF(E$30=2,40,0)","v":0},null,{"$f":"IF(G$30=2,40,0)","v":0},null,{"$f":"IF(I$30=2,40,0)","v":0},null,{"$f":"IF(K$30=2,40,0)","v":0},null,{"$f":"IF(M$30=2,40,0)","v":0},null,{"$f":"IF(O$30=2,40,0)","v":0},null,{"$f":"IF(Q$30=2,40,0)","v":0},null,{"$f":"IF(S$30=2,40,0)","v":0},null,{"$f":"IF(U$30=2,40,0)","v":0},null,{"$f":"IF(W$30=2,40,0)","v":0},null,{"$f":"IF(Y$30=2,40,0)","v":0},null,{"$f":"IF(AA$30=2,40,0)","v":0},null,{"$f":"IF(AC$30=2,40,0)","v":0}]
[null,null,{"$f":"IF(C$30=1,80,0)","v":0},null,{"$f":"IF(E$30=1,80,0)","v":0},null,{"$f":"IF(G$30=1,80,0)","v":0},null,{"$f":"IF(I$30=1,80,0)","v":0},null,{"$f":"IF(K$30=1,80,0)","v":0},null,{"$f":"IF(M$30=1,80,0)","v":0},null,{"$f":"IF(O$30=1,80,0)","v":0},null,{"$f":"IF(Q$30=1,80,0)","v":0},null,{"$f":"IF(S$30=1,80,0)","v":0},null,{"$f":"IF(U$30=1,80,0)","v":0},null,{"$f":"IF(W$30=1,80,0)","v":0},null,{"$f":"IF(Y$30=1,80,0)","v":0},null,{"$f":"IF(AA$30=1,80,0)","v":0},null,{"$f":"IF(AC$30=1,80,0)","v":0}]
[null,null,{"$f":"RANK(C31,$C31:$BF31)*C39","v":0},null,{"$f":"RANK(E31,$C31:$BF31)*E39","v":0},null,{"$f":"RANK(G31,$C31:$BF31)*G39","v":0},null,{"$f":"RANK(I31,$C31:$BF31)*I39","v":0},null,{"$f":"RANK(K31,$C31:$BF31)*K39","v":0},null,{"$f":"RANK(M31,$C31:$BF31)*M39","v":0},null,{"$f":"RANK(O31,$C31:$BF31)*O39","v":0},null,{"$f":"RANK(Q31,$C31:$BF31)*Q39","v":0},null,{"$f":"RANK(S31,$C31:$BF31)*S39","v":0},null,{"$f":"RANK(U31,$C31:$BF31)*U39","v":0},null,{"$f":"RANK(W31,$C31:$BF31)*W39","v":0},null,{"$f":"RANK(Y31,$C31:$BF31)*Y39","v":0},null,{"$f":"RANK(AA31,$C31:$BF31)*AA39","v":0},null,{"$f":"RANK(AC31,$C31:$BF31)*AC39","v":0}]
[null,null,{"$f":"SUM(C32:C34)","v":-101000000.01000001},null,{"$f":"SUM(E32:E34)","v":-101000000.01000001},null,{"$f":"SUM(G32:G34)","v":-101000000.01000001},null,{"$f":"SUM(I32:I34)","v":-101000000.01000001},null,{"$f":"SUM(K32:K34)","v":-101000000.01000001},null,{"$f":"SUM(M32:M34)","v":-101000000.01000001},null,{"$f":"SUM(O32:O34)","v":-101000000.01000001},null,{"$f":"SUM(Q32:Q34)","v":-101000000.01000001},null,{"$f":"SUM(S32:S34)","v":-101000000.01000001},null,{"$f":"SUM(U32:U34)","v":-101000000.01000001},null,{"$f":"SUM(W32:W34)","v":-101000000.01000001},null,{"$f":"SUM(Y32:Y34)","v":-101000000.01000001},null,{"$f":"SUM(AA32:AA34)","v":-101000000.01000001},null,{"$f":"SUM(AC32:AC34)","v":-101000000.01000001}]
[null,null,{"$f":"+D40","v":0},null,{"$f":"+F40","v":0},null,{"$f":"+H40","v":0},null,{"$f":"+J40","v":0},null,{"$f":"+L40","v":0},null,{"$f":"+N40","v":0},null,{"$f":"+P40","v":0},null,{"$f":"+R40","v":0},null,{"$f":"+T40","v":0},null,{"$f":"+V40","v":0},null,{"$f":"+X40","v":0},null,{"$f":"+Z40","v":0},null,{"$f":"+AB40","v":0},null,{"$f":"+AD40","v":0}]
[null,null,{"$f":"-D41*100","v":-0.01},null,{"$f":"-F41*100","v":-0.01},null,{"$f":"-H41*100","v":-0.01},null,{"$f":"-J41*100","v":-0.01},null,{"$f":"-L41*100","v":-0.01},null,{"$f":"-N41*100","v":-0.01},null,{"$f":"-P41*100","v":-0.01},null,{"$f":"-R41*100","v":-0.01},null,{"$f":"-T41*100","v":-0.01},null,{"$f":"-V41*100","v":-0.01},null,{"$f":"-X41*100","v":-0.01},null,{"$f":"-Z41*100","v":-0.01},null,{"$f":"-AB41*100","v":-0.01},null,{"$f":"-AD41*100","v":-0.01}]
[null,null,{"$f":"IF(C39=1,C40*C39*1000+C40,-1000000+C40)","v":-101000000},null,{"$f":"IF(E39=1,E40*E39*1000+E40,-1000000+E40)","v":-101000000},null,{"$f":"IF(G39=1,G40*G39*1000+G40,-1000000+G40)","v":-101000000},null,{"$f":"IF(I39=1,I40*I39*1000+I40,-1000000+I40)","v":-101000000},null,{"$f":"IF(K39=1,K40*K39*1000+K40,-1000000+K40)","v":-101000000},null,{"$f":"IF(M39=1,M40*M39*1000+M40,-1000000+M40)","v":-101000000},null,{"$f":"IF(O39=1,O40*O39*1000+O40,-1000000+O40)","v":-101000000},null,{"$f":"IF(Q39=1,Q40*Q39*1000+Q40,-1000000+Q40)","v":-101000000},null,{"$f":"IF(S39=1,S40*S39*1000+S40,-1000000+S40)","v":-101000000},null,{"$f":"IF(U39=1,U40*U39*1000+U40,-1000000+U40)","v":-101000000},null,{"$f":"IF(W39=1,W40*W39*1000+W40,-1000000+W40)","v":-101000000},null,{"$f":"IF(Y39=1,Y40*Y39*1000+Y40,-1000000+Y40)","v":-101000000},null,{"$f":"IF(AA39=1,AA40*AA39*1000+AA40,-1000000+AA40)","v":-101000000},null,{"$f":"IF(AC39=1,AC40*AC39*1000+AC40,-1000000+AC40)","v":-101000000}]
[]
[]
[]
[]
["Classificats",{"$f":"SUM(C39:AC39)","v":0},{"$f":"IF(D40>=$A3/2,1,0)","v":0},null,{"$f":"IF(F40>=$A3/2,1,0)","v":0},null,{"$f":"IF(H40>=$A3/2,1,0)","v":0},null,{"$f":"IF(J40>=$A3/2,1,0)","v":0},null,{"$f":"IF(L40>=$A3/2,1,0)","v":0},null,{"$f":"IF(N40>=$A3/2,1,0)","v":0},null,{"$f":"IF(P40>=$A3/2,1,0)","v":0},null,{"$f":"IF(R40>=$A3/2,1,0)","v":0},null,{"$f":"IF(T40>=$A3/2,1,0)","v":0},null,{"$f":"IF(V40>=$A3/2,1,0)","v":0},null,{"$f":"IF(X40>=$A3/2,1,0)","v":0},null,{"$f":"IF(Z40>=$A3/2,1,0)","v":0},null,{"$f":"IF(AB40>=$A3/2,1,0)","v":0},null,{"$f":"IF(AD40>=$A3/2,1,0)","v":0}]
[null,null,{"$f":"IF(SUM(C45:C336)<-1000,-100000000,SUM(C45:C336))","v":-100000000},{"$f":"COUNT(D45:D336)","v":0},{"$f":"IF(SUM(E45:E336)<-1000,-100000000,SUM(E45:E336))","v":-100000000},{"$f":"COUNT(F45:F336)","v":0},{"$f":"IF(SUM(G45:G336)<-1000,-100000000,SUM(G45:G336))","v":-100000000},{"$f":"COUNT(H45:H336)","v":0},{"$f":"IF(SUM(I45:I336)<-1000,-100000000,SUM(I45:I336))","v":-100000000},{"$f":"COUNT(J45:J336)","v":0},{"$f":"IF(SUM(K45:K336)<-1000,-100000000,SUM(K45:K336))","v":-100000000},{"$f":"COUNT(L45:L336)","v":0},{"$f":"IF(SUM(M45:M336)<-1000,-100000000,SUM(M45:M336))","v":-100000000},{"$f":"COUNT(N45:N336)","v":0},{"$f":"IF(SUM(O45:O336)<-1000,-100000000,SUM(O45:O336))","v":-100000000},{"$f":"COUNT(P45:P336)","v":0},{"$f":"IF(SUM(Q45:Q336)<-1000,-100000000,SUM(Q45:Q336))","v":-100000000},{"$f":"COUNT(R45:R336)","v":0},{"$f":"IF(SUM(S45:S336)<-1000,-100000000,SUM(S45:S336))","v":-100000000},{"$f":"COUNT(T45:T336)","v":0},{"$f":"IF(SUM(U45:U336)<-1000,-100000000,SUM(U45:U336))","v":-100000000},{"$f":"COUNT(V45:V336)","v":0},{"$f":"IF(SUM(W45:W336)<-1000,-100000000,SUM(W45:W336))","v":-100000000},{"$f":"COUNT(X45:X336)","v":0},{"$f":"IF(SUM(Y45:Y336)<-1000,-100000000,SUM(Y45:Y336))","v":-100000000},{"$f":"COUNT(Z45:Z336)","v":0},{"$f":"IF(SUM(AA45:AA336)<-1000,-100000000,SUM(AA45:AA336))","v":-100000000},{"$f":"COUNT(AB45:AB336)","v":0},{"$f":"IF(SUM(AC45:AC336)<-1000,-100000000,SUM(AC45:AC336))","v":-100000000},{"$f":"COUNT(AD45:AD336)","v":0}]
[null,null,null,{"$f":"IF(D40=0,0.0001,AVERAGE(D45:D251))","v":1E-4},null,{"$f":"IF(F40=0,0.0001,AVERAGE(F45:F251))","v":1E-4},null,{"$f":"IF(H40=0,0.0001,AVERAGE(H45:H251))","v":1E-4},null,{"$f":"IF(J40=0,0.0001,AVERAGE(J45:J251))","v":1E-4},null,{"$f":"IF(L40=0,0.0001,AVERAGE(L45:L251))","v":1E-4},null,{"$f":"IF(N40=0,0.0001,AVERAGE(N45:N251))","v":1E-4},null,{"$f":"IF(P40=0,0.0001,AVERAGE(P45:P251))","v":1E-4},null,{"$f":"IF(R40=0,0.0001,AVERAGE(R45:R251))","v":1E-4},null,{"$f":"IF(T40=0,0.0001,AVERAGE(T45:T251))","v":1E-4},null,{"$f":"IF(V40=0,0.0001,AVERAGE(V45:V251))","v":1E-4},null,{"$f":"IF(X40=0,0.0001,AVERAGE(X45:X251))","v":1E-4},null,{"$f":"IF(Z40=0,0.0001,AVERAGE(Z45:Z251))","v":1E-4},null,{"$f":"IF(AB40=0,0.0001,AVERAGE(AB45:AB251))","v":1E-4},null,{"$f":"IF(AD40=0,0.0001,AVERAGE(AD45:AD251))","v":1E-4}]
[null,null,null,null,null,null,null,null,null,null,null,null,null,null,null,null,null,null,null,null,null,null,null,null,null,null,null,null,null,null,{"$f":"MAX(AF45:AF251)","v":0}]
[null,"Comentaris","Grau",null,"Manolo",null,"Jordi",null,"Tito",null,"Goretti",null,"Sergi",null,"Carles",null,"Mariajo",null,"Cyber X",null,"Nin",null,"Òscar",null,"Mercè",null,"Anna",null,"Oleguer",null,{"$f":"COUNT(AE45:AE251)","v":0},"A","B","C",null,{"$f":"SUM(AJ45:AJ251)","v":-11},null,{"$f":"AVERAGE(AL46:AL251)","v":0}]
[null,null,"Premi","Punts","Premi","Punts","Premi","Punts","Premi","Punts","Premi","Punts","Premi","Punts","Premi","Punts","Premi","Punts","Premi","Punts","Premi","Punts","Premi","Punts","Premi","Punts","Premi","Punts","Premi","Punts","Data","Timba",null,null,null,"Excés cyber"]
[1,null,-10000,null,-10000,null,-10000,null,-10000,null,-10000,null,-10000,null,-10000,null,-10000,null,-10000,null,-10000,null,-10000,null,-10000,null,-10000,null,-10000,null,null,null,{"$f":"+AC45+Y45+W45+U45+S45+Q45+O45+M45+K45+I45+G45+E45+C45+AJ45","v":-130000},{"$f":"COUNT(C45:AD45)/2","v":7},{"$f":"+AG45/AH45","v":-18571.428571428572}]
[{"$f":"+A45+1","v":2},null,null,null,null,null,null,null,null,null,null,null,null,null,null,null,null,null,null,null,null,null,null,null,null,null,null,null,null,null,null,null,{"$f":"+AC46+Y46+W46+U46+S46+Q46+O46+M46+K46+I46+G46+E46+C46+AK46","v":0},{"$f":"COUNT(C46:AD46)/2","v":0},{"$f":"+AG46/AH46","v":{"$error":"#DIV/0!"}},null,{"$f":"SUM(C46:X46)","v":0},{"$f":"+AK46/26","v":0}]
[{"$f":"+A46+1","v":3},null,null,null,null,null,null,null,null,null,null,null,null,null,null,null,null,null,null,null,null,null,null,null,null,null,null,null,null,null,null,null,0,{"$f":"COUNT(C47:AD47)/2","v":0},{"$f":"+AG47/AH47","v":{"$error":"#DIV/0!"}},null,{"$f":"SUM(C47:X47)","v":0},{"$f":"+AK47/26","v":0}]
[4,null,null,null,null,null,null,null,null,null,null,null,null,null,null,null,null,null,null,null,null,null,null,null,null,null,null,null,null,null,null,null,0,{"$f":"COUNT(C48:AD48)/2","v":0},{"$f":"+AG48/AH48","v":{"$error":"#DIV/0!"}},null,0,0]
[5,null,null,null,null,null,null,null,null,null,null,null,null,null,null,null,null,null,null,null,null,null,null,null,null,null,null,null,null,null,null,null,0,{"$f":"COUNT(C49:AD49)/2","v":0},{"$f":"+AG49/AH49","v":{"$error":"#DIV/0!"}},null,0,0]
[6,null,null,null,null,null,null,null,null,null,null,null,null,null,null,null,null,null,null,null,null,null,null,null,null,null,null,null,null,null,null,null,0,0,{"$error":"#DIV/0!"},null,0,0]
[7,null,null,null,null,null,null,null,null,null,null,null,null,null,null,null,null,null,null,null,null,null,null,null,null,null,null,null,null,null,null,null,0,0,{"$error":"#DIV/0!"},null,0,0]
[8,null,null,null,null,null,null,null,null,null,null,null,null,null,null,null,null,null,null,null,null,null,null,null,null,null,null,null,null,null,null,null,0,0,{"$error":"#DIV/0!"},null,0,0]
[9,null,null,null,null,null,null,null,null,null,null,null,null,null,null,null,null,null,null,null,null,null,null,null,null,null,null,null,null,null,null,null,0,0,{"$error":"#DIV/0!"},null,0,0]
[{"$f":"+A53+1","v":10},null,null,null,null,null,null,null,null,null,null,null,null,null,null,null,null,null,null,null,null,null,null,null,null,null,null,null,null,null,null,null,0,0,{"$error":"#DIV/0!"},null,0,0]
[11,null,null,null,null,null,null,null,null,null,null,null,null,null,null,null,null,null,null,null,null,null,null,null,null,null,null,null,null,null,null,null,0,0,{"$error":"#DIV/0!"},null,0,0]
[12,null,null,null,null,null,null,null,null,null,null,null,null,null,null,null,null,null,null,null,null,null,null,null,null,null,null,null,null,null,null,null,0,0,{"$error":"#DIV/0!"},null,0,0]
[13,null,null,null,null,null,null,null,null,null,null,null,null,null,null,null,null,null,null,null,null,null,null,null,null,null,null,null,null,null,null,null,0,0,{"$error":"#DIV/0!"},null,0,0]
[14,null,null,null,null,null,null,null,null,null,null,null,null,null,null,null,null,null,null,null,null,null,null,null,null,null,null,null,null,null,null,null,0,0,{"$error":"#DIV/0!"},null,0,0]
[15,null,null,null,null,null,null,null,null,null,null,null,null,null,null,null,null,null,null,null,null,null,null,null,null,null,null,null,null,null,null,null,0,0,{"$error":"#DIV/0!"},null,0,0]
[16,null,null,null,null,null,null,null,null,null,null,null,null,null,null,null,null,null,null,null,null,null,null,null,null,null,null,null,null,null,null,null,0,0,{"$error":"#DIV/0!"},null,0,0]
[17,null,null,null,null,null,null,null,null,null,null,null,null,null,null,null,null,null,null,null,null,null,null,null,null,null,null,null,null,null,null,null,0,0,{"$error":"#DIV/0!"},null,0,0]
[18,null,null,null,null,null,null,null,null,null,null,null,null,null,null,null,null,null,null,null,null,null,null,null,null,null,null,null,null,null,null,null,0,0,{"$error":"#DIV/0!"},null,0,0]
[19,null,null,null,null,null,null,null,null,null,null,null,null,null,null,null,null,null,null,null,null,null,null,null,null,null,null,null,null,null,null,null,0,0,{"$error":"#DIV/0!"},null,0,0]
[20,null,null,null,null,null,null,null,null,null,null,null,null,null,null,null,null,null,null,null,null,null,null,null,null,null,null,null,null,null,null,null,0,0,{"$error":"#DIV/0!"},null,0,0]
[21,null,null,null,null,null,null,null,null,null,null,null,null,null,null,null,null,null,null,null,null,null,null,null,null,null,null,null,null,null,null,null,0,0,{"$error":"#DIV/0!"},null,0,0]
[22,null,null,null,null,null,null,null,null,null,null,null,null,null,null,null,null,null,null,null,null,null,null,null,null,null,null,null,null,null,null,null,0,0,{"$error":"#DIV/0!"},null,0,0]
[23,null,null,null,null,null,null,null,null,null,null,null,null,null,null,null,null,null,null,null,null,null,null,null,null,null,null,null,null,null,null,null,0,0,{"$error":"#DIV/0!"},null,0,0]
[24,null,null,null,null,null,null,null,null,null,null,null,null,null,null,null,null,null,null,null,null,null,null,null,null,null,null,null,null,null,null,null,0,0,{"$error":"#DIV/0!"},null,0,0]
[25,null,null,null,null,null,null,null,null,null,null,null,null,null,null,null,null,null,null,null,null,null,null,null,null,null,null,null,null,null,null,null,0,0,{"$error":"#DIV/0!"},null,0,0]
[26,null,null,null,null,null,null,null,null,null,null,null,null,null,null,null,null,null,null,null,null,null,null,null,null,null,null,null,null,null,null,null,0,0,{"$error":"#DIV/0!"},null,0,0]
[27,null,null,null,null,null,null,null,null,null,null,null,null,null,null,null,null,null,null,null,null,null,null,null,null,null,null,null,null,null,null,null,0,0,{"$error":"#DIV/0!"},null,0,0]
[28,null,null,null,null,null,null,null,null,null,null,null,null,null,null,null,null,null,null,null,null,null,null,null,null,null,null,null,null,null,null,null,0,0,{"$error":"#DIV/0!"},null,0,0]
[29,null,null,null,null,null,null,null,null,null,null,null,null,null,null,null,null,null,null,null,null,null,null,null,null,null,null,null,null,null,null,null,0,0,{"$error":"#DIV/0!"},null,0,0]
[30,null,null,null,null,null,null,null,null,null,null,null,null,null,null,null,null,null,null,null,null,null,null,null,null,null,null,null,null,null,null,null,0,0,{"$error":"#DIV/0!"},null,0,0]
[31,null,null,null,null,null,null,null,null,null,null,null,null,null,null,null,null,null,null,null,null,null,null,null,null,null,null,null,null,null,null,null,0,0,{"$error":"#DIV/0!"},null,0,0]
[32,null,null,null,null,null,null,null,null,null,null,null,null,null,null,null,null,null,null,null,null,null,null,null,null,null,null,null,null,null,null,null,0,0,{"$error":"#DIV/0!"},null,0,0]
[33,null,null,null,null,null,null,null,null,null,null,null,null,null,null,null,null,null,null,null,null,null,null,null,null,null,null,null,null,null,null,null,0,0,{"$error":"#DIV/0!"},null,0,0]
[34,null,null,null,null,null,null,null,null,null,null,null,null,null,null,null,null,null,null,null,null,null,null,null,null,null,null,null,null,null,null,null,0,0,{"$error":"#DIV/0!"},null,0,0]
[35,null,null,null,null,null,null,null,null,null,null,null,null,null,null,null,null,null,null,null,null,null,null,null,null,null,null,null,null,null,null,null,0,0,{"$error":"#DIV/0!"},null,0,0]
[36,null,null,null,null,null,null,null,null,null,null,null,null,null,null,null,null,null,null,null,null,null,null,null,null,null,null,null,null,null,null,null,0,0,{"$error":"#DIV/0!"},null,0,0]
[37,null,null,null,null,null,null,null,null,null,null,null,null,null,null,null,null,null,null,null,null,null,null,null,null,null,null,null,null,null,null,null,0,{"$f":"COUNT(C81:AD81)/2","v":0},{"$f":"+AG81/AH81","v":{"$error":"#DIV/0!"}},null,0,0]
[38,null,null,null,null,null,null,null,null,null,null,null,null,null,null,null,null,null,null,null,null,null,null,null,null,null,null,null,null,null,null,null,0,0,{"$error":"#DIV/0!"},null,0,0]
[39,null,null,null,null,null,null,null,null,null,null,null,null,null,null,null,null,null,null,null,null,null,null,null,null,null,null,null,null,null,null,null,{"$f":"+AC83+Y83+W83+U83+S83+Q83+O83+M83+K83+I83+G83+E83+C83+AJ83","v":-4},0,{"$error":"#DIV/0!"},-4,0,{"$f":"+AK83*0.5/26","v":0}]
[40,null,null,null,null,null,null,null,null,null,null,null,null,null,null,null,null,null,null,null,null,null,null,null,null,null,null,null,null,null,null,null,{"$f":"+AC84+Y84+W84+U84+S84+Q84+O84+M84+K84+I84+G84+E84+C84+AJ84","v":3},0,{"$error":"#DIV/0!"},3,0,{"$f":"+AK84*0.5/26","v":0}]
[41,null,null,null,null,null,null,null,null,null,null,null,null,null,null,null,null,null,null,null,null,null,null,null,null,null,null,null,null,null,null,null,0,0,{"$error":"#DIV/0!"},null,{"$f":"SUM(C85:X85)","v":0},{"$f":"+AK85/26","v":0}]
[42,null,null,null,null,null,null,null,null,null,null,null,null,null,null,null,null,null,null,null,null,null,null,null,null,null,null,null,null,null,null,null,0,0,{"$error":"#DIV/0!"},null,0,{"$f":"+AK86/26","v":0}]
[43,null,null,null,null,null,null,null,null,null,null,null,null,null,null,null,null,null,null,null,null,null,null,null,null,null,null,null,null,null,null,null,0,0,{"$error":"#DIV/0!"},null,0,{"$f":"+AK87/26","v":0}]
[44,null,null,null,null,null,null,null,null,null,null,null,null,null,null,null,null,null,null,null,null,null,null,null,null,null,null,null,null,null,null,null,-10,0,{"$error":"#DIV/0!"},-10,0,{"$f":"+AK88*0.5/26","v":0}]
[45,null,null,null,null,null,null,null,null,null,null,null,null,null,null,null,null,null,null,null,null,null,null,null,null,null,null,null,null,null,null,null,0,0,{"$error":"#DIV/0!"},0,0,{"$f":"+AK89*0.5/26","v":0}]
[{"$f":"+A89+1","v":46},null,null,null,null,null,null,null,null,null,null,null,null,null,null,null,null,null,null,null,null,null,null,null,null,null,null,null,null,null,null,null,0,0,{"$error":"#DIV/0!"},null,0,{"$f":"+AK90/26","v":0}]
[47,null,null,null,null,null,null,null,null,null,null,null,null,null,null,null,null,null,null,null,null,null,null,null,null,null,null,null,null,null,null,null,0,0,{"$error":"#DIV/0!"},null,{"$f":"SUM(C91:X91)","v":0},{"$f":"+AK91/26","v":0}]
[48,null,null,null,null,null,null,null,null,null,null,null,null,null,null,null,null,null,null,null,null,null,null,null,null,null,null,null,null,null,null,null,0,0,{"$error":"#DIV/0!"},null,0,{"$f":"+AK92/26","v":0}]
[49,null,null,null,null,null,null,null,null,null,null,null,null,null,null,null,null,null,null,null,null,null,null,null,null,null,null,null,null,null,null,null,0,0,{"$error":"#DIV/0!"},null,0,{"$f":"+AK93/26","v":0}]
[50,null,null,null,null,null,null,null,null,null,null,null,null,null,null,null,null,null,null,null,null,null,null,null,null,null,null,null,null,null,null,null,0,0,{"$error":"#DIV/0!"},null,0,{"$f":"+AK94/26","v":0}]
[51,null,null,null,null,null,null,null,null,null,null,null,null,null,null,null,null,null,null,null,null,null,null,null,null,null,null,null,null,null,null,null,0,0,{"$error":"#DIV/0!"},null,0]
[52,null,null,null,null,null,null,null,null,null,null,null,null,null,null,null,null,null,null,null,null,null,null,null,null,null,null,null,null,null,null,null,0,0,{"$error":"#DIV/0!"},null,0]
[53,null,null,null,null,null,null,null,null,null,null,null,null,null,null,null,null,null,null,null,null,null,null,null,null,null,null,null,null,null,null,null,0,0,{"$error":"#DIV/0!"},null,0]
[54,null,null,null,null,null,null,null,null,null,null,null,null,null,null,null,null,null,null,null,null,null,null,null,null,null,null,null,null,null,null,null,0,0,{"$error":"#DIV/0!"},null,0]
[55,null,null,null,null,null,null,null,null,null,null,null,null,null,null,null,null,null,null,null,null,null,null,null,null,null,null,null,null,null,null,null,0,0,{"$error":"#DIV/0!"},null,0]
[56,null,null,null,null,null,null,null,null,null,null,null,null,null,null,null,null,null,null,null,null,null,null,null,null,null,null,null,null,null,null,null,0,0,{"$error":"#DIV/0!"},null,0,{"$f":"+AK100/26","v":0}]
[57,null,null,null,null,null,null,null,null,null,null,null,null,null,null,null,null,null,null,null,null,null,null,null,null,null,null,null,null,null,null,null,{"$f":"+AC101+Y101+W101+U101+S101+Q101+O101+M101+K101+I101+G101+E101+C101+AJ101","v":0},{"$f":"COUNT(C101:AD101)/2","v":0},{"$f":"+AG101/AH101","v":{"$error":"#DIV/0!"}},null,{"$f":"SUM(C101:X101)","v":0},{"$f":"+AK101/26","v":0}]
[58,null,null,null,null,null,null,null,null,null,null,null,null,null,null,null,null,null,null,null,null,null,null,null,null,null,null,null,null,null,null,null,{"$f":"+AC102+Y102+W102+U102+S102+Q102+O102+M102+K102+I102+G102+E102+C102+AJ102","v":0},{"$f":"COUNT(C102:AD102)/2","v":0},{"$f":"+AG102/AH102","v":{"$error":"#DIV/0!"}},null,{"$f":"SUM(C102:X102)","v":0},{"$f":"+AK102/26","v":0}]
[59,null,null,null,null,null,null,null,null,null,null,null,null,null,null,null,null,null,null,null,null,null,null,null,null,null,null,null,null,null,null,null,{"$f":"+AC103+Y103+W103+U103+S103+Q103+O103+M103+K103+I103+G103+E103+C103+AJ103","v":0},{"$f":"COUNT(C103:AD103)/2","v":0},{"$f":"+AG103/AH103","v":{"$error":"#DIV/0!"}},null,{"$f":"SUM(C103:X103)","v":0},{"$f":"+AK103/26","v":0}]
[60,null,null,null,null,null,null,null,null,null,null,null,null,null,null,null,null,null,null,null,null,null,null,null,null,null,null,null,null,null,null,null,{"$f":"+AC104+Y104+W104+U104+S104+Q104+O104+M104+K104+I104+G104+E104+C104+AJ104","v":0},{"$f":"COUNT(C104:AD104)/2","v":0},{"$f":"+AG104/AH104","v":{"$error":"#DIV/0!"}},null,{"$f":"SUM(C104:X104)","v":0},{"$f":"+AK104/26","v":0}]
[61,null,null,null,null,null,null,null,null,null,null,null,null,null,null,null,null,null,null,null,null,null,null,null,null,null,null,null,null,null,null,null,0,0,{"$error":"#DIV/0!"},null,0,0]
[62,null,null,null,null,null,null,null,null,null,null,null,null,null,null,null,null,null,null,null,null,null,null,null,null,null,null,null,null,null,null,null,0,0,{"$error":"#DIV/0!"},null,0,0]
[63,null,null,null,null,null,null,null,null,null,null,null,null,null,null,null,null,null,null,null,null,null,null,null,null,null,null,null,null,null,null,null,0,0,{"$error":"#DIV/0!"},null,0,0]
[64,null,null,null,null,null,null,null,null,null,null,null,null,null,null,null,null,null,null,null,null,null,null,null,null,null,null,null,null,null,null,null,0,0,{"$error":"#DIV/0!"},null,0,0]
[65,null,null,null,null,null,null,null,null,null,null,null,null,null,null,null,null,null,null,null,null,null,null,null,null,null,null,null,null,null,null,null,0,0,{"$error":"#DIV/0!"},null,0,0]
[66,null,null,null,null,null,null,null,null,null,null,null,null,null,null,null,null,null,null,null,null,null,null,null,null,null,null,null,null,null,null,null,0,0,{"$error":"#DIV/0!"},null,0,0]
[67,null,null,null,null,null,null,null,null,null,null,null,null,null,null,null,null,null,null,null,null,null,null,null,null,null,null,null,null,null,null,null,0,0,{"$error":"#DIV/0!"},null,0,0]
[68,null,null,null,null,null,null,null,null,null,null,null,null,null,null,null,null,null,null,null,null,null,null,null,null,null,null,null,null,null,null,null,0,0,{"$error":"#DIV/0!"},null,0,0]
[69,null,null,null,null,null,null,null,null,null,null,null,null,null,null,null,null,null,null,null,null,null,null,null,null,null,null,null,null,null,null,null,0,0,{"$error":"#DIV/0!"},null,0,0]
[70,null,null,null,null,null,null,null,null,null,null,null,null,null,null,null,null,null,null,null,null,null,null,null,null,null,null,null,null,null,null,null,0,0,{"$error":"#DIV/0!"},null,0,0]
[71,null,null,null,null,null,null,null,null,null,null,null,null,null,null,null,null,null,null,null,null,null,null,null,null,null,null,null,null,null,null,null,0,0,{"$error":"#DIV/0!"},null,0,0]
[72,null,null,null,null,null,null,null,null,null,null,null,null,null,null,null,null,null,null,null,null,null,null,null,null,null,null,null,null,null,null,null,0,0,{"$error":"#DIV/0!"},null,0,0]
[{"$f":"+A116+1","v":73},null,null,null,null,null,null,null,null,null,null,null,null,null,null,null,null,null,null,null,null,null,null,null,null,null,null,null,null,null,null,null,{"$f":"+AC117+Y117+W117+U117+S117+Q117+O117+M117+K117+I117+G117+E117+C117+AJ117","v":0},{"$f":"COUNT(C117:AD117)/2","v":0},{"$f":"+AG117/AH117","v":{"$error":"#DIV/0!"}}]
[74,null,null,null,null,null,null,null,null,null,null,null,null,null,null,null,null,null,null,null,null,null,null,null,null,null,null,null,null,null,null,null,0,0,{"$error":"#DIV/0!"}]
[75,null,null,null,null,null,null,null,null,null,null,null,null,null,null,null,null,null,null,null,null,null,null,null,null,null,null,null,null,null,null,null,0,0,{"$error":"#DIV/0!"}]
[76,null,null,null,null,null,null,null,null,null,null,null,null,null,null,null,null,null,null,null,null,null,null,null,null,null,null,null,null,null,null,null,0,0,{"$error":"#DIV/0!"}]
[77,null,null,null,null,null,null,null,null,null,null,null,null,null,null,null,null,null,null,null,null,null,null,null,null,null,null,null,null,null,null,null,0,0,{"$error":"#DIV/0!"}]
[78,null,null,null,null,null,null,null,null,null,null,null,null,null,null,null,null,null,null,null,null,null,null,null,null,null,null,null,null,null,null,null,0,0,{"$error":"#DIV/0!"}]
[79,null,null,null,null,null,null,null,null,null,null,null,null,null,null,null,null,null,null,null,null,null,null,null,null,null,null,null,null,null,null,null,{"$f":"+AC123+Y123+W123+U123+S123+Q123+O123+M123+K123+I123+G123+E123+C123+AJ123","v":0},{"$f":"COUNT(C123:AD123)/2","v":0},{"$f":"+AG123/AH123","v":{"$error":"#DIV/0!"}}]
[80,null,null,null,null,null,null,null,null,null,null,null,null,null,null,null,null,null,null,null,null,null,null,null,null,null,null,null,null,null,null,null,{"$f":"+AC124+Y124+W124+U124+S124+Q124+O124+M124+K124+I124+G124+E124+C124+AJ124","v":0},{"$f":"COUNT(C124:AD124)/2","v":0},{"$f":"+AG124/AH124","v":{"$error":"#DIV/0!"}}]
[81,null,null,null,null,null,null,null,null,null,null,null,null,null,null,null,null,null,null,null,null,null,null,null,null,null,null,null,null,null,null,null,0,0,{"$error":"#DIV/0!"}]
[82,null,null,null,null,null,null,null,null,null,null,null,null,null,null,null,null,null,null,null,null,null,null,null,null,null,null,null,null,null,null,null,0,0,{"$error":"#DIV/0!"}]
[83,null,null,null,null,null,null,null,null,null,null,null,null,null,null,null,null,null,null,null,null,null,null,null,null,null,null,null,null,null,null,null,0,0,{"$error":"#DIV/0!"}]
[84,null,null,null,null,null,null,null,null,null,null,null,null,null,null,null,null,null,null,null,null,null,null,null,null,null,null,null,null,null,null,null,0,0,{"$error":"#DIV/0!"}]
[85,null,null,null,null,null,null,null,null,null,null,null,null,null,null,null,null,null,null,null,null,null,null,null,null,null,null,null,null,null,null,null,0,0,{"$error":"#DIV/0!"}]
[86,null,null,null,null,null,null,null,null,null,null,null,null,null,null,null,null,null,null,null,null,null,null,null,null,null,null,null,null,null,null,null,0,0,{"$error":"#DIV/0!"}]
[87,null,null,null,null,null,null,null,null,null,null,null,null,null,null,null,null,null,null,null,null,null,null,null,null,null,null,null,null,null,null,null,0,0,{"$error":"#DIV/0!"}]
[88,null,null,null,null,null,null,null,null,null,null,null,null,null,null,null,null,null,null,null,null,null,null,null,null,null,null,null,null,null,null,null,{"$f":"+AC132+Y132+W132+U132+S132+Q132+O132+M132+K132+I132+G132+E132+C132+AJ132","v":0},{"$f":"COUNT(C132:AD132)/2","v":0},{"$f":"+AG132/AH132","v":{"$error":"#DIV/0!"}}]
[89,null,null,null,null,null,null,null,null,null,null,null,null,null,null,null,null,null,null,null,null,null,null,null,null,null,null,null,null,null,null,null,0,0,{"$error":"#DIV/0!"}]
[90,null,null,null,null,null,null,null,null,null,null,null,null,null,null,null,null,null,null,null,null,null,null,null,null,null,null,null,null,null,null,null,0,0,{"$error":"#DIV/0!"}]
[91,null,null,null,null,null,null,null,null,null,null,null,null,null,null,null,null,null,null,null,null,null,null,null,null,null,null,null,null,null,null,null,0,0,{"$error":"#DIV/0!"}]
[92,null,null,null,null,null,null,null,null,null,null,null,null,null,null,null,null,null,null,null,null,null,null,null,null,null,null,null,null,null,null,null,0,0,{"$error":"#DIV/0!"}]
[93,null,null,null,null,null,null,null,null,null,null,null,null,null,null,null,null,null,null,null,null,null,null,null,null,null,null,null,null,null,null,null,0,0,{"$error":"#DIV/0!"}]
[94,null,null,null,null,null,null,null,null,null,null,null,null,null,null,null,null,null,null,null,null,null,null,null,null,null,null,null,null,null,null,null,0,0,{"$error":"#DIV/0!"}]
[95,null,null,null,null,null,null,null,null,null,null,null,null,null,null,null,null,null,null,null,null,null,null,null,null,null,null,null,null,null,null,null,0,0,{"$error":"#DIV/0!"}]
[96,null,null,null,null,null,null,null,null,null,null,null,null,null,null,null,null,null,null,null,null,null,null,null,null,null,null,null,null,null,null,null,0,0,{"$error":"#DIV/0!"}]
[97,null,null,null,null,null,null,null,null,null,null,null,null,null,null,null,null,null,null,null,null,null,null,null,null,null,null,null,null,null,null,null,0,0,{"$error":"#DIV/0!"}]
[98,null,null,null,null,null,null,null,null,null,null,null,null,null,null,null,null,null,null,null,null,null,null,null,null,null,null,null,null,null,null,null,0,0,{"$error":"#DIV/0!"}]
[99,null,null,null,null,null,null,null,null,null,null,null,null,null,null,null,null,null,null,null,null,null,null,null,null,null,null,null,null,null,null,null,0,0,{"$error":"#DIV/0!"}]
[100,null,null,null,null,null,null,null,null,null,null,null,null,null,null,null,null,null,null,null,null,null,null,null,null,null,null,null,null,null,null,null,0,0,{"$error":"#DIV/0!"}]
[101,null,null,null,null,null,null,null,null,null,null,null,null,null,null,null,null,null,null,null,null,null,null,null,null,null,null,null,null,null,null,null,0,0,{"$error":"#DIV/0!"}]
[102,null,null,null,null,null,null,null,null,null,null,null,null,null,null,null,null,null,null,null,null,null,null,null,null,null,null,null,null,null,null,null,0,0,{"$error":"#DIV/0!"}]
[103,null,null,null,null,null,null,null,null,null,null,null,null,null,null,null,null,null,null,null,null,null,null,null,null,null,null,null,null,null,null,null,0,0,{"$error":"#DIV/0!"}]
[104,null,null,null,null,null,null,null,null,null,null,null,null,null,null,null,null,null,null,null,null,null,null,null,null,null,null,null,null,null,null,null,0,0,{"$error":"#DIV/0!"}]
[105,null,null,null,null,null,null,null,null,null,null,null,null,null,null,null,null,null,null,null,null,null,null,null,null,null,null,null,null,null,null,null,0,0,{"$error":"#DIV/0!"}]
[106,null,null,null,null,null,null,null,null,null,null,null,null,null,null,null,null,null,null,null,null,null,null,null,null,null,null,null,null,null,null,null,0,0,{"$error":"#DIV/0!"}]
[107,null,null,null,null,null,null,null,null,null,null,null,null,null,null,null,null,null,null,null,null,null,null,null,null,null,null,null,null,null,null,null,0,0,{"$error":"#DIV/0!"}]
[108,null,null,null,null,null,null,null,null,null,null,null,null,null,null,null,null,null,null,null,null,null,null,null,null,null,null,null,null,null,null,null,0,0,{"$error":"#DIV/0!"}]
[109,null,null,null,null,null,null,null,null,null,null,null,null,null,null,null,null,null,null,null,null,null,null,null,null,null,null,null,null,null,null,null,0,0,{"$error":"#DIV/0!"}]
[110,null,null,null,null,null,null,null,null,null,null,null,null,null,null,null,null,null,null,null,null,null,null,null,null,null,null,null,null,null,null,null,0,0,{"$error":"#DIV/0!"}]
[111,null,null,null,null,null,null,null,null,null,null,null,null,null,null,null,null,null,null,null,null,null,null,null,null,null,null,null,null,null,null,null,0,0,{"$error":"#DIV/0!"}]
[112,null,null,null,null,null,null,null,null,null,null,null,null,null,null,null,null,null,null,null,null,null,null,null,null,null,null,null,null,null,null,null,0,0,{"$error":"#DIV/0!"}]
[113,null,null,null,null,null,null,null,null,null,null,null,null,null,null,null,null,null,null,null,null,null,null,null,null,null,null,null,null,null,null,null,0,0,{"$error":"#DIV/0!"}]
[114,null,null,null,null,null,null,null,null,null,null,null,null,null,null,null,null,null,null,null,null,null,null,null,null,null,null,null,null,null,null,null,0,0,{"$error":"#DIV/0!"}]
[115,null,null,null,null,null,null,null,null,null,null,null,null,null,null,null,null,null,null,null,null,null,null,null,null,null,null,null,null,null,null,null,0,0,{"$error":"#DIV/0!"}]
[116,null,null,null,null,null,null,null,null,null,null,null,null,null,null,null,null,null,null,null,null,null,null,null,null,null,null,null,null,null,null,null,0,0,{"$error":"#DIV/0!"}]
[117,null,null,null,null,null,null,null,null,null,null,null,null,null,null,null,null,null,null,null,null,null,null,null,null,null,null,null,null,null,null,null,0,0,{"$error":"#DIV/0!"}]
[118,null,null,null,null,null,null,null,null,null,null,null,null,null,null,null,null,null,null,null,null,null,null,null,null,null,null,null,null,null,null,null,0,0,{"$error":"#DIV/0!"}]
[119,null,null,null,null,null,null,null,null,null,null,null,null,null,null,null,null,null,null,null,null,null,null,null,null,null,null,null,null,null,null,null,0,0,{"$error":"#DIV/0!"}]
[120,null,null,null,null,null,null,null,null,null,null,null,null,null,null,null,null,null,null,null,null,null,null,null,null,null,null,null,null,null,null,null,0,0,{"$error":"#DIV/0!"}]
[121,null,null,null,null,null,null,null,null,null,null,null,null,null,null,null,null,null,null,null,null,null,null,null,null,null,null,null,null,null,null,null,0,0,{"$error":"#DIV/0!"}]
[122,null,null,null,null,null,null,null,null,null,null,null,null,null,null,null,null,null,null,null,null,null,null,null,null,null,null,null,null,null,null,null,0,0,{"$error":"#DIV/0!"}]
[123,null,null,null,null,null,null,null,null,null,null,null,null,null,null,null,null,null,null,null,null,null,null,null,null,null,null,null,null,null,null,null,0,0,{"$error":"#DIV/0!"}]
[124,null,null,null,null,null,null,null,null,null,null,null,null,null,null,null,null,null,null,null,null,null,null,null,null,null,null,null,null,null,null,null,0,0,{"$error":"#DIV/0!"}]
[125,null,null,null,null,null,null,null,null,null,null,null,null,null,null,null,null,null,null,null,null,null,null,null,null,null,null,null,null,null,null,null,0,0,{"$error":"#DIV/0!"}]
[126,null,null,null,null,null,null,null,null,null,null,null,null,null,null,null,null,null,null,null,null,null,null,null,null,null,null,null,null,null,null,null,0,0,{"$error":"#DIV/0!"}]
[127,null,null,null,null,null,null,null,null,null,null,null,null,null,null,null,null,null,null,null,null,null,null,null,null,null,null,null,null,null,null,null,0,0,{"$error":"#DIV/0!"}]
[128,null,null,null,null,null,null,null,null,null,null,null,null,null,null,null,null,null,null,null,null,null,null,null,null,null,null,null,null,null,null,null,0,0,{"$error":"#DIV/0!"}]
[129,null,null,null,null,null,null,null,null,null,null,null,null,null,null,null,null,null,null,null,null,null,null,null,null,null,null,null,null,null,null,null,0,0,{"$error":"#DIV/0!"}]
[130,null,null,null,null,null,null,null,null,null,null,null,null,null,null,null,null,null,null,null,null,null,null,null,null,null,null,null,null,null,null,null,0,0,{"$error":"#DIV/0!"}]
[131,null,null,null,null,null,null,null,null,null,null,null,null,null,null,null,null,null,null,null,null,null,null,null,null,null,null,null,null,null,null,null,0,0,{"$error":"#DIV/0!"}]
[132,null,null,null,null,null,null,null,null,null,null,null,null,null,null,null,null,null,null,null,null,null,null,null,null,null,null,null,null,null,null,null,0,0,{"$error":"#DIV/0!"}]
[133,null,null,null,null,null,null,null,null,null,null,null,null,null,null,null,null,null,null,null,null,null,null,null,null,null,null,null,null,null,null,null,0,0,{"$error":"#DIV/0!"}]
[134,null,null,null,null,null,null,null,null,null,null,null,null,null,null,null,null,null,null,null,null,null,null,null,null,null,null,null,null,null,null,null,0,0,{"$error":"#DIV/0!"}]
[135,null,null,null,null,null,null,null,null,null,null,null,null,null,null,null,null,null,null,null,null,null,null,null,null,null,null,null,null,null,null,null,0,0,{"$error":"#DIV/0!"}]
[136,null,null,null,null,null,null,null,null,null,null,null,null,null,null,null,null,null,null,null,null,null,null,null,null,null,null,null,null,null,null,null,0,0,{"$error":"#DIV/0!"}]
[{"$f":"+A180+1","v":137},null,null,null,null,null,null,null,null,null,null,null,null,null,null,null,null,null,null,null,null,null,null,null,null,null,null,null,null,null,null,null,0,0,{"$error":"#DIV/0!"}]
[138,null,null,null,null,null,null,null,null,null,null,null,null,null,null,null,null,null,null,null,null,null,null,null,null,null,null,null,null,null,null,null,0,0,{"$error":"#DIV/0!"}]
[139,null,null,null,null,null,null,null,null,null,null,null,null,null,null,null,null,null,null,null,null,null,null,null,null,null,null,null,null,null,null,null,0,0,{"$error":"#DIV/0!"}]
[140,null,null,null,null,null,null,null,null,null,null,null,null,null,null,null,null,null,null,null,null,null,null,null,null,null,null,null,null,null,null,null,0,0,{"$error":"#DIV/0!"}]
[141,null,null,null,null,null,null,null,null,null,null,null,null,null,null,null,null,null,null,null,null,null,null,null,null,null,null,null,null,null,null,null,0,0,{"$error":"#DIV/0!"}]
[142,null,null,null,null,null,null,null,null,null,null,null,null,null,null,null,null,null,null,null,null,null,null,null,null,null,null,null,null,null,null,null,0,0,{"$error":"#DIV/0!"}]
[143,null,null,null,null,null,null,null,null,null,null,null,null,null,null,null,null,null,null,null,null,null,null,null,null,null,null,null,null,null,null,null,0,0,{"$error":"#DIV/0!"}]
[144,null,null,null,null,null,null,null,null,null,null,null,null,null,null,null,null,null,null,null,null,null,null,null,null,null,null,null,null,null,null,null,0,0,{"$error":"#DIV/0!"}]
[145,null,null,null,null,null,null,null,null,null,null,null,null,null,null,null,null,null,null,null,null,null,null,null,null,null,null,null,null,null,null,null,0,0,{"$error":"#DIV/0!"}]
[146,null,null,null,null,null,null,null,null,null,null,null,null,null,null,null,null,null,null,null,null,null,null,null,null,null,null,null,null,null,null,null,0,0,{"$error":"#DIV/0!"}]
[147,null,null,null,null,null,null,null,null,null,null,null,null,null,null,null,null,null,null,null,null,null,null,null,null,null,null,null,null,null,null,null,0,0,{"$error":"#DIV/0!"}]
[148,null,null,null,null,null,null,null,null,null,null,null,null,null,null,null,null,null,null,null,null,null,null,null,null,null,null,null,null,null,null,null,0,0,{"$error":"#DIV/0!"}]
[149,null,null,null,null,null,null,null,null,null,null,null,null,null,null,null,null,null,null,null,null,null,null,null,null,null,null,null,null,null,null,null,0,0,{"$error":"#DIV/0!"}]
[150,null,null,null,null,null,null,null,null,null,null,null,null,null,null,null,null,null,null,null,null,null,null,null,null,null,null,null,null,null,null,null,0,0,{"$error":"#DIV/0!"}]
[151,null,null,null,null,null,null,null,null,null,null,null,null,null,null,null,null,null,null,null,null,null,null,null,null,null,null,null,null,null,null,null,0,0,{"$error":"#DIV/0!"}]
[152,null,null,null,null,null,null,null,null,null,null,null,null,null,null,null,null,null,null,null,null,null,null,null,null,null,null,null,null,null,null,null,{"$f":"+AC196+Y196+W196+U196+S196+Q196+O196+M196+K196+I196+G196+E196+C196+AJ196","v":0},{"$f":"COUNT(C196:AD196)/2","v":0},{"$f":"+AG196/AH196","v":{"$error":"#DIV/0!"}}]
[153,null,null,null,null,null,null,null,null,null,null,null,null,null,null,null,null,null,null,null,null,null,null,null,null,null,null,null,null,null,null,null,0,0,{"$error":"#DIV/0!"}]
[154,null,null,null,null,null,null,null,null,null,null,null,null,null,null,null,null,null,null,null,null,null,null,null,null,null,null,null,null,null,null,null,0,0,{"$error":"#DIV/0!"}]
[155,null,null,null,null,null,null,null,null,null,null,null,null,null,null,null,null,null,null,null,null,null,null,null,null,null,null,null,null,null,null,null,0,0,{"$error":"#DIV/0!"}]
[156,null,null,null,null,null,null,null,null,null,null,null,null,null,null,null,null,null,null,null,null,null,null,null,null,null,null,null,null,null,null,null,0,0,{"$error":"#DIV/0!"}]
[157,null,null,null,null,null,null,null,null,null,null,null,null,null,null,null,null,null,null,null,null,null,null,null,null,null,null,null,null,null,null,null,0,0,{"$error":"#DIV/0!"}]
[158,null,null,null,null,null,null,null,null,null,null,null,null,null,null,null,null,null,null,null,null,null,null,null,null,null,null,null,null,null,null,null,0,0,{"$error":"#DIV/0!"}]
[159,null,null,null,null,null,null,null,null,null,null,null,null,null,null,null,null,null,null,null,null,null,null,null,null,null,null,null,null,null,null,null,0,0,{"$error":"#DIV/0!"}]
[160,null,null,null,null,null,null,null,null,null,null,null,null,null,null,null,null,null,null,null,null,null,null,null,null,null,null,null,null,null,null,null,0,0,{"$error":"#DIV/0!"}]
[161,null,null,null,null,null,null,null,null,null,null,null,null,null,null,null,null,null,null,null,null,null,null,null,null,null,null,null,null,null,null,null,0,0,{"$error":"#DIV/0!"}]
[162,null,null,null,null,null,null,null,null,null,null,null,null,null,null,null,null,null,null,null,null,null,null,null,null,null,null,null,null,null,null,null,0,0,{"$error":"#DIV/0!"}]
[163,null,null,null,null,null,null,null,null,null,null,null,null,null,null,null,null,null,null,null,null,null,null,null,null,null,null,null,null,null,null,null,0,0,{"$error":"#DIV/0!"}]
[164,null,null,null,null,null,null,null,null,null,null,null,null,null,null,null,null,null,null,null,null,null,null,null,null,null,null,null,null,null,null,null,0,0,{"$error":"#DIV/0!"}]
[165,null,null,null,null,null,null,null,null,null,null,null,null,null,null,null,null,null,null,null,null,null,null,null,null,null,null,null,null,null,null,null,0,0,{"$error":"#DIV/0!"}]
[166,null,null,null,null,null,null,null,null,null,null,null,null,null,null,null,null,null,null,null,null,null,null,null,null,null,null,null,null,null,null,null,0,0,{"$error":"#DIV/0!"}]
[167,null,null,null,null,null,null,null,null,null,null,null,null,null,null,null,null,null,null,null,null,null,null,null,null,null,null,null,null,null,null,null,0,0,{"$error":"#DIV/0!"}]
[168,null,null,null,null,null,null,null,null,null,null,null,null,null,null,null,null,null,null,null,null,null,null,null,null,null,null,null,null,null,null,null,0,0,{"$error":"#DIV/0!"}]
[169,null,null,null,null,null,null,null,null,null,null,null,null,null,null,null,null,null,null,null,null,null,null,null,null,null,null,null,null,null,null,null,0,0,{"$error":"#DIV/0!"}]
[170,null,null,null,null,null,null,null,null,null,null,null,null,null,null,null,null,null,null,null,null,null,null,null,null,null,null,null,null,null,null,null,0,0,{"$error":"#DIV/0!"}]
[171,null,null,null,null,null,null,null,null,null,null,null,null,null,null,null,null,null,null,null,null,null,null,null,null,null,null,null,null,null,null,null,0,0,{"$error":"#DIV/0!"}]
[172,null,null,null,null,null,null,null,null,null,null,null,null,null,null,null,null,null,null,null,null,null,null,null,null,null,null,null,null,null,null,null,0,0,{"$error":"#DIV/0!"}]
[173,null,null,null,null,null,null,null,null,null,null,null,null,null,null,null,null,null,null,null,null,null,null,null,null,null,null,null,null,null,null,null,0,0,{"$error":"#DIV/0!"}]
[174,null,null,null,null,null,null,null,null,null,null,null,null,null,null,null,null,null,null,null,null,null,null,null,null,null,null,null,null,null,null,null,0,0,{"$error":"#DIV/0!"}]
[175,null,null,null,null,null,null,null,null,null,null,null,null,null,null,null,null,null,null,null,null,null,null,null,null,null,null,null,null,null,null,null,0,0,{"$error":"#DIV/0!"}]
[176,null,null,null,null,null,null,null,null,null,null,null,null,null,null,null,null,null,null,null,null,null,null,null,null,null,null,null,null,null,null,null,0,0,{"$error":"#DIV/0!"}]
[177,null,null,null,null,null,null,null,null,null,null,null,null,null,null,null,null,null,null,null,null,null,null,null,null,null,null,null,null,null,null,null,0,0,{"$error":"#DIV/0!"}]
[178,null,null,null,null,null,null,null,null,null,null,null,null,null,null,null,null,null,null,null,null,null,null,null,null,null,null,null,null,null,null,null,0,0,{"$error":"#DIV/0!"}]
[179,null,null,null,null,null,null,null,null,null,null,null,null,null,null,null,null,null,null,null,null,null,null,null,null,null,null,null,null,null,null,null,0,0,{"$error":"#DIV/0!"}]
[180,null,null,null,null,null,null,null,null,null,null,null,null,null,null,null,null,null,null,null,null,null,null,null,null,null,null,null,null,null,null,null,0,0,{"$error":"#DIV/0!"}]
[181,null,null,null,null,null,null,null,null,null,null,null,null,null,null,null,null,null,null,null,null,null,null,null,null,null,null,null,null,null,null,null,0,0,{"$error":"#DIV/0!"}]
[182,null,null,null,null,null,null,null,null,null,null,null,null,null,null,null,null,null,null,null,null,null,null,null,null,null,null,null,null,null,null,null,0,0,{"$error":"#DIV/0!"}]
[183,null,null,null,null,null,null,null,null,null,null,null,null,null,null,null,null,null,null,null,null,null,null,null,null,null,null,null,null,null,null,null,0,0,{"$error":"#DIV/0!"}]
[184,null,null,null,null,null,null,null,null,null,null,null,null,null,null,null,null,null,null,null,null,null,null,null,null,null,null,null,null,null,null,null,0,0,{"$error":"#DIV/0!"}]
[185,null,null,null,null,null,null,null,null,null,null,null,null,null,null,null,null,null,null,null,null,null,null,null,null,null,null,null,null,null,null,null,0,0,{"$error":"#DIV/0!"}]
[186,null,null,null,null,null,null,null,null,null,null,null,null,null,null,null,null,null,null,null,null,null,null,null,null,null,null,null,null,null,null,null,0,0,{"$error":"#DIV/0!"}]
[187,null,null,null,null,null,null,null,null,null,null,null,null,null,null,null,null,null,null,null,null,null,null,null,null,null,null,null,null,null,null,null,0,0,{"$error":"#DIV/0!"}]
[188,null,null,null,null,null,null,null,null,null,null,null,null,null,null,null,null,null,null,null,null,null,null,null,null,null,null,null,null,null,null,null,0,0,{"$error":"#DIV/0!"}]
[189,null,null,null,null,null,null,null,null,null,null,null,null,null,null,null,null,null,null,null,null,null,null,null,null,null,null,null,null,null,null,null,0,0,{"$error":"#DIV/0!"}]
[190,null,null,null,null,null,null,null,null,null,null,null,null,null,null,null,null,null,null,null,null,null,null,null,null,null,null,null,null,null,null,null,0,0,{"$error":"#DIV/0!"}]
[191,null,null,null,null,null,null,null,null,null,null,null,null,null,null,null,null,null,null,null,null,null,null,null,null,null,null,null,null,null,null,null,0,0,{"$error":"#DIV/0!"}]
[192,null,null,null,null,null,null,null,null,null,null,null,null,null,null,null,null,null,null,null,null,null,null,null,null,null,null,null,null,null,null,null,0,0,{"$error":"#DIV/0!"}]
[193,null,null,null,null,null,null,null,null,null,null,null,null,null,null,null,null,null,null,null,null,null,null,null,null,null,null,null,null,null,null,null,0,0,{"$error":"#DIV/0!"}]
[194,null,null,null,null,null,null,null,null,null,null,null,null,null,null,null,null,null,null,null,null,null,null,null,null,null,null,null,null,null,null,null,0,0,{"$error":"#DIV/0!"}]
[195,null,null,null,null,null,null,null,null,null,null,null,null,null,null,null,null,null,null,null,null,null,null,null,null,null,null,null,null,null,null,null,0,0,{"$error":"#DIV/0!"}]
[196,null,null,null,null,null,null,null,null,null,null,null,null,null,null,null,null,null,null,null,null,null,null,null,null,null,null,null,null,null,null,null,0,0,{"$error":"#DIV/0!"}]
[197,null,null,null,null,null,null,null,null,null,null,null,null,null,null,null,null,null,null,null,null,null,null,null,null,null,null,null,null,null,null,null,0,0,{"$error":"#DIV/0!"}]
[198,null,null,null,null,null,null,null,null,null,null,null,null,null,null,null,null,null,null,null,null,null,null,null,null,null,null,null,null,null,null,null,0,0,{"$error":"#DIV/0!"}]
[199,null,null,null,null,null,null,null,null,null,null,null,null,null,null,null,null,null,null,null,null,null,null,null,null,null,null,null,null,null,null,null,0,0,{"$error":"#DIV/0!"}]
[200,null,null,null,null,null,null,null,null,null,null,null,null,null,null,null,null,null,null,null,null,null,null,null,null,null,null,null,null,null,null,null,0,0,{"$error":"#DIV/0!"}]
[{"$f":"+A244+1","v":201},null,null,null,null,null,null,null,null,null,null,null,null,null,null,null,null,null,null,null,null,null,null,null,null,null,null,null,null,null,null,null,0,0,{"$error":"#DIV/0!"}]
[202,null,null,null,null,null,null,null,null,null,null,null,null,null,null,null,null,null,null,null,null,null,null,null,null,null,null,null,null,null,null,null,0,0,{"$error":"#DIV/0!"}]
[203,null,null,null,null,null,null,null,null,null,null,null,null,null,null,null,null,null,null,null,null,null,null,null,null,null,null,null,null,null,null,null,0,0,{"$error":"#DIV/0!"}]
[204,null,null,null,null,null,null,null,null,null,null,null,null,null,null,null,null,null,null,null,null,null,null,null,null,null,null,null,null,null,null,null,0,0,{"$error":"#DIV/0!"}]
[205,null,null,null,null,null,null,null,null,null,null,null,null,null,null,null,null,null,null,null,null,null,null,null,null,null,null,null,null,null,null,null,0,0,{"$error":"#DIV/0!"}]
[206,null,null,null,null,null,null,null,null,null,null,null,null,null,null,null,null,null,null,null,null,null,null,null,null,null,null,null,null,null,null,null,0,0,{"$error":"#DIV/0!"}]
[207,null,null,null,null,null,null,null,null,null,null,null,null,null,null,null,null,null,null,null,null,null,null,null,null,null,null,null,null,null,null,null,0,0,{"$error":"#DIV/0!"}]

{"sheet":"Buti","index":8,"n_rows":240,"n_cols":67,"rows_kept":240,"cut":false,"hidden":false,"merged":[[42,26,42,28],[42,2,42,4],[42,5,42,7],[42,20,42,22],[42,23,42,25],[42,8,42,10],[42,11,42,13],[42,14,42,16],[42,17,42,19],[42,29,42,31],[42,32,42,34],[42,35,42,37],[42,56,42,58],[42,53,42,55],[42,50,42,52],[42,38,42,40],[42,41,42,43],[42,44,42,46],[42,47,42,49]]}
["BOTIFARRA"]
["Mes"]
[{"$f":"+GENERAL!B6","v":12},null,{"$f":"SUM(C5:C11)","v":0}]
[null,null,"Premi","Punts","Partides","General"]
[1,"Nogué",{"$f":"+AP$40","v":10},{"$f":"+AP$41","v":19},{"$f":"+AQ$40","v":1},{"$f":"+AP$26","v":0},{"$f":"IF(E5<A$3/2,-1,1)*800+C5+D5/1000","v":-789.98099999999999}]
[2,"Sebas",{"$f":"+F$40","v":6},{"$f":"+F$41","v":9},{"$f":"+G$40","v":1},{"$f":"+F$26","v":0},-793.99099999999999]
[3,"Manolo",{"$f":"+AM$40","v":2},{"$f":"+AM$41","v":8},{"$f":"+AN$40","v":1},{"$f":"+AM$26","v":0},-797.99199999999996]
[4,"Jordi",{"$f":"+I$40","v":0},{"$f":"+I$41","v":1},{"$f":"+J$40","v":1},{"$f":"+I$26","v":0},-799.99900000000002]
[5,"Gemma",{"$f":"+AJ$40","v":-2},{"$f":"+AJ$41","v":-8},{"$f":"+AK$40","v":1},{"$f":"+AJ$26","v":0},-802.00800000000004]
[6,"Carles",{"$f":"+U$40","v":-6},{"$f":"+U$41","v":-13},{"$f":"+V$40","v":1},{"$f":"+U$26","v":0},-806.01300000000003]
[7,"Núria",{"$f":"+AA$40","v":-10},{"$f":"+AA$41","v":-16},{"$f":"+AB$40","v":1},{"$f":"+AA$26","v":0},-810.01599999999996,null,null,null,null,null,null,null,null,null,null,null,null,null,null,null,null,null,null," "]
[8,"Palafox",{"$f":"+O$40","v":-100000000},{"$f":"+O$41","v":1},{"$f":"+P$40","v":0},{"$f":"+O$26","v":0},-100000799.999]
[9,"Marina",{"$f":"+BE$40","v":-100000000},{"$f":"+BE$41","v":1},{"$f":"+BF$40","v":0},{"$f":"+BE$26","v":0},-100000799.999]
[10,"Xavi",{"$f":"+AG$40","v":-100000000},{"$f":"+AG$41","v":1},{"$f":"+AH$40","v":0},{"$f":"+AG$26","v":0},-100000799.999]
[11,"David",{"$f":"+AD$40","v":-100000000},{"$f":"+AD$41","v":1},{"$f":"+AE$40","v":0},{"$f":"+AD$26","v":0},-100000799.999]
[12,"Grau",{"$f":"+AV$40","v":-100000000},{"$f":"+AV$41","v":1},{"$f":"+AW$40","v":0},{"$f":"+AV$26","v":0},-100000799.999]
[13,"Mariajo",{"$f":"+X$40","v":-100000000},{"$f":"+X$41","v":1},{"$f":"+Y$40","v":0},{"$f":"+X$26","v":0},-100000799.999]
[14,"Sergi",{"$f":"+R$40","v":-100000000},{"$f":"+R$41","v":1},{"$f":"+S$40","v":0},{"$f":"+R$26","v":0},-100000799.999]
[15,"Tito",{"$f":"+BB$40","v":-100000000},{"$f":"+BB$41","v":1},{"$f":"+BC$40","v":0},{"$f":"+BB$26","v":0},-100000799.999]
[16,"Goretti",{"$f":"+AS$40","v":-100000000},{"$f":"+AS$41","v":1},{"$f":"+AT$40","v":0},{"$f":"+AS$26","v":0},-100000799.999]
[17,"Lucía",{"$f":"+AY$40","v":-100000000},{"$f":"+AY$41","v":1},{"$f":"+AZ$40","v":0},{"$f":"+AY$26","v":0},-100000799.999]
[18,"Rosa M.",{"$f":"+L$40","v":-100000000},{"$f":"+L$41","v":1},{"$f":"+M$40","v":0},{"$f":"+L$26","v":0},-100000799.999]
[19,"Ana B",{"$f":"+C$40","v":-100000000},{"$f":"+C$41","v":1},{"$f":"+D$40","v":0},{"$f":"+C$26","v":0},-100000799.999]
[]
[]
[null,"General",{"$f":"+C27*C28","v":0},{"$f":"+D27*D28","v":0},null,{"$f":"+F27*F28","v":0},{"$f":"+G27*G28","v":0},null,{"$f":"+I27*I28","v":0},{"$f":"+J27*J28","v":0},null,{"$f":"+L27*L28","v":0},{"$f":"+M27*M28","v":0},null,{"$f":"+O27*O28","v":0},{"$f":"+P27*P28","v":0},null,{"$f":"+R27*R28","v":0},{"$f":"+S27*S28","v":0},null,{"$f":"+U27*U28","v":0},{"$f":"+V27*V28","v":0},null,{"$f":"+X27*X28","v":0},{"$f":"+Y27*Y28","v":0},null,{"$f":"+AA27*AA28","v":0},{"$f":"+AB27*AB28","v":0},null,{"$f":"+AD27*AD28","v":0},{"$f":"+AE27*AE28","v":0},null,{"$f":"+AG27*AG28","v":0},{"$f":"+AH27*AH28","v":0},null,{"$f":"+AJ27*AJ28","v":0},{"$f":"+AK27*AK28","v":0},null,{"$f":"+AM27*AM28","v":0},{"$f":"+AN27*AN28","v":0},null,{"$f":"+AP27*AP28","v":0},{"$f":"+AQ27*AQ28","v":0},null,{"$f":"+AS27*AS28","v":0},{"$f":"+AT27*AT28","v":0},null,{"$f":"+AV27*AV28","v":0},{"$f":"+AW27*AW28","v":0},null,{"$f":"+AY27*AY28","v":0},{"$f":"+AZ27*AZ28","v":0},null,{"$f":"+BB27*BB28","v":0},{"$f":"+BC27*BC28","v":0},null,{"$f":"+BE27*BE28","v":0},{"$f":"+BF27*BF28","v":0}]
[null,null,{"$f":"IF($B39>3,1,0)","v":0},{"$f":"IF($B39>3,1,0)","v":0},null,{"$f":"IF($B39>3,1,0)","v":0},{"$f":"IF($B39>3,1,0)","v":0},null,{"$f":"IF($B39>3,1,0)","v":0},{"$f":"IF($B39>3,1,0)","v":0},null,{"$f":"IF($B39>3,1,0)","v":0},{"$f":"IF($B39>3,1,0)","v":0},null,{"$f":"IF($B39>3,1,0)","v":0},{"$f":"IF($B39>3,1,0)","v":0},null,{"$f":"IF($B39>3,1,0)","v":0},{"$f":"IF($B39>3,1,0)","v":0},null,{"$f":"IF($B39>3,1,0)","v":0},{"$f":"IF($B39>3,1,0)","v":0},null,{"$f":"IF($B39>3,1,0)","v":0},{"$f":"IF($B39>3,1,0)","v":0},null,{"$f":"IF($B39>3,1,0)","v":0},{"$f":"IF($B39>3,1,0)","v":0},null,{"$f":"IF($B39>3,1,0)","v":0},{"$f":"IF($B39>3,1,0)","v":0},null,{"$f":"IF($B39>3,1,0)","v":0},{"$f":"IF($B39>3,1,0)","v":0},null,{"$f":"IF($B39>3,1,0)","v":0},{"$f":"IF($B39>3,1,0)","v":0},null,{"$f":"IF($B39>3,1,0)","v":0},{"$f":"IF($B39>3,1,0)","v":0},null,{"$f":"IF($B39>3,1,0)","v":0},{"$f":"IF($B39>3,1,0)","v":0},null,{"$f":"IF($B39>3,1,0)","v":0},{"$f":"IF($B39>3,1,0)","v":0},null,{"$f":"IF($B39>3,1,0)","v":0},{"$f":"IF($B39>3,1,0)","v":0},null,{"$f":"IF($B39>3,1,0)","v":0},{"$f":"IF($B39>3,1,0)","v":0},null,{"$f":"IF($B39>3,1,0)","v":0},{"$f":"IF($B39>3,1,0)","v":0},null,{"$f":"IF($B39>3,1,0)","v":0},{"$f":"IF($B39>3,1,0)","v":0}]
[null,null,{"$f":"MAX(C29:C33)","v":0},{"$f":"+D40","v":0},null,{"$f":"MAX(F29:F33)","v":0},{"$f":"+G40","v":1},null,{"$f":"MAX(I29:I33)","v":0},{"$f":"+J40","v":1},null,{"$f":"MAX(L29:L33)","v":0},{"$f":"+M40","v":0},null,{"$f":"MAX(O29:O33)","v":0},{"$f":"+P40","v":0},null,{"$f":"MAX(R29:R33)","v":0},{"$f":"+S40","v":0},null,{"$f":"MAX(U29:U33)","v":0},{"$f":"+V40","v":1},null,{"$f":"MAX(X29:X33)","v":0},{"$f":"+Y40","v":0},null,{"$f":"MAX(AA29:AA33)","v":0},{"$f":"+AB40","v":1},null,{"$f":"MAX(AD29:AD33)","v":0},{"$f":"+AE40","v":0},null,{"$f":"MAX(AG29:AG33)","v":0},{"$f":"+AH40","v":0},null,{"$f":"MAX(AJ29:AJ33)","v":0},{"$f":"+AK40","v":1},null,{"$f":"MAX(AM29:AM33)","v":0},{"$f":"+AN40","v":1},null,{"$f":"MAX(AP29:AP33)","v":0},{"$f":"+AQ40","v":1},null,{"$f":"MAX(AS29:AS33)","v":0},{"$f":"+AT40","v":0},null,{"$f":"MAX(AV29:AV33)","v":0},{"$f":"+AW40","v":0},null,{"$f":"MAX(AY29:AY33)","v":0},{"$f":"+AZ40","v":0},null,{"$f":"MAX(BB29:BB33)","v":0},{"$f":"+BC40","v":0},null,{"$f":"MAX(BE29:BE33)","v":0},{"$f":"+BF40","v":0}]
[null,null,{"$f":"IF(C$34=5,5,0)","v":0},null,null,{"$f":"IF(F$34=5,5,0)","v":0},null,null,{"$f":"IF(I$34=5,5,0)","v":0},null,null,{"$f":"IF(L$34=5,5,0)","v":0},null,null,{"$f":"IF(O$34=5,5,0)","v":0},null,null,{"$f":"IF(R$34=5,5,0)","v":0},null,null,{"$f":"IF(U$34=5,5,0)","v":0},null,null,{"$f":"IF(X$34=5,5,0)","v":0},null,null,{"$f":"IF(AA$34=5,5,0)","v":0},null,null,{"$f":"IF(AD$34=5,5,0)","v":0},null,null,{"$f":"IF(AG$34=5,5,0)","v":0},null,null,{"$f":"IF(AJ$34=5,5,0)","v":0},null,null,{"$f":"IF(AM$34=5,5,0)","v":0},null,null,{"$f":"IF(AP$34=5,5,0)","v":0},null,null,{"$f":"IF(AS$34=5,5,0)","v":0},null,null,{"$f":"IF(AV$34=5,5,0)","v":0},null,null,{"$f":"IF(AY$34=5,5,0)","v":0},null,null,{"$f":"IF(BB$34=5,5,0)","v":0},null,null,{"$f":"IF(BE$34=5,5,0)","v":0}]
[null,null,{"$f":"IF(C$34=4,10,0)","v":0},null,null,{"$f":"IF(F$34=4,10,0)","v":0},null,null,{"$f":"IF(I$34=4,10,0)","v":0},null,null,{"$f":"IF(L$34=4,10,0)","v":0},null,null,{"$f":"IF(O$34=4,10,0)","v":0},null,null,{"$f":"IF(R$34=4,10,0)","v":0},null,null,{"$f":"IF(U$34=4,10,0)","v":0},null,null,{"$f":"IF(X$34=4,10,0)","v":0},null,null,{"$f":"IF(AA$34=4,10,0)","v":0},null,null,{"$f":"IF(AD$34=4,10,0)","v":0},null,null,{"$f":"IF(AG$34=4,10,0)","v":0},null,null,{"$f":"IF(AJ$34=4,10,0)","v":0},null,null,{"$f":"IF(AM$34=4,10,0)","v":0},null,null,{"$f":"IF(AP$34=4,10,0)","v":0},null,null,{"$f":"IF(AS$34=4,10,0)","v":0},null,null,{"$f":"IF(AV$34=4,10,0)","v":0},null,null,{"$f":"IF(AY$34=4,10,0)","v":0},null,null,{"$f":"IF(BB$34=4,10,0)","v":0},null,null,{"$f":"IF(BE$34=4,10,0)","v":0}]
[null,null,{"$f":"IF(C$34=3,20,0)","v":0},null,null,{"$f":"IF(F$34=3,20,0)","v":0},null,null,{"$f":"IF(I$34=3,20,0)","v":0},null,null,{"$f":"IF(L$34=3,20,0)","v":0},null,null,{"$f":"IF(O$34=3,20,0)","v":0},null,null,{"$f":"IF(R$34=3,20,0)","v":0},null,null,{"$f":"IF(U$34=3,20,0)","v":0},null,null,{"$f":"IF(X$34=3,20,0)","v":0},null,null,{"$f":"IF(AA$34=3,20,0)","v":0},null,null,{"$f":"IF(AD$34=3,20,0)","v":0},null,null,{"$f":"IF(AG$34=3,20,0)","v":0},null,null,{"$f":"IF(AJ$34=3,20,0)","v":0},null,null,{"$f":"IF(AM$34=3,20,0)","v":0},null,null,{"$f":"IF(AP$34=3,20,0)","v":0},null,null,{"$f":"IF(AS$34=3,20,0)","v":0},null,null,{"$f":"IF(AV$34=3,20,0)","v":0},null,null,{"$f":"IF(AY$34=3,20,0)","v":0},null,null,{"$f":"IF(BB$34=3,20,0)","v":0},null,null,{"$f":"IF(BE$34=3,20,0)","v":0}]
[null,null,{"$f":"IF(C$34=2,40,0)","v":0},null,null,{"$f":"IF(F$34=2,40,0)","v":0},null,null,{"$f":"IF(I$34=2,40,0)","v":0},null,null,{"$f":"IF(L$34=2,40,0)","v":0},null,null,{"$f":"IF(O$34=2,40,0)","v":0},null,null,{"$f":"IF(R$34=2,40,0)","v":0},null,null,{"$f":"IF(U$34=2,40,0)","v":0},null,null,{"$f":"IF(X$34=2,40,0)","v":0},null,null,{"$f":"IF(AA$34=2,40,0)","v":0},null,null,{"$f":"IF(AD$34=2,40,0)","v":0},null,null,{"$f":"IF(AG$34=2,40,0)","v":0},null,null,{"$f":"IF(AJ$34=2,40,0)","v":0},null,null,{"$f":"IF(AM$34=2,40,0)","v":0},null,null,{"$f":"IF(AP$34=2,40,0)","v":0},null,null,{"$f":"IF(AS$34=2,40,0)","v":0},null,null,{"$f":"IF(AV$34=2,40,0)","v":0},null,null,{"$f":"IF(AY$34=2,40,0)","v":0},null,null,{"$f":"IF(BB$34=2,40,0)","v":0},null,null,{"$f":"IF(BE$34=2,40,0)","v":0}]
[null,null,{"$f":"IF(C$34=1,80,0)","v":0},null,null,{"$f":"IF(F$34=1,80,0)","v":0},null,null,{"$f":"IF(I$34=1,80,0)","v":0},null,null,{"$f":"IF(L$34=1,80,0)","v":0},null,null,{"$f":"IF(O$34=1,80,0)","v":0},null,null,{"$f":"IF(R$34=1,80,0)","v":0},null,null,{"$f":"IF(U$34=1,80,0)","v":0},null,null,{"$f":"IF(X$34=1,80,0)","v":0},null,null,{"$f":"IF(AA$34=1,80,0)","v":0},null,null,{"$f":"IF(AD$34=1,80,0)","v":0},null,null,{"$f":"IF(AG$34=1,80,0)","v":0},null,null,{"$f":"IF(AJ$34=1,80,0)","v":0},null,null,{"$f":"IF(AM$34=1,80,0)","v":0},null,null,{"$f":"IF(AP$34=1,80,0)","v":0},null,null,{"$f":"IF(AS$34=1,80,0)","v":0},null,null,{"$f":"IF(AV$34=1,80,0)","v":0},null,null,{"$f":"IF(AY$34=1,80,0)","v":0},null,null,{"$f":"IF(BB$34=1,80,0)","v":0},null,null,{"$f":"IF(BE$34=1,80,0)","v":0}]
[null,null,{"$f":"RANK(C35,$C35:$BF35)*C39","v":0},null,null,{"$f":"RANK(F35,$C35:$BF35)*F39","v":0},null,null,{"$f":"RANK(I35,$C35:$BF35)*I39","v":0},null,null,{"$f":"RANK(L35,$C35:$BF35)*L39","v":0},null,null,{"$f":"RANK(O35,$C35:$BF35)*O39","v":0},null,null,{"$f":"RANK(R35,$C35:$BF35)*R39","v":0},null,null,{"$f":"RANK(U35,$C35:$BF35)*U39","v":0},null,null,{"$f":"RANK(X35,$C35:$BF35)*X39","v":0},null,null,{"$f":"RANK(AA35,$C35:$BF35)*AA39","v":0},null,null,{"$f":"RANK(AD35,$C35:$BF35)*AD39","v":0},null,null,{"$f":"RANK(AG35,$C35:$BF35)*AG39","v":0},null,null,{"$f":"RANK(AJ35,$C35:$BF35)*AJ39","v":0},null,null,{"$f":"RANK(AM35,$C35:$BF35)*AM39","v":0},null,null,{"$f":"RANK(AP35,$C35:$BF35)*AP39","v":0},null,null,{"$f":"RANK(AS35,$C35:$BF35)*AS39","v":0},null,null,{"$f":"RANK(AV35,$C35:$BF35)*AV39","v":0},null,null,{"$f":"RANK(AY35,$C35:$BF35)*AY39","v":0},null,null,{"$f":"RANK(BB35,$C35:$BF35)*BB39","v":0},null,null,{"$f":"RANK(BE35,$C35:$BF35)*BE39","v":0}]
[null,null,{"$f":"SUM(C36:C38)","v":-999999900},null,null,{"$f":"SUM(F36:F38)","v":-999999099},null,null,{"$f":"SUM(I36:I38)","v":-999999899},null,null,{"$f":"SUM(L36:L38)","v":-999999900},null,null,{"$f":"SUM(O36:O38)","v":-999999900},null,null,{"$f":"SUM(R36:R38)","v":-999999900},null,null,{"$f":"SUM(U36:U38)","v":-1000001299},null,null,{"$f":"SUM(X36:X38)","v":-999999900},null,null,{"$f":"SUM(AA36:AA38)","v":-1000001599},null,null,{"$f":"SUM(AD36:AD38)","v":-999999900},null,null,{"$f":"SUM(AG36:AG38)","v":-999999900},null,null,{"$f":"SUM(AJ36:AJ38)","v":-1000000799},null,null,{"$f":"SUM(AM36:AM38)","v":-999999199},null,null,{"$f":"SUM(AP36:AP38)","v":-999998099},null,null,{"$f":"SUM(AS36:AS38)","v":-999999900},null,null,{"$f":"SUM(AV36:AV38)","v":-999999900},null,null,{"$f":"SUM(AY36:AY38)","v":-999999900},null,null,{"$f":"SUM(BB36:BB38)","v":-9999900},null,null,{"$f":"SUM(BE36:BE38)","v":-9999900}]
[null,null,{"$f":"+D40","v":0},null,null,{"$f":"+G40","v":1},null,null,{"$f":"+J40","v":1},null,null,{"$f":"+M40","v":0},null,null,{"$f":"+P40","v":0},null,null,{"$f":"+S40","v":0},null,null,{"$f":"+V40","v":1},null,null,{"$f":"+Y40","v":0},null,null,{"$f":"+AB40","v":1},null,null,{"$f":"+AE40","v":0},null,null,{"$f":"+AH40","v":0},null,null,{"$f":"+AK40","v":1},null,null,{"$f":"+AN40","v":1},null,null,{"$f":"+AQ40","v":1},null,null,{"$f":"+AT40","v":0},null,null,{"$f":"+AW40","v":0},null,null,{"$f":"+AZ40","v":0},null,null,{"$f":"+BC40","v":0},null,null,{"$f":"+BF40","v":0}]
[null,null,{"$f":"+C41*100","v":100},null,null,{"$f":"+F41*100","v":900},null,null,{"$f":"+I41*100","v":100},null,null,{"$f":"+L41*100","v":100},null,null,{"$f":"+O41*100","v":100},null,null,{"$f":"+R41*100","v":100},null,null,{"$f":"+U41*100","v":-1300},null,null,{"$f":"+X41*100","v":100},null,null,{"$f":"+AA41*100","v":-1600},null,null,{"$f":"+AD41*100","v":100},null,null,{"$f":"+AG41*100","v":100},null,null,{"$f":"+AJ41*100","v":-800},null,null,{"$f":"+AM41*100","v":800},null,null,{"$f":"+AP41*100","v":1900},null,null,{"$f":"+AS41*100","v":100},null,null,{"$f":"+AV41*100","v":100},null,null,{"$f":"+AY41*100","v":100},null,null,{"$f":"+BB41*100","v":100},null,null,{"$f":"+BE41*100","v":100}]
[null,null,{"$f":"IF(D40-$A3/2<0,-1000000000,C40*C39*100000+C40)","v":-1000000000},null,null,{"$f":"IF(G40-$A3/2<0,-1000000000,F40*F39*100000+F40)","v":-1000000000},null,null,{"$f":"IF(J40-$A3/2<0,-1000000000,I40*I39*100000+I40)","v":-1000000000},null,null,{"$f":"IF(M40-$A3/2<0,-1000000000,L40*L39*100000+L40)","v":-1000000000},null,null,{"$f":"IF(P40-$A3/2<0,-1000000000,O40*O39*100000+O40)","v":-1000000000},null,null,{"$f":"IF(S40-$A3/2<0,-1000000000,R40*R39*100000+R40)","v":-1000000000},null,null,{"$f":"IF(V40-$A3/2<0,-1000000000,U40*U39*100000+U40)","v":-1000000000},null,null,{"$f":"IF(Y40-$A3/2<0,-1000000000,X40*X39*100000+X40)","v":-1000000000},null,null,{"$f":"IF(AB40-$A3/2<0,-1000000000,AA40*AA39*100000+AA40)","v":-1000000000},null,null,{"$f":"IF(AE40-$A3/2<0,-1000000000,AD40*AD39*100000+AD40)","v":-1000000000},null,null,{"$f":"IF(AH40-$A3/2<0,-1000000000,AG40*AG39*100000+AG40)","v":-1000000000},null,null,{"$f":"IF(AK40-$A3/2<0,-1000000000,AJ40*AJ39*100000+AJ40)","v":-1000000000},null,null,{"$f":"IF(AN40-$A3/2<0,-1000000000,AM40*AM39*100000+AM40)","v":-1000000000},null,null,{"$f":"IF(AQ40-$A3/2<0,-1000000000,AP40*AP39*100000+AP40)","v":-1000000000},null,null,{"$f":"IF(AT40-$A3/2<0,-1000000000,AS40*AS39*100000+AS40)","v":-1000000000},null,null,{"$f":"IF(AW40-$A3/2<0,-1000000000,AV40*AV39*100000+AV40)","v":-1000000000},null,null,{"$f":"IF(AZ40-$A3/2<0,-1000000000,AY40*AY39*100000+AY40)","v":-1000000000},null,null,{"$f":"IF(BC40-$A3/2<0,-10000000,BB40*BB39*100000+BB40)","v":-10000000},null,null,{"$f":"IF(BF40-$A3/2<0,-10000000,BE40*BE39*100000+BE40)","v":-10000000}]
["Classificats",{"$f":"SUM(C39:BE39)","v":0},{"$f":"IF(D40>=$A3/2,1,0)","v":0},null,null,{"$f":"IF(G40>=$A3/2,1,0)","v":0},null,null,{"$f":"IF(J40>=$A3/2,1,0)","v":0},null,null,{"$f":"IF(M40>=$A3/2,1,0)","v":0},null,null,{"$f":"IF(P40>=$A3/2,1,0)","v":0},null,null,{"$f":"IF(S40>=$A3/2,1,0)","v":0},null,null,{"$f":"IF(V40>=$A3/2,1,0)","v":0},null,null,{"$f":"IF(Y40>=$A3/2,1,0)","v":0},null,null,{"$f":"IF(AB40>=$A3/2,1,0)","v":0},null,null,{"$f":"IF(AE40>=$A3/2,1,0)","v":0},null,null,{"$f":"IF(AH40>=$A3/2,1,0)","v":0},null,null,{"$f":"IF(AK40>=$A3/2,1,0)","v":0},null,null,{"$f":"IF(AN40>=$A3/2,1,0)","v":0},null,null,{"$f":"IF(AQ40>=$A3/2,1,0)","v":0},null,null,{"$f":"IF(AT40>=$A3/2,1,0)","v":0},null,null,{"$f":"IF(AW40>=$A3/2,1,0)","v":0},null,null,{"$f":"IF(AZ40>=$A3/2,1,0)","v":0},null,null,{"$f":"IF(BC40>=$A3/2,1,0)","v":0},null,null,{"$f":"IF(BF40>=$A3/2,1,0)","v":0},null,null,{"$f":"MAX(BI42:BI101)","v":373}]
[null,null,{"$f":"IF(SUM(C45:C240)<-1000,-100000000,SUM(C45:C240))","v":-100000000},{"$f":"COUNT(D45:D240)","v":0},null,{"$f":"IF(SUM(F45:F240)<-1000,-100000000,SUM(F45:F240))","v":6},{"$f":"COUNT(G45:G240)","v":1},null,{"$f":"IF(SUM(I45:I240)<-1000,-100000000,SUM(I45:I240))","v":0},{"$f":"COUNT(J45:J240)","v":1},null,{"$f":"IF(SUM(L45:L240)<-1000,-100000000,SUM(L45:L240))","v":-100000000},{"$f":"COUNT(M45:M240)","v":0},null,{"$f":"IF(SUM(O45:O240)<-1000,-100000000,SUM(O45:O240))","v":-100000000},{"$f":"COUNT(P45:P240)","v":0},null,{"$f":"IF(SUM(R45:R240)<-1000,-100000000,SUM(R45:R240))","v":-100000000},{"$f":"COUNT(S45:S240)","v":0},null,{"$f":"IF(SUM(U45:U240)<-1000,-100000000,SUM(U45:U240))","v":-6},{"$f":"COUNT(V45:V240)","v":1},null,{"$f":"IF(SUM(X45:X240)<-1000,-100000000,SUM(X45:X240))","v":-100000000},{"$f":"COUNT(Y45:Y240)","v":0},null,{"$f":"IF(SUM(AA45:AA240)<-1000,-100000000,SUM(AA45:AA240))","v":-10},{"$f":"COUNT(AB45:AB240)","v":1},null,{"$f":"IF(SUM(AD45:AD240)<-1000,-100000000,SUM(AD45:AD240))","v":-100000000},{"$f":"COUNT(AE45:AE240)","v":0},null,{"$f":"IF(SUM(AG45:AG240)<-1000,-100000000,SUM(AG45:AG240))","v":-100000000},{"$f":"COUNT(AH45:AH240)","v":0},null,{"$f":"IF(SUM(AJ45:AJ240)<-1000,-100000000,SUM(AJ45:AJ240))","v":-2},{"$f":"COUNT(AK45:AK240)","v":1},null,{"$f":"IF(SUM(AM45:AM240)<-1000,-100000000,SUM(AM45:AM240))","v":2},{"$f":"COUNT(AN45:AN240)","v":1},null,{"$f":"IF(SUM(AP45:AP240)<-1000,-100000000,SUM(AP45:AP240))","v":10},{"$f":"COUNT(AQ45:AQ240)","v":1},null,{"$f":"IF(SUM(AS45:AS240)<-1000,-100000000,SUM(AS45:AS240))","v":-100000000},{"$f":"COUNT(AT45:AT240)","v":0},null,{"$f":"IF(SUM(AV45:AV240)<-1000,-100000000,SUM(AV45:AV240))","v":-100000000},{"$f":"COUNT(AW45:AW240)","v":0},null,{"$f":"IF(SUM(AY45:AY240)<-1000,-100000000,SUM(AY45:AY240))","v":-100000000},{"$f":"COUNT(AZ45:AZ240)","v":0},null,{"$f":"IF(SUM(BB45:BB240)<-1000,-100000000,SUM(BB45:BB240))","v":-100000000},{"$f":"COUNT(BC45:BC240)","v":0},null,{"$f":"IF(SUM(BE45:BE240)<-1000,-100000000,SUM(BE45:BE240))","v":-100000000},{"$f":"COUNT(BF45:BF240)","v":0},null,null,"A"]
[null,null,{"$f":"+D41-E41","v":1},{"$f":"SUM(D45:D240)","v":0},{"$f":"SUM(E45:E240)","v":-1},{"$f":"+G41-H41","v":9},{"$f":"SUM(G45:G240)","v":23},{"$f":"SUM(H45:H240)","v":14},{"$f":"+J41-K41","v":1},{"$f":"SUM(J45:J240)","v":5},{"$f":"SUM(K45:K240)","v":4},{"$f":"+M41-N41","v":1},{"$f":"SUM(M45:M240)","v":0},{"$f":"SUM(N45:N240)","v":-1},{"$f":"+P41-Q41","v":1},{"$f":"SUM(P45:P240)","v":0},{"$f":"SUM(Q45:Q240)","v":-1},{"$f":"+S41-T41","v":1},{"$f":"SUM(S45:S240)","v":0},{"$f":"SUM(T45:T240)","v":-1},{"$f":"+V41-W41","v":-13},{"$f":"SUM(V45:V240)","v":4},{"$f":"SUM(W45:W240)","v":17},{"$f":"+Y41-Z41","v":1},{"$f":"SUM(Y45:Y240)","v":0},{"$f":"SUM(Z45:Z240)","v":-1},{"$f":"+AB41-AC41","v":-16},{"$f":"SUM(AB45:AB240)","v":2},{"$f":"SUM(AC45:AC240)","v":18},{"$f":"+AE41-AF41","v":1},{"$f":"SUM(AE45:AE240)","v":0},{"$f":"SUM(AF45:AF240)","v":-1},{"$f":"+AH41-AI41","v":1},{"$f":"SUM(AH45:AH240)","v":0},{"$f":"SUM(AI45:AI240)","v":-1},{"$f":"+AK41-AL41","v":-8},{"$f":"SUM(AK45:AK240)","v":15},{"$f":"SUM(AL45:AL240)","v":23},{"$f":"+AN41-AO41","v":8},{"$f":"SUM(AN45:AN240)","v":18},{"$f":"SUM(AO45:AO240)","v":10},{"$f":"+AQ41-AR41","v":19},{"$f":"SUM(AQ45:AQ240)","v":23},{"$f":"SUM(AR45:AR240)","v":4},{"$f":"+AT41-AU41","v":1},{"$f":"SUM(AT45:AT240)","v":0},{"$f":"SUM(AU45:AU240)","v":-1},{"$f":"+AW41-AX41","v":1},{"$f":"SUM(AW45:AW240)","v":0},{"$f":"SUM(AX45:AX240)","v":-1},{"$f":"+AZ41-BA41","v":1},{"$f":"SUM(AZ45:AZ240)","v":0},{"$f":"SUM(BA45:BA240)","v":-1},{"$f":"+BC41-BD41","v":1},{"$f":"SUM(BC45:BC240)","v":0},{"$f":"SUM(BD45:BD240)","v":-1},{"$f":"+BF41-BG41","v":1},{"$f":"SUM(BF45:BF240)","v":0},{"$f":"SUM(BG45:BG240)","v":-1},null,"B"]
[null,null,null,null,null,null,null,null,{"$f":"COUNTIF(I45:I64,10)","v":0},null,null,null,null,null,null,null,null,{"$f":"COUNTIF(R45:R64,10)","v":0},null,null,{"$f":"COUNTIF(U45:U64,10)","v":0},null,null,{"$f":"COUNTIF(X45:X64,10)","v":0},null,null,null,null,null,null,null,null,null,null,null,null,null,null,{"$f":"COUNTIF(AM45:AM64,10)","v":0},null,null,null,null,null,{"$f":"COUNTIF(AS45:AS64,10)","v":0},null,null,{"$f":"COUNTIF(AV45:AV64,10)","v":0},null,null,{"$f":"COUNTIF(AY45:AY64,10)","v":0},null,null,null,null,null,null,null,null,{"$f":"MAX(BI45:BI104)","v":373}]
[null,"Nº partida ","Ana B",null,null,"Sebas",null,null,"Jordi",null,null,"Rosa M.",null,null,"Montse P.",null,null,"Sergi",null,null,"Carles",null,null,"Mariajo",null,null,"Núria",null,null,"David",null,null,"Xavi",null,null,"Gemma",null,null,"Manolo",null,null,"Nogué",null,null,"Goretti",null,null,"Grau",null,null,"Lucía",null,null,"Tito",null,null,"Marina",null,null,{"$f":"COUNT(BH45:BH255)","v":1},"A","B","C"]
[null,"5 copes","Premi","Punts",null,"Premi","Punts",null,"Premi","Punts",null,"Premi","Punts",null,"Premi","Punts",null,"Premi","Punts",null,"Premi","Punts",null,"Premi","Punts",null,"Premi","Punts",null,"Premi","Punts",null,"Premi","Punts",null,"Premi","Punts",null,"Premi","Punts",null,"Premi","Punts",null,"Premi","Punts",null,"Premi","Punts",null,"Premi","Punts",null,"Premi","Punts",null,"Premi","Punts",null,"Data","Timba"]
[1,null,-10000,null,-1,6,23,14,0,5,4,-10000,null,-1,-10000,null,-1,-10000,null,-1,-6,4,17,-10000,null,-1,-10,2,18,-10000,null,-1,-10000,null,-1,-2,15,23,2,18,10,10,23,4,-10000,null,-1,-10000,null,-1,-10000,null,-1,-10000,null,-1,-10000,null,-1,"2021-10-07",373,{"$f":"+BE45+AJ45+AG45+AD45+AA45+X45+U45+R45+O45+L45+I45+F45+C45+AM45+AP45+AT45+AW45+#REF!+BB45","v":{"$error":"#REF!"}},{"$f":"+BF45+AK45+AH45+AE45+AB45+Y45+V45+S45+P45+M45+J45+G45+D45+AN45+AQ45+AU45+AX45+AZ45+BC45","v":88},{"$f":"+BG45+AL45+AI45+AF45+AC45+Z45+W45+T45+Q45+N45+K45+H45+E45+AO45+AR45+AV45+AY45+BA45+BD45","v":-19920},{"$f":"+BK45-BL45","v":20008},{"$f":"COUNT(C45:BG45)/3","v":15},{"$f":"+BJ45/BN45","v":{"$error":"#REF!"}}]
[{"$f":"+A45+1","v":2},null,null,null,null,null,null,null,null,null,null,null,null,null,null,null,null,null,null,null,null,null,null,null,null,null,null,null,null,null,null,null,null,null,null,null,null,null,null,null,null,null,null,null,null,null,null,null,null,null,null,null,null,null,null,null,null,null,null,null,null,{"$f":"+BE46+AJ46+AG46+AD46+AA46+X46+U46+R46+O46+L46+I46+F46+C46+AM46+AP46+AS46+AV46+AY46+BB46","v":0},{"$f":"+BF46+AK46+AH46+AE46+AB46+Y46+V46+S46+P46+M46+J46+G46+D46+AN46+AQ46+AT46+AW46+AZ46+BC46","v":0},{"$f":"+BG46+AL46+AI46+AF46+AC46+Z46+W46+T46+Q46+N46+K46+H46+E46+AO46+AR46+AU46+AX46+BA46+BD46","v":0},0,0,{"$error":"#DIV/0!"}]
[{"$f":"+A46+1","v":3},null,null,null,null,null,null,null,null,null,null,null,null,null,null,null,null,null,null,null,null,null,null,null,null,null,null,null,null,null,null,null,null,null,null,null,null,null,null,null,null,null,null,null,null,null,null,null,null,null,null,null,null,null,null,null,null,null,null,null,null,0,0,0,0,0,{"$error":"#DIV/0!"}]
[4,null,null,null,null,null,null,null,null,null,null,null,null,null,null,null,null,null,null,null,null,null,null,null,null,null,null,null,null,null,null,null,null,null,null,null,null,null,null,null,null,null,null,null,null,null,null,null,null,null,null,null,null,null,null,null,null,null,null,null,null,0,0,0,0,0,{"$error":"#DIV/0!"}]
[5,null,null,null,null,null,null,null,null,null,null,null,null,null,null,null,null,null,null,null,null,null,null,null,null,null,null,null,null,null,null,null,null,null,null,null,null,null,null,null,null,null,null,null,null,null,null,null,null,null,null,null,null,null,null,null,null,null,null,null,null,0,0,0,0,0,{"$error":"#DIV/0!"}]
[6,null,null,null,null,null,null,null,null,null,null,null,null,null,null,null,null,null,null,null,null,null,null,null,null,null,null,null,null,null,null,null,null,null,null,null,null,null,null,null,null,null,null,null,null,null,null,null,null,null,null,null,null,null,null,null,null,null,null,null,null,0,0,0,0,0,{"$error":"#DIV/0!"}]
[7,null,null,null,null,null,null,null,null,null,null,null,null,null,null,null,null,null,null,null,null,null,null,null,null,null,null,null,null,null,null,null,null,null,null,null,null,null,null,null,null,null,null,null,null,null,null,null,null,null,null,null,null,null,null,null,null,null,null,null,null,0,0,0,0,0,{"$error":"#DIV/0!"}]
[8,null,null,null,null,null,null,null,null,null,null,null,null,null,null,null,null,null,null,null,null,null,null,null,null,null,null,null,null,null,null,null,null,null,null,null,null,null,null,null,null,null,null,null,null,null,null,null,null,null,null,null,null,null,null,null,null,null,null,null,null,0,0,0,0,0,{"$error":"#DIV/0!"}]
[9,null,null,null,null,null,null,null,null,null,null,null,null,null,null,null,null,null,null,null,null,null,null,null,null,null,null,null,null,null,null,null,null,null,null,null,null,null,null,null,null,null,null,null,null,null,null,null,null,null,null,null,null,null,null,null,null,null,null,null,null,0,0,0,0,0,{"$error":"#DIV/0!"}]
[10,null,null,null,null,null,null,null,null,null,null,null,null,null,null,null,null,null,null,null,null,null,null,null,null,null,null,null,null,null,null,null,null,null,null,null,null,null,null,null,null,null,null,null,null,null,null,null,null,null,null,null,null,null,null,null,null,null,null,null,null,0,0,0,0,0,{"$error":"#DIV/0!"}]
[11,null,null,null,null,null,null,null,null,null,null,null,null,null,null,null,null,null,null,null,null,null,null,null,null,null,null,null,null,null,null,null,null,null,null,null,null,null,null,null,null,null,null,null,null,null,null,null,null,null,null,null,null,null,null,null,null,null,null,null,null,0,0,0,0,0,{"$error":"#DIV/0!"}]
[12,null,null,null,null,null,null,null,null,null,null,null,null,null,null,null,null,null,null,null,null,null,null,null,null,null,null,null,null,null,null,null,null,null,null,null,null,null,null,null,null,null,null,null,null,null,null,null,null,null,null,null,null,null,null,null,null,null,null,null,null,0,0,0,0,0,{"$error":"#DIV/0!"}]
[13,null,null,null,null,null,null,null,null,null,null,null,null,null,null,null,null,null,null,null,null,null,null,null,null,null,null,null,null,null,null,null,null,null,null,null,null,null,null,null,null,null,null,null,null,null,null,null,null,null,null,null,null,null,null,null,null,null,null,null,null,0,0,0,0,0,{"$error":"#DIV/0!"}]
[14,null,null,null,null,null,null,null,null,null,null,null,null,null,null,null,null,null,null,null,null,null,null,null,null,null,null,null,null,null,null,null,null,null,null,null,null,null,null,null,null,null,null,null,null,null,null,null,null,null,null,null,null,null,null,null,null,null,null,null,null,0,0,0,0,0,{"$error":"#DIV/0!"}]
[15,null,null,null,null,null,null,null,null,null,null,null,null,null,null,null,null,null,null,null,null,null,null,null,null,null,null,null,null,null,null,null,null,null,null,null,null,null,null,null,null,null,null,null,null,null,null,null,null,null,null,null,null,null,null,null,null,null,null,null,null,0,0,0,0,0,{"$error":"#DIV/0!"}]
[16,null,null,null,null,null,null,null,null,null,null,null,null,null,null,null,null,null,null,null,null,null,null,null,null,null,null,null,null,null,null,null,null,null,null,null,null,null,null,null,null,null,null,null,null,null,null,null,null,null,null,null,null,null,null,null,null,null,null,null,null,0,0,0,0,0,{"$error":"#DIV/0!"}]
[17,null,null,null,null,null,null,null,null,null,null,null,null,null,null,null,null,null,null,null,null,null,null,null,null,null,null,null,null,null,null,null,null,null,null,null,null,null,null,null,null,null,null,null,null,null,null,null,null,null,null,null,null,null,null,null,null,null,null,null,null,0,0,0,0,0,{"$error":"#DIV/0!"}]
[18,null,null,null,null,null,null,null,null,null,null,null,null,null,null,null,null,null,null,null,null,null,null,null,null,null,null,null,null,null,null,null,null,null,null,null,null,null,null,null,null,null,null,null,null,null,null,null,null,null,null,null,null,null,null,null,null,null,null,null,null,0,0,0,0,0,{"$error":"#DIV/0!"}]
[19,null,null,null,null,null,null,null,null,null,null,null,null,null,null,null,null,null,null,null,null,null,null,null,null,null,null,null,null,null,null,null,null,null,null,null,null,null,null,null,null,null,null,null,null,null,null,null,null,null,null,null,null,null,null,null,null,null,null,null,null,0,0,0,0,0,{"$error":"#DIV/0!"}]
[20,null,null,null,null,null,null,null,null,null,null,null,null,null,null,null,null,null,null,null,null,null,null,null,null,null,null,null,null,null,null,null,null,null,null,null,null,null,null,null,null,null,null,null,null,null,null,null,null,null,null,null,null,null,null,null,null,null,null,null,null,{"$f":"+BE64+AJ64+AG64+AD64+AA64+X64+U64+R64+O64+L64+I64+F64+C64+AM64+AP64+AS64+AV64+AY64+BB64","v":0},{"$f":"+BF64+AK64+AH64+AE64+AB64+Y64+V64+S64+P64+M64+J64+G64+D64+AN64+AQ64+AT64+AW64+AZ64+BC64","v":0},{"$f":"+BG64+AL64+AI64+AF64+AC64+Z64+W64+T64+Q64+N64+K64+H64+E64+AO64+AR64+AU64+AX64+BA64+BD64","v":0},{"$f":"+BK64-BL64","v":0},{"$f":"COUNT(C64:BG64)/3","v":0},{"$f":"+BJ64/BN64","v":{"$error":"#DIV/0!"}}]
[21,null,null,null,null,null,null,null,null,null,null,null,null,null,null,null,null,null,null,null,null,null,null,null,null,null,null,null,null,null,null,null,null,null,null,null,null,null,null,null,null,null,null,null,null,null,null,null,null,null,null,null,null,null,null,null,null,null,null,null,null,0,0,0,0,0,{"$error":"#DIV/0!"}]
[22,null,null,null,null,null,null,null,null,null,null,null,null,null,null,null,null,null,null,null,null,null,null,null,null,null,null,null,null,null,null,null,null,null,null,null,null,null,null,null,null,null,null,null,null,null,null,null,null,null,null,null,null,null,null,null,null,null,null,null,null,0,0,0,0,0,{"$error":"#DIV/0!"}]
[23,null,null,null,null,null,null,null,null,null,null,null,null,null,null,null,null,null,null,null,null,null,null,null,null,null,null,null,null,null,null,null,null,null,null,null,null,null,null,null,null,null,null,null,null,null,null,null,null,null,null,null,null,null,null,null,null,null,null,null,null,0,0,0,0,0,{"$error":"#DIV/0!"}]
[24,null,null,null,null,null,null,null,null,null,null,null,null,null,null,null,null,null,null,null,null,null,null,null,null,null,null,null,null,null,null,null,null,null,null,null,null,null,null,null,null,null,null,null,null,null,null,null,null,null,null,null,null,null,null,null,null,null,null,null,null,0,0,0,0,0,{"$error":"#DIV/0!"}]
[25,null,null,null,null,null,null,null,null,null,null,null,null,null,null,null,null,null,null,null,null,null,null,null,null,null,null,null,null,null,null,null,null,null,null,null,null,null,null,null,null,null,null,null,null,null,null,null,null,null,null,null,null,null,null,null,null,null,null,null,null,0,0,0,0,0,{"$error":"#DIV/0!"}]
[26,null,null,null,null,null,null,null,null,null,null,null,null,null,null,null,null,null,null,null,null,null,null,null,null,null,null,null,null,null,null,null,null,null,null,null,null,null,null,null,null,null,null,null,null,null,null,null,null,null,null,null,null,null,null,null,null,null,null,null,null,0,0,0,0,0,{"$error":"#DIV/0!"}]
[27,null,null,null,null,null,null,null,null,null,null,null,null,null,null,null,null,null,null,null,null,null,null,null,null,null,null,null,null,null,null,null,null,null,null,null,null,null,null,null,null,null,null,null,null,null,null,null,null,null,null,null,null,null,null,null,null,null,null,null,null,0,0,0,0,0,{"$error":"#DIV/0!"}]
[28,null,null,null,null,null,null,null,null,null,null,null,null,null,null,null,null,null,null,null,null,null,null,null,null,null,null,null,null,null,null,null,null,null,null,null,null,null,null,null,null,null,null,null,null,null,null,null,null,null,null,null,null,null,null,null,null,null,null,null,null,0,0,0,0,0,{"$error":"#DIV/0!"}]
[29,null,null,null,null,null,null,null,null,null,null,null,null,null,null,null,null,null,null,null,null,null,null,null,null,null,null,null,null,null,null,null,null,null,null,null,null,null,null,null,null,null,null,null,null,null,null,null,null,null,null,null,null,null,null,null,null,null,null,null,null,0,0,0,0,0,{"$error":"#DIV/0!"}]
[30,null,null,null,null,null,null,null,null,null,null,null,null,null,null,null,null,null,null,null,null,null,null,null,null,null,null,null,null,null,null,null,null,null,null,null,null,null,null,null,null,null,null,null,null,null,null,null,null,null,null,null,null,null,null,null,null,null,null,null,null,0,0,0,0,0,{"$error":"#DIV/0!"}]
[31,null,null,null,null,null,null,null,null,null,null,null,null,null,null,null,null,null,null,null,null,null,null,null,null,null,null,null,null,null,null,null,null,null,null,null,null,null,null,null,null,null,null,null,null,null,null,null,null,null,null,null,null,null,null,null,null,null,null,null,null,0,0,0,0,0,{"$error":"#DIV/0!"}]
[32,null,null,null,null,null,null,null,null,null,null,null,null,null,null,null,null,null,null,null,null,null,null,null,null,null,null,null,null,null,null,null,null,null,null,null,null,null,null,null,null,null,null,null,null,null,null,null,null,null,null,null,null,null,null,null,null,null,null,null,null,0,0,0,0,0,{"$error":"#DIV/0!"}]
[33]
[34]
[35]
[36]
[37]
[38]
[39]
[40]
[41]
[42]
[43]
[44]
[45]
[{"$f":"+A89+1","v":46}]
[47]
[48]
[49]
[50]
[51]
[52]
[53]
[54]
[55]
[56]
[57]
[58]
[59]
[60]
[61]
[62]
[63]
[64]
[65]
[66]
[67]
[68]
[69]
[70]
[71]
[72]
[{"$f":"+A116+1","v":73}]
[74]
[75]
[76]
[77]
[78]
[79]
[80]
[81]
[82]
[83]
[84]
[85]
[86]
[87]
[88]
[89]
[90]
[91]
[92]
[93]
[94]
[95]
[96]
[97]
[98]
[99]
[100]
[101]
[102]
[103]
[104]
[105]
[106]
[107]
[108]
[109]
[110]
[111]
[112]
[113]
[114]
[115]
[116]
[117]
[118]
[119]
[120]
[121]
[122]
[123]
[124]
[125]
[126]
[127]
[128]
[129]
[130]
[131]
[132]
[133]
[134]
[135]
[136]
[{"$f":"+A180+1","v":137}]
[{"$f":"+A181+1","v":138}]
[{"$f":"+A182+1","v":139}]
[{"$f":"+A183+1","v":140}]
[141]
[142]
[143]
[144]
[145]
[146]
[147]
[148]
[149]
[150]
[151]
[152]
[153]
[154]
[155]
[156]
[157]
[158]
[159]
[160]
[161]
[162]
[163]
[164]
[165]
[166]
[167]
[168]
[169]
[170]
[171]
[172]
[173]
[174]
[175]
[176]
[177]
[178]
[179]
[180]
[181]
[182]
[183]
[184]
[185]
[186]
[187]
[188]
[189]
[190]
[191]
[192]
[193]
[194]
[195]
[196]

{"sheet":"Pumba","index":9,"n_rows":156,"n_cols":58,"rows_kept":156,"cut":false,"hidden":false,"merged":[[40,17,40,19],[40,2,40,4],[40,5,40,7],[40,8,40,10],[40,11,40,13],[40,14,40,16],[40,47,40,49],[40,20,40,22],[40,23,40,25],[40,50,40,52],[40,26,40,28],[40,29,40,31],[40,32,40,34],[40,41,40,43],[40,35,40,37],[40,38,40,40],[40,44,40,46]]}
["PUMBA"]
["Mes"]
[{"$f":"+GENERAL!B6","v":12},null,{"$f":"SUM(C5:C12)","v":0}]
[null,null,"Premi","Punts","Partides","General"]
[1,"Mariajo",{"$f":"+X$38","v":10},{"$f":"+X$39","v":6},{"$f":"+Y$38","v":1},{"$f":"+X$24","v":0},{"$f":"IF(E5<A$3/2,-1,1)*800+C5","v":-790}]
[2,"Sebas",{"$f":"+AJ$38","v":10},{"$f":"+AJ$39","v":7.5},{"$f":"+AK$38","v":1},{"$f":"+AJ$24","v":0},-790]
[3,"Sergi",{"$f":"+R$38","v":4},{"$f":"+R$39","v":15},{"$f":"+S$38","v":1},{"$f":"+R$24","v":0},-796]
[4,"Jordi",{"$f":"+I$38","v":4},{"$f":"+I$39","v":17.75},{"$f":"+J$38","v":1},{"$f":"+I$24","v":0},-796]
[5,"Gemma",{"$f":"+C$38","v":-4},{"$f":"+C$39","v":17.25},{"$f":"+D$38","v":1},{"$f":"+C$24","v":0},-804]
[6,"Nin",{"$f":"+L$38","v":-4},{"$f":"+L$39","v":19},{"$f":"+M$38","v":1},{"$f":"+L$24","v":0},-804]
[7,"Carles",{"$f":"+U$38","v":-10},{"$f":"+U$39","v":19.75},{"$f":"+V$38","v":1},{"$f":"+U$24","v":0},-810]
[8,"Montse",{"$f":"+AM$38","v":-10},{"$f":"+AM$39","v":28.5},{"$f":"+AN$38","v":1},{"$f":"+AM$24","v":0},-810]
[9,"Tito",{"$f":"+AV$38","v":-100000000},{"$f":"+AV$39","v":0},{"$f":"+AW$38","v":0},{"$f":"+AV$24","v":0},-100000800]
[10,"Manolo",{"$f":"+O$38","v":-100000000},{"$f":"+O$39","v":0},{"$f":"+P$38","v":0},{"$f":"+O$24","v":0},-100000800]
[11,"Goretti",{"$f":"+AS$38","v":-100000000},{"$f":"+AS$39","v":0},{"$f":"+AT$38","v":0},{"$f":"+AS$24","v":0},-100000800]
[12,"Lucía",{"$f":"+AP$38","v":-100000000},{"$f":"+AP$39","v":0},{"$f":"+AQ$38","v":0},{"$f":"+AP$24","v":0},-100000800]
[13,"Grau",{"$f":"+AY$38","v":-100000000},{"$f":"+AY$39","v":0},{"$f":"+AZ$38","v":0},{"$f":"+AY$24","v":0},-100000800]
[14,"Angie",{"$f":"+F$38","v":-100000000},{"$f":"+F$39","v":0},{"$f":"+G$38","v":0},{"$f":"+F$24","v":0},-100000800]
[15,"Xavi",{"$f":"+AG$38","v":-100000000},{"$f":"+AG$39","v":0},{"$f":"+AH$38","v":0},{"$f":"+AG$24","v":0},-100000800]
[16,"Martín",{"$f":"+AD$38","v":-100000000},{"$f":"+AD$39","v":0},{"$f":"+AE$38","v":0},{"$f":"+AD$24","v":0},-100000800]
[17,"Iglesias",{"$f":"+AA$38","v":-100000000},{"$f":"+AA$39","v":0},{"$f":"+AB$38","v":0},{"$f":"+AA$24","v":0},-100000800]
[]
[]
[null,"General",{"$f":"+C25*C26","v":0},{"$f":"+D25*D26","v":0},null,{"$f":"+F25*F26","v":0},{"$f":"+G25*G26","v":0},null,{"$f":"+I25*I26","v":0},{"$f":"+J25*J26","v":0},null,{"$f":"L25*L26","v":0},{"$f":"+M25*M26","v":0},null,{"$f":"+O25*O26","v":0},{"$f":"+P25*P26","v":0},null,{"$f":"+R25*R26","v":0},{"$f":"+S25*S26","v":0},null,{"$f":"+U25*U26","v":0},{"$f":"+V25*V26","v":0},null,{"$f":"+X25*X26","v":0},{"$f":"+Y25*Y26","v":0},null,{"$f":"+AA25*AA26","v":0},{"$f":"+AB25*AB26","v":0},null,{"$f":"+AD25*AD26","v":0},{"$f":"+AE25*AE26","v":0},null,{"$f":"+AG25*AG26","v":0},{"$f":"+AH25*AH26","v":0},null,{"$f":"+AJ25*AJ26","v":0},{"$f":"+AK25*AK26","v":0},null,{"$f":"+AM25*AM26","v":0},{"$f":"+AN25*AN26","v":0},null,{"$f":"+AP25*AP26","v":0},{"$f":"+AQ25*AQ26","v":0},null,{"$f":"+AS25*AS26","v":0},{"$f":"+AT25*AT26","v":0},null,{"$f":"+AV25*AV26","v":0},{"$f":"+AW25*AW26","v":0},null,{"$f":"+AY25*AY26","v":0},{"$f":"+AZ25*AZ26","v":0}]
[null,null,{"$f":"IF($B37>3,1,0)","v":0},{"$f":"IF($B37>3,1,0)","v":0},null,0,0,null,{"$f":"IF($B37>3,1,0)","v":0},0,null,0,0,null,0,0,null,0,0,null,0,0,null,0,0,null,0,0,null,0,0,null,0,0,null,{"$f":"IF($B37>3,1,0)","v":0},{"$f":"IF($B37>3,1,0)","v":0},null,{"$f":"IF($B37>3,1,0)","v":0},{"$f":"IF($B37>3,1,0)","v":0},null,0,0,null,{"$f":"IF($B37>3,1,0)","v":0},{"$f":"IF($B37>3,1,0)","v":0},null,{"$f":"IF($B37>3,1,0)","v":0},{"$f":"IF($B37>3,1,0)","v":0},null,0,0]
[null,null,{"$f":"MAX(C27:C31)","v":0},{"$f":"+D38","v":1},null,{"$f":"MAX(F27:F31)","v":0},{"$f":"+G38","v":0},null,{"$f":"MAX(I27:I31)","v":0},{"$f":"+J38","v":1},null,{"$f":"MAX(L27:L31)","v":0},{"$f":"+M38","v":1},null,{"$f":"MAX(O27:O31)","v":0},{"$f":"+P38","v":0},null,{"$f":"MAX(R27:R31)","v":0},{"$f":"+S38","v":1},null,{"$f":"MAX(U27:U31)","v":0},{"$f":"+V38","v":1},null,{"$f":"MAX(X27:X31)","v":0},{"$f":"+Y38","v":1},null,{"$f":"MAX(AA27:AA31)","v":0},{"$f":"+AB38","v":0},null,{"$f":"MAX(AD27:AD31)","v":0},{"$f":"+AE38","v":0},null,{"$f":"MAX(AG27:AG31)","v":0},{"$f":"+AH38","v":0},null,{"$f":"MAX(AJ27:AJ31)","v":0},{"$f":"+AK38","v":1},null,{"$f":"MAX(AM27:AM31)","v":0},{"$f":"+AN38","v":1},null,{"$f":"MAX(AP27:AP31)","v":0},{"$f":"+AQ38","v":0},null,{"$f":"MAX(AS27:AS31)","v":0},{"$f":"+AT38","v":0},null,{"$f":"MAX(AV27:AV31)","v":0},{"$f":"+AW38","v":0},null,{"$f":"MAX(AY27:AY31)","v":0},{"$f":"+AZ38","v":0}]
[null,null,{"$f":"IF(C$32=5,5,0)","v":0},null,null,{"$f":"IF(F$32=5,5,0)","v":0},null,null,{"$f":"IF(I$32=5,5,0)","v":0},null,null,{"$f":"IF(L$32=5,5,0)","v":0},null,null,{"$f":"IF(O$32=5,5,0)","v":0},null,null,{"$f":"IF(R$32=5,5,0)","v":0},null,null,{"$f":"IF(U$32=5,5,0)","v":0},null,null,{"$f":"IF(X$32=5,5,0)","v":0},null,null,{"$f":"IF(AA$32=5,5,0)","v":0},null,null,{"$f":"IF(AD$32=5,5,0)","v":0},null,null,{"$f":"IF(AG$32=5,5,0)","v":0},null,null,{"$f":"IF(AJ$32=5,5,0)","v":0},null,null,{"$f":"IF(AM$32=5,5,0)","v":0},null,null,{"$f":"IF(AP$32=5,5,0)","v":0},null,null,{"$f":"IF(AS$32=5,5,0)","v":0},null,null,{"$f":"IF(AV$32=5,5,0)","v":0},null,null,{"$f":"IF(AY$32=5,5,0)","v":0}]
[null,null,{"$f":"IF(C$32=4,10,0)","v":0},null,null,{"$f":"IF(F$32=4,10,0)","v":0},null,null,{"$f":"IF(I$32=4,10,0)","v":0},null,null,{"$f":"IF(L$32=4,10,0)","v":0},null,null,{"$f":"IF(O$32=4,10,0)","v":0},null,null,{"$f":"IF(R$32=4,10,0)","v":0},null,null,{"$f":"IF(U$32=4,10,0)","v":0},null,null,{"$f":"IF(X$32=4,10,0)","v":0},null,null,{"$f":"IF(AA$32=4,10,0)","v":0},null,null,{"$f":"IF(AD$32=4,10,0)","v":0},null,null,{"$f":"IF(AG$32=4,10,0)","v":0},null,null,{"$f":"IF(AJ$32=4,10,0)","v":0},null,null,{"$f":"IF(AM$32=4,10,0)","v":0},null,null,{"$f":"IF(AP$32=4,10,0)","v":0},null,null,{"$f":"IF(AS$32=4,10,0)","v":0},null,null,{"$f":"IF(AV$32=4,10,0)","v":0},null,null,{"$f":"IF(AY$32=4,10,0)","v":0}]
[null,null,{"$f":"IF(C$32=3,20,0)","v":0},null,null,{"$f":"IF(F$32=3,20,0)","v":0},null,null,{"$f":"IF(I$32=3,20,0)","v":0},null,null,{"$f":"IF(L$32=3,20,0)","v":0},null,null,{"$f":"IF(O$32=3,20,0)","v":0},null,null,{"$f":"IF(R$32=3,20,0)","v":0},null,null,{"$f":"IF(U$32=3,20,0)","v":0},null,null,{"$f":"IF(X$32=3,20,0)","v":0},null,null,{"$f":"IF(AA$32=3,20,0)","v":0},null,null,{"$f":"IF(AD$32=3,20,0)","v":0},null,null,{"$f":"IF(AG$32=3,20,0)","v":0},null,null,{"$f":"IF(AJ$32=3,20,0)","v":0},null,null,{"$f":"IF(AM$32=3,20,0)","v":0},null,null,{"$f":"IF(AP$32=3,20,0)","v":0},null,null,{"$f":"IF(AS$32=3,20,0)","v":0},null,null,{"$f":"IF(AV$32=3,20,0)","v":0},null,null,{"$f":"IF(AY$32=3,20,0)","v":0}]
[null,null,{"$f":"IF(C$32=2,40,0)","v":0},null,null,{"$f":"IF(F$32=2,40,0)","v":0},null,null,{"$f":"IF(I$32=2,40,0)","v":0},null,null,{"$f":"IF(L$32=2,40,0)","v":0},null,null,{"$f":"IF(O$32=2,40,0)","v":0},null,null,{"$f":"IF(R$32=2,40,0)","v":0},null,null,{"$f":"IF(U$32=2,40,0)","v":0},null,null,{"$f":"IF(X$32=2,40,0)","v":0},null,null,{"$f":"IF(AA$32=2,40,0)","v":0},null,null,{"$f":"IF(AD$32=2,40,0)","v":0},null,null,{"$f":"IF(AG$32=2,40,0)","v":0},null,null,{"$f":"IF(AJ$32=2,40,0)","v":0},null,null,{"$f":"IF(AM$32=2,40,0)","v":0},null,null,{"$f":"IF(AP$32=2,40,0)","v":0},null,null,{"$f":"IF(AS$32=2,40,0)","v":0},null,null,{"$f":"IF(AV$32=2,40,0)","v":0},null,null,{"$f":"IF(AY$32=2,40,0)","v":0}]
[null,null,{"$f":"IF(C$32=1,80,0)","v":0},null,null,{"$f":"IF(F$32=1,80,0)","v":0},null,null,{"$f":"IF(I$32=1,80,0)","v":0},null,null,{"$f":"IF(L$32=1,80,0)","v":0},null,null,{"$f":"IF(O$32=1,80,0)","v":0},null,null,{"$f":"IF(R$32=1,80,0)","v":0},null,null,{"$f":"IF(U$32=1,80,0)","v":0},null,null,{"$f":"IF(X$32=1,80,0)","v":0},null,null,{"$f":"IF(AA$32=1,80,0)","v":0},null,null,{"$f":"IF(AD$32=1,80,0)","v":0},null,null,{"$f":"IF(AG$32=1,80,0)","v":0},null,null,{"$f":"IF(AJ$32=1,80,0)","v":0},null,null,{"$f":"IF(AM$32=1,80,0)","v":0},null,null,{"$f":"IF(AP$32=1,80,0)","v":0},null,null,{"$f":"IF(AS$32=1,80,0)","v":0},null,null,{"$f":"IF(AV$32=1,80,0)","v":0},null,null,{"$f":"IF(AY$32=1,80,0)","v":0}]
[null,null,{"$f":"RANK(C33,$C33:$AZ33)*C37","v":0},null,null,{"$f":"RANK(F33,$C33:$AZ33)*F37","v":0},null,null,{"$f":"RANK(I33,$C33:$AZ33)*I37","v":0},null,null,{"$f":"RANK(L33,$C33:$AZ33)*L37","v":0},null,null,{"$f":"RANK(O33,$C33:$AZ33)*O37","v":0},null,null,{"$f":"RANK(R33,$C33:$AZ33)*R37","v":0},null,null,{"$f":"RANK(U33,$C33:$AZ33)*U37","v":0},null,null,{"$f":"RANK(X33,$C33:$AZ33)*X37","v":0},null,null,{"$f":"RANK(AA33,$C33:$AZ33)*AA37","v":0},null,null,{"$f":"RANK(AD33,$C33:$AZ33)*AD37","v":0},null,null,{"$f":"RANK(AG33,$C33:$AZ33)*AG37","v":0},null,null,{"$f":"RANK(AJ33,$C33:$AZ33)*AJ37","v":0},null,null,{"$f":"RANK(AM33,$C33:$AZ33)*AM37","v":0},null,null,{"$f":"RANK(AP33,$C33:$AZ33)*AP37","v":0},null,null,{"$f":"RANK(AS33,$C33:$AZ33)*AS37","v":0},null,null,{"$f":"RANK(AV33,$C33:$AZ33)*AV37","v":0},null,null,{"$f":"RANK(AY33,$C33:$AZ33)*AY37","v":0}]
[null,null,{"$f":"SUM(C34:C36)","v":-1001724},null,null,{"$f":"SUM(F34:F36)","v":-1000000},null,null,{"$f":"SUM(I34:I36)","v":-1001774},null,null,{"$f":"SUM(L34:L36)","v":-1001899},null,null,{"$f":"SUM(O34:O36)","v":-1000000},null,null,{"$f":"SUM(R34:R36)","v":-1001499},null,null,{"$f":"SUM(U34:U36)","v":-1001974},null,null,{"$f":"SUM(X34:X36)","v":-1000599},null,null,{"$f":"SUM(AA34:AA36)","v":-1000000},null,null,{"$f":"SUM(AD34:AD36)","v":-1000000},null,null,{"$f":"SUM(AG34:AG36)","v":-1000000},null,null,{"$f":"SUM(AJ34:AJ36)","v":-1000749},null,null,{"$f":"SUM(AM34:AM36)","v":-1002849},null,null,{"$f":"SUM(AP34:AP36)","v":-1000000},null,null,{"$f":"SUM(AS34:AS36)","v":-1000000},null,null,{"$f":"SUM(AV34:AV36)","v":-1000000},null,null,{"$f":"SUM(AY34:AY36)","v":-1000000}]
[null,null,{"$f":"+D38","v":1},null,null,{"$f":"+G38","v":0},null,null,{"$f":"+J38","v":1},null,null,{"$f":"+M38","v":1},null,null,{"$f":"+P38","v":0},null,null,{"$f":"+S38","v":1},null,null,{"$f":"+V38","v":1},null,null,{"$f":"+Y38","v":1},null,null,{"$f":"+AB38","v":0},null,null,{"$f":"+AE38","v":0},null,null,{"$f":"+AH38","v":0},null,null,{"$f":"+AK38","v":1},null,null,{"$f":"+AN38","v":1},null,null,{"$f":"+AQ38","v":0},null,null,{"$f":"+AT38","v":0},null,null,{"$f":"+AW38","v":0},null,null,{"$f":"+AZ38","v":0}]
[null,null,{"$f":"-C39*100","v":-1725},null,null,{"$f":"-F39*100","v":0},null,null,{"$f":"-I39*100","v":-1775},null,null,{"$f":"-L39*100","v":-1900},null,null,{"$f":"-O39*100","v":0},null,null,{"$f":"-R39*100","v":-1500},null,null,{"$f":"-U39*100","v":-1975},null,null,{"$f":"-X39*100","v":-600},null,null,{"$f":"-AA39*100","v":0},null,null,{"$f":"-AD39*100","v":0},null,null,{"$f":"-AG39*100","v":0},null,null,{"$f":"-AJ39*100","v":-750},null,null,{"$f":"-AM39*100","v":-2850},null,null,{"$f":"-AP39*100","v":0},null,null,{"$f":"-AS39*100","v":0},null,null,{"$f":"-AV39*100","v":0},null,null,{"$f":"-AY39*100","v":0}]
[null,null,{"$f":"IF(D38-$A3/2<0,-1000000,C38*C37*10000+C38)","v":-1000000},null,null,{"$f":"IF(G38-$A3/2<0,-1000000,F38*F37*10000+F38)","v":-1000000},null,null,{"$f":"IF(J38-$A3/2<0,-1000000,I38*I37*10000+I38)","v":-1000000},null,null,{"$f":"IF(M38-$A3/2<0,-1000000,L38*L37*10000+L38)","v":-1000000},null,null,{"$f":"IF(P38-$A3/2<0,-1000000,O38*O37*10000+O38)","v":-1000000},null,null,{"$f":"IF(S38-$A3/2<0,-1000000,R38*R37*10000+R38)","v":-1000000},null,null,{"$f":"IF(V38-$A3/2<0,-1000000,U38*U37*10000+U38)","v":-1000000},null,null,{"$f":"IF(Y38-$A3/2<0,-1000000,X38*X37*10000+X38)","v":-1000000},null,null,{"$f":"IF(AB38-$A3/2<0,-1000000,AA38*AA37*10000+AA38)","v":-1000000},null,null,{"$f":"IF(AE38-$A3/2<0,-1000000,AD38*AD37*10000+AD38)","v":-1000000},null,null,{"$f":"IF(AH38-$A3/2<0,-1000000,AG38*AG37*10000+AG38)","v":-1000000},null,null,{"$f":"IF(AK38-$A3/2<0,-1000000,AJ38*AJ37*10000+AJ38)","v":-1000000},null,null,{"$f":"IF(AN38-$A3/2<0,-1000000,AM38*AM37*10000+AM38)","v":-1000000},null,null,{"$f":"IF(AQ38-$A3/2<0,-1000000,AP38*AP37*10000+AP38)","v":-1000000},null,null,{"$f":"IF(AT38-$A3/2<0,-1000000,AS38*AS37*10000+AS38)","v":-1000000},null,null,{"$f":"IF(AW38-$A3/2<0,-1000000,AV38*AV37*10000+AV38)","v":-1000000},null,null,{"$f":"IF(AZ38-$A3/2<0,-1000000,AY38*AY37*10000+AY38)","v":-1000000}]
["Classificats",{"$f":"SUM(C37:AY37)","v":0},{"$f":"IF(D38>=$A3/2,1,0)","v":0},null,null,{"$f":"IF(G38>=$A3/2,1,0)","v":0},null,null,{"$f":"IF(J38>=$A3/2,1,0)","v":0},null,null,{"$f":"IF(M38>=$A3/2,1,0)","v":0},null,null,{"$f":"IF(P38>=$A3/2,1,0)","v":0},null,null,{"$f":"IF(S38>=$A3/2,1,0)","v":0},null,null,{"$f":"IF(V38>=$A3/2,1,0)","v":0},null,null,{"$f":"IF(Y38>=$A3/2,1,0)","v":0},null,null,{"$f":"IF(AB38>=$A3/2,1,0)","v":0},null,null,{"$f":"IF(AE38>=$A3/2,1,0)","v":0},null,null,{"$f":"IF(AH38>=$A3/2,1,0)","v":0},null,null,{"$f":"IF(AK38>=$A3/2,1,0)","v":0},null,null,{"$f":"IF(AN38>=$A3/2,1,0)","v":0},null,null,{"$f":"IF(AQ38>=$A3/2,1,0)","v":0},null,null,{"$f":"IF(AT38>=$A3/2,1,0)","v":0},null,null,{"$f":"IF(AW38>=$A3/2,1,0)","v":0},null,null,{"$f":"IF(AZ38>=$A3/2,1,0)","v":0}]
[null,null,{"$f":"IF(SUM(C43:C241)<-1000,-100000000,SUM(C43:C241))","v":-4},{"$f":"COUNT(D43:D241)","v":1},null,{"$f":"IF(SUM(F43:F241)<-1000,-100000000,SUM(F43:F241))","v":-100000000},{"$f":"COUNT(G43:G241)","v":0},null,{"$f":"IF(SUM(I43:I241)<-1000,-100000000,SUM(I43:I241))","v":4},{"$f":"COUNT(J43:J241)","v":1},null,{"$f":"IF(SUM(L43:L241)<-1000,-100000000,SUM(L43:L241))","v":-4},{"$f":"COUNT(M43:M241)","v":1},null,{"$f":"IF(SUM(O43:O241)<-1000,-100000000,SUM(O43:O241))","v":-100000000},{"$f":"COUNT(P43:P241)","v":0},null,{"$f":"IF(SUM(R43:R241)<-1000,-100000000,SUM(R43:R241))","v":4},{"$f":"COUNT(S43:S241)","v":1},null,{"$f":"IF(SUM(U43:U241)<-1000,-100000000,SUM(U43:U241))","v":-10},{"$f":"COUNT(V43:V241)","v":1},null,{"$f":"IF(SUM(X43:X241)<-1000,-100000000,SUM(X43:X241))","v":10},{"$f":"COUNT(Y43:Y241)","v":1},null,{"$f":"IF(SUM(AA43:AA241)<-1000,-100000000,SUM(AA43:AA241))","v":-100000000},{"$f":"COUNT(AB43:AB241)","v":0},null,{"$f":"IF(SUM(AD43:AD241)<-1000,-100000000,SUM(AD43:AD241))","v":-100000000},{"$f":"COUNT(AE43:AE241)","v":0},null,{"$f":"IF(SUM(AG43:AG241)<-1000,-100000000,SUM(AG43:AG241))","v":-100000000},{"$f":"COUNT(AH43:AH241)","v":0},null,{"$f":"IF(SUM(AJ43:AJ241)<-1000,-100000000,SUM(AJ43:AJ241))","v":10},{"$f":"COUNT(AK43:AK241)","v":1},null,{"$f":"IF(SUM(AM43:AM241)<-1000,-100000000,SUM(AM43:AM241))","v":-10},{"$f":"COUNT(AN43:AN241)","v":1},null,{"$f":"IF(SUM(AP43:AP241)<-1000,-100000000,SUM(AP43:AP241))","v":-100000000},{"$f":"COUNT(AQ43:AQ241)","v":0},null,{"$f":"IF(SUM(AS43:AS241)<-1000,-100000000,SUM(AS43:AS241))","v":-100000000},{"$f":"COUNT(AT43:AT241)","v":0},null,{"$f":"IF(SUM(AV43:AV241)<-1000,-100000000,SUM(AV43:AV241))","v":-100000000},{"$f":"COUNT(AW43:AW241)","v":0},null,{"$f":"IF(SUM(AY43:AY241)<-1000,-100000000,SUM(AY43:AY241))","v":-100000000},{"$f":"COUNT(AZ43:AZ241)","v":0},null,null,"A"]
[null,null,{"$f":"+D39/E39","v":17.25},{"$f":"SUM(D43:D156)","v":69},{"$f":"SUM(E43:E156)","v":4},{"$f":"+G39/H39","v":0},{"$f":"SUM(G43:G156)","v":0},{"$f":"SUM(H43:H156)","v":-1},{"$f":"+J39/K39","v":17.75},{"$f":"SUM(J43:J156)","v":71},{"$f":"SUM(K43:K156)","v":4},{"$f":"+M39/N39","v":19},{"$f":"SUM(M43:M156)","v":76},{"$f":"SUM(N43:N156)","v":4},{"$f":"+P39/Q39","v":0},{"$f":"SUM(P43:P156)","v":0},{"$f":"SUM(Q43:Q156)","v":-1},{"$f":"+S39/T39","v":15},{"$f":"SUM(S43:S156)","v":60},{"$f":"SUM(T43:T156)","v":4},{"$f":"+V39/W39","v":19.75},{"$f":"SUM(V43:V156)","v":79},{"$f":"SUM(W43:W156)","v":4},{"$f":"+Y39/Z39","v":6},{"$f":"SUM(Y43:Y156)","v":24},{"$f":"SUM(Z43:Z156)","v":4},{"$f":"+AB39/AC39","v":0},{"$f":"SUM(AB43:AB156)","v":0},{"$f":"SUM(AC43:AC156)","v":-1},{"$f":"+AE39/AF39","v":0},{"$f":"SUM(AE43:AE156)","v":0},{"$f":"SUM(AF43:AF156)","v":-1},{"$f":"+AH39/AI39","v":0},{"$f":"SUM(AH43:AH156)","v":0},{"$f":"SUM(AI43:AI156)","v":-1},{"$f":"+AK39/AL39","v":7.5},{"$f":"SUM(AK43:AK156)","v":30},{"$f":"SUM(AL43:AL156)","v":4},{"$f":"+AN39/AO39","v":28.5},{"$f":"SUM(AN43:AN156)","v":114},{"$f":"SUM(AO43:AO156)","v":4},{"$f":"+AQ39/AR39","v":0},{"$f":"SUM(AQ43:AQ156)","v":0},{"$f":"SUM(AR43:AR156)","v":-1},{"$f":"+AT39/AU39","v":0},{"$f":"SUM(AT43:AT156)","v":0},{"$f":"SUM(AU43:AU156)","v":-1},{"$f":"+AW39/AX39","v":0},{"$f":"SUM(AW43:AW156)","v":0},{"$f":"SUM(AX43:AX156)","v":-1},{"$f":"+AZ39/BA39","v":0},{"$f":"SUM(AZ43:AZ156)","v":0},{"$f":"SUM(BA43:BA156)","v":-1},null,"B"]
[null,null,null,null,null,null,null,null,{"$f":"COUNTIF(I43:I62,10)","v":0},null,null,null,null,null,null,null,null,{"$f":"COUNTIF(R43:R62,10)","v":0},null,null,{"$f":"COUNTIF(U43:U62,10)","v":0},null,null,{"$f":"COUNTIF(X43:X62,10)","v":1},null,null,null,null,null,null,null,null,null,null,null,null,null,null,null,null,null,{"$f":"COUNTIF(AP43:AP62,10)","v":0},null,null,{"$f":"COUNTIF(AS43:AS62,10)","v":0},null,null,{"$f":"COUNTIF(AV43:AV62,10)","v":0},null,null,{"$f":"COUNTIF(AY43:AY62,10)","v":0},null,null,{"$f":"MAX(BC43:BC102)","v":363}]
[null,"Nº partida ","Gemma",null,null,"Angie",null,null,"Jordi",null,null,"Nin",null,null,"Manolo",null,null,"Sergi",null,null,"Carles",null,null,"Mariajo",null,null,"Iglesias",null,null,"Martin",null,null,"Xavi",null,null,"Sebas",null,null,"Montse",null,null,"Lucía",null,null,"Goretti",null,null,"Tito",null,null,"Grau",null,null,{"$f":"COUNT(BB43:BB156)","v":1},"A","B","C"]
[null,"5 copes","Premi","Punts",null,"Premi","Punts",null,"Premi","Punts",null,"Premi","Punts",null,"Premi","Punts",null,"Premi","Punts",null,"Premi","Punts",null,"Premi","Punts",null,"Premi","Punts",null,"Premi","Punts",null,"Premi","Punts",null,"Premi","Punts",null,"Premi","Punts",null,"Premi","Punts",null,"Premi","Punts",null,"Premi","Punts",null,"Premi","Punts",null,"Data","Timba"]
[1,null,-4,69,4,-10000,null,-1,4,71,4,-4,76,4,-10000,null,-1,4,60,4,-10,79,4,10,24,4,-10000,null,-1,-10000,null,-1,-10000,null,-1,10,30,4,-10,114,4,-10000,null,-1,-10000,null,-1,-10000,null,-1,-10000,null,-1,"2021-09-18",363,{"$f":"+AY43+AP43+AG43+AD43+AA43+X43+U43+R43+O43+L43+I43+F43+C43+AJ43+AM43+AS43+AV43","v":-90000},{"$f":"COUNT(C43:BA43)/3","v":14},{"$f":"+BD43/BE43","v":-6428.5714285714284}]
[{"$f":"+A43+1","v":2},null,null,null,null,null,null,null,null,null,null,null,null,null,null,null,null,null,null,null,null,null,null,null,null,null,null,null,null,null,null,null,null,null,null,null,null,null,null,null,null,null,null,null,null,null,null,null,null,null,null,null,null,null,null,0,0,{"$error":"#DIV/0!"}]
[{"$f":"+A44+1","v":3},null,null,null,null,null,null,null,null,null,null,null,null,null,null,null,null,null,null,null,null,null,null,null,null,null,null,null,null,null,null,null,null,null,null,null,null,null,null,null,null,null,null,null,null,null,null,null,null,null,null,null,null,null,null,0,0,{"$error":"#DIV/0!"}]
[4,null,null,null,null,null,null,null,null,null,null,null,null,null,null,null,null,null,null,null,null,null,null,null,null,null,null,null,null,null,null,null,null,null,null,null,null,null,null,null,null,null,null,null,null,null,null,null,null,null,null,null,null,null,null,0,0,{"$error":"#DIV/0!"}]
[5,null,null,null,null,null,null,null,null,null,null,null,null,null,null,null,null,null,null,null,null,null,null,null,null,null,null,null,null,null,null,null,null,null,null,null,null,null,null,null,null,null,null,null,null,null,null,null,null,null,null,null,null,null,null,0,0,{"$error":"#DIV/0!"}]
[6,null,null,null,null,null,null,null,null,null,null,null,null,null,null,null,null,null,null,null,null,null,null,null,null,null,null,null,null,null,null,null,null,null,null,null,null,null,null,null,null,null,null,null,null,null,null,null,null,null,null,null,null,null,null,0,0,{"$error":"#DIV/0!"}]
[7,null,null,null,null,null,null,null,null,null,null,null,null,null,null,null,null,null,null,null,null,null,null,null,null,null,null,null,null,null,null,null,null,null,null,null,null,null,null,null,null,null,null,null,null,null,null,null,null,null,null,null,null,null,null,0,0,{"$error":"#DIV/0!"}]
[8,null,null,null,null,null,null,null,null,null,null,null,null,null,null,null,null,null,null,null,null,null,null,null,null,null,null,null,null,null,null,null,null,null,null,null,null,null,null,null,null,null,null,null,null,null,null,null,null,null,null,null,null,null,null,0,0,{"$error":"#DIV/0!"}]
[9,null,null,null,null,null,null,null,null,null,null,null,null,null,null,null,null,null,null,null,null,null,null,null,null,null,null,null,null,null,null,null,null,null,null,null,null,null,null,null,null,null,null,null,null,null,null,null,null,null,null,null,null,null,null,0,0,{"$error":"#DIV/0!"}]
[10,null,null,null,null,null,null,null,null,null,null,null,null,null,null,null,null,null,null,null,null,null,null,null,null,null,null,null,null,null,null,null,null,null,null,null,null,null,null,null,null,null,null,null,null,null,null,null,null,null,null,null,null,null,null,0,0,{"$error":"#DIV/0!"}]
[11,null,null,null,null,null,null,null,null,null,null,null,null,null,null,null,null,null,null,null,null,null,null,null,null,null,null,null,null,null,null,null,null,null,null,null,null,null,null,null,null,null,null,null,null,null,null,null,null,null,null,null,null,null,null,0,0,{"$error":"#DIV/0!"}]
[12,null,null,null,null,null,null,null,null,null,null,null,null,null,null,null,null,null,null,null,null,null,null,null,null,null,null,null,null,null,null,null,null,null,null,null,null,null,null,null,null,null,null,null,null,null,null,null,null,null,null,null,null,null,null,0,0,{"$error":"#DIV/0!"}]
[13,null,null,null,null,null,null,null,null,null,null,null,null,null,null,null,null,null,null,null,null,null,null,null,null,null,null,null,null,null,null,null,null,null,null,null,null,null,null,null,null,null,null,null,null,null,null,null,null,null,null,null,null,null,null,0,0,{"$error":"#DIV/0!"}]
[14,null,null,null,null,null,null,null,null,null,null,null,null,null,null,null,null,null,null,null,null,null,null,null,null,null,null,null,null,null,null,null,null,null,null,null,null,null,null,null,null,null,null,null,null,null,null,null,null,null,null,null,null,null,null,0,0,{"$error":"#DIV/0!"}]
[15,null,null,null,null,null,null,null,null,null,null,null,null,null,null,null,null,null,null,null,null,null,null,null,null,null,null,null,null,null,null,null,null,null,null,null,null,null,null,null,null,null,null,null,null,null,null,null,null,null,null,null,null,null,null,0,0,{"$error":"#DIV/0!"}]
[16,null,null,null,null,null,null,null,null,null,null,null,null,null,null,null,null,null,null,null,null,null,null,null,null,null,null,null,null,null,null,null,null,null,null,null,null,null,null,null,null,null,null,null,null,null,null,null,null,null,null,null,null,null,null,0,0,{"$error":"#DIV/0!"}]
[17,null,null,null,null,null,null,null,null,null,null,null,null,null,null,null,null,null,null,null,null,null,null,null,null,null,null,null,null,null,null,null,null,null,null,null,null,null,null,null,null,null,null,null,null,null,null,null,null,null,null,null,null,null,null,0,0,{"$error":"#DIV/0!"}]
[18,null,null,null,null,null,null,null,null,null,null,null,null,null,null,null,null,null,null,null,null,null,null,null,null,null,null,null,null,null,null,null,null,null,null,null,null,null,null,null,null,null,null,null,null,null,null,null,null,null,null,null,null,null,null,0,0,{"$error":"#DIV/0!"}]
[19,null,null,null,null,null,null,null,null,null,null,null,null,null,null,null,null,null,null,null,null,null,null,null,null,null,null,null,null,null,null,null,null,null,null,null,null,null,null,null,null,null,null,null,null,null,null,null,null,null,null,null,null,null,null,0,0,{"$error":"#DIV/0!"}]
[20,null,null,null,null,null,null,null,null,null,null,null,null,null,null,null,null,null,null,null,null,null,null,null,null,null,null,null,null,null,null,null,null,null,null,null,null,null,null,null,null,null,null,null,null,null,null,null,null,null,null,null,null,null,null,0,0,{"$error":"#DIV/0!"}]
[21,null,null,null,null,null,null,null,null,null,null,null,null,null,null,null,null,null,null,null,null,null,null,null,null,null,null,null,null,null,null,null,null,null,null,null,null,null,null,null,null,null,null,null,null,null,null,null,null,null,null,null,null,null,null,0,0,{"$error":"#DIV/0!"}]
[22,null,null,null,null,null,null,null,null,null,null,null,null,null,null,null,null,null,null,null,null,null,null,null,null,null,null,null,null,null,null,null,null,null,null,null,null,null,null,null,null,null,null,null,null,null,null,null,null,null,null,null,null,null,null,0,0,{"$error":"#DIV/0!"}]
[23,null,null,null,null,null,null,null,null,null,null,null,null,null,null,null,null,null,null,null,null,null,null,null,null,null,null,null,null,null,null,null,null,null,null,null,null,null,null,null,null,null,null,null,null,null,null,null,null,null,null,null,null,null,null,0,0,{"$error":"#DIV/0!"}]
[24,null,null,null,null,null,null,null,null,null,null,null,null,null,null,null,null,null,null,null,null,null,null,null,null,null,null,null,null,null,null,null,null,null,null,null,null,null,null,null,null,null,null,null,null,null,null,null,null,null,null,null,null,null,null,{"$f":"+AY66+AP66+AG66+AD66+AA66+X66+U66+R66+O66+L66+I66+F66+C66+AJ66+AM66+AS66+AV66","v":0},0,{"$error":"#DIV/0!"}]
[25,null,null,null,null,null,null,null,null,null,null,null,null,null,null,null,null,null,null,null,null,null,null,null,null,null,null,null,null,null,null,null,null,null,null,null,null,null,null,null,null,null,null,null,null,null,null,null,null,null,null,null,null,null,null,{"$f":"+AY67+AP67+AG67+AD67+AA67+X67+U67+R67+O67+L67+I67+F67+C67+AJ67+AM67+AS67+AV67","v":0},{"$f":"COUNT(C67:BA67)/3","v":0},{"$f":"+BD67/BE67","v":{"$error":"#DIV/0!"}}]
[26,null,null,null,null,null,null,null,null,null,null,null,null,null,null,null,null,null,null,null,null,null,null,null,null,null,null,null,null,null,null,null,null,null,null,null,null,null,null,null,null,null,null,null,null,null,null,null,null,null,null,null,null,null,null,{"$f":"+AY68+AP68+AG68+AD68+AA68+X68+U68+R68+O68+L68+I68+F68+C68+AJ68+AM68+AS68+AV68","v":0},{"$f":"COUNT(C68:BA68)/3","v":0},{"$f":"+BD68/BE68","v":{"$error":"#DIV/0!"}}]
[27,null,null,null,null,null,null,null,null,null,null,null,null,null,null,null,null,null,null,null,null,null,null,null,null,null,null,null,null,null,null,null,null,null,null,null,null,null,null,null,null,null,null,null,null,null,null,null,null,null,null,null,null,null,null,{"$f":"+AY69+AP69+AG69+AD69+AA69+X69+U69+R69+O69+L69+I69+F69+C69+AJ69+AM69+AS69+AV69","v":0},{"$f":"COUNT(C69:BA69)/3","v":0},{"$f":"+BD69/BE69","v":{"$error":"#DIV/0!"}}]
[28]
[29]
[30]
[31]
[32]
[33]
[34]
[35]
[36]
[37]
[38]
[39]
[40]
[41]
[42]
[43]
[44]
[45]
[{"$f":"+A87+1","v":46}]
[47]
[48]
[49]
[50]
[51]
[52]
[53]
[54]
[55]
[56]
[57]
[58]
[59]
[60]
[61]
[62]
[63]
[64]
[65]
[66]
[67]
[68]
[69]
[70]
[71]
[72]
[{"$f":"+A114+1","v":73}]
[74]
[75]
[76]
[77]
[78]
[79]
[80]
[81]
[82]
[83]
[84]
[85]
[86]
[87]
[88]
[89]
[90]
[91]
[92]
[93]
[94]
[95]
[96]
[97]
[98]
[99]
[100]
[101]
[102]
[103]
[104]
[105]
[106]
[107]
[108]
[109]
[110]
[111]
[112]
[113]
[114]

{"sheet":"4 Duros","index":10,"n_rows":103,"n_cols":44,"rows_kept":103,"cut":false,"hidden":false,"merged":[[41,34,41,35],[41,36,41,37],[41,26,41,27],[41,28,41,29],[41,30,41,31],[41,32,41,33],[41,22,41,23],[41,24,41,25],[41,10,41,11],[41,12,41,13],[41,14,41,15],[41,16,41,17],[41,20,41,21],[41,2,41,3],[41,4,41,5],[41,6,41,7],[41,8,41,9],[41,18,41,19]]}
["4 DUROS"]
["Mes"]
[{"$f":"+GENERAL!B6","v":12},null,{"$f":"SUM(C5:C8)","v":-400000000}]
[null,null,"Premi","Punts","Partides","General"]
[1,"Joan",{"$f":"+I$39","v":-100000000},{"$f":"+J$40","v":0},{"$f":"+J$39","v":0},{"$f":"+I$25","v":0},{"$f":"IF(E5<A$3/2,-1,1)*8000+C5*100+D5+E5/100","v":-10000008000}]
[2,"Rosa",{"$f":"+E$39","v":-100000000},{"$f":"+F$40","v":0},{"$f":"+F$39","v":0},{"$f":"+E$25","v":0},-10000008000]
[3,"Jordi",{"$f":"+G$39","v":-100000000},{"$f":"+H$40","v":0},{"$f":"+H$39","v":0},{"$f":"+G$25","v":0},-10000008000]
[4,"Anna P.",{"$f":"+K$39","v":-100000000},{"$f":"+L$40","v":0},{"$f":"+L$39","v":0},{"$f":"+K$25","v":0},-10000008000]
[5,"Manel",{"$f":"+AE$39","v":-100000000},{"$f":"+AF$40","v":0},{"$f":"+AF$39","v":0},{"$f":"+AE$25","v":0},-10000008000]
[6,"Carles",{"$f":"+O$39","v":-100000000},{"$f":"+P$40","v":0},{"$f":"+P$39","v":0},{"$f":"+O$25","v":0},-10000008000]
[7,"Goretti",{"$f":"+AG$39","v":-100000000},{"$f":"+AH$40","v":0},{"$f":"+AH$39","v":0},{"$f":"+AG$25","v":0},-10000008000]
[8,"Grau",{"$f":"+C$39","v":-100000000},{"$f":"+D$40","v":0},{"$f":"+D$39","v":0},{"$f":"+C$25","v":0},-10000008000]
[9,"Mariajo",{"$f":"+Q$39","v":-100000000},{"$f":"+R$40","v":0},{"$f":"+R$39","v":0},{"$f":"+Q$25","v":0},-10000008000]
[10,"Sergi",{"$f":"+M$39","v":-100000000},{"$f":"+N$40","v":0},{"$f":"+N$39","v":0},{"$f":"+M$25","v":0},-10000008000]
[11,"Lucía",{"$f":"+Y$39","v":-100000000},{"$f":"+Z$40","v":0},{"$f":"+Z$39","v":0},{"$f":"+Y$25","v":0},-10000008000]
[12,"Xavi",{"$f":"+W$39","v":-100000000},{"$f":"+X$40","v":0},{"$f":"+X$39","v":0},{"$f":"+W$25","v":0},-10000008000]
[13,"Serra",{"$f":"+AK$39","v":-100000000},{"$f":"+AL$40","v":0},{"$f":"+AL$39","v":0},{"$f":"+AK$25","v":0},-10000008000]
[14,"Iglesias",{"$f":"+S$39","v":-100000000},{"$f":"+T$40","v":0},{"$f":"+T$39","v":0},{"$f":"+S$25","v":0},-10000008000]
[15,"Sylvain",{"$f":"+U$39","v":-100000000},{"$f":"+V$40","v":0},{"$f":"+V$39","v":0},{"$f":"+U$25","v":0},-10000008000]
[16,"Jorge",{"$f":"+AI$39","v":-100000000},{"$f":"+AJ$40","v":0},{"$f":"+AJ$39","v":0},{"$f":"+AI$25","v":0},-10000008000]
[17,"Knobel",{"$f":"+AA$39","v":-100000000},{"$f":"+AB$40","v":0},{"$f":"+AB$39","v":0},{"$f":"+AA28","v":0},-10000008000]
[18,"Taberner",{"$f":"+AC$39","v":-100000000},{"$f":"+AD$40","v":0},{"$f":"+AD$39","v":0},{"$f":"+AC$25","v":0},-10000008000]
[]
[]
[null,"General",{"$f":"+C26*C27","v":0},{"$f":"+D26*D27","v":0},0,0,0,0,0,0,0,0,0,0,0,0,0,0,0,0,0,0,0,0,0,0,0,0,0,0,0,0,0,0,0,0,0,0]
[null,null,{"$f":"IF($B38>3,1,0)","v":0},{"$f":"IF($B38>3,1,0)","v":0},0,0,0,0,0,0,0,0,0,0,0,0,0,0,0,0,0,0,0,0,0,0,0,0,0,0,0,0,0,0,0,0,0,0]
[null,null,{"$f":"MAX(C28:C32)","v":0},{"$f":"+D39","v":0},{"$f":"MAX(E28:E32)","v":0},{"$f":"+F39","v":0},{"$f":"MAX(G28:G32)","v":0},{"$f":"+H39","v":0},{"$f":"MAX(I28:I32)","v":0},{"$f":"+J39","v":0},{"$f":"MAX(K28:K32)","v":0},{"$f":"+L39","v":0},{"$f":"MAX(M28:M32)","v":0},{"$f":"+N39","v":0},{"$f":"MAX(O28:O32)","v":0},{"$f":"+P39","v":0},{"$f":"MAX(Q28:Q32)","v":0},{"$f":"+R39","v":0},{"$f":"MAX(S28:S32)","v":0},{"$f":"+T39","v":0},{"$f":"MAX(U28:U32)","v":0},{"$f":"+V39","v":0},{"$f":"MAX(W28:W32)","v":0},{"$f":"+X39","v":0},{"$f":"MAX(Y28:Y32)","v":0},{"$f":"+Z39","v":0},{"$f":"MAX(AA28:AA32)","v":0},{"$f":"+AB39","v":0},{"$f":"MAX(AC28:AC32)","v":0},{"$f":"+AD39","v":0},{"$f":"MAX(AE28:AE32)","v":0},{"$f":"+AF39","v":0},{"$f":"MAX(AG28:AG32)","v":0},{"$f":"+AH39","v":0},{"$f":"MAX(AI28:AI32)","v":0},{"$f":"+AJ39","v":0},{"$f":"MAX(AK28:AK32)","v":0},{"$f":"+AL39","v":0}]
[null,null,{"$f":"IF(C$33=5,5,0)","v":0},null,{"$f":"IF(E$33=5,5,0)","v":0},null,{"$f":"IF(G$33=5,5,0)","v":0},null,{"$f":"IF(I$33=5,5,0)","v":0},null,{"$f":"IF(K$33=5,5,0)","v":0},null,{"$f":"IF(M$33=5,5,0)","v":0},null,{"$f":"IF(O$33=5,5,0)","v":0},null,{"$f":"IF(Q$33=5,5,0)","v":0},null,{"$f":"IF(S$33=5,5,0)","v":0},null,{"$f":"IF(U$33=5,5,0)","v":0},null,{"$f":"IF(W$33=5,5,0)","v":0},null,{"$f":"IF(Y$33=5,5,0)","v":0},null,{"$f":"IF(AA$33=5,5,0)","v":0},null,{"$f":"IF(AC$33=5,5,0)","v":0},null,{"$f":"IF(AE$33=5,5,0)","v":0},null,{"$f":"IF(AG$33=5,5,0)","v":0},null,{"$f":"IF(AI$33=5,5,0)","v":0},null,{"$f":"IF(AK$33=5,5,0)","v":0}]
[null,null,{"$f":"IF(C$33=4,10,0)","v":0},null,{"$f":"IF(E$33=4,10,0)","v":0},null,{"$f":"IF(G$33=4,10,0)","v":0},null,{"$f":"IF(I$33=4,10,0)","v":0},null,{"$f":"IF(K$33=4,10,0)","v":0},null,{"$f":"IF(M$33=4,10,0)","v":0},null,{"$f":"IF(O$33=4,10,0)","v":0},null,{"$f":"IF(Q$33=4,10,0)","v":0},null,{"$f":"IF(S$33=4,10,0)","v":0},null,{"$f":"IF(U$33=4,10,0)","v":0},null,{"$f":"IF(W$33=4,10,0)","v":0},null,{"$f":"IF(Y$33=4,10,0)","v":0},null,{"$f":"IF(AA$33=4,10,0)","v":0},null,{"$f":"IF(AC$33=4,10,0)","v":0},null,{"$f":"IF(AE$33=4,10,0)","v":0},null,{"$f":"IF(AG$33=4,10,0)","v":0},null,{"$f":"IF(AI$33=4,10,0)","v":0},null,{"$f":"IF(AK$33=4,10,0)","v":0}]
[null,null,{"$f":"IF(C$33=3,20,0)","v":0},null,{"$f":"IF(E$33=3,20,0)","v":0},null,{"$f":"IF(G$33=3,20,0)","v":0},null,{"$f":"IF(I$33=3,20,0)","v":0},null,{"$f":"IF(K$33=3,20,0)","v":0},null,{"$f":"IF(M$33=3,20,0)","v":0},null,{"$f":"IF(O$33=3,20,0)","v":0},null,{"$f":"IF(Q$33=3,20,0)","v":0},null,{"$f":"IF(S$33=3,20,0)","v":0},null,{"$f":"IF(U$33=3,20,0)","v":0},null,{"$f":"IF(W$33=3,20,0)","v":0},null,{"$f":"IF(Y$33=3,20,0)","v":0},null,{"$f":"IF(AA$33=3,20,0)","v":0},null,{"$f":"IF(AC$33=3,20,0)","v":0},null,{"$f":"IF(AE$33=3,20,0)","v":0},null,{"$f":"IF(AG$33=3,20,0)","v":0},null,{"$f":"IF(AI$33=3,20,0)","v":0},null,{"$f":"IF(AK$33=3,20,0)","v":0}]
[null,null,{"$f":"IF(C$33=2,40,0)","v":0},null,{"$f":"IF(E$33=2,40,0)","v":0},null,{"$f":"IF(G$33=2,40,0)","v":0},null,{"$f":"IF(I$33=2,40,0)","v":0},null,{"$f":"IF(K$33=2,40,0)","v":0},null,{"$f":"IF(M$33=2,40,0)","v":0},null,{"$f":"IF(O$33=2,40,0)","v":0},null,{"$f":"IF(Q$33=2,40,0)","v":0},null,{"$f":"IF(S$33=2,40,0)","v":0},null,{"$f":"IF(U$33=2,40,0)","v":0},null,{"$f":"IF(W$33=2,40,0)","v":0},null,{"$f":"IF(Y$33=2,40,0)","v":0},null,{"$f":"IF(AA$33=2,40,0)","v":0},null,{"$f":"IF(AC$33=2,40,0)","v":0},null,{"$f":"IF(AE$33=2,40,0)","v":0},null,{"$f":"IF(AG$33=2,40,0)","v":0},null,{"$f":"IF(AI$33=2,40,0)","v":0},null,{"$f":"IF(AK$33=2,40,0)","v":0}]
[null,null,{"$f":"IF(C$33=1,80,0)","v":0},null,{"$f":"IF(E$33=1,80,0)","v":0},null,{"$f":"IF(G$33=1,80,0)","v":0},null,{"$f":"IF(I$33=1,80,0)","v":0},null,{"$f":"IF(K$33=1,80,0)","v":0},null,{"$f":"IF(M$33=1,80,0)","v":0},null,{"$f":"IF(O$33=1,80,0)","v":0},null,{"$f":"IF(Q$33=1,80,0)","v":0},null,{"$f":"IF(S$33=1,80,0)","v":0},null,{"$f":"IF(U$33=1,80,0)","v":0},null,{"$f":"IF(W$33=1,80,0)","v":0},null,{"$f":"IF(Y$33=1,80,0)","v":0},null,{"$f":"IF(AA$33=1,80,0)","v":0},null,{"$f":"IF(AC$33=1,80,0)","v":0},null,{"$f":"IF(AE$33=1,80,0)","v":0},null,{"$f":"IF(AG$33=1,80,0)","v":0},null,{"$f":"IF(AI$33=1,80,0)","v":0},null,{"$f":"IF(AK$33=1,80,0)","v":0}]
[null,null,{"$f":"RANK(C34,$C34:$AX34)*C38","v":0},null,{"$f":"RANK(E34,$C34:$AX34)*E38","v":0},null,{"$f":"RANK(G34,$C34:$AX34)*G38","v":0},null,{"$f":"RANK(I34,$C34:$AX34)*I38","v":0},null,{"$f":"RANK(K34,$C34:$AX34)*K38","v":0},null,{"$f":"RANK(M34,$C34:$AX34)*M38","v":0},null,{"$f":"RANK(O34,$C34:$AX34)*O38","v":0},null,{"$f":"RANK(Q34,$C34:$AX34)*Q38","v":0},null,{"$f":"RANK(S34,$C34:$AX34)*S38","v":0},null,{"$f":"RANK(U34,$C34:$AX34)*U38","v":0},null,{"$f":"RANK(W34,$C34:$AX34)*W38","v":0},null,{"$f":"RANK(Y34,$C34:$AX34)*Y38","v":0},null,{"$f":"RANK(AA34,$C34:$AX34)*AA38","v":0},null,{"$f":"RANK(AC34,$C34:$AX34)*AC38","v":0},null,{"$f":"RANK(AE34,$C34:$AX34)*AE38","v":0},null,{"$f":"RANK(AG34,$C34:$AX34)*AG38","v":0},null,{"$f":"RANK(AI34,$C34:$AX34)*AI38","v":0},null,{"$f":"RANK(AK34,$C34:$AX34)*AK38","v":0}]
[null,null,{"$f":"SUM(C35:C37)","v":-101000000},null,{"$f":"SUM(E35:E37)","v":-101000000},null,{"$f":"SUM(G35:G37)","v":-101000000},null,{"$f":"SUM(I35:I37)","v":-101000000},null,{"$f":"SUM(K35:K37)","v":-101000000},null,{"$f":"SUM(M35:M37)","v":-101000000},null,{"$f":"SUM(O35:O37)","v":-101000000},null,{"$f":"SUM(Q35:Q37)","v":-101000000},null,{"$f":"SUM(S35:S37)","v":-101000000},null,{"$f":"SUM(U35:U37)","v":-101000000},null,{"$f":"SUM(W35:W37)","v":-101000000},null,{"$f":"SUM(Y35:Y37)","v":-101000000},null,{"$f":"SUM(AA35:AA37)","v":-101000000},null,{"$f":"SUM(AC35:AC37)","v":-101000000},null,{"$f":"SUM(AE35:AE37)","v":-101000000},null,{"$f":"SUM(AG35:AG37)","v":-101000000},null,{"$f":"SUM(AI35:AI37)","v":-101000000},null,{"$f":"SUM(AK35:AK37)","v":-101000000}]
[null,null,{"$f":"+D39","v":0},null,{"$f":"+F39","v":0},null,{"$f":"+H39","v":0},null,{"$f":"+J39","v":0},null,{"$f":"+L39","v":0},null,{"$f":"+N39","v":0},null,{"$f":"+P39","v":0},null,{"$f":"+R39","v":0},null,{"$f":"+T39","v":0},null,{"$f":"+V39","v":0},null,{"$f":"+X39","v":0},null,{"$f":"+Z39","v":0},null,{"$f":"+AB39","v":0},null,{"$f":"+AD39","v":0},null,{"$f":"+AF39","v":0},null,{"$f":"+AH39","v":0},null,{"$f":"+AJ39","v":0},null,{"$f":"+AL39","v":0}]
[null,null,{"$f":"D40*10","v":0},null,{"$f":"F40*10","v":0},null,{"$f":"H40*10","v":0},null,{"$f":"J40*10","v":0},null,{"$f":"L40*10","v":0},null,{"$f":"N40*10","v":0},null,{"$f":"P40*10","v":0},null,{"$f":"R40*10","v":0},null,{"$f":"T40*10","v":0},null,{"$f":"V40*10","v":0},null,{"$f":"X40*10","v":0},null,{"$f":"Z40*10","v":0},null,{"$f":"AB40*10","v":0},null,{"$f":"AD40*10","v":0},null,{"$f":"AF40*10","v":0},null,{"$f":"AH40*10","v":0},null,{"$f":"AJ40*10","v":0},null,{"$f":"AL40*10","v":0}]
[null,null,{"$f":"IF(C38=1,C39*C38*10000+C39,-1000000+C39)","v":-101000000},null,{"$f":"IF(E38=1,E39*E38*10000+E39,-1000000+E39)","v":-101000000},null,{"$f":"IF(G38=1,G39*G38*10000+G39,-1000000+G39)","v":-101000000},null,{"$f":"IF(I38=1,I39*I38*10000+I39,-1000000+I39)","v":-101000000},null,{"$f":"IF(K38=1,K39*K38*10000+K39,-1000000+K39)","v":-101000000},null,{"$f":"IF(M38=1,M39*M38*10000+M39,-1000000+M39)","v":-101000000},null,{"$f":"IF(O38=1,O39*O38*10000+O39,-1000000+O39)","v":-101000000},null,{"$f":"IF(Q38=1,Q39*Q38*10000+Q39,-1000000+Q39)","v":-101000000},null,{"$f":"IF(S38=1,S39*S38*10000+S39,-1000000+S39)","v":-101000000},null,{"$f":"IF(U38=1,U39*U38*10000+U39,-1000000+U39)","v":-101000000},null,{"$f":"IF(W38=1,W39*W38*10000+W39,-1000000+W39)","v":-101000000},null,{"$f":"IF(Y38=1,Y39*Y38*10000+Y39,-1000000+Y39)","v":-101000000},null,{"$f":"IF(AA38=1,AA39*AA38*10000+AA39,-1000000+AA39)","v":-101000000},null,{"$f":"IF(AC38=1,AC39*AC38*10000+AC39,-1000000+AC39)","v":-101000000},null,{"$f":"IF(AE38=1,AE39*AE38*10000+AE39,-1000000+AE39)","v":-101000000},null,{"$f":"IF(AG38=1,AG39*AG38*10000+AG39,-1000000+AG39)","v":-101000000},null,{"$f":"IF(AI38=1,AI39*AI38*10000+AI39,-1000000+AI39)","v":-101000000},null,{"$f":"IF(AK38=1,AK39*AK38*10000+AK39,-1000000+AK39)","v":-101000000}]
["Classificats",{"$f":"SUM(C38:AK38)","v":0},{"$f":"IF(D39>=$A3/2,1,0)","v":0},null,{"$f":"IF(F39>=$A3/2,1,0)","v":0},null,{"$f":"IF(H39>=$A3/2,1,0)","v":0},null,{"$f":"IF(J39>=$A3/2,1,0)","v":0},null,{"$f":"IF(L39>=$A3/2,1,0)","v":0},null,{"$f":"IF(N39>=$A3/2,1,0)","v":0},null,{"$f":"IF(P39>=$A3/2,1,0)","v":0},null,{"$f":"IF(R39>=$A3/2,1,0)","v":0},null,{"$f":"IF(T39>=$A3/2,1,0)","v":0},null,{"$f":"IF(V39>=$A3/2,1,0)","v":0},null,{"$f":"IF(X39>=$A3/2,1,0)","v":0},null,{"$f":"IF(Z39>=$A3/2,1,0)","v":0},null,{"$f":"IF(AB39>=$A3/2,1,0)","v":0},null,{"$f":"IF(AD39>=$A3/2,1,0)","v":0},null,{"$f":"IF(AF39>=$A3/2,1,0)","v":0},null,{"$f":"IF(AH39>=$A3/2,1,0)","v":0},null,{"$f":"IF(AJ39>=$A3/2,1,0)","v":0},null,{"$f":"IF(AL39>=$A3/2,1,0)","v":0}]
[null,null,{"$f":"IF(SUM(C44:C209)<-1000,-100000000,SUM(C44:C209))","v":-100000000},{"$f":"COUNT(D44:D209)","v":0},{"$f":"IF(SUM(E44:E209)<-1000,-100000000,SUM(E44:E209))","v":-100000000},{"$f":"COUNT(F44:F209)","v":0},{"$f":"IF(SUM(G44:G209)<-1000,-100000000,SUM(G44:G209))","v":-100000000},{"$f":"COUNT(H44:H209)","v":0},{"$f":"IF(SUM(I44:I209)<-1000,-100000000,SUM(I44:I209))","v":-100000000},{"$f":"COUNT(J44:J209)","v":0},{"$f":"IF(SUM(K44:K209)<-1000,-100000000,SUM(K44:K209))","v":-100000000},{"$f":"COUNT(L44:L209)","v":0},{"$f":"IF(SUM(M44:M209)<-1000,-100000000,SUM(M44:M209))","v":-100000000},{"$f":"COUNT(N44:N209)","v":0},{"$f":"IF(SUM(O44:O209)<-1000,-100000000,SUM(O44:O209))","v":-100000000},{"$f":"COUNT(P44:P209)","v":0},{"$f":"IF(SUM(Q44:Q209)<-1000,-100000000,SUM(Q44:Q209))","v":-100000000},{"$f":"COUNT(R44:R209)","v":0},{"$f":"IF(SUM(S44:S209)<-1000,-100000000,SUM(S44:S209))","v":-100000000},{"$f":"COUNT(T44:T209)","v":0},{"$f":"IF(SUM(U44:U209)<-1000,-100000000,SUM(U44:U209))","v":-100000000},{"$f":"COUNT(V44:V209)","v":0},{"$f":"IF(SUM(W44:W209)<-1000,-100000000,SUM(W44:W209))","v":-100000000},{"$f":"COUNT(X44:X209)","v":0},{"$f":"IF(SUM(Y44:Y209)<-1000,-100000000,SUM(Y44:Y209))","v":-100000000},{"$f":"COUNT(Z44:Z209)","v":0},{"$f":"IF(SUM(AA44:AA209)<-1000,-100000000,SUM(AA44:AA209))","v":-100000000},{"$f":"COUNT(AB44:AB209)","v":0},{"$f":"IF(SUM(AC44:AC209)<-1000,-100000000,SUM(AC44:AC209))","v":-100000000},{"$f":"COUNT(AD44:AD209)","v":0},{"$f":"IF(SUM(AE44:AE209)<-1000,-100000000,SUM(AE44:AE209))","v":-100000000},{"$f":"COUNT(AF44:AF209)","v":0},{"$f":"IF(SUM(AG44:AG209)<-1000,-100000000,SUM(AG44:AG209))","v":-100000000},{"$f":"COUNT(AH44:AH209)","v":0},{"$f":"IF(SUM(AI44:AI209)<-1000,-100000000,SUM(AI44:AI209))","v":-100000000},{"$f":"COUNT(AJ44:AJ209)","v":0},{"$f":"IF(SUM(AK44:AK209)<-1000,-100000000,SUM(AK44:AK209))","v":-100000000},{"$f":"COUNT(AL44:AL209)","v":0}]
[null,null,{"$f":"SUM(C44:C103)","v":-100000000},0,-100000000,0,-100000000,0,-100000000,0,-100000000,0,-100000000,0,-100000000,0,-100000000,0,-100000000,0,-100000000,0,-100000000,0,-100000000,0,-100000000,0,-100000000,0,-100000000,0,-100000000,0,-100000000,0,-100000000,0]
[null,null,null,null,null,null,null,null,null,null,null,null,null,null,null,null,null,null,null,null,null,null,null,null,null,null,null,null,null,null,null,null,null,null,null,null,null,null,{"$f":"MAX(AN44:AN103)","v":0}]
[null,"Nº partida ","Grau",null,"Rosa",null,"Jordi",null,"Joan",null,"Anna P.",null,"Sergi",null,"Carles",null,"Mariajo",null,"Iglesias",null,"Martín",null,"Xavi",null,"Lucía",null,"Knobel",null,"Taberner",null,"Manel",null,"Goretti",null,"Jorge",null,"Serra",null,{"$f":"COUNT(AM44:AM124)","v":0},"A","B","C"]
[null,null,"Premi","Punts","Premi","Punts","Premi","Punts","Premi","Punts","Premi","Punts","Premi","Punts","Premi","Punts","Premi","Punts","Premi","Punts","Premi","Punts","Premi","Punts","Premi","Punts","Premi","Punts","Premi","Punts","Premi","Punts","Premi","Punts","Premi","Punts","Premi","Punts","Data","Timbes"]
[1,null,-100000000,null,-100000000,null,-100000000,null,-100000000,null,-100000000,null,-100000000,null,-100000000,null,-100000000,null,-100000000,null,-100000000,null,-100000000,null,-100000000,null,-100000000,null,-100000000,null,-100000000,null,-100000000,null,-100000000,null,-100000000,null,null,null,{"$f":"+C44+E44+G44+I44++K44++M44+O44+Q44+S44+U44+W44+Y44+AK44+AA44+AC44+AE44+AG44+AI44","v":-1800000000},0,{"$f":"COUNT(C44:AL44)/2","v":9},{"$f":"+AO44/AQ44","v":-200000000}]
[{"$f":"+A44+1","v":2},null,null,null,null,null,null,null,null,null,null,null,null,null,null,null,null,null,null,null,null,null,null,null,null,null,null,null,null,null,null,null,null,null,null,null,null,null,null,null,0,0,{"$f":"COUNT(C45:AL45)/2","v":0},{"$f":"+AO45/AQ45","v":{"$error":"#DIV/0!"}}]
[{"$f":"+A45+1","v":3},null,null,null,null,null,null,null,null,null,null,null,null,null,null,null,null,null,null,null,null,null,null,null,null,null,null,null,null,null,null,null,null,null,null,null,null,null,null,null,0,0,{"$f":"COUNT(C46:AL46)/2","v":0},{"$f":"+AO46/AQ46","v":{"$error":"#DIV/0!"}}]
[4]
[5]
[6]
[7]
[8]
[9]
[10]
[11]
[12]
[13]
[14]
[15]
[16]
[17]
[18]
[19]
[20]
[21]
[22]
[23]
[24]
[25]
[26]
[27]
[28]
[29]
[30]
[31]
[32]
[33]
[34]
[35]
[36]
[37]
[38]
[39]
[40]
[41]
[42]
[43]
[44]
[45]
[46]
[47]
[48]
[49]
[50]
[51]
[52]
[53]
[54]
[55]
[56]
[57]
[58]
[59]
[60]

{"sheet":"Texas","index":11,"n_rows":103,"n_cols":44,"rows_kept":103,"cut":false,"hidden":false,"merged":[[41,36,41,37],[41,18,41,19],[41,20,41,21],[41,22,41,23],[41,24,41,25],[41,26,41,27],[41,32,41,33],[41,34,41,35],[41,14,41,15],[41,16,41,17],[41,28,41,29],[41,30,41,31],[41,2,41,3],[41,4,41,5],[41,6,41,7],[41,8,41,9],[41,10,41,11],[41,12,41,13]]}
["POKER TEXAS"]
["Mes"]
[{"$f":"+GENERAL!B6","v":12},null,{"$f":"SUM(C5:C8)","v":-400000000}]
[null,null,"Premi","Punts","Partides","General"]
[1,"Carles",{"$f":"+O$39","v":-100000000},{"$f":"+P$40","v":0},{"$f":"+P$39","v":0},{"$f":"+O$25","v":0},{"$f":"IF(E5<A$3/2,-1,1)*80+C5","v":-100000080}]
[2,"Grau",{"$f":"+K$39","v":-100000000},{"$f":"+L$40","v":0},{"$f":"+L$39","v":0},{"$f":"+K$25","v":0},-100000080]
[3,"Jordi",{"$f":"+G$39","v":-100000000},{"$f":"+H$40","v":0},{"$f":"+H$39","v":0},{"$f":"+G$25","v":0},-100000080]
[4,"Lucía",{"$f":"+Y$39","v":-100000000},{"$f":"+Z$40","v":0},{"$f":"+Z$39","v":0},{"$f":"+Y$25","v":0},-100000080]
[5,"Manolo",{"$f":"+U$39","v":-100000000},{"$f":"+V$40","v":0},{"$f":"+V$39","v":0},{"$f":"+U$25","v":0},-100000080]
[6,"Mariajo",{"$f":"+Q$39","v":-100000000},{"$f":"+R$40","v":0},{"$f":"+R$39","v":0},{"$f":"+Q$25","v":0},-100000080]
[7,"Tito",{"$f":"+AI$39","v":-100000000},{"$f":"+AJ$40","v":0},{"$f":"+AJ$39","v":0},{"$f":"+AI$25","v":0},-100000080]
[8,"David",{"$f":"+E$39","v":-100000000},{"$f":"+F$40","v":0},{"$f":"+F$39","v":0},{"$f":"+E$25","v":0},{"$f":"IF(E12<A$3/2,-1,1)*80+C12","v":-100000080}]
[9,"Gerard",{"$f":"+I$39","v":-100000000},{"$f":"+J$40","v":0},{"$f":"+J$39","v":0},{"$f":"+I$25","v":0},-100000080]
[10,"Goretti",{"$f":"+AG$39","v":-100000000},{"$f":"+AH$40","v":0},{"$f":"+AH$39","v":0},{"$f":"+AG$25","v":0},-100000080]
[11,"Iglesias",{"$f":"+S$39","v":0},{"$f":"+T$40","v":0},{"$f":"+T$39","v":0},{"$f":"+S$25","v":0},-80]
[11,"Joan Carles",{"$f":"+C$39","v":-100000000},{"$f":"+D$40","v":0},{"$f":"+D$39","v":0},{"$f":"+C$25","v":0},-100000080]
[11,"Montse",{"$f":"+AE$39","v":-100000000},{"$f":"+AF$40","v":0},{"$f":"+AF$39","v":0},{"$f":"+AE$25","v":0},-100000080]
[14,"Pol",{"$f":"+AK$39","v":-100000000},{"$f":"+AL$40","v":0},{"$f":"+AL$39","v":0},{"$f":"+AK$25","v":0},-100000080]
[15,"Salvadó",{"$f":"+AA$39","v":-100000000},{"$f":"+AB$40","v":0},{"$f":"+AB$39","v":0},{"$f":"+AA26","v":0},-100000080]
[16,"Sergi",{"$f":"+M$39","v":-100000000},{"$f":"+N$40","v":0},{"$f":"+N$39","v":0},{"$f":"+M$25","v":0},-100000080]
[17,"Trivi",{"$f":"+AC$39","v":-100000000},{"$f":"+AD$40","v":0},{"$f":"+AD$39","v":0},{"$f":"+AC$25","v":0},-100000080]
[18,"Xavi",{"$f":"+W$39","v":-100000000},{"$f":"+X$40","v":0},{"$f":"+X$39","v":0},{"$f":"+W$25","v":0},-100000080]
[]
[]
[null,"General",{"$f":"+C26*C27","v":0},{"$f":"+D26*D27","v":0},0,0,0,0,0,0,0,0,0,0,0,0,0,0,0,0,0,0,0,0,0,0,{"$f":"+AA26*AA27","v":0},0,0,0,0,0,0,0,0,0,0,0]
[null,null,{"$f":"IF($B38>3,1,0)","v":0},{"$f":"IF($B38>3,1,0)","v":0},0,0,0,0,0,0,0,0,0,0,0,0,0,0,0,0,0,0,0,0,0,0,{"$f":"IF($B38>3,1,0)","v":0},0,0,0,0,0,0,0,0,0,0,0]
[null,null,{"$f":"MAX(C28:C32)","v":0},{"$f":"+D39","v":0},{"$f":"MAX(E28:E32)","v":0},{"$f":"+F39","v":0},{"$f":"MAX(G28:G32)","v":0},{"$f":"+H39","v":0},{"$f":"MAX(I28:I32)","v":0},{"$f":"+J39","v":0},{"$f":"MAX(K28:K32)","v":0},{"$f":"+L39","v":0},{"$f":"MAX(M28:M32)","v":0},{"$f":"+N39","v":0},{"$f":"MAX(O28:O32)","v":0},{"$f":"+P39","v":0},{"$f":"MAX(Q28:Q32)","v":0},{"$f":"+R39","v":0},{"$f":"MAX(S28:S32)","v":0},{"$f":"+T39","v":0},{"$f":"MAX(U28:U32)","v":0},{"$f":"+V39","v":0},{"$f":"MAX(W28:W32)","v":0},{"$f":"+X39","v":0},{"$f":"MAX(Y28:Y32)","v":0},{"$f":"+Z39","v":0},{"$f":"MAX(AA28:AA32)","v":0},{"$f":"+AB39","v":0},{"$f":"MAX(AC28:AC32)","v":0},{"$f":"+AD39","v":0},{"$f":"MAX(AE28:AE32)","v":0},{"$f":"+AF39","v":0},{"$f":"MAX(AG28:AG32)","v":0},{"$f":"+AH39","v":0},{"$f":"MAX(AI28:AI32)","v":0},{"$f":"+AJ39","v":0},{"$f":"MAX(AK28:AK32)","v":0},{"$f":"+AL39","v":0}]
[null,null,{"$f":"IF(C$33=5,5,0)","v":0},null,{"$f":"IF(E$33=5,5,0)","v":0},null,{"$f":"IF(G$33=5,5,0)","v":0},null,{"$f":"IF(I$33=5,5,0)","v":0},null,{"$f":"IF(K$33=5,5,0)","v":0},null,{"$f":"IF(M$33=5,5,0)","v":0},null,{"$f":"IF(O$33=5,5,0)","v":0},null,{"$f":"IF(Q$33=5,5,0)","v":0},null,{"$f":"IF(S$33=5,5,0)","v":0},null,{"$f":"IF(U$33=5,5,0)","v":0},null,{"$f":"IF(W$33=5,5,0)","v":0},null,{"$f":"IF(Y$33=5,5,0)","v":0},null,{"$f":"IF(AA$33=5,5,0)","v":0},null,{"$f":"IF(AC$33=5,5,0)","v":0},null,{"$f":"IF(AE$33=5,5,0)","v":0},null,{"$f":"IF(AG$33=5,5,0)","v":0},null,{"$f":"IF(AI$33=5,5,0)","v":0},null,{"$f":"IF(AK$33=5,5,0)","v":0}]
[null,null,{"$f":"IF(C$33=4,10,0)","v":0},null,{"$f":"IF(E$33=4,10,0)","v":0},null,{"$f":"IF(G$33=4,10,0)","v":0},null,{"$f":"IF(I$33=4,10,0)","v":0},null,{"$f":"IF(K$33=4,10,0)","v":0},null,{"$f":"IF(M$33=4,10,0)","v":0},null,{"$f":"IF(O$33=4,10,0)","v":0},null,{"$f":"IF(Q$33=4,10,0)","v":0},null,{"$f":"IF(S$33=4,10,0)","v":0},null,{"$f":"IF(U$33=4,10,0)","v":0},null,{"$f":"IF(W$33=4,10,0)","v":0},null,{"$f":"IF(Y$33=4,10,0)","v":0},null,{"$f":"IF(AA$33=4,10,0)","v":0},null,{"$f":"IF(AC$33=4,10,0)","v":0},null,{"$f":"IF(AE$33=4,10,0)","v":0},null,{"$f":"IF(AG$33=4,10,0)","v":0},null,{"$f":"IF(AI$33=4,10,0)","v":0},null,{"$f":"IF(AK$33=4,10,0)","v":0}]
[null,null,{"$f":"IF(C$33=3,20,0)","v":0},null,{"$f":"IF(E$33=3,20,0)","v":0},null,{"$f":"IF(G$33=3,20,0)","v":0},null,{"$f":"IF(I$33=3,20,0)","v":0},null,{"$f":"IF(K$33=3,20,0)","v":0},null,{"$f":"IF(M$33=3,20,0)","v":0},null,{"$f":"IF(O$33=3,20,0)","v":0},null,{"$f":"IF(Q$33=3,20,0)","v":0},null,{"$f":"IF(S$33=3,20,0)","v":0},null,{"$f":"IF(U$33=3,20,0)","v":0},null,{"$f":"IF(W$33=3,20,0)","v":0},null,{"$f":"IF(Y$33=3,20,0)","v":0},null,{"$f":"IF(AA$33=3,20,0)","v":0},null,{"$f":"IF(AC$33=3,20,0)","v":0},null,{"$f":"IF(AE$33=3,20,0)","v":0},null,{"$f":"IF(AG$33=3,20,0)","v":0},null,{"$f":"IF(AI$33=3,20,0)","v":0},null,{"$f":"IF(AK$33=3,20,0)","v":0}]
[null,null,{"$f":"IF(C$33=2,40,0)","v":0},null,{"$f":"IF(E$33=2,40,0)","v":0},null,{"$f":"IF(G$33=2,40,0)","v":0},null,{"$f":"IF(I$33=2,40,0)","v":0},null,{"$f":"IF(K$33=2,40,0)","v":0},null,{"$f":"IF(M$33=2,40,0)","v":0},null,{"$f":"IF(O$33=2,40,0)","v":0},null,{"$f":"IF(Q$33=2,40,0)","v":0},null,{"$f":"IF(S$33=2,40,0)","v":0},null,{"$f":"IF(U$33=2,40,0)","v":0},null,{"$f":"IF(W$33=2,40,0)","v":0},null,{"$f":"IF(Y$33=2,40,0)","v":0},null,{"$f":"IF(AA$33=2,40,0)","v":0},null,{"$f":"IF(AC$33=2,40,0)","v":0},null,{"$f":"IF(AE$33=2,40,0)","v":0},null,{"$f":"IF(AG$33=2,40,0)","v":0},null,{"$f":"IF(AI$33=2,40,0)","v":0},null,{"$f":"IF(AK$33=2,40,0)","v":0}]
[null,null,{"$f":"IF(C$33=1,80,0)","v":0},null,{"$f":"IF(E$33=1,80,0)","v":0},null,{"$f":"IF(G$33=1,80,0)","v":0},null,{"$f":"IF(I$33=1,80,0)","v":0},null,{"$f":"IF(K$33=1,80,0)","v":0},null,{"$f":"IF(M$33=1,80,0)","v":0},null,{"$f":"IF(O$33=1,80,0)","v":0},null,{"$f":"IF(Q$33=1,80,0)","v":0},null,{"$f":"IF(S$33=1,80,0)","v":0},null,{"$f":"IF(U$33=1,80,0)","v":0},null,{"$f":"IF(W$33=1,80,0)","v":0},null,{"$f":"IF(Y$33=1,80,0)","v":0},null,{"$f":"IF(AA$33=1,80,0)","v":0},null,{"$f":"IF(AC$33=1,80,0)","v":0},null,{"$f":"IF(AE$33=1,80,0)","v":0},null,{"$f":"IF(AG$33=1,80,0)","v":0},null,{"$f":"IF(AI$33=1,80,0)","v":0},null,{"$f":"IF(AK$33=1,80,0)","v":0}]
[null,null,{"$f":"RANK(C34,$C34:$AX34)*C38","v":0},null,{"$f":"RANK(E34,$C34:$AX34)*E38","v":0},null,{"$f":"RANK(G34,$C34:$AX34)*G38","v":0},null,{"$f":"RANK(I34,$C34:$AX34)*I38","v":0},null,{"$f":"RANK(K34,$C34:$AX34)*K38","v":0},null,{"$f":"RANK(M34,$C34:$AX34)*M38","v":0},null,{"$f":"RANK(O34,$C34:$AX34)*O38","v":0},null,{"$f":"RANK(Q34,$C34:$AX34)*Q38","v":0},null,{"$f":"RANK(S34,$C34:$AX34)*S38","v":0},null,{"$f":"RANK(U34,$C34:$AX34)*U38","v":0},null,{"$f":"RANK(W34,$C34:$AX34)*W38","v":0},null,{"$f":"RANK(Y34,$C34:$AX34)*Y38","v":0},null,{"$f":"RANK(AA34,$C34:$AX34)*AA38","v":0},null,{"$f":"RANK(AC34,$C34:$AX34)*AC38","v":0},null,{"$f":"RANK(AE34,$C34:$AX34)*AE38","v":0},null,{"$f":"RANK(AG34,$C34:$AX34)*AG38","v":0},null,{"$f":"RANK(AI34,$C34:$AX34)*AI38","v":0},null,{"$f":"RANK(AK34,$C34:$AX34)*AK38","v":0}]
[null,null,{"$f":"SUM(C35:C37)","v":-101000000},null,{"$f":"SUM(E35:E37)","v":-101000000},null,{"$f":"SUM(G35:G37)","v":-101000000},null,{"$f":"SUM(I35:I37)","v":-101000000},null,{"$f":"SUM(K35:K37)","v":-101000000},null,{"$f":"SUM(M35:M37)","v":-101000000},null,{"$f":"SUM(O35:O37)","v":-101000000},null,{"$f":"SUM(Q35:Q37)","v":-101000000},null,{"$f":"SUM(S35:S37)","v":-1000000},null,{"$f":"SUM(U35:U37)","v":-101000000},null,{"$f":"SUM(W35:W37)","v":-101000000},null,{"$f":"SUM(Y35:Y37)","v":-101000000},null,{"$f":"SUM(AA35:AA37)","v":-101000000},null,{"$f":"SUM(AC35:AC37)","v":-101000000},null,{"$f":"SUM(AE35:AE37)","v":-101000000},null,{"$f":"SUM(AG35:AG37)","v":-101000000},null,{"$f":"SUM(AI35:AI37)","v":-101000000},null,{"$f":"SUM(AK35:AK37)","v":-101000000}]
[null,null,{"$f":"+D39","v":0},null,{"$f":"+F39","v":0},null,{"$f":"+H39","v":0},null,{"$f":"+J39","v":0},null,{"$f":"+L39","v":0},null,{"$f":"+N39","v":0},null,{"$f":"+P39","v":0},null,{"$f":"+R39","v":0},null,{"$f":"+T39","v":0},null,{"$f":"+V39","v":0},null,{"$f":"+X39","v":0},null,{"$f":"+Z39","v":0},null,{"$f":"+AB39","v":0},null,{"$f":"+AD39","v":0},null,{"$f":"+AF39","v":0},null,{"$f":"+AH39","v":0},null,{"$f":"+AJ39","v":0},null,{"$f":"+AL39","v":0}]
[null,null,{"$f":"D40*10","v":0},null,{"$f":"F40*10","v":0},null,{"$f":"H40*10","v":0},null,{"$f":"J40*10","v":0},null,{"$f":"L40*10","v":0},null,{"$f":"N40*10","v":0},null,{"$f":"P40*10","v":0},null,{"$f":"R40*10","v":0},null,{"$f":"T40*10","v":0},null,{"$f":"V40*10","v":0},null,{"$f":"X40*10","v":0},null,{"$f":"Z40*10","v":0},null,{"$f":"AB40*10","v":0},null,{"$f":"AD40*10","v":0},null,{"$f":"AF40*10","v":0},null,{"$f":"AH40*10","v":0},null,{"$f":"AJ40*10","v":0},null,{"$f":"AL40*10","v":0}]
[null,null,{"$f":"IF(C38=1,C39*C38*10000+C39,-1000000+C39)","v":-101000000},null,{"$f":"IF(E38=1,E39*E38*10000+E39,-1000000+E39)","v":-101000000},null,{"$f":"IF(G38=1,G39*G38*10000+G39,-1000000+G39)","v":-101000000},null,{"$f":"IF(I38=1,I39*I38*10000+I39,-1000000+I39)","v":-101000000},null,{"$f":"IF(K38=1,K39*K38*10000+K39,-1000000+K39)","v":-101000000},null,{"$f":"IF(M38=1,M39*M38*10000+M39,-1000000+M39)","v":-101000000},null,{"$f":"IF(O38=1,O39*O38*10000+O39,-1000000+O39)","v":-101000000},null,{"$f":"IF(Q38=1,Q39*Q38*10000+Q39,-1000000+Q39)","v":-101000000},null,{"$f":"IF(S38=1,S39*S38*10000+S39,-1000000+S39)","v":-1000000},null,{"$f":"IF(U38=1,U39*U38*10000+U39,-1000000+U39)","v":-101000000},null,{"$f":"IF(W38=1,W39*W38*10000+W39,-1000000+W39)","v":-101000000},null,{"$f":"IF(Y38=1,Y39*Y38*10000+Y39,-1000000+Y39)","v":-101000000},null,{"$f":"IF(AA38=1,AA39*AA38*10000+AA39,-1000000+AA39)","v":-101000000},null,{"$f":"IF(AC38=1,AC39*AC38*10000+AC39,-1000000+AC39)","v":-101000000},null,{"$f":"IF(AE38=1,AE39*AE38*10000+AE39,-1000000+AE39)","v":-101000000},null,{"$f":"IF(AG38=1,AG39*AG38*10000+AG39,-1000000+AG39)","v":-101000000},null,{"$f":"IF(AI38=1,AI39*AI38*10000+AI39,-1000000+AI39)","v":-101000000},null,{"$f":"IF(AK38=1,AK39*AK38*10000+AK39,-1000000+AK39)","v":-101000000}]
["Classificats",{"$f":"SUM(C38:AK38)","v":0},{"$f":"IF(D39>=$A3/2,1,0)","v":0},null,{"$f":"IF(F39>=$A3/2,1,0)","v":0},null,{"$f":"IF(H39>=$A3/2,1,0)","v":0},null,{"$f":"IF(J39>=$A3/2,1,0)","v":0},null,{"$f":"IF(L39>=$A3/2,1,0)","v":0},null,{"$f":"IF(N39>=$A3/2,1,0)","v":0},null,{"$f":"IF(P39>=$A3/2,1,0)","v":0},null,{"$f":"IF(R39>=$A3/2,1,0)","v":0},null,{"$f":"IF(T39>=$A3/2,1,0)","v":0},null,{"$f":"IF(V39>=$A3/2,1,0)","v":0},null,{"$f":"IF(X39>=$A3/2,1,0)","v":0},null,{"$f":"IF(Z39>=$A3/2,1,0)","v":0},null,{"$f":"IF(AB39>=$A3/2,1,0)","v":0},null,{"$f":"IF(AD39>=$A3/2,1,0)","v":0},null,{"$f":"IF(AF39>=$A3/2,1,0)","v":0},null,{"$f":"IF(AH39>=$A3/2,1,0)","v":0},null,{"$f":"IF(AJ39>=$A3/2,1,0)","v":0},null,{"$f":"IF(AL39>=$A3/2,1,0)","v":0}]
[null,null,{"$f":"IF(SUM(C44:C209)<-1000,-100000000,SUM(C44:C209))","v":-100000000},{"$f":"COUNT(D44:D209)","v":0},{"$f":"IF(SUM(E44:E209)<-1000,-100000000,SUM(E44:E209))","v":-100000000},{"$f":"COUNT(F44:F209)","v":0},{"$f":"IF(SUM(G44:G209)<-1000,-100000000,SUM(G44:G209))","v":-100000000},{"$f":"COUNT(H44:H209)","v":0},{"$f":"IF(SUM(I44:I209)<-1000,-100000000,SUM(I44:I209))","v":-100000000},{"$f":"COUNT(J44:J209)","v":0},{"$f":"IF(SUM(K44:K209)<-1000,-100000000,SUM(K44:K209))","v":-100000000},{"$f":"COUNT(L44:L209)","v":0},{"$f":"IF(SUM(M44:M209)<-1000,-100000000,SUM(M44:M209))","v":-100000000},{"$f":"COUNT(N44:N209)","v":0},{"$f":"IF(SUM(O44:O209)<-1000,-100000000,SUM(O44:O209))","v":-100000000},{"$f":"COUNT(P44:P209)","v":0},{"$f":"IF(SUM(Q44:Q209)<-1000,-100000000,SUM(Q44:Q209))","v":-100000000},{"$f":"COUNT(R44:R209)","v":0},{"$f":"IF(SUM(S44:S209)<-1000,-100000000,SUM(S44:S209))","v":0},{"$f":"COUNT(T44:T209)","v":0},{"$f":"IF(SUM(U44:U209)<-1000,-100000000,SUM(U44:U209))","v":-100000000},{"$f":"COUNT(V44:V209)","v":0},{"$f":"IF(SUM(W44:W209)<-1000,-100000000,SUM(W44:W209))","v":-100000000},{"$f":"COUNT(X44:X209)","v":0},{"$f":"IF(SUM(Y44:Y209)<-1000,-100000000,SUM(Y44:Y209))","v":-100000000},{"$f":"COUNT(Z44:Z209)","v":0},{"$f":"IF(SUM(AA44:AA209)<-1000,-100000000,SUM(AA44:AA209))","v":-100000000},{"$f":"COUNT(AB44:AB209)","v":0},{"$f":"IF(SUM(AC44:AC209)<-1000,-100000000,SUM(AC44:AC209))","v":-100000000},{"$f":"COUNT(AD44:AD209)","v":0},{"$f":"IF(SUM(AE44:AE209)<-1000,-100000000,SUM(AE44:AE209))","v":-100000000},{"$f":"COUNT(AF44:AF209)","v":0},{"$f":"IF(SUM(AG44:AG209)<-1000,-100000000,SUM(AG44:AG209))","v":-100000000},{"$f":"COUNT(AH44:AH209)","v":0},{"$f":"IF(SUM(AI44:AI209)<-1000,-100000000,SUM(AI44:AI209))","v":-100000000},{"$f":"COUNT(AJ44:AJ209)","v":0},{"$f":"IF(SUM(AK44:AK209)<-1000,-100000000,SUM(AK44:AK209))","v":-100000000},{"$f":"COUNT(AL44:AL209)","v":0}]
[null,null,{"$f":"SUM(C44:C103)","v":-100000000},0,-100000000,0,-100000000,0,-100000000,0,-100000000,0,-100000000,0,-100000000,0,{"$f":"SUM(Q44:Q103)","v":-100000000},0,0,0,-100000000,0,-100000000,0,-100000000,0,-100000000,0,-100000000,0,-100000000,0,-100000000,0,-100000000,0,-100000000,0]
[null,null,null,null,null,null,null,null,null,null,null,null,null,null,null,null,null,null,null,null,null,null,null,null,null,null,null,null,null,null,null,null,null,null,null,null,null,null,{"$f":"MAX(AN44:AN103)","v":0}]
[null,"Nº partida ","Joan Carles",null,"David",null,"Jordi",null,"Gerard",null,"Grau",null,"Sergi",null,"Carles",null,"Mariajo",null,"Iglesias",null,"Manolo",null,"Xavi",null,"Lucía",null,"Salvadó",null,"Trivi",null,"Montse",null,"Goretti",null,"Tito",null,"Pol",null,{"$f":"COUNT(AM44:AM124)","v":0},"A","B","C"]
[null,null,"Premi","Punts","Premi","Punts","Premi","Punts","Premi","Punts","Premi","Punts","Premi","Punts","Premi","Punts","Premi","Punts","Premi","Punts","Premi","Punts","Premi","Punts","Premi","Punts","Premi","Punts","Premi","Punts","Premi","Punts","Premi","Punts","Premi","Punts","Premi","Punts","Data","Timbes"]
[1,null,-100000000,null,-100000000,null,-100000000,null,-100000000,null,-100000000,null,-100000000,null,-100000000,null,-100000000,null,null,null,-100000000,null,-100000000,null,-100000000,null,-100000000,null,-100000000,null,-100000000,null,-100000000,null,-100000000,null,-100000000,null,null,null,{"$f":"+C44+E44+G44+I44++K44++M44+O44+Q44+S44+U44+W44+Y44+AK44+AA44+AC44+AE44+AG44+AI44","v":-1700000000},{"$f":"+D44+F44+H44+J44++L44++N44+P44+R44+T44+V44+X44+Z44+AL44+AB44+AD44+AF44+AH44+AJ44","v":0},{"$f":"COUNT(C44:AL44)/2","v":8.5},{"$f":"+AO44/AQ44","v":-200000000}]
[{"$f":"+A44+1","v":2},null,null,null,null,null,null,null,null,null,null,null,null,null,null,null,null,null,null,null,null,null,null,null,null,null,null,null,null,null,null,null,null,null,null,null,null,null,null,null,{"$f":"+C45+E45+G45+I45++K45++M45+O45+Q45+S45+U45+W45+Y45+AK45+AA45+AC45+AE45+AG45+AI45","v":0},0,0,{"$f":"+AO45/AQ45","v":{"$error":"#DIV/0!"}}]
[{"$f":"+A45+1","v":3},null,null,null,null,null,null,null,null,null,null,null,null,null,null,null,null,null,null,null,null,null,null,null,null,null,null,null,null,null,null,null,null,null,null,null,null,null,null,null,0,0,0,{"$error":"#DIV/0!"}]
[4,null,null,null,null,null,null,null,null,null,null,null,null,null,null,null,null,null,null,null,null,null,null,null,null,null,null,null,null,null,null,null,null,null,null,null,null,null,null,null,0,0,0,{"$error":"#DIV/0!"}]
[5,null,null,null,null,null,null,null,null,null,null,null,null,null,null,null,null,null,null,null,null,null,null,null,null,null,null,null,null,null,null,null,null,null,null,null,null,null,null,null,0,0,0,{"$error":"#DIV/0!"}]
[6,null,null,null,null,null,null,null,null,null,null,null,null,null,null,null,null,null,null,null,null,null,null,null,null,null,null,null,null,null,null,null,null,null,null,null,null,null,null,null,0,0,0,{"$error":"#DIV/0!"}]
[7,null,null,null,null,null,null,null,null,null,null,null,null,null,null,null,null,null,null,null,null,null,null,null,null,null,null,null,null,null,null,null,null,null,null,null,null,null,null,null,0,0,0,{"$error":"#DIV/0!"}]
[8,null,null,null,null,null,null,null,null,null,null,null,null,null,null,null,null,null,null,null,null,null,null,null,null,null,null,null,null,null,null,null,null,null,null,null,null,null,null,null,0,0,0,{"$error":"#DIV/0!"}]
[9,null,null,null,null,null,null,null,null,null,null,null,null,null,null,null,null,null,null,null,null,null,null,null,null,null,null,null,null,null,null,null,null,null,null,null,null,null,null,null,0,0,0,{"$error":"#DIV/0!"}]
[10,null,null,null,null,null,null,null,null,null,null,null,null,null,null,null,null,null,null,null,null,null,null,null,null,null,null,null,null,null,null,null,null,null,null,null,null,null,null,null,0,0,0,{"$error":"#DIV/0!"}]
[11,null,null,null,null,null,null,null,null,null,null,null,null,null,null,null,null,null,null,null,null,null,null,null,null,null,null,null,null,null,null,null,null,null,null,null,null,null,null,null,0,0,0,{"$error":"#DIV/0!"}]
[12,null,null,null,null,null,null,null,null,null,null,null,null,null,null,null,null,null,null,null,null,null,null,null,null,null,null,null,null,null,null,null,null,null,null,null,null,null,null,null,0,0,0,{"$error":"#DIV/0!"}]
[13,null,null,null,null,null,null,null,null,null,null,null,null,null,null,null,null,null,null,null,null,null,null,null,null,null,null,null,null,null,null,null,null,null,null,null,null,null,null,null,0,0,0,{"$error":"#DIV/0!"}]
[14,null,null,null,null,null,null,null,null,null,null,null,null,null,null,null,null,null,null,null,null,null,null,null,null,null,null,null,null,null,null,null,null,null,null,null,null,null,null,null,0,0,0,{"$error":"#DIV/0!"}]
[15,null,null,null,null,null,null,null,null,null,null,null,null,null,null,null,null,null,null,null,null,null,null,null,null,null,null,null,null,null,null,null,null,null,null,null,null,null,null,null,0,0,0,{"$error":"#DIV/0!"}]
[16,null,null,null,null,null,null,null,null,null,null,null,null,null,null,null,null,null,null,null,null,null,null,null,null,null,null,null,null,null,null,null,null,null,null,null,null,null,null,null,0,0,0,{"$error":"#DIV/0!"}]
[17,null,null,null,null,null,null,null,null,null,null,null,null,null,null,null,null,null,null,null,null,null,null,null,null,null,null,null,null,null,null,null,null,null,null,null,null,null,null,null,0,0,0,{"$error":"#DIV/0!"}]
[18,null,null,null,null,null,null,null,null,null,null,null,null,null,null,null,null,null,null,null,null,null,null,null,null,null,null,null,null,null,null,null,null,null,null,null,null,null,null,null,0,0,0,{"$error":"#DIV/0!"}]
[19]
[20]
[21]
[22]
[23]
[24]
[25]
[26]
[27]
[28]
[29]
[30]
[31]
[32]
[33]
[34]
[35]
[36]
[37]
[38]
[39]
[40]
[41]
[42]
[43]
[44]
[45]
[46]
[47]
[48]
[49]
[50]
[51]
[52]
[53]
[54]
[55]
[56]
[57]
[58]
[59]
[60]

{"sheet":"Guinyot","index":12,"n_rows":156,"n_cols":58,"rows_kept":156,"cut":false,"hidden":false,"merged":[[40,35,40,37],[40,2,40,4],[40,5,40,7],[40,8,40,10],[40,11,40,13],[40,14,40,16],[40,17,40,19],[40,20,40,22],[40,23,40,25],[40,26,40,28],[40,29,40,31],[40,32,40,34],[40,38,40,40],[40,41,40,43],[40,44,40,46],[40,47,40,49],[40,50,40,52]]}
["GUINYOT"]
["Mes"]
[{"$f":"+GENERAL!B6","v":12},null,{"$f":"SUM(C5:C8)","v":-400000000}]
[null,null,"Premi","Punts","Partides","General"]
[1,"Carles",{"$f":"+U$38","v":-100000000},{"$f":"+U$39","v":0},{"$f":"+V$38","v":0},{"$f":"+U$24","v":0},{"$f":"IF(E5<A$3/2,-1,1)*800+C5","v":-100000800}]
[2,"Mariajo",{"$f":"+X$38","v":-100000000},{"$f":"+X$39","v":0},{"$f":"+Y$38","v":0},{"$f":"+X$24","v":0},-100000800]
[3,"Sergi",{"$f":"+R$38","v":-100000000},{"$f":"+R$39","v":0},{"$f":"+S$38","v":0},{"$f":"+R$24","v":0},-100000800]
[4,"Manolo",{"$f":"+O$38","v":-100000000},{"$f":"+O$39","v":0},{"$f":"+P$38","v":0},{"$f":"+O$24","v":0},-100000800]
[5,"Jordi",{"$f":"+I$38","v":-100000000},{"$f":"+I$39","v":0},{"$f":"+J$38","v":0},{"$f":"+I$24","v":0},-100000800]
[6,"Grau",{"$f":"+AY$38","v":-100000000},{"$f":"+AY$39","v":0},{"$f":"+AZ$38","v":0},{"$f":"+AY$24","v":0},-100000800]
[7,"Angie",{"$f":"+F$38","v":-100000000},{"$f":"+F$39","v":0},{"$f":"+G$38","v":0},{"$f":"+F$24","v":0},-100000800]
[8,"Mercè",{"$f":"+AP$38","v":-100000000},{"$f":"+AP$39","v":0},{"$f":"+AQ$38","v":0},{"$f":"+AP$24","v":0},-100000800]
[9,"Katy",{"$f":"+AJ$38","v":-100000000},{"$f":"+AJ$39","v":0},{"$f":"+AK$38","v":0},{"$f":"+AJ$24","v":0},-100000800]
[10,"Goretti",{"$f":"+AS$38","v":-100000000},{"$f":"+AS$39","v":0},{"$f":"+AT$38","v":0},{"$f":"+AS$24","v":0},-100000800]
[11,"Palafox",{"$f":"+L$38","v":-100000000},{"$f":"+L$39","v":0},{"$f":"+M$38","v":0},{"$f":"+L$24","v":0},-100000800]
[12,"Coralie",{"$f":"+AM$38","v":-100000000},{"$f":"+AM$39","v":0},{"$f":"+AN$38","v":0},{"$f":"+AM$24","v":0},-100000800]
[13,"Xavi",{"$f":"+AG$38","v":-100000000},{"$f":"+AG$39","v":0},{"$f":"+AH$38","v":0},{"$f":"+AG$24","v":0},-100000800]
[14,"Martín",{"$f":"+AD$38","v":-100000000},{"$f":"+AD$39","v":0},{"$f":"+AE$38","v":0},{"$f":"+AD$24","v":0},-100000800]
[15,"Iglesias",{"$f":"+AA$38","v":-100000000},{"$f":"+AA$39","v":0},{"$f":"+AB$38","v":0},{"$f":"+AA$24","v":0},-100000800]
[16,"Salvadó",{"$f":"+C$38","v":-100000000},{"$f":"+C$39","v":0},{"$f":"+D$38","v":0},{"$f":"+C$24","v":0},-100000800]
[17,"Jorge",{"$f":"+AV$38","v":-100000000},{"$f":"+AV$39","v":0},{"$f":"+AW$38","v":0},{"$f":"+AU$24","v":0},-100000800]
[]
[]
[null,"General",{"$f":"+C25*C26","v":0},{"$f":"+D25*D26","v":0},null,{"$f":"+F25*F26","v":0},{"$f":"+G25*G26","v":0},null,{"$f":"+I25*I26","v":0},{"$f":"+J25*J26","v":0},null,{"$f":"L25*L26","v":0},{"$f":"+M25*M26","v":0},null,{"$f":"+O25*O26","v":0},{"$f":"+P25*P26","v":0},null,{"$f":"+R25*R26","v":0},{"$f":"+S25*S26","v":0},null,{"$f":"+U25*U26","v":0},{"$f":"+V25*V26","v":0},null,{"$f":"+X25*X26","v":0},{"$f":"+Y25*Y26","v":0},null,{"$f":"+AA25*AA26","v":0},{"$f":"+AB25*AB26","v":0},null,{"$f":"+AD25*AD26","v":0},{"$f":"+AE25*AE26","v":0},null,{"$f":"+AG25*AG26","v":0},{"$f":"+AH25*AH26","v":0},null,{"$f":"+AJ25*AJ26","v":0},{"$f":"+AK25*AK26","v":0},null,{"$f":"+AM25*AM26","v":0},{"$f":"+AN25*AN26","v":0},null,{"$f":"+AP25*AP26","v":0},{"$f":"+AQ25*AQ26","v":0},null,{"$f":"+AS25*AS26","v":0},{"$f":"+AT25*AT26","v":0},null,{"$f":"+AV25*AV26","v":0},{"$f":"+AW25*AW26","v":0},null,{"$f":"+AY25*AY26","v":0},{"$f":"+AZ25*AZ26","v":0}]
[null,null,{"$f":"IF($B37>3,1,0)","v":0},{"$f":"IF($B37>3,1,0)","v":0},null,0,0,null,{"$f":"IF($B37>3,1,0)","v":0},0,null,0,0,null,0,0,null,0,0,null,0,0,null,0,0,null,0,0,null,0,0,null,0,0,null,{"$f":"IF($B37>3,1,0)","v":0},{"$f":"IF($B37>3,1,0)","v":0},null,{"$f":"IF($B37>3,1,0)","v":0},{"$f":"IF($B37>3,1,0)","v":0},null,0,0,null,{"$f":"IF($B37>3,1,0)","v":0},{"$f":"IF($B37>3,1,0)","v":0},null,{"$f":"IF($B37>3,1,0)","v":0},{"$f":"IF($B37>3,1,0)","v":0},null,0,0]
[null,null,{"$f":"MAX(C27:C31)","v":0},{"$f":"+D38","v":0},null,{"$f":"MAX(F27:F31)","v":0},{"$f":"+G38","v":0},null,{"$f":"MAX(I27:I31)","v":0},{"$f":"+J38","v":0},null,{"$f":"MAX(L27:L31)","v":0},{"$f":"+M38","v":0},null,{"$f":"MAX(O27:O31)","v":0},{"$f":"+P38","v":0},null,{"$f":"MAX(R27:R31)","v":0},{"$f":"+S38","v":0},null,{"$f":"MAX(U27:U31)","v":0},{"$f":"+V38","v":0},null,{"$f":"MAX(X27:X31)","v":0},{"$f":"+Y38","v":0},null,{"$f":"MAX(AA27:AA31)","v":0},{"$f":"+AB38","v":0},null,{"$f":"MAX(AD27:AD31)","v":0},{"$f":"+AE38","v":0},null,{"$f":"MAX(AG27:AG31)","v":0},{"$f":"+AH38","v":0},null,{"$f":"MAX(AJ27:AJ31)","v":0},{"$f":"+AK38","v":0},null,{"$f":"MAX(AM27:AM31)","v":0},{"$f":"+AN38","v":0},null,{"$f":"MAX(AP27:AP31)","v":0},{"$f":"+AQ38","v":0},null,{"$f":"MAX(AS27:AS31)","v":0},{"$f":"+AT38","v":0},null,{"$f":"MAX(AV27:AV31)","v":0},{"$f":"+AW38","v":0},null,{"$f":"MAX(AY27:AY31)","v":0},{"$f":"+AZ38","v":0}]
[null,null,{"$f":"IF(C$32=5,5,0)","v":0},null,null,{"$f":"IF(F$32=5,5,0)","v":0},null,null,{"$f":"IF(I$32=5,5,0)","v":0},null,null,{"$f":"IF(L$32=5,5,0)","v":0},null,null,{"$f":"IF(O$32=5,5,0)","v":0},null,null,{"$f":"IF(R$32=5,5,0)","v":0},null,null,{"$f":"IF(U$32=5,5,0)","v":0},null,null,{"$f":"IF(X$32=5,5,0)","v":0},null,null,{"$f":"IF(AA$32=5,5,0)","v":0},null,null,{"$f":"IF(AD$32=5,5,0)","v":0},null,null,{"$f":"IF(AG$32=5,5,0)","v":0},null,null,{"$f":"IF(AJ$32=5,5,0)","v":0},null,null,{"$f":"IF(AM$32=5,5,0)","v":0},null,null,{"$f":"IF(AP$32=5,5,0)","v":0},null,null,{"$f":"IF(AS$32=5,5,0)","v":0},null,null,{"$f":"IF(AV$32=5,5,0)","v":0},null,null,{"$f":"IF(AY$32=5,5,0)","v":0}]
[null,null,{"$f":"IF(C$32=4,10,0)","v":0},null,null,{"$f":"IF(F$32=4,10,0)","v":0},null,null,{"$f":"IF(I$32=4,10,0)","v":0},null,null,{"$f":"IF(L$32=4,10,0)","v":0},null,null,{"$f":"IF(O$32=4,10,0)","v":0},null,null,{"$f":"IF(R$32=4,10,0)","v":0},null,null,{"$f":"IF(U$32=4,10,0)","v":0},null,null,{"$f":"IF(X$32=4,10,0)","v":0},null,null,{"$f":"IF(AA$32=4,10,0)","v":0},null,null,{"$f":"IF(AD$32=4,10,0)","v":0},null,null,{"$f":"IF(AG$32=4,10,0)","v":0},null,null,{"$f":"IF(AJ$32=4,10,0)","v":0},null,null,{"$f":"IF(AM$32=4,10,0)","v":0},null,null,{"$f":"IF(AP$32=4,10,0)","v":0},null,null,{"$f":"IF(AS$32=4,10,0)","v":0},null,null,{"$f":"IF(AV$32=4,10,0)","v":0},null,null,{"$f":"IF(AY$32=4,10,0)","v":0}]
[null,null,{"$f":"IF(C$32=3,20,0)","v":0},null,null,{"$f":"IF(F$32=3,20,0)","v":0},null,null,{"$f":"IF(I$32=3,20,0)","v":0},null,null,{"$f":"IF(L$32=3,20,0)","v":0},null,null,{"$f":"IF(O$32=3,20,0)","v":0},null,null,{"$f":"IF(R$32=3,20,0)","v":0},null,null,{"$f":"IF(U$32=3,20,0)","v":0},null,null,{"$f":"IF(X$32=3,20,0)","v":0},null,null,{"$f":"IF(AA$32=3,20,0)","v":0},null,null,{"$f":"IF(AD$32=3,20,0)","v":0},null,null,{"$f":"IF(AG$32=3,20,0)","v":0},null,null,{"$f":"IF(AJ$32=3,20,0)","v":0},null,null,{"$f":"IF(AM$32=3,20,0)","v":0},null,null,{"$f":"IF(AP$32=3,20,0)","v":0},null,null,{"$f":"IF(AS$32=3,20,0)","v":0},null,null,{"$f":"IF(AV$32=3,20,0)","v":0},null,null,{"$f":"IF(AY$32=3,20,0)","v":0}]
[null,null,{"$f":"IF(C$32=2,40,0)","v":0},null,null,{"$f":"IF(F$32=2,40,0)","v":0},null,null,{"$f":"IF(I$32=2,40,0)","v":0},null,null,{"$f":"IF(L$32=2,40,0)","v":0},null,null,{"$f":"IF(O$32=2,40,0)","v":0},null,null,{"$f":"IF(R$32=2,40,0)","v":0},null,null,{"$f":"IF(U$32=2,40,0)","v":0},null,null,{"$f":"IF(X$32=2,40,0)","v":0},null,null,{"$f":"IF(AA$32=2,40,0)","v":0},null,null,{"$f":"IF(AD$32=2,40,0)","v":0},null,null,{"$f":"IF(AG$32=2,40,0)","v":0},null,null,{"$f":"IF(AJ$32=2,40,0)","v":0},null,null,{"$f":"IF(AM$32=2,40,0)","v":0},null,null,{"$f":"IF(AP$32=2,40,0)","v":0},null,null,{"$f":"IF(AS$32=2,40,0)","v":0},null,null,{"$f":"IF(AV$32=2,40,0)","v":0},null,null,{"$f":"IF(AY$32=2,40,0)","v":0}]
[null,null,{"$f":"IF(C$32=1,80,0)","v":0},null,null,{"$f":"IF(F$32=1,80,0)","v":0},null,null,{"$f":"IF(I$32=1,80,0)","v":0},null,null,{"$f":"IF(L$32=1,80,0)","v":0},null,null,{"$f":"IF(O$32=1,80,0)","v":0},null,null,{"$f":"IF(R$32=1,80,0)","v":0},null,null,{"$f":"IF(U$32=1,80,0)","v":0},null,null,{"$f":"IF(X$32=1,80,0)","v":0},null,null,{"$f":"IF(AA$32=1,80,0)","v":0},null,null,{"$f":"IF(AD$32=1,80,0)","v":0},null,null,{"$f":"IF(AG$32=1,80,0)","v":0},null,null,{"$f":"IF(AJ$32=1,80,0)","v":0},null,null,{"$f":"IF(AM$32=1,80,0)","v":0},null,null,{"$f":"IF(AP$32=1,80,0)","v":0},null,null,{"$f":"IF(AS$32=1,80,0)","v":0},null,null,{"$f":"IF(AV$32=1,80,0)","v":0},null,null,{"$f":"IF(AY$32=1,80,0)","v":0}]
[null,null,{"$f":"RANK(C33,$C33:$AZ33)*C37","v":0},null,null,{"$f":"RANK(F33,$C33:$AZ33)*F37","v":0},null,null,{"$f":"RANK(I33,$C33:$AZ33)*I37","v":0},null,null,{"$f":"RANK(L33,$C33:$AZ33)*L37","v":0},null,null,{"$f":"RANK(O33,$C33:$AZ33)*O37","v":0},null,null,{"$f":"RANK(R33,$C33:$AZ33)*R37","v":0},null,null,{"$f":"RANK(U33,$C33:$AZ33)*U37","v":0},null,null,{"$f":"RANK(X33,$C33:$AZ33)*X37","v":0},null,null,{"$f":"RANK(AA33,$C33:$AZ33)*AA37","v":0},null,null,{"$f":"RANK(AD33,$C33:$AZ33)*AD37","v":0},null,null,{"$f":"RANK(AG33,$C33:$AZ33)*AG37","v":0},null,null,{"$f":"RANK(AJ33,$C33:$AZ33)*AJ37","v":0},null,null,{"$f":"RANK(AM33,$C33:$AZ33)*AM37","v":0},null,null,{"$f":"RANK(AP33,$C33:$AZ33)*AP37","v":0},null,null,{"$f":"RANK(AS33,$C33:$AZ33)*AS37","v":0},null,null,{"$f":"RANK(AV33,$C33:$AZ33)*AV37","v":0},null,null,{"$f":"RANK(AY33,$C33:$AZ33)*AY37","v":0}]
[null,null,{"$f":"SUM(C34:C36)","v":-1000000},null,null,{"$f":"SUM(F34:F36)","v":-1000000},null,null,{"$f":"SUM(I34:I36)","v":-1000000},null,null,{"$f":"SUM(L34:L36)","v":-1000000},null,null,{"$f":"SUM(O34:O36)","v":-1000000},null,null,{"$f":"SUM(R34:R36)","v":-1000000},null,null,{"$f":"SUM(U34:U36)","v":-1000000},null,null,{"$f":"SUM(X34:X36)","v":-1000000},null,null,{"$f":"SUM(AA34:AA36)","v":-1000000},null,null,{"$f":"SUM(AD34:AD36)","v":-1000000},null,null,{"$f":"SUM(AG34:AG36)","v":-1000000},null,null,{"$f":"SUM(AJ34:AJ36)","v":-1000000},null,null,{"$f":"SUM(AM34:AM36)","v":-1000000},null,null,{"$f":"SUM(AP34:AP36)","v":-1000000},null,null,{"$f":"SUM(AS34:AS36)","v":-1000000},null,null,{"$f":"SUM(AV34:AV36)","v":-1000000},null,null,{"$f":"SUM(AY34:AY36)","v":-1000000}]
[null,null,{"$f":"+D38","v":0},null,null,{"$f":"+G38","v":0},null,null,{"$f":"+J38","v":0},null,null,{"$f":"+M38","v":0},null,null,{"$f":"+P38","v":0},null,null,{"$f":"+S38","v":0},null,null,{"$f":"+V38","v":0},null,null,{"$f":"+Y38","v":0},null,null,{"$f":"+AB38","v":0},null,null,{"$f":"+AE38","v":0},null,null,{"$f":"+AH38","v":0},null,null,{"$f":"+AK38","v":0},null,null,{"$f":"+AN38","v":0},null,null,{"$f":"+AQ38","v":0},null,null,{"$f":"+AT38","v":0},null,null,{"$f":"+AW38","v":0},null,null,{"$f":"+AZ38","v":0}]
[null,null,{"$f":"-C39*100","v":0},null,null,{"$f":"-F39*100","v":0},null,null,{"$f":"-I39*100","v":0},null,null,{"$f":"-L39*100","v":0},null,null,{"$f":"-O39*100","v":0},null,null,{"$f":"-R39*100","v":0},null,null,{"$f":"-U39*100","v":0},null,null,{"$f":"-X39*100","v":0},null,null,{"$f":"-AA39*100","v":0},null,null,{"$f":"-AD39*100","v":0},null,null,{"$f":"-AG39*100","v":0},null,null,{"$f":"-AJ39*100","v":0},null,null,{"$f":"-AM39*100","v":0},null,null,{"$f":"-AP39*100","v":0},null,null,{"$f":"-AS39*100","v":0},null,null,{"$f":"-AV39*100","v":0},null,null,{"$f":"-AY39*100","v":0}]
[null,null,{"$f":"IF(D38-$A3/2<0,-1000000,C38*C37*10000+C38)","v":-1000000},null,null,{"$f":"IF(G38-$A3/2<0,-1000000,F38*F37*10000+F38)","v":-1000000},null,null,{"$f":"IF(J38-$A3/2<0,-1000000,I38*I37*10000+I38)","v":-1000000},null,null,{"$f":"IF(M38-$A3/2<0,-1000000,L38*L37*10000+L38)","v":-1000000},null,null,{"$f":"IF(P38-$A3/2<0,-1000000,O38*O37*10000+O38)","v":-1000000},null,null,{"$f":"IF(S38-$A3/2<0,-1000000,R38*R37*10000+R38)","v":-1000000},null,null,{"$f":"IF(V38-$A3/2<0,-1000000,U38*U37*10000+U38)","v":-1000000},null,null,{"$f":"IF(Y38-$A3/2<0,-1000000,X38*X37*10000+X38)","v":-1000000},null,null,{"$f":"IF(AB38-$A3/2<0,-1000000,AA38*AA37*10000+AA38)","v":-1000000},null,null,{"$f":"IF(AE38-$A3/2<0,-1000000,AD38*AD37*10000+AD38)","v":-1000000},null,null,{"$f":"IF(AH38-$A3/2<0,-1000000,AG38*AG37*10000+AG38)","v":-1000000},null,null,{"$f":"IF(AK38-$A3/2<0,-1000000,AJ38*AJ37*10000+AJ38)","v":-1000000},null,null,{"$f":"IF(AN38-$A3/2<0,-1000000,AM38*AM37*10000+AM38)","v":-1000000},null,null,{"$f":"IF(AQ38-$A3/2<0,-1000000,AP38*AP37*10000+AP38)","v":-1000000},null,null,{"$f":"IF(AT38-$A3/2<0,-1000000,AS38*AS37*10000+AS38)","v":-1000000},null,null,{"$f":"IF(AW38-$A3/2<0,-1000000,AV38*AV37*10000+AV38)","v":-1000000},null,null,{"$f":"IF(AZ38-$A3/2<0,-1000000,AY38*AY37*10000+AY38)","v":-1000000}]
["Classificats",{"$f":"SUM(C37:AY37)","v":0},{"$f":"IF(D38>=$A3/2,1,0)","v":0},null,null,{"$f":"IF(G38>=$A3/2,1,0)","v":0},null,null,{"$f":"IF(J38>=$A3/2,1,0)","v":0},null,null,{"$f":"IF(M38>=$A3/2,1,0)","v":0},null,null,{"$f":"IF(P38>=$A3/2,1,0)","v":0},null,null,{"$f":"IF(S38>=$A3/2,1,0)","v":0},null,null,{"$f":"IF(V38>=$A3/2,1,0)","v":0},null,null,{"$f":"IF(Y38>=$A3/2,1,0)","v":0},null,null,{"$f":"IF(AB38>=$A3/2,1,0)","v":0},null,null,{"$f":"IF(AE38>=$A3/2,1,0)","v":0},null,null,{"$f":"IF(AH38>=$A3/2,1,0)","v":0},null,null,{"$f":"IF(AK38>=$A3/2,1,0)","v":0},null,null,{"$f":"IF(AN38>=$A3/2,1,0)","v":0},null,null,{"$f":"IF(AQ38>=$A3/2,1,0)","v":0},null,null,{"$f":"IF(AT38>=$A3/2,1,0)","v":0},null,null,{"$f":"IF(AW38>=$A3/2,1,0)","v":0},null,null,{"$f":"IF(AZ38>=$A3/2,1,0)","v":0}]
[null,null,{"$f":"IF(SUM(C43:C241)<-1000,-100000000,SUM(C43:C241))","v":-100000000},{"$f":"COUNT(D43:D241)","v":0},null,{"$f":"IF(SUM(F43:F241)<-1000,-100000000,SUM(F43:F241))","v":-100000000},{"$f":"COUNT(G43:G241)","v":0},null,{"$f":"IF(SUM(I43:I241)<-1000,-100000000,SUM(I43:I241))","v":-100000000},{"$f":"COUNT(J43:J241)","v":0},null,{"$f":"IF(SUM(L43:L241)<-1000,-100000000,SUM(L43:L241))","v":-100000000},{"$f":"COUNT(M43:M241)","v":0},null,{"$f":"IF(SUM(O43:O241)<-1000,-100000000,SUM(O43:O241))","v":-100000000},{"$f":"COUNT(P43:P241)","v":0},null,{"$f":"IF(SUM(R43:R241)<-1000,-100000000,SUM(R43:R241))","v":-100000000},{"$f":"COUNT(S43:S241)","v":0},null,{"$f":"IF(SUM(U43:U241)<-1000,-100000000,SUM(U43:U241))","v":-100000000},{"$f":"COUNT(V43:V241)","v":0},null,{"$f":"IF(SUM(X43:X241)<-1000,-100000000,SUM(X43:X241))","v":-100000000},{"$f":"COUNT(Y43:Y241)","v":0},null,{"$f":"IF(SUM(AA43:AA241)<-1000,-100000000,SUM(AA43:AA241))","v":-100000000},{"$f":"COUNT(AB43:AB241)","v":0},null,{"$f":"IF(SUM(AD43:AD241)<-1000,-100000000,SUM(AD43:AD241))","v":-100000000},{"$f":"COUNT(AE43:AE241)","v":0},null,{"$f":"IF(SUM(AG43:AG241)<-1000,-100000000,SUM(AG43:AG241))","v":-100000000},{"$f":"COUNT(AH43:AH241)","v":0},null,{"$f":"IF(SUM(AJ43:AJ241)<-1000,-100000000,SUM(AJ43:AJ241))","v":-100000000},{"$f":"COUNT(AK43:AK241)","v":0},null,{"$f":"IF(SUM(AM43:AM241)<-1000,-100000000,SUM(AM43:AM241))","v":-100000000},{"$f":"COUNT(AN43:AN241)","v":0},null,{"$f":"IF(SUM(AP43:AP241)<-1000,-100000000,SUM(AP43:AP241))","v":-100000000},{"$f":"COUNT(AQ43:AQ241)","v":0},null,{"$f":"IF(SUM(AS43:AS241)<-1000,-100000000,SUM(AS43:AS241))","v":-100000000},{"$f":"COUNT(AT43:AT241)","v":0},null,{"$f":"IF(SUM(AV43:AV241)<-1000,-100000000,SUM(AV43:AV241))","v":-100000000},{"$f":"COUNT(AW43:AW241)","v":0},null,{"$f":"IF(SUM(AY43:AY241)<-1000,-100000000,SUM(AY43:AY241))","v":-100000000},{"$f":"COUNT(AZ43:AZ241)","v":0},null,null,"A"]
[null,null,{"$f":"+D39/E39","v":0},{"$f":"SUM(D43:D156)","v":0},{"$f":"SUM(E43:E156)","v":-1},{"$f":"+G39/H39","v":0},{"$f":"SUM(G43:G156)","v":0},{"$f":"SUM(H43:H156)","v":-1},{"$f":"+J39/K39","v":0},{"$f":"SUM(J43:J156)","v":0},{"$f":"SUM(K43:K156)","v":-1},{"$f":"+M39/N39","v":0},{"$f":"SUM(M43:M156)","v":0},{"$f":"SUM(N43:N156)","v":-1},{"$f":"+P39/Q39","v":0},{"$f":"SUM(P43:P156)","v":0},{"$f":"SUM(Q43:Q156)","v":-1},{"$f":"+S39/T39","v":0},{"$f":"SUM(S43:S156)","v":0},{"$f":"SUM(T43:T156)","v":-1},{"$f":"+V39/W39","v":0},{"$f":"SUM(V43:V156)","v":0},{"$f":"SUM(W43:W156)","v":-1},{"$f":"+Y39/Z39","v":0},{"$f":"SUM(Y43:Y156)","v":0},{"$f":"SUM(Z43:Z156)","v":-1},{"$f":"+AB39/AC39","v":0},{"$f":"SUM(AB43:AB156)","v":0},{"$f":"SUM(AC43:AC156)","v":-1},{"$f":"+AE39/AF39","v":0},{"$f":"SUM(AE43:AE156)","v":0},{"$f":"SUM(AF43:AF156)","v":-1},{"$f":"+AH39/AI39","v":0},{"$f":"SUM(AH43:AH156)","v":0},{"$f":"SUM(AI43:AI156)","v":-1},{"$f":"+AK39/AL39","v":0},{"$f":"SUM(AK43:AK156)","v":0},{"$f":"SUM(AL43:AL156)","v":-1},{"$f":"+AN39/AO39","v":0},{"$f":"SUM(AN43:AN156)","v":0},{"$f":"SUM(AO43:AO156)","v":-1},{"$f":"+AQ39/AR39","v":0},{"$f":"SUM(AQ43:AQ156)","v":0},{"$f":"SUM(AR43:AR156)","v":-1},{"$f":"+AT39/AU39","v":0},{"$f":"SUM(AT43:AT156)","v":0},{"$f":"SUM(AU43:AU156)","v":-1},{"$f":"+AW39/AX39","v":0},{"$f":"SUM(AW43:AW156)","v":0},{"$f":"SUM(AX43:AX156)","v":-1},{"$f":"+AZ39/BA39","v":0},{"$f":"SUM(AZ43:AZ156)","v":0},{"$f":"SUM(BA43:BA156)","v":-1},null,"B"]
[null,null,null,null,null,null,null,null,{"$f":"COUNTIF(I43:I62,10)","v":0},null,null,null,null,null,null,null,null,{"$f":"COUNTIF(R43:R62,10)","v":0},null,null,{"$f":"COUNTIF(U43:U62,10)","v":0},null,null,{"$f":"COUNTIF(X43:X62,10)","v":0},null,null,null,null,null,null,null,null,null,null,null,null,null,null,null,null,null,{"$f":"COUNTIF(AP43:AP62,10)","v":0},null,null,{"$f":"COUNTIF(AS43:AS62,10)","v":0},null,null,null,null,null,{"$f":"COUNTIF(AY43:AY62,10)","v":0},null,null,{"$f":"MAX(BC43:BC102)","v":0}]
[null,"Nº partida ","Salvadó",null,null,"Angie",null,null,"Jordi",null,null,"Palafox",null,null,"Manolo",null,null,"Sergi",null,null,"Carles",null,null,"Mariajo",null,null,"Iglesias",null,null,"Martin",null,null,"Xavi",null,null,"Katy",null,null,"Coralie",null,null,"Mercè",null,null,"Goretti",null,null,"Jorge",null,null,"Grau",null,null,{"$f":"COUNT(BB43:BB156)","v":0},"A","B","C"]
[null,"5 copes","Premi","Punts",null,"Premi","Punts",null,"Premi","Punts",null,"Premi","Punts",null,"Premi","Punts",null,"Premi","Punts",null,"Premi","Punts",null,"Premi","Punts",null,"Premi","Punts",null,"Premi","Punts",null,"Premi","Punts",null,"Premi","Punts",null,"Premi","Punts",null,"Premi","Punts",null,"Premi","Punts",null,"Premi","Punts",null,"Premi","Punts",null,"Data","Timba"]
[1,null,-10000,null,-1,-10000,null,-1,-10000,null,-1,-10000,null,-1,-10000,null,-1,-10000,null,-1,-10000,null,-1,-10000,null,-1,-10000,null,-1,-10000,null,-1,-10000,null,-1,-10000,null,-1,-10000,null,-1,-10000,null,-1,-10000,null,-1,-10000,null,-1,-10000,null,-1,null,null,{"$f":"+AY43+AP43+AG43+AD43+AA43+X43+U43+R43+O43+L43+I43+F43+C43+AJ43+AM43+AS43+AV43","v":-170000},{"$f":"COUNT(C43:BA43)/3","v":11.333333333333334},{"$f":"+BD43/BE43","v":-15000}]
[{"$f":"+A43+1","v":2},null,null,null,null,null,null,null,null,null,null,null,null,null,null,null,null,null,null,null,null,null,null,null,null,null,null,null,null,null,null,null,null,null,null,null,null,null,null,null,null,null,null,null,null,null,null,null,null,null,null,null,null,null,null,0,0,{"$error":"#DIV/0!"}]
[{"$f":"+A44+1","v":3},null,null,null,null,null,null,null,null,null,null,null,null,null,null,null,null,null,null,null,null,null,null,null,null,null,null,null,null,null,null,null,null,null,null,null,null,null,null,null,null,null,null,null,null,null,null,null,null,null,null,null,null,null,null,0,0,{"$error":"#DIV/0!"}]
[4,null,null,null,null,null,null,null,null,null,null,null,null,null,null,null,null,null,null,null,null,null,null,null,null,null,null,null,null,null,null,null,null,null,null,null,null,null,null,null,null,null,null,null,null,null,null,null,null,null,null,null,null,null,null,0,0,{"$error":"#DIV/0!"}]
[5,null,null,null,null,null,null,null,null,null,null,null,null,null,null,null,null,null,null,null,null,null,null,null,null,null,null,null,null,null,null,null,null,null,null,null,null,null,null,null,null,null,null,null,null,null,null,null,null,null,null,null,null,null,null,0,0,{"$error":"#DIV/0!"}]
[6,null,null,null,null,null,null,null,null,null,null,null,null,null,null,null,null,null,null,null,null,null,null,null,null,null,null,null,null,null,null,null,null,null,null,null,null,null,null,null,null,null,null,null,null,null,null,null,null,null,null,null,null,null,null,0,0,{"$error":"#DIV/0!"}]
[7,null,null,null,null,null,null,null,null,null,null,null,null,null,null,null,null,null,null,null,null,null,null,null,null,null,null,null,null,null,null,null,null,null,null,null,null,null,null,null,null,null,null,null,null,null,null,null,null,null,null,null,null,null,null,0,0,{"$error":"#DIV/0!"}]
[8,null,null,null,null,null,null,null,null,null,null,null,null,null,null,null,null,null,null,null,null,null,null,null,null,null,null,null,null,null,null,null,null,null,null,null,null,null,null,null,null,null,null,null,null,null,null,null,null,null,null,null,null,null,null,0,0,{"$error":"#DIV/0!"}]
[9,null,null,null,null,null,null,null,null,null,null,null,null,null,null,null,null,null,null,null,null,null,null,null,null,null,null,null,null,null,null,null,null,null,null,null,null,null,null,null,null,null,null,null,null,null,null,null,null,null,null,null,null,null,null,0,0,{"$error":"#DIV/0!"}]
[10,null,null,null,null,null,null,null,null,null,null,null,null,null,null,null,null,null,null,null,null,null,null,null,null,null,null,null,null,null,null,null,null,null,null,null,null,null,null,null,null,null,null,null,null,null,null,null,null,null,null,null,null,null,null,0,0,{"$error":"#DIV/0!"}]
[11,null,null,null,null,null,null,null,null,null,null,null,null,null,null,null,null,null,null,null,null,null,null,null,null,null,null,null,null,null,null,null,null,null,null,null,null,null,null,null,null,null,null,null,null,null,null,null,null,null,null,null,null,null,null,0,0,{"$error":"#DIV/0!"}]
[12,null,null,null,null,null,null,null,null,null,null,null,null,null,null,null,null,null,null,null,null,null,null,null,null,null,null,null,null,null,null,null,null,null,null,null,null,null,null,null,null,null,null,null,null,null,null,null,null,null,null,null,null,null,null,0,0,{"$error":"#DIV/0!"}]
[13,null,null,null,null,null,null,null,null,null,null,null,null,null,null,null,null,null,null,null,null,null,null,null,null,null,null,null,null,null,null,null,null,null,null,null,null,null,null,null,null,null,null,null,null,null,null,null,null,null,null,null,null,null,null,0,0,{"$error":"#DIV/0!"}]
[14,null,null,null,null,null,null,null,null,null,null,null,null,null,null,null,null,null,null,null,null,null,null,null,null,null,null,null,null,null,null,null,null,null,null,null,null,null,null,null,null,null,null,null,null,null,null,null,null,null,null,null,null,null,null,0,0,{"$error":"#DIV/0!"}]
[15,null,null,null,null,null,null,null,null,null,null,null,null,null,null,null,null,null,null,null,null,null,null,null,null,null,null,null,null,null,null,null,null,null,null,null,null,null,null,null,null,null,null,null,null,null,null,null,null,null,null,null,null,null,null,0,0,{"$error":"#DIV/0!"}]
[16,null,null,null,null,null,null,null,null,null,null,null,null,null,null,null,null,null,null,null,null,null,null,null,null,null,null,null,null,null,null,null,null,null,null,null,null,null,null,null,null,null,null,null,null,null,null,null,null,null,null,null,null,null,null,0,0,{"$error":"#DIV/0!"}]
[17,null,null,null,null,null,null,null,null,null,null,null,null,null,null,null,null,null,null,null,null,null,null,null,null,null,null,null,null,null,null,null,null,null,null,null,null,null,null,null,null,null,null,null,null,null,null,null,null,null,null,null,null,null,null,0,0,{"$error":"#DIV/0!"}]
[18,null,null,null,null,null,null,null,null,null,null,null,null,null,null,null,null,null,null,null,null,null,null,null,null,null,null,null,null,null,null,null,null,null,null,null,null,null,null,null,null,null,null,null,null,null,null,null,null,null,null,null,null,null,null,0,0,{"$error":"#DIV/0!"}]
[19,null,null,null,null,null,null,null,null,null,null,null,null,null,null,null,null,null,null,null,null,null,null,null,null,null,null,null,null,null,null,null,null,null,null,null,null,null,null,null,null,null,null,null,null,null,null,null,null,null,null,null,null,null,null,0,0,{"$error":"#DIV/0!"}]
[20,null,null,null,null,null,null,null,null,null,null,null,null,null,null,null,null,null,null,null,null,null,null,null,null,null,null,null,null,null,null,null,null,null,null,null,null,null,null,null,null,null,null,null,null,null,null,null,null,null,null,null,null,null,null,0,0,{"$error":"#DIV/0!"}]
[21,null,null,null,null,null,null,null,null,null,null,null,null,null,null,null,null,null,null,null,null,null,null,null,null,null,null,null,null,null,null,null,null,null,null,null,null,null,null,null,null,null,null,null,null,null,null,null,null,null,null,null,null,null,null,0,0,{"$error":"#DIV/0!"}]
[22,null,null,null,null,null,null,null,null,null,null,null,null,null,null,null,null,null,null,null,null,null,null,null,null,null,null,null,null,null,null,null,null,null,null,null,null,null,null,null,null,null,null,null,null,null,null,null,null,null,null,null,null,null,null,0,0,{"$error":"#DIV/0!"}]
[23,null,null,null,null,null,null,null,null,null,null,null,null,null,null,null,null,null,null,null,null,null,null,null,null,null,null,null,null,null,null,null,null,null,null,null,null,null,null,null,null,null,null,null,null,null,null,null,null,null,null,null,null,null,null,0,0,{"$error":"#DIV/0!"}]
[24,null,null,null,null,null,null,null,null,null,null,null,null,null,null,null,null,null,null,null,null,null,null,null,null,null,null,null,null,null,null,null,null,null,null,null,null,null,null,null,null,null,null,null,null,null,null,null,null,null,null,null,null,null,null,{"$f":"+AY66+AP66+AG66+AD66+AA66+X66+U66+R66+O66+L66+I66+F66+C66+AJ66+AM66+AS66+AV66","v":0},0,{"$error":"#DIV/0!"}]
[25,null,null,null,null,null,null,null,null,null,null,null,null,null,null,null,null,null,null,null,null,null,null,null,null,null,null,null,null,null,null,null,null,null,null,null,null,null,null,null,null,null,null,null,null,null,null,null,null,null,null,null,null,null,null,{"$f":"+AY67+AP67+AG67+AD67+AA67+X67+U67+R67+O67+L67+I67+F67+C67+AJ67+AM67+AS67+AV67","v":0},{"$f":"COUNT(C67:BA67)/3","v":0},{"$f":"+BD67/BE67","v":{"$error":"#DIV/0!"}}]
[26,null,null,null,null,null,null,null,null,null,null,null,null,null,null,null,null,null,null,null,null,null,null,null,null,null,null,null,null,null,null,null,null,null,null,null,null,null,null,null,null,null,null,null,null,null,null,null,null,null,null,null,null,null,null,{"$f":"+AY68+AP68+AG68+AD68+AA68+X68+U68+R68+O68+L68+I68+F68+C68+AJ68+AM68+AS68+AV68","v":0},{"$f":"COUNT(C68:BA68)/3","v":0},{"$f":"+BD68/BE68","v":{"$error":"#DIV/0!"}}]
[27,null,null,null,null,null,null,null,null,null,null,null,null,null,null,null,null,null,null,null,null,null,null,null,null,null,null,null,null,null,null,null,null,null,null,null,null,null,null,null,null,null,null,null,null,null,null,null,null,null,null,null,null,null,null,{"$f":"+AY69+AP69+AG69+AD69+AA69+X69+U69+R69+O69+L69+I69+F69+C69+AJ69+AM69+AS69+AV69","v":0},{"$f":"COUNT(C69:BA69)/3","v":0},{"$f":"+BD69/BE69","v":{"$error":"#DIV/0!"}}]
[28]
[29]
[30]
[31]
[32]
[33]
[34]
[35]
[36]
[37]
[38]
[39]
[40]
[41]
[42]
[43]
[44]
[45]
[{"$f":"+A87+1","v":46}]
[47]
[48]
[49]
[50]
[51]
[52]
[53]
[54]
[55]
[56]
[57]
[58]
[59]
[60]
[61]
[62]
[63]
[64]
[65]
[66]
[{"$f":"+A108+1","v":67}]
[68]
[69]
[70]
[71]
[72]
[73]
[74]
[75]
[76]
[77]
[78]
[79]
[80]
[81]
[82]
[83]
[84]
[85]
[86]
[87]
[88]
[89]
[90]
[91]
[92]
[93]
[94]
[95]
[96]
[97]
[98]
[99]
[100]
[101]
[102]
[103]
[104]
[105]
[106]
[107]
[108]
[109]
[110]
[111]
[112]
[113]
[114]

{"sheet":"Mus","index":13,"n_rows":75,"n_cols":36,"rows_kept":75,"cut":false,"hidden":false,"merged":[[38,2,38,3],[38,4,38,5],[38,6,38,7],[38,8,38,9],[38,10,38,11],[38,12,38,13],[38,14,38,15],[38,16,38,17],[38,26,38,27],[38,28,38,29],[38,18,38,19],[38,20,38,21],[38,22,38,23],[38,24,38,25]]}
["MUS"]
["Mes"]
[{"$f":"+GENERAL!B6","v":12},null,{"$f":"SUM(C5:C10)","v":-600000000}]
[null,null,"Premi","Punts","Partides","General"]
[1,"Lucía",{"$f":"+Y$36","v":-100000000},{"$f":"+Z$37","v":0},{"$f":"+Z$36","v":0},{"$f":"+Y$22","v":0},{"$f":"IF(E5<A$3/2,-1,1)*80+C5","v":-100000080}]
[2,"Carles",{"$f":"+O$36","v":-100000000},{"$f":"+P$37","v":0},{"$f":"+P$36","v":0},{"$f":"+O$22","v":0},-100000080]
[3,"Manolo",{"$f":"+E$36","v":-100000000},{"$f":"+F$37","v":0},{"$f":"+F$36","v":0},{"$f":"+E$22","v":0},-100000080]
[4,"Mariajo",{"$f":"+Q$36","v":-100000000},{"$f":"+R$37","v":0},{"$f":"+R$36","v":0},{"$f":"+Q$22","v":0},-100000080]
[5,"Grau",{"$f":"+AC$36","v":-100000000},{"$f":"+AD$37","v":0},{"$f":"+AD$36","v":0},{"$f":"+AC$22","v":0},-100000080]
[6,"Jordi",{"$f":"+G$36","v":-100000000},{"$f":"+H$37","v":0},{"$f":"+H$36","v":0},{"$f":"+G$22","v":0},-100000080]
[7,"Goretti",{"$f":"+C$36","v":-100000000},{"$f":"+D$37","v":0},{"$f":"+D$36","v":0},{"$f":"+C$22","v":0},-100000080]
[8,"Joan Carles",{"$f":"+K$36","v":-100000000},{"$f":"+L$37","v":0},{"$f":"+L$36","v":0},{"$f":"+K$22","v":0},{"$f":"IF(E12<A$3/2,-1,1)*80+C12","v":-100000080}]
[9,"Martin",{"$f":"+U$36","v":-100000000},{"$f":"+V$37","v":0},{"$f":"+V$36","v":0},{"$f":"+U$22","v":0},-100000080]
[10,"Xavi",{"$f":"+W$36","v":-100000000},{"$f":"+X$37","v":0},{"$f":"+X$36","v":0},{"$f":"+W$22","v":0},-100000080]
[11,"Sergi",{"$f":"+M$36","v":-100000000},{"$f":"+N$37","v":0},{"$f":"+N$36","v":0},{"$f":"+M$22","v":0},-100000080]
[12,"Iglesias",{"$f":"+S$36","v":-100000000},{"$f":"+T$37","v":0},{"$f":"+T$36","v":0},{"$f":"+S$22","v":0},-100000080]
[13,"MªJosé",{"$f":"+I$36","v":-100000000},{"$f":"+J$37","v":0},{"$f":"+J$36","v":0},{"$f":"+I$22","v":0},-100000080]
[14,"Knobel",{"$f":"+AA$36","v":-100000000},{"$f":"+AB$37","v":0},{"$f":"+AB$36","v":0},{"$f":"+AA22","v":0},-100000080]
[]
[]
[]
[null,"General",{"$f":"+C23*C24","v":0},{"$f":"+D23*D24","v":0},0,0,0,0,0,0,0,0,0,0,0,0,0,0,0,0,0,0,0,0,0,0,{"$f":"+AA23*AA24","v":0},{"$f":"+AB23*AB24","v":0},0,0]
[null,null,{"$f":"IF($B35>3,1,0)","v":0},{"$f":"IF($B35>3,1,0)","v":0},0,0,0,0,0,0,0,0,0,0,0,0,0,0,0,0,0,0,0,0,0,0,{"$f":"IF($B35>3,1,0)","v":0},{"$f":"IF($B35>3,1,0)","v":0},0,0]
[null,null,{"$f":"MAX(C25:C29)","v":0},{"$f":"+D36","v":0},{"$f":"MAX(E25:E29)","v":0},{"$f":"+F36","v":0},{"$f":"MAX(G25:G29)","v":0},{"$f":"+H36","v":0},{"$f":"MAX(I25:I29)","v":0},{"$f":"+J36","v":0},{"$f":"MAX(K25:K29)","v":0},{"$f":"+L36","v":0},{"$f":"MAX(M25:M29)","v":0},{"$f":"+N36","v":0},{"$f":"MAX(O25:O29)","v":0},{"$f":"+P36","v":0},{"$f":"MAX(Q25:Q29)","v":0},{"$f":"+R36","v":0},{"$f":"MAX(S25:S29)","v":0},{"$f":"+T36","v":0},{"$f":"MAX(U25:U29)","v":0},{"$f":"+V36","v":0},{"$f":"MAX(W25:W29)","v":0},{"$f":"+X36","v":0},{"$f":"MAX(Y25:Y29)","v":0},{"$f":"+Z36","v":0},{"$f":"MAX(AA25:AA29)","v":0},{"$f":"+AB36","v":0},{"$f":"MAX(AC25:AC29)","v":0},{"$f":"+AD36","v":0}]
[null,null,{"$f":"IF(C$30=5,5,0)","v":0},null,{"$f":"IF(E$30=5,5,0)","v":0},null,{"$f":"IF(G$30=5,5,0)","v":0},null,{"$f":"IF(I$30=5,5,0)","v":0},null,{"$f":"IF(K$30=5,5,0)","v":0},null,{"$f":"IF(M$30=5,5,0)","v":0},null,{"$f":"IF(O$30=5,5,0)","v":0},null,{"$f":"IF(Q$30=5,5,0)","v":0},null,{"$f":"IF(S$30=5,5,0)","v":0},null,{"$f":"IF(U$30=5,5,0)","v":0},null,{"$f":"IF(W$30=5,5,0)","v":0},null,{"$f":"IF(Y$30=5,5,0)","v":0},null,{"$f":"IF(AA$30=5,5,0)","v":0},null,{"$f":"IF(AC$30=5,5,0)","v":0}]
[null,null,{"$f":"IF(C$30=4,10,0)","v":0},null,{"$f":"IF(E$30=4,10,0)","v":0},null,{"$f":"IF(G$30=4,10,0)","v":0},null,{"$f":"IF(I$30=4,10,0)","v":0},null,{"$f":"IF(K$30=4,10,0)","v":0},null,{"$f":"IF(M$30=4,10,0)","v":0},null,{"$f":"IF(O$30=4,10,0)","v":0},null,{"$f":"IF(Q$30=4,10,0)","v":0},null,{"$f":"IF(S$30=4,10,0)","v":0},null,{"$f":"IF(U$30=4,10,0)","v":0},null,{"$f":"IF(W$30=4,10,0)","v":0},null,{"$f":"IF(Y$30=4,10,0)","v":0},null,{"$f":"IF(AA$30=4,10,0)","v":0},null,{"$f":"IF(AC$30=4,10,0)","v":0}]
[null,null,{"$f":"IF(C$30=3,20,0)","v":0},null,{"$f":"IF(E$30=3,20,0)","v":0},null,{"$f":"IF(G$30=3,20,0)","v":0},null,{"$f":"IF(I$30=3,20,0)","v":0},null,{"$f":"IF(K$30=3,20,0)","v":0},null,{"$f":"IF(M$30=3,20,0)","v":0},null,{"$f":"IF(O$30=3,20,0)","v":0},null,{"$f":"IF(Q$30=3,20,0)","v":0},null,{"$f":"IF(S$30=3,20,0)","v":0},null,{"$f":"IF(U$30=3,20,0)","v":0},null,{"$f":"IF(W$30=3,20,0)","v":0},null,{"$f":"IF(Y$30=3,20,0)","v":0},null,{"$f":"IF(AA$30=3,20,0)","v":0},null,{"$f":"IF(AC$30=3,20,0)","v":0}]
[null,null,{"$f":"IF(C$30=2,40,0)","v":0},null,{"$f":"IF(E$30=2,40,0)","v":0},null,{"$f":"IF(G$30=2,40,0)","v":0},null,{"$f":"IF(I$30=2,40,0)","v":0},null,{"$f":"IF(K$30=2,40,0)","v":0},null,{"$f":"IF(M$30=2,40,0)","v":0},null,{"$f":"IF(O$30=2,40,0)","v":0},null,{"$f":"IF(Q$30=2,40,0)","v":0},null,{"$f":"IF(S$30=2,40,0)","v":0},null,{"$f":"IF(U$30=2,40,0)","v":0},null,{"$f":"IF(W$30=2,40,0)","v":0},null,{"$f":"IF(Y$30=2,40,0)","v":0},null,{"$f":"IF(AA$30=2,40,0)","v":0},null,{"$f":"IF(AC$30=2,40,0)","v":0}]
[null,null,{"$f":"IF(C$30=1,80,0)","v":0},null,{"$f":"IF(E$30=1,80,0)","v":0},null,{"$f":"IF(G$30=1,80,0)","v":0},null,{"$f":"IF(I$30=1,80,0)","v":0},null,{"$f":"IF(K$30=1,80,0)","v":0},null,{"$f":"IF(M$30=1,80,0)","v":0},null,{"$f":"IF(O$30=1,80,0)","v":0},null,{"$f":"IF(Q$30=1,80,0)","v":0},null,{"$f":"IF(S$30=1,80,0)","v":0},null,{"$f":"IF(U$30=1,80,0)","v":0},null,{"$f":"IF(W$30=1,80,0)","v":0},null,{"$f":"IF(Y$30=1,80,0)","v":0},null,{"$f":"IF(AA$30=1,80,0)","v":0},null,{"$f":"IF(AC$30=1,80,0)","v":0}]
[null,null,{"$f":"RANK(C31,$C31:$AP31)*C35","v":0},null,{"$f":"RANK(E31,$C31:$AP31)*E35","v":0},null,{"$f":"RANK(G31,$C31:$AP31)*G35","v":0},null,{"$f":"RANK(I31,$C31:$AP31)*I35","v":0},null,{"$f":"RANK(K31,$C31:$AP31)*K35","v":0},null,{"$f":"RANK(M31,$C31:$AP31)*M35","v":0},null,{"$f":"RANK(O31,$C31:$AP31)*O35","v":0},null,{"$f":"RANK(Q31,$C31:$AP31)*Q35","v":0},null,{"$f":"RANK(S31,$C31:$AP31)*S35","v":0},null,{"$f":"RANK(U31,$C31:$AP31)*U35","v":0},null,{"$f":"RANK(W31,$C31:$AP31)*W35","v":0},null,{"$f":"RANK(Y31,$C31:$AP31)*Y35","v":0},null,{"$f":"RANK(AA31,$C31:$AP31)*AA35","v":0},null,{"$f":"RANK(AC31,$C31:$AP31)*AC35","v":0}]
[null,null,{"$f":"SUM(C32:C34)","v":-101000000},null,{"$f":"SUM(E32:E34)","v":-101000000},null,{"$f":"SUM(G32:G34)","v":-101000000},null,{"$f":"SUM(I32:I34)","v":-101000000},null,{"$f":"SUM(K32:K34)","v":-101000000},null,{"$f":"SUM(M32:M34)","v":-101000000},null,{"$f":"SUM(O32:O34)","v":-101000000},null,{"$f":"SUM(Q32:Q34)","v":-101000000},null,{"$f":"SUM(S32:S34)","v":-101000000},null,{"$f":"SUM(U32:U34)","v":-101000000},null,{"$f":"SUM(W32:W34)","v":-101000000},null,{"$f":"SUM(Y32:Y34)","v":-101000000},null,{"$f":"SUM(AA32:AA34)","v":-101000000},null,{"$f":"SUM(AC32:AC34)","v":-101000000}]
[null,null,{"$f":"+D36","v":0},null,{"$f":"+F36","v":0},null,{"$f":"+H36","v":0},null,{"$f":"+J36","v":0},null,{"$f":"+L36","v":0},null,{"$f":"+N36","v":0},null,{"$f":"+P36","v":0},null,{"$f":"+R36","v":0},null,{"$f":"+T36","v":0},null,{"$f":"+V36","v":0},null,{"$f":"+X36","v":0},null,{"$f":"+Z36","v":0},null,{"$f":"+AB36","v":0},null,{"$f":"+AD36","v":0}]
[null,null,{"$f":"D37*10","v":0},null,{"$f":"F37*10","v":0},null,{"$f":"H37*10","v":0},null,{"$f":"J37*10","v":0},null,{"$f":"L37*10","v":0},null,{"$f":"N37*10","v":0},null,{"$f":"P37*10","v":0},null,{"$f":"R37*10","v":0},null,{"$f":"T37*10","v":0},null,{"$f":"V37*10","v":0},null,{"$f":"X37*10","v":0},null,{"$f":"Z37*10","v":0},null,{"$f":"AB37*10","v":0},null,{"$f":"AD37*10","v":0}]
[null,null,{"$f":"IF(C35=1,C36*C35*10000+C36,-1000000+C36)","v":-101000000},null,{"$f":"IF(E35=1,E36*E35*10000+E36,-1000000+E36)","v":-101000000},null,{"$f":"IF(G35=1,G36*G35*10000+G36,-1000000+G36)","v":-101000000},null,{"$f":"IF(I35=1,I36*I35*10000+I36,-1000000+I36)","v":-101000000},null,{"$f":"IF(K35=1,K36*K35*10000+K36,-1000000+K36)","v":-101000000},null,{"$f":"IF(M35=1,M36*M35*10000+M36,-1000000+M36)","v":-101000000},null,{"$f":"IF(O35=1,O36*O35*10000+O36,-1000000+O36)","v":-101000000},null,{"$f":"IF(Q35=1,Q36*Q35*10000+Q36,-1000000+Q36)","v":-101000000},null,{"$f":"IF(S35=1,S36*S35*10000+S36,-1000000+S36)","v":-101000000},null,{"$f":"IF(U35=1,U36*U35*10000+U36,-1000000+U36)","v":-101000000},null,{"$f":"IF(W35=1,W36*W35*10000+W36,-1000000+W36)","v":-101000000},null,{"$f":"IF(Y35=1,Y36*Y35*10000+Y36,-1000000+Y36)","v":-101000000},null,{"$f":"IF(AA35=1,AA36*AA35*10000+AA36,-1000000+AA36)","v":-101000000},null,{"$f":"IF(AC35=1,AC36*AC35*10000+AC36,-1000000+AC36)","v":-101000000}]
["Classificats",{"$f":"SUM(C35:AC35)","v":0},{"$f":"IF(D36>=$A3/2,1,0)","v":0},null,{"$f":"IF(F36>=$A3/2,1,0)","v":0},null,{"$f":"IF(H36>=$A3/2,1,0)","v":0},null,{"$f":"IF(J36>=$A3/2,1,0)","v":0},null,{"$f":"IF(L36>=$A3/2,1,0)","v":0},null,{"$f":"IF(N36>=$A3/2,1,0)","v":0},null,{"$f":"IF(P36>=$A3/2,1,0)","v":0},null,{"$f":"IF(R36>=$A3/2,1,0)","v":0},null,{"$f":"IF(T36>=$A3/2,1,0)","v":0},null,{"$f":"IF(V36>=$A3/2,1,0)","v":0},null,{"$f":"IF(X36>=$A3/2,1,0)","v":0},null,{"$f":"IF(Z36>=$A3/2,1,0)","v":0},null,{"$f":"IF(AB36>=$A3/2,1,0)","v":0},null,{"$f":"IF(AD36>=$A3/2,1,0)","v":0}]
[null,null,{"$f":"IF(SUM(C41:C248)<-1000,-100000000,SUM(C41:C248))","v":-100000000},{"$f":"COUNT(D41:D248)","v":0},{"$f":"IF(SUM(E41:E248)<-1000,-100000000,SUM(E41:E248))","v":-100000000},{"$f":"COUNT(F41:F248)","v":0},{"$f":"IF(SUM(G41:G248)<-1000,-100000000,SUM(G41:G248))","v":-100000000},{"$f":"COUNT(H41:H248)","v":0},{"$f":"IF(SUM(I41:I248)<-1000,-100000000,SUM(I41:I248))","v":-100000000},{"$f":"COUNT(J41:J248)","v":0},{"$f":"IF(SUM(K41:K248)<-1000,-100000000,SUM(K41:K248))","v":-100000000},{"$f":"COUNT(L41:L248)","v":0},{"$f":"IF(SUM(M41:M248)<-1000,-100000000,SUM(M41:M248))","v":-100000000},{"$f":"COUNT(N41:N248)","v":0},{"$f":"IF(SUM(O41:O248)<-1000,-100000000,SUM(O41:O248))","v":-100000000},{"$f":"COUNT(P41:P248)","v":0},{"$f":"IF(SUM(Q41:Q248)<-1000,-100000000,SUM(Q41:Q248))","v":-100000000},{"$f":"COUNT(R41:R248)","v":0},{"$f":"IF(SUM(S41:S248)<-1000,-100000000,SUM(S41:S248))","v":-100000000},{"$f":"COUNT(T41:T248)","v":0},{"$f":"IF(SUM(U41:U248)<-1000,-100000000,SUM(U41:U248))","v":-100000000},{"$f":"COUNT(V41:V248)","v":0},{"$f":"IF(SUM(W41:W248)<-1000,-100000000,SUM(W41:W248))","v":-100000000},{"$f":"COUNT(X41:X248)","v":0},{"$f":"IF(SUM(Y41:Y248)<-1000,-100000000,SUM(Y41:Y248))","v":-100000000},{"$f":"COUNT(Z41:Z248)","v":0},{"$f":"IF(SUM(AA41:AA248)<-1000,-100000000,SUM(AA41:AA248))","v":-100000000},{"$f":"COUNT(AB41:AB248)","v":0},{"$f":"IF(SUM(AC41:AC248)<-1000,-100000000,SUM(AC41:AC248))","v":-100000000},{"$f":"COUNT(AD41:AD248)","v":0}]
[null,null,{"$f":"SUM(C41:C142)","v":-100000000},0,-100000000,0,-100000000,0,-100000000,0,-100000000,0,-100000000,0,-100000000,0,-100000000,0,-100000000,0,-100000000,0,-100000000,0,-100000000,0,{"$f":"SUM(AA41:AA142)","v":-100000000},{"$f":"SUM(AB41:AB142)","v":0},-100000000,0]
[null,null,null,null,null,null,null,null,null,null,null,null,null,null,null,null,null,null,null,null,null,null,null,null,null,null,null,null,null,null,{"$f":"MAX(AF41:AF100)","v":0}]
[null,"Nº partida ","Goretti",null,"Manolo",null,"Jordi",null,"MªJosé",null,"Joan Carles",null,"Sergi",null,"Carles",null,"Mariajo",null,"Iglesias",null,"Martin",null,"Xavi",null,"Lucía",null,"Knobel",null,"Grau",null,{"$f":"COUNT(AE41:AE163)","v":0},"A","B","C"]
[null,null,"Premi","Punts","Premi","Punts","Premi","Punts","Premi","Punts","Premi","Punts","Premi","Punts","Premi","Punts","Premi","Punts","Premi","Punts","Premi","Punts","Premi","Punts","Premi","Punts","Premi","Punts","Premi","Punts","Data","Timbes"]
[1,null,-100000000,null,-100000000,null,-100000000,null,-100000000,null,-100000000,null,-100000000,null,-100000000,null,-100000000,null,-100000000,null,-100000000,null,-100000000,null,-100000000,null,-100000000,null,-100000000,null,null,null,{"$f":"+C41+E41+G41+I41++K41++M41+O41+Q41+S41+U41+W41+Y41+AC41+AA41","v":-1400000000},0,{"$f":"COUNT(C41:AD41)/2","v":7},{"$f":"+AG41/AI41","v":-200000000}]
[{"$f":"+A41+1","v":2},null,null,null,null,null,null,null,null,null,null,null,null,null,null,null,null,null,null,null,null,null,null,null,null,null,null,null,null,null,null,null,0,0,{"$f":"COUNT(C42:AD42)/2","v":0},{"$f":"+AG42/AI42","v":{"$error":"#DIV/0!"}}]
[{"$f":"+A42+1","v":3},null,null,null,null,null,null,null,null,null,null,null,null,null,null,null,null,null,null,null,null,null,null,null,null,null,null,null,null,null,null,null,0,0,0,{"$error":"#DIV/0!"}]
[4,null,null,null,null,null,null,null,null,null,null,null,null,null,null,null,null,null,null,null,null,null,null,null,null,null,null,null,null,null,null,null,0,0,0,{"$error":"#DIV/0!"}]
[5,null,null,null,null,null,null,null,null,null,null,null,null,null,null,null,null,null,null,null,null,null,null,null,null,null,null,null,null,null,null,null,0,0,0,{"$error":"#DIV/0!"}]
[6,null,null,null,null,null,null,null,null,null,null,null,null,null,null,null,null,null,null,null,null,null,null,null,null,null,null,null,null,null,null,null,0,0,0,{"$error":"#DIV/0!"}]
[7,null,null,null,null,null,null,null,null,null,null,null,null,null,null,null,null,null,null,null,null,null,null,null,null,null,null,null,null,null,null,null,0,0,0,{"$error":"#DIV/0!"}]
[8,null,null,null,null,null,null,null,null,null,null,null,null,null,null,null,null,null,null,null,null,null,null,null,null,null,null,null,null,null,null,null,0,0,0,{"$error":"#DIV/0!"}]
[9]
[10]
[11]
[12]
[13]
[14]
[15]
[16]
[17]
[18]
[19]
[20]
[21]
[22]
[23]
[24]
[25]
[26]
[27]
[{"$f":"+A67+1","v":28}]
[29]
[30]
[31]
[32]
[33]
[34]
[35]

{"sheet":"Tute","index":14,"n_rows":68,"n_cols":67,"rows_kept":68,"cut":false,"hidden":false,"merged":[[42,2,42,4],[42,5,42,7],[42,8,42,10],[42,11,42,13],[42,32,42,34],[42,35,42,37],[42,14,42,16],[42,17,42,19],[42,20,42,22],[42,23,42,25],[42,26,42,28],[42,29,42,31],[42,50,42,52],[42,53,42,55],[42,56,42,58],[42,38,42,40],[42,41,42,43],[42,44,42,46],[42,47,42,49]]}
["TUTE"]
["Mes"]
[{"$f":"+GENERAL!B6","v":12},null,{"$f":"SUM(C5:C8)","v":-400000000}]
[null,null,"Premi","Punts","Partides","General"]
[1,"Grau",{"$f":"+C$40","v":-100000000},{"$f":"+C$41","v":1},{"$f":"+D$40","v":0},{"$f":"+C$26","v":0},{"$f":"IF(E5<A$3/2,-1,1)*800+C5+D5/1000","v":-100000799.999}]
[2,"Manolo",{"$f":"+AM$40","v":-100000000},{"$f":"+AM$41","v":1},{"$f":"+AN$40","v":0},{"$f":"+AM$26","v":0},-100000799.999]
[3,"Carles",{"$f":"+U$40","v":-100000000},{"$f":"+U$41","v":1},{"$f":"+V$40","v":0},{"$f":"+U$26","v":0},-100000799.999]
[4,"Tito",{"$f":"+F$40","v":-100000000},{"$f":"+F$41","v":1},{"$f":"+G$40","v":0},{"$f":"+F$26","v":0},-100000799.999]
[5,"Goretti",{"$f":"+AV$40","v":-100000000},{"$f":"+AV$41","v":1},{"$f":"+AW$40","v":0},{"$f":"+AV$26","v":0},-100000799.999]
[6,"Mariajo",{"$f":"+X$40","v":-100000000},{"$f":"+X$41","v":1},{"$f":"+Y$40","v":0},{"$f":"+X$26","v":0},-100000799.999]
[7,"Jordi",{"$f":"+I$40","v":-100000000},{"$f":"+I$41","v":1},{"$f":"+J$40","v":0},{"$f":"+I$26","v":0},-100000799.999]
[8,"Sergi",{"$f":"+R$40","v":-100000000},{"$f":"+R$41","v":1},{"$f":"+S$40","v":0},{"$f":"+R$26","v":0},-100000799.999]
[9,"Mercè",{"$f":"+AY$40","v":-100000000},{"$f":"+AY$41","v":1},{"$f":"+AZ$40","v":0},{"$f":"+AY$26","v":0},-100000799.999]
[10,"Xavi",{"$f":"+AG$40","v":-100000000},{"$f":"+AG$41","v":1},{"$f":"+AH$40","v":0},{"$f":"+AG$26","v":0},-100000799.999]
[11,"Iglesias",{"$f":"+AA$40","v":-100000000},{"$f":"+AA$41","v":1},{"$f":"+AB$40","v":0},{"$f":"+AA$26","v":0},-100000799.999]
[12,"Sylvain",{"$f":"+AD$40","v":-100000000},{"$f":"+AD$41","v":1},{"$f":"+AE$40","v":0},{"$f":"+AD$26","v":0},-100000799.999]
[13,"Pol",{"$f":"+O$40","v":-100000000},{"$f":"+O$41","v":1},{"$f":"+P$40","v":0},{"$f":"+O$26","v":0},-100000799.999]
[14,"MªJosé",{"$f":"+L$40","v":-100000000},{"$f":"+L$41","v":1},{"$f":"+M$40","v":0},{"$f":"+L$26","v":0},-100000799.999]
[15,"Taberner",{"$f":"+AP$40","v":-100000000},{"$f":"+AP$41","v":1},{"$f":"+AQ$40","v":0},{"$f":"+AP$26","v":0},-100000799.999]
[16,"Salvadó",{"$f":"+AJ$40","v":-100000000},{"$f":"+AJ$41","v":1},{"$f":"+AK$40","v":0},{"$f":"+AJ$26","v":0},-100000799.999]
[17,"Agata",{"$f":"+AS$40","v":-100000000},{"$f":"+AS$41","v":1},{"$f":"+AT$40","v":0},{"$f":"+AS$26","v":0},-100000799.999]
[18,"Caty",{"$f":"+BE$40","v":-100000000},{"$f":"+BE$41","v":1},{"$f":"+BF$40","v":0},{"$f":"+BE$26","v":0},-100000799.999]
[]
[]
[]
[null,"General",{"$f":"+C27*C28","v":0},{"$f":"+D27*D28","v":0},null,{"$f":"+F27*F28","v":0},{"$f":"+G27*G28","v":0},null,{"$f":"+I27*I28","v":0},{"$f":"+J27*J28","v":0},null,{"$f":"+L27*L28","v":0},{"$f":"+M27*M28","v":0},null,{"$f":"+O27*O28","v":0},{"$f":"+P27*P28","v":0},null,{"$f":"+R27*R28","v":0},{"$f":"+S27*S28","v":0},null,{"$f":"+U27*U28","v":0},{"$f":"+V27*V28","v":0},null,{"$f":"+X27*X28","v":0},{"$f":"+Y27*Y28","v":0},null,{"$f":"+AA27*AA28","v":0},{"$f":"+AB27*AB28","v":0},null,{"$f":"+AD27*AD28","v":0},{"$f":"+AE27*AE28","v":0},null,{"$f":"+AG27*AG28","v":0},{"$f":"+AH27*AH28","v":0},null,{"$f":"+AJ27*AJ28","v":0},{"$f":"+AK27*AK28","v":0},null,{"$f":"+AM27*AM28","v":0},{"$f":"+AN27*AN28","v":0},null,{"$f":"+AP27*AP28","v":0},{"$f":"+AQ27*AQ28","v":0},null,{"$f":"+AS27*AS28","v":0},{"$f":"+AT27*AT28","v":0},null,{"$f":"+AV27*AV28","v":0},{"$f":"+AW27*AW28","v":0},null,{"$f":"+AY27*AY28","v":0},{"$f":"+AZ27*AZ28","v":0},null,{"$f":"+BB27*BB28","v":0},{"$f":"+BC27*BC28","v":0},null,{"$f":"+BE27*BE28","v":0},{"$f":"+BF27*BF28","v":0}]
[null,null,{"$f":"IF($B39>3,1,0)","v":0},{"$f":"IF($B39>3,1,0)","v":0},null,{"$f":"IF($B39>3,1,0)","v":0},{"$f":"IF($B39>3,1,0)","v":0},null,{"$f":"IF($B39>3,1,0)","v":0},{"$f":"IF($B39>3,1,0)","v":0},null,{"$f":"IF($B39>3,1,0)","v":0},{"$f":"IF($B39>3,1,0)","v":0},null,{"$f":"IF($B39>3,1,0)","v":0},{"$f":"IF($B39>3,1,0)","v":0},null,{"$f":"IF($B39>3,1,0)","v":0},{"$f":"IF($B39>3,1,0)","v":0},null,{"$f":"IF($B39>3,1,0)","v":0},{"$f":"IF($B39>3,1,0)","v":0},null,{"$f":"IF($B39>3,1,0)","v":0},{"$f":"IF($B39>3,1,0)","v":0},null,{"$f":"IF($B39>3,1,0)","v":0},{"$f":"IF($B39>3,1,0)","v":0},null,{"$f":"IF($B39>3,1,0)","v":0},{"$f":"IF($B39>3,1,0)","v":0},null,{"$f":"IF($B39>3,1,0)","v":0},{"$f":"IF($B39>3,1,0)","v":0},null,{"$f":"IF($B39>3,1,0)","v":0},{"$f":"IF($B39>3,1,0)","v":0},null,{"$f":"IF($B39>3,1,0)","v":0},{"$f":"IF($B39>3,1,0)","v":0},null,{"$f":"IF($B39>3,1,0)","v":0},{"$f":"IF($B39>3,1,0)","v":0},null,{"$f":"IF($B39>3,1,0)","v":0},{"$f":"IF($B39>3,1,0)","v":0},null,{"$f":"IF($B39>3,1,0)","v":0},{"$f":"IF($B39>3,1,0)","v":0},null,{"$f":"IF($B39>3,1,0)","v":0},{"$f":"IF($B39>3,1,0)","v":0},null,{"$f":"IF($B39>3,1,0)","v":0},{"$f":"IF($B39>3,1,0)","v":0},null,{"$f":"IF($B39>3,1,0)","v":0},{"$f":"IF($B39>3,1,0)","v":0}]
[null,null,{"$f":"MAX(C29:C33)","v":0},{"$f":"+D40","v":0},null,{"$f":"MAX(F29:F33)","v":0},{"$f":"+G40","v":0},null,{"$f":"MAX(I29:I33)","v":0},{"$f":"+J40","v":0},null,{"$f":"MAX(L29:L33)","v":0},{"$f":"+M40","v":0},null,{"$f":"MAX(O29:O33)","v":0},{"$f":"+P40","v":0},null,{"$f":"MAX(R29:R33)","v":0},{"$f":"+S40","v":0},null,{"$f":"MAX(U29:U33)","v":0},{"$f":"+V40","v":0},null,{"$f":"MAX(X29:X33)","v":0},{"$f":"+Y40","v":0},null,{"$f":"MAX(AA29:AA33)","v":0},{"$f":"+AB40","v":0},null,{"$f":"MAX(AD29:AD33)","v":0},{"$f":"+AE40","v":0},null,{"$f":"MAX(AG29:AG33)","v":0},{"$f":"+AH40","v":0},null,{"$f":"MAX(AJ29:AJ33)","v":0},{"$f":"+AK40","v":0},null,{"$f":"MAX(AM29:AM33)","v":0},{"$f":"+AN40","v":0},null,{"$f":"MAX(AP29:AP33)","v":0},{"$f":"+AQ40","v":0},null,{"$f":"MAX(AS29:AS33)","v":0},{"$f":"+AT40","v":0},null,{"$f":"MAX(AV29:AV33)","v":0},{"$f":"+AW40","v":0},null,{"$f":"MAX(AY29:AY33)","v":0},{"$f":"+AZ40","v":0},null,{"$f":"MAX(BB29:BB33)","v":0},{"$f":"+BC40","v":0},null,{"$f":"MAX(BE29:BE33)","v":0},{"$f":"+BF40","v":0}]
[null,null,{"$f":"IF(C$34=5,5,0)","v":0},null,null,{"$f":"IF(F$34=5,5,0)","v":0},null,null,{"$f":"IF(I$34=5,5,0)","v":0},null,null,{"$f":"IF(L$34=5,5,0)","v":0},null,null,{"$f":"IF(O$34=5,5,0)","v":0},null,null,{"$f":"IF(R$34=5,5,0)","v":0},null,null,{"$f":"IF(U$34=5,5,0)","v":0},null,null,{"$f":"IF(X$34=5,5,0)","v":0},null,null,{"$f":"IF(AA$34=5,5,0)","v":0},null,null,{"$f":"IF(AD$34=5,5,0)","v":0},null,null,{"$f":"IF(AG$34=5,5,0)","v":0},null,null,{"$f":"IF(AJ$34=5,5,0)","v":0},null,null,{"$f":"IF(AM$34=5,5,0)","v":0},null,null,{"$f":"IF(AP$34=5,5,0)","v":0},null,null,{"$f":"IF(AS$34=5,5,0)","v":0},null,null,{"$f":"IF(AV$34=5,5,0)","v":0},null,null,{"$f":"IF(AY$34=5,5,0)","v":0},null,null,{"$f":"IF(BB$34=5,5,0)","v":0},null,null,{"$f":"IF(BE$34=5,5,0)","v":0}]
[null,null,{"$f":"IF(C$34=4,10,0)","v":0},null,null,{"$f":"IF(F$34=4,10,0)","v":0},null,null,{"$f":"IF(I$34=4,10,0)","v":0},null,null,{"$f":"IF(L$34=4,10,0)","v":0},null,null,{"$f":"IF(O$34=4,10,0)","v":0},null,null,{"$f":"IF(R$34=4,10,0)","v":0},null,null,{"$f":"IF(U$34=4,10,0)","v":0},null,null,{"$f":"IF(X$34=4,10,0)","v":0},null,null,{"$f":"IF(AA$34=4,10,0)","v":0},null,null,{"$f":"IF(AD$34=4,10,0)","v":0},null,null,{"$f":"IF(AG$34=4,10,0)","v":0},null,null,{"$f":"IF(AJ$34=4,10,0)","v":0},null,null,{"$f":"IF(AM$34=4,10,0)","v":0},null,null,{"$f":"IF(AP$34=4,10,0)","v":0},null,null,{"$f":"IF(AS$34=4,10,0)","v":0},null,null,{"$f":"IF(AV$34=4,10,0)","v":0},null,null,{"$f":"IF(AY$34=4,10,0)","v":0},null,null,{"$f":"IF(BB$34=4,10,0)","v":0},null,null,{"$f":"IF(BE$34=4,10,0)","v":0}]
[null,null,{"$f":"IF(C$34=3,20,0)","v":0},null,null,{"$f":"IF(F$34=3,20,0)","v":0},null,null,{"$f":"IF(I$34=3,20,0)","v":0},null,null,{"$f":"IF(L$34=3,20,0)","v":0},null,null,{"$f":"IF(O$34=3,20,0)","v":0},null,null,{"$f":"IF(R$34=3,20,0)","v":0},null,null,{"$f":"IF(U$34=3,20,0)","v":0},null,null,{"$f":"IF(X$34=3,20,0)","v":0},null,null,{"$f":"IF(AA$34=3,20,0)","v":0},null,null,{"$f":"IF(AD$34=3,20,0)","v":0},null,null,{"$f":"IF(AG$34=3,20,0)","v":0},null,null,{"$f":"IF(AJ$34=3,20,0)","v":0},null,null,{"$f":"IF(AM$34=3,20,0)","v":0},null,null,{"$f":"IF(AP$34=3,20,0)","v":0},null,null,{"$f":"IF(AS$34=3,20,0)","v":0},null,null,{"$f":"IF(AV$34=3,20,0)","v":0},null,null,{"$f":"IF(AY$34=3,20,0)","v":0},null,null,{"$f":"IF(BB$34=3,20,0)","v":0},null,null,{"$f":"IF(BE$34=3,20,0)","v":0}]
[null,null,{"$f":"IF(C$34=2,40,0)","v":0},null,null,{"$f":"IF(F$34=2,40,0)","v":0},null,null,{"$f":"IF(I$34=2,40,0)","v":0},null,null,{"$f":"IF(L$34=2,40,0)","v":0},null,null,{"$f":"IF(O$34=2,40,0)","v":0},null,null,{"$f":"IF(R$34=2,40,0)","v":0},null,null,{"$f":"IF(U$34=2,40,0)","v":0},null,null,{"$f":"IF(X$34=2,40,0)","v":0},null,null,{"$f":"IF(AA$34=2,40,0)","v":0},null,null,{"$f":"IF(AD$34=2,40,0)","v":0},null,null,{"$f":"IF(AG$34=2,40,0)","v":0},null,null,{"$f":"IF(AJ$34=2,40,0)","v":0},null,null,{"$f":"IF(AM$34=2,40,0)","v":0},null,null,{"$f":"IF(AP$34=2,40,0)","v":0},null,null,{"$f":"IF(AS$34=2,40,0)","v":0},null,null,{"$f":"IF(AV$34=2,40,0)","v":0},null,null,{"$f":"IF(AY$34=2,40,0)","v":0},null,null,{"$f":"IF(BB$34=2,40,0)","v":0},null,null,{"$f":"IF(BE$34=2,40,0)","v":0}]
[null,null,{"$f":"IF(C$34=1,80,0)","v":0},null,null,{"$f":"IF(F$34=1,80,0)","v":0},null,null,{"$f":"IF(I$34=1,80,0)","v":0},null,null,{"$f":"IF(L$34=1,80,0)","v":0},null,null,{"$f":"IF(O$34=1,80,0)","v":0},null,null,{"$f":"IF(R$34=1,80,0)","v":0},null,null,{"$f":"IF(U$34=1,80,0)","v":0},null,null,{"$f":"IF(X$34=1,80,0)","v":0},null,null,{"$f":"IF(AA$34=1,80,0)","v":0},null,null,{"$f":"IF(AD$34=1,80,0)","v":0},null,null,{"$f":"IF(AG$34=1,80,0)","v":0},null,null,{"$f":"IF(AJ$34=1,80,0)","v":0},null,null,{"$f":"IF(AM$34=1,80,0)","v":0},null,null,{"$f":"IF(AP$34=1,80,0)","v":0},null,null,{"$f":"IF(AS$34=1,80,0)","v":0},null,null,{"$f":"IF(AV$34=1,80,0)","v":0},null,null,{"$f":"IF(AY$34=1,80,0)","v":0},null,null,{"$f":"IF(BB$34=1,80,0)","v":0},null,null,{"$f":"IF(BE$34=1,80,0)","v":0}]
[null,null,{"$f":"RANK(C35,$C35:$BF35)*C39","v":0},null,null,{"$f":"RANK(F35,$C35:$BF35)*F39","v":0},null,null,{"$f":"RANK(I35,$C35:$BF35)*I39","v":0},null,null,{"$f":"RANK(L35,$C35:$BF35)*L39","v":0},null,null,{"$f":"RANK(O35,$C35:$BF35)*O39","v":0},null,null,{"$f":"RANK(R35,$C35:$BF35)*R39","v":0},null,null,{"$f":"RANK(U35,$C35:$BF35)*U39","v":0},null,null,{"$f":"RANK(X35,$C35:$BF35)*X39","v":0},null,null,{"$f":"RANK(AA35,$C35:$BF35)*AA39","v":0},null,null,{"$f":"RANK(AD35,$C35:$BF35)*AD39","v":0},null,null,{"$f":"RANK(AG35,$C35:$BF35)*AG39","v":0},null,null,{"$f":"RANK(AJ35,$C35:$BF35)*AJ39","v":0},null,null,{"$f":"RANK(AM35,$C35:$BF35)*AM39","v":0},null,null,{"$f":"RANK(AP35,$C35:$BF35)*AP39","v":0},null,null,{"$f":"RANK(AS35,$C35:$BF35)*AS39","v":0},null,null,{"$f":"RANK(AV35,$C35:$BF35)*AV39","v":0},null,null,{"$f":"RANK(AY35,$C35:$BF35)*AY39","v":0},null,null,{"$f":"RANK(BB35,$C35:$BF35)*BB39","v":0},null,null,{"$f":"RANK(BE35,$C35:$BF35)*BE39","v":0}]
[null,null,{"$f":"SUM(C36:C38)","v":-999999900},null,null,{"$f":"SUM(F36:F38)","v":-999999900},null,null,{"$f":"SUM(I36:I38)","v":-999999900},null,null,{"$f":"SUM(L36:L38)","v":-999999900},null,null,{"$f":"SUM(O36:O38)","v":-999999900},null,null,{"$f":"SUM(R36:R38)","v":-999999900},null,null,{"$f":"SUM(U36:U38)","v":-999999900},null,null,{"$f":"SUM(X36:X38)","v":-999999900},null,null,{"$f":"SUM(AA36:AA38)","v":-999999900},null,null,{"$f":"SUM(AD36:AD38)","v":-999999900},null,null,{"$f":"SUM(AG36:AG38)","v":-999999900},null,null,{"$f":"SUM(AJ36:AJ38)","v":-999999900},null,null,{"$f":"SUM(AM36:AM38)","v":-999999900},null,null,{"$f":"SUM(AP36:AP38)","v":-999999900},null,null,{"$f":"SUM(AS36:AS38)","v":-999999998},null,null,{"$f":"SUM(AV36:AV38)","v":-999999900},null,null,{"$f":"SUM(AY36:AY38)","v":-999999900},null,null,{"$f":"SUM(BB36:BB38)","v":-9999998},null,null,{"$f":"SUM(BE36:BE38)","v":-9999998}]
[null,null,{"$f":"+D40","v":0},null,null,{"$f":"+G40","v":0},null,null,{"$f":"+J40","v":0},null,null,{"$f":"+M40","v":0},null,null,{"$f":"+P40","v":0},null,null,{"$f":"+S40","v":0},null,null,{"$f":"+V40","v":0},null,null,{"$f":"+Y40","v":0},null,null,{"$f":"+AB40","v":0},null,null,{"$f":"+AE40","v":0},null,null,{"$f":"+AH40","v":0},null,null,{"$f":"+AK40","v":0},null,null,{"$f":"+AN40","v":0},null,null,{"$f":"+AQ40","v":0},null,null,{"$f":"+AT40","v":0},null,null,{"$f":"+AW40","v":0},null,null,{"$f":"+AZ40","v":0},null,null,{"$f":"+BC40","v":0},null,null,{"$f":"+BF40","v":0}]
[null,null,{"$f":"+C41*100","v":100},null,null,{"$f":"+F41*100","v":100},null,null,{"$f":"+I41*100","v":100},null,null,{"$f":"+L41*100","v":100},null,null,{"$f":"+O41*100","v":100},null,null,{"$f":"+R41*100","v":100},null,null,{"$f":"+U41*100","v":100},null,null,{"$f":"+X41*100","v":100},null,null,{"$f":"+AA41*100","v":100},null,null,{"$f":"+AD41*100","v":100},null,null,{"$f":"+AG41*100","v":100},null,null,{"$f":"+AJ41*100","v":100},null,null,{"$f":"+AM41*100","v":100},null,null,{"$f":"+AP41*100","v":100},null,null,{"$f":"+AS41*2","v":2},null,null,{"$f":"+AV41*100","v":100},null,null,{"$f":"+AY41*100","v":100},null,null,{"$f":"+BB41*2","v":2},null,null,{"$f":"+BE41*2","v":2}]
[null,null,{"$f":"IF(D40-$A3/2<0,-1000000000,C40*C39*100000+C40)","v":-1000000000},null,null,{"$f":"IF(G40-$A3/2<0,-1000000000,F40*F39*100000+F40)","v":-1000000000},null,null,{"$f":"IF(J40-$A3/2<0,-1000000000,I40*I39*100000+I40)","v":-1000000000},null,null,{"$f":"IF(M40-$A3/2<0,-1000000000,L40*L39*100000+L40)","v":-1000000000},null,null,{"$f":"IF(P40-$A3/2<0,-1000000000,O40*O39*100000+O40)","v":-1000000000},null,null,{"$f":"IF(S40-$A3/2<0,-1000000000,R40*R39*100000+R40)","v":-1000000000},null,null,{"$f":"IF(V40-$A3/2<0,-1000000000,U40*U39*100000+U40)","v":-1000000000},null,null,{"$f":"IF(Y40-$A3/2<0,-1000000000,X40*X39*100000+X40)","v":-1000000000},null,null,{"$f":"IF(AB40-$A3/2<0,-1000000000,AA40*AA39*100000+AA40)","v":-1000000000},null,null,{"$f":"IF(AE40-$A3/2<0,-1000000000,AD40*AD39*100000+AD40)","v":-1000000000},null,null,{"$f":"IF(AH40-$A3/2<0,-1000000000,AG40*AG39*100000+AG40)","v":-1000000000},null,null,{"$f":"IF(AK40-$A3/2<0,-1000000000,AJ40*AJ39*100000+AJ40)","v":-1000000000},null,null,{"$f":"IF(AN40-$A3/2<0,-1000000000,AM40*AM39*100000+AM40)","v":-1000000000},null,null,{"$f":"IF(AQ40-$A3/2<0,-1000000000,AP40*AP39*100000+AP40)","v":-1000000000},null,null,{"$f":"IF(AT40-$A3/2<0,-1000000000,AS40*AS39*100000+AS40)","v":-1000000000},null,null,{"$f":"IF(AW40-$A3/2<0,-1000000000,AV40*AV39*100000+AV40)","v":-1000000000},null,null,{"$f":"IF(AZ40-$A3/2<0,-1000000000,AY40*AY39*100000+AY40)","v":-1000000000},null,null,{"$f":"IF(BC40-$A3/2<0,-10000000,BB40*BB39*100000+BB40)","v":-10000000},null,null,{"$f":"IF(BF40-$A3/2<0,-10000000,BE40*BE39*100000+BE40)","v":-10000000}]
["Classificats",{"$f":"SUM(C39:BE39)","v":0},{"$f":"IF(D40>=$A3/2,1,0)","v":0},null,null,{"$f":"IF(G40>=$A3/2,1,0)","v":0},null,null,{"$f":"IF(J40>=$A3/2,1,0)","v":0},null,null,{"$f":"IF(M40>=$A3/2,1,0)","v":0},null,null,{"$f":"IF(P40>=$A3/2,1,0)","v":0},null,null,{"$f":"IF(S40>=$A3/2,1,0)","v":0},null,null,{"$f":"IF(V40>=$A3/2,1,0)","v":0},null,null,{"$f":"IF(Y40>=$A3/2,1,0)","v":0},null,null,{"$f":"IF(AB40>=$A3/2,1,0)","v":0},null,null,{"$f":"IF(AE40>=$A3/2,1,0)","v":0},null,null,{"$f":"IF(AH40>=$A3/2,1,0)","v":0},null,null,{"$f":"IF(AK40>=$A3/2,1,0)","v":0},null,null,{"$f":"IF(AN40>=$A3/2,1,0)","v":0},null,null,{"$f":"IF(AQ40>=$A3/2,1,0)","v":0},null,null,{"$f":"IF(AT40>=$A3/2,1,0)","v":0},null,null,{"$f":"IF(AW40>=$A3/2,1,0)","v":0},null,null,{"$f":"IF(AZ40>=$A3/2,1,0)","v":0},null,null,{"$f":"IF(BC40>=$A3/2,1,0)","v":0},null,null,{"$f":"IF(BF40>=$A3/2,1,0)","v":0}]
[null,null,{"$f":"IF(SUM(C45:C68)<-1000,-100000000,SUM(C45:C68))","v":-100000000},{"$f":"COUNT(D45:D68)","v":0},null,{"$f":"IF(SUM(F45:F68)<-1000,-100000000,SUM(F45:F68))","v":-100000000},{"$f":"COUNT(G45:G68)","v":0},null,{"$f":"IF(SUM(I45:I68)<-1000,-100000000,SUM(I45:I68))","v":-100000000},{"$f":"COUNT(J45:J68)","v":0},null,{"$f":"IF(SUM(L45:L68)<-1000,-100000000,SUM(L45:L68))","v":-100000000},{"$f":"COUNT(M45:M68)","v":0},null,{"$f":"IF(SUM(O45:O68)<-1000,-100000000,SUM(O45:O68))","v":-100000000},{"$f":"COUNT(P45:P68)","v":0},null,{"$f":"IF(SUM(R45:R68)<-1000,-100000000,SUM(R45:R68))","v":-100000000},{"$f":"COUNT(S45:S68)","v":0},null,{"$f":"IF(SUM(U45:U68)<-1000,-100000000,SUM(U45:U68))","v":-100000000},{"$f":"COUNT(V45:V68)","v":0},null,{"$f":"IF(SUM(X45:X68)<-1000,-100000000,SUM(X45:X68))","v":-100000000},{"$f":"COUNT(Y45:Y68)","v":0},null,{"$f":"IF(SUM(AA45:AA68)<-1000,-100000000,SUM(AA45:AA68))","v":-100000000},{"$f":"COUNT(AB45:AB68)","v":0},null,{"$f":"IF(SUM(AD45:AD68)<-1000,-100000000,SUM(AD45:AD68))","v":-100000000},{"$f":"COUNT(AE45:AE68)","v":0},null,{"$f":"IF(SUM(AG45:AG68)<-1000,-100000000,SUM(AG45:AG68))","v":-100000000},{"$f":"COUNT(AH45:AH68)","v":0},null,{"$f":"IF(SUM(AJ45:AJ68)<-1000,-100000000,SUM(AJ45:AJ68))","v":-100000000},{"$f":"COUNT(AK45:AK68)","v":0},null,{"$f":"IF(SUM(AM45:AM68)<-1000,-100000000,SUM(AM45:AM68))","v":-100000000},{"$f":"COUNT(AN45:AN68)","v":0},null,{"$f":"IF(SUM(AP45:AP68)<-1000,-100000000,SUM(AP45:AP68))","v":-100000000},{"$f":"COUNT(AQ45:AQ68)","v":0},null,{"$f":"IF(SUM(AS45:AS68)<-1000,-100000000,SUM(AS45:AS68))","v":-100000000},{"$f":"COUNT(AT45:AT68)","v":0},null,{"$f":"IF(SUM(AV45:AV68)<-1000,-100000000,SUM(AV45:AV68))","v":-100000000},{"$f":"COUNT(AW45:AW68)","v":0},null,{"$f":"IF(SUM(AY45:AY68)<-1000,-100000000,SUM(AY45:AY68))","v":-100000000},{"$f":"COUNT(AZ45:AZ68)","v":0},null,{"$f":"IF(SUM(BB45:BB68)<-1000,-100000000,SUM(BB45:BB68))","v":-100000000},{"$f":"COUNT(BC45:BC68)","v":0},null,{"$f":"IF(SUM(BE45:BE68)<-1000,-100000000,SUM(BE45:BE68))","v":-100000000},{"$f":"COUNT(BF45:BF68)","v":0},null,null,"A"]
[null,null,{"$f":"+D41-E41","v":1},{"$f":"SUM(D45:D68)","v":0},{"$f":"SUM(E45:E68)","v":-1},{"$f":"+G41-H41","v":1},{"$f":"SUM(G45:G68)","v":0},{"$f":"SUM(H45:H68)","v":-1},{"$f":"+J41-K41","v":1},{"$f":"SUM(J45:J68)","v":0},{"$f":"SUM(K45:K68)","v":-1},{"$f":"+M41-N41","v":1},{"$f":"SUM(M45:M68)","v":0},{"$f":"SUM(N45:N68)","v":-1},{"$f":"+P41-Q41","v":1},{"$f":"SUM(P45:P68)","v":0},{"$f":"SUM(Q45:Q68)","v":-1},{"$f":"+S41-T41","v":1},{"$f":"SUM(S45:S68)","v":0},{"$f":"SUM(T45:T68)","v":-1},{"$f":"+V41-W41","v":1},{"$f":"SUM(V45:V68)","v":0},{"$f":"SUM(W45:W68)","v":-1},{"$f":"+Y41-Z41","v":1},{"$f":"SUM(Y45:Y68)","v":0},{"$f":"SUM(Z45:Z68)","v":-1},{"$f":"+AB41-AC41","v":1},{"$f":"SUM(AB45:AB68)","v":0},{"$f":"SUM(AC45:AC68)","v":-1},{"$f":"+AE41-AF41","v":1},{"$f":"SUM(AE45:AE68)","v":0},{"$f":"SUM(AF45:AF68)","v":-1},{"$f":"+AH41-AI41","v":1},{"$f":"SUM(AH45:AH68)","v":0},{"$f":"SUM(AI45:AI68)","v":-1},{"$f":"+AK41-AL41","v":1},{"$f":"SUM(AK45:AK68)","v":0},{"$f":"SUM(AL45:AL68)","v":-1},{"$f":"+AN41-AO41","v":1},{"$f":"SUM(AN45:AN68)","v":0},{"$f":"SUM(AO45:AO68)","v":-1},{"$f":"+AQ41-AR41","v":1},{"$f":"SUM(AQ45:AQ68)","v":0},{"$f":"SUM(AR45:AR68)","v":-1},{"$f":"+AT41-AU41","v":1},{"$f":"SUM(AT45:AT68)","v":0},{"$f":"SUM(AU45:AU68)","v":-1},{"$f":"+AW41-AX41","v":1},{"$f":"SUM(AW45:AW68)","v":0},{"$f":"SUM(AX45:AX68)","v":-1},{"$f":"+AZ41-BA41","v":1},{"$f":"SUM(AZ45:AZ68)","v":0},{"$f":"SUM(BA45:BA68)","v":-1},{"$f":"+BC41-BD41","v":1},{"$f":"SUM(BC45:BC68)","v":0},{"$f":"SUM(BD45:BD68)","v":-1},{"$f":"+BF41-BG41","v":1},{"$f":"SUM(BF45:BF68)","v":0},{"$f":"SUM(BG45:BG68)","v":-1},null,"B"]
[null,null,null,null,null,null,null,null,null,null,null,null,null,null,null,null,null,null,null,null,null,null,null,null,null,null,null,null,null,null,null,null,null,null,null,null,null,null,null,null,null,null,null,null,null,null,null,null,null,null,null,null,null,null,null,null,null,null,null,{"$f":"MAX(BI45:BI104)","v":0}]
[null,"Nº partida ","Grau",null,null,"Tito",null,null,"Jordi",null,null,"MªJosé",null,null,"Pol",null,null,"Sergi",null,null,"Carles",null,null,"Mariajo",null,null,"Iglesias",null,null,"Martín",null,null,"Xavi",null,null,"Salvadó",null,null,"Manolo",null,null,"Taberner",null,null,"Agata",null,null,"Goretti",null,null,"Mercè",null,null,null,null,null,"Caty",null,null,{"$f":"COUNT(BH45:BH83)","v":0},"A","B","C"]
[null,"5 copes","Premi","Punts",null,"Premi","Punts",null,"Premi","Punts",null,"Premi","Punts",null,"Premi","Punts",null,"Premi","Punts",null,"Premi","Punts",null,"Premi","Punts",null,"Premi","Punts",null,"Premi","Punts",null,"Premi","Punts",null,"Premi","Punts",null,"Premi","Punts",null,"Premi","Punts",null,"Premi","Punts",null,"Premi","Punts",null,"Premi","Punts",null,"Premi","Punts",null,"Premi","Punts",null,"Data","Timba"]
[1,null,-10000,null,-1,-10000,null,-1,-10000,null,-1,-10000,null,-1,-10000,null,-1,-10000,null,-1,-10000,null,-1,-10000,null,-1,-10000,null,-1,-10000,null,-1,-10000,null,-1,-10000,null,-1,-10000,null,-1,-10000,null,-1,-10000,null,-1,-10000,null,-1,-10000,null,-1,-10000,null,-1,-10000,null,-1,null,null,{"$f":"+BE45+AJ45+AG45+AD45+AA45+X45+U45+R45+O45+L45+I45+F45+C45+AM45+AP45+AS45+AV45+AY45+BB45","v":-190000},0,-19,{"$f":"+BK45-BL45","v":19},{"$f":"COUNT(C45:BG45)/3","v":12.666666666666666},{"$f":"+BJ45/BN45","v":-15000}]
[{"$f":"+A45+1","v":2},null,null,null,null,null,null,null,null,null,null,null,null,null,null,null,null,null,null,null,null,null,null,null,null,null,null,null,null,null,null,null,null,null,null,null,null,null,null,null,null,null,null,null,null,null,null,null,null,null,null,null,null,null,null,null,null,null,null,null,null,0,0,0,0,0,{"$error":"#DIV/0!"}]
[{"$f":"+A46+1","v":3},null,null,null,null,null,null,null,null,null,null,null,null,null,null,null,null,null,null,null,null,null,null,null,null,null,null,null,null,null,null,null,null,null,null,null,null,null,null,null,null,null,null,null,null,null,null,null,null,null,null,null,null,null,null,null,null,null,null,null,null,0,0,0,0,0,{"$error":"#DIV/0!"}]
[4,null,null,null,null,null,null,null,null,null,null,null,null,null,null,null,null,null,null,null,null,null,null,null,null,null,null,null,null,null,null,null,null,null,null,null,null,null,null,null,null,null,null,null,null,null,null,null,null,null,null,null,null,null,null,null,null,null,null,null,null,0,0,0,0,0,{"$error":"#DIV/0!"}]
[5,null,null,null,null,null,null,null,null,null,null,null,null,null,null,null,null,null,null,null,null,null,null,null,null,null,null,null,null,null,null,null,null,null,null,null,null,null,null,null,null,null,null,null,null,null,null,null,null,null,null,null,null,null,null,null,null,null,null,null,null,0,0,0,0,0,{"$error":"#DIV/0!"}]
[6,null,null,null,null,null,null,null,null,null,null,null,null,null,null,null,null,null,null,null,null,null,null,null,null,null,null,null,null,null,null,null,null,null,null,null,null,null,null,null,null,null,null,null,null,null,null,null,null,null,null,null,null,null,null,null,null,null,null,null,null,0,0,0,0,0,{"$error":"#DIV/0!"}]
[7,null,null,null,null,null,null,null,null,null,null,null,null,null,null,null,null,null,null,null,null,null,null,null,null,null,null,null,null,null,null,null,null,null,null,null,null,null,null,null,null,null,null,null,null,null,null,null,null,null,null,null,null,null,null,null,null,null,null,null,null,0,0,0,0,0,{"$error":"#DIV/0!"}]
[8,null,null,null,null,null,null,null,null,null,null,null,null,null,null,null,null,null,null,null,null,null,null,null,null,null,null,null,null,null,null,null,null,null,null,null,null,null,null,null,null,null,null,null,null,null,null,null,null,null,null,null,null,null,null,null,null,null,null,null,null,0,0,0,0,0,{"$error":"#DIV/0!"}]
[9]
[10]
[11]
[12]
[13]
[14]
[15]
[16]
[17]
[18]
[19]
[20]
[21]
[22]
[23]
[24]

{"sheet":"Julepe","index":15,"n_rows":86,"n_cols":43,"rows_kept":86,"cut":false,"hidden":false,"merged":[[39,34,39,35],[39,8,39,9],[39,10,39,11],[39,12,39,13],[39,14,39,15],[39,16,39,17],[39,18,39,19],[39,30,39,31],[39,20,39,21],[39,22,39,23],[39,32,39,33],[39,28,39,29],[39,2,39,3],[39,4,39,5],[39,6,39,7],[39,24,39,25],[39,26,39,27]]}
["JULEPE"]
["Mes"]
[{"$f":"+GENERAL!B6","v":12},null,{"$f":"SUM(C5:C11)","v":-700000000}]
[null,null,"Premi","Punts","Partides","General"]
[1,"Carles",{"$f":"+O$37","v":-100000000},{"$f":"+P$38","v":0},{"$f":"+P$37","v":0},{"$f":"+O$23","v":0},{"$f":"IF(E5<A$3/2,-1,1)*80+C5","v":-100000080}]
[2,"Sergi",{"$f":"+M$37","v":-100000000},{"$f":"+N$38","v":0},{"$f":"+N$37","v":0},{"$f":"+M$23","v":0},-100000080]
[3,"Manel",{"$f":"+C$37","v":-100000000},{"$f":"+D$38","v":0},{"$f":"+D$37","v":0},{"$f":"+C$23","v":0},-100000080]
[4,"Jordi",{"$f":"+G$37","v":-100000000},{"$f":"+H$38","v":0},{"$f":"+H$37","v":0},{"$f":"+G$23","v":0},-100000080]
[5,"Mariajo",{"$f":"+Q$37","v":-100000000},{"$f":"+R$38","v":0},{"$f":"+R$37","v":0},{"$f":"+Q$23","v":0},-100000080]
[6,"Katy",{"$f":"+E$37","v":-100000000},{"$f":"+F$38","v":0},{"$f":"+F$37","v":0},{"$f":"+E$23","v":0},-100000080]
[7,"Grau",{"$f":"+AI$37","v":-100000000},{"$f":"+AJ$38","v":0},{"$f":"+AJ$37","v":0},{"$f":"+AI$23","v":0},-100000080]
[8,"Mercè",{"$f":"+Y$37","v":-100000000},{"$f":"+Z$38","v":0},{"$f":"+Z$37","v":0},{"$f":"+Y$23","v":0},-100000080]
[9,"Xavi",{"$f":"+W$37","v":-100000000},{"$f":"+X$38","v":0},{"$f":"+X$37","v":0},{"$f":"+W$23","v":0},-100000080]
[10,"Iglesias",{"$f":"+S$37","v":-100000000},{"$f":"+T$38","v":0},{"$f":"+T$37","v":0},{"$f":"+S$23","v":0},-100000080]
[11,"Goretti",{"$f":"+AC$37","v":-100000000},{"$f":"+AD$38","v":0},{"$f":"+AD$37","v":0},{"$f":"+AC$23","v":0},-100000080]
[12,"Ester",{"$f":"+AA$37","v":-100000000},{"$f":"+AB$38","v":0},{"$f":"+AB$37","v":0},{"$f":"+AA$23","v":0},-100000080]
[13,"Montiel",{"$f":"+K$37","v":-100000000},{"$f":"+L$38","v":0},{"$f":"+L$37","v":0},{"$f":"+K$23","v":0},-100000080]
[14,"Sylvain",{"$f":"+U$37","v":-100000000},{"$f":"+V$38","v":0},{"$f":"+V$37","v":0},{"$f":"+U$23","v":0},-100000080]
[15,"Jorge",{"$f":"+AG$37","v":-100000000},{"$f":"+AH$38","v":0},{"$f":"+AH$37","v":0},{"$f":"+AG$23","v":0},-100000080]
[16,"Geli",{"$f":"+AE$37","v":-100000000},{"$f":"+AF$38","v":0},{"$f":"+AF$37","v":0},{"$f":"+AE$23","v":0},-100000080]
[14,"MªJosé",{"$f":"+I$37","v":-100000000},{"$f":"+J$38","v":0},{"$f":"+J$37","v":0},{"$f":"+I$23","v":0},-100000080]
[]
[null,"General",{"$f":"+C24*C25","v":0},{"$f":"+D24*D25","v":0},0,0,0,0,0,0,0,0,0,0,0,0,0,0,0,0,0,0,0,0,0,0,{"$f":"+AA24*AA25","v":0},0,0,0,{"$f":"+AE24*AE25","v":0},{"$f":"+AF24*AF25","v":0},0,0,0,0]
[null,null,{"$f":"IF($B36>3,1,0)","v":0},{"$f":"IF($B36>3,1,0)","v":0},0,0,0,0,0,0,0,0,0,0,0,0,0,0,0,0,0,0,0,0,0,0,{"$f":"IF($B36>3,1,0)","v":0},0,0,0,{"$f":"IF($B36>3,1,0)","v":0},{"$f":"IF($B36>3,1,0)","v":0},0,0,0,0]
[null,null,{"$f":"MAX(C26:C30)","v":0},{"$f":"+D37","v":0},{"$f":"MAX(E26:E30)","v":0},{"$f":"+F37","v":0},{"$f":"MAX(G26:G30)","v":0},{"$f":"+H37","v":0},{"$f":"MAX(I26:I30)","v":0},{"$f":"+J37","v":0},{"$f":"MAX(K26:K30)","v":0},{"$f":"+L37","v":0},{"$f":"MAX(M26:M30)","v":0},{"$f":"+N37","v":0},{"$f":"MAX(O26:O30)","v":0},{"$f":"+P37","v":0},{"$f":"MAX(Q26:Q30)","v":0},{"$f":"+R37","v":0},{"$f":"MAX(S26:S30)","v":0},{"$f":"+T37","v":0},{"$f":"MAX(U26:U30)","v":0},{"$f":"+V37","v":0},{"$f":"MAX(W26:W30)","v":0},{"$f":"+X37","v":0},{"$f":"MAX(Y26:Y30)","v":0},{"$f":"+Z37","v":0},{"$f":"MAX(AA26:AA30)","v":0},{"$f":"+AB37","v":0},{"$f":"MAX(AC26:AC30)","v":0},{"$f":"+AD37","v":0},{"$f":"MAX(AE26:AE30)","v":0},{"$f":"+AF37","v":0},{"$f":"MAX(AG26:AG30)","v":0},{"$f":"+AH37","v":0},{"$f":"MAX(AI26:AI30)","v":0},{"$f":"+AJ37","v":0}]
[null,null,{"$f":"IF(C$31=5,5,0)","v":0},null,{"$f":"IF(E$31=5,5,0)","v":0},null,{"$f":"IF(G$31=5,5,0)","v":0},null,{"$f":"IF(I$31=5,5,0)","v":0},null,{"$f":"IF(K$31=5,5,0)","v":0},null,{"$f":"IF(M$31=5,5,0)","v":0},null,{"$f":"IF(O$31=5,5,0)","v":0},null,{"$f":"IF(Q$31=5,5,0)","v":0},null,{"$f":"IF(S$31=5,5,0)","v":0},null,{"$f":"IF(U$31=5,5,0)","v":0},null,{"$f":"IF(W$31=5,5,0)","v":0},null,{"$f":"IF(Y$31=5,5,0)","v":0},null,{"$f":"IF(AA$31=5,5,0)","v":0},null,{"$f":"IF(AC$31=5,5,0)","v":0},null,{"$f":"IF(AE$31=5,5,0)","v":0},null,{"$f":"IF(AG$31=5,5,0)","v":0},null,{"$f":"IF(AI$31=5,5,0)","v":0}]
[null,null,{"$f":"IF(C$31=4,10,0)","v":0},null,{"$f":"IF(E$31=4,10,0)","v":0},null,{"$f":"IF(G$31=4,10,0)","v":0},null,{"$f":"IF(I$31=4,10,0)","v":0},null,{"$f":"IF(K$31=4,10,0)","v":0},null,{"$f":"IF(M$31=4,10,0)","v":0},null,{"$f":"IF(O$31=4,10,0)","v":0},null,{"$f":"IF(Q$31=4,10,0)","v":0},null,{"$f":"IF(S$31=4,10,0)","v":0},null,{"$f":"IF(U$31=4,10,0)","v":0},null,{"$f":"IF(W$31=4,10,0)","v":0},null,{"$f":"IF(Y$31=4,10,0)","v":0},null,{"$f":"IF(AA$31=4,10,0)","v":0},null,{"$f":"IF(AC$31=4,10,0)","v":0},null,{"$f":"IF(AE$31=4,10,0)","v":0},null,{"$f":"IF(AG$31=4,10,0)","v":0},null,{"$f":"IF(AI$31=4,10,0)","v":0}]
[null,null,{"$f":"IF(C$31=3,20,0)","v":0},null,{"$f":"IF(E$31=3,20,0)","v":0},null,{"$f":"IF(G$31=3,20,0)","v":0},null,{"$f":"IF(I$31=3,20,0)","v":0},null,{"$f":"IF(K$31=3,20,0)","v":0},null,{"$f":"IF(M$31=3,20,0)","v":0},null,{"$f":"IF(O$31=3,20,0)","v":0},null,{"$f":"IF(Q$31=3,20,0)","v":0},null,{"$f":"IF(S$31=3,20,0)","v":0},null,{"$f":"IF(U$31=3,20,0)","v":0},null,{"$f":"IF(W$31=3,20,0)","v":0},null,{"$f":"IF(Y$31=3,20,0)","v":0},null,{"$f":"IF(AA$31=3,20,0)","v":0},null,{"$f":"IF(AC$31=3,20,0)","v":0},null,{"$f":"IF(AE$31=3,20,0)","v":0},null,{"$f":"IF(AG$31=3,20,0)","v":0},null,{"$f":"IF(AI$31=3,20,0)","v":0}]
[null,null,{"$f":"IF(C$31=2,40,0)","v":0},null,{"$f":"IF(E$31=2,40,0)","v":0},null,{"$f":"IF(G$31=2,40,0)","v":0},null,{"$f":"IF(I$31=2,40,0)","v":0},null,{"$f":"IF(K$31=2,40,0)","v":0},null,{"$f":"IF(M$31=2,40,0)","v":0},null,{"$f":"IF(O$31=2,40,0)","v":0},null,{"$f":"IF(Q$31=2,40,0)","v":0},null,{"$f":"IF(S$31=2,40,0)","v":0},null,{"$f":"IF(U$31=2,40,0)","v":0},null,{"$f":"IF(W$31=2,40,0)","v":0},null,{"$f":"IF(Y$31=2,40,0)","v":0},null,{"$f":"IF(AA$31=2,40,0)","v":0},null,{"$f":"IF(AC$31=2,40,0)","v":0},null,{"$f":"IF(AE$31=2,40,0)","v":0},null,{"$f":"IF(AG$31=2,40,0)","v":0},null,{"$f":"IF(AI$31=2,40,0)","v":0}]
[null,null,{"$f":"IF(C$31=1,80,0)","v":0},null,{"$f":"IF(E$31=1,80,0)","v":0},null,{"$f":"IF(G$31=1,80,0)","v":0},null,{"$f":"IF(I$31=1,80,0)","v":0},null,{"$f":"IF(K$31=1,80,0)","v":0},null,{"$f":"IF(M$31=1,80,0)","v":0},null,{"$f":"IF(O$31=1,80,0)","v":0},null,{"$f":"IF(Q$31=1,80,0)","v":0},null,{"$f":"IF(S$31=1,80,0)","v":0},null,{"$f":"IF(U$31=1,80,0)","v":0},null,{"$f":"IF(W$31=1,80,0)","v":0},null,{"$f":"IF(Y$31=1,80,0)","v":0},null,{"$f":"IF(AA$31=1,80,0)","v":0},null,{"$f":"IF(AC$31=1,80,0)","v":0},null,{"$f":"IF(AE$31=1,80,0)","v":0},null,{"$f":"IF(AG$31=1,80,0)","v":0},null,{"$f":"IF(AI$31=1,80,0)","v":0}]
[null,null,{"$f":"RANK(C32,$C32:$AV32)*C36","v":0},null,{"$f":"RANK(E32,$C32:$AV32)*E36","v":0},null,{"$f":"RANK(G32,$C32:$AV32)*G36","v":0},null,{"$f":"RANK(I32,$C32:$AV32)*I36","v":0},null,{"$f":"RANK(K32,$C32:$AV32)*K36","v":0},null,{"$f":"RANK(M32,$C32:$AV32)*M36","v":0},null,{"$f":"RANK(O32,$C32:$AV32)*O36","v":0},null,{"$f":"RANK(Q32,$C32:$AV32)*Q36","v":0},null,{"$f":"RANK(S32,$C32:$AV32)*S36","v":0},null,{"$f":"RANK(U32,$C32:$AV32)*U36","v":0},null,{"$f":"RANK(W32,$C32:$AV32)*W36","v":0},null,{"$f":"RANK(Y32,$C32:$AV32)*Y36","v":0},null,{"$f":"RANK(AA32,$C32:$AV32)*AA36","v":0},null,{"$f":"RANK(AC32,$C32:$AV32)*AC36","v":0},null,{"$f":"RANK(AE32,$C32:$AV32)*AE36","v":0},null,{"$f":"RANK(AG32,$C32:$AV32)*AG36","v":0},null,{"$f":"RANK(AI32,$C32:$AV32)*AI36","v":0}]
[null,null,{"$f":"SUM(C33:C35)","v":-101000000},null,{"$f":"SUM(E33:E35)","v":-101000000},null,{"$f":"SUM(G33:G35)","v":-101000000},null,{"$f":"SUM(I33:I35)","v":-101000000},null,{"$f":"SUM(K33:K35)","v":-101000000},null,{"$f":"SUM(M33:M35)","v":-101000000},null,{"$f":"SUM(O33:O35)","v":-101000000},null,{"$f":"SUM(Q33:Q35)","v":-101000000},null,{"$f":"SUM(S33:S35)","v":-101000000},null,{"$f":"SUM(U33:U35)","v":-101000000},null,{"$f":"SUM(W33:W35)","v":-101000000},null,{"$f":"SUM(Y33:Y35)","v":-101000000},null,{"$f":"SUM(AA33:AA35)","v":-101000000},null,{"$f":"SUM(AC33:AC35)","v":-101000000},null,{"$f":"SUM(AE33:AE35)","v":-101000000},null,{"$f":"SUM(AG33:AG35)","v":-101000000},null,{"$f":"SUM(AI33:AI35)","v":-101000000}]
[null,null,{"$f":"+D37","v":0},null,{"$f":"+F37","v":0},null,{"$f":"+H37","v":0},null,{"$f":"+J37","v":0},null,{"$f":"+L37","v":0},null,{"$f":"+N37","v":0},null,{"$f":"+P37","v":0},null,{"$f":"+R37","v":0},null,{"$f":"+T37","v":0},null,{"$f":"+V37","v":0},null,{"$f":"+X37","v":0},null,{"$f":"+Z37","v":0},null,{"$f":"+AB37","v":0},null,{"$f":"+AD37","v":0},null,{"$f":"+AF37","v":0},null,{"$f":"+AH37","v":0},null,{"$f":"+AJ37","v":0}]
[null,null,{"$f":"D38*10","v":0},null,{"$f":"F38*10","v":0},null,{"$f":"H38*10","v":0},null,{"$f":"J38*10","v":0},null,{"$f":"L38*10","v":0},null,{"$f":"N38*10","v":0},null,{"$f":"P38*10","v":0},null,{"$f":"R38*10","v":0},null,{"$f":"T38*10","v":0},null,{"$f":"V38*10","v":0},null,{"$f":"X38*10","v":0},null,{"$f":"Z38*10","v":0},null,{"$f":"AB38*10","v":0},null,{"$f":"AD38*10","v":0},null,{"$f":"AF38*10","v":0},null,{"$f":"AH38*10","v":0},null,{"$f":"AJ38*10","v":0}]
[null,null,{"$f":"IF(C36=1,C37*C36*1000+C37,-1000000+C37)","v":-101000000},null,{"$f":"IF(E36=1,E37*E36*1000+E37,-1000000+E37)","v":-101000000},null,{"$f":"IF(G36=1,G37*G36*1000+G37,-1000000+G37)","v":-101000000},null,{"$f":"IF(I36=1,I37*I36*1000+I37,-1000000+I37)","v":-101000000},null,{"$f":"IF(K36=1,K37*K36*1000+K37,-1000000+K37)","v":-101000000},null,{"$f":"IF(M36=1,M37*M36*1000+M37,-1000000+M37)","v":-101000000},null,{"$f":"IF(O36=1,O37*O36*1000+O37,-1000000+O37)","v":-101000000},null,{"$f":"IF(Q36=1,Q37*Q36*1000+Q37,-1000000+Q37)","v":-101000000},null,{"$f":"IF(S36=1,S37*S36*1000+S37,-1000000+S37)","v":-101000000},null,{"$f":"IF(U36=1,U37*U36*1000+U37,-1000000+U37)","v":-101000000},null,{"$f":"IF(W36=1,W37*W36*1000+W37,-1000000+W37)","v":-101000000},null,{"$f":"IF(Y36=1,Y37*Y36*1000+Y37,-1000000+Y37)","v":-101000000},null,{"$f":"IF(AA36=1,AA37*AA36*1000+AA37,-1000000+AA37)","v":-101000000},null,{"$f":"IF(AC36=1,AC37*AC36*1000+AC37,-1000000+AC37)","v":-101000000},null,{"$f":"IF(AE36=1,AE37*AE36*1000+AE37,-1000000+AE37)","v":-101000000},null,{"$f":"IF(AG36=1,AG37*AG36*1000+AG37,-1000000+AG37)","v":-101000000},null,{"$f":"IF(AI36=1,AI37*AI36*1000+AI37,-1000000+AI37)","v":-101000000}]
["Classificats",{"$f":"SUM(C36:AI36)","v":0},{"$f":"IF(D37>=$A3/2,1,0)","v":0},null,{"$f":"IF(F37>=$A3/2,1,0)","v":0},null,{"$f":"IF(H37>=$A3/2,1,0)","v":0},null,{"$f":"IF(J37>=$A3/2,1,0)","v":0},null,{"$f":"IF(L37>=$A3/2,1,0)","v":0},null,{"$f":"IF(N37>=$A3/2,1,0)","v":0},null,{"$f":"IF(P37>=$A3/2,1,0)","v":0},null,{"$f":"IF(R37>=$A3/2,1,0)","v":0},null,{"$f":"IF(T37>=$A3/2,1,0)","v":0},null,{"$f":"IF(V37>=$A3/2,1,0)","v":0},null,{"$f":"IF(X37>=$A3/2,1,0)","v":0},null,{"$f":"IF(Z37>=$A3/2,1,0)","v":0},null,{"$f":"IF(AB37>=$A3/2,1,0)","v":0},null,{"$f":"IF(AD37>=$A3/2,1,0)","v":0},null,{"$f":"IF(AF37>=$A3/2,1,0)","v":0},null,{"$f":"IF(AH37>=$A3/2,1,0)","v":0},null,{"$f":"IF(AJ37>=$A3/2,1,0)","v":0}]
[null,null,{"$f":"IF(SUM(C42:C192)<-1000,-100000000,SUM(C42:C192))","v":-100000000},{"$f":"COUNT(D42:D192)","v":0},{"$f":"IF(SUM(E42:E192)<-1000,-100000000,SUM(E42:E192))","v":-100000000},{"$f":"COUNT(F42:F192)","v":0},{"$f":"IF(SUM(G42:G192)<-1000,-100000000,SUM(G42:G192))","v":-100000000},{"$f":"COUNT(H42:H192)","v":0},{"$f":"IF(SUM(I42:I192)<-1000,-100000000,SUM(I42:I192))","v":-100000000},{"$f":"COUNT(J42:J192)","v":0},{"$f":"IF(SUM(K42:K192)<-1000,-100000000,SUM(K42:K192))","v":-100000000},{"$f":"COUNT(L42:L192)","v":0},{"$f":"IF(SUM(M42:M192)<-1000,-100000000,SUM(M42:M192))","v":-100000000},{"$f":"COUNT(N42:N192)","v":0},{"$f":"IF(SUM(O42:O192)<-1000,-100000000,SUM(O42:O192))","v":-100000000},{"$f":"COUNT(P42:P192)","v":0},{"$f":"IF(SUM(Q42:Q192)<-1000,-100000000,SUM(Q42:Q192))","v":-100000000},{"$f":"COUNT(R42:R192)","v":0},{"$f":"IF(SUM(S42:S192)<-1000,-100000000,SUM(S42:S192))","v":-100000000},{"$f":"COUNT(T42:T192)","v":0},{"$f":"IF(SUM(U42:U192)<-1000,-100000000,SUM(U42:U192))","v":-100000000},{"$f":"COUNT(V42:V192)","v":0},{"$f":"IF(SUM(W42:W192)<-1000,-100000000,SUM(W42:W192))","v":-100000000},{"$f":"COUNT(X42:X192)","v":0},{"$f":"IF(SUM(Y42:Y192)<-1000,-100000000,SUM(Y42:Y192))","v":-100000000},{"$f":"COUNT(Z42:Z192)","v":0},{"$f":"IF(SUM(AA42:AA192)<-1000,-100000000,SUM(AA42:AA192))","v":-100000000},{"$f":"COUNT(AB42:AB192)","v":0},{"$f":"IF(SUM(AC42:AC192)<-1000,-100000000,SUM(AC42:AC192))","v":-100000000},{"$f":"COUNT(AD42:AD192)","v":0},{"$f":"IF(SUM(AE42:AE192)<-1000,-100000000,SUM(AE42:AE192))","v":-100000000},{"$f":"COUNT(AF42:AF192)","v":0},{"$f":"IF(SUM(AG42:AG192)<-1000,-100000000,SUM(AG42:AG192))","v":-100000000},{"$f":"COUNT(AH42:AH192)","v":0},{"$f":"IF(SUM(AI42:AI192)<-1000,-100000000,SUM(AI42:AI192))","v":-100000000},{"$f":"COUNT(AJ42:AJ192)","v":0}]
[null,null,{"$f":"SUM(C42:C86)","v":-10000000},0,-10000000,0,-10000000,0,-10000000,0,-10000000,0,-10000000,0,-10000000,0,-10000000,0,-10000000,0,-10000000,0,-10000000,0,-10000000,0,{"$f":"SUM(AA42:AA86)","v":-10000000},0,-10000000,0,{"$f":"SUM(AE42:AE86)","v":-10000000},{"$f":"SUM(AF42:AF86)","v":0},-10000000,0,-10000000,0]
[null,null,null,null,null,null,null,null,null,null,null,null,null,null,null,null,null,null,null,null,null,null,null,null,null,null,null,null,null,null,null,null,null,null,null,null,{"$f":"MAX(AL42:AL101)","v":0}]
[null,"Nº partida ","Manel",null,"Katy",null,"Jordi",null,"MªJosé",null,"Montiel",null,"Sergi",null,"Carles",null,"Mariajo",null,"Iglesias",null,"Martín",null,"Xavi",null,"Mercè",null,"Ester",null,"Goretti",null,"Geli",null,"Jorge",null,"Grau",null,{"$f":"COUNT(AK42:AK107)","v":0},"A","B","C"]
[null,null,"Premi","Punts","Premi","Punts","Premi","Punts","Premi","Punts","Premi","Punts","Premi","Punts","Premi","Punts","Premi","Punts","Premi","Punts","Premi","Punts","Premi","Punts","Premi","Punts","Premi","Punts","Premi","Punts","Premi","Punts","Premi","Punts",null,null,"Data","Timbes"]
[1,null,-10000000,null,-10000000,null,-10000000,null,-10000000,null,-10000000,null,-10000000,null,-10000000,null,-10000000,null,-10000000,null,-10000000,null,-10000000,null,-10000000,null,-10000000,null,-10000000,null,-10000000,null,-10000000,null,-10000000,null,null,null,{"$f":"+C42+E42+G42+I42++K42++M42+O42+Q42+S42+U42+AA42+AC42+AG42+W42+Y42+AI42+AE42","v":-170000000},{"$f":"+D42+F42+H42+J42++L42++N42+P42+R42+T42+V42+X42+Z42+AJ42+AB42+AD42+AH42","v":0},{"$f":"COUNT(C42:AJ42)/2","v":8.5},{"$f":"+AM42/AO42","v":-20000000}]
[{"$f":"+A42+1","v":2},null,null,null,null,null,null,null,null,null,null,null,null,null,null,null,null,null,null,null,null,null,null,null,null,null,null,null,null,null,null,null,null,null,null,null,null,null,0,{"$f":"+D43+F43+H43+J43++L43++N43+P43+R43+T43+V43+X43+Z43+AJ43+AB43+AD43+AH43","v":0},{"$f":"COUNT(C43:AJ43)/2","v":0},{"$f":"+AM43/AO43","v":{"$error":"#DIV/0!"}},"Pot de 1 fitxa"]
[{"$f":"+A43+1","v":3},null,null,null,null,null,null,null,null,null,null,null,null,null,null,null,null,null,null,null,null,null,null,null,null,null,null,null,null,null,null,null,null,null,null,null,null,null,0,{"$f":"+D44+F44+H44+J44++L44++N44+P44+R44+T44+V44+X44+Z44+AJ44+AB44+AD44+AH44","v":0},0,{"$error":"#DIV/0!"}]
[4,null,null,null,null,null,null,null,null,null,null,null,null,null,null,null,null,null,null,null,null,null,null,null,null,null,null,null,null,null,null,null,null,null,null,null,null,null,0,{"$f":"+D45+F45+H45+J45++L45++N45+P45+R45+T45+V45+X45+Z45+AJ45+AB45+AD45+AH45","v":0},0,{"$error":"#DIV/0!"}]
[5,null,null,null,null,null,null,null,null,null,null,null,null,null,null,null,null,null,null,null,null,null,null,null,null,null,null,null,null,null,null,null,null,null,null,null,null,null,0,{"$f":"+D46+F46+H46+J46++L46++N46+P46+R46+T46+V46+X46+Z46+AJ46+AB46+AD46+AH46+AF46","v":0},0,{"$error":"#DIV/0!"}]
[6,null,null,null,null,null,null,null,null,null,null,null,null,null,null,null,null,null,null,null,null,null,null,null,null,null,null,null,null,null,null,null,null,null,null,null,null,null,0,{"$f":"+D47+F47+H47+J47++L47++N47+P47+R47+T47+V47+X47+Z47+AJ47+AB47+AD47+AH47","v":0},0,{"$error":"#DIV/0!"}]
[7,null,null,null,null,null,null,null,null,null,null,null,null,null,null,null,null,null,null,null,null,null,null,null,null,null,null,null,null,null,null,null,null,null,null,null,null,null,0,0,0,{"$error":"#DIV/0!"}]
[8,null,null,null,null,null,null,null,null,null,null,null,null,null,null,null,null,null,null,null,null,null,null,null,null,null,null,null,null,null,null,null,null,null,null,null,null,null,0,0,0,{"$error":"#DIV/0!"}]
[9,null,null,null,null,null,null,null,null,null,null,null,null,null,null,null,null,null,null,null,null,null,null,null,null,null,null,null,null,null,null,null,null,null,null,null,null,null,0,0,0,{"$error":"#DIV/0!"}]
[10,null,null,null,null,null,null,null,null,null,null,null,null,null,null,null,null,null,null,null,null,null,null,null,null,null,null,null,null,null,null,null,null,null,null,null,null,null,0,0,0,{"$error":"#DIV/0!"}]
[11,null,null,null,null,null,null,null,null,null,null,null,null,null,null,null,null,null,null,null,null,null,null,null,null,null,null,null,null,null,null,null,null,null,null,null,null,null,0,0,0,{"$error":"#DIV/0!"}]
[12,null,null,null,null,null,null,null,null,null,null,null,null,null,null,null,null,null,null,null,null,null,null,null,null,null,null,null,null,null,null,null,null,null,null,null,null,null,0,0,0,{"$error":"#DIV/0!"}]
[13,null,null,null,null,null,null,null,null,null,null,null,null,null,null,null,null,null,null,null,null,null,null,null,null,null,null,null,null,null,null,null,null,null,null,null,null,null,0,0,0,{"$error":"#DIV/0!"}]
[14,null,null,null,null,null,null,null,null,null,null,null,null,null,null,null,null,null,null,null,null,null,null,null,null,null,null,null,null,null,null,null,null,null,null,null,null,null,0,0,0,{"$error":"#DIV/0!"}]
[15,null,null,null,null,null,null,null,null,null,null,null,null,null,null,null,null,null,null,null,null,null,null,null,null,null,null,null,null,null,null,null,null,null,null,null,null,null,0,0,{"$f":"COUNT(C56:AJ56)/2","v":0},{"$f":"+AM56/AO56","v":{"$error":"#DIV/0!"}}]
[16,null,null,null,null,null,null,null,null,null,null,null,null,null,null,null,null,null,null,null,null,null,null,null,null,null,null,null,null,null,null,null,null,null,null,null,null,null,0,0,{"$f":"COUNT(C57:AJ57)/2","v":0},{"$f":"+AM57/AO57","v":{"$error":"#DIV/0!"}}]
[17,null,null,null,null,null,null,null,null,null,null,null,null,null,null,null,null,null,null,null,null,null,null,null,null,null,null,null,null,null,null,null,null,null,null,null,null,null,0,0,{"$f":"COUNT(C58:AJ58)/2","v":0},{"$f":"+AM58/AO58","v":{"$error":"#DIV/0!"}}]
[18]
[19]
[20]
[21]
[22]
[23]
[24]
[25]
[26]
[27]
[28]
[29]
[30]
[31]
[32]
[33]
[34]
[35]
[36]
[37]
[38]
[39]
[40]
[41]
[42]
[43]
[44]
[45]

{"sheet":"Black Jack","index":16,"n_rows":61,"n_cols":36,"rows_kept":61,"cut":false,"hidden":false,"merged":[[38,26,38,27],[38,28,38,29],[38,18,38,19],[38,20,38,21],[38,22,38,23],[38,24,38,25],[38,10,38,11],[38,12,38,13],[38,14,38,15],[38,16,38,17],[38,2,38,3],[38,4,38,5],[38,6,38,7],[38,8,38,9]]}
["BLACK JACK"]
["Mes"]
[{"$f":"+GENERAL!B6","v":12},null,{"$f":"SUM(C5:C7)","v":-300000000}]
[null,null,"Premi","Punts","Partides","General"]
[1,"Jordi",{"$f":"+G$36","v":-100000000},{"$f":"+H$37","v":0},{"$f":"+H$36","v":0},{"$f":"+G$22","v":0},{"$f":"IF(E5<A$3/2,-1,1)*80+C5","v":-100000080}]
[2,"Carles",{"$f":"+O$36","v":-100000000},{"$f":"+P$37","v":0},{"$f":"+P$36","v":0},{"$f":"+O$22","v":0},{"$f":"IF(E6<A$3/2,-1,1)*80+C6","v":-100000080}]
[3,"Manel",{"$f":"+E$36","v":-100000000},{"$f":"+F$37","v":0},{"$f":"+F$36","v":0},{"$f":"+E$22","v":0},{"$f":"IF(E7<A$3/2,-1,1)*80+C7","v":-100000080}]
[4,"Mercè",{"$f":"+Y$36","v":-100000000},{"$f":"+Z$37","v":0},{"$f":"+Z$36","v":0},{"$f":"+Y$22","v":0},{"$f":"IF(E8<A$3/2,-1,1)*80+C8","v":-100000080}]
[5,"Mariajo",{"$f":"+Q$36","v":-100000000},{"$f":"+R$37","v":0},{"$f":"+R$36","v":0},{"$f":"+Q$22","v":0},-100000080]
[6,"Sergi",{"$f":"+M$36","v":-100000000},{"$f":"+N$37","v":0},{"$f":"+N$36","v":0},{"$f":"+M$22","v":0},-100000080]
[7,"Marga",{"$f":"+AC$36","v":-100000000},{"$f":"+AD$37","v":0},{"$f":"+AD$36","v":0},{"$f":"+AC$22","v":0},-100000080]
[8,"MªJosé",{"$f":"+I$36","v":-100000000},{"$f":"+J$37","v":0},{"$f":"+J$36","v":0},{"$f":"+I$22","v":0},-100000080]
[9,"Goretti",{"$f":"+K$36","v":-100000000},{"$f":"+L$37","v":0},{"$f":"+L$36","v":0},{"$f":"+K$22","v":0},-100000080]
[10,"Xavi",{"$f":"+W$36","v":-100000000},{"$f":"+X$37","v":0},{"$f":"+X$36","v":0},{"$f":"+W$22","v":0},-100000080]
[11,"Isabel",{"$f":"+AA$36","v":-100000000},{"$f":"+AB$37","v":0},{"$f":"+AB$36","v":0},{"$f":"+AA$22","v":0},-100000080]
[12,"Iglesias",{"$f":"+S$36","v":-100000000},{"$f":"+T$37","v":0},{"$f":"+T$36","v":0},{"$f":"+S$22","v":0},-100000080]
[13,"Pablo",{"$f":"+C$36","v":-100000000},{"$f":"+D$37","v":0},{"$f":"+D$36","v":0},{"$f":"+C$22","v":0},-100000080]
[14,"Sylvain",{"$f":"+U$36","v":-100000000},{"$f":"+V$37","v":0},{"$f":"+V$36","v":0},{"$f":"+U$22","v":0},-100000080]
[]
[]
[]
[null,"General",{"$f":"+C23*C24","v":0},{"$f":"+D23*D24","v":0},0,0,0,0,0,0,0,0,0,0,0,0,0,0,0,0,0,0,0,0,0,0,{"$f":"+AA23*AA24","v":0},{"$f":"+AB23*AB24","v":0},0,0]
[null,null,{"$f":"IF($B35>3,1,0)","v":0},{"$f":"IF($B35>3,1,0)","v":0},0,0,0,0,0,0,0,0,0,0,0,0,0,0,0,0,0,0,0,0,0,0,{"$f":"IF($B35>3,1,0)","v":0},{"$f":"IF($B35>3,1,0)","v":0},0,0]
[null,null,{"$f":"MAX(C25:C29)","v":0},{"$f":"+D36","v":0},{"$f":"MAX(E25:E29)","v":0},{"$f":"+F36","v":0},{"$f":"MAX(G25:G29)","v":0},{"$f":"+H36","v":0},{"$f":"MAX(I25:I29)","v":0},{"$f":"+J36","v":0},{"$f":"MAX(K25:K29)","v":0},{"$f":"+L36","v":0},{"$f":"MAX(M25:M29)","v":0},{"$f":"+N36","v":0},{"$f":"MAX(O25:O29)","v":0},{"$f":"+P36","v":0},{"$f":"MAX(Q25:Q29)","v":0},{"$f":"+R36","v":0},{"$f":"MAX(S25:S29)","v":0},{"$f":"+T36","v":0},{"$f":"MAX(U25:U29)","v":0},{"$f":"+V36","v":0},{"$f":"MAX(W25:W29)","v":0},{"$f":"+X36","v":0},{"$f":"MAX(Y25:Y29)","v":0},{"$f":"+Z36","v":0},{"$f":"MAX(AA25:AA29)","v":0},{"$f":"+AB36","v":0},{"$f":"MAX(AC25:AC29)","v":0},{"$f":"+AD36","v":0}]
[null,null,{"$f":"IF(C$30=5,5,0)","v":0},null,{"$f":"IF(E$30=5,5,0)","v":0},null,{"$f":"IF(G$30=5,5,0)","v":0},null,{"$f":"IF(I$30=5,5,0)","v":0},null,{"$f":"IF(K$30=5,5,0)","v":0},null,{"$f":"IF(M$30=5,5,0)","v":0},null,{"$f":"IF(O$30=5,5,0)","v":0},null,{"$f":"IF(Q$30=5,5,0)","v":0},null,{"$f":"IF(S$30=5,5,0)","v":0},null,{"$f":"IF(U$30=5,5,0)","v":0},null,{"$f":"IF(W$30=5,5,0)","v":0},null,{"$f":"IF(Y$30=5,5,0)","v":0},null,{"$f":"IF(AA$30=5,5,0)","v":0},null,{"$f":"IF(AC$30=5,5,0)","v":0}]
[null,null,{"$f":"IF(C$30=4,10,0)","v":0},null,{"$f":"IF(E$30=4,10,0)","v":0},null,{"$f":"IF(G$30=4,10,0)","v":0},null,{"$f":"IF(I$30=4,10,0)","v":0},null,{"$f":"IF(K$30=4,10,0)","v":0},null,{"$f":"IF(M$30=4,10,0)","v":0},null,{"$f":"IF(O$30=4,10,0)","v":0},null,{"$f":"IF(Q$30=4,10,0)","v":0},null,{"$f":"IF(S$30=4,10,0)","v":0},null,{"$f":"IF(U$30=4,10,0)","v":0},null,{"$f":"IF(W$30=4,10,0)","v":0},null,{"$f":"IF(Y$30=4,10,0)","v":0},null,{"$f":"IF(AA$30=4,10,0)","v":0},null,{"$f":"IF(AC$30=4,10,0)","v":0}]
[null,null,{"$f":"IF(C$30=3,20,0)","v":0},null,{"$f":"IF(E$30=3,20,0)","v":0},null,{"$f":"IF(G$30=3,20,0)","v":0},null,{"$f":"IF(I$30=3,20,0)","v":0},null,{"$f":"IF(K$30=3,20,0)","v":0},null,{"$f":"IF(M$30=3,20,0)","v":0},null,{"$f":"IF(O$30=3,20,0)","v":0},null,{"$f":"IF(Q$30=3,20,0)","v":0},null,{"$f":"IF(S$30=3,20,0)","v":0},null,{"$f":"IF(U$30=3,20,0)","v":0},null,{"$f":"IF(W$30=3,20,0)","v":0},null,{"$f":"IF(Y$30=3,20,0)","v":0},null,{"$f":"IF(AA$30=3,20,0)","v":0},null,{"$f":"IF(AC$30=3,20,0)","v":0}]
[null,null,{"$f":"IF(C$30=2,40,0)","v":0},null,{"$f":"IF(E$30=2,40,0)","v":0},null,{"$f":"IF(G$30=2,40,0)","v":0},null,{"$f":"IF(I$30=2,40,0)","v":0},null,{"$f":"IF(K$30=2,40,0)","v":0},null,{"$f":"IF(M$30=2,40,0)","v":0},null,{"$f":"IF(O$30=2,40,0)","v":0},null,{"$f":"IF(Q$30=2,40,0)","v":0},null,{"$f":"IF(S$30=2,40,0)","v":0},null,{"$f":"IF(U$30=2,40,0)","v":0},null,{"$f":"IF(W$30=2,40,0)","v":0},null,{"$f":"IF(Y$30=2,40,0)","v":0},null,{"$f":"IF(AA$30=2,40,0)","v":0},null,{"$f":"IF(AC$30=2,40,0)","v":0}]
[null,null,{"$f":"IF(C$30=1,80,0)","v":0},null,{"$f":"IF(E$30=1,80,0)","v":0},null,{"$f":"IF(G$30=1,80,0)","v":0},null,{"$f":"IF(I$30=1,80,0)","v":0},null,{"$f":"IF(K$30=1,80,0)","v":0},null,{"$f":"IF(M$30=1,80,0)","v":0},null,{"$f":"IF(O$30=1,80,0)","v":0},null,{"$f":"IF(Q$30=1,80,0)","v":0},null,{"$f":"IF(S$30=1,80,0)","v":0},null,{"$f":"IF(U$30=1,80,0)","v":0},null,{"$f":"IF(W$30=1,80,0)","v":0},null,{"$f":"IF(Y$30=1,80,0)","v":0},null,{"$f":"IF(AA$30=1,80,0)","v":0},null,{"$f":"IF(AC$30=1,80,0)","v":0}]
[null,null,{"$f":"RANK(C31,$C31:$AP31)*C35","v":0},null,{"$f":"RANK(E31,$C31:$AP31)*E35","v":0},null,{"$f":"RANK(G31,$C31:$AP31)*G35","v":0},null,{"$f":"RANK(I31,$C31:$AP31)*I35","v":0},null,{"$f":"RANK(K31,$C31:$AP31)*K35","v":0},null,{"$f":"RANK(M31,$C31:$AP31)*M35","v":0},null,{"$f":"RANK(O31,$C31:$AP31)*O35","v":0},null,{"$f":"RANK(Q31,$C31:$AP31)*Q35","v":0},null,{"$f":"RANK(S31,$C31:$AP31)*S35","v":0},null,{"$f":"RANK(U31,$C31:$AP31)*U35","v":0},null,{"$f":"RANK(W31,$C31:$AP31)*W35","v":0},null,{"$f":"RANK(Y31,$C31:$AP31)*Y35","v":0},null,{"$f":"RANK(AA31,$C31:$AP31)*AA35","v":0},null,{"$f":"RANK(AC31,$C31:$AP31)*AC35","v":0}]
[null,null,{"$f":"SUM(C32:C34)","v":-101000000},null,{"$f":"SUM(E32:E34)","v":-101000000},null,{"$f":"SUM(G32:G34)","v":-101000000},null,{"$f":"SUM(I32:I34)","v":-101000000},null,{"$f":"SUM(K32:K34)","v":-101000000},null,{"$f":"SUM(M32:M34)","v":-101000000},null,{"$f":"SUM(O32:O34)","v":-101000000},null,{"$f":"SUM(Q32:Q34)","v":-101000000},null,{"$f":"SUM(S32:S34)","v":-101000000},null,{"$f":"SUM(U32:U34)","v":-101000000},null,{"$f":"SUM(W32:W34)","v":-101000000},null,{"$f":"SUM(Y32:Y34)","v":-101000000},null,{"$f":"SUM(AA32:AA34)","v":-101000000},null,{"$f":"SUM(AC32:AC34)","v":-101000000}]
[null,null,{"$f":"+D36","v":0},null,{"$f":"+F36","v":0},null,{"$f":"+H36","v":0},null,{"$f":"+J36","v":0},null,{"$f":"+L36","v":0},null,{"$f":"+N36","v":0},null,{"$f":"+P36","v":0},null,{"$f":"+R36","v":0},null,{"$f":"+T36","v":0},null,{"$f":"+V36","v":0},null,{"$f":"+X36","v":0},null,{"$f":"+Z36","v":0},null,{"$f":"+AB36","v":0},null,{"$f":"+AD36","v":0}]
[null,null,{"$f":"D37*10","v":0},null,{"$f":"F37*10","v":0},null,{"$f":"H37*10","v":0},null,{"$f":"J37*10","v":0},null,{"$f":"L37*10","v":0},null,{"$f":"N37*10","v":0},null,{"$f":"P37*10","v":0},null,{"$f":"R37*10","v":0},null,{"$f":"T37*10","v":0},null,{"$f":"V37*10","v":0},null,{"$f":"X37*10","v":0},null,{"$f":"Z37*10","v":0},null,{"$f":"AB37*10","v":0},null,{"$f":"AD37*10","v":0}]
[null,null,{"$f":"IF(C35=1,C36*C35*1000+C36,-1000000+C36)","v":-101000000},null,{"$f":"IF(E35=1,E36*E35*1000+E36,-1000000+E36)","v":-101000000},null,{"$f":"IF(G35=1,G36*G35*1000+G36,-1000000+G36)","v":-101000000},null,{"$f":"IF(I35=1,I36*I35*1000+I36,-1000000+I36)","v":-101000000},null,{"$f":"IF(K35=1,K36*K35*1000+K36,-1000000+K36)","v":-101000000},null,{"$f":"IF(M35=1,M36*M35*1000+M36,-1000000+M36)","v":-101000000},null,{"$f":"IF(O35=1,O36*O35*1000+O36,-1000000+O36)","v":-101000000},null,{"$f":"IF(Q35=1,Q36*Q35*1000+Q36,-1000000+Q36)","v":-101000000},null,{"$f":"IF(S35=1,S36*S35*1000+S36,-1000000+S36)","v":-101000000},null,{"$f":"IF(U35=1,U36*U35*1000+U36,-1000000+U36)","v":-101000000},null,{"$f":"IF(W35=1,W36*W35*1000+W36,-1000000+W36)","v":-101000000},null,{"$f":"IF(Y35=1,Y36*Y35*1000+Y36,-1000000+Y36)","v":-101000000},null,{"$f":"IF(AA35=1,AA36*AA35*1000+AA36,-1000000+AA36)","v":-101000000},null,{"$f":"IF(AC35=1,AC36*AC35*1000+AC36,-1000000+AC36)","v":-101000000}]
["Classificats",{"$f":"SUM(C35:AC35)","v":0},{"$f":"IF(D36>=$A3/2,1,0)","v":0},null,{"$f":"IF(F36>=$A3/2,1,0)","v":0},null,{"$f":"IF(H36>=$A3/2,1,0)","v":0},null,{"$f":"IF(J36>=$A3/2,1,0)","v":0},null,{"$f":"IF(L36>=$A3/2,1,0)","v":0},null,{"$f":"IF(N36>=$A3/2,1,0)","v":0},null,{"$f":"IF(P36>=$A3/2,1,0)","v":0},null,{"$f":"IF(R36>=$A3/2,1,0)","v":0},null,{"$f":"IF(T36>=$A3/2,1,0)","v":0},null,{"$f":"IF(V36>=$A3/2,1,0)","v":0},null,{"$f":"IF(X36>=$A3/2,1,0)","v":0},null,{"$f":"IF(Z36>=$A3/2,1,0)","v":0},null,{"$f":"IF(AB36>=$A3/2,1,0)","v":0},null,{"$f":"IF(AD36>=$A3/2,1,0)","v":0},null,{"$f":"MAX(AF38:AF97)","v":0}]
[null,null,{"$f":"IF(SUM(C41:C279)<-1000,-100000000,SUM(C41:C279))","v":-100000000},{"$f":"COUNT(D41:D279)","v":0},{"$f":"IF(SUM(E41:E279)<-1000,-100000000,SUM(E41:E279))","v":-100000000},{"$f":"COUNT(F41:F279)","v":0},{"$f":"IF(SUM(G41:G279)<-1000,-100000000,SUM(G41:G279))","v":-100000000},{"$f":"COUNT(H41:H279)","v":0},{"$f":"IF(SUM(I41:I279)<-1000,-100000000,SUM(I41:I279))","v":-100000000},{"$f":"COUNT(J41:J279)","v":0},{"$f":"IF(SUM(K41:K279)<-1000,-100000000,SUM(K41:K279))","v":-100000000},{"$f":"COUNT(L41:L279)","v":0},{"$f":"IF(SUM(M41:M279)<-1000,-100000000,SUM(M41:M279))","v":-100000000},{"$f":"COUNT(N41:N279)","v":0},{"$f":"IF(SUM(O41:O279)<-1000,-100000000,SUM(O41:O279))","v":-100000000},{"$f":"COUNT(P41:P279)","v":0},{"$f":"IF(SUM(Q41:Q279)<-1000,-100000000,SUM(Q41:Q279))","v":-100000000},{"$f":"COUNT(R41:R279)","v":0},{"$f":"IF(SUM(S41:S279)<-1000,-100000000,SUM(S41:S279))","v":-100000000},{"$f":"COUNT(T41:T279)","v":0},{"$f":"IF(SUM(U41:U279)<-1000,-100000000,SUM(U41:U279))","v":-100000000},{"$f":"COUNT(V41:V279)","v":0},{"$f":"IF(SUM(W41:W279)<-1000,-100000000,SUM(W41:W279))","v":-100000000},{"$f":"COUNT(X41:X279)","v":0},{"$f":"IF(SUM(Y41:Y279)<-1000,-100000000,SUM(Y41:Y279))","v":-100000000},{"$f":"COUNT(Z41:Z279)","v":0},{"$f":"IF(SUM(AA41:AA279)<-1000,-100000000,SUM(AA41:AA279))","v":-100000000},{"$f":"COUNT(AB41:AB279)","v":0},{"$f":"IF(SUM(AC41:AC279)<-1000,-100000000,SUM(AC41:AC279))","v":-100000000},{"$f":"COUNT(AD41:AD279)","v":0}]
[null,null,{"$f":"SUM(C41:C173)","v":-100000000},0,-100000000,0,-100000000,0,-100000000,0,-100000000,0,-100000000,0,-100000000,0,-100000000,0,-100000000,0,-100000000,0,-100000000,0,-100000000,0,{"$f":"SUM(AA41:AA173)","v":-100000000},{"$f":"SUM(AB41:AB173)","v":0},-100000000,0]
[]
[null,"Nº partida ","Pablo",null,"Manel",null,"Jordi",null,"MªJosé",null,"Goretti",null,"Sergi",null,"Carles",null,"Mariajo",null,"Iglesias",null,"Martín",null,"Xavi",null,"Mercè",null,"Isabel",null,"Marga",null,{"$f":"COUNT(AE41:AE194)","v":0},"A","B","C"]
[null,null,"Premi","Punts","Premi","Punts","Premi","Punts","Premi","Punts","Premi","Punts","Premi","Punts","Premi","Punts","Premi","Punts","Premi","Punts","Premi","Punts","Premi","Punts","Premi","Punts","Premi","Punts",null,null,"Data","Timbes"]
[1,null,-100000000,null,-100000000,null,-100000000,null,-100000000,null,-100000000,null,-100000000,null,-100000000,null,-100000000,null,-100000000,null,-100000000,null,-100000000,null,-100000000,null,-100000000,null,-100000000,null,null,null,{"$f":"+C41+E41+G41+I41++K41++M41+O41+Q41+S41+U41+W41+Y41+AC41+AA41","v":-1400000000},0,{"$f":"COUNT(C41:AD41)/2","v":7},{"$f":"+AG41/AI41","v":-200000000}]
[{"$f":"+A41+1","v":2},null,null,null,null,null,null,null,null,null,null,null,null,null,null,null,null,null,null,null,null,null,null,null,null,null,null,null,null,null,null,null,0,0,{"$f":"COUNT(C42:AD42)/2","v":0},{"$f":"+AG42/AI42","v":{"$error":"#DIV/0!"}}]
[{"$f":"+A42+1","v":3},null,null,null,null,null,null,null,null,null,null,null,null,null,null,null,null,null,null,null,null,null,null,null,null,null,null,null,null,null,null,null,0,0,{"$f":"COUNT(C43:AD43)/2","v":0},{"$f":"+AG43/AI43","v":{"$error":"#DIV/0!"}}]
[4]
[5]
[6]
[7]
[8]
[9]
[10]
[11]
[12]
[13]
[14]
[15]
[16]
[17]
[18]
[19]
[20]
[21]

{"sheet":"Omaha","index":17,"n_rows":70,"n_cols":38,"rows_kept":70,"cut":false,"hidden":false,"merged":[[38,2,38,3],[38,4,38,5],[38,6,38,7],[38,8,38,9],[38,10,38,11],[38,12,38,13],[38,14,38,15],[38,16,38,17],[38,30,38,31],[38,28,38,29],[38,18,38,19],[38,20,38,21],[38,22,38,23],[38,24,38,25],[38,26,38,27]]}
["POKER OMAHA"]
["Mes"]
[{"$f":"+GENERAL!B6","v":12},null,{"$f":"SUM(C5:C13)","v":-900000000}]
[null,null,"Premi","Punts","Partides","General"]
[1,"Carles",{"$f":"+O$36","v":-100000000},{"$f":"+P$37","v":0},{"$f":"+P$36","v":0},{"$f":"+O$22","v":0},{"$f":"IF(E5<A$3/2,-1,1)*80+C5","v":-100000080}]
[2,"Goretti",{"$f":"+AC$36","v":-100000000},{"$f":"+AD$37","v":0},{"$f":"+AD$36","v":0},{"$f":"+AC$22","v":0},-100000080]
[3,"Grau",{"$f":"+S$36","v":-100000000},{"$f":"+T$37","v":0},{"$f":"+T$36","v":0},{"$f":"+S$22","v":0},-100000080]
[4,"Mercè",{"$f":"+Y$36","v":-100000000},{"$f":"+Z$37","v":0},{"$f":"+Z$36","v":0},{"$f":"+Y$22","v":0},-100000080]
[5,"Sergi",{"$f":"+M$36","v":-100000000},{"$f":"+N$37","v":0},{"$f":"+N$36","v":0},{"$f":"+M$22","v":0},-100000080]
[6,"Jordi",{"$f":"+G$36","v":-100000000},{"$f":"+H$37","v":0},{"$f":"+H$36","v":0},{"$f":"+G$22","v":0},-100000080]
[7,"Katy",{"$f":"+E$36","v":-100000000},{"$f":"+F$37","v":0},{"$f":"+F$36","v":0},{"$f":"+E$22","v":0},-100000080]
[8,"Mariajo",{"$f":"+Q$36","v":-100000000},{"$f":"+R$37","v":0},{"$f":"+R$36","v":0},{"$f":"+Q$22","v":0},-100000080]
[9,"Manolo",{"$f":"AA$36","v":-100000000},{"$f":"+AB$37","v":0},{"$f":"+AB$36","v":0},{"$f":"+AA$22","v":0},-100000080]
[10,"Joan Carles",{"$f":"+U$36","v":-100000000},{"$f":"+V$37","v":0},{"$f":"+V$36","v":0},{"$f":"+U$22","v":0},-100000080]
[11,"Jorge",{"$f":"+C$36","v":-100000000},{"$f":"+D$37","v":0},{"$f":"+D$36","v":0},{"$f":"+C$22","v":0},-100000080]
[12,"Alícia",{"$f":"+AE$36","v":-100000000},{"$f":"+AF$37","v":0},{"$f":"+AF$36","v":0},{"$f":"+AE$22","v":0},-100000080]
[13,"Xavi",{"$f":"+W$36","v":-100000000},{"$f":"+X$37","v":0},{"$f":"+X$36","v":0},{"$f":"+W$22","v":0},-100000080]
[14,"MªJosé",{"$f":"+I$36","v":0},{"$f":"+J$37","v":0},{"$f":"+J$36","v":0},{"$f":"+I$22","v":0},-80]
[15,"Pol",{"$f":"+K$36","v":0},{"$f":"+L$37","v":0},{"$f":"+L$36","v":0},{"$f":"+K$22","v":0},-80]
[]
[]
[null,"General",{"$f":"+C23*C24","v":0},{"$f":"+D23*D24","v":0},0,0,0,0,0,0,0,0,0,0,0,0,0,0,0,0,0,0,0,0,0,0,{"$f":"+AA23*AA24","v":0},{"$f":"+AB23*AB24","v":0},{"$f":"+AC23*AC24","v":0},{"$f":"+AD23*AD24","v":0},0,0]
[null,null,{"$f":"IF($B35>3,1,0)","v":0},{"$f":"IF($B35>3,1,0)","v":0},0,0,0,0,0,0,0,0,0,0,0,0,0,0,0,0,0,0,0,0,0,0,{"$f":"IF($B35>3,1,0)","v":0},{"$f":"IF($B35>3,1,0)","v":0},{"$f":"IF($B35>3,1,0)","v":0},{"$f":"IF($B35>3,1,0)","v":0},0,0]
[null,null,{"$f":"MAX(C25:C29)","v":0},{"$f":"+D36","v":0},{"$f":"MAX(E25:E29)","v":0},{"$f":"+F36","v":0},{"$f":"MAX(G25:G29)","v":0},{"$f":"+H36","v":0},{"$f":"MAX(I25:I29)","v":0},{"$f":"+J36","v":0},{"$f":"MAX(K25:K29)","v":0},{"$f":"+L36","v":0},{"$f":"MAX(M25:M29)","v":0},{"$f":"+N36","v":0},{"$f":"MAX(O25:O29)","v":0},{"$f":"+P36","v":0},{"$f":"MAX(Q25:Q29)","v":0},{"$f":"+R36","v":0},{"$f":"MAX(S25:S29)","v":0},{"$f":"+T36","v":0},{"$f":"MAX(U25:U29)","v":0},{"$f":"+V36","v":0},{"$f":"MAX(W25:W29)","v":0},{"$f":"+X36","v":0},{"$f":"MAX(Y25:Y29)","v":0},{"$f":"+Z36","v":0},{"$f":"MAX(AA25:AA29)","v":0},{"$f":"+AB36","v":0},{"$f":"MAX(AC25:AC29)","v":0},{"$f":"+AD36","v":0},{"$f":"MAX(AE25:AE29)","v":0},{"$f":"+AF36","v":0}]
[null,null,{"$f":"IF(C$30=5,5,0)","v":0},null,{"$f":"IF(E$30=5,5,0)","v":0},null,{"$f":"IF(G$30=5,5,0)","v":0},null,{"$f":"IF(I$30=5,5,0)","v":0},null,{"$f":"IF(K$30=5,5,0)","v":0},null,{"$f":"IF(M$30=5,5,0)","v":0},null,{"$f":"IF(O$30=5,5,0)","v":0},null,{"$f":"IF(Q$30=5,5,0)","v":0},null,{"$f":"IF(S$30=5,5,0)","v":0},null,{"$f":"IF(U$30=5,5,0)","v":0},null,{"$f":"IF(W$30=5,5,0)","v":0},null,{"$f":"IF(Y$30=5,5,0)","v":0},null,{"$f":"IF(AA$30=5,5,0)","v":0},null,{"$f":"IF(AC$30=5,5,0)","v":0},null,{"$f":"IF(AE$30=5,5,0)","v":0}]
[null,null,{"$f":"IF(C$30=4,10,0)","v":0},null,{"$f":"IF(E$30=4,10,0)","v":0},null,{"$f":"IF(G$30=4,10,0)","v":0},null,{"$f":"IF(I$30=4,10,0)","v":0},null,{"$f":"IF(K$30=4,10,0)","v":0},null,{"$f":"IF(M$30=4,10,0)","v":0},null,{"$f":"IF(O$30=4,10,0)","v":0},null,{"$f":"IF(Q$30=4,10,0)","v":0},null,{"$f":"IF(S$30=4,10,0)","v":0},null,{"$f":"IF(U$30=4,10,0)","v":0},null,{"$f":"IF(W$30=4,10,0)","v":0},null,{"$f":"IF(Y$30=4,10,0)","v":0},null,{"$f":"IF(AA$30=4,10,0)","v":0},null,{"$f":"IF(AC$30=4,10,0)","v":0},null,{"$f":"IF(AE$30=4,10,0)","v":0}]
[null,null,{"$f":"IF(C$30=3,20,0)","v":0},null,{"$f":"IF(E$30=3,20,0)","v":0},null,{"$f":"IF(G$30=3,20,0)","v":0},null,{"$f":"IF(I$30=3,20,0)","v":0},null,{"$f":"IF(K$30=3,20,0)","v":0},null,{"$f":"IF(M$30=3,20,0)","v":0},null,{"$f":"IF(O$30=3,20,0)","v":0},null,{"$f":"IF(Q$30=3,20,0)","v":0},null,{"$f":"IF(S$30=3,20,0)","v":0},null,{"$f":"IF(U$30=3,20,0)","v":0},null,{"$f":"IF(W$30=3,20,0)","v":0},null,{"$f":"IF(Y$30=3,20,0)","v":0},null,{"$f":"IF(AA$30=3,20,0)","v":0},null,{"$f":"IF(AC$30=3,20,0)","v":0},null,{"$f":"IF(AE$30=3,20,0)","v":0}]
[null,null,{"$f":"IF(C$30=2,40,0)","v":0},null,{"$f":"IF(E$30=2,40,0)","v":0},null,{"$f":"IF(G$30=2,40,0)","v":0},null,{"$f":"IF(I$30=2,40,0)","v":0},null,{"$f":"IF(K$30=2,40,0)","v":0},null,{"$f":"IF(M$30=2,40,0)","v":0},null,{"$f":"IF(O$30=2,40,0)","v":0},null,{"$f":"IF(Q$30=2,40,0)","v":0},null,{"$f":"IF(S$30=2,40,0)","v":0},null,{"$f":"IF(U$30=2,40,0)","v":0},null,{"$f":"IF(W$30=2,40,0)","v":0},null,{"$f":"IF(Y$30=2,40,0)","v":0},null,{"$f":"IF(AA$30=2,40,0)","v":0},null,{"$f":"IF(AC$30=2,40,0)","v":0},null,{"$f":"IF(AE$30=2,40,0)","v":0}]
[null,null,{"$f":"IF(C$30=1,80,0)","v":0},null,{"$f":"IF(E$30=1,80,0)","v":0},null,{"$f":"IF(G$30=1,80,0)","v":0},null,{"$f":"IF(I$30=1,80,0)","v":0},null,{"$f":"IF(K$30=1,80,0)","v":0},null,{"$f":"IF(M$30=1,80,0)","v":0},null,{"$f":"IF(O$30=1,80,0)","v":0},null,{"$f":"IF(Q$30=1,80,0)","v":0},null,{"$f":"IF(S$30=1,80,0)","v":0},null,{"$f":"IF(U$30=1,80,0)","v":0},null,{"$f":"IF(W$30=1,80,0)","v":0},null,{"$f":"IF(Y$30=1,80,0)","v":0},null,{"$f":"IF(AA$30=1,80,0)","v":0},null,{"$f":"IF(AC$30=1,80,0)","v":0},null,{"$f":"IF(AE$30=1,80,0)","v":0}]
[null,null,{"$f":"RANK(C31,$C31:$AR31)*C35","v":0},null,{"$f":"RANK(E31,$C31:$AR31)*E35","v":0},null,{"$f":"RANK(G31,$C31:$AR31)*G35","v":0},null,{"$f":"RANK(I31,$C31:$AR31)*I35","v":0},null,{"$f":"RANK(K31,$C31:$AR31)*K35","v":0},null,{"$f":"RANK(M31,$C31:$AR31)*M35","v":0},null,{"$f":"RANK(O31,$C31:$AR31)*O35","v":0},null,{"$f":"RANK(Q31,$C31:$AR31)*Q35","v":0},null,{"$f":"RANK(S31,$C31:$AR31)*S35","v":0},null,{"$f":"RANK(U31,$C31:$AR31)*U35","v":0},null,{"$f":"RANK(W31,$C31:$AR31)*W35","v":0},null,{"$f":"RANK(Y31,$C31:$AR31)*Y35","v":0},null,{"$f":"RANK(AA31,$C31:$AR31)*AA35","v":0},null,{"$f":"RANK(AC31,$C31:$AR31)*AC35","v":0},null,{"$f":"RANK(AE31,$C31:$AR31)*AE35","v":0}]
[null,null,{"$f":"SUM(C32:C34)","v":-200000000},null,{"$f":"SUM(E32:E34)","v":-200000000},null,{"$f":"SUM(G32:G34)","v":-200000000},null,{"$f":"SUM(I32:I34)","v":-100000000},null,{"$f":"SUM(K32:K34)","v":-100000000},null,{"$f":"SUM(M32:M34)","v":-200000000},null,{"$f":"SUM(O32:O34)","v":-200000000},null,{"$f":"SUM(Q32:Q34)","v":-200000000},null,{"$f":"SUM(S32:S34)","v":-200000000},null,{"$f":"SUM(U32:U34)","v":-200000000},null,{"$f":"SUM(W32:W34)","v":-200000000},null,{"$f":"SUM(Y32:Y34)","v":-200000000},null,{"$f":"SUM(AA32:AA34)","v":-200000000},null,{"$f":"SUM(AC32:AC34)","v":-200000000},null,{"$f":"SUM(AE32:AE34)","v":-200000000}]
[null,null,{"$f":"+D36","v":0},null,{"$f":"+F36","v":0},null,{"$f":"+H36","v":0},null,{"$f":"+J36","v":0},null,{"$f":"+L36","v":0},null,{"$f":"+N36","v":0},null,{"$f":"+P36","v":0},null,{"$f":"+R36","v":0},null,{"$f":"+T36","v":0},null,{"$f":"+V36","v":0},null,{"$f":"+X36","v":0},null,{"$f":"+Z36","v":0},null,{"$f":"+AB36","v":0},null,{"$f":"+AD36","v":0},null,{"$f":"+AF36","v":0}]
[null,null,{"$f":"D37*10","v":0},null,{"$f":"F37*10","v":0},null,{"$f":"H37*10","v":0},null,{"$f":"J37*10","v":0},null,{"$f":"L37*10","v":0},null,{"$f":"N37*10","v":0},null,{"$f":"P37*10","v":0},null,{"$f":"R37*10","v":0},null,{"$f":"T37*10","v":0},null,{"$f":"V37*10","v":0},null,{"$f":"X37*10","v":0},null,{"$f":"Z37*10","v":0},null,{"$f":"AB37*10","v":0},null,{"$f":"AD37*10","v":0},null,{"$f":"AF37*10","v":0}]
[null,null,{"$f":"IF(C35=1,C36*C35*100000+C36,-100000000+C36)","v":-200000000},null,{"$f":"IF(E35=1,E36*E35*100000+E36,-100000000+E36)","v":-200000000},null,{"$f":"IF(G35=1,G36*G35*100000+G36,-100000000+G36)","v":-200000000},null,{"$f":"IF(I35=1,I36*I35*100000+I36,-100000000+I36)","v":-100000000},null,{"$f":"IF(K35=1,K36*K35*100000+K36,-100000000+K36)","v":-100000000},null,{"$f":"IF(M35=1,M36*M35*100000+M36,-100000000+M36)","v":-200000000},null,{"$f":"IF(O35=1,O36*O35*100000+O36,-100000000+O36)","v":-200000000},null,{"$f":"IF(Q35=1,Q36*Q35*100000+Q36,-100000000+Q36)","v":-200000000},null,{"$f":"IF(S35=1,S36*S35*100000+S36,-100000000+S36)","v":-200000000},null,{"$f":"IF(U35=1,U36*U35*100000+U36,-100000000+U36)","v":-200000000},null,{"$f":"IF(W35=1,W36*W35*100000+W36,-100000000+W36)","v":-200000000},null,{"$f":"IF(Y35=1,Y36*Y35*100000+Y36,-100000000+Y36)","v":-200000000},null,{"$f":"IF(AA35=1,AA36*AA35*100000+AA36,-100000000+AA36)","v":-200000000},null,{"$f":"IF(AC35=1,AC36*AC35*100000+AC36,-100000000+AC36)","v":-200000000},null,{"$f":"IF(AE35=1,AE36*AE35*100000+AE36,-100000000+AE36)","v":-200000000}]
["Classificats",{"$f":"SUM(C35:AE35)","v":0},{"$f":"IF(D36>=$A3/2,1,0)","v":0},null,{"$f":"IF(F36>=$A3/2,1,0)","v":0},null,{"$f":"IF(H36>=$A3/2,1,0)","v":0},null,{"$f":"IF(J36>=$A3/2,1,0)","v":0},null,{"$f":"IF(L36>=$A3/2,1,0)","v":0},null,{"$f":"IF(N36>=$A3/2,1,0)","v":0},null,{"$f":"IF(P36>=$A3/2,1,0)","v":0},null,{"$f":"IF(R36>=$A3/2,1,0)","v":0},null,{"$f":"IF(T36>=$A3/2,1,0)","v":0},null,{"$f":"IF(V36>=$A3/2,1,0)","v":0},null,{"$f":"IF(X36>=$A3/2,1,0)","v":0},null,{"$f":"IF(Z36>=$A3/2,1,0)","v":0},null,{"$f":"IF(AB36>=$A3/2,1,0)","v":0},null,{"$f":"IF(AD36>=$A3/2,1,0)","v":0},null,{"$f":"IF(AF36>=$A3/2,1,0)","v":0}]
[null,null,{"$f":"IF(SUM(C41:C187)<-1000,-100000000,SUM(C41:C187))","v":-100000000},{"$f":"COUNT(D41:D187)","v":0},{"$f":"IF(SUM(E41:E187)<-1000,-100000000,SUM(E41:E187))","v":-100000000},{"$f":"COUNT(F41:F187)","v":0},{"$f":"IF(SUM(G41:G187)<-1000,-100000000,SUM(G41:G187))","v":-100000000},{"$f":"COUNT(H41:H187)","v":0},{"$f":"IF(SUM(I41:I187)<-1000,-100000000,SUM(I41:I187))","v":0},{"$f":"COUNT(J41:J187)","v":0},{"$f":"IF(SUM(K41:K187)<-1000,-100000000,SUM(K41:K187))","v":0},{"$f":"COUNT(L41:L187)","v":0},{"$f":"IF(SUM(M41:M187)<-1000,-100000000,SUM(M41:M187))","v":-100000000},{"$f":"COUNT(N41:N187)","v":0},{"$f":"IF(SUM(O41:O187)<-1000,-100000000,SUM(O41:O187))","v":-100000000},{"$f":"COUNT(P41:P187)","v":0},{"$f":"IF(SUM(Q41:Q187)<-1000,-100000000,SUM(Q41:Q187))","v":-100000000},{"$f":"COUNT(R41:R187)","v":0},{"$f":"IF(SUM(S41:S187)<-1000,-100000000,SUM(S41:S187))","v":-100000000},{"$f":"COUNT(T41:T187)","v":0},{"$f":"IF(SUM(U41:U187)<-1000,-100000000,SUM(U41:U187))","v":-100000000},{"$f":"COUNT(V41:V187)","v":0},{"$f":"IF(SUM(W41:W187)<-1000,-100000000,SUM(W41:W187))","v":-100000000},{"$f":"COUNT(X41:X187)","v":0},{"$f":"IF(SUM(Y41:Y187)<-1000,-100000000,SUM(Y41:Y187))","v":-100000000},{"$f":"COUNT(Z41:Z187)","v":0},{"$f":"IF(SUM(AA41:AA187)<-1000,-100000000,SUM(AA41:AA187))","v":-100000000},{"$f":"COUNT(AB41:AB187)","v":0},{"$f":"IF(SUM(AC41:AC187)<-1000,-100000000,SUM(AC41:AC187))","v":-100000000},{"$f":"COUNT(AD41:AD187)","v":0},{"$f":"IF(SUM(AE41:AE187)<-1000,-100000000,SUM(AE41:AE187))","v":-100000000},{"$f":"COUNT(AF41:AF187)","v":0}]
[null,null,{"$f":"SUM(C41:C81)","v":-100000000},0,-100000000,0,-100000000,0,0,0,0,0,-100000000,0,-100000000,0,-100000000,0,-100000000,0,-100000000,0,-100000000,0,-100000000,0,{"$f":"SUM(AA41:AA81)","v":-100000000},{"$f":"SUM(AB41:AB81)","v":0},{"$f":"SUM(AC41:AC81)","v":-100000000},{"$f":"SUM(AD41:AD81)","v":0},-100000000,0]
[null,null,null,null,null,null,null,null,null,null,null,null,null,null,null,null,null,null,null,null,null,null,null,null,null,null,null,null,null,null,null,null,{"$f":"MAX(AH41:AH100)","v":0}]
[null,"Nº partida ","Jorge",null,"Katy",null,"Jordi",null,"MªJosé",null,"Pol",null,"Sergi",null,"Carles",null,"Mariajo",null,"Grau",null,"Joan Carles",null,"Xavi",null,"Mercè",null,"Manolo",null,"Goretti",null,"Alícia",null,{"$f":"COUNT(AG41:AG102)","v":0},"A","B","C"]
[null,null,"Premi","Punts","Premi","Punts","Premi","Punts","Premi","Punts","Premi","Punts","Premi","Punts","Premi","Punts","Premi","Punts","Premi","Punts","Premi","Punts","Premi","Punts","Premi","Punts","Premi","Punts","Premi","Punts","Premi","Punts","Data","Timbes"]
[1,null,-100000000,null,-100000000,null,-100000000,null,null,null,null,null,-100000000,null,-100000000,null,-100000000,null,-100000000,null,-100000000,null,-100000000,null,-100000000,null,-100000000,null,-100000000,null,-100000000,null,null,null,{"$f":"+C41+E41+G41+I41++K41++M41+O41+Q41+S41+U41+W41+Y41+AE41+AC41+AA41","v":-1300000000},{"$f":"+D41+F41+H41+J41++L41++N41+P41+R41+T41+V41+X41+Z41+AF41+AD41+AB41","v":0},{"$f":"COUNT(C41:AF41)/2","v":6.5},{"$f":"+AI41/AK41","v":-200000000}]
[{"$f":"+A41+1","v":2},null,null,null,null,null,null,null,null,null,null,null,null,null,null,null,null,null,null,null,null,null,null,null,null,null,null,null,null,null,null,null,null,null,0,0,{"$f":"COUNT(C42:AF42)/2","v":0},{"$f":"+AI42/AK42","v":{"$error":"#DIV/0!"}}]
[{"$f":"+A42+1","v":3},null,null,null,null,null,null,null,null,null,null,null,null,null,null,null,null,null,null,null,null,null,null,null,null,null,null,null,null,null,null,null,null,null,0,0,0,{"$error":"#DIV/0!"}]
[4,null,null,null,null,null,null,null,null,null,null,null,null,null,null,null,null,null,null,null,null,null,null,null,null,null,null,null,null,null,null,null,null,null,0,0,0,{"$error":"#DIV/0!"}]
[5,null,null,null,null,null,null,null,null,null,null,null,null,null,null,null,null,null,null,null,null,null,null,null,null,null,null,null,null,null,null,null,null,null,0,0,0,{"$error":"#DIV/0!"}]
[6,null,null,null,null,null,null,null,null,null,null,null,null,null,null,null,null,null,null,null,null,null,null,null,null,null,null,null,null,null,null,null,null,null,0,0,0,{"$error":"#DIV/0!"}]
[7,null,null,null,null,null,null,null,null,null,null,null,null,null,null,null,null,null,null,null,null,null,null,null,null,null,null,null,null,null,null,null,null,null,0,0,0,{"$error":"#DIV/0!"}]
[8,null,null,null,null,null,null,null,null,null,null,null,null,null,null,null,null,null,null,null,null,null,null,null,null,null,null,null,null,null,null,null,null,null,0,0,0,{"$error":"#DIV/0!"}]
[9,null,null,null,null,null,null,null,null,null,null,null,null,null,null,null,null,null,null,null,null,null,null,null,null,null,null,null,null,null,null,null,null,null,0,0,0,{"$error":"#DIV/0!"}]
[10,null,null,null,null,null,null,null,null,null,null,null,null,null,null,null,null,null,null,null,null,null,null,null,null,null,null,null,null,null,null,null,null,null,0,0,0,{"$error":"#DIV/0!"}]
[11,null,null,null,null,null,null,null,null,null,null,null,null,null,null,null,null,null,null,null,null,null,null,null,null,null,null,null,null,null,null,null,null,null,0,0,0,{"$error":"#DIV/0!"}]
[12,null,null,null,null,null,null,null,null,null,null,null,null,null,null,null,null,null,null,null,null,null,null,null,null,null,null,null,null,null,null,null,null,null,0,0,0,{"$error":"#DIV/0!"}]
[13,null,null,null,null,null,null,null,null,null,null,null,null,null,null,null,null,null,null,null,null,null,null,null,null,null,null,null,null,null,null,null,null,null,0,0,0,{"$error":"#DIV/0!"}]
[14]
[15]
[16]
[17]
[18]
[19]
[20]
[21]
[22]
[23]
[24]
[25]
[26]
[27]
[28]
[29]
[30]

{"sheet":"Pocha","index":18,"n_rows":173,"n_cols":41,"rows_kept":173,"cut":false,"hidden":false,"merged":[[40,12,40,13],[40,2,40,3],[40,4,40,5],[40,6,40,7],[40,8,40,9],[40,10,40,11],[40,28,40,29],[40,14,40,15],[40,16,40,17],[40,34,40,35],[40,18,40,19],[40,20,40,21],[40,22,40,23],[40,24,40,25],[40,30,40,31],[40,32,40,33],[40,26,40,27]]}
["POCHA"]
["Mes"]
[{"$f":"+GENERAL!B6","v":12},null,{"$f":"SUM(C5:C9)","v":-500000000}]
[null,null,"Premi","Punts","Partides","General"]
[1,"alaf",{"$f":"+O$38","v":-100000000},{"$f":"+P$39","v":1E-4},{"$f":"+P$38","v":0},{"$f":"+O$24","v":0},{"$f":"IF(E5<A$3/2,-1,1)*800000+C5*1000+D5*10+E5","v":-100000799999.99899}]
[2,"Jordi",{"$f":"+G$38","v":-100000000},{"$f":"+H$39","v":1E-4},{"$f":"+H$38","v":0},{"$f":"+G$24","v":0},{"$f":"IF(E6<A$3/2,-1,1)*800000+C6*1000+D6*10+E6","v":-100000799999.99899}]
[3,"Grau",{"$f":"+AC$38","v":-100000000},{"$f":"+AD$39","v":1E-4},{"$f":"+AD$38","v":0},{"$f":"+AC$24","v":0},{"$f":"IF(E7<A$3/2,-1,1)*800000+C7*1000+D7*10+E7","v":-100000799999.99899}]
[4,"Manel",{"$f":"+C$38","v":-100000000},{"$f":"+D$39","v":1E-4},{"$f":"+D$38","v":0},{"$f":"+C$24","v":0},{"$f":"IF(E8<A$3/2,-1,1)*800000+C8*1000+D8*10+E8","v":-100000799999.99899}]
[5,"Mariajo",{"$f":"+Q$38","v":-100000000},{"$f":"+R$39","v":1E-4},{"$f":"+R$38","v":0},{"$f":"+Q$24","v":0},{"$f":"IF(E9<A$3/2,-1,1)*800000+C9*1000+D9*10+E9","v":-100000799999.99899}]
[6,"Eli",{"$f":"+Y$38","v":-100000000},{"$f":"+Z$39","v":1E-4},{"$f":"+Z$38","v":0},{"$f":"+Y$24","v":0},{"$f":"IF(E10<A$3/2,-1,1)*800+C10*1000+D10*10+E10","v":-100000000799.99899}]
[7,"Mercè",{"$f":"+AE$38","v":-100000000},{"$f":"+AF$39","v":1E-4},{"$f":"+AF$38","v":0},{"$f":"+AE$24","v":0},{"$f":"IF(E11<A$3/2,-1,1)*800000+C11*1000+D11*10+E11","v":-100000799999.99899}]
[8,"Sergi",{"$f":"+M$38","v":-100000000},{"$f":"+N$39","v":1E-4},{"$f":"+N$38","v":0},{"$f":"+M$24","v":0},-100000799999.99899]
[9,"Goretti",{"$f":"+K$38","v":-100000000},{"$f":"+L$39","v":1E-4},{"$f":"+L$38","v":0},{"$f":"+K$24","v":0},-100000799999.99899]
[10,"Joan Carles",{"$f":"+AA$38","v":-100000000},{"$f":"+AB$39","v":1E-4},{"$f":"+AB$38","v":0},{"$f":"+AA$24","v":0},-100000799999.99899]
[11,"Xavi",{"$f":"+W$38","v":-100000000},{"$f":"+X$39","v":1E-4},{"$f":"+X$38","v":0},{"$f":"+W$24","v":0},-100000799999.99899]
[12,"Martín",{"$f":"+U$38","v":-100000000},{"$f":"+V$39","v":1E-4},{"$f":"+V$38","v":0},{"$f":"+U$24","v":0},-100000799999.99899]
[13,"Pol",{"$f":"+AI$38","v":-100000000},{"$f":"+AJ$39","v":1E-4},{"$f":"+AJ$38","v":0},{"$f":"+AI$24","v":0},-100000799999.99899]
[14,"Iglesias",{"$f":"+S$38","v":-100000000},{"$f":"+T$39","v":1E-4},{"$f":"+T$38","v":0},{"$f":"+S$24","v":0},-100000799999.99899]
[15,"MªJosé",{"$f":"+I$38","v":-100000000},{"$f":"+J$39","v":1E-4},{"$f":"+J$38","v":0},{"$f":"+I$24","v":0},-100000799999.99899]
[16,"Salvadó",{"$f":"+AG$38","v":-100000000},{"$f":"+AH$39","v":1E-4},{"$f":"+AH$38","v":0},{"$f":"+AG$24","v":0},-100000799999.99899]
[17,"Pepe",{"$f":"+E$38","v":-100000000},{"$f":"+F$39","v":1E-4},{"$f":"+F$38","v":0},{"$f":"+E$24","v":0},-100000799999.99899]
[]
[]
[null,"General",{"$f":"+C25*C26","v":0},{"$f":"+D25*D26","v":0},0,0,0,0,0,0,0,0,0,0,0,0,0,0,0,0,0,0,0,0,0,0,{"$f":"+AA25*AA26","v":0},0,0,0,0,0,0,0,0,0]
[null,null,{"$f":"IF($B37>3,1,0)","v":0},{"$f":"IF($B37>3,1,0)","v":0},0,0,0,0,0,0,0,0,0,0,0,0,0,0,0,0,0,0,0,0,0,0,{"$f":"IF($B37>3,1,0)","v":0},0,0,0,0,0,0,0,0,0]
[null,null,{"$f":"MAX(C27:C31)","v":0},{"$f":"+D38","v":0},{"$f":"MAX(E27:E31)","v":0},{"$f":"+F38","v":0},{"$f":"MAX(G27:G31)","v":0},{"$f":"+H38","v":0},{"$f":"MAX(I27:I31)","v":0},{"$f":"+J38","v":0},{"$f":"MAX(K27:K31)","v":0},{"$f":"+L38","v":0},{"$f":"MAX(M27:M31)","v":0},{"$f":"+N38","v":0},{"$f":"MAX(O27:O31)","v":0},{"$f":"+P38","v":0},{"$f":"MAX(Q27:Q31)","v":0},{"$f":"+R38","v":0},{"$f":"MAX(S27:S31)","v":0},{"$f":"+T38","v":0},{"$f":"MAX(U27:U31)","v":0},{"$f":"+V38","v":0},{"$f":"MAX(W27:W31)","v":0},{"$f":"+X38","v":0},{"$f":"MAX(Y27:Y31)","v":0},{"$f":"+Z38","v":0},{"$f":"MAX(AA27:AA31)","v":0},{"$f":"+AB38","v":0},{"$f":"MAX(AC27:AC31)","v":0},{"$f":"+AD38","v":0},{"$f":"MAX(AE27:AE31)","v":0},{"$f":"+AF38","v":0},{"$f":"MAX(AG27:AG31)","v":0},{"$f":"+AH38","v":0},{"$f":"MAX(AI27:AI31)","v":0},{"$f":"+AJ38","v":0}]
[null,null,{"$f":"IF(C$32=5,5,0)","v":0},null,{"$f":"IF(E$32=5,5,0)","v":0},null,{"$f":"IF(G$32=5,5,0)","v":0},null,{"$f":"IF(I$32=5,5,0)","v":0},null,{"$f":"IF(K$32=5,5,0)","v":0},null,{"$f":"IF(M$32=5,5,0)","v":0},null,{"$f":"IF(O$32=5,5,0)","v":0},null,{"$f":"IF(Q$32=5,5,0)","v":0},null,{"$f":"IF(S$32=5,5,0)","v":0},null,{"$f":"IF(U$32=5,5,0)","v":0},null,{"$f":"IF(W$32=5,5,0)","v":0},null,{"$f":"IF(Y$32=5,5,0)","v":0},null,{"$f":"IF(AA$32=5,5,0)","v":0},null,{"$f":"IF(AC$32=5,5,0)","v":0},null,{"$f":"IF(AE$32=5,5,0)","v":0},null,{"$f":"IF(AG$32=5,5,0)","v":0},null,{"$f":"IF(AI$32=5,5,0)","v":0}]
[null,null,{"$f":"IF(C$32=4,10,0)","v":0},null,{"$f":"IF(E$32=4,10,0)","v":0},null,{"$f":"IF(G$32=4,10,0)","v":0},null,{"$f":"IF(I$32=4,10,0)","v":0},null,{"$f":"IF(K$32=4,10,0)","v":0},null,{"$f":"IF(M$32=4,10,0)","v":0},null,{"$f":"IF(O$32=4,10,0)","v":0},null,{"$f":"IF(Q$32=4,10,0)","v":0},null,{"$f":"IF(S$32=4,10,0)","v":0},null,{"$f":"IF(U$32=4,10,0)","v":0},null,{"$f":"IF(W$32=4,10,0)","v":0},null,{"$f":"IF(Y$32=4,10,0)","v":0},null,{"$f":"IF(AA$32=4,10,0)","v":0},null,{"$f":"IF(AC$32=4,10,0)","v":0},null,{"$f":"IF(AE$32=4,10,0)","v":0},null,{"$f":"IF(AG$32=4,10,0)","v":0},null,{"$f":"IF(AI$32=4,10,0)","v":0}]
[null,null,{"$f":"IF(C$32=3,20,0)","v":0},null,{"$f":"IF(E$32=3,20,0)","v":0},null,{"$f":"IF(G$32=3,20,0)","v":0},null,{"$f":"IF(I$32=3,20,0)","v":0},null,{"$f":"IF(K$32=3,20,0)","v":0},null,{"$f":"IF(M$32=3,20,0)","v":0},null,{"$f":"IF(O$32=3,20,0)","v":0},null,{"$f":"IF(Q$32=3,20,0)","v":0},null,{"$f":"IF(S$32=3,20,0)","v":0},null,{"$f":"IF(U$32=3,20,0)","v":0},null,{"$f":"IF(W$32=3,20,0)","v":0},null,{"$f":"IF(Y$32=3,20,0)","v":0},null,{"$f":"IF(AA$32=3,20,0)","v":0},null,{"$f":"IF(AC$32=3,20,0)","v":0},null,{"$f":"IF(AE$32=3,20,0)","v":0},null,{"$f":"IF(AG$32=3,20,0)","v":0},null,{"$f":"IF(AI$32=3,20,0)","v":0}]
[null,null,{"$f":"IF(C$32=2,40,0)","v":0},null,{"$f":"IF(E$32=2,40,0)","v":0},null,{"$f":"IF(G$32=2,40,0)","v":0},null,{"$f":"IF(I$32=2,40,0)","v":0},null,{"$f":"IF(K$32=2,40,0)","v":0},null,{"$f":"IF(M$32=2,40,0)","v":0},null,{"$f":"IF(O$32=2,40,0)","v":0},null,{"$f":"IF(Q$32=2,40,0)","v":0},null,{"$f":"IF(S$32=2,40,0)","v":0},null,{"$f":"IF(U$32=2,40,0)","v":0},null,{"$f":"IF(W$32=2,40,0)","v":0},null,{"$f":"IF(Y$32=2,40,0)","v":0},null,{"$f":"IF(AA$32=2,40,0)","v":0},null,{"$f":"IF(AC$32=2,40,0)","v":0},null,{"$f":"IF(AE$32=2,40,0)","v":0},null,{"$f":"IF(AG$32=2,40,0)","v":0},null,{"$f":"IF(AI$32=2,40,0)","v":0}]
[null,null,{"$f":"IF(C$32=1,80,0)","v":0},null,{"$f":"IF(E$32=1,80,0)","v":0},null,{"$f":"IF(G$32=1,80,0)","v":0},null,{"$f":"IF(I$32=1,80,0)","v":0},null,{"$f":"IF(K$32=1,80,0)","v":0},null,{"$f":"IF(M$32=1,80,0)","v":0},null,{"$f":"IF(O$32=1,80,0)","v":0},null,{"$f":"IF(Q$32=1,80,0)","v":0},null,{"$f":"IF(S$32=1,80,0)","v":0},null,{"$f":"IF(U$32=1,80,0)","v":0},null,{"$f":"IF(W$32=1,80,0)","v":0},null,{"$f":"IF(Y$32=1,80,0)","v":0},null,{"$f":"IF(AA$32=1,80,0)","v":0},null,{"$f":"IF(AC$32=1,80,0)","v":0},null,{"$f":"IF(AE$32=1,80,0)","v":0},null,{"$f":"IF(AG$32=1,80,0)","v":0},null,{"$f":"IF(AI$32=1,80,0)","v":0}]
[null,null,{"$f":"RANK(C33,$C33:$BF33)*C37","v":0},null,{"$f":"RANK(E33,$C33:$BF33)*E37","v":0},null,{"$f":"RANK(G33,$C33:$BF33)*G37","v":0},null,{"$f":"RANK(I33,$C33:$BF33)*I37","v":0},null,{"$f":"RANK(K33,$C33:$BF33)*K37","v":0},null,{"$f":"RANK(M33,$C33:$BF33)*M37","v":0},null,{"$f":"RANK(O33,$C33:$BF33)*O37","v":0},null,{"$f":"RANK(Q33,$C33:$BF33)*Q37","v":0},null,{"$f":"RANK(S33,$C33:$BF33)*S37","v":0},null,{"$f":"RANK(U33,$C33:$BF33)*U37","v":0},null,{"$f":"RANK(W33,$C33:$BF33)*W37","v":0},null,{"$f":"RANK(Y33,$C33:$BF33)*Y37","v":0},null,{"$f":"RANK(AA33,$C33:$BF33)*AA37","v":0},null,{"$f":"RANK(AC33,$C33:$BF33)*AC37","v":0},null,{"$f":"RANK(AE33,$C33:$BF33)*AE37","v":0},null,{"$f":"RANK(AG33,$C33:$BF33)*AG37","v":0},null,{"$f":"RANK(AI33,$C33:$BF33)*AI37","v":0}]
[null,null,{"$f":"SUM(C34:C36)","v":-100999999.98999999},null,{"$f":"SUM(E34:E36)","v":-100999999.98999999},null,{"$f":"SUM(G34:G36)","v":-100999999.98999999},null,{"$f":"SUM(I34:I36)","v":-100999999.98999999},null,{"$f":"SUM(K34:K36)","v":-100999999.98999999},null,{"$f":"SUM(M34:M36)","v":-100999999.98999999},null,{"$f":"SUM(O34:O36)","v":-100999999.98999999},null,{"$f":"SUM(Q34:Q36)","v":-100999999.98999999},null,{"$f":"SUM(S34:S36)","v":-100999999.98999999},null,{"$f":"SUM(U34:U36)","v":-100999999.98999999},null,{"$f":"SUM(W34:W36)","v":-100999999.98999999},null,{"$f":"SUM(Y34:Y36)","v":-100999999.98999999},null,{"$f":"SUM(AA34:AA36)","v":-100999999.98999999},null,{"$f":"SUM(AC34:AC36)","v":-100999999.98999999},null,{"$f":"SUM(AE34:AE36)","v":-100999999.98999999},null,{"$f":"SUM(AG34:AG36)","v":-100999999.98999999},null,{"$f":"SUM(AI34:AI36)","v":-100999999.98999999}]
[null,null,{"$f":"+D38","v":0},null,{"$f":"+F38","v":0},null,{"$f":"+H38","v":0},null,{"$f":"+J38","v":0},null,{"$f":"+L38","v":0},null,{"$f":"+N38","v":0},null,{"$f":"+P38","v":0},null,{"$f":"+R38","v":0},null,{"$f":"+T38","v":0},null,{"$f":"+V38","v":0},null,{"$f":"+X38","v":0},null,{"$f":"+Z38","v":0},null,{"$f":"+AB38","v":0},null,{"$f":"+AD38","v":0},null,{"$f":"+AF38","v":0},null,{"$f":"+AH38","v":0},null,{"$f":"+AJ38","v":0}]
[null,null,{"$f":"+D39*100","v":0.01},null,{"$f":"+F39*100","v":0.01},null,{"$f":"+H39*100","v":0.01},null,{"$f":"+J39*100","v":0.01},null,{"$f":"+L39*100","v":0.01},null,{"$f":"+N39*100","v":0.01},null,{"$f":"+P39*100","v":0.01},null,{"$f":"+R39*100","v":0.01},null,{"$f":"+T39*100","v":0.01},null,{"$f":"+V39*100","v":0.01},null,{"$f":"+X39*100","v":0.01},null,{"$f":"+Z39*100","v":0.01},null,{"$f":"+AB39*100","v":0.01},null,{"$f":"+AD39*100","v":0.01},null,{"$f":"+AF39*100","v":0.01},null,{"$f":"+AH39*100","v":0.01},null,{"$f":"+AJ39*100","v":0.01}]
[null,null,{"$f":"IF(C37=1,C38*C37*10000+C38,-1000000+C38)","v":-101000000},null,{"$f":"IF(E37=1,E38*E37*10000+E38,-1000000+E38)","v":-101000000},null,{"$f":"IF(G37=1,G38*G37*10000+G38,-1000000+G38)","v":-101000000},null,{"$f":"IF(I37=1,I38*I37*10000+I38,-1000000+I38)","v":-101000000},null,{"$f":"IF(K37=1,K38*K37*10000+K38,-1000000+K38)","v":-101000000},null,{"$f":"IF(M37=1,M38*M37*10000+M38,-1000000+M38)","v":-101000000},null,{"$f":"IF(O37=1,O38*O37*10000+O38,-1000000+O38)","v":-101000000},null,{"$f":"IF(Q37=1,Q38*Q37*10000+Q38,-1000000+Q38)","v":-101000000},null,{"$f":"IF(S37=1,S38*S37*10000+S38,-1000000+S38)","v":-101000000},null,{"$f":"IF(U37=1,U38*U37*10000+U38,-1000000+U38)","v":-101000000},null,{"$f":"IF(W37=1,W38*W37*10000+W38,-1000000+W38)","v":-101000000},null,{"$f":"IF(Y37=1,Y38*Y37*10000+Y38,-1000000+Y38)","v":-101000000},null,{"$f":"IF(AA37=1,AA38*AA37*10000+AA38,-1000000+AA38)","v":-101000000},null,{"$f":"IF(AC37=1,AC38*AC37*10000+AC38,-1000000+AC38)","v":-101000000},null,{"$f":"IF(AE37=1,AE38*AE37*10000+AE38,-1000000+AE38)","v":-101000000},null,{"$f":"IF(AG37=1,AG38*AG37*10000+AG38,-1000000+AG38)","v":-101000000},null,{"$f":"IF(AI37=1,AI38*AI37*10000+AI38,-1000000+AI38)","v":-101000000}]
["Classificats",{"$f":"SUM(C37:AI37)","v":0},{"$f":"IF(D38>=$A3/2,1,0)","v":0},null,{"$f":"IF(F38>=$A3/2,1,0)","v":0},null,{"$f":"IF(H38>=$A3/2,1,0)","v":0},null,{"$f":"IF(J38>=$A3/2,1,0)","v":0},null,{"$f":"IF(L38>=$A3/2,1,0)","v":0},null,{"$f":"IF(N38>=$A3/2,1,0)","v":0},null,{"$f":"IF(P38>=$A3/2,1,0)","v":0},null,{"$f":"IF(R38>=$A3/2,1,0)","v":0},null,{"$f":"IF(T38>=$A3/2,1,0)","v":0},null,{"$f":"IF(V38>=$A3/2,1,0)","v":0},null,{"$f":"IF(X38>=$A3/2,1,0)","v":0},null,{"$f":"IF(Z38>=$A3/2,1,0)","v":0},null,{"$f":"IF(AB38>=$A3/2,1,0)","v":0},null,{"$f":"IF(AD38>=$A3/2,1,0)","v":0},null,{"$f":"IF(AF38>=$A3/2,1,0)","v":0},null,{"$f":"IF(AH38>=$A3/2,1,0)","v":0},null,{"$f":"IF(AJ38>=$A3/2,1,0)","v":0}]
[null,null,{"$f":"IF(SUM(C43:C281)<-1000,-100000000,SUM(C43:C281))","v":-100000000},{"$f":"COUNT(D43:D281)","v":0},{"$f":"IF(SUM(E43:E281)<-1000,-100000000,SUM(E43:E281))","v":-100000000},{"$f":"COUNT(F43:F281)","v":0},{"$f":"IF(SUM(G43:G281)<-1000,-100000000,SUM(G43:G281))","v":-100000000},{"$f":"COUNT(H43:H281)","v":0},{"$f":"IF(SUM(I43:I281)<-1000,-100000000,SUM(I43:I281))","v":-100000000},{"$f":"COUNT(J43:J281)","v":0},{"$f":"IF(SUM(K43:K281)<-1000,-100000000,SUM(K43:K281))","v":-100000000},{"$f":"COUNT(L43:L281)","v":0},{"$f":"IF(SUM(M43:M281)<-1000,-100000000,SUM(M43:M281))","v":-100000000},{"$f":"COUNT(N43:N281)","v":0},{"$f":"IF(SUM(O43:O281)<-1000,-100000000,SUM(O43:O281))","v":-100000000},{"$f":"COUNT(P43:P281)","v":0},{"$f":"IF(SUM(Q43:Q281)<-1000,-100000000,SUM(Q43:Q281))","v":-100000000},{"$f":"COUNT(R43:R281)","v":0},{"$f":"IF(SUM(S43:S281)<-1000,-100000000,SUM(S43:S281))","v":-100000000},{"$f":"COUNT(T43:T281)","v":0},{"$f":"IF(SUM(U43:U281)<-1000,-100000000,SUM(U43:U281))","v":-100000000},{"$f":"COUNT(V43:V281)","v":0},{"$f":"IF(SUM(W43:W281)<-1000,-100000000,SUM(W43:W281))","v":-100000000},{"$f":"COUNT(X43:X281)","v":0},{"$f":"IF(SUM(Y43:Y281)<-1000,-100000000,SUM(Y43:Y281))","v":-100000000},{"$f":"COUNT(Z43:Z281)","v":0},{"$f":"IF(SUM(AA43:AA281)<-1000,-100000000,SUM(AA43:AA281))","v":-100000000},{"$f":"COUNT(AB43:AB281)","v":0},{"$f":"IF(SUM(AC43:AC281)<-1000,-100000000,SUM(AC43:AC281))","v":-100000000},{"$f":"COUNT(AD43:AD281)","v":0},{"$f":"IF(SUM(AE43:AE281)<-1000,-100000000,SUM(AE43:AE281))","v":-100000000},{"$f":"COUNT(AF43:AF281)","v":0},{"$f":"IF(SUM(AG43:AG281)<-1000,-100000000,SUM(AG43:AG281))","v":-100000000},{"$f":"COUNT(AH43:AH281)","v":0},{"$f":"IF(SUM(AI43:AI281)<-1000,-100000000,SUM(AI43:AI281))","v":-100000000},{"$f":"COUNT(AJ43:AJ281)","v":0}]
[null,null,null,{"$f":"IF(D38=0,0.0001,AVERAGE(D43:D178))","v":1E-4},null,{"$f":"IF(F38=0,0.0001,AVERAGE(F43:F178))","v":1E-4},null,{"$f":"IF(H38=0,0.0001,AVERAGE(H43:H178))","v":1E-4},null,{"$f":"IF(J38=0,0.0001,AVERAGE(J43:J178))","v":1E-4},null,{"$f":"IF(L38=0,0.0001,AVERAGE(L43:L178))","v":1E-4},null,{"$f":"IF(N38=0,0.0001,AVERAGE(N43:N178))","v":1E-4},null,{"$f":"IF(P38=0,0.0001,AVERAGE(P43:P178))","v":1E-4},null,{"$f":"IF(R38=0,0.0001,AVERAGE(R43:R178))","v":1E-4},null,{"$f":"IF(T38=0,0.0001,AVERAGE(T43:T178))","v":1E-4},null,{"$f":"IF(V38=0,0.0001,AVERAGE(V43:V178))","v":1E-4},null,{"$f":"IF(X38=0,0.0001,AVERAGE(X43:X178))","v":1E-4},null,{"$f":"IF(Z38=0,0.0001,AVERAGE(Z43:Z178))","v":1E-4},null,{"$f":"IF(AB38=0,0.0001,AVERAGE(AB43:AB178))","v":1E-4},null,{"$f":"IF(AD38=0,0.0001,AVERAGE(AD43:AD178))","v":1E-4},null,{"$f":"IF(AF38=0,0.0001,AVERAGE(AF43:AF178))","v":1E-4},null,{"$f":"IF(AH38=0,0.0001,AVERAGE(AH43:AH178))","v":1E-4},null,{"$f":"IF(AJ38=0,0.0001,AVERAGE(AJ43:AJ178))","v":1E-4}]
[null,null,null,null,null,null,null,null,null,null,null,null,null,null,null,null,null,null,null,null,null,null,null,null,null,null,null,null,null,null,null,null,null,null,null,null,{"$f":"MAX(AL43:AL102)","v":0}]
[null,"Nº partida ","Manel",null,"Pepe",null,"Jordi",null,"MªJosé",null,"Goretti",null,"Sergi",null,"Carles",null,"Mariajo",null,"Iglesias",null,"Martín",null,"Xavi",null,"Ester",null,"Joan Carles",null,"Grau",null,"Mercè",null,"Salvadó",null,"Pol",null,{"$f":"COUNT(AK43:AK196)","v":0},"A","B","C"]
[null,null,"Premi","Punts","Premi","Punts","Premi","Punts","Premi","Punts","Premi","Punts","Premi","Punts","Premi","Punts","Premi","Punts","Premi","Punts","Premi","Punts","Premi","Punts","Premi","Punts","Premi","Punts","Premi","Punts","Premi","Punts","Premi","Punts","Premi","Punts","Data","Timbes"]
[1,null,-10000,null,-10000,null,-10000,null,-10000,null,-10000,null,-10000,null,-10000,null,-10000,null,-10000,null,-10000,null,-10000,null,-10000,null,-10000,null,-10000,null,-10000,null,-10000,null,-10000,null,null,null,{"$f":"+C43+E43+G43+I43++K43++M43+O43+Q43+S43+U43+W43+Y43+AI43+AE43+AG43+AA43+AC43","v":-170000},{"$f":"COUNT(C43:AJ43)/2","v":8.5},{"$f":"+AM43/AN43","v":-20000}]
[{"$f":"+A43+1","v":2},null,null,null,null,null,null,null,null,null,null,null,null,null,null,null,null,null,null,null,null,null,null,null,null,null,null,null,null,null,null,null,null,null,null,null,null,null,{"$f":"+C44+E44+G44+I44++K44++M44+O44+Q44+S44+U44+W44+Y44+AI44+AE44+AG44+AA44+AC44","v":0},{"$f":"COUNT(C44:AJ44)/2","v":0},{"$f":"+AM44/AN44","v":{"$error":"#DIV/0!"}}]
[{"$f":"+A44+1","v":3},null,null,null,null,null,null,null,null,null,null,null,null,null,null,null,null,null,null,null,null,null,null,null,null,null,null,null,null,null,null,null,null,null,null,null,null,null,{"$f":"+C45+E45+G45+I45++K45++M45+O45+Q45+S45+U45+W45+Y45+AI45+AE45+AG45+AA45+AC45","v":0},{"$f":"COUNT(C45:AJ45)/2","v":0},{"$f":"+AM45/AN45","v":{"$error":"#DIV/0!"}}]
[4,null,null,null,null,null,null,null,null,null,null,null,null,null,null,null,null,null,null,null,null,null,null,null,null,null,null,null,null,null,null,null,null,null,null,null,null,null,{"$f":"+C46+E46+G46+I46++K46++M46+O46+Q46+S46+U46+W46+Y46+AI46+AE46+AG46+AA46+AC46","v":0},{"$f":"COUNT(C46:AJ46)/2","v":0},{"$f":"+AM46/AN46","v":{"$error":"#DIV/0!"}}]
[5,null,null,null,null,null,null,null,null,null,null,null,null,null,null,null,null,null,null,null,null,null,null,null,null,null,null,null,null,null,null,null,null,null,null,null,null,null,{"$f":"+C47+E47+G47+I47++K47++M47+O47+Q47+S47+U47+W47+Y47+AI47+AE47+AG47+AA47+AC47","v":0},{"$f":"COUNT(C47:AJ47)/2","v":0},{"$f":"+AM47/AN47","v":{"$error":"#DIV/0!"}}]
[6]
[7]
[8]
[9]
[10]
[11]
[12]
[13]
[14]
[15]
[16]
[17]
[18]
[19]
[20]
[21]
[22]
[23]
[24]
[25]
[26]
[27]
[28]
[29]
[{"$f":"+A71+1","v":30}]
[31]
[32]
[33]
[34]
[35]
[36]
[37]
[38]
[39]
[40]
[41]
[42]
[43]
[44]
[45]
[46]
[47]
[48]
[49]
[50]
[51]
[52]
[53]
[54]
[55]
[56]
[57]
[58]
[59]
[60]
[61]
[62]
[63]
[64]
[{"$f":"+A106+1","v":65}]
[66]
[67]
[68]
[69]
[70]
[71]
[72]
[73]
[74]
[75]
[76]
[77]
[78]
[79]
[80]
[81]
[82]
[83]
[84]
[85]
[86]
[87]
[88]
[89]
[90]
[91]
[92]
[93]
[94]
[95]
[96]
[97]
[98]
[99]
[100]
[101]
[102]
[103]
[104]
[105]
[106]
[107]
[108]
[109]
[110]
[111]
[112]
[113]
[114]
[115]
[116]
[117]
[118]
[119]
[120]
[121]
[122]
[123]
[124]
[125]
[126]
[127]
[128]
[{"$f":"+A170+1","v":129}]
[{"$f":"+A171+1","v":130}]
[{"$f":"+A172+1","v":131}]

{"sheet":"Buti3","index":19,"n_rows":122,"n_cols":49,"rows_kept":122,"cut":false,"hidden":false,"merged":[[38,2,38,4],[38,5,38,7],[38,8,38,10],[38,11,38,13],[38,14,38,16],[38,17,38,19],[38,20,38,22],[38,23,38,25],[38,41,38,43],[38,26,38,28],[38,29,38,31],[38,32,38,34],[38,35,38,37],[38,38,38,40]]}
["BUTI3"]
["Mes"]
[{"$f":"+GENERAL!B6","v":12},null,{"$f":"SUM(C5:C7)","v":-300000000}]
[null,null,"Premi","Punts","Partides","General"]
[1,"Mariajo",{"$f":"+X$36","v":-100000000},{"$f":"+X$37","v":0},{"$f":"+Y$36","v":0},{"$f":"+X$22","v":0},{"$f":"IF(E5<A$3/2,-10,1)*80+C5+D5/1000","v":-100000800}]
[2,"Goretti",{"$f":"+C$36","v":-100000000},{"$f":"+C$37","v":0},{"$f":"+D$36","v":0},{"$f":"+C$22","v":0},-100000800]
[3,"Grau",{"$f":"+AM$36","v":-100000000},{"$f":"+AM$37","v":0},{"$f":"+AN$36","v":0},{"$f":"+AM$22","v":0},-100000800]
[4,"Jordi",{"$f":"+I$36","v":-100000000},{"$f":"+I$37","v":0},{"$f":"+J$36","v":0},{"$f":"+I$22","v":0},-100000800]
[5,"Sergi",{"$f":"+R$36","v":-100000000},{"$f":"+R$37","v":0},{"$f":"+S$36","v":0},{"$f":"+R$22","v":0},-100000800]
[6,"Estela",{"$f":"+F$36","v":-100000000},{"$f":"+F$37","v":0},{"$f":"+G$36","v":0},{"$f":"+F$22","v":0},-100000800]
[7,"Mercè",{"$f":"+AJ$36","v":-100000000},{"$f":"+AJ$37","v":0},{"$f":"+AK$36","v":0},{"$f":"+AJ$22","v":0},-100000800]
[8,"Carles",{"$f":"+U$36","v":-100000000},{"$f":"+U$37","v":0},{"$f":"+V$36","v":0},{"$f":"+U$22","v":0},-100000800]
[9,"Xavi",{"$f":"+AG$36","v":-100000000},{"$f":"+AG$37","v":0},{"$f":"+AH$36","v":0},{"$f":"+AG$22","v":0},-100000800]
[10,"Iglesias",{"$f":"+AA$36","v":-100000000},{"$f":"+AA$37","v":0},{"$f":"+AB$36","v":0},{"$f":"+AA$22","v":0},-100000800]
[11,"Martín",{"$f":"+AD$36","v":-100000000},{"$f":"+AD$37","v":0},{"$f":"+AE$36","v":0},{"$f":"+AD$22","v":0},-100000800]
[12,"Marc",{"$f":"+O$36","v":-100000000},{"$f":"+O$37","v":0},{"$f":"+P$36","v":0},{"$f":"+O$22","v":0},-100000800]
[13,"MªJosé",{"$f":"+L$36","v":-100000000},{"$f":"+L$37","v":0},{"$f":"+M$36","v":0},{"$f":"+L$22","v":0},-100000800]
[14,"Salvadó",{"$f":"+AP$36","v":-100000000},{"$f":"+AP$37","v":0},{"$f":"+AQ$36","v":0},{"$f":"+AP$22","v":0},-100000800]
[]
[]
[]
[null,"General",{"$f":"+C23*C24","v":0},{"$f":"+D23*D24","v":0},null,0,0,null,{"$f":"+I23*I24","v":0},0,null,0,0,null,0,0,null,0,0,null,0,0,null,0,0,null,{"$f":"+AA23*AA24","v":0},0,null,0,0,null,0,0,null,{"$f":"+AJ23*AJ24","v":0},0,null,{"$f":"+AM23*AM24","v":0},{"$f":"+AN23*AN24","v":0},null,0,0]
[null,null,{"$f":"IF($B35>3,1,0)","v":0},{"$f":"IF($B35>3,1,0)","v":0},null,{"$f":"IF($B35>3,1,0)","v":0},{"$f":"IF($B35>3,1,0)","v":0},null,{"$f":"IF($B35>3,1,0)","v":0},{"$f":"IF($B35>3,1,0)","v":0},null,{"$f":"IF($B35>3,1,0)","v":0},{"$f":"IF($B35>3,1,0)","v":0},null,{"$f":"IF($B35>3,1,0)","v":0},{"$f":"IF($B35>3,1,0)","v":0},null,{"$f":"IF($B35>3,1,0)","v":0},{"$f":"IF($B35>3,1,0)","v":0},null,{"$f":"IF($B35>3,1,0)","v":0},{"$f":"IF($B35>3,1,0)","v":0},null,{"$f":"IF($B35>3,1,0)","v":0},{"$f":"IF($B35>3,1,0)","v":0},null,{"$f":"IF($B35>3,1,0)","v":0},{"$f":"IF($B35>3,1,0)","v":0},null,{"$f":"IF($B35>3,1,0)","v":0},{"$f":"IF($B35>3,1,0)","v":0},null,{"$f":"IF($B35>3,1,0)","v":0},{"$f":"IF($B35>3,1,0)","v":0},null,{"$f":"IF($B35>3,1,0)","v":0},{"$f":"IF($B35>3,1,0)","v":0},null,{"$f":"IF($B35>3,1,0)","v":0},{"$f":"IF($B35>3,1,0)","v":0},null,{"$f":"IF($B35>3,1,0)","v":0},{"$f":"IF($B35>3,1,0)","v":0}]
[null,null,{"$f":"MAX(C25:C29)","v":0},{"$f":"+D36","v":0},null,{"$f":"MAX(F25:F29)","v":0},{"$f":"+G36","v":0},null,{"$f":"MAX(I25:I29)","v":0},{"$f":"+J36","v":0},null,{"$f":"MAX(L25:L29)","v":0},{"$f":"+M36","v":0},null,{"$f":"MAX(O25:O29)","v":0},{"$f":"+P36","v":0},null,{"$f":"MAX(R25:R29)","v":0},{"$f":"+S36","v":0},null,{"$f":"MAX(U25:U29)","v":0},{"$f":"+V36","v":0},null,{"$f":"MAX(X25:X29)","v":0},{"$f":"+Y36","v":0},null,{"$f":"MAX(AA25:AA29)","v":0},{"$f":"+AB36","v":0},null,{"$f":"MAX(AD25:AD29)","v":0},{"$f":"+AE36","v":0},null,{"$f":"MAX(AG25:AG29)","v":0},{"$f":"+AH36","v":0},null,{"$f":"MAX(AJ25:AJ29)","v":0},{"$f":"+AK36","v":0},null,{"$f":"MAX(AM25:AM29)","v":0},{"$f":"+AN36","v":0},null,{"$f":"MAX(AP25:AP29)","v":0},{"$f":"+AQ36","v":0}]
[null,null,{"$f":"IF(C$30=5,5,0)","v":0},null,null,{"$f":"IF(F$30=5,5,0)","v":0},null,null,{"$f":"IF(I$30=5,5,0)","v":0},null,null,{"$f":"IF(L$30=5,5,0)","v":0},null,null,{"$f":"IF(O$30=5,5,0)","v":0},null,null,{"$f":"IF(R$30=5,5,0)","v":0},null,null,{"$f":"IF(U$30=5,5,0)","v":0},null,null,{"$f":"IF(X$30=5,5,0)","v":0},null,null,{"$f":"IF(AA$30=5,5,0)","v":0},null,null,{"$f":"IF(AD$30=5,5,0)","v":0},null,null,{"$f":"IF(AG$30=5,5,0)","v":0},null,null,{"$f":"IF(AJ$30=5,5,0)","v":0},null,null,{"$f":"IF(AM$30=5,5,0)","v":0},null,null,{"$f":"IF(AP$30=5,5,0)","v":0}]
[null,null,{"$f":"IF(C$30=4,10,0)","v":0},null,null,{"$f":"IF(F$30=4,10,0)","v":0},null,null,{"$f":"IF(I$30=4,10,0)","v":0},null,null,{"$f":"IF(L$30=4,10,0)","v":0},null,null,{"$f":"IF(O$30=4,10,0)","v":0},null,null,{"$f":"IF(R$30=4,10,0)","v":0},null,null,{"$f":"IF(U$30=4,10,0)","v":0},null,null,{"$f":"IF(X$30=4,10,0)","v":0},null,null,{"$f":"IF(AA$30=4,10,0)","v":0},null,null,{"$f":"IF(AD$30=4,10,0)","v":0},null,null,{"$f":"IF(AG$30=4,10,0)","v":0},null,null,{"$f":"IF(AJ$30=4,10,0)","v":0},null,null,{"$f":"IF(AM$30=4,10,0)","v":0},null,null,{"$f":"IF(AP$30=4,10,0)","v":0}]
[null,null,{"$f":"IF(C$30=3,20,0)","v":0},null,null,{"$f":"IF(F$30=3,20,0)","v":0},null,null,{"$f":"IF(I$30=3,20,0)","v":0},null,null,{"$f":"IF(L$30=3,20,0)","v":0},null,null,{"$f":"IF(O$30=3,20,0)","v":0},null,null,{"$f":"IF(R$30=3,20,0)","v":0},null,null,{"$f":"IF(U$30=3,20,0)","v":0},null,null,{"$f":"IF(X$30=3,20,0)","v":0},null,null,{"$f":"IF(AA$30=3,20,0)","v":0},null,null,{"$f":"IF(AD$30=3,20,0)","v":0},null,null,{"$f":"IF(AG$30=3,20,0)","v":0},null,null,{"$f":"IF(AJ$30=3,20,0)","v":0},null,null,{"$f":"IF(AM$30=3,20,0)","v":0},null,null,{"$f":"IF(AP$30=3,20,0)","v":0}]
[null,null,{"$f":"IF(C$30=2,40,0)","v":0},null,null,{"$f":"IF(F$30=2,40,0)","v":0},null,null,{"$f":"IF(I$30=2,40,0)","v":0},null,null,{"$f":"IF(L$30=2,40,0)","v":0},null,null,{"$f":"IF(O$30=2,40,0)","v":0},null,null,{"$f":"IF(R$30=2,40,0)","v":0},null,null,{"$f":"IF(U$30=2,40,0)","v":0},null,null,{"$f":"IF(X$30=2,40,0)","v":0},null,null,{"$f":"IF(AA$30=2,40,0)","v":0},null,null,{"$f":"IF(AD$30=2,40,0)","v":0},null,null,{"$f":"IF(AG$30=2,40,0)","v":0},null,null,{"$f":"IF(AJ$30=2,40,0)","v":0},null,null,{"$f":"IF(AM$30=2,40,0)","v":0},null,null,{"$f":"IF(AP$30=2,40,0)","v":0}]
[null,null,{"$f":"IF(C$30=1,80,0)","v":0},null,null,{"$f":"IF(F$30=1,80,0)","v":0},null,null,{"$f":"IF(I$30=1,80,0)","v":0},null,null,{"$f":"IF(L$30=1,80,0)","v":0},null,null,{"$f":"IF(O$30=1,80,0)","v":0},null,null,{"$f":"IF(R$30=1,80,0)","v":0},null,null,{"$f":"IF(U$30=1,80,0)","v":0},null,null,{"$f":"IF(X$30=1,80,0)","v":0},null,null,{"$f":"IF(AA$30=1,80,0)","v":0},null,null,{"$f":"IF(AD$30=1,80,0)","v":0},null,null,{"$f":"IF(AG$30=1,80,0)","v":0},null,null,{"$f":"IF(AJ$30=1,80,0)","v":0},null,null,{"$f":"IF(AM$30=1,80,0)","v":0},null,null,{"$f":"IF(AP$30=1,80,0)","v":0}]
[null,null,{"$f":"RANK(C31,$C31:$AQ31)*C35","v":0},null,null,{"$f":"RANK(F31,$C31:$AQ31)*F35","v":0},null,null,{"$f":"RANK(I31,$C31:$AQ31)*I35","v":0},null,null,{"$f":"RANK(L31,$C31:$AQ31)*L35","v":0},null,null,{"$f":"RANK(O31,$C31:$AQ31)*O35","v":0},null,null,{"$f":"RANK(R31,$C31:$AQ31)*R35","v":0},null,null,{"$f":"RANK(U31,$C31:$AQ31)*U35","v":0},null,null,{"$f":"RANK(X31,$C31:$AQ31)*X35","v":0},null,null,{"$f":"RANK(AA31,$C31:$AQ31)*AA35","v":0},null,null,{"$f":"RANK(AD31,$C31:$AQ31)*AD35","v":0},null,null,{"$f":"RANK(AG31,$C31:$AQ31)*AG35","v":0},null,null,{"$f":"RANK(AJ31,$C31:$AQ31)*AJ35","v":0},null,null,{"$f":"RANK(AM31,$C31:$AQ31)*AM35","v":0},null,null,{"$f":"RANK(AP31,$C31:$AQ31)*AP35","v":0}]
[null,null,{"$f":"SUM(C32:C34)","v":-101000000},null,null,{"$f":"SUM(F32:F34)","v":-101000000},null,null,{"$f":"SUM(I32:I34)","v":-101000000},null,null,{"$f":"SUM(L32:L34)","v":-101000000},null,null,{"$f":"SUM(O32:O34)","v":-101000000},null,null,{"$f":"SUM(R32:R34)","v":-101000000},null,null,{"$f":"SUM(U32:U34)","v":-101000000},null,null,{"$f":"SUM(X32:X34)","v":-101000000},null,null,{"$f":"SUM(AA32:AA34)","v":-101000000},null,null,{"$f":"SUM(AD32:AD34)","v":-101000000},null,null,{"$f":"SUM(AG32:AG34)","v":-101000000},null,null,{"$f":"SUM(AJ32:AJ34)","v":-101000000},null,null,{"$f":"SUM(AM32:AM34)","v":-101000000},null,null,{"$f":"SUM(AP32:AP34)","v":-101000000}]
[null,null,{"$f":"+D36","v":0},null,null,{"$f":"+G36","v":0},null,null,{"$f":"+J36","v":0},null,null,{"$f":"+M36","v":0},null,null,{"$f":"+P36","v":0},null,null,{"$f":"+S36","v":0},null,null,{"$f":"+V36","v":0},null,null,{"$f":"+Y36","v":0},null,null,{"$f":"+AB36","v":0},null,null,{"$f":"+AE36","v":0},null,null,{"$f":"+AH36","v":0},null,null,{"$f":"+AK36","v":0},null,null,{"$f":"+AN36","v":0},null,null,{"$f":"+AQ36","v":0}]
[null,null,{"$f":"+C37*2","v":0},null,null,{"$f":"+F37*2","v":0},null,null,{"$f":"+I37*2","v":0},null,null,{"$f":"+L37*2","v":0},null,null,{"$f":"+O37*2","v":0},null,null,{"$f":"+R37*2","v":0},null,null,{"$f":"+U37*2","v":0},null,null,{"$f":"+X37*2","v":0},null,null,{"$f":"+AA37*2","v":0},null,null,{"$f":"+AD37*2","v":0},null,null,{"$f":"+AG37*2","v":0},null,null,{"$f":"+AJ37*2","v":0},null,null,{"$f":"+AM37*2","v":0},null,null,{"$f":"+AP37*2","v":0}]
[null,null,{"$f":"IF(C35=1,C36*C35*1000+C36,-1000000+C36)","v":-101000000},null,null,{"$f":"IF(F35=1,F36*F35*1000+F36,-1000000+F36)","v":-101000000},null,null,{"$f":"IF(I35=1,I36*I35*1000+I36,-1000000+I36)","v":-101000000},null,null,{"$f":"IF(L35=1,L36*L35*1000+L36,-1000000+L36)","v":-101000000},null,null,{"$f":"IF(O35=1,O36*O35*1000+O36,-1000000+O36)","v":-101000000},null,null,{"$f":"IF(R35=1,R36*R35*1000+R36,-1000000+R36)","v":-101000000},null,null,{"$f":"IF(U35=1,U36*U35*1000+U36,-1000000+U36)","v":-101000000},null,null,{"$f":"IF(X35=1,X36*X35*1000+X36,-1000000+X36)","v":-101000000},null,null,{"$f":"IF(AA35=1,AA36*AA35*1000+AA36,-1000000+AA36)","v":-101000000},null,null,{"$f":"IF(AD35=1,AD36*AD35*1000+AD36,-1000000+AD36)","v":-101000000},null,null,{"$f":"IF(AG35=1,AG36*AG35*1000+AG36,-1000000+AG36)","v":-101000000},null,null,{"$f":"IF(AJ35=1,AJ36*AJ35*1000+AJ36,-1000000+AJ36)","v":-101000000},null,null,{"$f":"IF(AM35=1,AM36*AM35*1000+AM36,-1000000+AM36)","v":-101000000},null,null,{"$f":"IF(AP35=1,AP36*AP35*1000+AP36,-1000000+AP36)","v":-101000000}]
["Classificats",{"$f":"SUM(C35:AP35)","v":0},{"$f":"IF(D36>=$A3/2,1,0)","v":0},null,null,{"$f":"IF(G36>=$A3/2,1,0)","v":0},null,null,{"$f":"IF(J36>=$A3/2,1,0)","v":0},null,null,{"$f":"IF(M36>=$A3/2,1,0)","v":0},null,null,{"$f":"IF(P36>=$A3/2,1,0)","v":0},null,null,{"$f":"IF(S36>=$A3/2,1,0)","v":0},null,null,{"$f":"IF(V36>=$A3/2,1,0)","v":0},null,null,{"$f":"IF(Y36>=$A3/2,1,0)","v":0},null,null,{"$f":"IF(AB36>=$A3/2,1,0)","v":0},null,null,{"$f":"IF(AE36>=$A3/2,1,0)","v":0},null,null,{"$f":"IF(AH36>=$A3/2,1,0)","v":0},null,null,{"$f":"IF(AK36>=$A3/2,1,0)","v":0},null,null,{"$f":"IF(AN36>=$A3/2,1,0)","v":0},null,null,{"$f":"IF(AQ36>=$A3/2,1,0)","v":0}]
[null,null,{"$f":"IF(SUM(C41:C207)<-1000,-100000000,SUM(C41:C207))","v":-100000000},{"$f":"COUNT(D41:D207)","v":0},null,{"$f":"IF(SUM(F41:F207)<-1000,-100000000,SUM(F41:F207))","v":-100000000},{"$f":"COUNT(G41:G207)","v":0},null,{"$f":"IF(SUM(I41:I207)<-1000,-100000000,SUM(I41:I207))","v":-100000000},{"$f":"COUNT(J41:J207)","v":0},null,{"$f":"IF(SUM(L41:L207)<-1000,-100000000,SUM(L41:L207))","v":-100000000},{"$f":"COUNT(M41:M207)","v":0},null,{"$f":"IF(SUM(O41:O207)<-1000,-100000000,SUM(O41:O207))","v":-100000000},{"$f":"COUNT(P41:P207)","v":0},null,{"$f":"IF(SUM(R41:R207)<-1000,-100000000,SUM(R41:R207))","v":-100000000},{"$f":"COUNT(S41:S207)","v":0},null,{"$f":"IF(SUM(U41:U207)<-1000,-100000000,SUM(U41:U207))","v":-100000000},{"$f":"COUNT(V41:V207)","v":0},null,{"$f":"IF(SUM(X41:X207)<-1000,-100000000,SUM(X41:X207))","v":-100000000},{"$f":"COUNT(Y41:Y207)","v":0},null,{"$f":"IF(SUM(AA41:AA207)<-1000,-100000000,SUM(AA41:AA207))","v":-100000000},{"$f":"COUNT(AB41:AB207)","v":0},null,{"$f":"IF(SUM(AD41:AD207)<-1000,-100000000,SUM(AD41:AD207))","v":-100000000},{"$f":"COUNT(AE41:AE207)","v":0},null,{"$f":"IF(SUM(AG41:AG207)<-1000,-100000000,SUM(AG41:AG207))","v":-100000000},{"$f":"COUNT(AH41:AH207)","v":0},null,{"$f":"IF(SUM(AJ41:AJ207)<-1000,-100000000,SUM(AJ41:AJ207))","v":-100000000},{"$f":"COUNT(AK41:AK207)","v":0},null,{"$f":"IF(SUM(AM41:AM207)<-1000,-100000000,SUM(AM41:AM207))","v":-100000000},{"$f":"COUNT(AN41:AN207)","v":0},null,{"$f":"IF(SUM(AP41:AP207)<-1000,-100000000,SUM(AP41:AP207))","v":-100000000},{"$f":"COUNT(AQ41:AQ207)","v":0},null,null,"A"]
[null,null,{"$f":"+D37-E37","v":0},{"$f":"SUM(D41:D122)","v":0},{"$f":"SUM(E41:E122)","v":0},{"$f":"+G37-H37","v":0},{"$f":"SUM(G41:G122)","v":0},{"$f":"SUM(H41:H122)","v":0},{"$f":"+J37-K37","v":0},{"$f":"SUM(J41:J122)","v":0},{"$f":"SUM(K41:K122)","v":0},{"$f":"+M37-N37","v":0},{"$f":"SUM(M41:M122)","v":0},{"$f":"SUM(N41:N122)","v":0},{"$f":"+P37-Q37","v":0},{"$f":"SUM(P41:P122)","v":0},{"$f":"SUM(Q41:Q122)","v":0},{"$f":"+S37-T37","v":0},{"$f":"SUM(S41:S122)","v":0},{"$f":"SUM(T41:T122)","v":0},{"$f":"+V37-W37","v":0},{"$f":"SUM(V41:V122)","v":0},{"$f":"SUM(W41:W122)","v":0},{"$f":"+Y37-Z37","v":0},{"$f":"SUM(Y41:Y122)","v":0},{"$f":"SUM(Z41:Z122)","v":0},{"$f":"+AB37-AC37","v":0},{"$f":"SUM(AB41:AB122)","v":0},{"$f":"SUM(AC41:AC122)","v":0},{"$f":"+AE37-AF37","v":0},{"$f":"SUM(AE41:AE122)","v":0},{"$f":"SUM(AF41:AF122)","v":0},{"$f":"+AH37-AI37","v":0},{"$f":"SUM(AH41:AH122)","v":0},{"$f":"SUM(AI41:AI122)","v":0},{"$f":"+AK37-AL37","v":0},{"$f":"SUM(AK41:AK122)","v":0},{"$f":"SUM(AL41:AL122)","v":0},{"$f":"+AN37-AO37","v":0},{"$f":"SUM(AN41:AN122)","v":0},{"$f":"SUM(AO41:AO122)","v":0},{"$f":"+AQ37-AR37","v":0},{"$f":"SUM(AQ41:AQ122)","v":0},{"$f":"SUM(AR41:AR122)","v":0},null,"B"]
[null,null,null,null,null,null,null,null,null,null,null,null,null,null,null,null,null,null,null,null,null,null,null,null,null,null,null,null,null,null,null,null,null,null,null,null,null,null,null,null,null,null,null,null,{"$f":"MAX(AT41:AT100)","v":0}]
[null,"Nº partida ","Goretti",null,null,"Otins",null,null,"Jordi",null,null,"MªJosé",null,null,"Marc",null,null,"Sergi",null,null,"Carles",null,null,"Mariajo",null,null,"Iglesias",null,null,"Martín",null,null,"Xavi",null,null,"Mercè",null,null,"Grau",null,null,"Salvadó",null,null,{"$f":"COUNT(AS41:AS122)","v":0},"A","B","C"]
[null,"5 copes","Premi","Punts",null,"Premi","Punts",null,"Premi","Punts",null,"Premi","Punts",null,"Premi","Punts",null,"Premi","Punts",null,"Premi","Punts",null,"Premi","Punts",null,"Premi","Punts",null,"Premi","Punts",null,"Premi","Punts",null,"Premi","Punts",null,"Premi","Punts",null,"Premi","Punts",null,"Data","Timba"]
[1,null,-10000,null,null,-10000,null,null,-10000,null,null,-10000,null,null,-10000,null,null,-10000,null,null,-10000,null,null,-10000,null,null,-10000,null,null,-10000,null,null,-10000,null,null,-10000,null,null,-10000,null,null,-10000,null,null,null,null,{"$f":"+AP41+AJ41+AG41+AD41+AA41+X41+U41+R41+O41+L41+I41+F41+C41+AM41","v":-140000},{"$f":"COUNT(C41:AR41)/2","v":7},{"$f":"+AQ41+AK41+AH41+AE41+AB41+Y41+V41+S41+P41+M41+J41+G41+D41+AN41","v":0}]
[{"$f":"+A41+1","v":2},null,null,null,null,null,null,null,null,null,null,null,null,null,null,null,null,null,null,null,null,null,null,null,null,null,null,null,null,null,null,null,null,null,null,null,null,null,null,null,null,null,null,null,null,null,0,0,0]
[3,null,null,null,null,null,null,null,null,null,null,null,null,null,null,null,null,null,null,null,null,null,null,null,null,null,null,null,null,null,null,null,null,null,null,null,null,null,null,null,null,null,null,null,null,null,0,0,0]
[4,null,null,null,null,null,null,null,null,null,null,null,null,null,null,null,null,null,null,null,null,null,null,null,null,null,null,null,null,null,null,null,null,null,null,null,null,null,null,null,null,null,null,null,null,null,0,0,0]
[5,null,null,null,null,null,null,null,null,null,null,null,null,null,null,null,null,null,null,null,null,null,null,null,null,null,null,null,null,null,null,null,null,null,null,null,null,null,null,null,null,null,null,null,null,null,0,0,0]
[6,null,null,null,null,null,null,null,null,null,null,null,null,null,null,null,null,null,null,null,null,null,null,null,null,null,null,null,null,null,null,null,null,null,null,null,null,null,null,null,null,null,null,null,null,null,0,0,0]
[7]
[8]
[9]
[10]
[11]
[12]
[13]
[14]
[15]
[16]
[17]
[18]
[19]
[20]
[21]
[22]
[23]
[24]
[25]
[26]
[27]
[28]
[29]
[30]
[31]
[32]
[33]
[{"$f":"+A73+1","v":34}]
[35]
[36]
[37]
[38]
[39]
[40]
[41]
[42]
[43]
[44]
[45]
[46]
[47]
[48]
[49]
[50]
[51]
[52]
[53]
[54]
[55]
[56]
[57]
[58]
[59]
[60]
[61]
[62]
[63]
[64]
[65]
[{"$f":"+A105+1","v":66}]
[67]
[68]
[69]
[70]
[71]
[72]
[{"$f":"+A112+1","v":73}]
[74]
[75]
[76]
[77]
[78]
[79]
[80]
[81]
[82]

{"sheet":"Truc","index":20,"n_rows":68,"n_cols":55,"rows_kept":68,"cut":false,"hidden":false,"merged":[[39,47,39,49],[39,26,39,28],[39,29,39,31],[39,32,39,34],[39,35,39,37],[39,38,39,40],[39,41,39,43],[39,44,39,46],[39,14,39,16],[39,17,39,19],[39,20,39,22],[39,23,39,25],[39,2,39,4],[39,5,39,7],[39,8,39,10],[39,11,39,13]]}
["TRUC"]
["Mes"]
[{"$f":"+GENERAL!B6","v":12},null,{"$f":"SUM(C5:C10)","v":-600000000}]
[null,null,"Diferencia","Punts","Partides","General"]
[1,"Carles",{"$f":"+U$37","v":-100000000},{"$f":"+U$38","v":1},{"$f":"+V$37","v":0},{"$f":"+U$23-(80-140/3)","v":-33.333333333333336},{"$f":"IF(E5<A$3/2,-1,1)*80+C5+D5/1000","v":-100000079.999}]
[2,"Mariajo",{"$f":"+X$37","v":-100000000},{"$f":"+X$38","v":1},{"$f":"+Y$37","v":0},{"$f":"+X$23-(80-140/3)","v":-33.333333333333336},-100000079.999]
[2,"Manolo",{"$f":"+F$37","v":-100000000},{"$f":"+F$38","v":1},{"$f":"+G$37","v":0},{"$f":"+F$23-(80-140/3)","v":-33.333333333333336},-100000079.999]
[4,"Jordi",{"$f":"+I$37","v":-100000000},{"$f":"+I$38","v":1},{"$f":"+J$37","v":0},{"$f":"+I$23-5","v":-5},-100000079.999]
[4,"Mercè",{"$f":"+C$37","v":-100000000},{"$f":"+C$38","v":1},{"$f":"+D$37","v":0},{"$f":"+C$23-5","v":-5},-100000079.999]
[6,"Sergi",{"$f":"+R$37","v":-100000000},{"$f":"+R$38","v":1},{"$f":"+S$37","v":0},{"$f":"+R$23-5","v":-5},-100000079.999]
[7,"Jimmy",{"$f":"+AV$37","v":-100000000},{"$f":"+AV$38","v":1},{"$f":"+AW$37","v":0},{"$f":"+AV$23","v":0},-100000079.999]
[8,"Iglesias",{"$f":"+AA$37","v":-100000000},{"$f":"+AA$38","v":1},{"$f":"+AB$37","v":0},{"$f":"+AA$23","v":0},-100000079.999]
[9,"Martín",{"$f":"+AD$37","v":-100000000},{"$f":"+AD$38","v":1},{"$f":"+AE$37","v":0},{"$f":"+AD$23","v":0},-100000079.999]
[10,"Xavi",{"$f":"+AG$37","v":-100000000},{"$f":"+AG$38","v":1},{"$f":"+AH$37","v":0},{"$f":"+AG$23","v":0},-100000079.999]
[11,"MªJosé",{"$f":"+L$37","v":-100000000},{"$f":"+L$38","v":1},{"$f":"+M$37","v":0},{"$f":"+L$23","v":0},-100000079.999]
[12,"Goretti",{"$f":"+AP$37","v":-100000000},{"$f":"+AP$38","v":1},{"$f":"+AQ$37","v":0},{"$f":"+AP$23","v":0},-100000079.999]
[13,"Ester",{"$f":"+O$37","v":-100000000},{"$f":"+O$38","v":1},{"$f":"+P$37","v":0},{"$f":"+O$23","v":0},-100000079.999]
[14,"Marga",{"$f":"+AS$37","v":-100000000},{"$f":"+AS$38","v":1},{"$f":"+AT$37","v":0},{"$f":"+AS$23","v":0},-100000079.999]
[15,"Jorge",{"$f":"+AM$37","v":-100000000},{"$f":"+AM$38","v":1},{"$f":"+AN$37","v":0},{"$f":"+AM$23","v":0},-100000079.999]
[16,"Allan",{"$f":"+AJ$37","v":-100000000},{"$f":"+AJ$38","v":1},{"$f":"+AK$37","v":0},{"$f":"+AJ$23","v":0},-100000079.999]
[]
[]
[null,"General",{"$f":"+C24*C25","v":0},{"$f":"+D24*D25","v":0},null,{"$f":"+F24*F25","v":0},{"$f":"+G24*G25","v":0},null,{"$f":"+I24*I25","v":0},{"$f":"+J24*J25","v":0},null,{"$f":"+L24*L25","v":0},{"$f":"+M24*M25","v":0},null,{"$f":"+O24*O25","v":0},{"$f":"+P24*P25","v":0},null,{"$f":"+R24*R25","v":0},{"$f":"+S24*S25","v":0},null,{"$f":"+U24*U25","v":0},{"$f":"+V24*V25","v":0},null,{"$f":"+X24*X25","v":0},{"$f":"+Y24*Y25","v":0},null,{"$f":"+AA24*AA25","v":0},{"$f":"+AB24*AB25","v":0},null,{"$f":"+AD24*AD25","v":0},{"$f":"+AE24*AE25","v":0},null,{"$f":"+AG24*AG25","v":0},{"$f":"+AH24*AH25","v":0},null,{"$f":"+AJ24*AJ25","v":0},{"$f":"+AK24*AK25","v":0},null,{"$f":"+AM24*AM25","v":0},{"$f":"+AN24*AN25","v":0},null,{"$f":"+AP24*AP25","v":0},{"$f":"+AQ24*AQ25","v":0},null,{"$f":"+AS24*AS25","v":0},{"$f":"+AT24*AT25","v":0},null,{"$f":"+AV24*AV25","v":0},{"$f":"+AW24*AW25","v":0}]
[null,null,{"$f":"IF($B36>3,1,0)","v":0},{"$f":"IF($B36>3,1,0)","v":0},null,{"$f":"IF($B36>3,1,0)","v":0},{"$f":"IF($B36>3,1,0)","v":0},null,{"$f":"IF($B36>3,1,0)","v":0},{"$f":"IF($B36>3,1,0)","v":0},null,{"$f":"IF($B36>3,1,0)","v":0},{"$f":"IF($B36>3,1,0)","v":0},null,{"$f":"IF($B36>3,1,0)","v":0},{"$f":"IF($B36>3,1,0)","v":0},null,{"$f":"IF($B36>3,1,0)","v":0},{"$f":"IF($B36>3,1,0)","v":0},null,{"$f":"IF($B36>3,1,0)","v":0},{"$f":"IF($B36>3,1,0)","v":0},null,{"$f":"IF($B36>3,1,0)","v":0},{"$f":"IF($B36>3,1,0)","v":0},null,{"$f":"IF($B36>3,1,0)","v":0},{"$f":"IF($B36>3,1,0)","v":0},null,{"$f":"IF($B36>3,1,0)","v":0},{"$f":"IF($B36>3,1,0)","v":0},null,{"$f":"IF($B36>3,1,0)","v":0},{"$f":"IF($B36>3,1,0)","v":0},null,{"$f":"IF($B36>3,1,0)","v":0},{"$f":"IF($B36>3,1,0)","v":0},null,{"$f":"IF($B36>3,1,0)","v":0},{"$f":"IF($B36>3,1,0)","v":0},null,{"$f":"IF($B36>3,1,0)","v":0},{"$f":"IF($B36>3,1,0)","v":0},null,{"$f":"IF($B36>3,1,0)","v":0},{"$f":"IF($B36>3,1,0)","v":0},null,{"$f":"IF($B36>3,1,0)","v":0},{"$f":"IF($B36>3,1,0)","v":0}]
[null,null,{"$f":"MAX(C26:C30)","v":0},{"$f":"+D37","v":0},null,{"$f":"MAX(F26:F30)","v":0},{"$f":"+G37","v":0},null,{"$f":"MAX(I26:I30)","v":0},{"$f":"+J37","v":0},null,{"$f":"MAX(L26:L30)","v":0},{"$f":"+M37","v":0},null,{"$f":"MAX(O26:O30)","v":0},{"$f":"+P37","v":0},null,{"$f":"MAX(R26:R30)","v":0},{"$f":"+S37","v":0},null,{"$f":"MAX(U26:U30)","v":0},{"$f":"+V37","v":0},null,{"$f":"MAX(X26:X30)","v":0},{"$f":"+Y37","v":0},null,{"$f":"MAX(AA26:AA30)","v":0},{"$f":"+AB37","v":0},null,{"$f":"MAX(AD26:AD30)","v":0},{"$f":"+AE37","v":0},null,{"$f":"MAX(AG26:AG30)","v":0},{"$f":"+AH37","v":0},null,{"$f":"MAX(AJ26:AJ30)","v":0},{"$f":"+AK37","v":0},null,{"$f":"MAX(AM26:AM30)","v":0},{"$f":"+AN37","v":0},null,{"$f":"MAX(AP26:AP30)","v":0},{"$f":"+AQ37","v":0},null,{"$f":"MAX(AS26:AS30)","v":0},{"$f":"+AT37","v":0},null,{"$f":"MAX(AV26:AV30)","v":0},{"$f":"+AW37","v":0}]
[null,null,{"$f":"IF(C$31=5,5,0)","v":0},null,null,{"$f":"IF(F$31=5,5,0)","v":0},null,null,{"$f":"IF(I$31=5,5,0)","v":0},null,null,{"$f":"IF(L$31=5,5,0)","v":0},null,null,{"$f":"IF(O$31=5,5,0)","v":0},null,null,{"$f":"IF(R$31=5,5,0)","v":0},null,null,{"$f":"IF(U$31=5,5,0)","v":0},null,null,{"$f":"IF(X$31=5,5,0)","v":0},null,null,{"$f":"IF(AA$31=5,5,0)","v":0},null,null,{"$f":"IF(AD$31=5,5,0)","v":0},null,null,{"$f":"IF(AG$31=5,5,0)","v":0},null,null,{"$f":"IF(AJ$31=5,5,0)","v":0},null,null,{"$f":"IF(AM$31=5,5,0)","v":0},null,null,{"$f":"IF(AP$31=5,5,0)","v":0},null,null,{"$f":"IF(AS$31=5,5,0)","v":0},null,null,{"$f":"IF(AV$31=5,5,0)","v":0}]
[null,null,{"$f":"IF(C$31=4,10,0)","v":0},null,null,{"$f":"IF(F$31=4,10,0)","v":0},null,null,{"$f":"IF(I$31=4,10,0)","v":0},null,null,{"$f":"IF(L$31=4,10,0)","v":0},null,null,{"$f":"IF(O$31=4,10,0)","v":0},null,null,{"$f":"IF(R$31=4,10,0)","v":0},null,null,{"$f":"IF(U$31=4,10,0)","v":0},null,null,{"$f":"IF(X$31=4,10,0)","v":0},null,null,{"$f":"IF(AA$31=4,10,0)","v":0},null,null,{"$f":"IF(AD$31=4,10,0)","v":0},null,null,{"$f":"IF(AG$31=4,10,0)","v":0},null,null,{"$f":"IF(AJ$31=4,10,0)","v":0},null,null,{"$f":"IF(AM$31=4,10,0)","v":0},null,null,{"$f":"IF(AP$31=4,10,0)","v":0},null,null,{"$f":"IF(AS$31=4,10,0)","v":0},null,null,{"$f":"IF(AV$31=4,10,0)","v":0}]
[null,null,{"$f":"IF(C$31=3,20,0)","v":0},null,null,{"$f":"IF(F$31=3,20,0)","v":0},null,null,{"$f":"IF(I$31=3,20,0)","v":0},null,null,{"$f":"IF(L$31=3,20,0)","v":0},null,null,{"$f":"IF(O$31=3,20,0)","v":0},null,null,{"$f":"IF(R$31=3,20,0)","v":0},null,null,{"$f":"IF(U$31=3,20,0)","v":0},null,null,{"$f":"IF(X$31=3,20,0)","v":0},null,null,{"$f":"IF(AA$31=3,20,0)","v":0},null,null,{"$f":"IF(AD$31=3,20,0)","v":0},null,null,{"$f":"IF(AG$31=3,20,0)","v":0},null,null,{"$f":"IF(AJ$31=3,20,0)","v":0},null,null,{"$f":"IF(AM$31=3,20,0)","v":0},null,null,{"$f":"IF(AP$31=3,20,0)","v":0},null,null,{"$f":"IF(AS$31=3,20,0)","v":0},null,null,{"$f":"IF(AV$31=3,20,0)","v":0}]
[null,null,{"$f":"IF(C$31=2,40,0)","v":0},null,null,{"$f":"IF(F$31=2,40,0)","v":0},null,null,{"$f":"IF(I$31=2,40,0)","v":0},null,null,{"$f":"IF(L$31=2,40,0)","v":0},null,null,{"$f":"IF(O$31=2,40,0)","v":0},null,null,{"$f":"IF(R$31=2,40,0)","v":0},null,null,{"$f":"IF(U$31=2,40,0)","v":0},null,null,{"$f":"IF(X$31=2,40,0)","v":0},null,null,{"$f":"IF(AA$31=2,40,0)","v":0},null,null,{"$f":"IF(AD$31=2,40,0)","v":0},null,null,{"$f":"IF(AG$31=2,40,0)","v":0},null,null,{"$f":"IF(AJ$31=2,40,0)","v":0},null,null,{"$f":"IF(AM$31=2,40,0)","v":0},null,null,{"$f":"IF(AP$31=2,40,0)","v":0},null,null,{"$f":"IF(AS$31=2,40,0)","v":0},null,null,{"$f":"IF(AV$31=2,40,0)","v":0}]
[null,null,{"$f":"IF(C$31=1,80,0)","v":0},null,null,{"$f":"IF(F$31=1,80,0)","v":0},null,null,{"$f":"IF(I$31=1,80,0)","v":0},null,null,{"$f":"IF(L$31=1,80,0)","v":0},null,null,{"$f":"IF(O$31=1,80,0)","v":0},null,null,{"$f":"IF(R$31=1,80,0)","v":0},null,null,{"$f":"IF(U$31=1,80,0)","v":0},null,null,{"$f":"IF(X$31=1,80,0)","v":0},null,null,{"$f":"IF(AA$31=1,80,0)","v":0},null,null,{"$f":"IF(AD$31=1,80,0)","v":0},null,null,{"$f":"IF(AG$31=1,80,0)","v":0},null,null,{"$f":"IF(AJ$31=1,80,0)","v":0},null,null,{"$f":"IF(AM$31=1,80,0)","v":0},null,null,{"$f":"IF(AP$31=1,80,0)","v":0},null,null,{"$f":"IF(AS$31=1,80,0)","v":0},null,null,{"$f":"IF(AV$31=1,80,0)","v":0}]
[null,null,{"$f":"RANK(C32,$C32:$AW32)*C36","v":0},null,null,{"$f":"RANK(F32,$C32:$AW32)*F36","v":0},null,null,{"$f":"RANK(I32,$C32:$AW32)*I36","v":0},null,null,{"$f":"RANK(L32,$C32:$AW32)*L36","v":0},null,null,{"$f":"RANK(O32,$C32:$AW32)*O36","v":0},null,null,{"$f":"RANK(R32,$C32:$AW32)*R36","v":0},null,null,{"$f":"RANK(U32,$C32:$AW32)*U36","v":0},null,null,{"$f":"RANK(X32,$C32:$AW32)*X36","v":0},null,null,{"$f":"RANK(AA32,$C32:$AW32)*AA36","v":0},null,null,{"$f":"RANK(AD32,$C32:$AW32)*AD36","v":0},null,null,{"$f":"RANK(AG32,$C32:$AW32)*AG36","v":0},null,null,{"$f":"RANK(AJ32,$C32:$AW32)*AJ36","v":0},null,null,{"$f":"RANK(AM32,$C32:$AW32)*AM36","v":0},null,null,{"$f":"RANK(AP32,$C32:$AW32)*AP36","v":0},null,null,{"$f":"RANK(AS32,$C32:$AW32)*AS36","v":0},null,null,{"$f":"RANK(AV32,$C32:$AW32)*AV36","v":0}]
[null,null,{"$f":"SUM(C33:C35)","v":-999980},null,null,{"$f":"SUM(F33:F35)","v":-999980},null,null,{"$f":"SUM(I33:I35)","v":-999980},null,null,{"$f":"SUM(L33:L35)","v":-999980},null,null,{"$f":"SUM(O33:O35)","v":-999980},null,null,{"$f":"SUM(R33:R35)","v":-999980},null,null,{"$f":"SUM(U33:U35)","v":-999980},null,null,{"$f":"SUM(X33:X35)","v":-999980},null,null,{"$f":"SUM(AA33:AA35)","v":-999980},null,null,{"$f":"SUM(AD33:AD35)","v":-999980},null,null,{"$f":"SUM(AG33:AG35)","v":-999980},null,null,{"$f":"SUM(AJ33:AJ35)","v":-999980},null,null,{"$f":"SUM(AM33:AM35)","v":-999980},null,null,{"$f":"SUM(AP33:AP35)","v":-999980},null,null,{"$f":"SUM(AS33:AS35)","v":-999980},null,null,{"$f":"SUM(AV33:AV35)","v":-999980}]
[null,null,{"$f":"+D37","v":0},null,null,{"$f":"+G37","v":0},null,null,{"$f":"+J37","v":0},null,null,{"$f":"+M37","v":0},null,null,{"$f":"+P37","v":0},null,null,{"$f":"+S37","v":0},null,null,{"$f":"+V37","v":0},null,null,{"$f":"+Y37","v":0},null,null,{"$f":"+AB37","v":0},null,null,{"$f":"+AE37","v":0},null,null,{"$f":"+AH37","v":0},null,null,{"$f":"+AK37","v":0},null,null,{"$f":"+AN37","v":0},null,null,{"$f":"+AQ37","v":0},null,null,{"$f":"+AT37","v":0},null,null,{"$f":"+AW37","v":0}]
[null,null,{"$f":"+C38*20","v":20},null,null,{"$f":"+F38*20","v":20},null,null,{"$f":"+I38*20","v":20},null,null,{"$f":"+L38*20","v":20},null,null,{"$f":"+O38*20","v":20},null,null,{"$f":"+R38*20","v":20},null,null,{"$f":"+U38*20","v":20},null,null,{"$f":"+X38*20","v":20},null,null,{"$f":"+AA38*20","v":20},null,null,{"$f":"+AD38*20","v":20},null,null,{"$f":"+AG38*20","v":20},null,null,{"$f":"+AJ38*20","v":20},null,null,{"$f":"+AM38*20","v":20},null,null,{"$f":"+AP38*20","v":20},null,null,{"$f":"+AS38*20","v":20},null,null,{"$f":"+AV38*20","v":20}]
[null,null,{"$f":"IF(D37-$A3/2<0,-1000000,C37*C36*10000+C37)","v":-1000000},null,null,{"$f":"IF(G37-$A3/2<0,-1000000,F37*F36*10000+F37)","v":-1000000},null,null,{"$f":"IF(J37-$A3/2<0,-1000000,I37*I36*10000+I37)","v":-1000000},null,null,{"$f":"IF(M37-$A3/2<0,-1000000,L37*L36*10000+L37)","v":-1000000},null,null,{"$f":"IF(P37-$A3/2<0,-1000000,O37*O36*10000+O37)","v":-1000000},null,null,{"$f":"IF(S37-$A3/2<0,-1000000,R37*R36*10000+R37)","v":-1000000},null,null,{"$f":"IF(V37-$A3/2<0,-1000000,U37*U36*10000+U37)","v":-1000000},null,null,{"$f":"IF(Y37-$A3/2<0,-1000000,X37*X36*10000+X37)","v":-1000000},null,null,{"$f":"IF(AB37-$A3/2<0,-1000000,AA37*AA36*10000+AA37)","v":-1000000},null,null,{"$f":"IF(AE37-$A3/2<0,-1000000,AD37*AD36*10000+AD37)","v":-1000000},null,null,{"$f":"IF(AH37-$A3/2<0,-1000000,AG37*AG36*10000+AG37)","v":-1000000},null,null,{"$f":"IF(AK37-$A3/2<0,-1000000,AJ37*AJ36*10000+AJ37)","v":-1000000},null,null,{"$f":"IF(AN37-$A3/2<0,-1000000,AM37*AM36*10000+AM37)","v":-1000000},null,null,{"$f":"IF(AQ37-$A3/2<0,-1000000,AP37*AP36*10000+AP37)","v":-1000000},null,null,{"$f":"IF(AT37-$A3/2<0,-1000000,AS37*AS36*10000+AS37)","v":-1000000},null,null,{"$f":"IF(AW37-$A3/2<0,-1000000,AV37*AV36*10000+AV37)","v":-1000000}]
["Classificats",{"$f":"SUM(C36:AV36)","v":0},{"$f":"IF(D37>=$A3/2,1,0)","v":0},null,null,{"$f":"IF(G37>=$A3/2,1,0)","v":0},null,null,{"$f":"IF(J37>=$A3/2,1,0)","v":0},null,null,{"$f":"IF(M37>=$A3/2,1,0)","v":0},null,null,{"$f":"IF(P37>=$A3/2,1,0)","v":0},null,null,{"$f":"IF(S37>=$A3/2,1,0)","v":0},null,null,{"$f":"IF(V37>=$A3/2,1,0)","v":0},null,null,{"$f":"IF(Y37>=$A3/2,1,0)","v":0},null,null,{"$f":"IF(AB37>=$A3/2,1,0)","v":0},null,null,{"$f":"IF(AE37>=$A3/2,1,0)","v":0},null,null,{"$f":"IF(AH37>=$A3/2,1,0)","v":0},null,null,{"$f":"IF(AK37>=$A3/2,1,0)","v":0},null,null,{"$f":"IF(AN37>=$A3/2,1,0)","v":0},null,null,{"$f":"IF(AQ37>=$A3/2,1,0)","v":0},null,null,{"$f":"IF(AT37>=$A3/2,1,0)","v":0},null,null,{"$f":"IF(AW37>=$A3/2,1,0)","v":0}]
[null,null,{"$f":"IF(SUM(C42:C153)<-1000,-100000000,SUM(C42:C153))","v":-100000000},{"$f":"COUNT(D42:D153)","v":0},null,{"$f":"IF(SUM(F42:F153)<-1000,-100000000,SUM(F42:F153))","v":-100000000},{"$f":"COUNT(G42:G153)","v":0},null,{"$f":"IF(SUM(I42:I153)<-1000,-100000000,SUM(I42:I153))","v":-100000000},{"$f":"COUNT(J42:J153)","v":0},null,{"$f":"IF(SUM(L42:L153)<-1000,-100000000,SUM(L42:L153))","v":-100000000},{"$f":"COUNT(M42:M153)","v":0},null,{"$f":"IF(SUM(O42:O153)<-1000,-100000000,SUM(O42:O153))","v":-100000000},{"$f":"COUNT(P42:P153)","v":0},null,{"$f":"IF(SUM(R42:R153)<-1000,-100000000,SUM(R42:R153))","v":-100000000},{"$f":"COUNT(S42:S153)","v":0},null,{"$f":"IF(SUM(U42:U153)<-1000,-100000000,SUM(U42:U153))","v":-100000000},{"$f":"COUNT(V42:V153)","v":0},null,{"$f":"IF(SUM(X42:X153)<-1000,-100000000,SUM(X42:X153))","v":-100000000},{"$f":"COUNT(Y42:Y153)","v":0},null,{"$f":"IF(SUM(AA42:AA153)<-1000,-100000000,SUM(AA42:AA153))","v":-100000000},{"$f":"COUNT(AB42:AB153)","v":0},null,{"$f":"IF(SUM(AD42:AD153)<-1000,-100000000,SUM(AD42:AD153))","v":-100000000},{"$f":"COUNT(AE42:AE153)","v":0},null,{"$f":"IF(SUM(AG42:AG153)<-1000,-100000000,SUM(AG42:AG153))","v":-100000000},{"$f":"COUNT(AH42:AH153)","v":0},null,{"$f":"IF(SUM(AJ42:AJ153)<-1000,-100000000,SUM(AJ42:AJ153))","v":-100000000},{"$f":"COUNT(AK42:AK153)","v":0},null,{"$f":"IF(SUM(AM42:AM153)<-1000,-100000000,SUM(AM42:AM153))","v":-100000000},{"$f":"COUNT(AN42:AN153)","v":0},null,{"$f":"IF(SUM(AP42:AP153)<-1000,-100000000,SUM(AP42:AP153))","v":-100000000},{"$f":"COUNT(AQ42:AQ153)","v":0},null,{"$f":"IF(SUM(AS42:AS153)<-1000,-100000000,SUM(AS42:AS153))","v":-100000000},{"$f":"COUNT(AT42:AT153)","v":0},null,{"$f":"IF(SUM(AV42:AV153)<-1000,-100000000,SUM(AV42:AV153))","v":-100000000},{"$f":"COUNT(AW42:AW153)","v":0},null,null,"A"]
[null,null,{"$f":"+D38-E38","v":1},{"$f":"SUM(D42:D168)","v":0},{"$f":"SUM(E42:E168)","v":-1},{"$f":"+G38-H38","v":1},{"$f":"SUM(G42:G168)","v":0},{"$f":"SUM(H42:H168)","v":-1},{"$f":"+J38-K38","v":1},{"$f":"SUM(J42:J168)","v":0},{"$f":"SUM(K42:K168)","v":-1},{"$f":"+M38-N38","v":1},{"$f":"SUM(M42:M168)","v":0},{"$f":"SUM(N42:N168)","v":-1},{"$f":"+P38-Q38","v":1},{"$f":"SUM(P42:P168)","v":0},{"$f":"SUM(Q42:Q168)","v":-1},{"$f":"+S38-T38","v":1},{"$f":"SUM(S42:S168)","v":0},{"$f":"SUM(T42:T168)","v":-1},{"$f":"+V38-W38","v":1},{"$f":"SUM(V42:V168)","v":0},{"$f":"SUM(W42:W168)","v":-1},{"$f":"+Y38-Z38","v":1},{"$f":"SUM(Y42:Y168)","v":0},{"$f":"SUM(Z42:Z168)","v":-1},{"$f":"+AB38-AC38","v":1},{"$f":"SUM(AB42:AB168)","v":0},{"$f":"SUM(AC42:AC168)","v":-1},{"$f":"+AE38-AF38","v":1},{"$f":"SUM(AE42:AE168)","v":0},{"$f":"SUM(AF42:AF168)","v":-1},{"$f":"+AH38-AI38","v":1},{"$f":"SUM(AH42:AH168)","v":0},{"$f":"SUM(AI42:AI168)","v":-1},{"$f":"+AK38-AL38","v":1},{"$f":"SUM(AK42:AK168)","v":0},{"$f":"SUM(AL42:AL168)","v":-1},{"$f":"+AN38-AO38","v":1},{"$f":"SUM(AN42:AN168)","v":0},{"$f":"SUM(AO42:AO168)","v":-1},{"$f":"+AQ38-AR38","v":1},{"$f":"SUM(AQ42:AQ168)","v":0},{"$f":"SUM(AR42:AR168)","v":-1},{"$f":"+AT38-AU38","v":1},{"$f":"SUM(AT42:AT168)","v":0},{"$f":"SUM(AU42:AU168)","v":-1},{"$f":"+AW38-AX38","v":1},{"$f":"SUM(AW42:AW168)","v":0},{"$f":"SUM(AX42:AX168)","v":-1},null,"B"]
[null,null,null,null,null,null,null,null,null,null,null,null,null,null,null,null,null,null,null,null,null,null,null,null,null,null,null,null,null,null,null,null,null,null,null,null,null,null,null,null,null,null,null,null,null,null,null,null,null,null,{"$f":"MAX(AZ42:AZ101)","v":0}]
[null,"Nº partida ","Mercè",null,null,"Manolo",null,null,"Jordi",null,null,"MªJosé",null,null,"Ester",null,null,"Sergi",null,null,"Carles",null,null,"Mariajo",null,null,"Iglesias",null,null,"Martín",null,null,"Xavi",null,null,"Allan",null,null,"Jorge",null,null,"Goretti",null,null,"Marga",null,null,"Jimmy",null,null,{"$f":"COUNT(AY42:AY68)","v":0},"A","B","C"]
[null,"5 copes","Premi","Punts",null,"Premi","Punts",null,"Premi","Punts",null,"Premi","Punts",null,"Premi","Punts",null,"Premi","Punts",null,"Premi","Punts",null,"Premi","Punts",null,"Premi","Punts",null,"Premi","Punts",null,"Premi","Punts",null,"Premi","Punts",null,"Premi","Punts",null,"Premi","Punts",null,"Premi","Punts",null,"Premi","Punts",null,"Data","Timba"]
[1,null,-10000,null,-1,-10000,null,-1,-10000,null,-1,-10000,null,-1,-10000,null,-1,-10000,null,-1,-10000,null,-1,-10000,null,-1,-10000,null,-1,-10000,null,-1,-10000,null,-1,-10000,null,-1,-10000,null,-1,-10000,null,-1,-10000,null,-1,-10000,null,-1,null,null,{"$f":"+AV42+AJ42+AG42+AD42+AA42+X42+U42+R42+O42+L42+I42+F42+C42+AM42+AP42+AS42","v":-160000},{"$f":"COUNT(C42:AX42)/3","v":10.666666666666666},{"$f":"+BA42/BB42","v":-15000}]
[{"$f":"+A42+1","v":2},null,null,null,null,null,null,null,null,null,null,null,null,null,null,null,null,null,null,null,null,null,null,null,null,null,null,null,null,null,null,null,null,null,null,null,null,null,null,null,null,null,null,null,null,null,null,null,null,null,null,null,0,{"$f":"COUNT(C43:AX43)/3","v":0},{"$f":"+BA43/BB43","v":{"$error":"#DIV/0!"}}]
[{"$f":"+A43+1","v":3},null,null,null,null,null,null,null,null,null,null,null,null,null,null,null,null,null,null,null,null,null,null,null,null,null,null,null,null,null,null,null,null,null,null,null,null,null,null,null,null,null,null,null,null,null,null,null,null,null,null,null,0,{"$f":"COUNT(C44:AX44)/3","v":0},{"$f":"+BA44/BB44","v":{"$error":"#DIV/0!"}}]
[4,null,null,null,null,null,null,null,null,null,null,null,null,null,null,null,null,null,null,null,null,null,null,null,null,null,null,null,null,null,null,null,null,null,null,null,null,null,null,null,null,null,null,null,null,null,null,null,null,null,null,null,0,{"$f":"COUNT(C45:AX45)/3","v":0},{"$f":"+BA45/BB45","v":{"$error":"#DIV/0!"}}]
[5,null,null,null,null,null,null,null,null,null,null,null,null,null,null,null,null,null,null,null,null,null,null,null,null,null,null,null,null,null,null,null,null,null,null,null,null,null,null,null,null,null,null,null,null,null,null,null,null,null,null,null,0,0,{"$error":"#DIV/0!"}]
[6,null,null,null,null,null,null,null,null,null,null,null,null,null,null,null,null,null,null,null,null,null,null,null,null,null,null,null,null,null,null,null,null,null,null,null,null,null,null,null,null,null,null,null,null,null,null,null,null,null,null,null,0,0,{"$error":"#DIV/0!"}]
[7,null,null,null,null,null,null,null,null,null,null,null,null,null,null,null,null,null,null,null,null,null,null,null,null,null,null,null,null,null,null,null,null,null,null,null,null,null,null,null,null,null,null,null,null,null,null,null,null,null,null,null,0,0,{"$error":"#DIV/0!"}]
[8,null,null,null,null,null,null,null,null,null,null,null,null,null,null,null,null,null,null,null,null,null,null,null,null,null,null,null,null,null,null,null,null,null,null,null,null,null,null,null,null,null,null,null,null,null,null,null,null,null,null,null,0,0,{"$error":"#DIV/0!"}]
[9,null,null,null,null,null,null,null,null,null,null,null,null,null,null,null,null,null,null,null,null,null,null,null,null,null,null,null,null,null,null,null,null,null,null,null,null,null,null,null,null,null,null,null,null,null,null,null,null,null,null,null,0,0,{"$error":"#DIV/0!"}]
[10,null,null,null,null,null,null,null,null,null,null,null,null,null,null,null,null,null,null,null,null,null,null,null,null,null,null,null,null,null,null,null,null,null,null,null,null,null,null,null,null,null,null,null,null,null,null,null,null,null,null,null,0,0,{"$error":"#DIV/0!"}]
[11,null,null,null,null,null,null,null,null,null,null,null,null,null,null,null,null,null,null,null,null,null,null,null,null,null,null,null,null,null,null,null,null,null,null,null,null,null,null,null,null,null,null,null,null,null,null,null,null,null,null,null,0,0,{"$error":"#DIV/0!"}]
[12,null,null,null,null,null,null,null,null,null,null,null,null,null,null,null,null,null,null,null,null,null,null,null,null,null,null,null,null,null,null,null,null,null,null,null,null,null,null,null,null,null,null,null,null,null,null,null,null,null,null,null,0,0,{"$error":"#DIV/0!"}]
[13,null,null,null,null,null,null,null,null,null,null,null,null,null,null,null,null,null,null,null,null,null,null,null,null,null,null,null,null,null,null,null,null,null,null,null,null,null,null,null,null,null,null,null,null,null,null,null,null,null,null,null,0,0,{"$error":"#DIV/0!"}]
[14,null,null,null,null,null,null,null,null,null,null,null,null,null,null,null,null,null,null,null,null,null,null,null,null,null,null,null,null,null,null,null,null,null,null,null,null,null,null,null,null,null,null,null,null,null,null,null,null,null,null,null,0,0,{"$error":"#DIV/0!"}]
[15,null,null,null,null,null,null,null,null,null,null,null,null,null,null,null,null,null,null,null,null,null,null,null,null,null,null,null,null,null,null,null,null,null,null,null,null,null,null,null,null,null,null,null,null,null,null,null,null,null,null,null,0,0,{"$error":"#DIV/0!"}]
[16,null,null,null,null,null,null,null,null,null,null,null,null,null,null,null,null,null,null,null,null,null,null,null,null,null,null,null,null,null,null,null,null,null,null,null,null,null,null,null,null,null,null,null,null,null,null,null,null,null,null,null,{"$f":"+AV57+AJ57+AG57+AD57+AA57+X57+U57+R57+O57+L57+I57+F57+C57+AM57+AP57+AS57","v":0},0,{"$error":"#DIV/0!"}]
[17,null,null,null,null,null,null,null,null,null,null,null,null,null,null,null,null,null,null,null,null,null,null,null,null,null,null,null,null,null,null,null,null,null,null,null,null,null,null,null,null,null,null,null,null,null,null,null,null,null,null,null,{"$f":"+AV58+AJ58+AG58+AD58+AA58+X58+U58+R58+O58+L58+I58+F58+C58+AM58+AP58+AS58","v":0},0,{"$error":"#DIV/0!"}]
[18,null,null,null,null,null,null,null,null,null,null,null,null,null,null,null,null,null,null,null,null,null,null,null,null,null,null,null,null,null,null,null,null,null,null,null,null,null,null,null,null,null,null,null,null,null,null,null,null,null,null,null,{"$f":"+AV59+AJ59+AG59+AD59+AA59+X59+U59+R59+O59+L59+I59+F59+C59+AM59+AP59+AS59","v":0},0,{"$error":"#DIV/0!"}]
[19,null,null,null,null,null,null,null,null,null,null,null,null,null,null,null,null,null,null,null,null,null,null,null,null,null,null,null,null,null,null,null,null,null,null,null,null,null,null,null,null,null,null,null,null,null,null,null,null,null,null,null,{"$f":"+AV60+AJ60+AG60+AD60+AA60+X60+U60+R60+O60+L60+I60+F60+C60+AM60+AP60+AS60","v":0},0,{"$error":"#DIV/0!"}]
[20]
[21]
[22]
[23]
[24]
[25]
[26]
[27]

{"sheet":"Escombra","index":21,"n_rows":105,"n_cols":45,"rows_kept":105,"cut":false,"hidden":false,"merged":[[43,34,43,35],[43,36,43,37],[43,38,43,39],[43,26,43,27],[43,28,43,29],[43,30,43,31],[43,32,43,33],[43,22,43,23],[43,24,43,25],[43,10,43,11],[43,12,43,13],[43,14,43,15],[43,16,43,17],[43,20,43,21],[43,2,43,3],[43,4,43,5],[43,6,43,7],[43,8,43,9],[43,18,43,19]]}
["ESCOMBRA"]
["Mes"]
[{"$f":"+GENERAL!B6","v":12},null,{"$f":"SUM(C5:C7)","v":-300000000}]
[null,null,"Premi","Punts","Partides","General"]
[1,"Carles",{"$f":"+C$41","v":-100000000},{"$f":"+D$42","v":1E-4},{"$f":"+D$41","v":0},{"$f":"+C$27","v":0},{"$f":"IF(E5<A$3/2,-1,1)*80+C5","v":-100000080}]
[2,"Mercè",{"$f":"+Y$41","v":-100000000},{"$f":"+Z$42","v":1E-4},{"$f":"+Z$41","v":0},{"$f":"+Y$27","v":0},-100000080]
[3,"Jordi",{"$f":"+G$41","v":-100000000},{"$f":"+H$42","v":1E-4},{"$f":"+H$41","v":0},{"$f":"+G$27","v":0},-100000080]
[4,"Manolo",{"$f":"+S$41","v":-100000000},{"$f":"+T$42","v":1E-4},{"$f":"+T$41","v":0},{"$f":"+S$27","v":0},-100000080]
[5,"Mariajo",{"$f":"+AM$41","v":-100000000},{"$f":"+AN$42","v":1E-4},{"$f":"+AN$41","v":0},{"$f":"+AM$27","v":0},-100000080]
[6,"Grau",{"$f":"+AG$41","v":-100000000},{"$f":"+AH$42","v":1E-4},{"$f":"+AH$41","v":0},{"$f":"+AG$27","v":0},-100000080]
[7,"Joan Carles",{"$f":"+AA$41","v":-100000000},{"$f":"+AB$42","v":1E-4},{"$f":"+AB$41","v":0},{"$f":"+AA$27","v":0},-100000080]
[8,"Tina",{"$f":"+AC$41","v":-100000000},{"$f":"+AD$42","v":1E-4},{"$f":"+AD$41","v":0},{"$f":"+AC$27","v":0},-100000080]
[9,"Sergi",{"$f":"+M$41","v":-100000000},{"$f":"+N$42","v":1E-4},{"$f":"+N$41","v":0},{"$f":"+M$27","v":0},-100000080]
[10,"David",{"$f":"+E$41","v":-100000000},{"$f":"+F$42","v":1E-4},{"$f":"+F$41","v":0},{"$f":"+E$27","v":0},-100000080]
[11,"Baulenas",{"$f":"+K$41","v":-100000000},{"$f":"+L$42","v":1E-4},{"$f":"+L$41","v":0},{"$f":"+K$27","v":0},-100000080]
[12,"Xavi",{"$f":"+W$41","v":-100000000},{"$f":"+X$42","v":1E-4},{"$f":"+X$41","v":0},{"$f":"+W$27","v":0},-100000080]
[13,"Martín",{"$f":"+U$41","v":-100000000},{"$f":"+V$42","v":1E-4},{"$f":"+V$41","v":0},{"$f":"+U$27","v":0},-100000080]
[14,"Goretti",{"$f":"+AI$41","v":-100000000},{"$f":"+AJ$42","v":1E-4},{"$f":"+AJ$41","v":0},{"$f":"+AI$27","v":0},-100000080]
[15,"Agata",{"$f":"+AE$41","v":-100000000},{"$f":"+AF$42","v":1E-4},{"$f":"+AF$41","v":0},{"$f":"+AE$27","v":0},-100000080]
[16,"Iglesias",{"$f":"+AK$41","v":-100000000},{"$f":"+AL$42","v":1E-4},{"$f":"+AL$41","v":0},{"$f":"+AK$27","v":0},-100000080]
[17,"MªJosé",{"$f":"+I$41","v":-100000000},{"$f":"+J$42","v":1E-4},{"$f":"+J$41","v":0},{"$f":"+I$27","v":0},-100000080]
[18,"Axel",{"$f":"+O$41","v":-100000000},{"$f":"+P$42","v":1E-4},{"$f":"+P$41","v":0},{"$f":"+O$27","v":0},-100000080]
[19,"Eli",{"$f":"+Q$41","v":-100000000},{"$f":"+R$42","v":1E-4},{"$f":"+R$41","v":0},{"$f":"+Q$27","v":0},-100000080]
[]
[]
[]
[null,"General",{"$f":"+C28*C29","v":0},{"$f":"+D28*D29","v":0},0,0,0,0,0,0,0,0,0,0,0,0,0,0,0,0,0,0,0,0,0,0,0,0,0,0,0,0,0,0,0,0,0,0,0,0]
[null,null,{"$f":"IF($B40>3,1,0)","v":0},{"$f":"IF($B40>3,1,0)","v":0},{"$f":"IF($B40>3,1,0)","v":0},0,0,0,0,0,0,0,0,0,0,0,0,0,0,0,0,0,0,0,0,0,0,0,0,0,0,0,0,0,0,0,0,0,0,0]
[null,null,{"$f":"MAX(C30:C34)","v":0},{"$f":"+D41","v":0},{"$f":"MAX(E30:E34)","v":0},{"$f":"+F41","v":0},{"$f":"MAX(G30:G34)","v":0},{"$f":"+H41","v":0},{"$f":"MAX(I30:I34)","v":0},{"$f":"+J41","v":0},{"$f":"MAX(K30:K34)","v":0},{"$f":"+L41","v":0},{"$f":"MAX(M30:M34)","v":0},{"$f":"+N41","v":0},{"$f":"MAX(O30:O34)","v":0},{"$f":"+P41","v":0},{"$f":"MAX(Q30:Q34)","v":0},{"$f":"+R41","v":0},{"$f":"MAX(S30:S34)","v":0},{"$f":"+T41","v":0},{"$f":"MAX(U30:U34)","v":0},{"$f":"+V41","v":0},{"$f":"MAX(W30:W34)","v":0},{"$f":"+X41","v":0},{"$f":"MAX(Y30:Y34)","v":0},{"$f":"+Z41","v":0},{"$f":"MAX(AA30:AA34)","v":0},{"$f":"+AB41","v":0},{"$f":"MAX(AC30:AC34)","v":0},{"$f":"+AD41","v":0},{"$f":"MAX(AE30:AE34)","v":0},{"$f":"+AF41","v":0},{"$f":"MAX(AG30:AG34)","v":0},{"$f":"+AH41","v":0},{"$f":"MAX(AI30:AI34)","v":0},{"$f":"+AJ41","v":0},{"$f":"MAX(AK30:AK34)","v":0},{"$f":"+AL41","v":0},{"$f":"MAX(AM30:AM34)","v":0},{"$f":"+AN41","v":0}]
[null,null,{"$f":"IF(C$35=5,5,0)","v":0},null,{"$f":"IF(E$35=5,5,0)","v":0},null,{"$f":"IF(G$35=5,5,0)","v":0},null,{"$f":"IF(I$35=5,5,0)","v":0},null,{"$f":"IF(K$35=5,5,0)","v":0},null,{"$f":"IF(M$35=5,5,0)","v":0},null,{"$f":"IF(O$35=5,5,0)","v":0},null,{"$f":"IF(Q$35=5,5,0)","v":0},null,{"$f":"IF(S$35=5,5,0)","v":0},null,{"$f":"IF(U$35=5,5,0)","v":0},null,{"$f":"IF(W$35=5,5,0)","v":0},null,{"$f":"IF(Y$35=5,5,0)","v":0},null,{"$f":"IF(AA$35=5,5,0)","v":0},null,{"$f":"IF(AC$35=5,5,0)","v":0},null,{"$f":"IF(AE$35=5,5,0)","v":0},null,{"$f":"IF(AG$35=5,5,0)","v":0},null,{"$f":"IF(AI$35=5,5,0)","v":0},null,{"$f":"IF(AK$35=5,5,0)","v":0},null,{"$f":"IF(AM$35=5,5,0)","v":0}]
[null,null,{"$f":"IF(C$35=4,10,0)","v":0},null,{"$f":"IF(E$35=4,10,0)","v":0},null,{"$f":"IF(G$35=4,10,0)","v":0},null,{"$f":"IF(I$35=4,10,0)","v":0},null,{"$f":"IF(K$35=4,10,0)","v":0},null,{"$f":"IF(M$35=4,10,0)","v":0},null,{"$f":"IF(O$35=4,10,0)","v":0},null,{"$f":"IF(Q$35=4,10,0)","v":0},null,{"$f":"IF(S$35=4,10,0)","v":0},null,{"$f":"IF(U$35=4,10,0)","v":0},null,{"$f":"IF(W$35=4,10,0)","v":0},null,{"$f":"IF(Y$35=4,10,0)","v":0},null,{"$f":"IF(AA$35=4,10,0)","v":0},null,{"$f":"IF(AC$35=4,10,0)","v":0},null,{"$f":"IF(AE$35=4,10,0)","v":0},null,{"$f":"IF(AG$35=4,10,0)","v":0},null,{"$f":"IF(AI$35=4,10,0)","v":0},null,{"$f":"IF(AK$35=4,10,0)","v":0},null,{"$f":"IF(AM$35=4,10,0)","v":0}]
[null,null,{"$f":"IF(C$35=3,20,0)","v":0},null,{"$f":"IF(E$35=3,20,0)","v":0},null,{"$f":"IF(G$35=3,20,0)","v":0},null,{"$f":"IF(I$35=3,20,0)","v":0},null,{"$f":"IF(K$35=3,20,0)","v":0},null,{"$f":"IF(M$35=3,20,0)","v":0},null,{"$f":"IF(O$35=3,20,0)","v":0},null,{"$f":"IF(Q$35=3,20,0)","v":0},null,{"$f":"IF(S$35=3,20,0)","v":0},null,{"$f":"IF(U$35=3,20,0)","v":0},null,{"$f":"IF(W$35=3,20,0)","v":0},null,{"$f":"IF(Y$35=3,20,0)","v":0},null,{"$f":"IF(AA$35=3,20,0)","v":0},null,{"$f":"IF(AC$35=3,20,0)","v":0},null,{"$f":"IF(AE$35=3,20,0)","v":0},null,{"$f":"IF(AG$35=3,20,0)","v":0},null,{"$f":"IF(AI$35=3,20,0)","v":0},null,{"$f":"IF(AK$35=3,20,0)","v":0},null,{"$f":"IF(AM$35=3,20,0)","v":0}]
[null,null,{"$f":"IF(C$35=2,40,0)","v":0},null,{"$f":"IF(E$35=2,40,0)","v":0},null,{"$f":"IF(G$35=2,40,0)","v":0},null,{"$f":"IF(I$35=2,40,0)","v":0},null,{"$f":"IF(K$35=2,40,0)","v":0},null,{"$f":"IF(M$35=2,40,0)","v":0},null,{"$f":"IF(O$35=2,40,0)","v":0},null,{"$f":"IF(Q$35=2,40,0)","v":0},null,{"$f":"IF(S$35=2,40,0)","v":0},null,{"$f":"IF(U$35=2,40,0)","v":0},null,{"$f":"IF(W$35=2,40,0)","v":0},null,{"$f":"IF(Y$35=2,40,0)","v":0},null,{"$f":"IF(AA$35=2,40,0)","v":0},null,{"$f":"IF(AC$35=2,40,0)","v":0},null,{"$f":"IF(AE$35=2,40,0)","v":0},null,{"$f":"IF(AG$35=2,40,0)","v":0},null,{"$f":"IF(AI$35=2,40,0)","v":0},null,{"$f":"IF(AK$35=2,40,0)","v":0},null,{"$f":"IF(AM$35=2,40,0)","v":0}]
[null,null,{"$f":"IF(C$35=1,80,0)","v":0},null,{"$f":"IF(E$35=1,80,0)","v":0},null,{"$f":"IF(G$35=1,80,0)","v":0},null,{"$f":"IF(I$35=1,80,0)","v":0},null,{"$f":"IF(K$35=1,80,0)","v":0},null,{"$f":"IF(M$35=1,80,0)","v":0},null,{"$f":"IF(O$35=1,80,0)","v":0},null,{"$f":"IF(Q$35=1,80,0)","v":0},null,{"$f":"IF(S$35=1,80,0)","v":0},null,{"$f":"IF(U$35=1,80,0)","v":0},null,{"$f":"IF(W$35=1,80,0)","v":0},null,{"$f":"IF(Y$35=1,80,0)","v":0},null,{"$f":"IF(AA$35=1,80,0)","v":0},null,{"$f":"IF(AC$35=1,80,0)","v":0},null,{"$f":"IF(AE$35=1,80,0)","v":0},null,{"$f":"IF(AG$35=1,80,0)","v":0},null,{"$f":"IF(AI$35=1,80,0)","v":0},null,{"$f":"IF(AK$35=1,80,0)","v":0},null,{"$f":"IF(AM$35=1,80,0)","v":0}]
[null,null,{"$f":"RANK(C36,$C36:$BF36)*C40","v":0},null,{"$f":"RANK(E36,$C36:$BF36)*E40","v":0},null,{"$f":"RANK(G36,$C36:$BF36)*G40","v":0},null,{"$f":"RANK(I36,$C36:$BF36)*I40","v":0},null,{"$f":"RANK(K36,$C36:$BF36)*K40","v":0},null,{"$f":"RANK(M36,$C36:$BF36)*M40","v":0},null,{"$f":"RANK(O36,$C36:$BF36)*O40","v":0},null,{"$f":"RANK(Q36,$C36:$BF36)*Q40","v":0},null,{"$f":"RANK(S36,$C36:$BF36)*S40","v":0},null,{"$f":"RANK(U36,$C36:$BF36)*U40","v":0},null,{"$f":"RANK(W36,$C36:$BF36)*W40","v":0},null,{"$f":"RANK(Y36,$C36:$BF36)*Y40","v":0},null,{"$f":"RANK(AA36,$C36:$BF36)*AA40","v":0},null,{"$f":"RANK(AC36,$C36:$BF36)*AC40","v":0},null,{"$f":"RANK(AE36,$C36:$BF36)*AE40","v":0},null,{"$f":"RANK(AG36,$C36:$BF36)*AG40","v":0},null,{"$f":"RANK(AI36,$C36:$BF36)*AI40","v":0},null,{"$f":"RANK(AK36,$C36:$BF36)*AK40","v":0},null,{"$f":"RANK(AM36,$C36:$BF36)*AM40","v":0}]
[null,null,{"$f":"SUM(C37:C39)","v":-100999999.98999999},null,{"$f":"SUM(E37:E39)","v":-100999999.98999999},null,{"$f":"SUM(G37:G39)","v":-100999999.98999999},null,{"$f":"SUM(I37:I39)","v":-100999999.98999999},null,{"$f":"SUM(K37:K39)","v":-100999999.98999999},null,{"$f":"SUM(M37:M39)","v":-100999999.98999999},null,{"$f":"SUM(O37:O39)","v":-100999999.98999999},null,{"$f":"SUM(Q37:Q39)","v":-100999999.98999999},null,{"$f":"SUM(S37:S39)","v":-100999999.98999999},null,{"$f":"SUM(U37:U39)","v":-100999999.98999999},null,{"$f":"SUM(W37:W39)","v":-100999999.98999999},null,{"$f":"SUM(Y37:Y39)","v":-100999999.98999999},null,{"$f":"SUM(AA37:AA39)","v":-100999999.98999999},null,{"$f":"SUM(AC37:AC39)","v":-100999999.98999999},null,{"$f":"SUM(AE37:AE39)","v":-100999999.98999999},null,{"$f":"SUM(AG37:AG39)","v":-100999999.98999999},null,{"$f":"SUM(AI37:AI39)","v":-100999999.98999999},null,{"$f":"SUM(AK37:AK39)","v":-100999999.98999999},null,{"$f":"SUM(AM37:AM39)","v":-100999999.98999999}]
[null,null,{"$f":"+D41","v":0},null,{"$f":"+F41","v":0},null,{"$f":"+H41","v":0},null,{"$f":"+J41","v":0},null,{"$f":"+L41","v":0},null,{"$f":"+N41","v":0},null,{"$f":"+P41","v":0},null,{"$f":"+R41","v":0},null,{"$f":"+T41","v":0},null,{"$f":"+V41","v":0},null,{"$f":"+X41","v":0},null,{"$f":"+Z41","v":0},null,{"$f":"+AB41","v":0},null,{"$f":"+AD41","v":0},null,{"$f":"+AF41","v":0},null,{"$f":"+AH41","v":0},null,{"$f":"+AJ41","v":0},null,{"$f":"+AL41","v":0},null,{"$f":"+AN41","v":0}]
[null,null,{"$f":"+D42*100","v":0.01},null,{"$f":"+F42*100","v":0.01},null,{"$f":"+H42*100","v":0.01},null,{"$f":"+J42*100","v":0.01},null,{"$f":"+L42*100","v":0.01},null,{"$f":"+N42*100","v":0.01},null,{"$f":"+P42*100","v":0.01},null,{"$f":"+R42*100","v":0.01},null,{"$f":"+T42*100","v":0.01},null,{"$f":"+V42*100","v":0.01},null,{"$f":"+X42*100","v":0.01},null,{"$f":"+Z42*100","v":0.01},null,{"$f":"+AB42*100","v":0.01},null,{"$f":"+AD42*100","v":0.01},null,{"$f":"+AF42*100","v":0.01},null,{"$f":"+AH42*100","v":0.01},null,{"$f":"+AJ42*100","v":0.01},null,{"$f":"+AL42*100","v":0.01},null,{"$f":"+AN42*100","v":0.01}]
[null,null,{"$f":"IF(C40=1,C41*C40*1000+C41,-1000000+C41)","v":-101000000},null,{"$f":"IF(E40=1,E41*E40*1000+E41,-1000000+E41)","v":-101000000},null,{"$f":"IF(G40=1,G41*G40*1000+G41,-1000000+G41)","v":-101000000},null,{"$f":"IF(I40=1,I41*I40*1000+I41,-1000000+I41)","v":-101000000},null,{"$f":"IF(K40=1,K41*K40*1000+K41,-1000000+K41)","v":-101000000},null,{"$f":"IF(M40=1,M41*M40*1000+M41,-1000000+M41)","v":-101000000},null,{"$f":"IF(O40=1,O41*O40*1000+O41,-1000000+O41)","v":-101000000},null,{"$f":"IF(Q40=1,Q41*Q40*1000+Q41,-1000000+Q41)","v":-101000000},null,{"$f":"IF(S40=1,S41*S40*1000+S41,-1000000+S41)","v":-101000000},null,{"$f":"IF(U40=1,U41*U40*1000+U41,-1000000+U41)","v":-101000000},null,{"$f":"IF(W40=1,W41*W40*1000+W41,-1000000+W41)","v":-101000000},null,{"$f":"IF(Y40=1,Y41*Y40*1000+Y41,-1000000+Y41)","v":-101000000},null,{"$f":"IF(AA40=1,AA41*AA40*1000+AA41,-1000000+AA41)","v":-101000000},null,{"$f":"IF(AC40=1,AC41*AC40*1000+AC41,-1000000+AC41)","v":-101000000},null,{"$f":"IF(AE40=1,AE41*AE40*1000+AE41,-1000000+AE41)","v":-101000000},null,{"$f":"IF(AG40=1,AG41*AG40*1000+AG41,-1000000+AG41)","v":-101000000},null,{"$f":"IF(AI40=1,AI41*AI40*1000+AI41,-1000000+AI41)","v":-101000000},null,{"$f":"IF(AK40=1,AK41*AK40*1000+AK41,-1000000+AK41)","v":-101000000},null,{"$f":"IF(AM40=1,AM41*AM40*1000+AM41,-1000000+AM41)","v":-101000000}]
["Classificats",{"$f":"SUM(C40:AM40)","v":0},{"$f":"IF(D41>=$A3/2,1,0)","v":0},null,{"$f":"IF(F41>=$A3/2,1,0)","v":0},null,{"$f":"IF(H41>=$A3/2,1,0)","v":0},null,{"$f":"IF(J41>=$A3/2,1,0)","v":0},null,{"$f":"IF(L41>=$A3/2,1,0)","v":0},null,{"$f":"IF(N41>=$A3/2,1,0)","v":0},null,{"$f":"IF(P41>=$A3/2,1,0)","v":0},null,{"$f":"IF(R41>=$A3/2,1,0)","v":0},null,{"$f":"IF(T41>=$A3/2,1,0)","v":0},null,{"$f":"IF(V41>=$A3/2,1,0)","v":0},null,{"$f":"IF(X41>=$A3/2,1,0)","v":0},null,{"$f":"IF(Z41>=$A3/2,1,0)","v":0},null,{"$f":"IF(AB41>=$A3/2,1,0)","v":0},null,{"$f":"IF(AD41>=$A3/2,1,0)","v":0},null,{"$f":"IF(AF41>=$A3/2,1,0)","v":0},null,{"$f":"IF(AH41>=$A3/2,1,0)","v":0},null,{"$f":"IF(AJ41>=$A3/2,1,0)","v":0},null,{"$f":"IF(AL41>=$A3/2,1,0)","v":0},null,{"$f":"IF(AN41>=$A3/2,1,0)","v":0}]
[null,null,{"$f":"IF(SUM(C46:C208)<-1000,-100000000,SUM(C46:C208))","v":-100000000},{"$f":"COUNT(D46:D208)","v":0},{"$f":"IF(SUM(E46:E208)<-1000,-100000000,SUM(E46:E208))","v":-100000000},{"$f":"COUNT(F46:F208)","v":0},{"$f":"IF(SUM(G46:G208)<-1000,-100000000,SUM(G46:G208))","v":-100000000},{"$f":"COUNT(H46:H208)","v":0},{"$f":"IF(SUM(I46:I208)<-1000,-100000000,SUM(I46:I208))","v":-100000000},{"$f":"COUNT(J46:J208)","v":0},{"$f":"IF(SUM(K46:K208)<-1000,-100000000,SUM(K46:K208))","v":-100000000},{"$f":"COUNT(L46:L208)","v":0},{"$f":"IF(SUM(M46:M208)<-1000,-100000000,SUM(M46:M208))","v":-100000000},{"$f":"COUNT(N46:N208)","v":0},{"$f":"IF(SUM(O46:O208)<-1000,-100000000,SUM(O46:O208))","v":-100000000},{"$f":"COUNT(P46:P208)","v":0},{"$f":"IF(SUM(Q46:Q208)<-1000,-100000000,SUM(Q46:Q208))","v":-100000000},{"$f":"COUNT(R46:R208)","v":0},{"$f":"IF(SUM(S46:S208)<-1000,-100000000,SUM(S46:S208))","v":-100000000},{"$f":"COUNT(T46:T208)","v":0},{"$f":"IF(SUM(U46:U208)<-1000,-100000000,SUM(U46:U208))","v":-100000000},{"$f":"COUNT(V46:V208)","v":0},{"$f":"IF(SUM(W46:W208)<-1000,-100000000,SUM(W46:W208))","v":-100000000},{"$f":"COUNT(X46:X208)","v":0},{"$f":"IF(SUM(Y46:Y208)<-1000,-100000000,SUM(Y46:Y208))","v":-100000000},{"$f":"COUNT(Z46:Z208)","v":0},{"$f":"IF(SUM(AA46:AA208)<-1000,-100000000,SUM(AA46:AA208))","v":-100000000},{"$f":"COUNT(AB46:AB208)","v":0},{"$f":"IF(SUM(AC46:AC208)<-1000,-100000000,SUM(AC46:AC208))","v":-100000000},{"$f":"COUNT(AD46:AD208)","v":0},{"$f":"IF(SUM(AE46:AE208)<-1000,-100000000,SUM(AE46:AE208))","v":-100000000},{"$f":"COUNT(AF46:AF208)","v":0},{"$f":"IF(SUM(AG46:AG208)<-1000,-100000000,SUM(AG46:AG208))","v":-100000000},{"$f":"COUNT(AH46:AH208)","v":0},{"$f":"IF(SUM(AI46:AI208)<-1000,-100000000,SUM(AI46:AI208))","v":-100000000},{"$f":"COUNT(AJ46:AJ208)","v":0},{"$f":"IF(SUM(AK46:AK208)<-1000,-100000000,SUM(AK46:AK208))","v":-100000000},{"$f":"COUNT(AL46:AL208)","v":0},{"$f":"IF(SUM(AM46:AM208)<-1000,-100000000,SUM(AM46:AM208))","v":-100000000},{"$f":"COUNT(AN46:AN208)","v":0}]
[null,null,null,{"$f":"IF(D41=0,0.0001,AVERAGE(D46:D105))","v":1E-4},null,{"$f":"IF(F41=0,0.0001,AVERAGE(F46:F105))","v":1E-4},null,{"$f":"IF(H41=0,0.0001,AVERAGE(H46:H105))","v":1E-4},null,{"$f":"IF(J41=0,0.0001,AVERAGE(J46:J105))","v":1E-4},null,{"$f":"IF(L41=0,0.0001,AVERAGE(L46:L105))","v":1E-4},null,{"$f":"IF(N41=0,0.0001,AVERAGE(N46:N105))","v":1E-4},null,{"$f":"IF(P41=0,0.0001,AVERAGE(P46:P105))","v":1E-4},null,{"$f":"IF(R41=0,0.0001,AVERAGE(R46:R105))","v":1E-4},null,{"$f":"IF(T41=0,0.0001,AVERAGE(T46:T105))","v":1E-4},null,{"$f":"IF(V41=0,0.0001,AVERAGE(V46:V105))","v":1E-4},null,{"$f":"IF(X41=0,0.0001,AVERAGE(X46:X105))","v":1E-4},null,{"$f":"IF(Z41=0,0.0001,AVERAGE(Z46:Z105))","v":1E-4},null,{"$f":"IF(AB41=0,0.0001,AVERAGE(AB46:AB105))","v":1E-4},null,{"$f":"IF(AD41=0,0.0001,AVERAGE(AD46:AD105))","v":1E-4},null,{"$f":"IF(AF41=0,0.0001,AVERAGE(AF46:AF105))","v":1E-4},null,{"$f":"IF(AH41=0,0.0001,AVERAGE(AH46:AH105))","v":1E-4},null,{"$f":"IF(AJ41=0,0.0001,AVERAGE(AJ46:AJ105))","v":1E-4},null,{"$f":"IF(AL41=0,0.0001,AVERAGE(AL46:AL105))","v":1E-4},null,{"$f":"IF(AN41=0,0.0001,AVERAGE(AN46:AN105))","v":1E-4}]
[null,null,null,null,null,null,null,null,null,null,null,null,null,null,null,null,null,null,null,null,null,null,null,null,null,null,null,null,null,null,null,null,null,null,null,null,null,null,null,null,{"$f":"MAX(AP46:AP105)","v":0}]
[null,"Nº partida ","Carles",null,"David",null,"Jordi",null,"MªJosé",null,"Baulenas",null,"Sergi",null,"Axel",null,"Eli",null,"Manolo",null,"Martín",null,"Xavi",null,"Mercè",null,"Joan Carles",null,"Tina",null,"Agata",null,"Grau",null,"Goretti",null,"Iglesias",null,"Mariajo",null,{"$f":"COUNT(AO46:AO123)","v":0},"A","B","C"]
[null,null,"Premi","Punts","Premi","Punts","Premi","Punts","Premi","Punts","Premi","Punts","Premi","Punts","Premi","Punts","Premi","Punts","Premi","Punts","Premi","Punts","Premi","Punts","Premi","Punts","Premi","Punts","Premi","Punts","Premi","Punts","Premi","Punts","Premi","Punts","Premi","Punts","Premi","Punts","Data","Timba"]
[1,null,-10000000,null,-10000000,null,-10000000,null,-10000000,null,-10000000,null,-10000000,null,-10000000,null,-10000000,null,-10000000,null,-10000000,null,-10000000,null,-10000000,null,-10000000,null,-10000000,null,-10000000,null,-10000000,null,-10000000,null,-10000000,null,-10000000,null,null,null,{"$f":"+C46+E46+G46+I46++K46++M46+O46+Q46+S46+U46+W46+AK46+AM46+Y46+AC46+AE46+AG46+AI46+AA46","v":-190000000},{"$f":"COUNT(C46:AN46)/2","v":9.5},{"$f":"+AQ46/AR46","v":-20000000}]
[{"$f":"+A46+1","v":2},null,null,null,null,null,null,null,null,null,null,null,null,null,null,null,null,null,null,null,null,null,null,null,null,null,null,null,null,null,null,null,null,null,null,null,null,null,null,null,null,null,0,0,{"$error":"#DIV/0!"}]
[{"$f":"+A47+1","v":3},null,null,null,null,null,null,null,null,null,null,null,null,null,null,null,null,null,null,null,null,null,null,null,null,null,null,null,null,null,null,null,null,null,null,null,null,null,null,null,null,null,0,0,{"$error":"#DIV/0!"}]
[4,null,null,null,null,null,null,null,null,null,null,null,null,null,null,null,null,null,null,null,null,null,null,null,null,null,null,null,null,null,null,null,null,null,null,null,null,null,null,null,null,null,0,0,{"$error":"#DIV/0!"}]
[{"$f":"+A49+1","v":5},null,null,null,null,null,null,null,null,null,null,null,null,null,null,null,null,null,null,null,null,null,null,null,null,null,null,null,null,null,null,null,null,null,null,null,null,null,null,null,null,null,0,0,{"$error":"#DIV/0!"}]
[6,null,null,null,null,null,null,null,null,null,null,null,null,null,null,null,null,null,null,null,null,null,null,null,null,null,null,null,null,null,null,null,null,null,null,null,null,null,null,null,null,null,0,0,{"$error":"#DIV/0!"}]
[7,null,null,null,null,null,null,null,null,null,null,null,null,null,null,null,null,null,null,null,null,null,null,null,null,null,null,null,null,null,null,null,null,null,null,null,null,null,null,null,null,null,0,0,{"$error":"#DIV/0!"}]
[8,null,null,null,null,null,null,null,null,null,null,null,null,null,null,null,null,null,null,null,null,null,null,null,null,null,null,null,null,null,null,null,null,null,null,null,null,null,null,null,null,null,{"$f":"+C53+E53+G53+I53++K53++M53+O53+Q53+S53+U53+W53+AK53+AM53+Y53+AC53+AE53+AG53+AI53+AA53","v":0},0,{"$error":"#DIV/0!"}]
[9]
[10]
[11]
[12]
[{"$f":"+A57+1","v":13}]
[{"$f":"+A58+1","v":14}]
[15]
[16]
[17]
[18]
[19]
[20]
[21]
[22]
[23]
[24]
[25]
[26]
[27]
[28]
[29]
[30]
[31]
[32]
[33]
[34]
[35]
[36]
[37]
[38]
[39]
[40]
[41]
[42]
[43]
[44]
[45]
[46]
[47]
[48]
[49]
[50]
[51]
[52]
[53]
[54]
[55]
[56]
[57]
[58]
[59]
[60]

{"sheet":"Tute cabrò","index":22,"n_rows":128,"n_cols":36,"rows_kept":128,"cut":false,"hidden":false,"merged":[[38,24,38,25],[38,26,38,27],[38,28,38,29],[38,16,38,17],[38,18,38,19],[38,20,38,21],[38,22,38,23],[38,8,38,9],[38,10,38,11],[38,12,38,13],[38,14,38,15],[38,1,39,1],[38,2,38,3],[38,4,38,5],[38,6,38,7]]}
["TUTE CABRÒ"]
["Mes"]
[{"$f":"+GENERAL!B6","v":12},null,{"$f":"SUM(C5:C7)","v":-300000000}]
[null,null,"Premi","Punts","Partides","General"]
[1,"Jordi",{"$f":"+G$36","v":-100000000},{"$f":"+H$37","v":1E-4},{"$f":"+H$36","v":0},{"$f":"+G$22","v":0},{"$f":"IF(E5<A$3/2,-1,1)*800000+C5*1000-D5*10+E5","v":-100000800000.00101}]
[2,"Mariajo",{"$f":"+Q$36","v":-100000000},{"$f":"+R$37","v":1E-4},{"$f":"+R$36","v":0},{"$f":"+Q$22","v":0},-100000800000.00101]
[3,"Grau",{"$f":"+E$36","v":-100000000},{"$f":"+F$37","v":1E-4},{"$f":"+F$36","v":0},{"$f":"+E$22","v":0},-100000800000.00101]
[4,"Manolo",{"$f":"+U$36","v":-100000000},{"$f":"+V$37","v":1E-4},{"$f":"+V$36","v":0},{"$f":"+U$22","v":0},-100000800000.00101]
[5,"Goretti",{"$f":"+K$36","v":-100000000},{"$f":"+L$37","v":1E-4},{"$f":"+L$36","v":0},{"$f":"+K$22","v":0},-100000800000.00101]
[6,"Mercè",{"$f":"+Y$36","v":-100000000},{"$f":"+Z$37","v":1E-4},{"$f":"+Z$36","v":0},{"$f":"+Y$22","v":0},-100000800000.00101]
[7,"Sergi",{"$f":"+M$36","v":-100000000},{"$f":"+N$37","v":1E-4},{"$f":"+N$36","v":0},{"$f":"+M$22","v":0},-100000800000.00101]
[8,"Carles",{"$f":"+O$36","v":-100000000},{"$f":"+P$37","v":1E-4},{"$f":"+P$36","v":0},{"$f":"+O$22","v":0},-100000800000.00101]
[9,"Joan Carles",{"$f":"+C$36","v":-100000000},{"$f":"+D$37","v":1E-4},{"$f":"+D$36","v":0},{"$f":"+C$22","v":0},-100000800000.00101]
[10,"Xavi",{"$f":"+W$36","v":-100000000},{"$f":"+X$37","v":1E-4},{"$f":"+X$36","v":0},{"$f":"+W$22","v":0},-100000800000.00101]
[11,"David",{"$f":"+I$36","v":-100000000},{"$f":"+J$37","v":1E-4},{"$f":"+J$36","v":0},{"$f":"+I$22","v":0},-100000800000.00101]
[12,"Tina",{"$f":"+AC$36","v":-100000000},{"$f":"+AD$37","v":1E-4},{"$f":"+AD$36","v":0},{"$f":"+AC$22","v":0},-100000800000.00101]
[13,"Iglesias",{"$f":"+S$36","v":-100000000},{"$f":"+T$37","v":1E-4},{"$f":"+T$36","v":0},{"$f":"+S$22","v":0},-100000800000.00101]
[14,"Anna",{"$f":"+AA$36","v":-100000000},{"$f":"+AB$37","v":1E-4},{"$f":"+AB$36","v":0},{"$f":"+AA$22","v":0},-100000800000.00101]
[]
[]
[]
[null,"General",{"$f":"+C23*C24","v":0},{"$f":"+D23*D24","v":0},0,0,{"$f":"+G23*G24","v":0},0,0,0,0,0,0,0,0,0,0,0,{"$f":"+S23*S24","v":0},0,0,0,0,0,{"$f":"+Y23*Y24","v":0},0,{"$f":"+AA23*AA24","v":0},{"$f":"+AB23*AB24","v":0},0,0]
[null,null,{"$f":"IF($B35>3,1,0)","v":0},{"$f":"IF($B35>3,1,0)","v":0},0,0,{"$f":"IF($B35>3,1,0)","v":0},0,0,0,0,0,0,0,0,0,0,0,0,0,0,0,0,0,0,0,{"$f":"IF($B35>3,1,0)","v":0},{"$f":"IF($B35>3,1,0)","v":0},0,0]
[null,null,{"$f":"MAX(C25:C29)","v":0},{"$f":"+D36","v":0},{"$f":"MAX(E25:E29)","v":0},{"$f":"+F36","v":0},{"$f":"MAX(G25:G29)","v":0},{"$f":"+H36","v":0},{"$f":"MAX(I25:I29)","v":0},{"$f":"+J36","v":0},{"$f":"MAX(K25:K29)","v":0},{"$f":"+L36","v":0},{"$f":"MAX(M25:M29)","v":0},{"$f":"+N36","v":0},{"$f":"MAX(O25:O29)","v":0},{"$f":"+P36","v":0},{"$f":"MAX(Q25:Q29)","v":0},{"$f":"+R36","v":0},{"$f":"MAX(S25:S29)","v":0},{"$f":"+T36","v":0},{"$f":"MAX(U25:U29)","v":0},{"$f":"+V36","v":0},{"$f":"MAX(W25:W29)","v":0},{"$f":"+X36","v":0},{"$f":"MAX(Y25:Y29)","v":0},{"$f":"+Z36","v":0},{"$f":"MAX(AA25:AA29)","v":0},{"$f":"+AB36","v":0},{"$f":"MAX(AC25:AC29)","v":0},{"$f":"+AD36","v":0}]
[null,null,{"$f":"IF(C$30=5,5,0)","v":0},null,{"$f":"IF(E$30=5,5,0)","v":0},null,{"$f":"IF(G$30=5,5,0)","v":0},null,{"$f":"IF(I$30=5,5,0)","v":0},null,{"$f":"IF(K$30=5,5,0)","v":0},null,{"$f":"IF(M$30=5,5,0)","v":0},null,{"$f":"IF(O$30=5,5,0)","v":0},null,{"$f":"IF(Q$30=5,5,0)","v":0},null,{"$f":"IF(S$30=5,5,0)","v":0},null,{"$f":"IF(U$30=5,5,0)","v":0},null,{"$f":"IF(W$30=5,5,0)","v":0},null,{"$f":"IF(Y$30=5,5,0)","v":0},null,{"$f":"IF(AA$30=5,5,0)","v":0},null,{"$f":"IF(AC$30=5,5,0)","v":0}]
[null,null,{"$f":"IF(C$30=4,10,0)","v":0},null,{"$f":"IF(E$30=4,10,0)","v":0},null,{"$f":"IF(G$30=4,10,0)","v":0},null,{"$f":"IF(I$30=4,10,0)","v":0},null,{"$f":"IF(K$30=4,10,0)","v":0},null,{"$f":"IF(M$30=4,10,0)","v":0},null,{"$f":"IF(O$30=4,10,0)","v":0},null,{"$f":"IF(Q$30=4,10,0)","v":0},null,{"$f":"IF(S$30=4,10,0)","v":0},null,{"$f":"IF(U$30=4,10,0)","v":0},null,{"$f":"IF(W$30=4,10,0)","v":0},null,{"$f":"IF(Y$30=4,10,0)","v":0},null,{"$f":"IF(AA$30=4,10,0)","v":0},null,{"$f":"IF(AC$30=4,10,0)","v":0}]
[null,null,{"$f":"IF(C$30=3,20,0)","v":0},null,{"$f":"IF(E$30=3,20,0)","v":0},null,{"$f":"IF(G$30=3,20,0)","v":0},null,{"$f":"IF(I$30=3,20,0)","v":0},null,{"$f":"IF(K$30=3,20,0)","v":0},null,{"$f":"IF(M$30=3,20,0)","v":0},null,{"$f":"IF(O$30=3,20,0)","v":0},null,{"$f":"IF(Q$30=3,20,0)","v":0},null,{"$f":"IF(S$30=3,20,0)","v":0},null,{"$f":"IF(U$30=3,20,0)","v":0},null,{"$f":"IF(W$30=3,20,0)","v":0},null,{"$f":"IF(Y$30=3,20,0)","v":0},null,{"$f":"IF(AA$30=3,20,0)","v":0},null,{"$f":"IF(AC$30=3,20,0)","v":0}]
[null,null,{"$f":"IF(C$30=2,40,0)","v":0},null,{"$f":"IF(E$30=2,40,0)","v":0},null,{"$f":"IF(G$30=2,40,0)","v":0},null,{"$f":"IF(I$30=2,40,0)","v":0},null,{"$f":"IF(K$30=2,40,0)","v":0},null,{"$f":"IF(M$30=2,40,0)","v":0},null,{"$f":"IF(O$30=2,40,0)","v":0},null,{"$f":"IF(Q$30=2,40,0)","v":0},null,{"$f":"IF(S$30=2,40,0)","v":0},null,{"$f":"IF(U$30=2,40,0)","v":0},null,{"$f":"IF(W$30=2,40,0)","v":0},null,{"$f":"IF(Y$30=2,40,0)","v":0},null,{"$f":"IF(AA$30=2,40,0)","v":0},null,{"$f":"IF(AC$30=2,40,0)","v":0}]
[null,null,{"$f":"IF(C$30=1,80,0)","v":0},null,{"$f":"IF(E$30=1,80,0)","v":0},null,{"$f":"IF(G$30=1,80,0)","v":0},null,{"$f":"IF(I$30=1,80,0)","v":0},null,{"$f":"IF(K$30=1,80,0)","v":0},null,{"$f":"IF(M$30=1,80,0)","v":0},null,{"$f":"IF(O$30=1,80,0)","v":0},null,{"$f":"IF(Q$30=1,80,0)","v":0},null,{"$f":"IF(S$30=1,80,0)","v":0},null,{"$f":"IF(U$30=1,80,0)","v":0},null,{"$f":"IF(W$30=1,80,0)","v":0},null,{"$f":"IF(Y$30=1,80,0)","v":0},null,{"$f":"IF(AA$30=1,80,0)","v":0},null,{"$f":"IF(AC$30=1,80,0)","v":0}]
[null,null,{"$f":"RANK(C31,$C31:$BF31)*C35","v":0},null,{"$f":"RANK(E31,$C31:$BF31)*E35","v":0},null,{"$f":"RANK(G31,$C31:$BF31)*G35","v":0},null,{"$f":"RANK(I31,$C31:$BF31)*I35","v":0},null,{"$f":"RANK(K31,$C31:$BF31)*K35","v":0},null,{"$f":"RANK(M31,$C31:$BF31)*M35","v":0},null,{"$f":"RANK(O31,$C31:$BF31)*O35","v":0},null,{"$f":"RANK(Q31,$C31:$BF31)*Q35","v":0},null,{"$f":"RANK(S31,$C31:$BF31)*S35","v":0},null,{"$f":"RANK(U31,$C31:$BF31)*U35","v":0},null,{"$f":"RANK(W31,$C31:$BF31)*W35","v":0},null,{"$f":"RANK(Y31,$C31:$BF31)*Y35","v":0},null,{"$f":"RANK(AA31,$C31:$BF31)*AA35","v":0},null,{"$f":"RANK(AC31,$C31:$BF31)*AC35","v":0}]
[null,null,{"$f":"SUM(C32:C34)","v":-101000000.01000001},null,{"$f":"SUM(E32:E34)","v":-101000000.01000001},null,{"$f":"SUM(G32:G34)","v":-101000000.01000001},null,{"$f":"SUM(I32:I34)","v":-101000000.01000001},null,{"$f":"SUM(K32:K34)","v":-101000000.01000001},null,{"$f":"SUM(M32:M34)","v":-101000000.01000001},null,{"$f":"SUM(O32:O34)","v":-101000000.01000001},null,{"$f":"SUM(Q32:Q34)","v":-101000000.01000001},null,{"$f":"SUM(S32:S34)","v":-101000000.01000001},null,{"$f":"SUM(U32:U34)","v":-101000000.01000001},null,{"$f":"SUM(W32:W34)","v":-101000000.01000001},null,{"$f":"SUM(Y32:Y34)","v":-101000000.01000001},null,{"$f":"SUM(AA32:AA34)","v":-101000000.01000001},null,{"$f":"SUM(AC32:AC34)","v":-101000000.01000001}]
[null,null,{"$f":"+D36","v":0},null,{"$f":"+F36","v":0},null,{"$f":"+H36","v":0},null,{"$f":"+J36","v":0},null,{"$f":"+L36","v":0},null,{"$f":"+N36","v":0},null,{"$f":"+P36","v":0},null,{"$f":"+R36","v":0},null,{"$f":"+T36","v":0},null,{"$f":"+V36","v":0},null,{"$f":"+X36","v":0},null,{"$f":"+Z36","v":0},null,{"$f":"+AB36","v":0},null,{"$f":"+AD36","v":0}]
[null,null,{"$f":"-D37*100","v":-0.01},null,{"$f":"-F37*100","v":-0.01},null,{"$f":"-H37*100","v":-0.01},null,{"$f":"-J37*100","v":-0.01},null,{"$f":"-L37*100","v":-0.01},null,{"$f":"-N37*100","v":-0.01},null,{"$f":"-P37*100","v":-0.01},null,{"$f":"-R37*100","v":-0.01},null,{"$f":"-T37*100","v":-0.01},null,{"$f":"-V37*100","v":-0.01},null,{"$f":"-X37*100","v":-0.01},null,{"$f":"-Z37*100","v":-0.01},null,{"$f":"-AB37*100","v":-0.01},null,{"$f":"-AD37*100","v":-0.01}]
[null,null,{"$f":"IF(C35=1,C36*C35*1000+C36,-1000000+C36)","v":-101000000},null,{"$f":"IF(E35=1,E36*E35*1000+E36,-1000000+E36)","v":-101000000},null,{"$f":"IF(G35=1,G36*G35*1000+G36,-1000000+G36)","v":-101000000},null,{"$f":"IF(I35=1,I36*I35*1000+I36,-1000000+I36)","v":-101000000},null,{"$f":"IF(K35=1,K36*K35*1000+K36,-1000000+K36)","v":-101000000},null,{"$f":"IF(M35=1,M36*M35*1000+M36,-1000000+M36)","v":-101000000},null,{"$f":"IF(O35=1,O36*O35*1000+O36,-1000000+O36)","v":-101000000},null,{"$f":"IF(Q35=1,Q36*Q35*1000+Q36,-1000000+Q36)","v":-101000000},null,{"$f":"IF(S35=1,S36*S35*1000+S36,-1000000+S36)","v":-101000000},null,{"$f":"IF(U35=1,U36*U35*1000+U36,-1000000+U36)","v":-101000000},null,{"$f":"IF(W35=1,W36*W35*1000+W36,-1000000+W36)","v":-101000000},null,{"$f":"IF(Y35=1,Y36*Y35*1000+Y36,-1000000+Y36)","v":-101000000},null,{"$f":"IF(AA35=1,AA36*AA35*1000+AA36,-1000000+AA36)","v":-101000000},null,{"$f":"IF(AC35=1,AC36*AC35*1000+AC36,-1000000+AC36)","v":-101000000}]
["Classificats",{"$f":"SUM(C35:AC35)","v":0},{"$f":"IF(D36>=$A3/2,1,0)","v":0},null,{"$f":"IF(F36>=$A3/2,1,0)","v":0},null,{"$f":"IF(H36>=$A3/2,1,0)","v":0},null,{"$f":"IF(J36>=$A3/2,1,0)","v":0},null,{"$f":"IF(L36>=$A3/2,1,0)","v":0},null,{"$f":"IF(N36>=$A3/2,1,0)","v":0},null,{"$f":"IF(P36>=$A3/2,1,0)","v":0},null,{"$f":"IF(R36>=$A3/2,1,0)","v":0},null,{"$f":"IF(T36>=$A3/2,1,0)","v":0},null,{"$f":"IF(V36>=$A3/2,1,0)","v":0},null,{"$f":"IF(X36>=$A3/2,1,0)","v":0},null,{"$f":"IF(Z36>=$A3/2,1,0)","v":0},null,{"$f":"IF(AB36>=$A3/2,1,0)","v":0},null,{"$f":"IF(AD36>=$A3/2,1,0)","v":0}]
[null,null,{"$f":"IF(SUM(C41:C213)<-1000,-100000000,SUM(C41:C213))","v":-100000000},{"$f":"COUNT(D41:D213)","v":0},{"$f":"IF(SUM(E41:E213)<-1000,-100000000,SUM(E41:E213))","v":-100000000},{"$f":"COUNT(F41:F213)","v":0},{"$f":"IF(SUM(G41:G213)<-1000,-100000000,SUM(G41:G213))","v":-100000000},{"$f":"COUNT(H41:H213)","v":0},{"$f":"IF(SUM(I41:I213)<-1000,-100000000,SUM(I41:I213))","v":-100000000},{"$f":"COUNT(J41:J213)","v":0},{"$f":"IF(SUM(K41:K213)<-1000,-100000000,SUM(K41:K213))","v":-100000000},{"$f":"COUNT(L41:L213)","v":0},{"$f":"IF(SUM(M41:M213)<-1000,-100000000,SUM(M41:M213))","v":-100000000},{"$f":"COUNT(N41:N213)","v":0},{"$f":"IF(SUM(O41:O213)<-1000,-100000000,SUM(O41:O213))","v":-100000000},{"$f":"COUNT(P41:P213)","v":0},{"$f":"IF(SUM(Q41:Q213)<-1000,-100000000,SUM(Q41:Q213))","v":-100000000},{"$f":"COUNT(R41:R213)","v":0},{"$f":"IF(SUM(S41:S213)<-1000,-100000000,SUM(S41:S213))","v":-100000000},{"$f":"COUNT(T41:T213)","v":0},{"$f":"IF(SUM(U41:U213)<-1000,-100000000,SUM(U41:U213))","v":-100000000},{"$f":"COUNT(V41:V213)","v":0},{"$f":"IF(SUM(W41:W213)<-1000,-100000000,SUM(W41:W213))","v":-100000000},{"$f":"COUNT(X41:X213)","v":0},{"$f":"IF(SUM(Y41:Y213)<-1000,-100000000,SUM(Y41:Y213))","v":-100000000},{"$f":"COUNT(Z41:Z213)","v":0},{"$f":"IF(SUM(AA41:AA213)<-1000,-100000000,SUM(AA41:AA213))","v":-100000000},{"$f":"COUNT(AB41:AB213)","v":0},{"$f":"IF(SUM(AC41:AC213)<-1000,-100000000,SUM(AC41:AC213))","v":-100000000},{"$f":"COUNT(AD41:AD213)","v":0}]
[null,null,null,{"$f":"IF(D36=0,0.0001,AVERAGE(D41:D128))","v":1E-4},null,{"$f":"IF(F36=0,0.0001,AVERAGE(F41:F128))","v":1E-4},null,{"$f":"IF(H36=0,0.0001,AVERAGE(H41:H128))","v":1E-4},null,{"$f":"IF(J36=0,0.0001,AVERAGE(J41:J128))","v":1E-4},null,{"$f":"IF(L36=0,0.0001,AVERAGE(L41:L128))","v":1E-4},null,{"$f":"IF(N36=0,0.0001,AVERAGE(N41:N128))","v":1E-4},null,{"$f":"IF(P36=0,0.0001,AVERAGE(P41:P128))","v":1E-4},null,{"$f":"IF(R36=0,0.0001,AVERAGE(R41:R128))","v":1E-4},null,{"$f":"IF(T36=0,0.0001,AVERAGE(T41:T128))","v":1E-4},null,{"$f":"IF(V36=0,0.0001,AVERAGE(V41:V128))","v":1E-4},null,{"$f":"IF(X36=0,0.0001,AVERAGE(X41:X128))","v":1E-4},null,{"$f":"IF(Z36=0,0.0001,AVERAGE(Z41:Z128))","v":1E-4},null,{"$f":"IF(AB36=0,0.0001,AVERAGE(AB41:AB128))","v":1E-4},null,{"$f":"IF(AD36=0,0.0001,AVERAGE(AD41:AD128))","v":1E-4}]
[null,null,null,null,null,null,null,null,null,null,null,null,null,null,null,null,null,null,null,null,null,null,null,null,null,null,null,null,null,null,{"$f":"MAX(AF41:AF100)","v":0}]
[null,"Comentaris","Joan Carles",null,"Grau",null,"Jordi",null,"David",null,"Goretti",null,"Sergi",null,"Carles",null,"Mariajo",null,"Iglesias",null,"Manolo",null,"Xavi",null,"Mercè",null,"Anna",null,"Tina",null,{"$f":"COUNT(AE41:AE128)","v":0},"A","B","C"]
[null,null,"Premi","Punts","Premi","Punts","Premi","Punts","Premi","Punts","Premi","Punts","Premi","Punts","Premi","Punts","Premi","Punts","Premi","Punts","Premi","Punts","Premi","Punts","Premi","Punts","Premi","Punts","Premi","Punts","Data","Timba"]
[1,null,-10000,null,-10000,null,-10000,null,-10000,null,-10000,null,-10000,null,-10000,null,-10000,null,-10000,null,-10000,null,-10000,null,-10000,null,-10000,null,-10000,null,null,null,{"$f":"+AC41+Y41+W41+U41+S41+Q41+O41+M41+K41+I41+G41+E41+C41","v":-130000},{"$f":"COUNT(C41:AD41)/2","v":7},{"$f":"+AH41*2-AJ41","v":14},{"$f":"+AD41+Z41+X41+V41+T41+R41+P41+N41+L41+J41+H41+F41+D41+AB41","v":0}]
[{"$f":"+A41+1","v":2},null,null,null,null,null,null,null,null,null,null,null,null,null,null,null,null,null,null,null,null,null,null,null,null,null,null,null,null,null,null,null,{"$f":"+AC42+Y42+W42+U42+S42+Q42+O42+M42+K42+I42+G42+E42+C42+AA42","v":0},0,{"$f":"+AH42*2-AJ42","v":0},0]
[{"$f":"+A42+1","v":3},null,null,null,null,null,null,null,null,null,null,null,null,null,null,null,null,null,null,null,null,null,null,null,null,null,null,null,null,null,null,null,{"$f":"+AC43+Y43+W43+U43+S43+Q43+O43+M43+K43+I43+G43+E43+C43","v":0},0,{"$f":"+AH43*2-AJ43","v":0},0]
[4,null,null,null,null,null,null,null,null,null,null,null,null,null,null,null,null,null,null,null,null,null,null,null,null,null,null,null,null,null,null,null,0,0,0,0]
[5,null,null,null,null,null,null,null,null,null,null,null,null,null,null,null,null,null,null,null,null,null,null,null,null,null,null,null,null,null,null,null,0,0,0,0]
[6,null,null,null,null,null,null,null,null,null,null,null,null,null,null,null,null,null,null,null,null,null,null,null,null,null,null,null,null,null,null,null,0,0,0,0]
[7,null,null,null,null,null,null,null,null,null,null,null,null,null,null,null,null,null,null,null,null,null,null,null,null,null,null,null,null,null,null,null,0,0,0,0]
[8,null,null,null,null,null,null,null,null,null,null,null,null,null,null,null,null,null,null,null,null,null,null,null,null,null,null,null,null,null,null,null,0,0,0,0]
[9,null,null,null,null,null,null,null,null,null,null,null,null,null,null,null,null,null,null,null,null,null,null,null,null,null,null,null,null,null,null,null,0,0,0,0]
[{"$f":"+A49+1","v":10},null,null,null,null,null,null,null,null,null,null,null,null,null,null,null,null,null,null,null,null,null,null,null,null,null,null,null,null,null,null,null,0,0,0,0]
[11,null,null,null,null,null,null,null,null,null,null,null,null,null,null,null,null,null,null,null,null,null,null,null,null,null,null,null,null,null,null,null,0,0,0,0]
[12,null,null,null,null,null,null,null,null,null,null,null,null,null,null,null,null,null,null,null,null,null,null,null,null,null,null,null,null,null,null,null,0,0,0,0]
[13,null,null,null,null,null,null,null,null,null,null,null,null,null,null,null,null,null,null,null,null,null,null,null,null,null,null,null,null,null,null,null,{"$f":"+AC53+Y53+W53+U53+S53+Q53+O53+M53+K53+I53+G53+E53+C53","v":0},{"$f":"COUNT(C53:AD53)/2","v":0},0,0]
[14,null,null,null,null,null,null,null,null,null,null,null,null,null,null,null,null,null,null,null,null,null,null,null,null,null,null,null,null,null,null,null,0,0,0,0]
[15,null,null,null,null,null,null,null,null,null,null,null,null,null,null,null,null,null,null,null,null,null,null,null,null,null,null,null,null,null,null,null,0,0,0,0]
[16,null,null,null,null,null,null,null,null,null,null,null,null,null,null,null,null,null,null,null,null,null,null,null,null,null,null,null,null,null,null,null,0,0,0,0]
[17,null,null,null,null,null,null,null,null,null,null,null,null,null,null,null,null,null,null,null,null,null,null,null,null,null,null,null,null,null,null,null,0,0,0,0]
[18,null,null,null,null,null,null,null,null,null,null,null,null,null,null,null,null,null,null,null,null,null,null,null,null,null,null,null,null,null,null,null,0,0,0,0]
[19,null,null,null,null,null,null,null,null,null,null,null,null,null,null,null,null,null,null,null,null,null,null,null,null,null,null,null,null,null,null,null,0,0,0,0]
[20,null,null,null,null,null,null,null,null,null,null,null,null,null,null,null,null,null,null,null,null,null,null,null,null,null,null,null,null,null,null,null,0,0,0,0]
[21,null,null,null,null,null,null,null,null,null,null,null,null,null,null,null,null,null,null,null,null,null,null,null,null,null,null,null,null,null,null,null,0,0,0,0]
[22,null,null,null,null,null,null,null,null,null,null,null,null,null,null,null,null,null,null,null,null,null,null,null,null,null,null,null,null,null,null,null,0,0,0,0]
[23,null,null,null,null,null,null,null,null,null,null,null,null,null,null,null,null,null,null,null,null,null,null,null,null,null,null,null,null,null,null,null,0,0,0,0]
[24,null,null,null,null,null,null,null,null,null,null,null,null,null,null,null,null,null,null,null,null,null,null,null,null,null,null,null,null,null,null,null,0,0,0,0]
[25,null,null,null,null,null,null,null,null,null,null,null,null,null,null,null,null,null,null,null,null,null,null,null,null,null,null,null,null,null,null,null,{"$f":"+AC65+Y65+W65+U65+S65+Q65+O65+M65+K65+I65+G65+E65+C65","v":0},{"$f":"COUNT(C65:AD65)/2","v":0},0,0]
[26]
[27]
[28]
[29]
[30]
[31]
[32]
[33]
[34]
[35]
[36]
[37]
[38]
[39]
[40]
[41]
[42]
[43]
[44]
[45]
[{"$f":"+A85+1","v":46}]
[47]
[48]
[49]
[50]
[51]
[52]
[53]
[54]
[55]
[56]
[57]
[58]
[59]
[60]
[61]
[62]
[63]
[64]
[65]
[66]
[67]
[68]
[69]
[70]
[71]
[72]
[{"$f":"+A112+1","v":73}]
[74]
[75]
[76]
[77]
[78]
[79]
[80]
[81]
[82]
[83]
[84]
[85]
[86]
[87]
[88]

{"sheet":"Canasta","index":23,"n_rows":156,"n_cols":58,"rows_kept":156,"cut":false,"hidden":false,"merged":[[40,35,40,37],[40,2,40,4],[40,5,40,7],[40,8,40,10],[40,11,40,13],[40,14,40,16],[40,17,40,19],[40,20,40,22],[40,23,40,25],[40,26,40,28],[40,29,40,31],[40,32,40,34],[40,38,40,40],[40,41,40,43],[40,44,40,46],[40,47,40,49],[40,50,40,52]]}
["CANASTA"]
["Mes"]
[{"$f":"+GENERAL!B6","v":12},null,{"$f":"SUM(C5:C12)","v":-800000000}]
[null,null,"Premi","Punts","Partides","General"]
[1,"Sergi",{"$f":"+R$38","v":-100000000},{"$f":"+R$39","v":0},{"$f":"+S$38","v":0},{"$f":"+R$24","v":0},{"$f":"IF(E5<A$3/2,-1,1)*800+C5+D5/10000","v":-100000800}]
[2,"Jordi",{"$f":"+I$38","v":-100000000},{"$f":"+I$39","v":0},{"$f":"+J$38","v":0},{"$f":"+I$24","v":0},-100000800]
[3,"Carles",{"$f":"+U$38","v":-100000000},{"$f":"+U$39","v":0},{"$f":"+V$38","v":0},{"$f":"+U$24","v":0},-100000800]
[4,"Grau",{"$f":"+AY$38","v":-100000000},{"$f":"+AY$39","v":0},{"$f":"+AZ$38","v":0},{"$f":"+AY$24","v":0},-100000800]
[5,"Mercè",{"$f":"+AP$38","v":-100000000},{"$f":"+AP$39","v":0},{"$f":"+AQ$38","v":0},{"$f":"+AP$24","v":0},-100000800]
[6,"Goretti",{"$f":"+AS$38","v":-100000000},{"$f":"+AS$39","v":0},{"$f":"+AT$38","v":0},{"$f":"+AS$24","v":0},-100000800]
[7,"Joan Carles",{"$f":"+L$38","v":-100000000},{"$f":"+L$39","v":0},{"$f":"+M$38","v":0},{"$f":"+L$24","v":0},-100000800]
[8,"Mariajo",{"$f":"+X$38","v":-100000000},{"$f":"+X$39","v":0},{"$f":"+Y$38","v":0},{"$f":"+X$24","v":0},-100000800]
[9,"Alfonso",{"$f":"+O$38","v":-100000000},{"$f":"+O$39","v":0},{"$f":"+P$38","v":0},{"$f":"+O$24","v":0},-100000800]
[10,"Anna",{"$f":"+AJ$38","v":-100000000},{"$f":"+AJ$39","v":0},{"$f":"+AK$38","v":0},{"$f":"+AJ$24","v":0},-100000800]
[11,"Coralie",{"$f":"+AM$38","v":-100000000},{"$f":"+AM$39","v":0},{"$f":"+AN$38","v":0},{"$f":"+AM$24","v":0},-100000800]
[12,"David",{"$f":"+F$38","v":-100000000},{"$f":"+F$39","v":0},{"$f":"+G$38","v":0},{"$f":"+F$24","v":0},-100000800]
[13,"Grau",{"$f":"+AV$38","v":-100000000},{"$f":"+AV$39","v":0},{"$f":"+AW$38","v":0},{"$f":"+AU$24","v":0},-100000800]
[14,"Iglesias",{"$f":"+AA$38","v":-100000000},{"$f":"+AA$39","v":0},{"$f":"+AB$38","v":0},{"$f":"+AA$24","v":0},-100000800]
[15,"Martín",{"$f":"+AD$38","v":-100000000},{"$f":"+AD$39","v":0},{"$f":"+AE$38","v":0},{"$f":"+AD$24","v":0},-100000800]
[16,"Salvadó",{"$f":"+C$38","v":-100000000},{"$f":"+C$39","v":0},{"$f":"+D$38","v":0},{"$f":"+C$24","v":0},-100000800]
[17,"Xavi",{"$f":"+AG$38","v":-100000000},{"$f":"+AG$39","v":0},{"$f":"+AH$38","v":0},{"$f":"+AG$24","v":0},-100000800]
[]
[]
[null,"General",{"$f":"+C25*C26","v":0},{"$f":"+D25*D26","v":0},null,{"$f":"+F25*F26","v":0},{"$f":"+G25*G26","v":0},null,{"$f":"+I25*I26","v":0},{"$f":"+J25*J26","v":0},null,{"$f":"+L25*L26","v":0},{"$f":"+M25*M26","v":0},null,{"$f":"+O25*O26","v":0},{"$f":"+P25*P26","v":0},null,{"$f":"+R25*R26","v":0},{"$f":"+S25*S26","v":0},null,{"$f":"+U25*U26","v":0},{"$f":"+V25*V26","v":0},null,{"$f":"+X25*X26","v":0},{"$f":"+Y25*Y26","v":0},null,{"$f":"+AA25*AA26","v":0},{"$f":"+AB25*AB26","v":0},null,{"$f":"+AD25*AD26","v":0},{"$f":"+AE25*AE26","v":0},null,{"$f":"+AG25*AG26","v":0},{"$f":"+AH25*AH26","v":0},null,{"$f":"+AJ25*AJ26","v":0},{"$f":"+AK25*AK26","v":0},null,{"$f":"+AM25*AM26","v":0},{"$f":"+AN25*AN26","v":0},null,{"$f":"+AP25*AP26","v":0},{"$f":"+AQ25*AQ26","v":0},null,{"$f":"+AS25*AS26","v":0},{"$f":"+AT25*AT26","v":0},null,{"$f":"+AV25*AV26","v":0},{"$f":"+AW25*AW26","v":0},null,{"$f":"+AY25*AY26","v":0},{"$f":"+AZ25*AZ26","v":0}]
[null,null,{"$f":"IF($B37>3,1,0)","v":0},{"$f":"IF($B37>3,1,0)","v":0},null,0,0,null,{"$f":"IF($B37>3,1,0)","v":0},0,null,0,0,null,0,0,null,0,0,null,0,0,null,0,0,null,0,0,null,0,0,null,0,0,null,{"$f":"IF($B37>3,1,0)","v":0},{"$f":"IF($B37>3,1,0)","v":0},null,{"$f":"IF($B37>3,1,0)","v":0},{"$f":"IF($B37>3,1,0)","v":0},null,0,0,null,{"$f":"IF($B37>3,1,0)","v":0},{"$f":"IF($B37>3,1,0)","v":0},null,{"$f":"IF($B37>3,1,0)","v":0},{"$f":"IF($B37>3,1,0)","v":0},null,0,0]
[null,null,{"$f":"MAX(C27:C31)","v":0},{"$f":"+D38","v":0},null,{"$f":"MAX(F27:F31)","v":0},{"$f":"+G38","v":0},null,{"$f":"MAX(I27:I31)","v":0},{"$f":"+J38","v":0},null,{"$f":"MAX(L27:L31)","v":0},{"$f":"+M38","v":0},null,{"$f":"MAX(O27:O31)","v":0},{"$f":"+P38","v":0},null,{"$f":"MAX(R27:R31)","v":0},{"$f":"+S38","v":0},null,{"$f":"MAX(U27:U31)","v":0},{"$f":"+V38","v":0},null,{"$f":"MAX(X27:X31)","v":0},{"$f":"+Y38","v":0},null,{"$f":"MAX(AA27:AA31)","v":0},{"$f":"+AB38","v":0},null,{"$f":"MAX(AD27:AD31)","v":0},{"$f":"+AE38","v":0},null,{"$f":"MAX(AG27:AG31)","v":0},{"$f":"+AH38","v":0},null,{"$f":"MAX(AJ27:AJ31)","v":0},{"$f":"+AK38","v":0},null,{"$f":"MAX(AM27:AM31)","v":0},{"$f":"+AN38","v":0},null,{"$f":"MAX(AP27:AP31)","v":0},{"$f":"+AQ38","v":0},null,{"$f":"MAX(AS27:AS31)","v":0},{"$f":"+AT38","v":0},null,{"$f":"MAX(AV27:AV31)","v":0},{"$f":"+AW38","v":0},null,{"$f":"MAX(AY27:AY31)","v":0},{"$f":"+AZ38","v":0}]
[null,null,{"$f":"IF(C$32=5,5,0)","v":0},null,null,{"$f":"IF(F$32=5,5,0)","v":0},null,null,{"$f":"IF(I$32=5,5,0)","v":0},null,null,{"$f":"IF(L$32=5,5,0)","v":0},null,null,{"$f":"IF(O$32=5,5,0)","v":0},null,null,{"$f":"IF(R$32=5,5,0)","v":0},null,null,{"$f":"IF(U$32=5,5,0)","v":0},null,null,{"$f":"IF(X$32=5,5,0)","v":0},null,null,{"$f":"IF(AA$32=5,5,0)","v":0},null,null,{"$f":"IF(AD$32=5,5,0)","v":0},null,null,{"$f":"IF(AG$32=5,5,0)","v":0},null,null,{"$f":"IF(AJ$32=5,5,0)","v":0},null,null,{"$f":"IF(AM$32=5,5,0)","v":0},null,null,{"$f":"IF(AP$32=5,5,0)","v":0},null,null,{"$f":"IF(AS$32=5,5,0)","v":0},null,null,{"$f":"IF(AV$32=5,5,0)","v":0},null,null,{"$f":"IF(AY$32=5,5,0)","v":0}]
[null,null,{"$f":"IF(C$32=4,10,0)","v":0},null,null,{"$f":"IF(F$32=4,10,0)","v":0},null,null,{"$f":"IF(I$32=4,10,0)","v":0},null,null,{"$f":"IF(L$32=4,10,0)","v":0},null,null,{"$f":"IF(O$32=4,10,0)","v":0},null,null,{"$f":"IF(R$32=4,10,0)","v":0},null,null,{"$f":"IF(U$32=4,10,0)","v":0},null,null,{"$f":"IF(X$32=4,10,0)","v":0},null,null,{"$f":"IF(AA$32=4,10,0)","v":0},null,null,{"$f":"IF(AD$32=4,10,0)","v":0},null,null,{"$f":"IF(AG$32=4,10,0)","v":0},null,null,{"$f":"IF(AJ$32=4,10,0)","v":0},null,null,{"$f":"IF(AM$32=4,10,0)","v":0},null,null,{"$f":"IF(AP$32=4,10,0)","v":0},null,null,{"$f":"IF(AS$32=4,10,0)","v":0},null,null,{"$f":"IF(AV$32=4,10,0)","v":0},null,null,{"$f":"IF(AY$32=4,10,0)","v":0}]
[null,null,{"$f":"IF(C$32=3,20,0)","v":0},null,null,{"$f":"IF(F$32=3,20,0)","v":0},null,null,{"$f":"IF(I$32=3,20,0)","v":0},null,null,{"$f":"IF(L$32=3,20,0)","v":0},null,null,{"$f":"IF(O$32=3,20,0)","v":0},null,null,{"$f":"IF(R$32=3,20,0)","v":0},null,null,{"$f":"IF(U$32=3,20,0)","v":0},null,null,{"$f":"IF(X$32=3,20,0)","v":0},null,null,{"$f":"IF(AA$32=3,20,0)","v":0},null,null,{"$f":"IF(AD$32=3,20,0)","v":0},null,null,{"$f":"IF(AG$32=3,20,0)","v":0},null,null,{"$f":"IF(AJ$32=3,20,0)","v":0},null,null,{"$f":"IF(AM$32=3,20,0)","v":0},null,null,{"$f":"IF(AP$32=3,20,0)","v":0},null,null,{"$f":"IF(AS$32=3,20,0)","v":0},null,null,{"$f":"IF(AV$32=3,20,0)","v":0},null,null,{"$f":"IF(AY$32=3,20,0)","v":0}]
[null,null,{"$f":"IF(C$32=2,40,0)","v":0},null,null,{"$f":"IF(F$32=2,40,0)","v":0},null,null,{"$f":"IF(I$32=2,40,0)","v":0},null,null,{"$f":"IF(L$32=2,40,0)","v":0},null,null,{"$f":"IF(O$32=2,40,0)","v":0},null,null,{"$f":"IF(R$32=2,40,0)","v":0},null,null,{"$f":"IF(U$32=2,40,0)","v":0},null,null,{"$f":"IF(X$32=2,40,0)","v":0},null,null,{"$f":"IF(AA$32=2,40,0)","v":0},null,null,{"$f":"IF(AD$32=2,40,0)","v":0},null,null,{"$f":"IF(AG$32=2,40,0)","v":0},null,null,{"$f":"IF(AJ$32=2,40,0)","v":0},null,null,{"$f":"IF(AM$32=2,40,0)","v":0},null,null,{"$f":"IF(AP$32=2,40,0)","v":0},null,null,{"$f":"IF(AS$32=2,40,0)","v":0},null,null,{"$f":"IF(AV$32=2,40,0)","v":0},null,null,{"$f":"IF(AY$32=2,40,0)","v":0}]
[null,null,{"$f":"IF(C$32=1,80,0)","v":0},null,null,{"$f":"IF(F$32=1,80,0)","v":0},null,null,{"$f":"IF(I$32=1,80,0)","v":0},null,null,{"$f":"IF(L$32=1,80,0)","v":0},null,null,{"$f":"IF(O$32=1,80,0)","v":0},null,null,{"$f":"IF(R$32=1,80,0)","v":0},null,null,{"$f":"IF(U$32=1,80,0)","v":0},null,null,{"$f":"IF(X$32=1,80,0)","v":0},null,null,{"$f":"IF(AA$32=1,80,0)","v":0},null,null,{"$f":"IF(AD$32=1,80,0)","v":0},null,null,{"$f":"IF(AG$32=1,80,0)","v":0},null,null,{"$f":"IF(AJ$32=1,80,0)","v":0},null,null,{"$f":"IF(AM$32=1,80,0)","v":0},null,null,{"$f":"IF(AP$32=1,80,0)","v":0},null,null,{"$f":"IF(AS$32=1,80,0)","v":0},null,null,{"$f":"IF(AV$32=1,80,0)","v":0},null,null,{"$f":"IF(AY$32=1,80,0)","v":0}]
[null,null,{"$f":"RANK(C33,$C33:$AZ33)*C37","v":0},null,null,{"$f":"RANK(F33,$C33:$AZ33)*F37","v":0},null,null,{"$f":"RANK(I33,$C33:$AZ33)*I37","v":0},null,null,{"$f":"RANK(L33,$C33:$AZ33)*L37","v":0},null,null,{"$f":"RANK(O33,$C33:$AZ33)*O37","v":0},null,null,{"$f":"RANK(R33,$C33:$AZ33)*R37","v":0},null,null,{"$f":"RANK(U33,$C33:$AZ33)*U37","v":0},null,null,{"$f":"RANK(X33,$C33:$AZ33)*X37","v":0},null,null,{"$f":"RANK(AA33,$C33:$AZ33)*AA37","v":0},null,null,{"$f":"RANK(AD33,$C33:$AZ33)*AD37","v":0},null,null,{"$f":"RANK(AG33,$C33:$AZ33)*AG37","v":0},null,null,{"$f":"RANK(AJ33,$C33:$AZ33)*AJ37","v":0},null,null,{"$f":"RANK(AM33,$C33:$AZ33)*AM37","v":0},null,null,{"$f":"RANK(AP33,$C33:$AZ33)*AP37","v":0},null,null,{"$f":"RANK(AS33,$C33:$AZ33)*AS37","v":0},null,null,{"$f":"RANK(AV33,$C33:$AZ33)*AV37","v":0},null,null,{"$f":"RANK(AY33,$C33:$AZ33)*AY37","v":0}]
[null,null,{"$f":"SUM(C34:C36)","v":-100000000},null,null,{"$f":"SUM(F34:F36)","v":-100000000},null,null,{"$f":"SUM(I34:I36)","v":-100000000},null,null,{"$f":"SUM(L34:L36)","v":-100000000},null,null,{"$f":"SUM(O34:O36)","v":-100000000},null,null,{"$f":"SUM(R34:R36)","v":-100000000},null,null,{"$f":"SUM(U34:U36)","v":-100000000},null,null,{"$f":"SUM(X34:X36)","v":-100000000},null,null,{"$f":"SUM(AA34:AA36)","v":-100000000},null,null,{"$f":"SUM(AD34:AD36)","v":-100000000},null,null,{"$f":"SUM(AG34:AG36)","v":-100000000},null,null,{"$f":"SUM(AJ34:AJ36)","v":-100000000},null,null,{"$f":"SUM(AM34:AM36)","v":-100000000},null,null,{"$f":"SUM(AP34:AP36)","v":-100000000},null,null,{"$f":"SUM(AS34:AS36)","v":-100000000},null,null,{"$f":"SUM(AV34:AV36)","v":-100000000},null,null,{"$f":"SUM(AY34:AY36)","v":-100000000}]
[null,null,{"$f":"+D38/100","v":0},null,null,{"$f":"+G38/100","v":0},null,null,{"$f":"+J38/100","v":0},null,null,{"$f":"+M38/100","v":0},null,null,{"$f":"+P38/100","v":0},null,null,{"$f":"+S38/100","v":0},null,null,{"$f":"+V38/100","v":0},null,null,{"$f":"+Y38/100","v":0},null,null,{"$f":"+AB38/100","v":0},null,null,{"$f":"+AE38/100","v":0},null,null,{"$f":"+AH38/100","v":0},null,null,{"$f":"+AK38/100","v":0},null,null,{"$f":"+AN38/100","v":0},null,null,{"$f":"+AQ38/100","v":0},null,null,{"$f":"+AT38/100","v":0},null,null,{"$f":"+AW38","v":0},null,null,{"$f":"+AZ38/100","v":0}]
[null,null,{"$f":"C39","v":0},null,null,{"$f":"F39","v":0},null,null,{"$f":"I39","v":0},null,null,{"$f":"L39","v":0},null,null,{"$f":"O39","v":0},null,null,{"$f":"R39","v":0},null,null,{"$f":"U39","v":0},null,null,{"$f":"X39","v":0},null,null,{"$f":"AA39","v":0},null,null,{"$f":"AD39","v":0},null,null,{"$f":"AG39","v":0},null,null,{"$f":"AJ39","v":0},null,null,{"$f":"AM39","v":0},null,null,{"$f":"AP39","v":0},null,null,{"$f":"AS39","v":0},null,null,{"$f":"-AV39*100","v":0},null,null,{"$f":"AY39","v":0}]
[null,null,{"$f":"IF(D38-$A3/2<0,-100000000,C38*C37*100000+C38)","v":-100000000},null,null,{"$f":"IF(G38-$A3/2<0,-100000000,F38*F37*100000+F38)","v":-100000000},null,null,{"$f":"IF(J38-$A3/2<0,-100000000,I38*I37*100000+I38)","v":-100000000},null,null,{"$f":"IF(M38-$A3/2<0,-100000000,L38*L37*100000+L38)","v":-100000000},null,null,{"$f":"IF(P38-$A3/2<0,-100000000,O38*O37*100000+O38)","v":-100000000},null,null,{"$f":"IF(S38-$A3/2<0,-100000000,R38*R37*100000+R38)","v":-100000000},null,null,{"$f":"IF(V38-$A3/2<0,-100000000,U38*U37*100000+U38)","v":-100000000},null,null,{"$f":"IF(Y38-$A3/2<0,-100000000,X38*X37*100000+X38)","v":-100000000},null,null,{"$f":"IF(AB38-$A3/2<0,-100000000,AA38*AA37*100000+AA38)","v":-100000000},null,null,{"$f":"IF(AE38-$A3/2<0,-100000000,AD38*AD37*100000+AD38)","v":-100000000},null,null,{"$f":"IF(AH38-$A3/2<0,-100000000,AG38*AG37*100000+AG38)","v":-100000000},null,null,{"$f":"IF(AK38-$A3/2<0,-100000000,AJ38*AJ37*100000+AJ38)","v":-100000000},null,null,{"$f":"IF(AN38-$A3/2<0,-100000000,AM38*AM37*100000+AM38)","v":-100000000},null,null,{"$f":"IF(AQ38-$A3/2<0,-100000000,AP38*AP37*100000+AP38)","v":-100000000},null,null,{"$f":"IF(AT38-$A3/2<0,-100000000,AS38*AS37*100000+AS38)","v":-100000000},null,null,{"$f":"IF(AW38-$A3/2<0,-100000000,AV38*AV37*100000+AV38)","v":-100000000},null,null,{"$f":"IF(AZ38-$A3/2<0,-100000000,AY38*AY37*100000+AY38)","v":-100000000}]
["Classificats",{"$f":"SUM(C37:AY37)","v":0},{"$f":"IF(D38>=$A3/2,1,0)","v":0},null,null,{"$f":"IF(G38>=$A3/2,1,0)","v":0},null,null,{"$f":"IF(J38>=$A3/2,1,0)","v":0},null,null,{"$f":"IF(M38>=$A3/2,1,0)","v":0},null,null,{"$f":"IF(P38>=$A3/2,1,0)","v":0},null,null,{"$f":"IF(S38>=$A3/2,1,0)","v":0},null,null,{"$f":"IF(V38>=$A3/2,1,0)","v":0},null,null,{"$f":"IF(Y38>=$A3/2,1,0)","v":0},null,null,{"$f":"IF(AB38>=$A3/2,1,0)","v":0},null,null,{"$f":"IF(AE38>=$A3/2,1,0)","v":0},null,null,{"$f":"IF(AH38>=$A3/2,1,0)","v":0},null,null,{"$f":"IF(AK38>=$A3/2,1,0)","v":0},null,null,{"$f":"IF(AN38>=$A3/2,1,0)","v":0},null,null,{"$f":"IF(AQ38>=$A3/2,1,0)","v":0},null,null,{"$f":"IF(AT38>=$A3/2,1,0)","v":0},null,null,{"$f":"IF(AW38>=$A3/2,1,0)","v":0},null,null,{"$f":"IF(AZ38>=$A3/2,1,0)","v":0}]
[null,null,{"$f":"IF(SUM(C43:C241)<-1000,-100000000,SUM(C43:C241))","v":-100000000},{"$f":"COUNT(D43:D241)","v":0},null,{"$f":"IF(SUM(F43:F241)<-1000,-100000000,SUM(F43:F241))","v":-100000000},{"$f":"COUNT(G43:G241)","v":0},null,{"$f":"IF(SUM(I43:I241)<-1000,-100000000,SUM(I43:I241))","v":-100000000},{"$f":"COUNT(J43:J241)","v":0},null,{"$f":"IF(SUM(L43:L241)<-1000,-100000000,SUM(L43:L241))","v":-100000000},{"$f":"COUNT(M43:M241)","v":0},null,{"$f":"IF(SUM(O43:O241)<-1000,-100000000,SUM(O43:O241))","v":-100000000},{"$f":"COUNT(P43:P241)","v":0},null,{"$f":"IF(SUM(R43:R241)<-1000,-100000000,SUM(R43:R241))","v":-100000000},{"$f":"COUNT(S43:S241)","v":0},null,{"$f":"IF(SUM(U43:U241)<-1000,-100000000,SUM(U43:U241))","v":-100000000},{"$f":"COUNT(V43:V241)","v":0},null,{"$f":"IF(SUM(X43:X241)<-1000,-100000000,SUM(X43:X241))","v":-100000000},{"$f":"COUNT(Y43:Y241)","v":0},null,{"$f":"IF(SUM(AA43:AA241)<-1000,-100000000,SUM(AA43:AA241))","v":-100000000},{"$f":"COUNT(AB43:AB241)","v":0},null,{"$f":"IF(SUM(AD43:AD241)<-1000,-100000000,SUM(AD43:AD241))","v":-100000000},{"$f":"COUNT(AE43:AE241)","v":0},null,{"$f":"IF(SUM(AG43:AG241)<-1000,-100000000,SUM(AG43:AG241))","v":-100000000},{"$f":"COUNT(AH43:AH241)","v":0},null,{"$f":"IF(SUM(AJ43:AJ241)<-1000,-100000000,SUM(AJ43:AJ241))","v":-100000000},{"$f":"COUNT(AK43:AK241)","v":0},null,{"$f":"IF(SUM(AM43:AM241)<-1000,-100000000,SUM(AM43:AM241))","v":-100000000},{"$f":"COUNT(AN43:AN241)","v":0},null,{"$f":"IF(SUM(AP43:AP241)<-1000,-100000000,SUM(AP43:AP241))","v":-100000000},{"$f":"COUNT(AQ43:AQ241)","v":0},null,{"$f":"IF(SUM(AS43:AS241)<-1000,-100000000,SUM(AS43:AS241))","v":-100000000},{"$f":"COUNT(AT43:AT241)","v":0},null,{"$f":"IF(SUM(AV43:AV241)<-1000,-100000000,SUM(AV43:AV241))","v":-100000000},{"$f":"COUNT(AW43:AW241)","v":0},null,{"$f":"IF(SUM(AY43:AY241)<-1000,-100000000,SUM(AY43:AY241))","v":-100000000},{"$f":"COUNT(AZ43:AZ241)","v":0},null,null,"A"]
[null,null,{"$f":"+D39/E39","v":0},{"$f":"SUM(D43:D156)","v":0},{"$f":"SUM(E43:E156)","v":-1},{"$f":"+G39/H39","v":0},{"$f":"SUM(G43:G156)","v":0},{"$f":"SUM(H43:H156)","v":-1},{"$f":"+J39/K39","v":0},{"$f":"SUM(J43:J156)","v":0},{"$f":"SUM(K43:K156)","v":-1},{"$f":"+M39/N39","v":0},{"$f":"SUM(M43:M156)","v":0},{"$f":"SUM(N43:N156)","v":-1},{"$f":"+P39/Q39","v":0},{"$f":"SUM(P43:P156)","v":0},{"$f":"SUM(Q43:Q156)","v":-1},{"$f":"+S39/T39","v":0},{"$f":"SUM(S43:S156)","v":0},{"$f":"SUM(T43:T156)","v":-1},{"$f":"+V39/W39","v":0},{"$f":"SUM(V43:V156)","v":0},{"$f":"SUM(W43:W156)","v":-1},{"$f":"+Y39/Z39","v":0},{"$f":"SUM(Y43:Y156)","v":0},{"$f":"SUM(Z43:Z156)","v":-1},{"$f":"+AB39/AC39","v":0},{"$f":"SUM(AB43:AB156)","v":0},{"$f":"SUM(AC43:AC156)","v":-1},{"$f":"+AE39/AF39","v":0},{"$f":"SUM(AE43:AE156)","v":0},{"$f":"SUM(AF43:AF156)","v":-1},{"$f":"+AH39/AI39","v":0},{"$f":"SUM(AH43:AH156)","v":0},{"$f":"SUM(AI43:AI156)","v":-1},{"$f":"+AK39/AL39","v":0},{"$f":"SUM(AK43:AK156)","v":0},{"$f":"SUM(AL43:AL156)","v":-1},{"$f":"+AN39/AO39","v":0},{"$f":"SUM(AN43:AN156)","v":0},{"$f":"SUM(AO43:AO156)","v":-1},{"$f":"+AQ39/AR39","v":0},{"$f":"SUM(AQ43:AQ156)","v":0},{"$f":"SUM(AR43:AR156)","v":-1},{"$f":"+AT39/AU39","v":0},{"$f":"SUM(AT43:AT156)","v":0},{"$f":"SUM(AU43:AU156)","v":-1},{"$f":"+AW39/AX39","v":0},{"$f":"SUM(AW43:AW156)","v":0},{"$f":"SUM(AX43:AX156)","v":-1},{"$f":"+AZ39/BA39","v":0},{"$f":"SUM(AZ43:AZ156)","v":0},{"$f":"SUM(BA43:BA156)","v":-1},null,"B"]
[null,null,null,null,null,null,null,null,null,null,null,null,null,null,null,null,null,null,null,null,null,null,null,null,null,null,null,null,null,null,null,null,null,null,null,null,null,null,null,null,null,null,null,null,null,null,null,null,null,null,null,null,null,{"$f":"MAX(BC43:BC102)","v":0}]
[null,"Nº partida ","Salvadó",null,null,"David",null,null,"Jordi",null,null,"Joan Carles",null,null,"Alfonso",null,null,"Sergi",null,null,"Carles",null,null,"Mariajo",null,null,"Iglesias",null,null,"Martin",null,null,"Xavi",null,null,"Anna",null,null,"Coralie",null,null,"Mercè",null,null,"Goretti",null,null,"Jorge",null,null,"Grau",null,null,{"$f":"COUNT(BB43:BB156)","v":0},"A","B","C"]
[null,"5 copes","Premi","Punts",null,"Premi","Punts",null,"Premi","Punts",null,"Premi","Punts",null,"Premi","Punts",null,"Premi","Punts",null,"Premi","Punts",null,"Premi","Punts",null,"Premi","Punts",null,"Premi","Punts",null,"Premi","Punts",null,"Premi","Punts",null,"Premi","Punts",null,"Premi","Punts",null,"Premi","Punts",null,"Premi","Punts",null,"Premi","Punts",null,"Data","Timba"]
[1,null,-10000,null,-1,-10000,null,-1,-10000,null,-1,-10000,null,-1,-10000,null,-1,-10000,null,-1,-10000,null,-1,-10000,null,-1,-10000,null,-1,-10000,null,-1,-10000,null,-1,-10000,null,-1,-10000,null,-1,-10000,null,-1,-10000,null,-1,-10000,null,-1,-10000,null,-1,null,null,{"$f":"+AY43+AP43+AG43+AD43+AA43+X43+U43+R43+O43+L43+I43+F43+C43+AJ43+AM43+AS43+AV43","v":-170000},{"$f":"COUNT(C43:BA43)/3","v":11.333333333333334},{"$f":"+BD43/BE43","v":-15000}]
[{"$f":"+A43+1","v":2},null,null,null,null,null,null,null,null,null,null,null,null,null,null,null,null,null,null,null,null,null,null,null,null,null,null,null,null,null,null,null,null,null,null,null,null,null,null,null,null,null,null,null,null,null,null,null,null,null,null,null,null,null,null,0,0,{"$error":"#DIV/0!"}]
[{"$f":"+A44+1","v":3},null,null,null,null,null,null,null,null,null,null,null,null,null,null,null,null,null,null,null,null,null,null,null,null,null,null,null,null,null,null,null,null,null,null,null,null,null,null,null,null,null,null,null,null,null,null,null,null,null,null,null,null,null,null,0,0,{"$error":"#DIV/0!"}]
[4,null,null,null,null,null,null,null,null,null,null,null,null,null,null,null,null,null,null,null,null,null,null,null,null,null,null,null,null,null,null,null,null,null,null,null,null,null,null,null,null,null,null,null,null,null,null,null,null,null,null,null,null,null,null,0,0,{"$error":"#DIV/0!"}]
[5,null,null,null,null,null,null,null,null,null,null,null,null,null,null,null,null,null,null,null,null,null,null,null,null,null,null,null,null,null,null,null,null,null,null,null,null,null,null,null,null,null,null,null,null,null,null,null,null,null,null,null,null,null,null,0,0,{"$error":"#DIV/0!"}]
[6,null,null,null,null,null,null,null,null,null,null,null,null,null,null,null,null,null,null,null,null,null,null,null,null,null,null,null,null,null,null,null,null,null,null,null,null,null,null,null,null,null,null,null,null,null,null,null,null,null,null,null,null,null,null,0,0,{"$error":"#DIV/0!"}]
[7,null,null,null,null,null,null,null,null,null,null,null,null,null,null,null,null,null,null,null,null,null,null,null,null,null,null,null,null,null,null,null,null,null,null,null,null,null,null,null,null,null,null,null,null,null,null,null,null,null,null,null,null,null,null,0,0,{"$error":"#DIV/0!"}]
[8,null,null,null,null,null,null,null,null,null,null,null,null,null,null,null,null,null,null,null,null,null,null,null,null,null,null,null,null,null,null,null,null,null,null,null,null,null,null,null,null,null,null,null,null,null,null,null,null,null,null,null,null,null,null,0,0,{"$error":"#DIV/0!"}]
[9,null,null,null,null,null,null,null,null,null,null,null,null,null,null,null,null,null,null,null,null,null,null,null,null,null,null,null,null,null,null,null,null,null,null,null,null,null,null,null,null,null,null,null,null,null,null,null,null,null,null,null,null,null,null,0,0,{"$error":"#DIV/0!"}]
[10,null,null,null,null,null,null,null,null,null,null,null,null,null,null,null,null,null,null,null,null,null,null,null,null,null,null,null,null,null,null,null,null,null,null,null,null,null,null,null,null,null,null,null,null,null,null,null,null,null,null,null,null,null,null,0,0,{"$error":"#DIV/0!"}]
[11,null,null,null,null,null,null,null,null,null,null,null,null,null,null,null,null,null,null,null,null,null,null,null,null,null,null,null,null,null,null,null,null,null,null,null,null,null,null,null,null,null,null,null,null,null,null,null,null,null,null,null,null,null,null,0,0,{"$error":"#DIV/0!"}]
[12,null,null,null,null,null,null,null,null,null,null,null,null,null,null,null,null,null,null,null,null,null,null,null,null,null,null,null,null,null,null,null,null,null,null,null,null,null,null,null,null,null,null,null,null,null,null,null,null,null,null,null,null,null,null,0,0,{"$error":"#DIV/0!"}]
[13,null,null,null,null,null,null,null,null,null,null,null,null,null,null,null,null,null,null,null,null,null,null,null,null,null,null,null,null,null,null,null,null,null,null,null,null,null,null,null,null,null,null,null,null,null,null,null,null,null,null,null,null,null,null,0,0,{"$error":"#DIV/0!"}]
[14,null,null,null,null,null,null,null,null,null,null,null,null,null,null,null,null,null,null,null,null,null,null,null,null,null,null,null,null,null,null,null,null,null,null,null,null,null,null,null,null,null,null,null,null,null,null,null,null,null,null,null,null,null,null,0,0,{"$error":"#DIV/0!"}]
[15,null,null,null,null,null,null,null,null,null,null,null,null,null,null,null,null,null,null,null,null,null,null,null,null,null,null,null,null,null,null,null,null,null,null,null,null,null,null,null,null,null,null,null,null,null,null,null,null,null,null,null,null,null,null,0,0,{"$error":"#DIV/0!"}]
[16,null,null,null,null,null,null,null,null,null,null,null,null,null,null,null,null,null,null,null,null,null,null,null,null,null,null,null,null,null,null,null,null,null,null,null,null,null,null,null,null,null,null,null,null,null,null,null,null,null,null,null,null,null,null,0,0,{"$error":"#DIV/0!"}]
[17,null,null,null,null,null,null,null,null,null,null,null,null,null,null,null,null,null,null,null,null,null,null,null,null,null,null,null,null,null,null,null,null,null,null,null,null,null,null,null,null,null,null,null,null,null,null,null,null,null,null,null,null,null,null,0,0,{"$error":"#DIV/0!"}]
[18,null,null,null,null,null,null,null,null,null,null,null,null,null,null,null,null,null,null,null,null,null,null,null,null,null,null,null,null,null,null,null,null,null,null,null,null,null,null,null,null,null,null,null,null,null,null,null,null,null,null,null,null,null,null,0,0,{"$error":"#DIV/0!"}]
[19,null,null,null,null,null,null,null,null,null,null,null,null,null,null,null,null,null,null,null,null,null,null,null,null,null,null,null,null,null,null,null,null,null,null,null,null,null,null,null,null,null,null,null,null,null,null,null,null,null,null,null,null,null,null,0,0,{"$error":"#DIV/0!"}]
[20,null,null,null,null,null,null,null,null,null,null,null,null,null,null,null,null,null,null,null,null,null,null,null,null,null,null,null,null,null,null,null,null,null,null,null,null,null,null,null,null,null,null,null,null,null,null,null,null,null,null,null,null,null,null,0,0,{"$error":"#DIV/0!"}]
[21,null,null,null,null,null,null,null,null,null,null,null,null,null,null,null,null,null,null,null,null,null,null,null,null,null,null,null,null,null,null,null,null,null,null,null,null,null,null,null,null,null,null,null,null,null,null,null,null,null,null,null,null,null,null,0,0,{"$error":"#DIV/0!"}]
[22,null,null,null,null,null,null,null,null,null,null,null,null,null,null,null,null,null,null,null,null,null,null,null,null,null,null,null,null,null,null,null,null,null,null,null,null,null,null,null,null,null,null,null,null,null,null,null,null,null,null,null,null,null,null,0,0,{"$error":"#DIV/0!"}]
[23,null,null,null,null,null,null,null,null,null,null,null,null,null,null,null,null,null,null,null,null,null,null,null,null,null,null,null,null,null,null,null,null,null,null,null,null,null,null,null,null,null,null,null,null,null,null,null,null,null,null,null,null,null,null,0,0,{"$error":"#DIV/0!"}]
[24,null,null,null,null,null,null,null,null,null,null,null,null,null,null,null,null,null,null,null,null,null,null,null,null,null,null,null,null,null,null,null,null,null,null,null,null,null,null,null,null,null,null,null,null,null,null,null,null,null,null,null,null,null,null,{"$f":"+AY66+AP66+AG66+AD66+AA66+X66+U66+R66+O66+L66+I66+F66+C66+AJ66+AM66+AS66+AV66","v":0},0,{"$error":"#DIV/0!"}]
[25,null,null,null,null,null,null,null,null,null,null,null,null,null,null,null,null,null,null,null,null,null,null,null,null,null,null,null,null,null,null,null,null,null,null,null,null,null,null,null,null,null,null,null,null,null,null,null,null,null,null,null,null,null,null,{"$f":"+AY67+AP67+AG67+AD67+AA67+X67+U67+R67+O67+L67+I67+F67+C67+AJ67+AM67+AS67+AV67","v":0},{"$f":"COUNT(C67:BA67)/3","v":0},{"$f":"+BD67/BE67","v":{"$error":"#DIV/0!"}}]
[26,null,null,null,null,null,null,null,null,null,null,null,null,null,null,null,null,null,null,null,null,null,null,null,null,null,null,null,null,null,null,null,null,null,null,null,null,null,null,null,null,null,null,null,null,null,null,null,null,null,null,null,null,null,null,{"$f":"+AY68+AP68+AG68+AD68+AA68+X68+U68+R68+O68+L68+I68+F68+C68+AJ68+AM68+AS68+AV68","v":0},{"$f":"COUNT(C68:BA68)/3","v":0},{"$f":"+BD68/BE68","v":{"$error":"#DIV/0!"}}]
[27,null,null,null,null,null,null,null,null,null,null,null,null,null,null,null,null,null,null,null,null,null,null,null,null,null,null,null,null,null,null,null,null,null,null,null,null,null,null,null,null,null,null,null,null,null,null,null,null,null,null,null,null,null,null,{"$f":"+AY69+AP69+AG69+AD69+AA69+X69+U69+R69+O69+L69+I69+F69+C69+AJ69+AM69+AS69+AV69","v":0},{"$f":"COUNT(C69:BA69)/3","v":0},{"$f":"+BD69/BE69","v":{"$error":"#DIV/0!"}}]
[28]
[29]
[30]
[31]
[32]
[33]
[34]
[35]
[36]
[37]
[38]
[39]
[40]
[41]
[42]
[43]
[44]
[45]
[{"$f":"+A87+1","v":46}]
[47]
[48]
[49]
[50]
[51]
[52]
[53]
[54]
[55]
[56]
[57]
[58]
[59]
[60]
[61]
[62]
[63]
[64]
[65]
[66]
[{"$f":"+A108+1","v":67}]
[68]
[69]
[70]
[71]
[72]
[73]
[74]
[75]
[76]
[77]
[78]
[79]
[80]
[81]
[82]
[83]
[84]
[85]
[86]
[87]
[88]
[89]
[90]
[91]
[92]
[93]
[94]
[95]
[96]
[97]
[98]
[99]
[100]
[101]
[102]
[103]
[104]
[105]
[106]
[107]
[108]
[109]
[110]
[111]
[112]
[113]
[114]

{"sheet":"1000km","index":24,"n_rows":156,"n_cols":58,"rows_kept":156,"cut":false,"hidden":false,"merged":[[40,35,40,37],[40,2,40,4],[40,5,40,7],[40,8,40,10],[40,11,40,13],[40,14,40,16],[40,17,40,19],[40,20,40,22],[40,23,40,25],[40,26,40,28],[40,29,40,31],[40,32,40,34],[40,50,40,52],[40,38,40,40],[40,41,40,43],[40,44,40,46],[40,47,40,49]]}
["1000km"]
["Mes"]
[{"$f":"+GENERAL!B6","v":12},null,{"$f":"SUM(C5:C12)","v":-800000000}]
[null,null,"Premi","Punts","Partides","General"]
[1,"Mercè",{"$f":"+AP$38","v":-100000000},{"$f":"+AP$39","v":0},{"$f":"+AQ$38","v":0},{"$f":"+AP$24","v":0},{"$f":"IF(E5<A$3/2,-1,1)*800+C5","v":-100000800}]
[2,"Sergi",{"$f":"+R$38","v":-100000000},{"$f":"+R$39","v":0},{"$f":"+S$38","v":0},{"$f":"+R$24","v":0},-100000800]
[3,"Mariajo",{"$f":"+X$38","v":-100000000},{"$f":"+X$39","v":0},{"$f":"+Y$38","v":0},{"$f":"+X$24","v":0},-100000800]
[4,"Carles",{"$f":"+U$38","v":-100000000},{"$f":"+U$39","v":0},{"$f":"+V$38","v":0},{"$f":"+U$24","v":0},-100000800]
[5,"Joan Carles",{"$f":"+L$38","v":-100000000},{"$f":"+L$39","v":0},{"$f":"+M$38","v":0},{"$f":"+L$24","v":0},-100000800]
[6,"Grau",{"$f":"+AY$38","v":-100000000},{"$f":"+AY$39","v":0},{"$f":"+AZ$38","v":0},{"$f":"+AY$24","v":0},-100000800]
[7,"Jordi",{"$f":"+I$38","v":-100000000},{"$f":"+I$39","v":0},{"$f":"+J$38","v":0},{"$f":"+I$24","v":0},-100000800]
[8,"Goretti",{"$f":"+AS$38","v":-100000000},{"$f":"+AS$39","v":0},{"$f":"+AT$38","v":0},{"$f":"+AS$24","v":0},-100000800]
[9,"Alfonso",{"$f":"+O$38","v":-100000000},{"$f":"+O$39","v":0},{"$f":"+P$38","v":0},{"$f":"+O$24","v":0},-100000800]
[10,"David",{"$f":"+F$38","v":-100000000},{"$f":"+F$39","v":0},{"$f":"+G$38","v":0},{"$f":"+F$24","v":0},-100000800]
[11,"Coralie",{"$f":"+AM$38","v":-100000000},{"$f":"+AM$39","v":0},{"$f":"+AN$38","v":0},{"$f":"+AM$24","v":0},-100000800]
[12,"Grau",{"$f":"+AV$38","v":-100000000},{"$f":"+AV$39","v":0},{"$f":"+AW$38","v":0},{"$f":"+AU$24","v":0},-100000800]
[13,"Xavi",{"$f":"+AG$38","v":-100000000},{"$f":"+AG$39","v":0},{"$f":"+AH$38","v":0},{"$f":"+AG$24","v":0},-100000800]
[14,"Martín",{"$f":"+AD$38","v":-100000000},{"$f":"+AD$39","v":0},{"$f":"+AE$38","v":0},{"$f":"+AD$24","v":0},-100000800]
[15,"Iglesias",{"$f":"+AA$38","v":-100000000},{"$f":"+AA$39","v":0},{"$f":"+AB$38","v":0},{"$f":"+AA$24","v":0},-100000800]
[16,"Anna",{"$f":"+AJ$38","v":-100000000},{"$f":"+AJ$39","v":0},{"$f":"+AK$38","v":0},{"$f":"+AJ$24","v":0},-100000800]
[17,"Salvadó",{"$f":"+C$38","v":-100000000},{"$f":"+C$39","v":0},{"$f":"+D$38","v":0},{"$f":"+C$24","v":0},-100000800]
[]
[]
[null,"General",{"$f":"+C25*C26","v":0},{"$f":"+D25*D26","v":0},null,{"$f":"+F25*F26","v":0},{"$f":"+G25*G26","v":0},null,{"$f":"+I25*I26","v":0},{"$f":"+J25*J26","v":0},null,{"$f":"+L25*L26","v":0},{"$f":"+M25*M26","v":0},null,{"$f":"+O25*O26","v":0},{"$f":"+P25*P26","v":0},null,{"$f":"+R25*R26","v":0},{"$f":"+S25*S26","v":0},null,{"$f":"+U25*U26","v":0},{"$f":"+V25*V26","v":0},null,{"$f":"+X25*X26","v":0},{"$f":"+Y25*Y26","v":0},null,{"$f":"+AA25*AA26","v":0},{"$f":"+AB25*AB26","v":0},null,{"$f":"+AD25*AD26","v":0},{"$f":"+AE25*AE26","v":0},null,{"$f":"+AG25*AG26","v":0},{"$f":"+AH25*AH26","v":0},null,{"$f":"+AJ25*AJ26","v":0},{"$f":"+AK25*AK26","v":0},null,{"$f":"+AM25*AM26","v":0},{"$f":"+AN25*AN26","v":0},null,{"$f":"+AP25*AP26","v":0},{"$f":"+AQ25*AQ26","v":0},null,{"$f":"+AS25*AS26","v":0},{"$f":"+AT25*AT26","v":0},null,{"$f":"+AV25*AV26","v":0},{"$f":"+AW25*AW26","v":0},null,{"$f":"+AY25*AY26","v":0},{"$f":"+AZ25*AZ26","v":0}]
[null,null,{"$f":"IF($B37>3,1,0)","v":0},{"$f":"IF($B37>3,1,0)","v":0},null,0,0,null,{"$f":"IF($B37>3,1,0)","v":0},0,null,0,0,null,0,0,null,0,0,null,0,0,null,0,0,null,0,0,null,0,0,null,0,0,null,{"$f":"IF($B37>3,1,0)","v":0},{"$f":"IF($B37>3,1,0)","v":0},null,{"$f":"IF($B37>3,1,0)","v":0},{"$f":"IF($B37>3,1,0)","v":0},null,0,0,null,{"$f":"IF($B37>3,1,0)","v":0},{"$f":"IF($B37>3,1,0)","v":0},null,{"$f":"IF($B37>3,1,0)","v":0},{"$f":"IF($B37>3,1,0)","v":0},null,0,0]
[null,null,{"$f":"MAX(C27:C31)","v":0},{"$f":"+D38","v":0},null,{"$f":"MAX(F27:F31)","v":0},{"$f":"+G38","v":0},null,{"$f":"MAX(I27:I31)","v":0},{"$f":"+J38","v":0},null,{"$f":"MAX(L27:L31)","v":0},{"$f":"+M38","v":0},null,{"$f":"MAX(O27:O31)","v":0},{"$f":"+P38","v":0},null,{"$f":"MAX(R27:R31)","v":0},{"$f":"+S38","v":0},null,{"$f":"MAX(U27:U31)","v":0},{"$f":"+V38","v":0},null,{"$f":"MAX(X27:X31)","v":0},{"$f":"+Y38","v":0},null,{"$f":"MAX(AA27:AA31)","v":0},{"$f":"+AB38","v":0},null,{"$f":"MAX(AD27:AD31)","v":0},{"$f":"+AE38","v":0},null,{"$f":"MAX(AG27:AG31)","v":0},{"$f":"+AH38","v":0},null,{"$f":"MAX(AJ27:AJ31)","v":0},{"$f":"+AK38","v":0},null,{"$f":"MAX(AM27:AM31)","v":0},{"$f":"+AN38","v":0},null,{"$f":"MAX(AP27:AP31)","v":0},{"$f":"+AQ38","v":0},null,{"$f":"MAX(AS27:AS31)","v":0},{"$f":"+AT38","v":0},null,{"$f":"MAX(AV27:AV31)","v":0},{"$f":"+AW38","v":0},null,{"$f":"MAX(AY27:AY31)","v":0},{"$f":"+AZ38","v":0}]
[null,null,{"$f":"IF(C$32=5,5,0)","v":0},null,null,{"$f":"IF(F$32=5,5,0)","v":0},null,null,{"$f":"IF(I$32=5,5,0)","v":0},null,null,{"$f":"IF(L$32=5,5,0)","v":0},null,null,{"$f":"IF(O$32=5,5,0)","v":0},null,null,{"$f":"IF(R$32=5,5,0)","v":0},null,null,{"$f":"IF(U$32=5,5,0)","v":0},null,null,{"$f":"IF(X$32=5,5,0)","v":0},null,null,{"$f":"IF(AA$32=5,5,0)","v":0},null,null,{"$f":"IF(AD$32=5,5,0)","v":0},null,null,{"$f":"IF(AG$32=5,5,0)","v":0},null,null,{"$f":"IF(AJ$32=5,5,0)","v":0},null,null,{"$f":"IF(AM$32=5,5,0)","v":0},null,null,{"$f":"IF(AP$32=5,5,0)","v":0},null,null,{"$f":"IF(AS$32=5,5,0)","v":0},null,null,{"$f":"IF(AV$32=5,5,0)","v":0},null,null,{"$f":"IF(AY$32=5,5,0)","v":0}]
[null,null,{"$f":"IF(C$32=4,10,0)","v":0},null,null,{"$f":"IF(F$32=4,10,0)","v":0},null,null,{"$f":"IF(I$32=4,10,0)","v":0},null,null,{"$f":"IF(L$32=4,10,0)","v":0},null,null,{"$f":"IF(O$32=4,10,0)","v":0},null,null,{"$f":"IF(R$32=4,10,0)","v":0},null,null,{"$f":"IF(U$32=4,10,0)","v":0},null,null,{"$f":"IF(X$32=4,10,0)","v":0},null,null,{"$f":"IF(AA$32=4,10,0)","v":0},null,null,{"$f":"IF(AD$32=4,10,0)","v":0},null,null,{"$f":"IF(AG$32=4,10,0)","v":0},null,null,{"$f":"IF(AJ$32=4,10,0)","v":0},null,null,{"$f":"IF(AM$32=4,10,0)","v":0},null,null,{"$f":"IF(AP$32=4,10,0)","v":0},null,null,{"$f":"IF(AS$32=4,10,0)","v":0},null,null,{"$f":"IF(AV$32=4,10,0)","v":0},null,null,{"$f":"IF(AY$32=4,10,0)","v":0}]
[null,null,{"$f":"IF(C$32=3,20,0)","v":0},null,null,{"$f":"IF(F$32=3,20,0)","v":0},null,null,{"$f":"IF(I$32=3,20,0)","v":0},null,null,{"$f":"IF(L$32=3,20,0)","v":0},null,null,{"$f":"IF(O$32=3,20,0)","v":0},null,null,{"$f":"IF(R$32=3,20,0)","v":0},null,null,{"$f":"IF(U$32=3,20,0)","v":0},null,null,{"$f":"IF(X$32=3,20,0)","v":0},null,null,{"$f":"IF(AA$32=3,20,0)","v":0},null,null,{"$f":"IF(AD$32=3,20,0)","v":0},null,null,{"$f":"IF(AG$32=3,20,0)","v":0},null,null,{"$f":"IF(AJ$32=3,20,0)","v":0},null,null,{"$f":"IF(AM$32=3,20,0)","v":0},null,null,{"$f":"IF(AP$32=3,20,0)","v":0},null,null,{"$f":"IF(AS$32=3,20,0)","v":0},null,null,{"$f":"IF(AV$32=3,20,0)","v":0},null,null,{"$f":"IF(AY$32=3,20,0)","v":0}]
[null,null,{"$f":"IF(C$32=2,40,0)","v":0},null,null,{"$f":"IF(F$32=2,40,0)","v":0},null,null,{"$f":"IF(I$32=2,40,0)","v":0},null,null,{"$f":"IF(L$32=2,40,0)","v":0},null,null,{"$f":"IF(O$32=2,40,0)","v":0},null,null,{"$f":"IF(R$32=2,40,0)","v":0},null,null,{"$f":"IF(U$32=2,40,0)","v":0},null,null,{"$f":"IF(X$32=2,40,0)","v":0},null,null,{"$f":"IF(AA$32=2,40,0)","v":0},null,null,{"$f":"IF(AD$32=2,40,0)","v":0},null,null,{"$f":"IF(AG$32=2,40,0)","v":0},null,null,{"$f":"IF(AJ$32=2,40,0)","v":0},null,null,{"$f":"IF(AM$32=2,40,0)","v":0},null,null,{"$f":"IF(AP$32=2,40,0)","v":0},null,null,{"$f":"IF(AS$32=2,40,0)","v":0},null,null,{"$f":"IF(AV$32=2,40,0)","v":0},null,null,{"$f":"IF(AY$32=2,40,0)","v":0}]
[null,null,{"$f":"IF(C$32=1,80,0)","v":0},null,null,{"$f":"IF(F$32=1,80,0)","v":0},null,null,{"$f":"IF(I$32=1,80,0)","v":0},null,null,{"$f":"IF(L$32=1,80,0)","v":0},null,null,{"$f":"IF(O$32=1,80,0)","v":0},null,null,{"$f":"IF(R$32=1,80,0)","v":0},null,null,{"$f":"IF(U$32=1,80,0)","v":0},null,null,{"$f":"IF(X$32=1,80,0)","v":0},null,null,{"$f":"IF(AA$32=1,80,0)","v":0},null,null,{"$f":"IF(AD$32=1,80,0)","v":0},null,null,{"$f":"IF(AG$32=1,80,0)","v":0},null,null,{"$f":"IF(AJ$32=1,80,0)","v":0},null,null,{"$f":"IF(AM$32=1,80,0)","v":0},null,null,{"$f":"IF(AP$32=1,80,0)","v":0},null,null,{"$f":"IF(AS$32=1,80,0)","v":0},null,null,{"$f":"IF(AV$32=1,80,0)","v":0},null,null,{"$f":"IF(AY$32=1,80,0)","v":0}]
[null,null,{"$f":"RANK(C33,$C33:$AZ33)*C37","v":0},null,null,{"$f":"RANK(F33,$C33:$AZ33)*F37","v":0},null,null,{"$f":"RANK(I33,$C33:$AZ33)*I37","v":0},null,null,{"$f":"RANK(L33,$C33:$AZ33)*L37","v":0},null,null,{"$f":"RANK(O33,$C33:$AZ33)*O37","v":0},null,null,{"$f":"RANK(R33,$C33:$AZ33)*R37","v":0},null,null,{"$f":"RANK(U33,$C33:$AZ33)*U37","v":0},null,null,{"$f":"RANK(X33,$C33:$AZ33)*X37","v":0},null,null,{"$f":"RANK(AA33,$C33:$AZ33)*AA37","v":0},null,null,{"$f":"RANK(AD33,$C33:$AZ33)*AD37","v":0},null,null,{"$f":"RANK(AG33,$C33:$AZ33)*AG37","v":0},null,null,{"$f":"RANK(AJ33,$C33:$AZ33)*AJ37","v":0},null,null,{"$f":"RANK(AM33,$C33:$AZ33)*AM37","v":0},null,null,{"$f":"RANK(AP33,$C33:$AZ33)*AP37","v":0},null,null,{"$f":"RANK(AS33,$C33:$AZ33)*AS37","v":0},null,null,{"$f":"RANK(AV33,$C33:$AZ33)*AV37","v":0},null,null,{"$f":"RANK(AY33,$C33:$AZ33)*AY37","v":0}]
[null,null,{"$f":"SUM(C34:C36)","v":-1000000},null,null,{"$f":"SUM(F34:F36)","v":-1000000},null,null,{"$f":"SUM(I34:I36)","v":-1000000},null,null,{"$f":"SUM(L34:L36)","v":-1000000},null,null,{"$f":"SUM(O34:O36)","v":-1000000},null,null,{"$f":"SUM(R34:R36)","v":-1000000},null,null,{"$f":"SUM(U34:U36)","v":-1000000},null,null,{"$f":"SUM(X34:X36)","v":-1000000},null,null,{"$f":"SUM(AA34:AA36)","v":-1000000},null,null,{"$f":"SUM(AD34:AD36)","v":-1000000},null,null,{"$f":"SUM(AG34:AG36)","v":-1000000},null,null,{"$f":"SUM(AJ34:AJ36)","v":-1000000},null,null,{"$f":"SUM(AM34:AM36)","v":-1000000},null,null,{"$f":"SUM(AP34:AP36)","v":-1000000},null,null,{"$f":"SUM(AS34:AS36)","v":-1000000},null,null,{"$f":"SUM(AV34:AV36)","v":-1000000},null,null,{"$f":"SUM(AY34:AY36)","v":-1000000}]
[null,null,{"$f":"+D38","v":0},null,null,{"$f":"+G38","v":0},null,null,{"$f":"+J38","v":0},null,null,{"$f":"+M38","v":0},null,null,{"$f":"+P38","v":0},null,null,{"$f":"+S38","v":0},null,null,{"$f":"+V38","v":0},null,null,{"$f":"+Y38","v":0},null,null,{"$f":"+AB38","v":0},null,null,{"$f":"+AE38","v":0},null,null,{"$f":"+AH38","v":0},null,null,{"$f":"+AK38","v":0},null,null,{"$f":"+AN38","v":0},null,null,{"$f":"+AQ38","v":0},null,null,{"$f":"+AT38","v":0},null,null,{"$f":"+AW38","v":0},null,null,{"$f":"+AZ38","v":0}]
[null,null,{"$f":"C39*100","v":0},null,null,{"$f":"F39*100","v":0},null,null,{"$f":"I39*100","v":0},null,null,{"$f":"-L39*100","v":0},null,null,{"$f":"-O39*100","v":0},null,null,{"$f":"R39*100","v":0},null,null,{"$f":"U39*100","v":0},null,null,{"$f":"X39*100","v":0},null,null,{"$f":"AA39*100","v":0},null,null,{"$f":"-AD39*100","v":0},null,null,{"$f":"-AG39*100","v":0},null,null,{"$f":"-AJ39*100","v":0},null,null,{"$f":"-AM39*100","v":0},null,null,{"$f":"AP39*100","v":0},null,null,{"$f":"AS39*100","v":0},null,null,{"$f":"-AV39*100","v":0},null,null,{"$f":"-AY39*100","v":0}]
[null,null,{"$f":"IF(D38-$A3/2<0,-1000000,C38*C37*10000+C38)","v":-1000000},null,null,{"$f":"IF(G38-$A3/2<0,-1000000,F38*F37*10000+F38)","v":-1000000},null,null,{"$f":"IF(J38-$A3/2<0,-1000000,I38*I37*10000+I38)","v":-1000000},null,null,{"$f":"IF(M38-$A3/2<0,-1000000,L38*L37*10000+L38)","v":-1000000},null,null,{"$f":"IF(P38-$A3/2<0,-1000000,O38*O37*10000+O38)","v":-1000000},null,null,{"$f":"IF(S38-$A3/2<0,-1000000,R38*R37*10000+R38)","v":-1000000},null,null,{"$f":"IF(V38-$A3/2<0,-1000000,U38*U37*10000+U38)","v":-1000000},null,null,{"$f":"IF(Y38-$A3/2<0,-1000000,X38*X37*10000+X38)","v":-1000000},null,null,{"$f":"IF(AB38-$A3/2<0,-1000000,AA38*AA37*10000+AA38)","v":-1000000},null,null,{"$f":"IF(AE38-$A3/2<0,-1000000,AD38*AD37*10000+AD38)","v":-1000000},null,null,{"$f":"IF(AH38-$A3/2<0,-1000000,AG38*AG37*10000+AG38)","v":-1000000},null,null,{"$f":"IF(AK38-$A3/2<0,-1000000,AJ38*AJ37*10000+AJ38)","v":-1000000},null,null,{"$f":"IF(AN38-$A3/2<0,-1000000,AM38*AM37*10000+AM38)","v":-1000000},null,null,{"$f":"IF(AQ38-$A3/2<0,-1000000,AP38*AP37*10000+AP38)","v":-1000000},null,null,{"$f":"IF(AT38-$A3/2<0,-1000000,AS38*AS37*10000+AS38)","v":-1000000},null,null,{"$f":"IF(AW38-$A3/2<0,-1000000,AV38*AV37*10000+AV38)","v":-1000000},null,null,{"$f":"IF(AZ38-$A3/2<0,-1000000,AY38*AY37*10000+AY38)","v":-1000000}]
["Classificats",{"$f":"SUM(C37:AY37)","v":0},{"$f":"IF(D38>=$A3/2,1,0)","v":0},null,null,{"$f":"IF(G38>=$A3/2,1,0)","v":0},null,null,{"$f":"IF(J38>=$A3/2,1,0)","v":0},null,null,{"$f":"IF(M38>=$A3/2,1,0)","v":0},null,null,{"$f":"IF(P38>=$A3/2,1,0)","v":0},null,null,{"$f":"IF(S38>=$A3/2,1,0)","v":0},null,null,{"$f":"IF(V38>=$A3/2,1,0)","v":0},null,null,{"$f":"IF(Y38>=$A3/2,1,0)","v":0},null,null,{"$f":"IF(AB38>=$A3/2,1,0)","v":0},null,null,{"$f":"IF(AE38>=$A3/2,1,0)","v":0},null,null,{"$f":"IF(AH38>=$A3/2,1,0)","v":0},null,null,{"$f":"IF(AK38>=$A3/2,1,0)","v":0},null,null,{"$f":"IF(AN38>=$A3/2,1,0)","v":0},null,null,{"$f":"IF(AQ38>=$A3/2,1,0)","v":0},null,null,{"$f":"IF(AT38>=$A3/2,1,0)","v":0},null,null,{"$f":"IF(AW38>=$A3/2,1,0)","v":0},null,null,{"$f":"IF(AZ38>=$A3/2,1,0)","v":0}]
[null,null,{"$f":"IF(SUM(C43:C241)<-1000,-100000000,SUM(C43:C241))","v":-100000000},{"$f":"COUNT(D43:D241)","v":0},null,{"$f":"IF(SUM(F43:F241)<-1000,-100000000,SUM(F43:F241))","v":-100000000},{"$f":"COUNT(G43:G241)","v":0},null,{"$f":"IF(SUM(I43:I241)<-1000,-100000000,SUM(I43:I241))","v":-100000000},{"$f":"COUNT(J43:J241)","v":0},null,{"$f":"IF(SUM(L43:L241)<-1000,-100000000,SUM(L43:L241))","v":-100000000},{"$f":"COUNT(M43:M241)","v":0},null,{"$f":"IF(SUM(O43:O241)<-1000,-100000000,SUM(O43:O241))","v":-100000000},{"$f":"COUNT(P43:P241)","v":0},null,{"$f":"IF(SUM(R43:R241)<-1000,-100000000,SUM(R43:R241))","v":-100000000},{"$f":"COUNT(S43:S241)","v":0},null,{"$f":"IF(SUM(U43:U241)<-1000,-100000000,SUM(U43:U241))","v":-100000000},{"$f":"COUNT(V43:V241)","v":0},null,{"$f":"IF(SUM(X43:X241)<-1000,-100000000,SUM(X43:X241))","v":-100000000},{"$f":"COUNT(Y43:Y241)","v":0},null,{"$f":"IF(SUM(AA43:AA241)<-1000,-100000000,SUM(AA43:AA241))","v":-100000000},{"$f":"COUNT(AB43:AB241)","v":0},null,{"$f":"IF(SUM(AD43:AD241)<-1000,-100000000,SUM(AD43:AD241))","v":-100000000},{"$f":"COUNT(AE43:AE241)","v":0},null,{"$f":"IF(SUM(AG43:AG241)<-1000,-100000000,SUM(AG43:AG241))","v":-100000000},{"$f":"COUNT(AH43:AH241)","v":0},null,{"$f":"IF(SUM(AJ43:AJ241)<-1000,-100000000,SUM(AJ43:AJ241))","v":-100000000},{"$f":"COUNT(AK43:AK241)","v":0},null,{"$f":"IF(SUM(AM43:AM241)<-1000,-100000000,SUM(AM43:AM241))","v":-100000000},{"$f":"COUNT(AN43:AN241)","v":0},null,{"$f":"IF(SUM(AP43:AP241)<-1000,-100000000,SUM(AP43:AP241))","v":-100000000},{"$f":"COUNT(AQ43:AQ241)","v":0},null,{"$f":"IF(SUM(AS43:AS241)<-1000,-100000000,SUM(AS43:AS241))","v":-100000000},{"$f":"COUNT(AT43:AT241)","v":0},null,{"$f":"IF(SUM(AV43:AV241)<-1000,-100000000,SUM(AV43:AV241))","v":-100000000},{"$f":"COUNT(AW43:AW241)","v":0},null,{"$f":"IF(SUM(AY43:AY241)<-1000,-100000000,SUM(AY43:AY241))","v":-100000000},{"$f":"COUNT(AZ43:AZ241)","v":0},null,null,"A"]
[null,null,{"$f":"+D39/E39","v":0},{"$f":"SUM(D43:D156)","v":0},{"$f":"SUM(E43:E156)","v":-1},{"$f":"+G39/H39","v":0},{"$f":"SUM(G43:G156)","v":0},{"$f":"SUM(H43:H156)","v":-1},{"$f":"+J39/K39","v":0},{"$f":"SUM(J43:J156)","v":0},{"$f":"SUM(K43:K156)","v":-1},{"$f":"+M39/N39","v":0},{"$f":"SUM(M43:M156)","v":0},{"$f":"SUM(N43:N156)","v":-1},{"$f":"+P39/Q39","v":0},{"$f":"SUM(P43:P156)","v":0},{"$f":"SUM(Q43:Q156)","v":-1},{"$f":"+S39/T39","v":0},{"$f":"SUM(S43:S156)","v":0},{"$f":"SUM(T43:T156)","v":-1},{"$f":"+V39/W39","v":0},{"$f":"SUM(V43:V156)","v":0},{"$f":"SUM(W43:W156)","v":-1},{"$f":"+Y39/Z39","v":0},{"$f":"SUM(Y43:Y156)","v":0},{"$f":"SUM(Z43:Z156)","v":-1},{"$f":"+AB39/AC39","v":0},{"$f":"SUM(AB43:AB156)","v":0},{"$f":"SUM(AC43:AC156)","v":-1},{"$f":"+AE39/AF39","v":0},{"$f":"SUM(AE43:AE156)","v":0},{"$f":"SUM(AF43:AF156)","v":-1},{"$f":"+AH39/AI39","v":0},{"$f":"SUM(AH43:AH156)","v":0},{"$f":"SUM(AI43:AI156)","v":-1},{"$f":"+AK39/AL39","v":0},{"$f":"SUM(AK43:AK156)","v":0},{"$f":"SUM(AL43:AL156)","v":-1},{"$f":"+AN39/AO39","v":0},{"$f":"SUM(AN43:AN156)","v":0},{"$f":"SUM(AO43:AO156)","v":-1},{"$f":"+AQ39/AR39","v":0},{"$f":"SUM(AQ43:AQ156)","v":0},{"$f":"SUM(AR43:AR156)","v":-1},{"$f":"+AT39/AU39","v":0},{"$f":"SUM(AT43:AT156)","v":0},{"$f":"SUM(AU43:AU156)","v":-1},{"$f":"+AW39/AX39","v":0},{"$f":"SUM(AW43:AW156)","v":0},{"$f":"SUM(AX43:AX156)","v":-1},{"$f":"+AZ39/BA39","v":0},{"$f":"SUM(AZ43:AZ156)","v":0},{"$f":"SUM(BA43:BA156)","v":-1},null,"B"]
[null,null,null,null,null,null,null,null,null,null,null,null,null,null,null,null,null,null,null,null,null,null,null,null,null,null,null,null,null,null,null,null,null,null,null,null,null,null,null,null,null,null,null,null,null,null,null,null,null,null,null,null,null,{"$f":"MAX(BC43:BC102)","v":0}]
[null,"Nº partida ","Salvadó",null,null,"David",null,null,"Jordi",null,null,"Joan Carles",null,null,"Alfonso",null,null,"Sergi",null,null,"Carles",null,null,"Mariajo",null,null,"Iglesias",null,null,"Martin",null,null,"Xavi",null,null,"Anna",null,null,"Coralie",null,null,"Mercè",null,null,"Goretti",null,null,"Jorge",null,null,"Grau",null,null,{"$f":"COUNT(BB43:BB156)","v":0},"A","B","C"]
[null,"5 copes","Premi","Punts",null,"Premi","Punts",null,"Premi","Punts",null,"Premi","Punts",null,"Premi","Punts",null,"Premi","Punts",null,"Premi","Punts",null,"Premi","Punts",null,"Premi","Punts",null,"Premi","Punts",null,"Premi","Punts",null,"Premi","Punts",null,"Premi","Punts",null,"Premi","Punts",null,"Premi","Punts",null,"Premi","Punts",null,"Premi","Punts",null,"Data","Timba"]
[1,null,-10000,null,-1,-10000,null,-1,-10000,null,-1,-10000,null,-1,-10000,null,-1,-10000,null,-1,-10000,null,-1,-10000,null,-1,-10000,null,-1,-10000,null,-1,-10000,null,-1,-10000,null,-1,-10000,null,-1,-10000,null,-1,-10000,null,-1,-10000,null,-1,-10000,null,-1,null,null,{"$f":"+AY43+AP43+AG43+AD43+AA43+X43+U43+R43+O43+L43+I43+F43+C43+AJ43+AM43+AS43+AV43","v":-170000},{"$f":"COUNT(C43:BA43)/3","v":11.333333333333334},{"$f":"+BD43/BE43","v":-15000}]
[{"$f":"+A43+1","v":2},null,null,null,null,null,null,null,null,null,null,null,null,null,null,null,null,null,null,null,null,null,null,null,null,null,null,null,null,null,null,null,null,null,null,null,null,null,null,null,null,null,null,null,null,null,null,null,null,null,null,null,null,null,null,0,0,{"$error":"#DIV/0!"}]
[{"$f":"+A44+1","v":3},null,null,null,null,null,null,null,null,null,null,null,null,null,null,null,null,null,null,null,null,null,null,null,null,null,null,null,null,null,null,null,null,null,null,null,null,null,null,null,null,null,null,null,null,null,null,null,null,null,null,null,null,null,null,0,0,{"$error":"#DIV/0!"}]
[4,null,null,null,null,null,null,null,null,null,null,null,null,null,null,null,null,null,null,null,null,null,null,null,null,null,null,null,null,null,null,null,null,null,null,null,null,null,null,null,null,null,null,null,null,null,null,null,null,null,null,null,null,null,null,0,0,{"$error":"#DIV/0!"}]
[5,null,null,null,null,null,null,null,null,null,null,null,null,null,null,null,null,null,null,null,null,null,null,null,null,null,null,null,null,null,null,null,null,null,null,null,null,null,null,null,null,null,null,null,null,null,null,null,null,null,null,null,null,null,null,0,0,{"$error":"#DIV/0!"}]
[6,null,null,null,null,null,null,null,null,null,null,null,null,null,null,null,null,null,null,null,null,null,null,null,null,null,null,null,null,null,null,null,null,null,null,null,null,null,null,null,null,null,null,null,null,null,null,null,null,null,null,null,null,null,null,0,0,{"$error":"#DIV/0!"}]
[7,null,null,null,null,null,null,null,null,null,null,null,null,null,null,null,null,null,null,null,null,null,null,null,null,null,null,null,null,null,null,null,null,null,null,null,null,null,null,null,null,null,null,null,null,null,null,null,null,null,null,null,null,null,null,0,0,{"$error":"#DIV/0!"}]
[8,null,null,null,null,null,null,null,null,null,null,null,null,null,null,null,null,null,null,null,null,null,null,null,null,null,null,null,null,null,null,null,null,null,null,null,null,null,null,null,null,null,null,null,null,null,null,null,null,null,null,null,null,null,null,0,0,{"$error":"#DIV/0!"}]
[9,null,null,null,null,null,null,null,null,null,null,null,null,null,null,null,null,null,null,null,null,null,null,null,null,null,null,null,null,null,null,null,null,null,null,null,null,null,null,null,null,null,null,null,null,null,null,null,null,null,null,null,null,null,null,0,0,{"$error":"#DIV/0!"}]
[10,null,null,null,null,null,null,null,null,null,null,null,null,null,null,null,null,null,null,null,null,null,null,null,null,null,null,null,null,null,null,null,null,null,null,null,null,null,null,null,null,null,null,null,null,null,null,null,null,null,null,null,null,null,null,0,0,{"$error":"#DIV/0!"}]
[11,null,null,null,null,null,null,null,null,null,null,null,null,null,null,null,null,null,null,null,null,null,null,null,null,null,null,null,null,null,null,null,null,null,null,null,null,null,null,null,null,null,null,null,null,null,null,null,null,null,null,null,null,null,null,0,0,{"$error":"#DIV/0!"}]
[12,null,null,null,null,null,null,null,null,null,null,null,null,null,null,null,null,null,null,null,null,null,null,null,null,null,null,null,null,null,null,null,null,null,null,null,null,null,null,null,null,null,null,null,null,null,null,null,null,null,null,null,null,null,null,0,0,{"$error":"#DIV/0!"}]
[13,null,null,null,null,null,null,null,null,null,null,null,null,null,null,null,null,null,null,null,null,null,null,null,null,null,null,null,null,null,null,null,null,null,null,null,null,null,null,null,null,null,null,null,null,null,null,null,null,null,null,null,null,null,null,0,0,{"$error":"#DIV/0!"}]
[14,null,null,null,null,null,null,null,null,null,null,null,null,null,null,null,null,null,null,null,null,null,null,null,null,null,null,null,null,null,null,null,null,null,null,null,null,null,null,null,null,null,null,null,null,null,null,null,null,null,null,null,null,null,null,0,0,{"$error":"#DIV/0!"}]
[15,null,null,null,null,null,null,null,null,null,null,null,null,null,null,null,null,null,null,null,null,null,null,null,null,null,null,null,null,null,null,null,null,null,null,null,null,null,null,null,null,null,null,null,null,null,null,null,null,null,null,null,null,null,null,0,0,{"$error":"#DIV/0!"}]
[16,null,null,null,null,null,null,null,null,null,null,null,null,null,null,null,null,null,null,null,null,null,null,null,null,null,null,null,null,null,null,null,null,null,null,null,null,null,null,null,null,null,null,null,null,null,null,null,null,null,null,null,null,null,null,0,0,{"$error":"#DIV/0!"}]
[17,null,null,null,null,null,null,null,null,null,null,null,null,null,null,null,null,null,null,null,null,null,null,null,null,null,null,null,null,null,null,null,null,null,null,null,null,null,null,null,null,null,null,null,null,null,null,null,null,null,null,null,null,null,null,0,0,{"$error":"#DIV/0!"}]
[18,null,null,null,null,null,null,null,null,null,null,null,null,null,null,null,null,null,null,null,null,null,null,null,null,null,null,null,null,null,null,null,null,null,null,null,null,null,null,null,null,null,null,null,null,null,null,null,null,null,null,null,null,null,null,0,0,{"$error":"#DIV/0!"}]
[19,null,null,null,null,null,null,null,null,null,null,null,null,null,null,null,null,null,null,null,null,null,null,null,null,null,null,null,null,null,null,null,null,null,null,null,null,null,null,null,null,null,null,null,null,null,null,null,null,null,null,null,null,null,null,0,0,{"$error":"#DIV/0!"}]
[20,null,null,null,null,null,null,null,null,null,null,null,null,null,null,null,null,null,null,null,null,null,null,null,null,null,null,null,null,null,null,null,null,null,null,null,null,null,null,null,null,null,null,null,null,null,null,null,null,null,null,null,null,null,null,0,0,{"$error":"#DIV/0!"}]
[21,null,null,null,null,null,null,null,null,null,null,null,null,null,null,null,null,null,null,null,null,null,null,null,null,null,null,null,null,null,null,null,null,null,null,null,null,null,null,null,null,null,null,null,null,null,null,null,null,null,null,null,null,null,null,0,0,{"$error":"#DIV/0!"}]
[22,null,null,null,null,null,null,null,null,null,null,null,null,null,null,null,null,null,null,null,null,null,null,null,null,null,null,null,null,null,null,null,null,null,null,null,null,null,null,null,null,null,null,null,null,null,null,null,null,null,null,null,null,null,null,0,0,{"$error":"#DIV/0!"}]
[23,null,null,null,null,null,null,null,null,null,null,null,null,null,null,null,null,null,null,null,null,null,null,null,null,null,null,null,null,null,null,null,null,null,null,null,null,null,null,null,null,null,null,null,null,null,null,null,null,null,null,null,null,null,null,0,0,{"$error":"#DIV/0!"}]
[24,null,null,null,null,null,null,null,null,null,null,null,null,null,null,null,null,null,null,null,null,null,null,null,null,null,null,null,null,null,null,null,null,null,null,null,null,null,null,null,null,null,null,null,null,null,null,null,null,null,null,null,null,null,null,{"$f":"+AY66+AP66+AG66+AD66+AA66+X66+U66+R66+O66+L66+I66+F66+C66+AJ66+AM66+AS66+AV66","v":0},0,{"$error":"#DIV/0!"}]
[25,null,null,null,null,null,null,null,null,null,null,null,null,null,null,null,null,null,null,null,null,null,null,null,null,null,null,null,null,null,null,null,null,null,null,null,null,null,null,null,null,null,null,null,null,null,null,null,null,null,null,null,null,null,null,{"$f":"+AY67+AP67+AG67+AD67+AA67+X67+U67+R67+O67+L67+I67+F67+C67+AJ67+AM67+AS67+AV67","v":0},{"$f":"COUNT(C67:BA67)/3","v":0},{"$f":"+BD67/BE67","v":{"$error":"#DIV/0!"}}]
[26,null,null,null,null,null,null,null,null,null,null,null,null,null,null,null,null,null,null,null,null,null,null,null,null,null,null,null,null,null,null,null,null,null,null,null,null,null,null,null,null,null,null,null,null,null,null,null,null,null,null,null,null,null,null,{"$f":"+AY68+AP68+AG68+AD68+AA68+X68+U68+R68+O68+L68+I68+F68+C68+AJ68+AM68+AS68+AV68","v":0},{"$f":"COUNT(C68:BA68)/3","v":0},{"$f":"+BD68/BE68","v":{"$error":"#DIV/0!"}}]
[27,null,null,null,null,null,null,null,null,null,null,null,null,null,null,null,null,null,null,null,null,null,null,null,null,null,null,null,null,null,null,null,null,null,null,null,null,null,null,null,null,null,null,null,null,null,null,null,null,null,null,null,null,null,null,{"$f":"+AY69+AP69+AG69+AD69+AA69+X69+U69+R69+O69+L69+I69+F69+C69+AJ69+AM69+AS69+AV69","v":0},{"$f":"COUNT(C69:BA69)/3","v":0},{"$f":"+BD69/BE69","v":{"$error":"#DIV/0!"}}]
[28]
[29]
[30]
[31]
[32]
[33]
[34]
[35]
[36]
[37]
[38]
[39]
[40]
[41]
[42]
[43]
[44]
[45]
[{"$f":"+A87+1","v":46}]
[47]
[48]
[49]
[50]
[51]
[52]
[53]
[54]
[55]
[56]
[57]
[58]
[59]
[60]
[61]
[62]
[63]
[64]
[65]
[66]
[67]
[68]
[69]
[70]
[71]
[72]
[{"$f":"+A114+1","v":73}]
[74]
[75]
[76]
[77]
[78]
[79]
[80]
[81]
[82]
[83]
[84]
[85]
[86]
[87]
[88]
[89]
[90]
[91]
[92]
[93]
[94]
[95]
[96]
[97]
[98]
[99]
[100]
[101]
[102]
[103]
[104]
[105]
[106]
[107]
[108]
[109]
[110]
[111]
[112]
[113]
[114]

{"sheet":"Portugués","index":25,"n_rows":105,"n_cols":46,"rows_kept":105,"cut":false,"hidden":false,"merged":[[43,38,43,39],[43,26,43,27],[43,28,43,29],[43,30,43,31],[43,32,43,33],[43,34,43,35],[43,36,43,37],[43,24,43,25],[43,2,43,3],[43,4,43,5],[43,6,43,7],[43,8,43,9],[43,10,43,11],[43,12,43,13],[43,14,43,15],[43,16,43,17],[43,18,43,19],[43,20,43,21],[43,22,43,23]]}
["PORTUGUÉS"]
["Mes"]
[{"$f":"+GENERAL!B6","v":12},null,{"$f":"SUM(C5:C12)","v":-800000000}]
[null,null,"Premi","Punts","Partides","General"]
[1,"Manolo",{"$f":"+E$41","v":-100000000},{"$f":"+F$42","v":1E-4},{"$f":"+F$41","v":0},{"$f":"+E$27","v":0},{"$f":"IF(E5<A$3/2,-1,1)*80+C5","v":-100000080}]
[2,"Goretti",{"$f":"+AI$41","v":-100000000},{"$f":"+AJ$42","v":1E-4},{"$f":"+AJ$41","v":0},{"$f":"+AI$27","v":0},-100000080]
[3,"Grau",{"$f":"+AG$41","v":-100000000},{"$f":"+AH$42","v":1E-4},{"$f":"+AH$41","v":0},{"$f":"+AG$27","v":0},-100000080]
[4,"Mercè",{"$f":"+Y$41","v":-100000000},{"$f":"+Z$42","v":1E-4},{"$f":"+Z$41","v":0},{"$f":"+Y$27","v":0},-100000080]
[5,"Jordi",{"$f":"+G$41","v":-100000000},{"$f":"+H$42","v":1E-4},{"$f":"+H$41","v":0},{"$f":"+G$27","v":0},-100000080]
[6,"Joan Carles",{"$f":"+K$41","v":-100000000},{"$f":"+L$42","v":1E-4},{"$f":"+L$41","v":0},{"$f":"+K$27","v":0},-100000080]
[7,"Mariajo",{"$f":"+AM$41","v":-100000000},{"$f":"+AN$42","v":1E-4},{"$f":"+AN$41","v":0},{"$f":"+AM$27","v":0},-100000080]
[8,"Carles",{"$f":"+C$41","v":-100000000},{"$f":"+D$42","v":1E-4},{"$f":"+D$41","v":0},{"$f":"+C$27","v":0},-100000080]
[9,"Sergi",{"$f":"+M$41","v":-100000000},{"$f":"+N$42","v":1E-4},{"$f":"+N$41","v":0},{"$f":"+M$27","v":0},-100000080]
[10,"Montse",{"$f":"+AE$41","v":-100000000},{"$f":"+AF$42","v":1E-4},{"$f":"+AF$41","v":0},{"$f":"+AE$27","v":0},-100000080]
[11,"Quico",{"$f":"+O$41","v":-100000000},{"$f":"+P$42","v":1E-4},{"$f":"+P$41","v":0},{"$f":"+O$27","v":0},-100000080]
[12,"Ana",{"$f":"+I$41","v":-100000000},{"$f":"+J$42","v":1E-4},{"$f":"+J$41","v":0},{"$f":"+I$27","v":0},-100000080]
[13,"Xavi",{"$f":"+W$41","v":-100000000},{"$f":"+X$42","v":1E-4},{"$f":"+X$41","v":0},{"$f":"+W$27","v":0},-100000080]
[14,"Martín",{"$f":"+U$41","v":-100000000},{"$f":"+V$42","v":1E-4},{"$f":"+V$41","v":0},{"$f":"+U$27","v":0},-100000080]
[15,"Alícia",{"$f":"+AC$41","v":-100000000},{"$f":"+AD$42","v":1E-4},{"$f":"+AD$41","v":0},{"$f":"+AC$27","v":0},-100000080]
[16,"Rafa",{"$f":"+AA$41","v":-100000000},{"$f":"+AB$42","v":1E-4},{"$f":"+AB$41","v":0},{"$f":"+AA$27","v":0},-100000080]
[17,"Iglesias",{"$f":"+AK$41","v":-100000000},{"$f":"+AL$42","v":1E-4},{"$f":"+AL$41","v":0},{"$f":"+AK$27","v":0},-100000080]
[18,"Pablo",{"$f":"+S$41","v":-100000000},{"$f":"+T$42","v":1E-4},{"$f":"+T$41","v":0},{"$f":"+S$27","v":0},-100000080]
[19,"Eli",{"$f":"+Q$41","v":-100000000},{"$f":"+R$42","v":1E-4},{"$f":"+R$41","v":0},{"$f":"+Q$27","v":0},-100000080]
[]
[]
[]
[null,"General",{"$f":"+C28*C29","v":0},{"$f":"+D28*D29","v":0},0,0,0,0,0,0,0,0,0,0,0,0,0,0,0,0,0,0,0,0,0,0,0,0,0,0,0,0,0,0,0,0,0,0,0,0]
[null,null,{"$f":"IF($B40>3,1,0)","v":0},{"$f":"IF($B40>3,1,0)","v":0},{"$f":"IF($B40>3,1,0)","v":0},0,0,0,0,0,0,0,0,0,0,0,0,0,0,0,0,0,0,0,0,0,0,0,0,0,0,0,0,0,0,0,0,0,0,0]
[null,null,{"$f":"MAX(C30:C34)","v":0},{"$f":"+D41","v":0},{"$f":"MAX(E30:E34)","v":0},{"$f":"+F41","v":0},{"$f":"MAX(G30:G34)","v":0},{"$f":"+H41","v":0},{"$f":"MAX(I30:I34)","v":0},{"$f":"+J41","v":0},{"$f":"MAX(K30:K34)","v":0},{"$f":"+L41","v":0},{"$f":"MAX(M30:M34)","v":0},{"$f":"+N41","v":0},{"$f":"MAX(O30:O34)","v":0},{"$f":"+P41","v":0},{"$f":"MAX(Q30:Q34)","v":0},{"$f":"+R41","v":0},{"$f":"MAX(S30:S34)","v":0},{"$f":"+T41","v":0},{"$f":"MAX(U30:U34)","v":0},{"$f":"+V41","v":0},{"$f":"MAX(W30:W34)","v":0},{"$f":"+X41","v":0},{"$f":"MAX(Y30:Y34)","v":0},{"$f":"+Z41","v":0},{"$f":"MAX(AA30:AA34)","v":0},{"$f":"+AB41","v":0},{"$f":"MAX(AC30:AC34)","v":0},{"$f":"+AD41","v":0},{"$f":"MAX(AE30:AE34)","v":0},{"$f":"+AF41","v":0},{"$f":"MAX(AG30:AG34)","v":0},{"$f":"+AH41","v":0},{"$f":"MAX(AI30:AI34)","v":0},{"$f":"+AJ41","v":0},{"$f":"MAX(AK30:AK34)","v":0},{"$f":"+AL41","v":0},{"$f":"MAX(AM30:AM34)","v":0},{"$f":"+AN41","v":0}]
[null,null,{"$f":"IF(C$35=5,5,0)","v":0},null,{"$f":"IF(E$35=5,5,0)","v":0},null,{"$f":"IF(G$35=5,5,0)","v":0},null,{"$f":"IF(I$35=5,5,0)","v":0},null,{"$f":"IF(K$35=5,5,0)","v":0},null,{"$f":"IF(M$35=5,5,0)","v":0},null,{"$f":"IF(O$35=5,5,0)","v":0},null,{"$f":"IF(Q$35=5,5,0)","v":0},null,{"$f":"IF(S$35=5,5,0)","v":0},null,{"$f":"IF(U$35=5,5,0)","v":0},null,{"$f":"IF(W$35=5,5,0)","v":0},null,{"$f":"IF(Y$35=5,5,0)","v":0},null,{"$f":"IF(AA$35=5,5,0)","v":0},null,{"$f":"IF(AC$35=5,5,0)","v":0},null,{"$f":"IF(AE$35=5,5,0)","v":0},null,{"$f":"IF(AG$35=5,5,0)","v":0},null,{"$f":"IF(AI$35=5,5,0)","v":0},null,{"$f":"IF(AK$35=5,5,0)","v":0},null,{"$f":"IF(AM$35=5,5,0)","v":0}]
[null,null,{"$f":"IF(C$35=4,10,0)","v":0},null,{"$f":"IF(E$35=4,10,0)","v":0},null,{"$f":"IF(G$35=4,10,0)","v":0},null,{"$f":"IF(I$35=4,10,0)","v":0},null,{"$f":"IF(K$35=4,10,0)","v":0},null,{"$f":"IF(M$35=4,10,0)","v":0},null,{"$f":"IF(O$35=4,10,0)","v":0},null,{"$f":"IF(Q$35=4,10,0)","v":0},null,{"$f":"IF(S$35=4,10,0)","v":0},null,{"$f":"IF(U$35=4,10,0)","v":0},null,{"$f":"IF(W$35=4,10,0)","v":0},null,{"$f":"IF(Y$35=4,10,0)","v":0},null,{"$f":"IF(AA$35=4,10,0)","v":0},null,{"$f":"IF(AC$35=4,10,0)","v":0},null,{"$f":"IF(AE$35=4,10,0)","v":0},null,{"$f":"IF(AG$35=4,10,0)","v":0},null,{"$f":"IF(AI$35=4,10,0)","v":0},null,{"$f":"IF(AK$35=4,10,0)","v":0},null,{"$f":"IF(AM$35=4,10,0)","v":0}]
[null,null,{"$f":"IF(C$35=3,20,0)","v":0},null,{"$f":"IF(E$35=3,20,0)","v":0},null,{"$f":"IF(G$35=3,20,0)","v":0},null,{"$f":"IF(I$35=3,20,0)","v":0},null,{"$f":"IF(K$35=3,20,0)","v":0},null,{"$f":"IF(M$35=3,20,0)","v":0},null,{"$f":"IF(O$35=3,20,0)","v":0},null,{"$f":"IF(Q$35=3,20,0)","v":0},null,{"$f":"IF(S$35=3,20,0)","v":0},null,{"$f":"IF(U$35=3,20,0)","v":0},null,{"$f":"IF(W$35=3,20,0)","v":0},null,{"$f":"IF(Y$35=3,20,0)","v":0},null,{"$f":"IF(AA$35=3,20,0)","v":0},null,{"$f":"IF(AC$35=3,20,0)","v":0},null,{"$f":"IF(AE$35=3,20,0)","v":0},null,{"$f":"IF(AG$35=3,20,0)","v":0},null,{"$f":"IF(AI$35=3,20,0)","v":0},null,{"$f":"IF(AK$35=3,20,0)","v":0},null,{"$f":"IF(AM$35=3,20,0)","v":0}]
[null,null,{"$f":"IF(C$35=2,40,0)","v":0},null,{"$f":"IF(E$35=2,40,0)","v":0},null,{"$f":"IF(G$35=2,40,0)","v":0},null,{"$f":"IF(I$35=2,40,0)","v":0},null,{"$f":"IF(K$35=2,40,0)","v":0},null,{"$f":"IF(M$35=2,40,0)","v":0},null,{"$f":"IF(O$35=2,40,0)","v":0},null,{"$f":"IF(Q$35=2,40,0)","v":0},null,{"$f":"IF(S$35=2,40,0)","v":0},null,{"$f":"IF(U$35=2,40,0)","v":0},null,{"$f":"IF(W$35=2,40,0)","v":0},null,{"$f":"IF(Y$35=2,40,0)","v":0},null,{"$f":"IF(AA$35=2,40,0)","v":0},null,{"$f":"IF(AC$35=2,40,0)","v":0},null,{"$f":"IF(AE$35=2,40,0)","v":0},null,{"$f":"IF(AG$35=2,40,0)","v":0},null,{"$f":"IF(AI$35=2,40,0)","v":0},null,{"$f":"IF(AK$35=2,40,0)","v":0},null,{"$f":"IF(AM$35=2,40,0)","v":0}]
[null,null,{"$f":"IF(C$35=1,80,0)","v":0},null,{"$f":"IF(E$35=1,80,0)","v":0},null,{"$f":"IF(G$35=1,80,0)","v":0},null,{"$f":"IF(I$35=1,80,0)","v":0},null,{"$f":"IF(K$35=1,80,0)","v":0},null,{"$f":"IF(M$35=1,80,0)","v":0},null,{"$f":"IF(O$35=1,80,0)","v":0},null,{"$f":"IF(Q$35=1,80,0)","v":0},null,{"$f":"IF(S$35=1,80,0)","v":0},null,{"$f":"IF(U$35=1,80,0)","v":0},null,{"$f":"IF(W$35=1,80,0)","v":0},null,{"$f":"IF(Y$35=1,80,0)","v":0},null,{"$f":"IF(AA$35=1,80,0)","v":0},null,{"$f":"IF(AC$35=1,80,0)","v":0},null,{"$f":"IF(AE$35=1,80,0)","v":0},null,{"$f":"IF(AG$35=1,80,0)","v":0},null,{"$f":"IF(AI$35=1,80,0)","v":0},null,{"$f":"IF(AK$35=1,80,0)","v":0},null,{"$f":"IF(AM$35=1,80,0)","v":0}]
[null,null,{"$f":"RANK(C36,$C36:$BG36)*C40","v":0},null,{"$f":"RANK(E36,$C36:$BG36)*E40","v":0},null,{"$f":"RANK(G36,$C36:$BG36)*G40","v":0},null,{"$f":"RANK(I36,$C36:$BG36)*I40","v":0},null,{"$f":"RANK(K36,$C36:$BG36)*K40","v":0},null,{"$f":"RANK(M36,$C36:$BG36)*M40","v":0},null,{"$f":"RANK(O36,$C36:$BG36)*O40","v":0},null,{"$f":"RANK(Q36,$C36:$BG36)*Q40","v":0},null,{"$f":"RANK(S36,$C36:$BG36)*S40","v":0},null,{"$f":"RANK(U36,$C36:$BG36)*U40","v":0},null,{"$f":"RANK(W36,$C36:$BG36)*W40","v":0},null,{"$f":"RANK(Y36,$C36:$BG36)*Y40","v":0},null,{"$f":"RANK(AA36,$C36:$BG36)*AA40","v":0},null,{"$f":"RANK(AC36,$C36:$BG36)*AC40","v":0},null,{"$f":"RANK(AE36,$C36:$BG36)*AE40","v":0},null,{"$f":"RANK(AG36,$C36:$BG36)*AG40","v":0},null,{"$f":"RANK(AI36,$C36:$BG36)*AI40","v":0},null,{"$f":"RANK(AK36,$C36:$BG36)*AK40","v":0},null,{"$f":"RANK(AM36,$C36:$BG36)*AM40","v":0}]
[null,null,{"$f":"SUM(C37:C39)","v":-100999999.98999999},null,{"$f":"SUM(E37:E39)","v":-100999999.98999999},null,{"$f":"SUM(G37:G39)","v":-100999999.98999999},null,{"$f":"SUM(I37:I39)","v":-100999999.98999999},null,{"$f":"SUM(K37:K39)","v":-100999999.98999999},null,{"$f":"SUM(M37:M39)","v":-100999999.98999999},null,{"$f":"SUM(O37:O39)","v":-100999999.98999999},null,{"$f":"SUM(Q37:Q39)","v":-100999999.98999999},null,{"$f":"SUM(S37:S39)","v":-100999999.98999999},null,{"$f":"SUM(U37:U39)","v":-100999999.98999999},null,{"$f":"SUM(W37:W39)","v":-100999999.98999999},null,{"$f":"SUM(Y37:Y39)","v":-100999999.98999999},null,{"$f":"SUM(AA37:AA39)","v":-100999999.98999999},null,{"$f":"SUM(AC37:AC39)","v":-100999999.98999999},null,{"$f":"SUM(AE37:AE39)","v":-100999999.98999999},null,{"$f":"SUM(AG37:AG39)","v":-100999999.98999999},null,{"$f":"SUM(AI37:AI39)","v":-100999999.98999999},null,{"$f":"SUM(AK37:AK39)","v":-100999999.98999999},null,{"$f":"SUM(AM37:AM39)","v":-100999999.98999999}]
[null,null,{"$f":"+D41","v":0},null,{"$f":"+F41","v":0},null,{"$f":"+H41","v":0},null,{"$f":"+J41","v":0},null,{"$f":"+L41","v":0},null,{"$f":"+N41","v":0},null,{"$f":"+P41","v":0},null,{"$f":"+R41","v":0},null,{"$f":"+T41","v":0},null,{"$f":"+V41","v":0},null,{"$f":"+X41","v":0},null,{"$f":"+Z41","v":0},null,{"$f":"+AB41","v":0},null,{"$f":"+AD41","v":0},null,{"$f":"+AF41","v":0},null,{"$f":"+AH41","v":0},null,{"$f":"+AJ41","v":0},null,{"$f":"+AL41","v":0},null,{"$f":"+AN41","v":0}]
[null,null,{"$f":"+D42*100","v":0.01},null,{"$f":"+F42*100","v":0.01},null,{"$f":"+H42*100","v":0.01},null,{"$f":"+J42*100","v":0.01},null,{"$f":"+L42*100","v":0.01},null,{"$f":"+N42*100","v":0.01},null,{"$f":"+P42*100","v":0.01},null,{"$f":"+R42*100","v":0.01},null,{"$f":"+T42*100","v":0.01},null,{"$f":"+V42*100","v":0.01},null,{"$f":"+X42*100","v":0.01},null,{"$f":"+Z42*100","v":0.01},null,{"$f":"+AB42*100","v":0.01},null,{"$f":"+AD42*100","v":0.01},null,{"$f":"+AF42*100","v":0.01},null,{"$f":"+AH42*100","v":0.01},null,{"$f":"+AJ42*100","v":0.01},null,{"$f":"+AL42*100","v":0.01},null,{"$f":"+AN42*100","v":0.01}]
[null,null,{"$f":"IF(C40=1,C41*C40*1000+C41,-1000000+C41)","v":-101000000},null,{"$f":"IF(E40=1,E41*E40*1000+E41,-1000000+E41)","v":-101000000},null,{"$f":"IF(G40=1,G41*G40*1000+G41,-1000000+G41)","v":-101000000},null,{"$f":"IF(I40=1,I41*I40*1000+I41,-1000000+I41)","v":-101000000},null,{"$f":"IF(K40=1,K41*K40*1000+K41,-1000000+K41)","v":-101000000},null,{"$f":"IF(M40=1,M41*M40*1000+M41,-1000000+M41)","v":-101000000},null,{"$f":"IF(O40=1,O41*O40*1000+O41,-1000000+O41)","v":-101000000},null,{"$f":"IF(Q40=1,Q41*Q40*1000+Q41,-1000000+Q41)","v":-101000000},null,{"$f":"IF(S40=1,S41*S40*1000+S41,-1000000+S41)","v":-101000000},null,{"$f":"IF(U40=1,U41*U40*1000+U41,-1000000+U41)","v":-101000000},null,{"$f":"IF(W40=1,W41*W40*1000+W41,-1000000+W41)","v":-101000000},null,{"$f":"IF(Y40=1,Y41*Y40*1000+Y41,-1000000+Y41)","v":-101000000},null,{"$f":"IF(AA40=1,AA41*AA40*1000+AA41,-1000000+AA41)","v":-101000000},null,{"$f":"IF(AC40=1,AC41*AC40*1000+AC41,-1000000+AC41)","v":-101000000},null,{"$f":"IF(AE40=1,AE41*AE40*1000+AE41,-1000000+AE41)","v":-101000000},null,{"$f":"IF(AG40=1,AG41*AG40*1000+AG41,-1000000+AG41)","v":-101000000},null,{"$f":"IF(AI40=1,AI41*AI40*1000+AI41,-1000000+AI41)","v":-101000000},null,{"$f":"IF(AK40=1,AK41*AK40*1000+AK41,-1000000+AK41)","v":-101000000},null,{"$f":"IF(AM40=1,AM41*AM40*1000+AM41,-1000000+AM41)","v":-101000000}]
["Classificats",{"$f":"SUM(C40:AM40)","v":0},{"$f":"IF(D41>=$A3/2,1,0)","v":0},null,{"$f":"IF(F41>=$A3/2,1,0)","v":0},null,{"$f":"IF(H41>=$A3/2,1,0)","v":0},null,{"$f":"IF(J41>=$A3/2,1,0)","v":0},null,{"$f":"IF(L41>=$A3/2,1,0)","v":0},null,{"$f":"IF(N41>=$A3/2,1,0)","v":0},null,{"$f":"IF(P41>=$A3/2,1,0)","v":0},null,{"$f":"IF(R41>=$A3/2,1,0)","v":0},null,{"$f":"IF(T41>=$A3/2,1,0)","v":0},null,{"$f":"IF(V41>=$A3/2,1,0)","v":0},null,{"$f":"IF(X41>=$A3/2,1,0)","v":0},null,{"$f":"IF(Z41>=$A3/2,1,0)","v":0},null,{"$f":"IF(AB41>=$A3/2,1,0)","v":0},null,{"$f":"IF(AD41>=$A3/2,1,0)","v":0},null,{"$f":"IF(AF41>=$A3/2,1,0)","v":0},null,{"$f":"IF(AH41>=$A3/2,1,0)","v":0},null,{"$f":"IF(AJ41>=$A3/2,1,0)","v":0},null,{"$f":"IF(AL41>=$A3/2,1,0)","v":0},null,{"$f":"IF(AN41>=$A3/2,1,0)","v":0}]
[null,null,{"$f":"IF(SUM(C46:C208)<-1000,-100000000,SUM(C46:C208))","v":-100000000},{"$f":"COUNT(D46:D208)","v":0},{"$f":"IF(SUM(E46:E208)<-1000,-100000000,SUM(E46:E208))","v":-100000000},{"$f":"COUNT(F46:F208)","v":0},{"$f":"IF(SUM(G46:G208)<-1000,-100000000,SUM(G46:G208))","v":-100000000},{"$f":"COUNT(H46:H208)","v":0},{"$f":"IF(SUM(I46:I208)<-1000,-100000000,SUM(I46:I208))","v":-100000000},{"$f":"COUNT(J46:J208)","v":0},{"$f":"IF(SUM(K46:K208)<-1000,-100000000,SUM(K46:K208))","v":-100000000},{"$f":"COUNT(L46:L208)","v":0},{"$f":"IF(SUM(M46:M208)<-1000,-100000000,SUM(M46:M208))","v":-100000000},{"$f":"COUNT(N46:N208)","v":0},{"$f":"IF(SUM(O46:O208)<-1000,-100000000,SUM(O46:O208))","v":-100000000},{"$f":"COUNT(P46:P208)","v":0},{"$f":"IF(SUM(Q46:Q208)<-1000,-100000000,SUM(Q46:Q208))","v":-100000000},{"$f":"COUNT(R46:R208)","v":0},{"$f":"IF(SUM(S46:S208)<-1000,-100000000,SUM(S46:S208))","v":-100000000},{"$f":"COUNT(T46:T208)","v":0},{"$f":"IF(SUM(U46:U208)<-1000,-100000000,SUM(U46:U208))","v":-100000000},{"$f":"COUNT(V46:V208)","v":0},{"$f":"IF(SUM(W46:W208)<-1000,-100000000,SUM(W46:W208))","v":-100000000},{"$f":"COUNT(X46:X208)","v":0},{"$f":"IF(SUM(Y46:Y208)<-1000,-100000000,SUM(Y46:Y208))","v":-100000000},{"$f":"COUNT(Z46:Z208)","v":0},{"$f":"IF(SUM(AA46:AA208)<-1000,-100000000,SUM(AA46:AA208))","v":-100000000},{"$f":"COUNT(AB46:AB208)","v":0},{"$f":"IF(SUM(AC46:AC208)<-1000,-100000000,SUM(AC46:AC208))","v":-100000000},{"$f":"COUNT(AD46:AD208)","v":0},{"$f":"IF(SUM(AE46:AE208)<-1000,-100000000,SUM(AE46:AE208))","v":-100000000},{"$f":"COUNT(AF46:AF208)","v":0},{"$f":"IF(SUM(AG46:AG208)<-1000,-100000000,SUM(AG46:AG208))","v":-100000000},{"$f":"COUNT(AH46:AH208)","v":0},{"$f":"IF(SUM(AI46:AI208)<-1000,-100000000,SUM(AI46:AI208))","v":-100000000},{"$f":"COUNT(AJ46:AJ208)","v":0},{"$f":"IF(SUM(AK46:AK208)<-1000,-100000000,SUM(AK46:AK208))","v":-100000000},{"$f":"COUNT(AL46:AL208)","v":0},{"$f":"IF(SUM(AM46:AM208)<-1000,-100000000,SUM(AM46:AM208))","v":-100000000},{"$f":"COUNT(AN46:AN208)","v":0}]
[null,null,null,{"$f":"IF(D41=0,0.0001,AVERAGE(D46:D105))","v":1E-4},null,{"$f":"IF(F41=0,0.0001,AVERAGE(F46:F105))","v":1E-4},null,{"$f":"IF(H41=0,0.0001,AVERAGE(H46:H105))","v":1E-4},null,{"$f":"IF(J41=0,0.0001,AVERAGE(J46:J105))","v":1E-4},null,{"$f":"IF(L41=0,0.0001,AVERAGE(L46:L105))","v":1E-4},null,{"$f":"IF(N41=0,0.0001,AVERAGE(N46:N105))","v":1E-4},null,{"$f":"IF(P41=0,0.0001,AVERAGE(P46:P105))","v":1E-4},null,{"$f":"IF(R41=0,0.0001,AVERAGE(R46:R105))","v":1E-4},null,{"$f":"IF(T41=0,0.0001,AVERAGE(T46:T105))","v":1E-4},null,{"$f":"IF(V41=0,0.0001,AVERAGE(V46:V105))","v":1E-4},null,{"$f":"IF(X41=0,0.0001,AVERAGE(X46:X105))","v":1E-4},null,{"$f":"IF(Z41=0,0.0001,AVERAGE(Z46:Z105))","v":1E-4},null,{"$f":"IF(AB41=0,0.0001,AVERAGE(AB46:AB105))","v":1E-4},null,{"$f":"IF(AD41=0,0.0001,AVERAGE(AD46:AD105))","v":1E-4},null,{"$f":"IF(AF41=0,0.0001,AVERAGE(AF46:AF105))","v":1E-4},null,{"$f":"IF(AH41=0,0.0001,AVERAGE(AH46:AH105))","v":1E-4},null,{"$f":"IF(AJ41=0,0.0001,AVERAGE(AJ46:AJ105))","v":1E-4},null,{"$f":"IF(AL41=0,0.0001,AVERAGE(AL46:AL105))","v":1E-4},null,{"$f":"IF(AN41=0,0.0001,AVERAGE(AN46:AN105))","v":1E-4}]
[null,null,null,null,null,null,null,null,null,null,null,null,null,null,null,null,null,null,null,null,null,null,null,null,null,null,null,null,null,null,null,null,null,null,null,null,null,null,null,null,{"$f":"MAX(AP46:AP105)","v":0}]
[null,"Nº partida ","Carles",null,"Manolo",null,"Jordi",null,"Ana",null,"Joan Carles",null,"Sergi",null,"Quico",null,"Eli",null,"Pablo",null,"Martín",null,"Xavi",null,"Mercè",null,"Rafa",null,"Alícia",null,"Montse",null,"Grau",null,"Goretti",null,"Iglesias",null,"Mariajo",null,{"$f":"COUNT(AO46:AO123)","v":0},"A","B","C"]
[null,null,"Premi","Punts","Premi","Punts","Premi","Punts","Premi","Punts","Premi","Punts","Premi","Punts","Premi","Punts","Premi","Punts","Premi","Punts","Premi","Punts","Premi","Punts","Premi","Punts","Premi","Punts","Premi","Punts","Premi","Punts","Premi","Punts","Premi","Punts","Premi","Punts","Premi","Punts","Data","Timba"]
[1,null,-10000000,null,-10000000,null,-10000000,null,-10000000,null,-10000000,null,-10000000,null,-10000000,null,-10000000,null,-10000000,null,-10000000,null,-10000000,null,-10000000,null,-10000000,null,-10000000,null,-10000000,null,-10000000,null,-10000000,null,-10000000,null,-10000000,null,null,null,{"$f":"+C46+E46+G46+I46++K46++M46+O46+Q46+S46+U46+W46+AK46+AM46+Y46+AC46+AE46+AG46+AI46+AA46","v":-190000000},0,{"$f":"COUNT(C46:AN46)/2","v":9.5},{"$f":"+AQ46/AS46","v":-20000000}]
[{"$f":"+A46+1","v":2},null,null,null,null,null,null,null,null,null,null,null,null,null,null,null,null,null,null,null,null,null,null,null,null,null,null,null,null,null,null,null,null,null,null,null,null,null,null,null,null,null,0,0,0,{"$error":"#DIV/0!"}]
[{"$f":"+A47+1","v":3},null,null,null,null,null,null,null,null,null,null,null,null,null,null,null,null,null,null,null,null,null,null,null,null,null,null,null,null,null,null,null,null,null,null,null,null,null,null,null,null,null,0,0,0,{"$error":"#DIV/0!"}]
[4,null,null,null,null,null,null,null,null,null,null,null,null,null,null,null,null,null,null,null,null,null,null,null,null,null,null,null,null,null,null,null,null,null,null,null,null,null,null,null,null,null,0,0,0,{"$error":"#DIV/0!"}]
[{"$f":"+A49+1","v":5},null,null,null,null,null,null,null,null,null,null,null,null,null,null,null,null,null,null,null,null,null,null,null,null,null,null,null,null,null,null,null,null,null,null,null,null,null,null,null,null,null,0,0,0,{"$error":"#DIV/0!"}]
[6,null,null,null,null,null,null,null,null,null,null,null,null,null,null,null,null,null,null,null,null,null,null,null,null,null,null,null,null,null,null,null,null,null,null,null,null,null,null,null,null,null,0,0,0,{"$error":"#DIV/0!"}]
[7,null,null,null,null,null,null,null,null,null,null,null,null,null,null,null,null,null,null,null,null,null,null,null,null,null,null,null,null,null,null,null,null,null,null,null,null,null,null,null,null,null,0,0,0,{"$error":"#DIV/0!"}]
[8,null,null,null,null,null,null,null,null,null,null,null,null,null,null,null,null,null,null,null,null,null,null,null,null,null,null,null,null,null,null,null,null,null,null,null,null,null,null,null,null,null,{"$f":"+C53+E53+G53+I53++K53++M53+O53+Q53+S53+U53+W53+AK53+AM53+Y53+AC53+AE53+AG53+AI53+AA53","v":0},{"$f":"+D53+F53+H53+J53++L53++N53+P53+R53+T53+V53+X53+AL53+AN53+Z53+AD53+AF53+AH53+AJ53+AB53","v":0},0,{"$error":"#DIV/0!"}]
[9,null,null,null,null,null,null,null,null,null,null,null,null,null,null,null,null,null,null,null,null,null,null,null,null,null,null,null,null,null,null,null,null,null,null,null,null,null,null,null,null,null,{"$f":"+C54+E54+G54+I54++K54++M54+O54+Q54+S54+U54+W54+AK54+AM54+Y54+AC54+AE54+AG54+AI54","v":0},0,0,{"$error":"#DIV/0!"}]
[10,null,null,null,null,null,null,null,null,null,null,null,null,null,null,null,null,null,null,null,null,null,null,null,null,null,null,null,null,null,null,null,null,null,null,null,null,null,null,null,null,null,0,0,0,{"$error":"#DIV/0!"}]
[11,null,null,null,null,null,null,null,null,null,null,null,null,null,null,null,null,null,null,null,null,null,null,null,null,null,null,null,null,null,null,null,null,null,null,null,null,null,null,null,null,null,0,0,0,{"$error":"#DIV/0!"}]
[12,null,null,null,null,null,null,null,null,null,null,null,null,null,null,null,null,null,null,null,null,null,null,null,null,null,null,null,null,null,null,null,null,null,null,null,null,null,null,null,null,null,0,0,0,{"$error":"#DIV/0!"}]
[{"$f":"+A57+1","v":13},null,null,null,null,null,null,null,null,null,null,null,null,null,null,null,null,null,null,null,null,null,null,null,null,null,null,null,null,null,null,null,null,null,null,null,null,null,null,null,null,null,0,0,0,{"$error":"#DIV/0!"}]
[{"$f":"+A58+1","v":14},null,null,null,null,null,null,null,null,null,null,null,null,null,null,null,null,null,null,null,null,null,null,null,null,null,null,null,null,null,null,null,null,null,null,null,null,null,null,null,null,null,0,0,{"$f":"COUNT(C59:AN59)/2","v":0},{"$f":"+AQ59/AS59","v":{"$error":"#DIV/0!"}}]
[15,null,null,null,null,null,null,null,null,null,null,null,null,null,null,null,null,null,null,null,null,null,null,null,null,null,null,null,null,null,null,null,null,null,null,null,null,null,null,null,null,null,0,0,{"$f":"COUNT(C60:AN60)/2","v":0},{"$f":"+AQ60/AS60","v":{"$error":"#DIV/0!"}}]
[16,null,null,null,null,null,null,null,null,null,null,null,null,null,null,null,null,null,null,null,null,null,null,null,null,null,null,null,null,null,null,null,null,null,null,null,null,null,null,null,null,null,0,0,{"$f":"COUNT(C61:AN61)/2","v":0},{"$f":"+AQ61/AS61","v":{"$error":"#DIV/0!"}}]
[17,null,null,null,null,null,null,null,null,null,null,null,null,null,null,null,null,null,null,null,null,null,null,null,null,null,null,null,null,null,null,null,null,null,null,null,null,null,null,null,null,null,0,0,{"$f":"COUNT(C62:AN62)/2","v":0},{"$f":"+AQ62/AS62","v":{"$error":"#DIV/0!"}}]
[18]
[19]
[20]
[21]
[22]
[23]
[24]
[25]
[26]
[27]
[28]
[29]
[30]
[31]
[32]
[33]
[34]
[35]
[36]
[37]
[38]
[39]
[40]
[41]
[42]
[43]
[44]
[45]
[46]
[47]
[48]
[49]
[50]
[51]
[52]
[53]
[54]
[55]
[56]
[57]
[58]
[59]
[60]

{"sheet":"Poker C","index":26,"n_rows":128,"n_cols":35,"rows_kept":128,"cut":false,"hidden":false,"merged":[[38,24,38,25],[38,26,38,27],[38,28,38,29],[38,16,38,17],[38,18,38,19],[38,20,38,21],[38,22,38,23],[38,8,38,9],[38,10,38,11],[38,12,38,13],[38,14,38,15],[38,1,39,1],[38,2,38,3],[38,4,38,5],[38,6,38,7]]}
["POKER C"]
["Mes"]
[{"$f":"+GENERAL!B6","v":12},null,{"$f":"SUM(C5:C9)","v":-500000000}]
[null,null,"Premi","Punts","Partides","General"]
[1,"Grau",{"$f":"+S$36","v":-100000000},{"$f":"+T$37","v":1E-4},{"$f":"+T$36","v":0},{"$f":"+S$22","v":0},{"$f":"IF(E5<A$3/2,-1,1)*8000+C5*100+D5+E5/100","v":-10000007999.999901}]
[2,"Sergi",{"$f":"+M$36","v":-100000000},{"$f":"+N$37","v":1E-4},{"$f":"+N$36","v":0},{"$f":"+M$22","v":0},-10000007999.999901]
[3,"Carles",{"$f":"+O$36","v":-100000000},{"$f":"+P$37","v":1E-4},{"$f":"+P$36","v":0},{"$f":"+O$22","v":0},-10000007999.999901]
[4,"Jordi",{"$f":"+G$36","v":-100000000},{"$f":"+H$37","v":1E-4},{"$f":"+H$36","v":0},{"$f":"+G$22","v":0},-10000007999.999901]
[5,"Mercè",{"$f":"+Y$36","v":-100000000},{"$f":"+Z$37","v":1E-4},{"$f":"+Z$36","v":0},{"$f":"+Y$22","v":0},-10000007999.999901]
[6,"Ester",{"$f":"+K$36","v":-100000000},{"$f":"+L$37","v":1E-4},{"$f":"+L$36","v":0},{"$f":"+K$22","v":0},-10000007999.999901]
[7,"Goretti",{"$f":"+C$36","v":-100000000},{"$f":"+D$37","v":1E-4},{"$f":"+D$36","v":0},{"$f":"+C$22","v":0},-10000007999.999901]
[8,"Joan Carles",{"$f":"+U$36","v":-100000000},{"$f":"+V$37","v":1E-4},{"$f":"+V$36","v":0},{"$f":"+U$22","v":0},-10000007999.999901]
[9,"MªJosé",{"$f":"+I$36","v":-100000000},{"$f":"+J$37","v":1E-4},{"$f":"+J$36","v":0},{"$f":"+I$22","v":0},-10000007999.999901]
[10,"Marga",{"$f":"+AC$36","v":-100000000},{"$f":"+AD$37","v":1E-4},{"$f":"+AD$36","v":0},{"$f":"+AC$22","v":0},-10000007999.999901]
[11,"Mariajo",{"$f":"+Q$36","v":-100000000},{"$f":"+R$37","v":1E-4},{"$f":"+R$36","v":0},{"$f":"+Q$22","v":0},-10000007999.999901]
[12,"Montse",{"$f":"+AA$36","v":-100000000},{"$f":"+AB$37","v":1E-4},{"$f":"+AB$36","v":0},{"$f":"+AA$22","v":0},-10000007999.999901]
[13,"Pepe",{"$f":"+E$36","v":-100000000},{"$f":"+F$37","v":1E-4},{"$f":"+F$36","v":0},{"$f":"+E$22","v":0},-10000007999.999901]
[14,"Xavi",{"$f":"+W$36","v":-100000000},{"$f":"+X$37","v":1E-4},{"$f":"+X$36","v":0},{"$f":"+W$22","v":0},-10000007999.999901]
[]
[]
[]
[null,"General",{"$f":"+C23*C24","v":0},{"$f":"+D23*D24","v":0},0,0,{"$f":"+G23*G24","v":0},0,0,0,0,0,0,0,0,0,0,0,{"$f":"+S23*S24","v":0},0,0,0,0,0,{"$f":"+Y23*Y24","v":0},0,{"$f":"+AA23*AA24","v":0},{"$f":"+AB23*AB24","v":0},0,0]
[null,null,{"$f":"IF($B35>3,1,0)","v":0},{"$f":"IF($B35>3,1,0)","v":0},0,0,{"$f":"IF($B35>3,1,0)","v":0},0,0,0,0,0,0,0,0,0,0,0,0,0,0,0,0,0,0,0,{"$f":"IF($B35>3,1,0)","v":0},{"$f":"IF($B35>3,1,0)","v":0},0,0]
[null,null,{"$f":"MAX(C25:C29)","v":0},{"$f":"+D36","v":0},{"$f":"MAX(E25:E29)","v":0},{"$f":"+F36","v":0},{"$f":"MAX(G25:G29)","v":0},{"$f":"+H36","v":0},{"$f":"MAX(I25:I29)","v":0},{"$f":"+J36","v":0},{"$f":"MAX(K25:K29)","v":0},{"$f":"+L36","v":0},{"$f":"MAX(M25:M29)","v":0},{"$f":"+N36","v":0},{"$f":"MAX(O25:O29)","v":0},{"$f":"+P36","v":0},{"$f":"MAX(Q25:Q29)","v":0},{"$f":"+R36","v":0},{"$f":"MAX(S25:S29)","v":0},{"$f":"+T36","v":0},{"$f":"MAX(U25:U29)","v":0},{"$f":"+V36","v":0},{"$f":"MAX(W25:W29)","v":0},{"$f":"+X36","v":0},{"$f":"MAX(Y25:Y29)","v":0},{"$f":"+Z36","v":0},{"$f":"MAX(AA25:AA29)","v":0},{"$f":"+AB36","v":0},{"$f":"MAX(AC25:AC29)","v":0},{"$f":"+AD36","v":0}]
[null,null,{"$f":"IF(C$30=5,5,0)","v":0},null,{"$f":"IF(E$30=5,5,0)","v":0},null,{"$f":"IF(G$30=5,5,0)","v":0},null,{"$f":"IF(I$30=5,5,0)","v":0},null,{"$f":"IF(K$30=5,5,0)","v":0},null,{"$f":"IF(M$30=5,5,0)","v":0},null,{"$f":"IF(O$30=5,5,0)","v":0},null,{"$f":"IF(Q$30=5,5,0)","v":0},null,{"$f":"IF(S$30=5,5,0)","v":0},null,{"$f":"IF(U$30=5,5,0)","v":0},null,{"$f":"IF(W$30=5,5,0)","v":0},null,{"$f":"IF(Y$30=5,5,0)","v":0},null,{"$f":"IF(AA$30=5,5,0)","v":0},null,{"$f":"IF(AC$30=5,5,0)","v":0}]
[null,null,{"$f":"IF(C$30=4,10,0)","v":0},null,{"$f":"IF(E$30=4,10,0)","v":0},null,{"$f":"IF(G$30=4,10,0)","v":0},null,{"$f":"IF(I$30=4,10,0)","v":0},null,{"$f":"IF(K$30=4,10,0)","v":0},null,{"$f":"IF(M$30=4,10,0)","v":0},null,{"$f":"IF(O$30=4,10,0)","v":0},null,{"$f":"IF(Q$30=4,10,0)","v":0},null,{"$f":"IF(S$30=4,10,0)","v":0},null,{"$f":"IF(U$30=4,10,0)","v":0},null,{"$f":"IF(W$30=4,10,0)","v":0},null,{"$f":"IF(Y$30=4,10,0)","v":0},null,{"$f":"IF(AA$30=4,10,0)","v":0},null,{"$f":"IF(AC$30=4,10,0)","v":0}]
[null,null,{"$f":"IF(C$30=3,20,0)","v":0},null,{"$f":"IF(E$30=3,20,0)","v":0},null,{"$f":"IF(G$30=3,20,0)","v":0},null,{"$f":"IF(I$30=3,20,0)","v":0},null,{"$f":"IF(K$30=3,20,0)","v":0},null,{"$f":"IF(M$30=3,20,0)","v":0},null,{"$f":"IF(O$30=3,20,0)","v":0},null,{"$f":"IF(Q$30=3,20,0)","v":0},null,{"$f":"IF(S$30=3,20,0)","v":0},null,{"$f":"IF(U$30=3,20,0)","v":0},null,{"$f":"IF(W$30=3,20,0)","v":0},null,{"$f":"IF(Y$30=3,20,0)","v":0},null,{"$f":"IF(AA$30=3,20,0)","v":0},null,{"$f":"IF(AC$30=3,20,0)","v":0}]
[null,null,{"$f":"IF(C$30=2,40,0)","v":0},null,{"$f":"IF(E$30=2,40,0)","v":0},null,{"$f":"IF(G$30=2,40,0)","v":0},null,{"$f":"IF(I$30=2,40,0)","v":0},null,{"$f":"IF(K$30=2,40,0)","v":0},null,{"$f":"IF(M$30=2,40,0)","v":0},null,{"$f":"IF(O$30=2,40,0)","v":0},null,{"$f":"IF(Q$30=2,40,0)","v":0},null,{"$f":"IF(S$30=2,40,0)","v":0},null,{"$f":"IF(U$30=2,40,0)","v":0},null,{"$f":"IF(W$30=2,40,0)","v":0},null,{"$f":"IF(Y$30=2,40,0)","v":0},null,{"$f":"IF(AA$30=2,40,0)","v":0},null,{"$f":"IF(AC$30=2,40,0)","v":0}]
[null,null,{"$f":"IF(C$30=1,80,0)","v":0},null,{"$f":"IF(E$30=1,80,0)","v":0},null,{"$f":"IF(G$30=1,80,0)","v":0},null,{"$f":"IF(I$30=1,80,0)","v":0},null,{"$f":"IF(K$30=1,80,0)","v":0},null,{"$f":"IF(M$30=1,80,0)","v":0},null,{"$f":"IF(O$30=1,80,0)","v":0},null,{"$f":"IF(Q$30=1,80,0)","v":0},null,{"$f":"IF(S$30=1,80,0)","v":0},null,{"$f":"IF(U$30=1,80,0)","v":0},null,{"$f":"IF(W$30=1,80,0)","v":0},null,{"$f":"IF(Y$30=1,80,0)","v":0},null,{"$f":"IF(AA$30=1,80,0)","v":0},null,{"$f":"IF(AC$30=1,80,0)","v":0}]
[null,null,{"$f":"RANK(C31,$C31:$BF31)*C35","v":0},null,{"$f":"RANK(E31,$C31:$BF31)*E35","v":0},null,{"$f":"RANK(G31,$C31:$BF31)*G35","v":0},null,{"$f":"RANK(I31,$C31:$BF31)*I35","v":0},null,{"$f":"RANK(K31,$C31:$BF31)*K35","v":0},null,{"$f":"RANK(M31,$C31:$BF31)*M35","v":0},null,{"$f":"RANK(O31,$C31:$BF31)*O35","v":0},null,{"$f":"RANK(Q31,$C31:$BF31)*Q35","v":0},null,{"$f":"RANK(S31,$C31:$BF31)*S35","v":0},null,{"$f":"RANK(U31,$C31:$BF31)*U35","v":0},null,{"$f":"RANK(W31,$C31:$BF31)*W35","v":0},null,{"$f":"RANK(Y31,$C31:$BF31)*Y35","v":0},null,{"$f":"RANK(AA31,$C31:$BF31)*AA35","v":0},null,{"$f":"RANK(AC31,$C31:$BF31)*AC35","v":0}]
[null,null,{"$f":"SUM(C32:C34)","v":-100999999.98999999},null,{"$f":"SUM(E32:E34)","v":-100999999.98999999},null,{"$f":"SUM(G32:G34)","v":-100999999.98999999},null,{"$f":"SUM(I32:I34)","v":-100999999.98999999},null,{"$f":"SUM(K32:K34)","v":-100999999.98999999},null,{"$f":"SUM(M32:M34)","v":-100999999.98999999},null,{"$f":"SUM(O32:O34)","v":-100999999.98999999},null,{"$f":"SUM(Q32:Q34)","v":-100999999.98999999},null,{"$f":"SUM(S32:S34)","v":-100999999.98999999},null,{"$f":"SUM(U32:U34)","v":-100999999.98999999},null,{"$f":"SUM(W32:W34)","v":-100999999.98999999},null,{"$f":"SUM(Y32:Y34)","v":-100999999.98999999},null,{"$f":"SUM(AA32:AA34)","v":-100999999.98999999},null,{"$f":"SUM(AC32:AC34)","v":-100999999.98999999}]
[null,null,{"$f":"+D36","v":0},null,{"$f":"+F36","v":0},null,{"$f":"+H36","v":0},null,{"$f":"+J36","v":0},null,{"$f":"+L36","v":0},null,{"$f":"+N36","v":0},null,{"$f":"+P36","v":0},null,{"$f":"+R36","v":0},null,{"$f":"+T36","v":0},null,{"$f":"+V36","v":0},null,{"$f":"+X36","v":0},null,{"$f":"+Z36","v":0},null,{"$f":"+AB36","v":0},null,{"$f":"+AD36","v":0}]
[null,null,{"$f":"D37*100","v":0.01},null,{"$f":"F37*100","v":0.01},null,{"$f":"H37*100","v":0.01},null,{"$f":"J37*100","v":0.01},null,{"$f":"L37*100","v":0.01},null,{"$f":"N37*100","v":0.01},null,{"$f":"P37*100","v":0.01},null,{"$f":"R37*100","v":0.01},null,{"$f":"T37*100","v":0.01},null,{"$f":"V37*100","v":0.01},null,{"$f":"X37*100","v":0.01},null,{"$f":"Z37*100","v":0.01},null,{"$f":"AB37*100","v":0.01},null,{"$f":"AD37*100","v":0.01}]
[null,null,{"$f":"IF(C35=1,C36*C35*1000+C36,-1000000+C36)","v":-101000000},null,{"$f":"IF(E35=1,E36*E35*1000+E36,-1000000+E36)","v":-101000000},null,{"$f":"IF(G35=1,G36*G35*1000+G36,-1000000+G36)","v":-101000000},null,{"$f":"IF(I35=1,I36*I35*1000+I36,-1000000+I36)","v":-101000000},null,{"$f":"IF(K35=1,K36*K35*1000+K36,-1000000+K36)","v":-101000000},null,{"$f":"IF(M35=1,M36*M35*1000+M36,-1000000+M36)","v":-101000000},null,{"$f":"IF(O35=1,O36*O35*1000+O36,-1000000+O36)","v":-101000000},null,{"$f":"IF(Q35=1,Q36*Q35*1000+Q36,-1000000+Q36)","v":-101000000},null,{"$f":"IF(S35=1,S36*S35*1000+S36,-1000000+S36)","v":-101000000},null,{"$f":"IF(U35=1,U36*U35*1000+U36,-1000000+U36)","v":-101000000},null,{"$f":"IF(W35=1,W36*W35*1000+W36,-1000000+W36)","v":-101000000},null,{"$f":"IF(Y35=1,Y36*Y35*1000+Y36,-1000000+Y36)","v":-101000000},null,{"$f":"IF(AA35=1,AA36*AA35*1000+AA36,-1000000+AA36)","v":-101000000},null,{"$f":"IF(AC35=1,AC36*AC35*1000+AC36,-1000000+AC36)","v":-101000000}]
["Classificats",{"$f":"SUM(C35:AC35)","v":0},{"$f":"IF(D36>=$A3/2,1,0)","v":0},null,{"$f":"IF(F36>=$A3/2,1,0)","v":0},null,{"$f":"IF(H36>=$A3/2,1,0)","v":0},null,{"$f":"IF(J36>=$A3/2,1,0)","v":0},null,{"$f":"IF(L36>=$A3/2,1,0)","v":0},null,{"$f":"IF(N36>=$A3/2,1,0)","v":0},null,{"$f":"IF(P36>=$A3/2,1,0)","v":0},null,{"$f":"IF(R36>=$A3/2,1,0)","v":0},null,{"$f":"IF(T36>=$A3/2,1,0)","v":0},null,{"$f":"IF(V36>=$A3/2,1,0)","v":0},null,{"$f":"IF(X36>=$A3/2,1,0)","v":0},null,{"$f":"IF(Z36>=$A3/2,1,0)","v":0},null,{"$f":"IF(AB36>=$A3/2,1,0)","v":0},null,{"$f":"IF(AD36>=$A3/2,1,0)","v":0}]
[null,null,{"$f":"IF(SUM(C41:C213)<-1000,-100000000,SUM(C41:C213))","v":-100000000},{"$f":"COUNT(D41:D213)","v":0},{"$f":"IF(SUM(E41:E213)<-1000,-100000000,SUM(E41:E213))","v":-100000000},{"$f":"COUNT(F41:F213)","v":0},{"$f":"IF(SUM(G41:G213)<-1000,-100000000,SUM(G41:G213))","v":-100000000},{"$f":"COUNT(H41:H213)","v":0},{"$f":"IF(SUM(I41:I213)<-1000,-100000000,SUM(I41:I213))","v":-100000000},{"$f":"COUNT(J41:J213)","v":0},{"$f":"IF(SUM(K41:K213)<-1000,-100000000,SUM(K41:K213))","v":-100000000},{"$f":"COUNT(L41:L213)","v":0},{"$f":"IF(SUM(M41:M213)<-1000,-100000000,SUM(M41:M213))","v":-100000000},{"$f":"COUNT(N41:N213)","v":0},{"$f":"IF(SUM(O41:O213)<-1000,-100000000,SUM(O41:O213))","v":-100000000},{"$f":"COUNT(P41:P213)","v":0},{"$f":"IF(SUM(Q41:Q213)<-1000,-100000000,SUM(Q41:Q213))","v":-100000000},{"$f":"COUNT(R41:R213)","v":0},{"$f":"IF(SUM(S41:S213)<-1000,-100000000,SUM(S41:S213))","v":-100000000},{"$f":"COUNT(T41:T213)","v":0},{"$f":"IF(SUM(U41:U213)<-1000,-100000000,SUM(U41:U213))","v":-100000000},{"$f":"COUNT(V41:V213)","v":0},{"$f":"IF(SUM(W41:W213)<-1000,-100000000,SUM(W41:W213))","v":-100000000},{"$f":"COUNT(X41:X213)","v":0},{"$f":"IF(SUM(Y41:Y213)<-1000,-100000000,SUM(Y41:Y213))","v":-100000000},{"$f":"COUNT(Z41:Z213)","v":0},{"$f":"IF(SUM(AA41:AA213)<-1000,-100000000,SUM(AA41:AA213))","v":-100000000},{"$f":"COUNT(AB41:AB213)","v":0},{"$f":"IF(SUM(AC41:AC213)<-1000,-100000000,SUM(AC41:AC213))","v":-100000000},{"$f":"COUNT(AD41:AD213)","v":0}]
[null,null,null,{"$f":"IF(D36=0,0.0001,AVERAGE(D41:D128))","v":1E-4},null,{"$f":"IF(F36=0,0.0001,AVERAGE(F41:F128))","v":1E-4},null,{"$f":"IF(H36=0,0.0001,AVERAGE(H41:H128))","v":1E-4},null,{"$f":"IF(J36=0,0.0001,AVERAGE(J41:J128))","v":1E-4},null,{"$f":"IF(L36=0,0.0001,AVERAGE(L41:L128))","v":1E-4},null,{"$f":"IF(N36=0,0.0001,AVERAGE(N41:N128))","v":1E-4},null,{"$f":"IF(P36=0,0.0001,AVERAGE(P41:P128))","v":1E-4},null,{"$f":"IF(R36=0,0.0001,AVERAGE(R41:R128))","v":1E-4},null,{"$f":"IF(T36=0,0.0001,AVERAGE(T41:T128))","v":1E-4},null,{"$f":"IF(V36=0,0.0001,AVERAGE(V41:V128))","v":1E-4},null,{"$f":"IF(X36=0,0.0001,AVERAGE(X41:X128))","v":1E-4},null,{"$f":"IF(Z36=0,0.0001,AVERAGE(Z41:Z128))","v":1E-4},null,{"$f":"IF(AB36=0,0.0001,AVERAGE(AB41:AB128))","v":1E-4},null,{"$f":"IF(AD36=0,0.0001,AVERAGE(AD41:AD128))","v":1E-4}]
[null,null,null,null,null,null,null,null,null,null,null,null,null,null,null,null,null,null,null,null,null,null,null,null,null,null,null,null,null,null,{"$f":"MAX(AF41:AF100)","v":0}]
[null,"Comentaris","Goretti",null,"Pepe",null,"Jordi",null,"MªJosé",null,"Ester",null,"Sergi",null,"Carles",null,"Mariajo",null,"Grau",null,"Joan Carles",null,"Xavi",null,"Mercè",null,"Montse",null,"Marga",null,{"$f":"COUNT(AE41:AE128)","v":0},"A","B","C"]
[null,null,"Premi","Punts","Premi","Punts","Premi","Punts","Premi","Punts","Premi","Punts","Premi","Punts","Premi","Punts","Premi","Punts","Premi","Punts","Premi","Punts","Premi","Punts","Premi","Punts","Premi","Punts","Premi","Punts","Data","Timba"]
[1,null,-10000,null,-10000,null,-10000,null,-10000,null,-10000,null,-10000,null,-10000,null,-10000,null,-10000,null,-10000,null,-10000,null,-10000,null,-10000,null,-10000,null,null,null,{"$f":"+AC41+Y41+W41+U41+S41+Q41+O41+M41+K41+I41+G41+E41+C41","v":-130000},{"$f":"COUNT(C41:AD41)/2","v":7},{"$f":"+AG41/AH41","v":-18571.428571428572}]
[{"$f":"+A41+1","v":2},null,null,null,null,null,null,null,null,null,null,null,null,null,null,null,null,null,null,null,null,null,null,null,null,null,null,null,null,null,null,null,{"$f":"+AC42+Y42+W42+U42+S42+Q42+O42+M42+K42+I42+G42+E42+C42+AA42","v":0},0,{"$error":"#DIV/0!"}]
[{"$f":"+A42+1","v":3},null,null,null,null,null,null,null,null,null,null,null,null,null,null,null,null,null,null,null,null,null,null,null,null,null,null,null,null,null,null,null,0,0,{"$error":"#DIV/0!"}]
[4,null,null,null,null,null,null,null,null,null,null,null,null,null,null,null,null,null,null,null,null,null,null,null,null,null,null,null,null,null,null,null,0,0,{"$error":"#DIV/0!"}]
[5,null,null,null,null,null,null,null,null,null,null,null,null,null,null,null,null,null,null,null,null,null,null,null,null,null,null,null,null,null,null,null,0,0,{"$error":"#DIV/0!"}]
[6,null,null,null,null,null,null,null,null,null,null,null,null,null,null,null,null,null,null,null,null,null,null,null,null,null,null,null,null,null,null,null,0,0,{"$error":"#DIV/0!"}]
[7,null,null,null,null,null,null,null,null,null,null,null,null,null,null,null,null,null,null,null,null,null,null,null,null,null,null,null,null,null,null,null,0,0,{"$error":"#DIV/0!"}]
[8]
[9]
[{"$f":"+A49+1","v":10}]
[11]
[12]
[13]
[14]
[15]
[16]
[17]
[18]
[19]
[20]
[21]
[22]
[23]
[24]
[25]
[26]
[27]
[28]
[29]
[30]
[31]
[32]
[33]
[34]
[35]
[36]
[37]
[38]
[39]
[40]
[41]
[42]
[43]
[44]
[45]
[{"$f":"+A85+1","v":46}]
[47]
[48]
[49]
[50]
[51]
[52]
[53]
[54]
[55]
[56]
[57]
[58]
[59]
[60]
[61]
[62]
[63]
[64]
[65]
[66]
[67]
[68]
[69]
[70]
[71]
[72]
[{"$f":"+A112+1","v":73}]
[74]
[75]
[76]
[77]
[78]
[79]
[80]
[81]
[82]
[83]
[84]
[85]
[86]
[87]
[88]

{"sheet":"Copo","index":27,"n_rows":47,"n_cols":35,"rows_kept":47,"cut":false,"hidden":false,"merged":[[38,24,38,25],[38,26,38,27],[38,28,38,29],[38,16,38,17],[38,18,38,19],[38,20,38,21],[38,22,38,23],[38,8,38,9],[38,10,38,11],[38,12,38,13],[38,14,38,15],[38,1,39,1],[38,2,38,3],[38,4,38,5],[38,6,38,7]]}
["COPO"]
["Mes"]
[{"$f":"+GENERAL!B6","v":12},null,{"$f":"SUM(C5:C7)","v":-300000000}]
[null,null,"Premi","Punts","Partides","General"]
[1,"Jorge",{"$f":"+E$36","v":-100000000},{"$f":"+F$37","v":1E-4},{"$f":"+F$36","v":0},{"$f":"+E$22","v":0},{"$f":"IF(E5<A$3/2,-1,1)*8000+C5*100+D5+E5/100","v":-10000007999.999901}]
[2,"Aurora",{"$f":"+K$36","v":-100000000},{"$f":"+L$37","v":1E-4},{"$f":"+L$36","v":0},{"$f":"+K$22","v":0},-10000007999.999901]
[3,"Sergi",{"$f":"+M$36","v":-100000000},{"$f":"+N$37","v":1E-4},{"$f":"+N$36","v":0},{"$f":"+M$22","v":0},-10000007999.999901]
[4,"Carles",{"$f":"+O$36","v":-100000000},{"$f":"+P$37","v":1E-4},{"$f":"+P$36","v":0},{"$f":"+O$22","v":0},-10000007999.999901]
[5,"Mariajo",{"$f":"+Q$36","v":-100000000},{"$f":"+R$37","v":1E-4},{"$f":"+R$36","v":0},{"$f":"+Q$22","v":0},-10000007999.999901]
[6,"Mercè",{"$f":"+Y$36","v":-100000000},{"$f":"+Z$37","v":1E-4},{"$f":"+Z$36","v":0},{"$f":"+Y$22","v":0},-10000007999.999901]
[7,"Jordi",{"$f":"+G$36","v":-100000000},{"$f":"+H$37","v":1E-4},{"$f":"+H$36","v":0},{"$f":"+G$22","v":0},-10000007999.999901]
[8,"Iglesias",{"$f":"+S$36","v":-100000000},{"$f":"+T$37","v":1E-4},{"$f":"+T$36","v":0},{"$f":"+S$22","v":0},-10000007999.999901]
[9,"Xavi",{"$f":"+W$36","v":-100000000},{"$f":"+X$37","v":1E-4},{"$f":"+X$36","v":0},{"$f":"+W$22","v":0},-10000007999.999901]
[10,"Goretti",{"$f":"+C$36","v":-100000000},{"$f":"+D$37","v":1E-4},{"$f":"+D$36","v":0},{"$f":"+C$22","v":0},-10000007999.999901]
[11,"MªJosé",{"$f":"+I$36","v":-100000000},{"$f":"+J$37","v":1E-4},{"$f":"+J$36","v":0},{"$f":"+I$22","v":0},-10000007999.999901]
[12,"Marga",{"$f":"+AC$36","v":-100000000},{"$f":"+AD$37","v":1E-4},{"$f":"+AD$36","v":0},{"$f":"+AC$22","v":0},-10000007999.999901]
[13,"Sylvain",{"$f":"+U$36","v":-100000000},{"$f":"+V$37","v":1E-4},{"$f":"+V$36","v":0},{"$f":"+U$22","v":0},-10000007999.999901]
[14,"Taberner",{"$f":"+AA$36","v":-100000000},{"$f":"+AB$37","v":1E-4},{"$f":"+AB$36","v":0},{"$f":"+AA$22","v":0},-10000007999.999901]
[]
[]
[]
[null,"General",{"$f":"+C23*C24","v":0},{"$f":"+D23*D24","v":0},0,0,{"$f":"+G23*G24","v":0},0,0,0,0,0,0,0,0,0,0,0,{"$f":"+S23*S24","v":0},0,0,0,0,0,{"$f":"+Y23*Y24","v":0},0,{"$f":"+AA23*AA24","v":0},{"$f":"+AB23*AB24","v":0},0,0]
[null,null,{"$f":"IF($B35>3,1,0)","v":0},{"$f":"IF($B35>3,1,0)","v":0},0,0,{"$f":"IF($B35>3,1,0)","v":0},0,0,0,0,0,0,0,0,0,0,0,0,0,0,0,0,0,0,0,{"$f":"IF($B35>3,1,0)","v":0},{"$f":"IF($B35>3,1,0)","v":0},0,0]
[null,null,{"$f":"MAX(C25:C29)","v":0},{"$f":"+D36","v":0},{"$f":"MAX(E25:E29)","v":0},{"$f":"+F36","v":0},{"$f":"MAX(G25:G29)","v":0},{"$f":"+H36","v":0},{"$f":"MAX(I25:I29)","v":0},{"$f":"+J36","v":0},{"$f":"MAX(K25:K29)","v":0},{"$f":"+L36","v":0},{"$f":"MAX(M25:M29)","v":0},{"$f":"+N36","v":0},{"$f":"MAX(O25:O29)","v":0},{"$f":"+P36","v":0},{"$f":"MAX(Q25:Q29)","v":0},{"$f":"+R36","v":0},{"$f":"MAX(S25:S29)","v":0},{"$f":"+T36","v":0},{"$f":"MAX(U25:U29)","v":0},{"$f":"+V36","v":0},{"$f":"MAX(W25:W29)","v":0},{"$f":"+X36","v":0},{"$f":"MAX(Y25:Y29)","v":0},{"$f":"+Z36","v":0},{"$f":"MAX(AA25:AA29)","v":0},{"$f":"+AB36","v":0},{"$f":"MAX(AC25:AC29)","v":0},{"$f":"+AD36","v":0}]
[null,null,{"$f":"IF(C$30=5,5,0)","v":0},null,{"$f":"IF(E$30=5,5,0)","v":0},null,{"$f":"IF(G$30=5,5,0)","v":0},null,{"$f":"IF(I$30=5,5,0)","v":0},null,{"$f":"IF(K$30=5,5,0)","v":0},null,{"$f":"IF(M$30=5,5,0)","v":0},null,{"$f":"IF(O$30=5,5,0)","v":0},null,{"$f":"IF(Q$30=5,5,0)","v":0},null,{"$f":"IF(S$30=5,5,0)","v":0},null,{"$f":"IF(U$30=5,5,0)","v":0},null,{"$f":"IF(W$30=5,5,0)","v":0},null,{"$f":"IF(Y$30=5,5,0)","v":0},null,{"$f":"IF(AA$30=5,5,0)","v":0},null,{"$f":"IF(AC$30=5,5,0)","v":0}]
[null,null,{"$f":"IF(C$30=4,10,0)","v":0},null,{"$f":"IF(E$30=4,10,0)","v":0},null,{"$f":"IF(G$30=4,10,0)","v":0},null,{"$f":"IF(I$30=4,10,0)","v":0},null,{"$f":"IF(K$30=4,10,0)","v":0},null,{"$f":"IF(M$30=4,10,0)","v":0},null,{"$f":"IF(O$30=4,10,0)","v":0},null,{"$f":"IF(Q$30=4,10,0)","v":0},null,{"$f":"IF(S$30=4,10,0)","v":0},null,{"$f":"IF(U$30=4,10,0)","v":0},null,{"$f":"IF(W$30=4,10,0)","v":0},null,{"$f":"IF(Y$30=4,10,0)","v":0},null,{"$f":"IF(AA$30=4,10,0)","v":0},null,{"$f":"IF(AC$30=4,10,0)","v":0}]
[null,null,{"$f":"IF(C$30=3,20,0)","v":0},null,{"$f":"IF(E$30=3,20,0)","v":0},null,{"$f":"IF(G$30=3,20,0)","v":0},null,{"$f":"IF(I$30=3,20,0)","v":0},null,{"$f":"IF(K$30=3,20,0)","v":0},null,{"$f":"IF(M$30=3,20,0)","v":0},null,{"$f":"IF(O$30=3,20,0)","v":0},null,{"$f":"IF(Q$30=3,20,0)","v":0},null,{"$f":"IF(S$30=3,20,0)","v":0},null,{"$f":"IF(U$30=3,20,0)","v":0},null,{"$f":"IF(W$30=3,20,0)","v":0},null,{"$f":"IF(Y$30=3,20,0)","v":0},null,{"$f":"IF(AA$30=3,20,0)","v":0},null,{"$f":"IF(AC$30=3,20,0)","v":0}]
[null,null,{"$f":"IF(C$30=2,40,0)","v":0},null,{"$f":"IF(E$30=2,40,0)","v":0},null,{"$f":"IF(G$30=2,40,0)","v":0},null,{"$f":"IF(I$30=2,40,0)","v":0},null,{"$f":"IF(K$30=2,40,0)","v":0},null,{"$f":"IF(M$30=2,40,0)","v":0},null,{"$f":"IF(O$30=2,40,0)","v":0},null,{"$f":"IF(Q$30=2,40,0)","v":0},null,{"$f":"IF(S$30=2,40,0)","v":0},null,{"$f":"IF(U$30=2,40,0)","v":0},null,{"$f":"IF(W$30=2,40,0)","v":0},null,{"$f":"IF(Y$30=2,40,0)","v":0},null,{"$f":"IF(AA$30=2,40,0)","v":0},null,{"$f":"IF(AC$30=2,40,0)","v":0}]
[null,null,{"$f":"IF(C$30=1,80,0)","v":0},null,{"$f":"IF(E$30=1,80,0)","v":0},null,{"$f":"IF(G$30=1,80,0)","v":0},null,{"$f":"IF(I$30=1,80,0)","v":0},null,{"$f":"IF(K$30=1,80,0)","v":0},null,{"$f":"IF(M$30=1,80,0)","v":0},null,{"$f":"IF(O$30=1,80,0)","v":0},null,{"$f":"IF(Q$30=1,80,0)","v":0},null,{"$f":"IF(S$30=1,80,0)","v":0},null,{"$f":"IF(U$30=1,80,0)","v":0},null,{"$f":"IF(W$30=1,80,0)","v":0},null,{"$f":"IF(Y$30=1,80,0)","v":0},null,{"$f":"IF(AA$30=1,80,0)","v":0},null,{"$f":"IF(AC$30=1,80,0)","v":0}]
[null,null,{"$f":"RANK(C31,$C31:$BF31)*C35","v":0},null,{"$f":"RANK(E31,$C31:$BF31)*E35","v":0},null,{"$f":"RANK(G31,$C31:$BF31)*G35","v":0},null,{"$f":"RANK(I31,$C31:$BF31)*I35","v":0},null,{"$f":"RANK(K31,$C31:$BF31)*K35","v":0},null,{"$f":"RANK(M31,$C31:$BF31)*M35","v":0},null,{"$f":"RANK(O31,$C31:$BF31)*O35","v":0},null,{"$f":"RANK(Q31,$C31:$BF31)*Q35","v":0},null,{"$f":"RANK(S31,$C31:$BF31)*S35","v":0},null,{"$f":"RANK(U31,$C31:$BF31)*U35","v":0},null,{"$f":"RANK(W31,$C31:$BF31)*W35","v":0},null,{"$f":"RANK(Y31,$C31:$BF31)*Y35","v":0},null,{"$f":"RANK(AA31,$C31:$BF31)*AA35","v":0},null,{"$f":"RANK(AC31,$C31:$BF31)*AC35","v":0}]
[null,null,{"$f":"SUM(C32:C34)","v":-100999999.98999999},null,{"$f":"SUM(E32:E34)","v":-100999999.98999999},null,{"$f":"SUM(G32:G34)","v":-100999999.98999999},null,{"$f":"SUM(I32:I34)","v":-100999999.98999999},null,{"$f":"SUM(K32:K34)","v":-100999999.98999999},null,{"$f":"SUM(M32:M34)","v":-100999999.98999999},null,{"$f":"SUM(O32:O34)","v":-100999999.98999999},null,{"$f":"SUM(Q32:Q34)","v":-100999999.98999999},null,{"$f":"SUM(S32:S34)","v":-100999999.98999999},null,{"$f":"SUM(U32:U34)","v":-100999999.98999999},null,{"$f":"SUM(W32:W34)","v":-100999999.98999999},null,{"$f":"SUM(Y32:Y34)","v":-100999999.98999999},null,{"$f":"SUM(AA32:AA34)","v":-100999999.98999999},null,{"$f":"SUM(AC32:AC34)","v":-100999999.98999999}]
[null,null,{"$f":"+D36","v":0},null,{"$f":"+F36","v":0},null,{"$f":"+H36","v":0},null,{"$f":"+J36","v":0},null,{"$f":"+L36","v":0},null,{"$f":"+N36","v":0},null,{"$f":"+P36","v":0},null,{"$f":"+R36","v":0},null,{"$f":"+T36","v":0},null,{"$f":"+V36","v":0},null,{"$f":"+X36","v":0},null,{"$f":"+Z36","v":0},null,{"$f":"+AB36","v":0},null,{"$f":"+AD36","v":0}]
[null,null,{"$f":"D37*100","v":0.01},null,{"$f":"F37*100","v":0.01},null,{"$f":"H37*100","v":0.01},null,{"$f":"J37*100","v":0.01},null,{"$f":"L37*100","v":0.01},null,{"$f":"N37*100","v":0.01},null,{"$f":"P37*100","v":0.01},null,{"$f":"R37*100","v":0.01},null,{"$f":"T37*100","v":0.01},null,{"$f":"V37*100","v":0.01},null,{"$f":"X37*100","v":0.01},null,{"$f":"Z37*100","v":0.01},null,{"$f":"AB37*100","v":0.01},null,{"$f":"AD37*100","v":0.01}]
[null,null,{"$f":"IF(C35=1,C36*C35*1000+C36,-1000000+C36)","v":-101000000},null,{"$f":"IF(E35=1,E36*E35*1000+E36,-1000000+E36)","v":-101000000},null,{"$f":"IF(G35=1,G36*G35*1000+G36,-1000000+G36)","v":-101000000},null,{"$f":"IF(I35=1,I36*I35*1000+I36,-1000000+I36)","v":-101000000},null,{"$f":"IF(K35=1,K36*K35*1000+K36,-1000000+K36)","v":-101000000},null,{"$f":"IF(M35=1,M36*M35*1000+M36,-1000000+M36)","v":-101000000},null,{"$f":"IF(O35=1,O36*O35*1000+O36,-1000000+O36)","v":-101000000},null,{"$f":"IF(Q35=1,Q36*Q35*1000+Q36,-1000000+Q36)","v":-101000000},null,{"$f":"IF(S35=1,S36*S35*1000+S36,-1000000+S36)","v":-101000000},null,{"$f":"IF(U35=1,U36*U35*1000+U36,-1000000+U36)","v":-101000000},null,{"$f":"IF(W35=1,W36*W35*1000+W36,-1000000+W36)","v":-101000000},null,{"$f":"IF(Y35=1,Y36*Y35*1000+Y36,-1000000+Y36)","v":-101000000},null,{"$f":"IF(AA35=1,AA36*AA35*1000+AA36,-1000000+AA36)","v":-101000000},null,{"$f":"IF(AC35=1,AC36*AC35*1000+AC36,-1000000+AC36)","v":-101000000}]
["Classificats",{"$f":"SUM(C35:AC35)","v":0},{"$f":"IF(D36>=$A3/2,1,0)","v":0},null,{"$f":"IF(F36>=$A3/2,1,0)","v":0},null,{"$f":"IF(H36>=$A3/2,1,0)","v":0},null,{"$f":"IF(J36>=$A3/2,1,0)","v":0},null,{"$f":"IF(L36>=$A3/2,1,0)","v":0},null,{"$f":"IF(N36>=$A3/2,1,0)","v":0},null,{"$f":"IF(P36>=$A3/2,1,0)","v":0},null,{"$f":"IF(R36>=$A3/2,1,0)","v":0},null,{"$f":"IF(T36>=$A3/2,1,0)","v":0},null,{"$f":"IF(V36>=$A3/2,1,0)","v":0},null,{"$f":"IF(X36>=$A3/2,1,0)","v":0},null,{"$f":"IF(Z36>=$A3/2,1,0)","v":0},null,{"$f":"IF(AB36>=$A3/2,1,0)","v":0},null,{"$f":"IF(AD36>=$A3/2,1,0)","v":0}]
[null,null,{"$f":"IF(SUM(C41:C213)<-1000,-100000000,SUM(C41:C213))","v":-100000000},{"$f":"COUNT(D41:D213)","v":0},{"$f":"IF(SUM(E41:E213)<-1000,-100000000,SUM(E41:E213))","v":-100000000},{"$f":"COUNT(F41:F213)","v":0},{"$f":"IF(SUM(G41:G213)<-1000,-100000000,SUM(G41:G213))","v":-100000000},{"$f":"COUNT(H41:H213)","v":0},{"$f":"IF(SUM(I41:I213)<-1000,-100000000,SUM(I41:I213))","v":-100000000},{"$f":"COUNT(J41:J213)","v":0},{"$f":"IF(SUM(K41:K213)<-1000,-100000000,SUM(K41:K213))","v":-100000000},{"$f":"COUNT(L41:L213)","v":0},{"$f":"IF(SUM(M41:M213)<-1000,-100000000,SUM(M41:M213))","v":-100000000},{"$f":"COUNT(N41:N213)","v":0},{"$f":"IF(SUM(O41:O213)<-1000,-100000000,SUM(O41:O213))","v":-100000000},{"$f":"COUNT(P41:P213)","v":0},{"$f":"IF(SUM(Q41:Q213)<-1000,-100000000,SUM(Q41:Q213))","v":-100000000},{"$f":"COUNT(R41:R213)","v":0},{"$f":"IF(SUM(S41:S213)<-1000,-100000000,SUM(S41:S213))","v":-100000000},{"$f":"COUNT(T41:T213)","v":0},{"$f":"IF(SUM(U41:U213)<-1000,-100000000,SUM(U41:U213))","v":-100000000},{"$f":"COUNT(V41:V213)","v":0},{"$f":"IF(SUM(W41:W213)<-1000,-100000000,SUM(W41:W213))","v":-100000000},{"$f":"COUNT(X41:X213)","v":0},{"$f":"IF(SUM(Y41:Y213)<-1000,-100000000,SUM(Y41:Y213))","v":-100000000},{"$f":"COUNT(Z41:Z213)","v":0},{"$f":"IF(SUM(AA41:AA213)<-1000,-100000000,SUM(AA41:AA213))","v":-100000000},{"$f":"COUNT(AB41:AB213)","v":0},{"$f":"IF(SUM(AC41:AC213)<-1000,-100000000,SUM(AC41:AC213))","v":-100000000},{"$f":"COUNT(AD41:AD213)","v":0}]
[null,null,null,{"$f":"IF(D36=0,0.0001,AVERAGE(D41:D128))","v":1E-4},null,{"$f":"IF(F36=0,0.0001,AVERAGE(F41:F128))","v":1E-4},null,{"$f":"IF(H36=0,0.0001,AVERAGE(H41:H128))","v":1E-4},null,{"$f":"IF(J36=0,0.0001,AVERAGE(J41:J128))","v":1E-4},null,{"$f":"IF(L36=0,0.0001,AVERAGE(L41:L128))","v":1E-4},null,{"$f":"IF(N36=0,0.0001,AVERAGE(N41:N128))","v":1E-4},null,{"$f":"IF(P36=0,0.0001,AVERAGE(P41:P128))","v":1E-4},null,{"$f":"IF(R36=0,0.0001,AVERAGE(R41:R128))","v":1E-4},null,{"$f":"IF(T36=0,0.0001,AVERAGE(T41:T128))","v":1E-4},null,{"$f":"IF(V36=0,0.0001,AVERAGE(V41:V128))","v":1E-4},null,{"$f":"IF(X36=0,0.0001,AVERAGE(X41:X128))","v":1E-4},null,{"$f":"IF(Z36=0,0.0001,AVERAGE(Z41:Z128))","v":1E-4},null,{"$f":"IF(AB36=0,0.0001,AVERAGE(AB41:AB128))","v":1E-4},null,{"$f":"IF(AD36=0,0.0001,AVERAGE(AD41:AD128))","v":1E-4}]
[null,null,null,null,null,null,null,null,null,null,null,null,null,null,null,null,null,null,null,null,null,null,null,null,null,null,null,null,null,null,{"$f":"MAX(AF41:AF100)","v":0}]
[null,"Comentaris","Goretti",null,"Jorge",null,"Jordi",null,"MªJosé",null,"Aurora",null,"Sergi",null,"Carles",null,"Mariajo",null,"Iglesias",null,"Martín",null,"Xavi",null,"Mercè",null,"Taberner",null,"Marga",null,{"$f":"COUNT(AE41:AE128)","v":0},"A","B","C"]
[null,null,"Premi","Punts","Premi","Punts","Premi","Punts","Premi","Punts","Premi","Punts","Premi","Punts","Premi","Punts","Premi","Punts","Premi","Punts","Premi","Punts","Premi","Punts","Premi","Punts","Premi","Punts","Premi","Punts","Data","Timba"]
[1,null,-10000,null,-10000,null,-10000,null,-10000,null,-10000,null,-10000,null,-10000,null,-10000,null,-10000,null,-10000,null,-10000,null,-10000,null,-10000,null,-10000,null,null,null,{"$f":"+AC41+Y41+W41+U41+S41+Q41+O41+M41+K41+I41+G41+E41+C41","v":-130000},{"$f":"COUNT(C41:AD41)/2","v":7},{"$f":"+AG41/AH41","v":-18571.428571428572}]
[{"$f":"+A41+1","v":2},null,null,null,null,null,null,null,null,null,null,null,null,null,null,null,null,null,null,null,null,null,null,null,null,null,null,null,null,null,null,null,{"$f":"+AC42+Y42+W42+U42+S42+Q42+O42+M42+K42+I42+G42+E42+C42+AA42","v":0},0,{"$error":"#DIV/0!"}]
[3,null,null,null,null,null,null,null,null,null,null,null,null,null,null,null,null,null,null,null,null,null,null,null,null,null,null,null,null,null,null,null,0,0,{"$error":"#DIV/0!"}]
[4,null,null,null,null,null,null,null,null,null,null,null,null,null,null,null,null,null,null,null,null,null,null,null,null,null,null,null,null,null,null,null,0,0,{"$error":"#DIV/0!"}]
[5,null,null,null,null,null,null,null,null,null,null,null,null,null,null,null,null,null,null,null,null,null,null,null,null,null,null,null,null,null,null,null,0,0,{"$error":"#DIV/0!"}]
[6,null,null,null,null,null,null,null,null,null,null,null,null,null,null,null,null,null,null,null,null,null,null,null,null,null,null,null,null,null,null,null,0,0,{"$error":"#DIV/0!"}]
[7,null,null,null,null,null,null,null,null,null,null,null,null,null,null,null,null,null,null,null,null,null,null,null,null,null,null,null,null,null,null,null,0,0,{"$error":"#DIV/0!"}]

{"sheet":"Chinchón","index":28,"n_rows":78,"n_cols":46,"rows_kept":78,"cut":false,"hidden":false,"merged":[[38,2,38,4],[38,5,38,7],[38,8,38,10],[38,11,38,13],[38,38,38,40],[38,26,38,28],[38,29,38,31],[38,32,38,34],[38,35,38,37],[38,14,38,16],[38,17,38,19],[38,20,38,22],[38,23,38,25]]}
["CHINCHÓN"]
["Mes"]
[{"$f":"+GENERAL!B6","v":12},null,{"$f":"SUM(C5:C7)","v":-300000000}]
[null,null,"Premio","Punts","Partides","General"]
[1,"Mercé",{"$f":"+AJ$36","v":-100000000},{"$f":"+AJ$37","v":0},{"$f":"+AK$36","v":0},{"$f":"+AJ$22","v":0},{"$f":"IF(E5<A$3/2,-1,1)*80+C5","v":-100000080}]
[2,"Carles",{"$f":"+U$36","v":-100000000},{"$f":"+U$37","v":0},{"$f":"+V$36","v":0},{"$f":"+U$22","v":0},{"$f":"IF(E6<A$3/2,-1,1)*80+C6","v":-100000080}]
[3,"Jordi",{"$f":"+I$36","v":-100000000},{"$f":"+I$37","v":0},{"$f":"+J$36","v":0},{"$f":"+I$22","v":0},{"$f":"IF(E7<A$3/2,-1,1)*80+C7","v":-100000080}]
[4,"Mariajo",{"$f":"+C$36","v":-100000000},{"$f":"+C$37","v":0},{"$f":"+D$36","v":0},{"$f":"+C$22","v":0},{"$f":"IF(E8<A$3/2,-1,1)*80+C8","v":-100000080}]
[5,"Goretti",{"$f":"+X$36","v":-100000000},{"$f":"+X$37","v":0},{"$f":"+Y$36","v":0},{"$f":"+X$22","v":0},-100000080]
[6,"Sergi",{"$f":"+R$36","v":-100000000},{"$f":"+R$37","v":0},{"$f":"+S$36","v":0},{"$f":"+R$22","v":0},-100000080]
[7,"Iglesias",{"$f":"+AA$36","v":-100000000},{"$f":"+AA$37","v":0},{"$f":"+AB$36","v":0},{"$f":"+AA$22","v":0},-100000080]
[8,"Xavi",{"$f":"+AG$36","v":-100000000},{"$f":"+AG$37","v":0},{"$f":"+AH$36","v":0},{"$f":"+AG$22","v":0},-100000080]
[9,"MªJosé",{"$f":"+L$36","v":-100000000},{"$f":"+L$37","v":0},{"$f":"+M$36","v":0},{"$f":"+L$22","v":0},-100000080]
[10,"Marga",{"$f":"+AM$36","v":-100000000},{"$f":"+AM$37","v":0},{"$f":"+AN$36","v":0},{"$f":"+AM$22","v":0},-100000080]
[11,"Salvadó",{"$f":"+O$36","v":-100000000},{"$f":"+O$37","v":0},{"$f":"+P$36","v":0},{"$f":"+O$22","v":0},-100000080]
[12,"Taberner",{"$f":"+F$36","v":-100000000},{"$f":"+F$37","v":0},{"$f":"+G$36","v":0},{"$f":"+F$22","v":0},-100000080]
[13,"Sylvain",{"$f":"+AD$36","v":-100000000},{"$f":"+AD$37","v":0},{"$f":"+AE$36","v":0},{"$f":"+AD$22","v":0},-100000080]
[]
[]
[]
[]
[null,"General",{"$f":"+C23*C24","v":0},{"$f":"+D23*D24","v":0},null,0,0,null,{"$f":"+I23*I24","v":0},0,null,0,0,null,0,0,null,0,0,null,0,0,null,0,0,null,{"$f":"+AA23*AA24","v":0},0,null,0,0,null,0,0,null,{"$f":"+AJ23*AJ24","v":0},0,null,0,0]
[null,null,{"$f":"IF($B35>3,1,0)","v":0},{"$f":"IF($B35>3,1,0)","v":0},null,0,0,null,{"$f":"IF($B35>3,1,0)","v":0},0,null,0,0,null,0,0,null,0,0,null,0,0,null,0,0,null,0,0,null,0,0,null,0,0,null,0,0,null,0,0]
[null,null,{"$f":"MAX(C25:C29)","v":0},{"$f":"+D36","v":0},null,{"$f":"MAX(F25:F29)","v":0},{"$f":"+G36","v":0},null,{"$f":"MAX(I25:I29)","v":0},{"$f":"+J36","v":0},null,{"$f":"MAX(L25:L29)","v":0},{"$f":"+M36","v":0},null,{"$f":"MAX(O25:O29)","v":0},{"$f":"+P36","v":0},null,{"$f":"MAX(R25:R29)","v":0},{"$f":"+S36","v":0},null,{"$f":"MAX(U25:U29)","v":0},{"$f":"+V36","v":0},null,{"$f":"MAX(X25:X29)","v":0},{"$f":"+Y36","v":0},null,{"$f":"MAX(AA25:AA29)","v":0},{"$f":"+AB36","v":0},null,{"$f":"MAX(AD25:AD29)","v":0},{"$f":"+AE36","v":0},null,{"$f":"MAX(AG25:AG29)","v":0},{"$f":"+AH36","v":0},null,{"$f":"MAX(AJ25:AJ29)","v":0},{"$f":"+AK36","v":0},null,{"$f":"MAX(AM25:AM29)","v":0},{"$f":"+AN36","v":0}]
[null,null,{"$f":"IF(C$30=5,5,0)","v":0},null,null,{"$f":"IF(F$30=5,5,0)","v":0},null,null,{"$f":"IF(I$30=5,5,0)","v":0},null,null,{"$f":"IF(L$30=5,5,0)","v":0},null,null,{"$f":"IF(O$30=5,5,0)","v":0},null,null,{"$f":"IF(R$30=5,5,0)","v":0},null,null,{"$f":"IF(U$30=5,5,0)","v":0},null,null,{"$f":"IF(X$30=5,5,0)","v":0},null,null,{"$f":"IF(AA$30=5,5,0)","v":0},null,null,{"$f":"IF(AD$30=5,5,0)","v":0},null,null,{"$f":"IF(AG$30=5,5,0)","v":0},null,null,{"$f":"IF(AJ$30=5,5,0)","v":0},null,null,{"$f":"IF(AM$30=5,5,0)","v":0}]
[null,null,{"$f":"IF(C$30=4,10,0)","v":0},null,null,{"$f":"IF(F$30=4,10,0)","v":0},null,null,{"$f":"IF(I$30=4,10,0)","v":0},null,null,{"$f":"IF(L$30=4,10,0)","v":0},null,null,{"$f":"IF(O$30=4,10,0)","v":0},null,null,{"$f":"IF(R$30=4,10,0)","v":0},null,null,{"$f":"IF(U$30=4,10,0)","v":0},null,null,{"$f":"IF(X$30=4,10,0)","v":0},null,null,{"$f":"IF(AA$30=4,10,0)","v":0},null,null,{"$f":"IF(AD$30=4,10,0)","v":0},null,null,{"$f":"IF(AG$30=4,10,0)","v":0},null,null,{"$f":"IF(AJ$30=4,10,0)","v":0},null,null,{"$f":"IF(AM$30=4,10,0)","v":0}]
[null,null,{"$f":"IF(C$30=3,20,0)","v":0},null,null,{"$f":"IF(F$30=3,20,0)","v":0},null,null,{"$f":"IF(I$30=3,20,0)","v":0},null,null,{"$f":"IF(L$30=3,20,0)","v":0},null,null,{"$f":"IF(O$30=3,20,0)","v":0},null,null,{"$f":"IF(R$30=3,20,0)","v":0},null,null,{"$f":"IF(U$30=3,20,0)","v":0},null,null,{"$f":"IF(X$30=3,20,0)","v":0},null,null,{"$f":"IF(AA$30=3,20,0)","v":0},null,null,{"$f":"IF(AD$30=3,20,0)","v":0},null,null,{"$f":"IF(AG$30=3,20,0)","v":0},null,null,{"$f":"IF(AJ$30=3,20,0)","v":0},null,null,{"$f":"IF(AM$30=3,20,0)","v":0}]
[null,null,{"$f":"IF(C$30=2,40,0)","v":0},null,null,{"$f":"IF(F$30=2,40,0)","v":0},null,null,{"$f":"IF(I$30=2,40,0)","v":0},null,null,{"$f":"IF(L$30=2,40,0)","v":0},null,null,{"$f":"IF(O$30=2,40,0)","v":0},null,null,{"$f":"IF(R$30=2,40,0)","v":0},null,null,{"$f":"IF(U$30=2,40,0)","v":0},null,null,{"$f":"IF(X$30=2,40,0)","v":0},null,null,{"$f":"IF(AA$30=2,40,0)","v":0},null,null,{"$f":"IF(AD$30=2,40,0)","v":0},null,null,{"$f":"IF(AG$30=2,40,0)","v":0},null,null,{"$f":"IF(AJ$30=2,40,0)","v":0},null,null,{"$f":"IF(AM$30=2,40,0)","v":0}]
[null,null,{"$f":"IF(C$30=1,80,0)","v":0},null,null,{"$f":"IF(F$30=1,80,0)","v":0},null,null,{"$f":"IF(I$30=1,80,0)","v":0},null,null,{"$f":"IF(L$30=1,80,0)","v":0},null,null,{"$f":"IF(O$30=1,80,0)","v":0},null,null,{"$f":"IF(R$30=1,80,0)","v":0},null,null,{"$f":"IF(U$30=1,80,0)","v":0},null,null,{"$f":"IF(X$30=1,80,0)","v":0},null,null,{"$f":"IF(AA$30=1,80,0)","v":0},null,null,{"$f":"IF(AD$30=1,80,0)","v":0},null,null,{"$f":"IF(AG$30=1,80,0)","v":0},null,null,{"$f":"IF(AJ$30=1,80,0)","v":0},null,null,{"$f":"IF(AM$30=1,80,0)","v":0}]
[null,null,{"$f":"RANK(C31,$C31:$AN31)*C35","v":0},null,null,{"$f":"RANK(F31,$C31:$AN31)*F35","v":0},null,null,{"$f":"RANK(I31,$C31:$AN31)*I35","v":0},null,null,{"$f":"RANK(L31,$C31:$AN31)*L35","v":0},null,null,{"$f":"RANK(O31,$C31:$AN31)*O35","v":0},null,null,{"$f":"RANK(R31,$C31:$AN31)*R35","v":0},null,null,{"$f":"RANK(U31,$C31:$AN31)*U35","v":0},null,null,{"$f":"RANK(X31,$C31:$AN31)*X35","v":0},null,null,{"$f":"RANK(AA31,$C31:$AN31)*AA35","v":0},null,null,{"$f":"RANK(AD31,$C31:$AN31)*AD35","v":0},null,null,{"$f":"RANK(AG31,$C31:$AN31)*AG35","v":0},null,null,{"$f":"RANK(AJ31,$C31:$AN31)*AJ35","v":0},null,null,{"$f":"RANK(AM31,$C31:$AN31)*AM35","v":0}]
[null,null,{"$f":"SUM(C32:C34)","v":-101000000},null,null,{"$f":"SUM(F32:F34)","v":-101000000},null,null,{"$f":"SUM(I32:I34)","v":-101000000},null,null,{"$f":"SUM(L32:L34)","v":-101000000},null,null,{"$f":"SUM(O32:O34)","v":-101000000},null,null,{"$f":"SUM(R32:R34)","v":-101000000},null,null,{"$f":"SUM(U32:U34)","v":-101000000},null,null,{"$f":"SUM(X32:X34)","v":-101000000},null,null,{"$f":"SUM(AA32:AA34)","v":-101000000},null,null,{"$f":"SUM(AD32:AD34)","v":-101000000},null,null,{"$f":"SUM(AG32:AG34)","v":-101000000},null,null,{"$f":"SUM(AJ32:AJ34)","v":-101000000},null,null,{"$f":"SUM(AM32:AM34)","v":-101000000}]
[null,null,{"$f":"+D36","v":0},null,null,{"$f":"+G36","v":0},null,null,{"$f":"+J36","v":0},null,null,{"$f":"+M36","v":0},null,null,{"$f":"+P36","v":0},null,null,{"$f":"+S36","v":0},null,null,{"$f":"+V36","v":0},null,null,{"$f":"+Y36","v":0},null,null,{"$f":"+AB36","v":0},null,null,{"$f":"+AE36","v":0},null,null,{"$f":"+AH36","v":0},null,null,{"$f":"+AK36","v":0},null,null,{"$f":"+AN36","v":0}]
[null,null,{"$f":"-C37*10","v":0},null,null,{"$f":"-F37*10","v":0},null,null,{"$f":"-I37*10","v":0},null,null,{"$f":"-L37*10","v":0},null,null,{"$f":"-O37*10","v":0},null,null,{"$f":"-R37*10","v":0},null,null,{"$f":"-U37*10","v":0},null,null,{"$f":"-X37*10","v":0},null,null,{"$f":"-AA37*10","v":0},null,null,{"$f":"-AD37*10","v":0},null,null,{"$f":"-AG37*10","v":0},null,null,{"$f":"-AJ37*10","v":0},null,null,{"$f":"-AM37*10","v":0}]
[null,null,{"$f":"IF(C35=1,C36*C35*10000+C36,-1000000+C36)","v":-101000000},null,null,{"$f":"IF(F35=1,F36*F35*10000+F36,-1000000+F36)","v":-101000000},null,null,{"$f":"IF(I35=1,I36*I35*10000+I36,-1000000+I36)","v":-101000000},null,null,{"$f":"IF(L35=1,L36*L35*10000+L36,-1000000+L36)","v":-101000000},null,null,{"$f":"IF(O35=1,O36*O35*10000+O36,-1000000+O36)","v":-101000000},null,null,{"$f":"IF(R35=1,R36*R35*10000+R36,-1000000+R36)","v":-101000000},null,null,{"$f":"IF(U35=1,U36*U35*10000+U36,-1000000+U36)","v":-101000000},null,null,{"$f":"IF(X35=1,X36*X35*10000+X36,-1000000+X36)","v":-101000000},null,null,{"$f":"IF(AA35=1,AA36*AA35*10000+AA36,-1000000+AA36)","v":-101000000},null,null,{"$f":"IF(AD35=1,AD36*AD35*10000+AD36,-1000000+AD36)","v":-101000000},null,null,{"$f":"IF(AG35=1,AG36*AG35*10000+AG36,-1000000+AG36)","v":-101000000},null,null,{"$f":"IF(AJ35=1,AJ36*AJ35*10000+AJ36,-1000000+AJ36)","v":-101000000},null,null,{"$f":"IF(AM35=1,AM36*AM35*10000+AM36,-1000000+AM36)","v":-101000000}]
["Classificats",{"$f":"SUM(C35:AM35)","v":0},{"$f":"IF(D36>=$A3/2,1,0)","v":0},null,null,{"$f":"IF(G36>=$A3/2,1,0)","v":0},null,null,{"$f":"IF(J36>=$A3/2,1,0)","v":0},null,null,{"$f":"IF(M36>=$A3/2,1,0)","v":0},null,null,{"$f":"IF(P36>=$A3/2,1,0)","v":0},null,null,{"$f":"IF(S36>=$A3/2,1,0)","v":0},null,null,{"$f":"IF(V36>=$A3/2,1,0)","v":0},null,null,{"$f":"IF(Y36>=$A3/2,1,0)","v":0},null,null,{"$f":"IF(AB36>=$A3/2,1,0)","v":0},null,null,{"$f":"IF(AE36>=$A3/2,1,0)","v":0},null,null,{"$f":"IF(AH36>=$A3/2,1,0)","v":0},null,null,{"$f":"IF(AK36>=$A3/2,1,0)","v":0},null,null,{"$f":"IF(AN36>=$A3/2,1,0)","v":0}]
[null,null,{"$f":"IF(SUM(C41:C279)<-1000,-100000000,SUM(C41:C279))","v":-100000000},{"$f":"COUNT(D41:D279)","v":0},null,{"$f":"IF(SUM(F41:F279)<-1000,-100000000,SUM(F41:F279))","v":-100000000},{"$f":"COUNT(G41:G279)","v":0},null,{"$f":"IF(SUM(I41:I279)<-1000,-100000000,SUM(I41:I279))","v":-100000000},{"$f":"COUNT(J41:J279)","v":0},null,{"$f":"IF(SUM(L41:L279)<-1000,-100000000,SUM(L41:L279))","v":-100000000},{"$f":"COUNT(M41:M279)","v":0},null,{"$f":"IF(SUM(O41:O279)<-1000,-100000000,SUM(O41:O279))","v":-100000000},{"$f":"COUNT(P41:P279)","v":0},null,{"$f":"IF(SUM(R41:R279)<-1000,-100000000,SUM(R41:R279))","v":-100000000},{"$f":"COUNT(S41:S279)","v":0},null,{"$f":"IF(SUM(U41:U279)<-1000,-100000000,SUM(U41:U279))","v":-100000000},{"$f":"COUNT(V41:V279)","v":0},null,{"$f":"IF(SUM(X41:X279)<-1000,-100000000,SUM(X41:X279))","v":-100000000},{"$f":"COUNT(Y41:Y279)","v":0},null,{"$f":"IF(SUM(AA41:AA279)<-1000,-100000000,SUM(AA41:AA279))","v":-100000000},{"$f":"COUNT(AB41:AB279)","v":0},null,{"$f":"IF(SUM(AD41:AD279)<-1000,-100000000,SUM(AD41:AD279))","v":-100000000},{"$f":"COUNT(AE41:AE279)","v":0},null,{"$f":"IF(SUM(AG41:AG279)<-1000,-100000000,SUM(AG41:AG279))","v":-100000000},{"$f":"COUNT(AH41:AH279)","v":0},null,{"$f":"IF(SUM(AJ41:AJ279)<-1000,-100000000,SUM(AJ41:AJ279))","v":-100000000},{"$f":"COUNT(AK41:AK279)","v":0},null,{"$f":"IF(SUM(AM41:AM279)<-1000,-100000000,SUM(AM41:AM279))","v":-100000000},{"$f":"COUNT(AN41:AN279)","v":0},null,null,"A"]
[null,null,{"$f":"+D37/E37","v":0},{"$f":"SUM(D41:D179)","v":0},{"$f":"SUM(E41:E179)","v":-1},{"$f":"+G37/H37","v":0},{"$f":"SUM(G41:G179)","v":0},{"$f":"SUM(H41:H179)","v":-1},{"$f":"+J37/K37","v":0},{"$f":"SUM(J41:J179)","v":0},{"$f":"SUM(K41:K179)","v":-1},{"$f":"+M37/N37","v":0},{"$f":"SUM(M41:M179)","v":0},{"$f":"SUM(N41:N179)","v":-1},{"$f":"+P37/Q37","v":0},{"$f":"SUM(P41:P179)","v":0},{"$f":"SUM(Q41:Q179)","v":-1},{"$f":"+S37/T37","v":0},{"$f":"SUM(S41:S179)","v":0},{"$f":"SUM(T41:T179)","v":-1},{"$f":"+V37/W37","v":0},{"$f":"SUM(V41:V179)","v":0},{"$f":"SUM(W41:W179)","v":-1},{"$f":"+Y37/Z37","v":0},{"$f":"SUM(Y41:Y179)","v":0},{"$f":"SUM(Z41:Z179)","v":-1},{"$f":"+AB37/AC37","v":0},{"$f":"SUM(AB41:AB179)","v":0},{"$f":"SUM(AC41:AC179)","v":-1},{"$f":"+AE37/AF37","v":0},{"$f":"SUM(AE41:AE179)","v":0},{"$f":"SUM(AF41:AF179)","v":-1},{"$f":"+AH37/AI37","v":0},{"$f":"SUM(AH41:AH179)","v":0},{"$f":"SUM(AI41:AI179)","v":-1},{"$f":"+AK37/AL37","v":0},{"$f":"SUM(AK41:AK179)","v":0},{"$f":"SUM(AL41:AL179)","v":-1},{"$f":"+AN37/AO37","v":0},{"$f":"SUM(AN41:AN179)","v":0},{"$f":"SUM(AO41:AO179)","v":-1},null,"B"]
[null,null,null,null,null,null,null,null,null,null,null,null,null,null,null,null,null,null,null,null,null,null,null,null,null,null,null,null,null,null,null,null,null,null,null,null,null,null,null,null,null,{"$f":"MAX(AQ41:AQ100)","v":0}]
[null,"Nº partida ","Mariajo",null,null,"Taberner",null,null,"Jordi",null,null,"MªJosé",null,null,"Salvadó",null,null,"Sergi",null,null,"Carles",null,null,"Goretti",null,null,"Iglesias",null,null,"Martín",null,null,"Xavi",null,null,"Mercé",null,null,"Marga",null,null,{"$f":"COUNT(AP41:AP194)","v":0},"A","B","C"]
[null,"5 copes","Premi","Punts",null,"Premi","Punts",null,"Premi","Punts",null,"Premi","Punts",null,"Premi","Punts",null,"Premi","Punts",null,"Premi","Punts",null,"Premi","Punts",null,"Premi","Punts",null,"Premi","Punts",null,"Premi","Punts",null,"Premi","Punts",null,"Premi","Punts",null,"Data","Timba"]
[1,null,-10000,null,-1,-10000,null,-1,-10000,null,-1,-10000,null,-1,-10000,null,-1,-10000,null,-1,-10000,null,-1,-10000,null,-1,-10000,null,-1,-10000,null,-1,-10000,null,-1,-10000,null,-1,-10000,null,-1,null,null,{"$f":"+AM41+AJ41+AG41+AD41+AA41+X41+U41+R41+O41+L41+I41+F41+C41","v":-130000},{"$f":"COUNT(C41:AO41)/3","v":8.6666666666666661},{"$f":"+AR41/AS41","v":-15000.000000000002}]
[{"$f":"+A41+1","v":2},null,null,null,null,null,null,null,null,null,null,null,null,null,null,null,null,null,null,null,null,null,null,null,null,null,null,null,null,null,null,null,null,null,null,null,null,null,null,null,null,null,null,0,{"$f":"COUNT(C42:AO42)/3","v":0},{"$f":"+AR42/AS42","v":{"$error":"#DIV/0!"}}]
[{"$f":"+A42+1","v":3},null,null,null,null,null,null,null,null,null,null,null,null,null,null,null,null,null,null,null,null,null,null,null,null,null,null,null,null,null,null,null,null,null,null,null,null,null,null,null,null,null,null,0,{"$f":"COUNT(C43:AO43)/3","v":0},{"$f":"+AR43/AS43","v":{"$error":"#DIV/0!"}}]
[4,null,null,null,null,null,null,null,null,null,null,null,null,null,null,null,null,null,null,null,null,null,null,null,null,null,null,null,null,null,null,null,null,null,null,null,null,null,null,null,null,null,null,0,{"$f":"COUNT(C44:AO44)/3","v":0},{"$f":"+AR44/AS44","v":{"$error":"#DIV/0!"}}]
[5,null,null,null,null,null,null,null,null,null,null,null,null,null,null,null,null,null,null,null,null,null,null,null,null,null,null,null,null,null,null,null,null,null,null,null,null,null,null,null,null,null,null,0,0,{"$error":"#DIV/0!"}]
[6,null,null,null,null,null,null,null,null,null,null,null,null,null,null,null,null,null,null,null,null,null,null,null,null,null,null,null,null,null,null,null,null,null,null,null,null,null,null,null,null,null,null,0,0,{"$error":"#DIV/0!"}]
[7,null,null,null,null,null,null,null,null,null,null,null,null,null,null,null,null,null,null,null,null,null,null,null,null,null,null,null,null,null,null,null,null,null,null,null,null,null,null,null,null,null,null,0,0,{"$error":"#DIV/0!"}]
[8,null,null,null,null,null,null,null,null,null,null,null,null,null,null,null,null,null,null,null,null,null,null,null,null,null,null,null,null,null,null,null,null,null,null,null,null,null,null,null,null,null,null,0,0,{"$error":"#DIV/0!"}]
[9,null,null,null,null,null,null,null,null,null,null,null,null,null,null,null,null,null,null,null,null,null,null,null,null,null,null,null,null,null,null,null,null,null,null,null,null,null,null,null,null,null,null,0,0,{"$error":"#DIV/0!"}]
[10,null,null,null,null,null,null,null,null,null,null,null,null,null,null,null,null,null,null,null,null,null,null,null,null,null,null,null,null,null,null,null,null,null,null,null,null,null,null,null,null,null,null,0,0,{"$error":"#DIV/0!"}]
[11,null,null,null,null,null,null,null,null,null,null,null,null,null,null,null,null,null,null,null,null,null,null,null,null,null,null,null,null,null,null,null,null,null,null,null,null,null,null,null,null,null,null,0,0,{"$error":"#DIV/0!"}]
[12,null,null,null,null,null,null,null,null,null,null,null,null,null,null,null,null,null,null,null,null,null,null,null,null,null,null,null,null,null,null,null,null,null,null,null,null,null,null,null,null,null,null,0,0,{"$error":"#DIV/0!"}]
[13]
[14]
[15]
[16]
[17]
[18]
[19]
[20]
[21]
[22]
[23]
[24]
[25]
[26]
[27]
[28]
[29]
[30]
[31]
[32]
[33]
[34]
[35]
[36]
[37]
[38]

{"sheet":"9 19 29","index":29,"n_rows":103,"n_cols":44,"rows_kept":103,"cut":false,"hidden":false,"merged":[[41,2,41,3],[41,4,41,5],[41,6,41,7],[41,8,41,9],[41,22,41,23],[41,24,41,25],[41,10,41,11],[41,12,41,13],[41,14,41,15],[41,16,41,17],[41,18,41,19],[41,20,41,21],[41,34,41,35],[41,36,41,37],[41,26,41,27],[41,28,41,29],[41,30,41,31],[41,32,41,33]]}
["9 19 29"]
["Mes"]
[{"$f":"+GENERAL!B6","v":12},null,{"$f":"SUM(C5:C15)","v":-1100000000}]
[null,null,"Premi","Punts","Partides","General"]
[1,"Mercè",{"$f":"+Y$39","v":-100000000},{"$f":"+Z$40","v":0},{"$f":"+Z$39","v":0},{"$f":"+Y$25","v":0},{"$f":"IF(E5<A$3/2,-1,1)*80+C5","v":-100000080}]
[2,"Mariajo",{"$f":"+Q$39","v":-100000000},{"$f":"+R$40","v":0},{"$f":"+R$39","v":0},{"$f":"+Q$25","v":0},-100000080]
[3,"Jordi",{"$f":"+G$39","v":-100000000},{"$f":"+H$40","v":0},{"$f":"+H$39","v":0},{"$f":"+G$25","v":0},-100000080]
[4,"Xavi",{"$f":"+W$39","v":-100000000},{"$f":"+X$40","v":0},{"$f":"+X$39","v":0},{"$f":"+W$25","v":0},-100000080]
[5,"Jimmy",{"$f":"+K$39","v":-100000000},{"$f":"+L$40","v":0},{"$f":"+L$39","v":0},{"$f":"+K$25","v":0},-100000080]
[6,"Pol",{"$f":"+AK$39","v":-100000000},{"$f":"+AL$40","v":0},{"$f":"+AL$39","v":0},{"$f":"+AK$25","v":0},-100000080]
[7,"Martin",{"$f":"+U$39","v":-100000000},{"$f":"+V$40","v":0},{"$f":"+V$39","v":0},{"$f":"+U$25","v":0},-100000080]
[8,"Alícia",{"$f":"+AC$39","v":-100000000},{"$f":"+AD$40","v":0},{"$f":"+AD$39","v":0},{"$f":"+AC$25","v":0},-100000080]
[9,"Sergi",{"$f":"+M$39","v":-100000000},{"$f":"+N$40","v":0},{"$f":"+N$39","v":0},{"$f":"+M$25","v":0},-100000080]
[10,"Goretti",{"$f":"+AG$39","v":-100000000},{"$f":"+AH$40","v":0},{"$f":"+AH$39","v":0},{"$f":"+AG$25","v":0},-100000080]
[11,"Carles",{"$f":"+O$39","v":-100000000},{"$f":"+P$40","v":0},{"$f":"+P$39","v":0},{"$f":"+O$25","v":0},-100000080]
[11,"Alfonso",{"$f":"+C$39","v":-100000000},{"$f":"+D$40","v":0},{"$f":"+D$39","v":0},{"$f":"+C$25","v":0},-100000080]
[11,"Anna",{"$f":"+AE$39","v":-100000000},{"$f":"+AF$40","v":0},{"$f":"+AF$39","v":0},{"$f":"+AE$25","v":0},-100000080]
[14,"Iglesias",{"$f":"+S$39","v":-100000000},{"$f":"+T$40","v":0},{"$f":"+T$39","v":0},{"$f":"+S$25","v":0},-100000080]
[15,"Jorge",{"$f":"+AI$39","v":-100000000},{"$f":"+AJ$40","v":0},{"$f":"+AJ$39","v":0},{"$f":"+AI$25","v":0},-100000080]
[16,"MªJosé",{"$f":"+I$39","v":-100000000},{"$f":"+J$40","v":0},{"$f":"+J$39","v":0},{"$f":"+I$25","v":0},-100000080]
[17,"Pepe",{"$f":"+E$39","v":-100000000},{"$f":"+F$40","v":0},{"$f":"+F$39","v":0},{"$f":"+E$25","v":0},-100000080]
[18,"Salvadó",{"$f":"+AA$39","v":-100000000},{"$f":"+AB$40","v":0},{"$f":"+AB$39","v":0},{"$f":"+AA29","v":0},-100000080]
[]
[]
[null,"General",{"$f":"+C26*C27","v":0},{"$f":"+D26*D27","v":0},0,0,0,0,0,0,0,0,0,0,0,0,0,0,0,0,0,0,0,0,0,0,0,0,0,0,0,0,0,0,0,0,0,0]
[null,null,{"$f":"IF($B38>3,1,0)","v":0},{"$f":"IF($B38>3,1,0)","v":0},0,0,0,0,0,0,0,0,0,0,0,0,0,0,0,0,0,0,0,0,0,0,0,0,0,0,0,0,0,0,0,0,0,0]
[null,null,{"$f":"MAX(C28:C32)","v":0},{"$f":"+D39","v":0},{"$f":"MAX(E28:E32)","v":0},{"$f":"+F39","v":0},{"$f":"MAX(G28:G32)","v":0},{"$f":"+H39","v":0},{"$f":"MAX(I28:I32)","v":0},{"$f":"+J39","v":0},{"$f":"MAX(K28:K32)","v":0},{"$f":"+L39","v":0},{"$f":"MAX(M28:M32)","v":0},{"$f":"+N39","v":0},{"$f":"MAX(O28:O32)","v":0},{"$f":"+P39","v":0},{"$f":"MAX(Q28:Q32)","v":0},{"$f":"+R39","v":0},{"$f":"MAX(S28:S32)","v":0},{"$f":"+T39","v":0},{"$f":"MAX(U28:U32)","v":0},{"$f":"+V39","v":0},{"$f":"MAX(W28:W32)","v":0},{"$f":"+X39","v":0},{"$f":"MAX(Y28:Y32)","v":0},{"$f":"+Z39","v":0},{"$f":"MAX(AA28:AA32)","v":0},{"$f":"+AB39","v":0},{"$f":"MAX(AC28:AC32)","v":0},{"$f":"+AD39","v":0},{"$f":"MAX(AE28:AE32)","v":0},{"$f":"+AF39","v":0},{"$f":"MAX(AG28:AG32)","v":0},{"$f":"+AH39","v":0},{"$f":"MAX(AI28:AI32)","v":0},{"$f":"+AJ39","v":0},{"$f":"MAX(AK28:AK32)","v":0},{"$f":"+AL39","v":0}]
[null,null,{"$f":"IF(C$33=5,5,0)","v":0},null,{"$f":"IF(E$33=5,5,0)","v":0},null,{"$f":"IF(G$33=5,5,0)","v":0},null,{"$f":"IF(I$33=5,5,0)","v":0},null,{"$f":"IF(K$33=5,5,0)","v":0},null,{"$f":"IF(M$33=5,5,0)","v":0},null,{"$f":"IF(O$33=5,5,0)","v":0},null,{"$f":"IF(Q$33=5,5,0)","v":0},null,{"$f":"IF(S$33=5,5,0)","v":0},null,{"$f":"IF(U$33=5,5,0)","v":0},null,{"$f":"IF(W$33=5,5,0)","v":0},null,{"$f":"IF(Y$33=5,5,0)","v":0},null,{"$f":"IF(AA$33=5,5,0)","v":0},null,{"$f":"IF(AC$33=5,5,0)","v":0},null,{"$f":"IF(AE$33=5,5,0)","v":0},null,{"$f":"IF(AG$33=5,5,0)","v":0},null,{"$f":"IF(AI$33=5,5,0)","v":0},null,{"$f":"IF(AK$33=5,5,0)","v":0}]
[null,null,{"$f":"IF(C$33=4,10,0)","v":0},null,{"$f":"IF(E$33=4,10,0)","v":0},null,{"$f":"IF(G$33=4,10,0)","v":0},null,{"$f":"IF(I$33=4,10,0)","v":0},null,{"$f":"IF(K$33=4,10,0)","v":0},null,{"$f":"IF(M$33=4,10,0)","v":0},null,{"$f":"IF(O$33=4,10,0)","v":0},null,{"$f":"IF(Q$33=4,10,0)","v":0},null,{"$f":"IF(S$33=4,10,0)","v":0},null,{"$f":"IF(U$33=4,10,0)","v":0},null,{"$f":"IF(W$33=4,10,0)","v":0},null,{"$f":"IF(Y$33=4,10,0)","v":0},null,{"$f":"IF(AA$33=4,10,0)","v":0},null,{"$f":"IF(AC$33=4,10,0)","v":0},null,{"$f":"IF(AE$33=4,10,0)","v":0},null,{"$f":"IF(AG$33=4,10,0)","v":0},null,{"$f":"IF(AI$33=4,10,0)","v":0},null,{"$f":"IF(AK$33=4,10,0)","v":0}]
[null,null,{"$f":"IF(C$33=3,20,0)","v":0},null,{"$f":"IF(E$33=3,20,0)","v":0},null,{"$f":"IF(G$33=3,20,0)","v":0},null,{"$f":"IF(I$33=3,20,0)","v":0},null,{"$f":"IF(K$33=3,20,0)","v":0},null,{"$f":"IF(M$33=3,20,0)","v":0},null,{"$f":"IF(O$33=3,20,0)","v":0},null,{"$f":"IF(Q$33=3,20,0)","v":0},null,{"$f":"IF(S$33=3,20,0)","v":0},null,{"$f":"IF(U$33=3,20,0)","v":0},null,{"$f":"IF(W$33=3,20,0)","v":0},null,{"$f":"IF(Y$33=3,20,0)","v":0},null,{"$f":"IF(AA$33=3,20,0)","v":0},null,{"$f":"IF(AC$33=3,20,0)","v":0},null,{"$f":"IF(AE$33=3,20,0)","v":0},null,{"$f":"IF(AG$33=3,20,0)","v":0},null,{"$f":"IF(AI$33=3,20,0)","v":0},null,{"$f":"IF(AK$33=3,20,0)","v":0}]
[null,null,{"$f":"IF(C$33=2,40,0)","v":0},null,{"$f":"IF(E$33=2,40,0)","v":0},null,{"$f":"IF(G$33=2,40,0)","v":0},null,{"$f":"IF(I$33=2,40,0)","v":0},null,{"$f":"IF(K$33=2,40,0)","v":0},null,{"$f":"IF(M$33=2,40,0)","v":0},null,{"$f":"IF(O$33=2,40,0)","v":0},null,{"$f":"IF(Q$33=2,40,0)","v":0},null,{"$f":"IF(S$33=2,40,0)","v":0},null,{"$f":"IF(U$33=2,40,0)","v":0},null,{"$f":"IF(W$33=2,40,0)","v":0},null,{"$f":"IF(Y$33=2,40,0)","v":0},null,{"$f":"IF(AA$33=2,40,0)","v":0},null,{"$f":"IF(AC$33=2,40,0)","v":0},null,{"$f":"IF(AE$33=2,40,0)","v":0},null,{"$f":"IF(AG$33=2,40,0)","v":0},null,{"$f":"IF(AI$33=2,40,0)","v":0},null,{"$f":"IF(AK$33=2,40,0)","v":0}]
[null,null,{"$f":"IF(C$33=1,80,0)","v":0},null,{"$f":"IF(E$33=1,80,0)","v":0},null,{"$f":"IF(G$33=1,80,0)","v":0},null,{"$f":"IF(I$33=1,80,0)","v":0},null,{"$f":"IF(K$33=1,80,0)","v":0},null,{"$f":"IF(M$33=1,80,0)","v":0},null,{"$f":"IF(O$33=1,80,0)","v":0},null,{"$f":"IF(Q$33=1,80,0)","v":0},null,{"$f":"IF(S$33=1,80,0)","v":0},null,{"$f":"IF(U$33=1,80,0)","v":0},null,{"$f":"IF(W$33=1,80,0)","v":0},null,{"$f":"IF(Y$33=1,80,0)","v":0},null,{"$f":"IF(AA$33=1,80,0)","v":0},null,{"$f":"IF(AC$33=1,80,0)","v":0},null,{"$f":"IF(AE$33=1,80,0)","v":0},null,{"$f":"IF(AG$33=1,80,0)","v":0},null,{"$f":"IF(AI$33=1,80,0)","v":0},null,{"$f":"IF(AK$33=1,80,0)","v":0}]
[null,null,{"$f":"RANK(C34,$C34:$AX34)*C38","v":0},null,{"$f":"RANK(E34,$C34:$AX34)*E38","v":0},null,{"$f":"RANK(G34,$C34:$AX34)*G38","v":0},null,{"$f":"RANK(I34,$C34:$AX34)*I38","v":0},null,{"$f":"RANK(K34,$C34:$AX34)*K38","v":0},null,{"$f":"RANK(M34,$C34:$AX34)*M38","v":0},null,{"$f":"RANK(O34,$C34:$AX34)*O38","v":0},null,{"$f":"RANK(Q34,$C34:$AX34)*Q38","v":0},null,{"$f":"RANK(S34,$C34:$AX34)*S38","v":0},null,{"$f":"RANK(U34,$C34:$AX34)*U38","v":0},null,{"$f":"RANK(W34,$C34:$AX34)*W38","v":0},null,{"$f":"RANK(Y34,$C34:$AX34)*Y38","v":0},null,{"$f":"RANK(AA34,$C34:$AX34)*AA38","v":0},null,{"$f":"RANK(AC34,$C34:$AX34)*AC38","v":0},null,{"$f":"RANK(AE34,$C34:$AX34)*AE38","v":0},null,{"$f":"RANK(AG34,$C34:$AX34)*AG38","v":0},null,{"$f":"RANK(AI34,$C34:$AX34)*AI38","v":0},null,{"$f":"RANK(AK34,$C34:$AX34)*AK38","v":0}]
[null,null,{"$f":"SUM(C35:C37)","v":-101000000},null,{"$f":"SUM(E35:E37)","v":-101000000},null,{"$f":"SUM(G35:G37)","v":-101000000},null,{"$f":"SUM(I35:I37)","v":-101000000},null,{"$f":"SUM(K35:K37)","v":-101000000},null,{"$f":"SUM(M35:M37)","v":-101000000},null,{"$f":"SUM(O35:O37)","v":-101000000},null,{"$f":"SUM(Q35:Q37)","v":-101000000},null,{"$f":"SUM(S35:S37)","v":-101000000},null,{"$f":"SUM(U35:U37)","v":-101000000},null,{"$f":"SUM(W35:W37)","v":-101000000},null,{"$f":"SUM(Y35:Y37)","v":-101000000},null,{"$f":"SUM(AA35:AA37)","v":-101000000},null,{"$f":"SUM(AC35:AC37)","v":-101000000},null,{"$f":"SUM(AE35:AE37)","v":-101000000},null,{"$f":"SUM(AG35:AG37)","v":-101000000},null,{"$f":"SUM(AI35:AI37)","v":-101000000},null,{"$f":"SUM(AK35:AK37)","v":-101000000}]
[null,null,{"$f":"+D39","v":0},null,{"$f":"+F39","v":0},null,{"$f":"+H39","v":0},null,{"$f":"+J39","v":0},null,{"$f":"+L39","v":0},null,{"$f":"+N39","v":0},null,{"$f":"+P39","v":0},null,{"$f":"+R39","v":0},null,{"$f":"+T39","v":0},null,{"$f":"+V39","v":0},null,{"$f":"+X39","v":0},null,{"$f":"+Z39","v":0},null,{"$f":"+AB39","v":0},null,{"$f":"+AD39","v":0},null,{"$f":"+AF39","v":0},null,{"$f":"+AH39","v":0},null,{"$f":"+AJ39","v":0},null,{"$f":"+AL39","v":0}]
[null,null,{"$f":"D40*10","v":0},null,{"$f":"F40*10","v":0},null,{"$f":"H40*10","v":0},null,{"$f":"J40*10","v":0},null,{"$f":"L40*10","v":0},null,{"$f":"N40*10","v":0},null,{"$f":"P40*10","v":0},null,{"$f":"R40*10","v":0},null,{"$f":"T40*10","v":0},null,{"$f":"V40*10","v":0},null,{"$f":"X40*10","v":0},null,{"$f":"Z40*10","v":0},null,{"$f":"AB40*10","v":0},null,{"$f":"AD40*10","v":0},null,{"$f":"AF40*10","v":0},null,{"$f":"AH40*10","v":0},null,{"$f":"AJ40*10","v":0},null,{"$f":"AL40*10","v":0}]
[null,null,{"$f":"IF(C38=1,C39*C38*10000+C39,-1000000+C39)","v":-101000000},null,{"$f":"IF(E38=1,E39*E38*10000+E39,-1000000+E39)","v":-101000000},null,{"$f":"IF(G38=1,G39*G38*10000+G39,-1000000+G39)","v":-101000000},null,{"$f":"IF(I38=1,I39*I38*10000+I39,-1000000+I39)","v":-101000000},null,{"$f":"IF(K38=1,K39*K38*10000+K39,-1000000+K39)","v":-101000000},null,{"$f":"IF(M38=1,M39*M38*10000+M39,-1000000+M39)","v":-101000000},null,{"$f":"IF(O38=1,O39*O38*10000+O39,-1000000+O39)","v":-101000000},null,{"$f":"IF(Q38=1,Q39*Q38*10000+Q39,-1000000+Q39)","v":-101000000},null,{"$f":"IF(S38=1,S39*S38*10000+S39,-1000000+S39)","v":-101000000},null,{"$f":"IF(U38=1,U39*U38*10000+U39,-1000000+U39)","v":-101000000},null,{"$f":"IF(W38=1,W39*W38*10000+W39,-1000000+W39)","v":-101000000},null,{"$f":"IF(Y38=1,Y39*Y38*10000+Y39,-1000000+Y39)","v":-101000000},null,{"$f":"IF(AA38=1,AA39*AA38*10000+AA39,-1000000+AA39)","v":-101000000},null,{"$f":"IF(AC38=1,AC39*AC38*10000+AC39,-1000000+AC39)","v":-101000000},null,{"$f":"IF(AE38=1,AE39*AE38*10000+AE39,-1000000+AE39)","v":-101000000},null,{"$f":"IF(AG38=1,AG39*AG38*10000+AG39,-1000000+AG39)","v":-101000000},null,{"$f":"IF(AI38=1,AI39*AI38*10000+AI39,-1000000+AI39)","v":-101000000},null,{"$f":"IF(AK38=1,AK39*AK38*10000+AK39,-1000000+AK39)","v":-101000000}]
["Classificats",{"$f":"SUM(C38:AK38)","v":0},{"$f":"IF(D39>=$A3/2,1,0)","v":0},null,{"$f":"IF(F39>=$A3/2,1,0)","v":0},null,{"$f":"IF(H39>=$A3/2,1,0)","v":0},null,{"$f":"IF(J39>=$A3/2,1,0)","v":0},null,{"$f":"IF(L39>=$A3/2,1,0)","v":0},null,{"$f":"IF(N39>=$A3/2,1,0)","v":0},null,{"$f":"IF(P39>=$A3/2,1,0)","v":0},null,{"$f":"IF(R39>=$A3/2,1,0)","v":0},null,{"$f":"IF(T39>=$A3/2,1,0)","v":0},null,{"$f":"IF(V39>=$A3/2,1,0)","v":0},null,{"$f":"IF(X39>=$A3/2,1,0)","v":0},null,{"$f":"IF(Z39>=$A3/2,1,0)","v":0},null,{"$f":"IF(AB39>=$A3/2,1,0)","v":0},null,{"$f":"IF(AD39>=$A3/2,1,0)","v":0},null,{"$f":"IF(AF39>=$A3/2,1,0)","v":0},null,{"$f":"IF(AH39>=$A3/2,1,0)","v":0},null,{"$f":"IF(AJ39>=$A3/2,1,0)","v":0},null,{"$f":"IF(AL39>=$A3/2,1,0)","v":0}]
[null,null,{"$f":"IF(SUM(C44:C209)<-1000,-100000000,SUM(C44:C209))","v":-100000000},{"$f":"COUNT(D44:D209)","v":0},{"$f":"IF(SUM(E44:E209)<-1000,-100000000,SUM(E44:E209))","v":-100000000},{"$f":"COUNT(F44:F209)","v":0},{"$f":"IF(SUM(G44:G209)<-1000,-100000000,SUM(G44:G209))","v":-100000000},{"$f":"COUNT(H44:H209)","v":0},{"$f":"IF(SUM(I44:I209)<-1000,-100000000,SUM(I44:I209))","v":-100000000},{"$f":"COUNT(J44:J209)","v":0},{"$f":"IF(SUM(K44:K209)<-1000,-100000000,SUM(K44:K209))","v":-100000000},{"$f":"COUNT(L44:L209)","v":0},{"$f":"IF(SUM(M44:M209)<-1000,-100000000,SUM(M44:M209))","v":-100000000},{"$f":"COUNT(N44:N209)","v":0},{"$f":"IF(SUM(O44:O209)<-1000,-100000000,SUM(O44:O209))","v":-100000000},{"$f":"COUNT(P44:P209)","v":0},{"$f":"IF(SUM(Q44:Q209)<-1000,-100000000,SUM(Q44:Q209))","v":-100000000},{"$f":"COUNT(R44:R209)","v":0},{"$f":"IF(SUM(S44:S209)<-1000,-100000000,SUM(S44:S209))","v":-100000000},{"$f":"COUNT(T44:T209)","v":0},{"$f":"IF(SUM(U44:U209)<-1000,-100000000,SUM(U44:U209))","v":-100000000},{"$f":"COUNT(V44:V209)","v":0},{"$f":"IF(SUM(W44:W209)<-1000,-100000000,SUM(W44:W209))","v":-100000000},{"$f":"COUNT(X44:X209)","v":0},{"$f":"IF(SUM(Y44:Y209)<-1000,-100000000,SUM(Y44:Y209))","v":-100000000},{"$f":"COUNT(Z44:Z209)","v":0},{"$f":"IF(SUM(AA44:AA209)<-1000,-100000000,SUM(AA44:AA209))","v":-100000000},{"$f":"COUNT(AB44:AB209)","v":0},{"$f":"IF(SUM(AC44:AC209)<-1000,-100000000,SUM(AC44:AC209))","v":-100000000},{"$f":"COUNT(AD44:AD209)","v":0},{"$f":"IF(SUM(AE44:AE209)<-1000,-100000000,SUM(AE44:AE209))","v":-100000000},{"$f":"COUNT(AF44:AF209)","v":0},{"$f":"IF(SUM(AG44:AG209)<-1000,-100000000,SUM(AG44:AG209))","v":-100000000},{"$f":"COUNT(AH44:AH209)","v":0},{"$f":"IF(SUM(AI44:AI209)<-1000,-100000000,SUM(AI44:AI209))","v":-100000000},{"$f":"COUNT(AJ44:AJ209)","v":0},{"$f":"IF(SUM(AK44:AK209)<-1000,-100000000,SUM(AK44:AK209))","v":-100000000},{"$f":"COUNT(AL44:AL209)","v":0}]
[null,null,{"$f":"SUM(C44:C103)","v":-100000000},0,-100000000,0,-100000000,0,-100000000,0,-100000000,0,-100000000,0,-100000000,0,-100000000,0,-100000000,0,-100000000,0,-100000000,0,-100000000,0,-100000000,0,-100000000,0,-100000000,0,-100000000,0,-100000000,0,-100000000,0]
[null,null,null,null,null,null,null,null,null,null,null,null,null,null,null,null,null,null,null,null,null,null,null,null,null,null,null,null,null,null,null,null,null,null,null,null,null,null,{"$f":"MAX(AN44:AN103)","v":0}]
[null,"Nº partida ","Alfonso",null,"Pepe",null,"Jordi",null,"MªJosé",null,"Jimmy",null,"Sergi",null,"Carles",null,"Mariajo",null,"Iglesias",null,"Martin",null,"Xavi",null,"Mercè",null,"Salvadó",null,"Alícia",null,"Anna",null,"Goretti",null,"Jorge",null,"Pol",null,{"$f":"COUNT(AM44:AM124)","v":0},"A","B","C"]
[null,null,"Premi","Punts","Premi","Punts","Premi","Punts","Premi","Punts","Premi","Punts","Premi","Punts","Premi","Punts","Premi","Punts","Premi","Punts","Premi","Punts","Premi","Punts","Premi","Punts","Premi","Punts","Premi","Punts","Premi","Punts","Premi","Punts","Premi","Punts","Premi","Punts","Data","Timbes"]
[1,null,-100000000,null,-100000000,null,-100000000,null,-100000000,null,-100000000,null,-100000000,null,-100000000,null,-100000000,null,-100000000,null,-100000000,null,-100000000,null,-100000000,null,-100000000,null,-100000000,null,-100000000,null,-100000000,null,-100000000,null,-100000000,null,null,null,{"$f":"+C44+E44+G44+I44++K44++M44+O44+Q44+S44+U44+W44+Y44+AK44+AA44+AC44+AE44+AG44+AI44","v":-1800000000},0,{"$f":"COUNT(C44:AL44)/2","v":9},{"$f":"+AO44/AQ44","v":-200000000}]
[{"$f":"+A44+1","v":2},null,null,null,null,null,null,null,null,null,null,null,null,null,null,null,null,null,null,null,null,null,null,null,null,null,null,null,null,null,null,null,null,null,null,null,null,null,null,null,0,0,0,{"$error":"#DIV/0!"}]
[{"$f":"+A45+1","v":3},null,null,null,null,null,null,null,null,null,null,null,null,null,null,null,null,null,null,null,null,null,null,null,null,null,null,null,null,null,null,null,null,null,null,null,null,null,null,null,0,0,0,{"$error":"#DIV/0!"}]
[4,null,null,null,null,null,null,null,null,null,null,null,null,null,null,null,null,null,null,null,null,null,null,null,null,null,null,null,null,null,null,null,null,null,null,null,null,null,null,null,0,0,0,{"$error":"#DIV/0!"}]
[5,null,null,null,null,null,null,null,null,null,null,null,null,null,null,null,null,null,null,null,null,null,null,null,null,null,null,null,null,null,null,null,null,null,null,null,null,null,null,null,0,0,0,{"$error":"#DIV/0!"}]
[6,null,null,null,null,null,null,null,null,null,null,null,null,null,null,null,null,null,null,null,null,null,null,null,null,null,null,null,null,null,null,null,null,null,null,null,null,null,null,null,0,0,0,{"$error":"#DIV/0!"}]
[7,null,null,null,null,null,null,null,null,null,null,null,null,null,null,null,null,null,null,null,null,null,null,null,null,null,null,null,null,null,null,null,null,null,null,null,null,null,null,null,0,0,0,{"$error":"#DIV/0!"}]
[8]
[9]
[10]
[11]
[12]
[13]
[14]
[15]
[16]
[17]
[18]
[19]
[20]
[21]
[22]
[23]
[24]
[25]
[26]
[27]
[28]
[29]
[30]
[31]
[32]
[33]
[34]
[35]
[36]
[37]
[38]
[39]
[40]
[41]
[42]
[43]
[44]
[45]
[46]
[47]
[48]
[49]
[50]
[51]
[52]
[53]
[54]
[55]
[56]
[57]
[58]
[59]
[60]

{"sheet":"Remigio","index":30,"n_rows":87,"n_cols":55,"rows_kept":87,"cut":false,"hidden":false,"merged":[[40,47,40,49],[40,26,40,28],[40,29,40,31],[40,32,40,34],[40,35,40,37],[40,38,40,40],[40,41,40,43],[40,44,40,46],[40,14,40,16],[40,17,40,19],[40,20,40,22],[40,23,40,25],[40,2,40,4],[40,5,40,7],[40,8,40,10],[40,11,40,13]]}
["REMIGIO"]
["Mes"]
[{"$f":"+GENERAL!B6","v":12},null,{"$f":"SUM(C5:C8)","v":-400000000}]
[null,null,"Premio","Punts","Partides","General"]
[1,"Mariajo",{"$f":"+C$38","v":-100000000},{"$f":"+C$39","v":0},{"$f":"+D$38","v":0},{"$f":"+C$24","v":0},{"$f":"IF(E5<A$3/2,-1,1)*800000+C5*1000-D5*10+E5","v":-100000800000}]
[2,"Mercé",{"$f":"+AJ$38","v":-100000000},{"$f":"+AJ$39","v":0},{"$f":"+AK$38","v":0},{"$f":"+AJ$24","v":0},-100000800000]
[3,"Jordi",{"$f":"+I$38","v":-100000000},{"$f":"+I$39","v":0},{"$f":"+J$38","v":0},{"$f":"+I$24","v":0},-100000800000]
[4,"David",{"$f":"+L$38","v":-100000000},{"$f":"+L$39","v":0},{"$f":"+M$38","v":0},{"$f":"+L$24","v":0},-100000800000]
[5,"Sergi",{"$f":"+R$38","v":-100000000},{"$f":"+R$39","v":0},{"$f":"+S$38","v":0},{"$f":"+R$24","v":0},-100000800000]
[6,"Goretti",{"$f":"+O$38","v":-100000000},{"$f":"+O$39","v":0},{"$f":"+P$38","v":0},{"$f":"+O$24","v":0},-100000800000]
[7,"Alícia",{"$f":"+AP$38","v":-100000000},{"$f":"+AP$39","v":0},{"$f":"+AQ$38","v":0},{"$f":"+AP$24","v":0},-100000800000]
[8,"Carles",{"$f":"+U$38","v":-100000000},{"$f":"+U$39","v":0},{"$f":"+V$38","v":0},{"$f":"+U$24","v":0},-100000800000]
[9,"Xavi",{"$f":"+AG$38","v":-100000000},{"$f":"+AG$39","v":0},{"$f":"+AH$38","v":0},{"$f":"+AG$24","v":0},-100000800000]
[10,"Iglesias",{"$f":"+AA$38","v":-100000000},{"$f":"+AA$39","v":0},{"$f":"+AB$38","v":0},{"$f":"+AA$24","v":0},-100000800000]
[11,"Martín",{"$f":"+AD$38","v":-100000000},{"$f":"+AD$39","v":0},{"$f":"+AE$38","v":0},{"$f":"+AD$24","v":0},-100000800000]
[12,"Marga",{"$f":"+F$38","v":-100000000},{"$f":"+F$39","v":0},{"$f":"+G$38","v":0},{"$f":"+F$24","v":0},-100000800000]
[13,"Knobel",{"$f":"+AM$38","v":-100000000},{"$f":"+AM$39","v":0},{"$f":"+AN$38","v":0},{"$f":"+AM24","v":0},-100000800000]
[14,"Caty",{"$f":"+AV$38","v":-100000000},{"$f":"+AV$39","v":0},{"$f":"+AW$38","v":0},{"$f":"+AV$24","v":0},-100000800000]
[13,"David",{"$f":"+X$38","v":-100000000},{"$f":"+X$39","v":0},{"$f":"+Y$38","v":0},{"$f":"+X$24","v":0},-100000800000]
[14,"Ester",{"$f":"+AS$38","v":-100000000},{"$f":"+AS$39","v":0},{"$f":"+AT$38","v":0},{"$f":"+AS$24","v":0},-100000800000]
[]
[]
[]
[null,"General",{"$f":"+C25*C26","v":0},{"$f":"+D25*D26","v":0},null,{"$f":"+F25*F26","v":0},{"$f":"+G25*G26","v":0},null,{"$f":"+I25*I26","v":0},{"$f":"+J25*J26","v":0},null,{"$f":"+L25*L26","v":0},{"$f":"+M25*M26","v":0},null,{"$f":"+O25*O26","v":0},{"$f":"+P25*P26","v":0},null,{"$f":"+R25*R26","v":0},{"$f":"+S25*S26","v":0},null,{"$f":"+U25*U26","v":0},{"$f":"+V25*V26","v":0},null,{"$f":"+X25*X26","v":0},{"$f":"+Y25*Y26","v":0},null,{"$f":"+AA25*AA26","v":0},{"$f":"+AB25*AB26","v":0},null,{"$f":"+AD25*AD26","v":0},{"$f":"+AE25*AE26","v":0},null,{"$f":"+AG25*AG26","v":0},{"$f":"+AH25*AH26","v":0},null,{"$f":"+AJ25*AJ26","v":0},{"$f":"+AK25*AK26","v":0},null,{"$f":"+AM25*AM26","v":0},{"$f":"+AN25*AN26","v":0},null,{"$f":"+AP25*AP26","v":0},{"$f":"+AQ25*AQ26","v":0},null,{"$f":"+AS25*AS26","v":0},{"$f":"+AT25*AT26","v":0},null,{"$f":"+AV25*AV26","v":0},{"$f":"+AW25*AW26","v":0}]
[null,null,{"$f":"IF($B37>3,1,0)","v":0},{"$f":"IF($B37>3,1,0)","v":0},null,0,0,null,{"$f":"IF($B37>3,1,0)","v":0},0,null,0,0,null,0,0,null,0,0,null,0,0,null,0,0,null,0,0,null,0,0,null,0,0,null,0,0,null,{"$f":"IF($B37>3,1,0)","v":0},{"$f":"IF($B37>3,1,0)","v":0},null,{"$f":"IF($B37>3,1,0)","v":0},{"$f":"IF($B37>3,1,0)","v":0},null,{"$f":"IF($B37>3,1,0)","v":0},{"$f":"IF($B37>3,1,0)","v":0},null,0,0]
[null,null,{"$f":"MAX(C27:C31)","v":0},{"$f":"+D38","v":0},null,{"$f":"MAX(F27:F31)","v":0},{"$f":"+G38","v":0},null,{"$f":"MAX(I27:I31)","v":0},{"$f":"+J38","v":0},null,{"$f":"MAX(L27:L31)","v":0},{"$f":"+M38","v":0},null,{"$f":"MAX(O27:O31)","v":0},{"$f":"+P38","v":0},null,{"$f":"MAX(R27:R31)","v":0},{"$f":"+S38","v":0},null,{"$f":"MAX(U27:U31)","v":0},{"$f":"+V38","v":0},null,{"$f":"MAX(X27:X31)","v":0},{"$f":"+Y38","v":0},null,{"$f":"MAX(AA27:AA31)","v":0},{"$f":"+AB38","v":0},null,{"$f":"MAX(AD27:AD31)","v":0},{"$f":"+AE38","v":0},null,{"$f":"MAX(AG27:AG31)","v":0},{"$f":"+AH38","v":0},null,{"$f":"MAX(AJ27:AJ31)","v":0},{"$f":"+AK38","v":0},null,{"$f":"MAX(AM27:AM31)","v":0},{"$f":"+AN38","v":0},null,{"$f":"MAX(AP27:AP31)","v":0},{"$f":"+AQ38","v":0},null,{"$f":"MAX(AS27:AS31)","v":0},{"$f":"+AT38","v":0},null,{"$f":"MAX(AV27:AV31)","v":0},{"$f":"+AW38","v":0}]
[null,null,{"$f":"IF(C$32=5,5,0)","v":0},null,null,{"$f":"IF(F$32=5,5,0)","v":0},null,null,{"$f":"IF(I$32=5,5,0)","v":0},null,null,{"$f":"IF(L$32=5,5,0)","v":0},null,null,{"$f":"IF(O$32=5,5,0)","v":0},null,null,{"$f":"IF(R$32=5,5,0)","v":0},null,null,{"$f":"IF(U$32=5,5,0)","v":0},null,null,{"$f":"IF(X$32=5,5,0)","v":0},null,null,{"$f":"IF(AA$32=5,5,0)","v":0},null,null,{"$f":"IF(AD$32=5,5,0)","v":0},null,null,{"$f":"IF(AG$32=5,5,0)","v":0},null,null,{"$f":"IF(AJ$32=5,5,0)","v":0},null,null,{"$f":"IF(AM$32=5,5,0)","v":0},null,null,{"$f":"IF(AP$32=5,5,0)","v":0},null,null,{"$f":"IF(AS$32=5,5,0)","v":0},null,null,{"$f":"IF(AV$32=5,5,0)","v":0}]
[null,null,{"$f":"IF(C$32=4,10,0)","v":0},null,null,{"$f":"IF(F$32=4,10,0)","v":0},null,null,{"$f":"IF(I$32=4,10,0)","v":0},null,null,{"$f":"IF(L$32=4,10,0)","v":0},null,null,{"$f":"IF(O$32=4,10,0)","v":0},null,null,{"$f":"IF(R$32=4,10,0)","v":0},null,null,{"$f":"IF(U$32=4,10,0)","v":0},null,null,{"$f":"IF(X$32=4,10,0)","v":0},null,null,{"$f":"IF(AA$32=4,10,0)","v":0},null,null,{"$f":"IF(AD$32=4,10,0)","v":0},null,null,{"$f":"IF(AG$32=4,10,0)","v":0},null,null,{"$f":"IF(AJ$32=4,10,0)","v":0},null,null,{"$f":"IF(AM$32=4,10,0)","v":0},null,null,{"$f":"IF(AP$32=4,10,0)","v":0},null,null,{"$f":"IF(AS$32=4,10,0)","v":0},null,null,{"$f":"IF(AV$32=4,10,0)","v":0}]
[null,null,{"$f":"IF(C$32=3,20,0)","v":0},null,null,{"$f":"IF(F$32=3,20,0)","v":0},null,null,{"$f":"IF(I$32=3,20,0)","v":0},null,null,{"$f":"IF(L$32=3,20,0)","v":0},null,null,{"$f":"IF(O$32=3,20,0)","v":0},null,null,{"$f":"IF(R$32=3,20,0)","v":0},null,null,{"$f":"IF(U$32=3,20,0)","v":0},null,null,{"$f":"IF(X$32=3,20,0)","v":0},null,null,{"$f":"IF(AA$32=3,20,0)","v":0},null,null,{"$f":"IF(AD$32=3,20,0)","v":0},null,null,{"$f":"IF(AG$32=3,20,0)","v":0},null,null,{"$f":"IF(AJ$32=3,20,0)","v":0},null,null,{"$f":"IF(AM$32=3,20,0)","v":0},null,null,{"$f":"IF(AP$32=3,20,0)","v":0},null,null,{"$f":"IF(AS$32=3,20,0)","v":0},null,null,{"$f":"IF(AV$32=3,20,0)","v":0}]
[null,null,{"$f":"IF(C$32=2,40,0)","v":0},null,null,{"$f":"IF(F$32=2,40,0)","v":0},null,null,{"$f":"IF(I$32=2,40,0)","v":0},null,null,{"$f":"IF(L$32=2,40,0)","v":0},null,null,{"$f":"IF(O$32=2,40,0)","v":0},null,null,{"$f":"IF(R$32=2,40,0)","v":0},null,null,{"$f":"IF(U$32=2,40,0)","v":0},null,null,{"$f":"IF(X$32=2,40,0)","v":0},null,null,{"$f":"IF(AA$32=2,40,0)","v":0},null,null,{"$f":"IF(AD$32=2,40,0)","v":0},null,null,{"$f":"IF(AG$32=2,40,0)","v":0},null,null,{"$f":"IF(AJ$32=2,40,0)","v":0},null,null,{"$f":"IF(AM$32=2,40,0)","v":0},null,null,{"$f":"IF(AP$32=2,40,0)","v":0},null,null,{"$f":"IF(AS$32=2,40,0)","v":0},null,null,{"$f":"IF(AV$32=2,40,0)","v":0}]
[null,null,{"$f":"IF(C$32=1,80,0)","v":0},null,null,{"$f":"IF(F$32=1,80,0)","v":0},null,null,{"$f":"IF(I$32=1,80,0)","v":0},null,null,{"$f":"IF(L$32=1,80,0)","v":0},null,null,{"$f":"IF(O$32=1,80,0)","v":0},null,null,{"$f":"IF(R$32=1,80,0)","v":0},null,null,{"$f":"IF(U$32=1,80,0)","v":0},null,null,{"$f":"IF(X$32=1,80,0)","v":0},null,null,{"$f":"IF(AA$32=1,80,0)","v":0},null,null,{"$f":"IF(AD$32=1,80,0)","v":0},null,null,{"$f":"IF(AG$32=1,80,0)","v":0},null,null,{"$f":"IF(AJ$32=1,80,0)","v":0},null,null,{"$f":"IF(AM$32=1,80,0)","v":0},null,null,{"$f":"IF(AP$32=1,80,0)","v":0},null,null,{"$f":"IF(AS$32=1,80,0)","v":0},null,null,{"$f":"IF(AV$32=1,80,0)","v":0}]
[null,null,{"$f":"RANK(C33,$C33:$AW33)*C37","v":0},null,null,{"$f":"RANK(F33,$C33:$AW33)*F37","v":0},null,null,{"$f":"RANK(I33,$C33:$AW33)*I37","v":0},null,null,{"$f":"RANK(L33,$C33:$AW33)*L37","v":0},null,null,{"$f":"RANK(O33,$C33:$AW33)*O37","v":0},null,null,{"$f":"RANK(R33,$C33:$AW33)*R37","v":0},null,null,{"$f":"RANK(U33,$C33:$AW33)*U37","v":0},null,null,{"$f":"RANK(X33,$C33:$AW33)*X37","v":0},null,null,{"$f":"RANK(AA33,$C33:$AW33)*AA37","v":0},null,null,{"$f":"RANK(AD33,$C33:$AW33)*AD37","v":0},null,null,{"$f":"RANK(AG33,$C33:$AW33)*AG37","v":0},null,null,{"$f":"RANK(AJ33,$C33:$AW33)*AJ37","v":0},null,null,{"$f":"RANK(AM33,$C33:$AW33)*AM37","v":0},null,null,{"$f":"RANK(AP33,$C33:$AW33)*AP37","v":0},null,null,{"$f":"RANK(AS33,$C33:$AW33)*AS37","v":0},null,null,{"$f":"RANK(AV33,$C33:$AW33)*AV37","v":0}]
[null,null,{"$f":"SUM(C34:C36)","v":-110000000},null,null,{"$f":"SUM(F34:F36)","v":-110000000},null,null,{"$f":"SUM(I34:I36)","v":-110000000},null,null,{"$f":"SUM(L34:L36)","v":-110000000},null,null,{"$f":"SUM(O34:O36)","v":-110000000},null,null,{"$f":"SUM(R34:R36)","v":-110000000},null,null,{"$f":"SUM(U34:U36)","v":-110000000},null,null,{"$f":"SUM(X34:X36)","v":-110000000},null,null,{"$f":"SUM(AA34:AA36)","v":-110000000},null,null,{"$f":"SUM(AD34:AD36)","v":-110000000},null,null,{"$f":"SUM(AG34:AG36)","v":-110000000},null,null,{"$f":"SUM(AJ34:AJ36)","v":-110000000},null,null,{"$f":"SUM(AM34:AM36)","v":-110000000},null,null,{"$f":"SUM(AP34:AP36)","v":-110000000},null,null,{"$f":"SUM(AS34:AS36)","v":-110000000},null,null,{"$f":"SUM(AV34:AV36)","v":-110000000}]
[null,null,{"$f":"+D38","v":0},null,null,{"$f":"+G38","v":0},null,null,{"$f":"+J38","v":0},null,null,{"$f":"+M38","v":0},null,null,{"$f":"+P38","v":0},null,null,{"$f":"+S38","v":0},null,null,{"$f":"+V38","v":0},null,null,{"$f":"+Y38","v":0},null,null,{"$f":"+AB38","v":0},null,null,{"$f":"+AE38","v":0},null,null,{"$f":"+AH38","v":0},null,null,{"$f":"+AK38","v":0},null,null,{"$f":"+AN38","v":0},null,null,{"$f":"+AQ38","v":0},null,null,{"$f":"+AT38","v":0},null,null,{"$f":"+AW38","v":0}]
[null,null,{"$f":"-C39*10","v":0},null,null,{"$f":"-F39*10","v":0},null,null,{"$f":"-I39*10","v":0},null,null,{"$f":"-L39*10","v":0},null,null,{"$f":"-O39*10","v":0},null,null,{"$f":"-R39*10","v":0},null,null,{"$f":"-U39*10","v":0},null,null,{"$f":"-X39*10","v":0},null,null,{"$f":"-AA39*10","v":0},null,null,{"$f":"-AD39*10","v":0},null,null,{"$f":"-AG39*10","v":0},null,null,{"$f":"-AJ39*10","v":0},null,null,{"$f":"-AM39*10","v":0},null,null,{"$f":"-AP39*10","v":0},null,null,{"$f":"-AS39*10","v":0},null,null,{"$f":"-AV39*10","v":0}]
[null,null,{"$f":"IF(C37=1,C38*C37*10000+C38,-10000000+C38)","v":-110000000},null,null,{"$f":"IF(F37=1,F38*F37*10000+F38,-10000000+F38)","v":-110000000},null,null,{"$f":"IF(I37=1,I38*I37*10000+I38,-10000000+I38)","v":-110000000},null,null,{"$f":"IF(L37=1,L38*L37*10000+L38,-10000000+L38)","v":-110000000},null,null,{"$f":"IF(O37=1,O38*O37*10000+O38,-10000000+O38)","v":-110000000},null,null,{"$f":"IF(R37=1,R38*R37*10000+R38,-10000000+R38)","v":-110000000},null,null,{"$f":"IF(U37=1,U38*U37*10000+U38,-10000000+U38)","v":-110000000},null,null,{"$f":"IF(X37=1,X38*X37*10000+X38,-10000000+X38)","v":-110000000},null,null,{"$f":"IF(AA37=1,AA38*AA37*10000+AA38,-10000000+AA38)","v":-110000000},null,null,{"$f":"IF(AD37=1,AD38*AD37*10000+AD38,-10000000+AD38)","v":-110000000},null,null,{"$f":"IF(AG37=1,AG38*AG37*10000+AG38,-10000000+AG38)","v":-110000000},null,null,{"$f":"IF(AJ37=1,AJ38*AJ37*10000+AJ38,-10000000+AJ38)","v":-110000000},null,null,{"$f":"IF(AM37=1,AM38*AM37*10000+AM38,-10000000+AM38)","v":-110000000},null,null,{"$f":"IF(AP37=1,AP38*AP37*10000+AP38,-10000000+AP38)","v":-110000000},null,null,{"$f":"IF(AS37=1,AS38*AS37*10000+AS38,-10000000+AS38)","v":-110000000},null,null,{"$f":"IF(AV37=1,AV38*AV37*10000+AV38,-10000000+AV38)","v":-110000000}]
["Classificats",{"$f":"SUM(C37:AV37)","v":0},{"$f":"IF(D38>=$A3/2,1,0)","v":0},null,null,{"$f":"IF(G38>=$A3/2,1,0)","v":0},null,null,{"$f":"IF(J38>=$A3/2,1,0)","v":0},null,null,{"$f":"IF(M38>=$A3/2,1,0)","v":0},null,null,{"$f":"IF(P38>=$A3/2,1,0)","v":0},null,null,{"$f":"IF(S38>=$A3/2,1,0)","v":0},null,null,{"$f":"IF(V38>=$A3/2,1,0)","v":0},null,null,{"$f":"IF(Y38>=$A3/2,1,0)","v":0},null,null,{"$f":"IF(AB38>=$A3/2,1,0)","v":0},null,null,{"$f":"IF(AE38>=$A3/2,1,0)","v":0},null,null,{"$f":"IF(AH38>=$A3/2,1,0)","v":0},null,null,{"$f":"IF(AK38>=$A3/2,1,0)","v":0},null,null,{"$f":"IF(AN38>=$A3/2,1,0)","v":0},null,null,{"$f":"IF(AQ38>=$A3/2,1,0)","v":0},null,null,{"$f":"IF(AT38>=$A3/2,1,0)","v":0},null,null,{"$f":"IF(AW38>=$A3/2,1,0)","v":0}]
[null,null,{"$f":"IF(SUM(C43:C172)<-1000,-100000000,SUM(C43:C172))","v":-100000000},{"$f":"COUNT(D43:D172)","v":0},null,{"$f":"IF(SUM(F43:F172)<-1000,-100000000,SUM(F43:F172))","v":-100000000},{"$f":"COUNT(G43:G172)","v":0},null,{"$f":"IF(SUM(I43:I172)<-1000,-100000000,SUM(I43:I172))","v":-100000000},{"$f":"COUNT(J43:J172)","v":0},null,{"$f":"IF(SUM(L43:L172)<-1000,-100000000,SUM(L43:L172))","v":-100000000},{"$f":"COUNT(M43:M172)","v":0},null,{"$f":"IF(SUM(O43:O172)<-1000,-100000000,SUM(O43:O172))","v":-100000000},{"$f":"COUNT(P43:P172)","v":0},null,{"$f":"IF(SUM(R43:R172)<-1000,-100000000,SUM(R43:R172))","v":-100000000},{"$f":"COUNT(S43:S172)","v":0},null,{"$f":"IF(SUM(U43:U172)<-1000,-100000000,SUM(U43:U172))","v":-100000000},{"$f":"COUNT(V43:V172)","v":0},null,{"$f":"IF(SUM(X43:X172)<-1000,-100000000,SUM(X43:X172))","v":-100000000},{"$f":"COUNT(Y43:Y172)","v":0},null,{"$f":"IF(SUM(AA43:AA172)<-1000,-100000000,SUM(AA43:AA172))","v":-100000000},{"$f":"COUNT(AB43:AB172)","v":0},null,{"$f":"IF(SUM(AD43:AD172)<-1000,-100000000,SUM(AD43:AD172))","v":-100000000},{"$f":"COUNT(AE43:AE172)","v":0},null,{"$f":"IF(SUM(AG43:AG172)<-1000,-100000000,SUM(AG43:AG172))","v":-100000000},{"$f":"COUNT(AH43:AH172)","v":0},null,{"$f":"IF(SUM(AJ43:AJ172)<-1000,-100000000,SUM(AJ43:AJ172))","v":-100000000},{"$f":"COUNT(AK43:AK172)","v":0},null,{"$f":"IF(SUM(AM43:AM172)<-1000,-100000000,SUM(AM43:AM172))","v":-100000000},{"$f":"COUNT(AN43:AN172)","v":0},null,{"$f":"IF(SUM(AP43:AP172)<-1000,-100000000,SUM(AP43:AP172))","v":-100000000},{"$f":"COUNT(AQ43:AQ172)","v":0},null,{"$f":"IF(SUM(AS43:AS172)<-1000,-100000000,SUM(AS43:AS172))","v":-100000000},{"$f":"COUNT(AT43:AT172)","v":0},null,{"$f":"IF(SUM(AV43:AV172)<-1000,-100000000,SUM(AV43:AV172))","v":-100000000},{"$f":"COUNT(AW43:AW172)","v":0},null,null,"A"]
[null,null,{"$f":"+D39/E39","v":0},{"$f":"SUM(D43:D87)","v":0},{"$f":"SUM(E43:E87)","v":-1},{"$f":"+G39/H39","v":0},{"$f":"SUM(G43:G87)","v":0},{"$f":"SUM(H43:H87)","v":-1},{"$f":"+J39/K39","v":0},{"$f":"SUM(J43:J87)","v":0},{"$f":"SUM(K43:K87)","v":-1},{"$f":"+M39/N39","v":0},{"$f":"SUM(M43:M87)","v":0},{"$f":"SUM(N43:N87)","v":-1},{"$f":"+P39/Q39","v":0},{"$f":"SUM(P43:P87)","v":0},{"$f":"SUM(Q43:Q87)","v":-1},{"$f":"+S39/T39","v":0},{"$f":"SUM(S43:S87)","v":0},{"$f":"SUM(T43:T87)","v":-1},{"$f":"+V39/W39","v":0},{"$f":"SUM(V43:V87)","v":0},{"$f":"SUM(W43:W87)","v":-1},{"$f":"+Y39/Z39","v":0},{"$f":"SUM(Y43:Y87)","v":0},{"$f":"SUM(Z43:Z87)","v":-1},{"$f":"+AB39/AC39","v":0},{"$f":"SUM(AB43:AB87)","v":0},{"$f":"SUM(AC43:AC87)","v":-1},{"$f":"+AE39/AF39","v":0},{"$f":"SUM(AE43:AE87)","v":0},{"$f":"SUM(AF43:AF87)","v":-1},{"$f":"+AH39/AI39","v":0},{"$f":"SUM(AH43:AH87)","v":0},{"$f":"SUM(AI43:AI87)","v":-1},{"$f":"+AK39/AL39","v":0},{"$f":"SUM(AK43:AK87)","v":0},{"$f":"SUM(AL43:AL87)","v":-1},{"$f":"+AN39/AO39","v":0},{"$f":"SUM(AN43:AN87)","v":0},{"$f":"SUM(AO43:AO87)","v":-1},{"$f":"+AQ39/AR39","v":0},{"$f":"SUM(AQ43:AQ87)","v":0},{"$f":"SUM(AR43:AR87)","v":-1},{"$f":"+AT39/AU39","v":0},{"$f":"SUM(AT43:AT87)","v":0},{"$f":"SUM(AU43:AU87)","v":-1},{"$f":"+AW39/AX39","v":0},{"$f":"SUM(AW43:AW87)","v":0},{"$f":"SUM(AX43:AX87)","v":-1},null,"B"]
[null,null,null,null,null,null,null,null,null,null,null,null,null,null,null,null,null,null,null,null,null,null,null,null,null,null,null,null,null,null,null,null,null,null,null,null,null,null,null,null,null,null,null,null,null,null,null,null,null,null,{"$f":"MAX(AZ43:AZ102)","v":0}]
[null,"Nº partida ","Mariajo",null,null,"Marga",null,null,"Jordi",null,null,"David",null,null,"Goretti",null,null,"Sergi",null,null,"Carles",null,null,"David",null,null,"Iglesias",null,null,"Martín",null,null,"Xavi",null,null,"Mercé",null,null,"Knobel",null,null,"Alicia",null,null,"Ester",null,null,"Caty",null,null,{"$f":"COUNT(AY43:AY87)","v":0},"A","B","C"]
[null,"5 copes","Premi","Punts",null,"Premi","Punts",null,"Premi","Punts",null,"Premi","Punts",null,"Premi","Punts",null,"Premi","Punts",null,"Premi","Punts",null,"Premi","Punts",null,"Premi","Punts",null,"Premi","Punts",null,"Premi","Punts",null,"Premi","Punts",null,"Premi","Punts",null,"Premi","Punts",null,"Premi","Punts",null,"Premi","Punts",null,"Data","Timba"]
[1,null,-10000,null,-1,-10000,null,-1,-10000,null,-1,-10000,null,-1,-10000,null,-1,-10000,null,-1,-10000,null,-1,-10000,null,-1,-10000,null,-1,-10000,null,-1,-10000,null,-1,-10000,null,-1,-10000,null,-1,-10000,null,-1,-10000,null,-1,-10000,null,-1,null,null,{"$f":"+AV43+AJ43+AG43+AD43+AA43+X43+U43+R43+O43+L43+I43+F43+C43+AM43+AP43+AS43","v":-160000},{"$f":"COUNT(C43:AX43)/3","v":10.666666666666666},{"$f":"+BA43/BB43","v":-15000}]
[{"$f":"+A43+1","v":2},null,null,null,null,null,null,null,null,null,null,null,null,null,null,null,null,null,null,null,null,null,null,null,null,null,null,null,null,null,null,null,null,null,null,null,null,null,null,null,null,null,null,null,null,null,null,null,null,null,null,null,0,0,{"$error":"#DIV/0!"}]
[{"$f":"+A44+1","v":3},null,null,null,null,null,null,null,null,null,null,null,null,null,null,null,null,null,null,null,null,null,null,null,null,null,null,null,null,null,null,null,null,null,null,null,null,null,null,null,null,null,null,null,null,null,null,null,null,null,null,null,0,0,{"$error":"#DIV/0!"}]
[4,null,null,null,null,null,null,null,null,null,null,null,null,null,null,null,null,null,null,null,null,null,null,null,null,null,null,null,null,null,null,null,null,null,null,null,null,null,null,null,null,null,null,null,null,null,null,null,null,null,null,null,0,0,{"$error":"#DIV/0!"}]
[5,null,null,null,null,null,null,null,null,null,null,null,null,null,null,null,null,null,null,null,null,null,null,null,null,null,null,null,null,null,null,null,null,null,null,null,null,null,null,null,null,null,null,null,null,null,null,null,null,null,null,null,0,0,{"$error":"#DIV/0!"}]
[6,null,null,null,null,null,null,null,null,null,null,null,null,null,null,null,null,null,null,null,null,null,null,null,null,null,null,null,null,null,null,null,null,null,null,null,null,null,null,null,null,null,null,null,null,null,null,null,null,null,null,null,0,0,{"$error":"#DIV/0!"}]
[7,null,null,null,null,null,null,null,null,null,null,null,null,null,null,null,null,null,null,null,null,null,null,null,null,null,null,null,null,null,null,null,null,null,null,null,null,null,null,null,null,null,null,null,null,null,null,null,null,null,null,null,0,0,{"$error":"#DIV/0!"}]
[8]
[9]
[10]
[11]
[12]
[13]
[14]
[15]
[16]
[17]
[18]
[19]
[20]
[21]
[22]
[23]
[24]
[25]
[26]
[27]
[28]
[29]
[30]
[31]
[32]
[33]
[34]
[35]
[36]
[37]
[38]
[39]
[40]
[41]
[42]
[43]
[44]
[45]

{"sheet":"Whist","index":31,"n_rows":68,"n_cols":67,"rows_kept":68,"cut":false,"hidden":false,"merged":[[42,50,42,52],[42,53,42,55],[42,56,42,58],[42,38,42,40],[42,41,42,43],[42,44,42,46],[42,47,42,49],[42,32,42,34],[42,35,42,37],[42,14,42,16],[42,17,42,19],[42,20,42,22],[42,23,42,25],[42,29,42,31],[42,2,42,4],[42,5,42,7],[42,8,42,10],[42,11,42,13],[42,26,42,28]]}
["WHIST"]
["Mes"]
[{"$f":"+GENERAL!B6","v":12},null,{"$f":"SUM(C5:C12)","v":-800000000}]
[null,null,"Premi","Punts","Partides","General"]
[1,"Iglesias",{"$f":"+AA$40","v":-100000000},{"$f":"+AA$41","v":1},{"$f":"+AB$40","v":0},{"$f":"+AA$26","v":0},{"$f":"IF(E5<A$3/2,-1,1)*800+C5+D5/1000","v":-100000799.999}]
[1,"Mercè",{"$f":"+AY$40","v":-100000000},{"$f":"+AY$41","v":1},{"$f":"+AZ$40","v":0},{"$f":"+AY$26","v":0},-100000799.999]
[3,"Jordi",{"$f":"+I$40","v":-100000000},{"$f":"+I$41","v":1},{"$f":"+J$40","v":0},{"$f":"+I$26","v":0},-100000799.999]
[3,"Sergi",{"$f":"+R$40","v":-100000000},{"$f":"+R$41","v":1},{"$f":"+S$40","v":0},{"$f":"+R$26","v":0},-100000799.999]
[5,"Xavi",{"$f":"+AG$40","v":-100000000},{"$f":"+AG$41","v":1},{"$f":"+AH$40","v":0},{"$f":"+AG$26","v":0},-100000799.999]
[6,"Goretti",{"$f":"+AV$40","v":-100000000},{"$f":"+AV$41","v":1},{"$f":"+AW$40","v":0},{"$f":"+AV$26","v":0},-100000799.999]
[7,"Carles",{"$f":"+U$40","v":-100000000},{"$f":"+U$41","v":1},{"$f":"+V$40","v":0},{"$f":"+U$26","v":0},-100000799.999]
[8,"Mariajo",{"$f":"+X$40","v":-100000000},{"$f":"+X$41","v":1},{"$f":"+Y$40","v":0},{"$f":"+X$26","v":0},-100000799.999]
[9,"Juan",{"$f":"+F$40","v":-100000000},{"$f":"+F$41","v":1},{"$f":"+G$40","v":0},{"$f":"+F$26","v":0},-100000799.999]
[10,"Alfonso",{"$f":"+AM$40","v":-100000000},{"$f":"+AM$41","v":1},{"$f":"+AN$40","v":0},{"$f":"+AM$26","v":0},-100000799.999]
[11,"Sylvain",{"$f":"+AD$40","v":-100000000},{"$f":"+AD$41","v":1},{"$f":"+AE$40","v":0},{"$f":"+AD$26","v":0},-100000799.999]
[12,"Pol",{"$f":"+O$40","v":-100000000},{"$f":"+O$41","v":1},{"$f":"+P$40","v":0},{"$f":"+O$26","v":0},-100000799.999]
[13,"MªJosé",{"$f":"+L$40","v":-100000000},{"$f":"+L$41","v":1},{"$f":"+M$40","v":0},{"$f":"+L$26","v":0},-100000799.999]
[14,"Taberner",{"$f":"+AP$40","v":-100000000},{"$f":"+AP$41","v":1},{"$f":"+AQ$40","v":0},{"$f":"+AP$26","v":0},-100000799.999]
[15,"Allan",{"$f":"+C$40","v":-100000000},{"$f":"+C$41","v":1},{"$f":"+D$40","v":0},{"$f":"+C$26","v":0},-100000799.999]
[16,"Salvadó",{"$f":"+AJ$40","v":-100000000},{"$f":"+AJ$41","v":1},{"$f":"+AK$40","v":0},{"$f":"+AJ$26","v":0},-100000799.999]
[17,"Agata",{"$f":"+AS$40","v":-100000000},{"$f":"+AS$41","v":1},{"$f":"+AT$40","v":0},{"$f":"+AS$26","v":0},-100000799.999]
[18,"Caty",{"$f":"+BE$40","v":-100000000},{"$f":"+BE$41","v":1},{"$f":"+BF$40","v":0},{"$f":"+BE$26","v":0},-100000799.999]
[]
[]
[]
[null,"General",{"$f":"+C27*C28","v":0},{"$f":"+D27*D28","v":0},null,{"$f":"+F27*F28","v":0},{"$f":"+G27*G28","v":0},null,{"$f":"+I27*I28","v":0},{"$f":"+J27*J28","v":0},null,{"$f":"+L27*L28","v":0},{"$f":"+M27*M28","v":0},null,{"$f":"+O27*O28","v":0},{"$f":"+P27*P28","v":0},null,{"$f":"+R27*R28","v":0},{"$f":"+S27*S28","v":0},null,{"$f":"+U27*U28","v":0},{"$f":"+V27*V28","v":0},null,{"$f":"+X27*X28","v":0},{"$f":"+Y27*Y28","v":0},null,{"$f":"+AA27*AA28","v":0},{"$f":"+AB27*AB28","v":0},null,{"$f":"+AD27*AD28","v":0},{"$f":"+AE27*AE28","v":0},null,{"$f":"+AG27*AG28","v":0},{"$f":"+AH27*AH28","v":0},null,{"$f":"+AJ27*AJ28","v":0},{"$f":"+AK27*AK28","v":0},null,{"$f":"+AM27*AM28","v":0},{"$f":"+AN27*AN28","v":0},null,{"$f":"+AP27*AP28","v":0},{"$f":"+AQ27*AQ28","v":0},null,{"$f":"+AS27*AS28","v":0},{"$f":"+AT27*AT28","v":0},null,{"$f":"+AV27*AV28","v":0},{"$f":"+AW27*AW28","v":0},null,{"$f":"+AY27*AY28","v":0},{"$f":"+AZ27*AZ28","v":0},null,{"$f":"+BB27*BB28","v":0},{"$f":"+BC27*BC28","v":0},null,{"$f":"+BE27*BE28","v":0},{"$f":"+BF27*BF28","v":0}]
[null,null,{"$f":"IF($B39>3,1,0)","v":0},{"$f":"IF($B39>3,1,0)","v":0},null,{"$f":"IF($B39>3,1,0)","v":0},{"$f":"IF($B39>3,1,0)","v":0},null,{"$f":"IF($B39>3,1,0)","v":0},{"$f":"IF($B39>3,1,0)","v":0},null,{"$f":"IF($B39>3,1,0)","v":0},{"$f":"IF($B39>3,1,0)","v":0},null,{"$f":"IF($B39>3,1,0)","v":0},{"$f":"IF($B39>3,1,0)","v":0},null,{"$f":"IF($B39>3,1,0)","v":0},{"$f":"IF($B39>3,1,0)","v":0},null,{"$f":"IF($B39>3,1,0)","v":0},{"$f":"IF($B39>3,1,0)","v":0},null,{"$f":"IF($B39>3,1,0)","v":0},{"$f":"IF($B39>3,1,0)","v":0},null,{"$f":"IF($B39>3,1,0)","v":0},{"$f":"IF($B39>3,1,0)","v":0},null,{"$f":"IF($B39>3,1,0)","v":0},{"$f":"IF($B39>3,1,0)","v":0},null,{"$f":"IF($B39>3,1,0)","v":0},{"$f":"IF($B39>3,1,0)","v":0},null,{"$f":"IF($B39>3,1,0)","v":0},{"$f":"IF($B39>3,1,0)","v":0},null,{"$f":"IF($B39>3,1,0)","v":0},{"$f":"IF($B39>3,1,0)","v":0},null,{"$f":"IF($B39>3,1,0)","v":0},{"$f":"IF($B39>3,1,0)","v":0},null,{"$f":"IF($B39>3,1,0)","v":0},{"$f":"IF($B39>3,1,0)","v":0},null,{"$f":"IF($B39>3,1,0)","v":0},{"$f":"IF($B39>3,1,0)","v":0},null,{"$f":"IF($B39>3,1,0)","v":0},{"$f":"IF($B39>3,1,0)","v":0},null,{"$f":"IF($B39>3,1,0)","v":0},{"$f":"IF($B39>3,1,0)","v":0},null,{"$f":"IF($B39>3,1,0)","v":0},{"$f":"IF($B39>3,1,0)","v":0}]
[null,null,{"$f":"MAX(C29:C33)","v":0},{"$f":"+D40","v":0},null,{"$f":"MAX(F29:F33)","v":0},{"$f":"+G40","v":0},null,{"$f":"MAX(I29:I33)","v":0},{"$f":"+J40","v":0},null,{"$f":"MAX(L29:L33)","v":0},{"$f":"+M40","v":0},null,{"$f":"MAX(O29:O33)","v":0},{"$f":"+P40","v":0},null,{"$f":"MAX(R29:R33)","v":0},{"$f":"+S40","v":0},null,{"$f":"MAX(U29:U33)","v":0},{"$f":"+V40","v":0},null,{"$f":"MAX(X29:X33)","v":0},{"$f":"+Y40","v":0},null,{"$f":"MAX(AA29:AA33)","v":0},{"$f":"+AB40","v":0},null,{"$f":"MAX(AD29:AD33)","v":0},{"$f":"+AE40","v":0},null,{"$f":"MAX(AG29:AG33)","v":0},{"$f":"+AH40","v":0},null,{"$f":"MAX(AJ29:AJ33)","v":0},{"$f":"+AK40","v":0},null,{"$f":"MAX(AM29:AM33)","v":0},{"$f":"+AN40","v":0},null,{"$f":"MAX(AP29:AP33)","v":0},{"$f":"+AQ40","v":0},null,{"$f":"MAX(AS29:AS33)","v":0},{"$f":"+AT40","v":0},null,{"$f":"MAX(AV29:AV33)","v":0},{"$f":"+AW40","v":0},null,{"$f":"MAX(AY29:AY33)","v":0},{"$f":"+AZ40","v":0},null,{"$f":"MAX(BB29:BB33)","v":0},{"$f":"+BC40","v":0},null,{"$f":"MAX(BE29:BE33)","v":0},{"$f":"+BF40","v":0}]
[null,null,{"$f":"IF(C$34=5,5,0)","v":0},null,null,{"$f":"IF(F$34=5,5,0)","v":0},null,null,{"$f":"IF(I$34=5,5,0)","v":0},null,null,{"$f":"IF(L$34=5,5,0)","v":0},null,null,{"$f":"IF(O$34=5,5,0)","v":0},null,null,{"$f":"IF(R$34=5,5,0)","v":0},null,null,{"$f":"IF(U$34=5,5,0)","v":0},null,null,{"$f":"IF(X$34=5,5,0)","v":0},null,null,{"$f":"IF(AA$34=5,5,0)","v":0},null,null,{"$f":"IF(AD$34=5,5,0)","v":0},null,null,{"$f":"IF(AG$34=5,5,0)","v":0},null,null,{"$f":"IF(AJ$34=5,5,0)","v":0},null,null,{"$f":"IF(AM$34=5,5,0)","v":0},null,null,{"$f":"IF(AP$34=5,5,0)","v":0},null,null,{"$f":"IF(AS$34=5,5,0)","v":0},null,null,{"$f":"IF(AV$34=5,5,0)","v":0},null,null,{"$f":"IF(AY$34=5,5,0)","v":0},null,null,{"$f":"IF(BB$34=5,5,0)","v":0},null,null,{"$f":"IF(BE$34=5,5,0)","v":0}]
[null,null,{"$f":"IF(C$34=4,10,0)","v":0},null,null,{"$f":"IF(F$34=4,10,0)","v":0},null,null,{"$f":"IF(I$34=4,10,0)","v":0},null,null,{"$f":"IF(L$34=4,10,0)","v":0},null,null,{"$f":"IF(O$34=4,10,0)","v":0},null,null,{"$f":"IF(R$34=4,10,0)","v":0},null,null,{"$f":"IF(U$34=4,10,0)","v":0},null,null,{"$f":"IF(X$34=4,10,0)","v":0},null,null,{"$f":"IF(AA$34=4,10,0)","v":0},null,null,{"$f":"IF(AD$34=4,10,0)","v":0},null,null,{"$f":"IF(AG$34=4,10,0)","v":0},null,null,{"$f":"IF(AJ$34=4,10,0)","v":0},null,null,{"$f":"IF(AM$34=4,10,0)","v":0},null,null,{"$f":"IF(AP$34=4,10,0)","v":0},null,null,{"$f":"IF(AS$34=4,10,0)","v":0},null,null,{"$f":"IF(AV$34=4,10,0)","v":0},null,null,{"$f":"IF(AY$34=4,10,0)","v":0},null,null,{"$f":"IF(BB$34=4,10,0)","v":0},null,null,{"$f":"IF(BE$34=4,10,0)","v":0}]
[null,null,{"$f":"IF(C$34=3,20,0)","v":0},null,null,{"$f":"IF(F$34=3,20,0)","v":0},null,null,{"$f":"IF(I$34=3,20,0)","v":0},null,null,{"$f":"IF(L$34=3,20,0)","v":0},null,null,{"$f":"IF(O$34=3,20,0)","v":0},null,null,{"$f":"IF(R$34=3,20,0)","v":0},null,null,{"$f":"IF(U$34=3,20,0)","v":0},null,null,{"$f":"IF(X$34=3,20,0)","v":0},null,null,{"$f":"IF(AA$34=3,20,0)","v":0},null,null,{"$f":"IF(AD$34=3,20,0)","v":0},null,null,{"$f":"IF(AG$34=3,20,0)","v":0},null,null,{"$f":"IF(AJ$34=3,20,0)","v":0},null,null,{"$f":"IF(AM$34=3,20,0)","v":0},null,null,{"$f":"IF(AP$34=3,20,0)","v":0},null,null,{"$f":"IF(AS$34=3,20,0)","v":0},null,null,{"$f":"IF(AV$34=3,20,0)","v":0},null,null,{"$f":"IF(AY$34=3,20,0)","v":0},null,null,{"$f":"IF(BB$34=3,20,0)","v":0},null,null,{"$f":"IF(BE$34=3,20,0)","v":0}]
[null,null,{"$f":"IF(C$34=2,40,0)","v":0},null,null,{"$f":"IF(F$34=2,40,0)","v":0},null,null,{"$f":"IF(I$34=2,40,0)","v":0},null,null,{"$f":"IF(L$34=2,40,0)","v":0},null,null,{"$f":"IF(O$34=2,40,0)","v":0},null,null,{"$f":"IF(R$34=2,40,0)","v":0},null,null,{"$f":"IF(U$34=2,40,0)","v":0},null,null,{"$f":"IF(X$34=2,40,0)","v":0},null,null,{"$f":"IF(AA$34=2,40,0)","v":0},null,null,{"$f":"IF(AD$34=2,40,0)","v":0},null,null,{"$f":"IF(AG$34=2,40,0)","v":0},null,null,{"$f":"IF(AJ$34=2,40,0)","v":0},null,null,{"$f":"IF(AM$34=2,40,0)","v":0},null,null,{"$f":"IF(AP$34=2,40,0)","v":0},null,null,{"$f":"IF(AS$34=2,40,0)","v":0},null,null,{"$f":"IF(AV$34=2,40,0)","v":0},null,null,{"$f":"IF(AY$34=2,40,0)","v":0},null,null,{"$f":"IF(BB$34=2,40,0)","v":0},null,null,{"$f":"IF(BE$34=2,40,0)","v":0}]
[null,null,{"$f":"IF(C$34=1,80,0)","v":0},null,null,{"$f":"IF(F$34=1,80,0)","v":0},null,null,{"$f":"IF(I$34=1,80,0)","v":0},null,null,{"$f":"IF(L$34=1,80,0)","v":0},null,null,{"$f":"IF(O$34=1,80,0)","v":0},null,null,{"$f":"IF(R$34=1,80,0)","v":0},null,null,{"$f":"IF(U$34=1,80,0)","v":0},null,null,{"$f":"IF(X$34=1,80,0)","v":0},null,null,{"$f":"IF(AA$34=1,80,0)","v":0},null,null,{"$f":"IF(AD$34=1,80,0)","v":0},null,null,{"$f":"IF(AG$34=1,80,0)","v":0},null,null,{"$f":"IF(AJ$34=1,80,0)","v":0},null,null,{"$f":"IF(AM$34=1,80,0)","v":0},null,null,{"$f":"IF(AP$34=1,80,0)","v":0},null,null,{"$f":"IF(AS$34=1,80,0)","v":0},null,null,{"$f":"IF(AV$34=1,80,0)","v":0},null,null,{"$f":"IF(AY$34=1,80,0)","v":0},null,null,{"$f":"IF(BB$34=1,80,0)","v":0},null,null,{"$f":"IF(BE$34=1,80,0)","v":0}]
[null,null,{"$f":"RANK(C35,$C35:$BF35)*C39","v":0},null,null,{"$f":"RANK(F35,$C35:$BF35)*F39","v":0},null,null,{"$f":"RANK(I35,$C35:$BF35)*I39","v":0},null,null,{"$f":"RANK(L35,$C35:$BF35)*L39","v":0},null,null,{"$f":"RANK(O35,$C35:$BF35)*O39","v":0},null,null,{"$f":"RANK(R35,$C35:$BF35)*R39","v":0},null,null,{"$f":"RANK(U35,$C35:$BF35)*U39","v":0},null,null,{"$f":"RANK(X35,$C35:$BF35)*X39","v":0},null,null,{"$f":"RANK(AA35,$C35:$BF35)*AA39","v":0},null,null,{"$f":"RANK(AD35,$C35:$BF35)*AD39","v":0},null,null,{"$f":"RANK(AG35,$C35:$BF35)*AG39","v":0},null,null,{"$f":"RANK(AJ35,$C35:$BF35)*AJ39","v":0},null,null,{"$f":"RANK(AM35,$C35:$BF35)*AM39","v":0},null,null,{"$f":"RANK(AP35,$C35:$BF35)*AP39","v":0},null,null,{"$f":"RANK(AS35,$C35:$BF35)*AS39","v":0},null,null,{"$f":"RANK(AV35,$C35:$BF35)*AV39","v":0},null,null,{"$f":"RANK(AY35,$C35:$BF35)*AY39","v":0},null,null,{"$f":"RANK(BB35,$C35:$BF35)*BB39","v":0},null,null,{"$f":"RANK(BE35,$C35:$BF35)*BE39","v":0}]
[null,null,{"$f":"SUM(C36:C38)","v":-999999900},null,null,{"$f":"SUM(F36:F38)","v":-999999900},null,null,{"$f":"SUM(I36:I38)","v":-999999900},null,null,{"$f":"SUM(L36:L38)","v":-999999900},null,null,{"$f":"SUM(O36:O38)","v":-999999900},null,null,{"$f":"SUM(R36:R38)","v":-999999900},null,null,{"$f":"SUM(U36:U38)","v":-999999900},null,null,{"$f":"SUM(X36:X38)","v":-999999900},null,null,{"$f":"SUM(AA36:AA38)","v":-999999900},null,null,{"$f":"SUM(AD36:AD38)","v":-999999900},null,null,{"$f":"SUM(AG36:AG38)","v":-999999900},null,null,{"$f":"SUM(AJ36:AJ38)","v":-999999900},null,null,{"$f":"SUM(AM36:AM38)","v":-999999900},null,null,{"$f":"SUM(AP36:AP38)","v":-999999900},null,null,{"$f":"SUM(AS36:AS38)","v":-999999998},null,null,{"$f":"SUM(AV36:AV38)","v":-999999900},null,null,{"$f":"SUM(AY36:AY38)","v":-999999900},null,null,{"$f":"SUM(BB36:BB38)","v":-9999998},null,null,{"$f":"SUM(BE36:BE38)","v":-9999998}]
[null,null,{"$f":"+D40","v":0},null,null,{"$f":"+G40","v":0},null,null,{"$f":"+J40","v":0},null,null,{"$f":"+M40","v":0},null,null,{"$f":"+P40","v":0},null,null,{"$f":"+S40","v":0},null,null,{"$f":"+V40","v":0},null,null,{"$f":"+Y40","v":0},null,null,{"$f":"+AB40","v":0},null,null,{"$f":"+AE40","v":0},null,null,{"$f":"+AH40","v":0},null,null,{"$f":"+AK40","v":0},null,null,{"$f":"+AN40","v":0},null,null,{"$f":"+AQ40","v":0},null,null,{"$f":"+AT40","v":0},null,null,{"$f":"+AW40","v":0},null,null,{"$f":"+AZ40","v":0},null,null,{"$f":"+BC40","v":0},null,null,{"$f":"+BF40","v":0}]
[null,null,{"$f":"+C41*100","v":100},null,null,{"$f":"+F41*100","v":100},null,null,{"$f":"+I41*100","v":100},null,null,{"$f":"+L41*100","v":100},null,null,{"$f":"+O41*100","v":100},null,null,{"$f":"+R41*100","v":100},null,null,{"$f":"+U41*100","v":100},null,null,{"$f":"+X41*100","v":100},null,null,{"$f":"+AA41*100","v":100},null,null,{"$f":"+AD41*100","v":100},null,null,{"$f":"+AG41*100","v":100},null,null,{"$f":"+AJ41*100","v":100},null,null,{"$f":"+AM41*100","v":100},null,null,{"$f":"+AP41*100","v":100},null,null,{"$f":"+AS41*2","v":2},null,null,{"$f":"+AV41*100","v":100},null,null,{"$f":"+AY41*100","v":100},null,null,{"$f":"+BB41*2","v":2},null,null,{"$f":"+BE41*2","v":2}]
[null,null,{"$f":"IF(D40-$A3/2<0,-1000000000,C40*C39*100000+C40)","v":-1000000000},null,null,{"$f":"IF(G40-$A3/2<0,-1000000000,F40*F39*100000+F40)","v":-1000000000},null,null,{"$f":"IF(J40-$A3/2<0,-1000000000,I40*I39*100000+I40)","v":-1000000000},null,null,{"$f":"IF(M40-$A3/2<0,-1000000000,L40*L39*100000+L40)","v":-1000000000},null,null,{"$f":"IF(P40-$A3/2<0,-1000000000,O40*O39*100000+O40)","v":-1000000000},null,null,{"$f":"IF(S40-$A3/2<0,-1000000000,R40*R39*100000+R40)","v":-1000000000},null,null,{"$f":"IF(V40-$A3/2<0,-1000000000,U40*U39*100000+U40)","v":-1000000000},null,null,{"$f":"IF(Y40-$A3/2<0,-1000000000,X40*X39*100000+X40)","v":-1000000000},null,null,{"$f":"IF(AB40-$A3/2<0,-1000000000,AA40*AA39*100000+AA40)","v":-1000000000},null,null,{"$f":"IF(AE40-$A3/2<0,-1000000000,AD40*AD39*100000+AD40)","v":-1000000000},null,null,{"$f":"IF(AH40-$A3/2<0,-1000000000,AG40*AG39*100000+AG40)","v":-1000000000},null,null,{"$f":"IF(AK40-$A3/2<0,-1000000000,AJ40*AJ39*100000+AJ40)","v":-1000000000},null,null,{"$f":"IF(AN40-$A3/2<0,-1000000000,AM40*AM39*100000+AM40)","v":-1000000000},null,null,{"$f":"IF(AQ40-$A3/2<0,-1000000000,AP40*AP39*100000+AP40)","v":-1000000000},null,null,{"$f":"IF(AT40-$A3/2<0,-1000000000,AS40*AS39*100000+AS40)","v":-1000000000},null,null,{"$f":"IF(AW40-$A3/2<0,-1000000000,AV40*AV39*100000+AV40)","v":-1000000000},null,null,{"$f":"IF(AZ40-$A3/2<0,-1000000000,AY40*AY39*100000+AY40)","v":-1000000000},null,null,{"$f":"IF(BC40-$A3/2<0,-10000000,BB40*BB39*100000+BB40)","v":-10000000},null,null,{"$f":"IF(BF40-$A3/2<0,-10000000,BE40*BE39*100000+BE40)","v":-10000000}]
["Classificats",{"$f":"SUM(C39:BE39)","v":0},{"$f":"IF(D40>=$A3/2,1,0)","v":0},null,null,{"$f":"IF(G40>=$A3/2,1,0)","v":0},null,null,{"$f":"IF(J40>=$A3/2,1,0)","v":0},null,null,{"$f":"IF(M40>=$A3/2,1,0)","v":0},null,null,{"$f":"IF(P40>=$A3/2,1,0)","v":0},null,null,{"$f":"IF(S40>=$A3/2,1,0)","v":0},null,null,{"$f":"IF(V40>=$A3/2,1,0)","v":0},null,null,{"$f":"IF(Y40>=$A3/2,1,0)","v":0},null,null,{"$f":"IF(AB40>=$A3/2,1,0)","v":0},null,null,{"$f":"IF(AE40>=$A3/2,1,0)","v":0},null,null,{"$f":"IF(AH40>=$A3/2,1,0)","v":0},null,null,{"$f":"IF(AK40>=$A3/2,1,0)","v":0},null,null,{"$f":"IF(AN40>=$A3/2,1,0)","v":0},null,null,{"$f":"IF(AQ40>=$A3/2,1,0)","v":0},null,null,{"$f":"IF(AT40>=$A3/2,1,0)","v":0},null,null,{"$f":"IF(AW40>=$A3/2,1,0)","v":0},null,null,{"$f":"IF(AZ40>=$A3/2,1,0)","v":0},null,null,{"$f":"IF(BC40>=$A3/2,1,0)","v":0},null,null,{"$f":"IF(BF40>=$A3/2,1,0)","v":0}]
[null,null,{"$f":"IF(SUM(C45:C68)<-1000,-100000000,SUM(C45:C68))","v":-100000000},{"$f":"COUNT(D45:D68)","v":0},null,{"$f":"IF(SUM(F45:F68)<-1000,-100000000,SUM(F45:F68))","v":-100000000},{"$f":"COUNT(G45:G68)","v":0},null,{"$f":"IF(SUM(I45:I68)<-1000,-100000000,SUM(I45:I68))","v":-100000000},{"$f":"COUNT(J45:J68)","v":0},null,{"$f":"IF(SUM(L45:L68)<-1000,-100000000,SUM(L45:L68))","v":-100000000},{"$f":"COUNT(M45:M68)","v":0},null,{"$f":"IF(SUM(O45:O68)<-1000,-100000000,SUM(O45:O68))","v":-100000000},{"$f":"COUNT(P45:P68)","v":0},null,{"$f":"IF(SUM(R45:R68)<-1000,-100000000,SUM(R45:R68))","v":-100000000},{"$f":"COUNT(S45:S68)","v":0},null,{"$f":"IF(SUM(U45:U68)<-1000,-100000000,SUM(U45:U68))","v":-100000000},{"$f":"COUNT(V45:V68)","v":0},null,{"$f":"IF(SUM(X45:X68)<-1000,-100000000,SUM(X45:X68))","v":-100000000},{"$f":"COUNT(Y45:Y68)","v":0},null,{"$f":"IF(SUM(AA45:AA68)<-1000,-100000000,SUM(AA45:AA68))","v":-100000000},{"$f":"COUNT(AB45:AB68)","v":0},null,{"$f":"IF(SUM(AD45:AD68)<-1000,-100000000,SUM(AD45:AD68))","v":-100000000},{"$f":"COUNT(AE45:AE68)","v":0},null,{"$f":"IF(SUM(AG45:AG68)<-1000,-100000000,SUM(AG45:AG68))","v":-100000000},{"$f":"COUNT(AH45:AH68)","v":0},null,{"$f":"IF(SUM(AJ45:AJ68)<-1000,-100000000,SUM(AJ45:AJ68))","v":-100000000},{"$f":"COUNT(AK45:AK68)","v":0},null,{"$f":"IF(SUM(AM45:AM68)<-1000,-100000000,SUM(AM45:AM68))","v":-100000000},{"$f":"COUNT(AN45:AN68)","v":0},null,{"$f":"IF(SUM(AP45:AP68)<-1000,-100000000,SUM(AP45:AP68))","v":-100000000},{"$f":"COUNT(AQ45:AQ68)","v":0},null,{"$f":"IF(SUM(AS45:AS68)<-1000,-100000000,SUM(AS45:AS68))","v":-100000000},{"$f":"COUNT(AT45:AT68)","v":0},null,{"$f":"IF(SUM(AV45:AV68)<-1000,-100000000,SUM(AV45:AV68))","v":-100000000},{"$f":"COUNT(AW45:AW68)","v":0},null,{"$f":"IF(SUM(AY45:AY68)<-1000,-100000000,SUM(AY45:AY68))","v":-100000000},{"$f":"COUNT(AZ45:AZ68)","v":0},null,{"$f":"IF(SUM(BB45:BB68)<-1000,-100000000,SUM(BB45:BB68))","v":-100000000},{"$f":"COUNT(BC45:BC68)","v":0},null,{"$f":"IF(SUM(BE45:BE68)<-1000,-100000000,SUM(BE45:BE68))","v":-100000000},{"$f":"COUNT(BF45:BF68)","v":0},null,null,"A"]
[null,null,{"$f":"+D41-E41","v":1},{"$f":"SUM(D45:D68)","v":0},{"$f":"SUM(E45:E68)","v":-1},{"$f":"+G41-H41","v":1},{"$f":"SUM(G45:G68)","v":0},{"$f":"SUM(H45:H68)","v":-1},{"$f":"+J41-K41","v":1},{"$f":"SUM(J45:J68)","v":0},{"$f":"SUM(K45:K68)","v":-1},{"$f":"+M41-N41","v":1},{"$f":"SUM(M45:M68)","v":0},{"$f":"SUM(N45:N68)","v":-1},{"$f":"+P41-Q41","v":1},{"$f":"SUM(P45:P68)","v":0},{"$f":"SUM(Q45:Q68)","v":-1},{"$f":"+S41-T41","v":1},{"$f":"SUM(S45:S68)","v":0},{"$f":"SUM(T45:T68)","v":-1},{"$f":"+V41-W41","v":1},{"$f":"SUM(V45:V68)","v":0},{"$f":"SUM(W45:W68)","v":-1},{"$f":"+Y41-Z41","v":1},{"$f":"SUM(Y45:Y68)","v":0},{"$f":"SUM(Z45:Z68)","v":-1},{"$f":"+AB41-AC41","v":1},{"$f":"SUM(AB45:AB68)","v":0},{"$f":"SUM(AC45:AC68)","v":-1},{"$f":"+AE41-AF41","v":1},{"$f":"SUM(AE45:AE68)","v":0},{"$f":"SUM(AF45:AF68)","v":-1},{"$f":"+AH41-AI41","v":1},{"$f":"SUM(AH45:AH68)","v":0},{"$f":"SUM(AI45:AI68)","v":-1},{"$f":"+AK41-AL41","v":1},{"$f":"SUM(AK45:AK68)","v":0},{"$f":"SUM(AL45:AL68)","v":-1},{"$f":"+AN41-AO41","v":1},{"$f":"SUM(AN45:AN68)","v":0},{"$f":"SUM(AO45:AO68)","v":-1},{"$f":"+AQ41-AR41","v":1},{"$f":"SUM(AQ45:AQ68)","v":0},{"$f":"SUM(AR45:AR68)","v":-1},{"$f":"+AT41-AU41","v":1},{"$f":"SUM(AT45:AT68)","v":0},{"$f":"SUM(AU45:AU68)","v":-1},{"$f":"+AW41-AX41","v":1},{"$f":"SUM(AW45:AW68)","v":0},{"$f":"SUM(AX45:AX68)","v":-1},{"$f":"+AZ41-BA41","v":1},{"$f":"SUM(AZ45:AZ68)","v":0},{"$f":"SUM(BA45:BA68)","v":-1},{"$f":"+BC41-BD41","v":1},{"$f":"SUM(BC45:BC68)","v":0},{"$f":"SUM(BD45:BD68)","v":-1},{"$f":"+BF41-BG41","v":1},{"$f":"SUM(BF45:BF68)","v":0},{"$f":"SUM(BG45:BG68)","v":-1},null,"B"]
[null,null,null,null,null,null,null,null,null,null,null,null,null,null,null,null,null,null,null,null,null,null,null,null,null,null,null,null,null,null,null,null,null,null,null,null,null,null,null,null,null,null,null,null,null,null,null,null,null,null,null,null,null,null,null,null,null,null,null,{"$f":"MAX(BI45:BI104)","v":0}]
[null,"Nº partida ","Allan",null,null,"Juan",null,null,"Jordi",null,null,"MªJosé",null,null,"Pol",null,null,"Sergi",null,null,"Carles",null,null,"Mariajo",null,null,"Iglesias",null,null,"Martín",null,null,"Xavi",null,null,"Salvadó",null,null,"Alfonso",null,null,"Taberner",null,null,"Agata",null,null,"Goretti",null,null,"Mercè",null,null,null,null,null,"Caty",null,null,{"$f":"COUNT(BH45:BH83)","v":0},"A","B","C"]
[null,"5 copes","Premi","Punts",null,"Premi","Punts",null,"Premi","Punts",null,"Premi","Punts",null,"Premi","Punts",null,"Premi","Punts",null,"Premi","Punts",null,"Premi","Punts",null,"Premi","Punts",null,"Premi","Punts",null,"Premi","Punts",null,"Premi","Punts",null,"Premi","Punts",null,"Premi","Punts",null,"Premi","Punts",null,"Premi","Punts",null,"Premi","Punts",null,"Premi","Punts",null,"Premi","Punts",null,"Data","Timba"]
[1,null,-10000,null,-1,-10000,null,-1,-10000,null,-1,-10000,null,-1,-10000,null,-1,-10000,null,-1,-10000,null,-1,-10000,null,-1,-10000,null,-1,-10000,null,-1,-10000,null,-1,-10000,null,-1,-10000,null,-1,-10000,null,-1,-10000,null,-1,-10000,null,-1,-10000,null,-1,-10000,null,-1,-10000,null,-1,null,null,{"$f":"+BE45+AJ45+AG45+AD45+AA45+X45+U45+R45+O45+L45+I45+F45+C45+AM45+AP45+AS45+AV45+AY45+BB45","v":-190000},0,-19,{"$f":"+BK45-BL45","v":19},{"$f":"COUNT(C45:BG45)/3","v":12.666666666666666},{"$f":"+BJ45/BN45","v":-15000}]
[{"$f":"+A45+1","v":2},null,null,null,null,null,null,null,null,null,null,null,null,null,null,null,null,null,null,null,null,null,null,null,null,null,null,null,null,null,null,null,null,null,null,null,null,null,null,null,null,null,null,null,null,null,null,null,null,null,null,null,null,null,null,null,null,null,null,null,null,0,0,0,0,0,{"$error":"#DIV/0!"}]
[{"$f":"+A46+1","v":3},null,null,null,null,null,null,null,null,null,null,null,null,null,null,null,null,null,null,null,null,null,null,null,null,null,null,null,null,null,null,null,null,null,null,null,null,null,null,null,null,null,null,null,null,null,null,null,null,null,null,null,null,null,null,null,null,null,null,null,null,0,0,0,0,0,{"$error":"#DIV/0!"}]
[4,null,null,null,null,null,null,null,null,null,null,null,null,null,null,null,null,null,null,null,null,null,null,null,null,null,null,null,null,null,null,null,null,null,null,null,null,null,null,null,null,null,null,null,null,null,null,null,null,null,null,null,null,null,null,null,null,null,null,null,null,0,0,0,0,0,{"$error":"#DIV/0!"}]
[5,null,null,null,null,null,null,null,null,null,null,null,null,null,null,null,null,null,null,null,null,null,null,null,null,null,null,null,null,null,null,null,null,null,null,null,null,null,null,null,null,null,null,null,null,null,null,null,null,null,null,null,null,null,null,null,null,null,null,null,null,0,0,0,0,0,{"$error":"#DIV/0!"}]
[6,null,null,null,null,null,null,null,null,null,null,null,null,null,null,null,null,null,null,null,null,null,null,null,null,null,null,null,null,null,null,null,null,null,null,null,null,null,null,null,null,null,null,null,null,null,null,null,null,null,null,null,null,null,null,null,null,null,null,null,null,0,0,0,0,0,{"$error":"#DIV/0!"}]
[7,null,null,null,null,null,null,null,null,null,null,null,null,null,null,null,null,null,null,null,null,null,null,null,null,null,null,null,null,null,null,null,null,null,null,null,null,null,null,null,null,null,null,null,null,null,null,null,null,null,null,null,null,null,null,null,null,null,null,null,null,0,0,0,0,0,{"$error":"#DIV/0!"}]
[8,null,null,null,null,null,null,null,null,null,null,null,null,null,null,null,null,null,null,null,null,null,null,null,null,null,null,null,null,null,null,null,null,null,null,null,null,null,null,null,null,null,null,null,null,null,null,null,null,null,null,null,null,null,null,null,null,null,null,null,null,0,0,0,0,0,{"$error":"#DIV/0!"}]
[9,null,null,null,null,null,null,null,null,null,null,null,null,null,null,null,null,null,null,null,null,null,null,null,null,null,null,null,null,null,null,null,null,null,null,null,null,null,null,null,null,null,null,null,null,null,null,null,null,null,null,null,null,null,null,null,null,null,null,null,null,{"$f":"+BE53+AJ53+AG53+AD53+AA53+X53+U53+R53+O53+L53+I53+F53+C53+AM53+AP53+AS53+AV53+AY53+BB53","v":0},{"$f":"+BF53+AK53+AH53+AE53+AB53+Y53+V53+S53+P53+M53+J53+G53+D53+AN53+AQ53+AT53+AW53+AZ53+BC53","v":0},{"$f":"+BG53+AL53+AI53+AF53+AC53+Z53+W53+T53+Q53+N53+K53+H53+E53+AO53+AR53+AU53+AX53+BA53+BD53","v":0},{"$f":"+BK53-BL53","v":0},{"$f":"COUNT(C53:BG53)/3","v":0},{"$f":"+BJ53/BN53","v":{"$error":"#DIV/0!"}}]
[10,null,null,null,null,null,null,null,null,null,null,null,null,null,null,null,null,null,null,null,null,null,null,null,null,null,null,null,null,null,null,null,null,null,null,null,null,null,null,null,null,null,null,null,null,null,null,null,null,null,null,null,null,null,null,null,null,null,null,null,null,0,0,0,0,0,{"$error":"#DIV/0!"}]
[11,null,null,null,null,null,null,null,null,null,null,null,null,null,null,null,null,null,null,null,null,null,null,null,null,null,null,null,null,null,null,null,null,null,null,null,null,null,null,null,null,null,null,null,null,null,null,null,null,null,null,null,null,null,null,null,null,null,null,null,null,0,0,0,0,0,{"$error":"#DIV/0!"}]
[12,null,null,null,null,null,null,null,null,null,null,null,null,null,null,null,null,null,null,null,null,null,null,null,null,null,null,null,null,null,null,null,null,null,null,null,null,null,null,null,null,null,null,null,null,null,null,null,null,null,null,null,null,null,null,null,null,null,null,null,null,0,0,0,0,0,{"$error":"#DIV/0!"}]
[13,null,null,null,null,null,null,null,null,null,null,null,null,null,null,null,null,null,null,null,null,null,null,null,null,null,null,null,null,null,null,null,null,null,null,null,null,null,null,null,null,null,null,null,null,null,null,null,null,null,null,null,null,null,null,null,null,null,null,null,null,0,0,0,0,0,{"$error":"#DIV/0!"}]
[14,null,null,null,null,null,null,null,null,null,null,null,null,null,null,null,null,null,null,null,null,null,null,null,null,null,null,null,null,null,null,null,null,null,null,null,null,null,null,null,null,null,null,null,null,null,null,null,null,null,null,null,null,null,null,null,null,null,null,null,null,0,0,0,0,0,{"$error":"#DIV/0!"}]
[15,null,null,null,null,null,null,null,null,null,null,null,null,null,null,null,null,null,null,null,null,null,null,null,null,null,null,null,null,null,null,null,null,null,null,null,null,null,null,null,null,null,null,null,null,null,null,null,null,null,null,null,null,null,null,null,null,null,null,null,null,0,0,0,0,0,{"$error":"#DIV/0!"}]
[16,null,null,null,null,null,null,null,null,null,null,null,null,null,null,null,null,null,null,null,null,null,null,null,null,null,null,null,null,null,null,null,null,null,null,null,null,null,null,null,null,null,null,null,null,null,null,null,null,null,null,null,null,null,null,null,null,null,null,null,null,0,0,0,0,0,{"$error":"#DIV/0!"}]
[17,null,null,null,null,null,null,null,null,null,null,null,null,null,null,null,null,null,null,null,null,null,null,null,null,null,null,null,null,null,null,null,null,null,null,null,null,null,null,null,null,null,null,null,null,null,null,null,null,null,null,null,null,null,null,null,null,null,null,null,null,0,0,0,0,0,{"$error":"#DIV/0!"}]
[18]
[19]
[20]
[21]
[22]
[23]
[24]

{"sheet":"Manilla","index":32,"n_rows":240,"n_cols":67,"rows_kept":240,"cut":false,"hidden":false,"merged":[[42,50,42,52],[42,53,42,55],[42,56,42,58],[42,38,42,40],[42,41,42,43],[42,44,42,46],[42,47,42,49],[42,32,42,34],[42,35,42,37],[42,14,42,16],[42,17,42,19],[42,20,42,22],[42,23,42,25],[42,29,42,31],[42,2,42,4],[42,5,42,7],[42,8,42,10],[42,11,42,13],[42,26,42,28]]}
["MANILLA"]
["Mes"]
[{"$f":"+GENERAL!B6","v":12},null,{"$f":"SUM(C5:C10)","v":-600000000}]
[null,null,"Premi","Punts","Partides","General"]
[1,"Mercè",{"$f":"+AY$40","v":-100000000},{"$f":"+AY$41","v":1},{"$f":"+AZ$40","v":0},{"$f":"+AY$26","v":0},{"$f":"IF(E5<A$3/2,-1,1)*800+C5+D5/1000","v":-100000799.999}]
[2,"Iglesias",{"$f":"+AA$40","v":-100000000},{"$f":"+AA$41","v":1},{"$f":"+AB$40","v":0},{"$f":"+AA$26","v":0},-100000799.999]
[3,"Xavi",{"$f":"+AG$40","v":-100000000},{"$f":"+AG$41","v":1},{"$f":"+AH$40","v":0},{"$f":"+AG$26","v":0},-100000799.999]
[4,"Jordi",{"$f":"+I$40","v":-100000000},{"$f":"+I$41","v":1},{"$f":"+J$40","v":0},{"$f":"+I$26","v":0},-100000799.999]
[5,"Carles",{"$f":"+U$40","v":-100000000},{"$f":"+U$41","v":1},{"$f":"+V$40","v":0},{"$f":"+U$26","v":0},-100000799.999]
[6,"Sergi",{"$f":"+R$40","v":-100000000},{"$f":"+R$41","v":1},{"$f":"+S$40","v":0},{"$f":"+R$26","v":0},-100000799.999]
[7,"Mariajo",{"$f":"+X$40","v":-100000000},{"$f":"+X$41","v":1},{"$f":"+Y$40","v":0},{"$f":"+X$26","v":0},-100000799.999,null,null,null,null,null,null,null,null,null,null,null,null,null,null,null,null,null,null," "]
[8,"MªJosé",{"$f":"+L$40","v":-100000000},{"$f":"+L$41","v":1},{"$f":"+M$40","v":0},{"$f":"+L$26","v":0},-100000799.999]
[9,"Jimmy",{"$f":"+AV$40","v":-100000000},{"$f":"+AV$41","v":1},{"$f":"+AW$40","v":0},{"$f":"+AV$26","v":0},-100000799.999]
[10,"Sylvain",{"$f":"+AD$40","v":-100000000},{"$f":"+AD$41","v":1},{"$f":"+AE$40","v":0},{"$f":"+AD$26","v":0},-100000799.999]
[11,"Ester",{"$f":"+BE$40","v":-100000000},{"$f":"+BE$41","v":1},{"$f":"+BF$40","v":0},{"$f":"+BE$26","v":0},-100000799.999]
[12,"Pol",{"$f":"+O$40","v":-100000000},{"$f":"+O$41","v":1},{"$f":"+P$40","v":0},{"$f":"+O$26","v":0},-100000799.999]
[13,"Goretti",{"$f":"+AS$40","v":-100000000},{"$f":"+AS$41","v":1},{"$f":"+AT$40","v":0},{"$f":"+AS$26","v":0},-100000799.999]
[14,"Taberner",{"$f":"+AP$40","v":-100000000},{"$f":"+AP$41","v":1},{"$f":"+AQ$40","v":0},{"$f":"+AP$26","v":0},-100000799.999]
[15,"Jorge",{"$f":"+BB$40","v":-100000000},{"$f":"+BB$41","v":1},{"$f":"+BC$40","v":0},{"$f":"+BB$26","v":0},-100000799.999]
[16,"Alfonso",{"$f":"+AM$40","v":-100000000},{"$f":"+AM$41","v":1},{"$f":"+AN$40","v":0},{"$f":"+AM$26","v":0},-100000799.999]
[17,"Pablo",{"$f":"+C$40","v":-100000000},{"$f":"+C$41","v":1},{"$f":"+D$40","v":0},{"$f":"+C$26","v":0},-100000799.999]
[18,"Pepe",{"$f":"+F$40","v":-100000000},{"$f":"+F$41","v":1},{"$f":"+G$40","v":0},{"$f":"+F$26","v":0},-100000799.999]
[19,"Salvadó",{"$f":"+AJ$40","v":-100000000},{"$f":"+AJ$41","v":1},{"$f":"+AK$40","v":0},{"$f":"+AJ$26","v":0},-100000799.999]
[]
[]
[null,"General",{"$f":"+C27*C28","v":0},{"$f":"+D27*D28","v":0},null,{"$f":"+F27*F28","v":0},{"$f":"+G27*G28","v":0},null,{"$f":"+I27*I28","v":0},{"$f":"+J27*J28","v":0},null,{"$f":"+L27*L28","v":0},{"$f":"+M27*M28","v":0},null,{"$f":"+O27*O28","v":0},{"$f":"+P27*P28","v":0},null,{"$f":"+R27*R28","v":0},{"$f":"+S27*S28","v":0},null,{"$f":"+U27*U28","v":0},{"$f":"+V27*V28","v":0},null,{"$f":"+X27*X28","v":0},{"$f":"+Y27*Y28","v":0},null,{"$f":"+AA27*AA28","v":0},{"$f":"+AB27*AB28","v":0},null,{"$f":"+AD27*AD28","v":0},{"$f":"+AE27*AE28","v":0},null,{"$f":"+AG27*AG28","v":0},{"$f":"+AH27*AH28","v":0},null,{"$f":"+AJ27*AJ28","v":0},{"$f":"+AK27*AK28","v":0},null,{"$f":"+AM27*AM28","v":0},{"$f":"+AN27*AN28","v":0},null,{"$f":"+AP27*AP28","v":0},{"$f":"+AQ27*AQ28","v":0},null,{"$f":"+AS27*AS28","v":0},{"$f":"+AT27*AT28","v":0},null,{"$f":"+AV27*AV28","v":0},{"$f":"+AW27*AW28","v":0},null,{"$f":"+AY27*AY28","v":0},{"$f":"+AZ27*AZ28","v":0},null,{"$f":"+BB27*BB28","v":0},{"$f":"+BC27*BC28","v":0},null,{"$f":"+BE27*BE28","v":0},{"$f":"+BF27*BF28","v":0}]
[null,null,{"$f":"IF($B39>3,1,0)","v":0},{"$f":"IF($B39>3,1,0)","v":0},null,{"$f":"IF($B39>3,1,0)","v":0},{"$f":"IF($B39>3,1,0)","v":0},null,{"$f":"IF($B39>3,1,0)","v":0},{"$f":"IF($B39>3,1,0)","v":0},null,{"$f":"IF($B39>3,1,0)","v":0},{"$f":"IF($B39>3,1,0)","v":0},null,{"$f":"IF($B39>3,1,0)","v":0},{"$f":"IF($B39>3,1,0)","v":0},null,{"$f":"IF($B39>3,1,0)","v":0},{"$f":"IF($B39>3,1,0)","v":0},null,{"$f":"IF($B39>3,1,0)","v":0},{"$f":"IF($B39>3,1,0)","v":0},null,{"$f":"IF($B39>3,1,0)","v":0},{"$f":"IF($B39>3,1,0)","v":0},null,{"$f":"IF($B39>3,1,0)","v":0},{"$f":"IF($B39>3,1,0)","v":0},null,{"$f":"IF($B39>3,1,0)","v":0},{"$f":"IF($B39>3,1,0)","v":0},null,{"$f":"IF($B39>3,1,0)","v":0},{"$f":"IF($B39>3,1,0)","v":0},null,{"$f":"IF($B39>3,1,0)","v":0},{"$f":"IF($B39>3,1,0)","v":0},null,{"$f":"IF($B39>3,1,0)","v":0},{"$f":"IF($B39>3,1,0)","v":0},null,{"$f":"IF($B39>3,1,0)","v":0},{"$f":"IF($B39>3,1,0)","v":0},null,{"$f":"IF($B39>3,1,0)","v":0},{"$f":"IF($B39>3,1,0)","v":0},null,{"$f":"IF($B39>3,1,0)","v":0},{"$f":"IF($B39>3,1,0)","v":0},null,{"$f":"IF($B39>3,1,0)","v":0},{"$f":"IF($B39>3,1,0)","v":0},null,{"$f":"IF($B39>3,1,0)","v":0},{"$f":"IF($B39>3,1,0)","v":0},null,{"$f":"IF($B39>3,1,0)","v":0},{"$f":"IF($B39>3,1,0)","v":0}]
[null,null,{"$f":"MAX(C29:C33)","v":0},{"$f":"+D40","v":0},null,{"$f":"MAX(F29:F33)","v":0},{"$f":"+G40","v":0},null,{"$f":"MAX(I29:I33)","v":0},{"$f":"+J40","v":0},null,{"$f":"MAX(L29:L33)","v":0},{"$f":"+M40","v":0},null,{"$f":"MAX(O29:O33)","v":0},{"$f":"+P40","v":0},null,{"$f":"MAX(R29:R33)","v":0},{"$f":"+S40","v":0},null,{"$f":"MAX(U29:U33)","v":0},{"$f":"+V40","v":0},null,{"$f":"MAX(X29:X33)","v":0},{"$f":"+Y40","v":0},null,{"$f":"MAX(AA29:AA33)","v":0},{"$f":"+AB40","v":0},null,{"$f":"MAX(AD29:AD33)","v":0},{"$f":"+AE40","v":0},null,{"$f":"MAX(AG29:AG33)","v":0},{"$f":"+AH40","v":0},null,{"$f":"MAX(AJ29:AJ33)","v":0},{"$f":"+AK40","v":0},null,{"$f":"MAX(AM29:AM33)","v":0},{"$f":"+AN40","v":0},null,{"$f":"MAX(AP29:AP33)","v":0},{"$f":"+AQ40","v":0},null,{"$f":"MAX(AS29:AS33)","v":0},{"$f":"+AT40","v":0},null,{"$f":"MAX(AV29:AV33)","v":0},{"$f":"+AW40","v":0},null,{"$f":"MAX(AY29:AY33)","v":0},{"$f":"+AZ40","v":0},null,{"$f":"MAX(BB29:BB33)","v":0},{"$f":"+BC40","v":0},null,{"$f":"MAX(BE29:BE33)","v":0},{"$f":"+BF40","v":0}]
[null,null,{"$f":"IF(C$34=5,5,0)","v":0},null,null,{"$f":"IF(F$34=5,5,0)","v":0},null,null,{"$f":"IF(I$34=5,5,0)","v":0},null,null,{"$f":"IF(L$34=5,5,0)","v":0},null,null,{"$f":"IF(O$34=5,5,0)","v":0},null,null,{"$f":"IF(R$34=5,5,0)","v":0},null,null,{"$f":"IF(U$34=5,5,0)","v":0},null,null,{"$f":"IF(X$34=5,5,0)","v":0},null,null,{"$f":"IF(AA$34=5,5,0)","v":0},null,null,{"$f":"IF(AD$34=5,5,0)","v":0},null,null,{"$f":"IF(AG$34=5,5,0)","v":0},null,null,{"$f":"IF(AJ$34=5,5,0)","v":0},null,null,{"$f":"IF(AM$34=5,5,0)","v":0},null,null,{"$f":"IF(AP$34=5,5,0)","v":0},null,null,{"$f":"IF(AS$34=5,5,0)","v":0},null,null,{"$f":"IF(AV$34=5,5,0)","v":0},null,null,{"$f":"IF(AY$34=5,5,0)","v":0},null,null,{"$f":"IF(BB$34=5,5,0)","v":0},null,null,{"$f":"IF(BE$34=5,5,0)","v":0}]
[null,null,{"$f":"IF(C$34=4,10,0)","v":0},null,null,{"$f":"IF(F$34=4,10,0)","v":0},null,null,{"$f":"IF(I$34=4,10,0)","v":0},null,null,{"$f":"IF(L$34=4,10,0)","v":0},null,null,{"$f":"IF(O$34=4,10,0)","v":0},null,null,{"$f":"IF(R$34=4,10,0)","v":0},null,null,{"$f":"IF(U$34=4,10,0)","v":0},null,null,{"$f":"IF(X$34=4,10,0)","v":0},null,null,{"$f":"IF(AA$34=4,10,0)","v":0},null,null,{"$f":"IF(AD$34=4,10,0)","v":0},null,null,{"$f":"IF(AG$34=4,10,0)","v":0},null,null,{"$f":"IF(AJ$34=4,10,0)","v":0},null,null,{"$f":"IF(AM$34=4,10,0)","v":0},null,null,{"$f":"IF(AP$34=4,10,0)","v":0},null,null,{"$f":"IF(AS$34=4,10,0)","v":0},null,null,{"$f":"IF(AV$34=4,10,0)","v":0},null,null,{"$f":"IF(AY$34=4,10,0)","v":0},null,null,{"$f":"IF(BB$34=4,10,0)","v":0},null,null,{"$f":"IF(BE$34=4,10,0)","v":0}]
[null,null,{"$f":"IF(C$34=3,20,0)","v":0},null,null,{"$f":"IF(F$34=3,20,0)","v":0},null,null,{"$f":"IF(I$34=3,20,0)","v":0},null,null,{"$f":"IF(L$34=3,20,0)","v":0},null,null,{"$f":"IF(O$34=3,20,0)","v":0},null,null,{"$f":"IF(R$34=3,20,0)","v":0},null,null,{"$f":"IF(U$34=3,20,0)","v":0},null,null,{"$f":"IF(X$34=3,20,0)","v":0},null,null,{"$f":"IF(AA$34=3,20,0)","v":0},null,null,{"$f":"IF(AD$34=3,20,0)","v":0},null,null,{"$f":"IF(AG$34=3,20,0)","v":0},null,null,{"$f":"IF(AJ$34=3,20,0)","v":0},null,null,{"$f":"IF(AM$34=3,20,0)","v":0},null,null,{"$f":"IF(AP$34=3,20,0)","v":0},null,null,{"$f":"IF(AS$34=3,20,0)","v":0},null,null,{"$f":"IF(AV$34=3,20,0)","v":0},null,null,{"$f":"IF(AY$34=3,20,0)","v":0},null,null,{"$f":"IF(BB$34=3,20,0)","v":0},null,null,{"$f":"IF(BE$34=3,20,0)","v":0}]
[null,null,{"$f":"IF(C$34=2,40,0)","v":0},null,null,{"$f":"IF(F$34=2,40,0)","v":0},null,null,{"$f":"IF(I$34=2,40,0)","v":0},null,null,{"$f":"IF(L$34=2,40,0)","v":0},null,null,{"$f":"IF(O$34=2,40,0)","v":0},null,null,{"$f":"IF(R$34=2,40,0)","v":0},null,null,{"$f":"IF(U$34=2,40,0)","v":0},null,null,{"$f":"IF(X$34=2,40,0)","v":0},null,null,{"$f":"IF(AA$34=2,40,0)","v":0},null,null,{"$f":"IF(AD$34=2,40,0)","v":0},null,null,{"$f":"IF(AG$34=2,40,0)","v":0},null,null,{"$f":"IF(AJ$34=2,40,0)","v":0},null,null,{"$f":"IF(AM$34=2,40,0)","v":0},null,null,{"$f":"IF(AP$34=2,40,0)","v":0},null,null,{"$f":"IF(AS$34=2,40,0)","v":0},null,null,{"$f":"IF(AV$34=2,40,0)","v":0},null,null,{"$f":"IF(AY$34=2,40,0)","v":0},null,null,{"$f":"IF(BB$34=2,40,0)","v":0},null,null,{"$f":"IF(BE$34=2,40,0)","v":0}]
[null,null,{"$f":"IF(C$34=1,80,0)","v":0},null,null,{"$f":"IF(F$34=1,80,0)","v":0},null,null,{"$f":"IF(I$34=1,80,0)","v":0},null,null,{"$f":"IF(L$34=1,80,0)","v":0},null,null,{"$f":"IF(O$34=1,80,0)","v":0},null,null,{"$f":"IF(R$34=1,80,0)","v":0},null,null,{"$f":"IF(U$34=1,80,0)","v":0},null,null,{"$f":"IF(X$34=1,80,0)","v":0},null,null,{"$f":"IF(AA$34=1,80,0)","v":0},null,null,{"$f":"IF(AD$34=1,80,0)","v":0},null,null,{"$f":"IF(AG$34=1,80,0)","v":0},null,null,{"$f":"IF(AJ$34=1,80,0)","v":0},null,null,{"$f":"IF(AM$34=1,80,0)","v":0},null,null,{"$f":"IF(AP$34=1,80,0)","v":0},null,null,{"$f":"IF(AS$34=1,80,0)","v":0},null,null,{"$f":"IF(AV$34=1,80,0)","v":0},null,null,{"$f":"IF(AY$34=1,80,0)","v":0},null,null,{"$f":"IF(BB$34=1,80,0)","v":0},null,null,{"$f":"IF(BE$34=1,80,0)","v":0}]
[null,null,{"$f":"RANK(C35,$C35:$BF35)*C39","v":0},null,null,{"$f":"RANK(F35,$C35:$BF35)*F39","v":0},null,null,{"$f":"RANK(I35,$C35:$BF35)*I39","v":0},null,null,{"$f":"RANK(L35,$C35:$BF35)*L39","v":0},null,null,{"$f":"RANK(O35,$C35:$BF35)*O39","v":0},null,null,{"$f":"RANK(R35,$C35:$BF35)*R39","v":0},null,null,{"$f":"RANK(U35,$C35:$BF35)*U39","v":0},null,null,{"$f":"RANK(X35,$C35:$BF35)*X39","v":0},null,null,{"$f":"RANK(AA35,$C35:$BF35)*AA39","v":0},null,null,{"$f":"RANK(AD35,$C35:$BF35)*AD39","v":0},null,null,{"$f":"RANK(AG35,$C35:$BF35)*AG39","v":0},null,null,{"$f":"RANK(AJ35,$C35:$BF35)*AJ39","v":0},null,null,{"$f":"RANK(AM35,$C35:$BF35)*AM39","v":0},null,null,{"$f":"RANK(AP35,$C35:$BF35)*AP39","v":0},null,null,{"$f":"RANK(AS35,$C35:$BF35)*AS39","v":0},null,null,{"$f":"RANK(AV35,$C35:$BF35)*AV39","v":0},null,null,{"$f":"RANK(AY35,$C35:$BF35)*AY39","v":0},null,null,{"$f":"RANK(BB35,$C35:$BF35)*BB39","v":0},null,null,{"$f":"RANK(BE35,$C35:$BF35)*BE39","v":0}]
[null,null,{"$f":"SUM(C36:C38)","v":-999999900},null,null,{"$f":"SUM(F36:F38)","v":-999999900},null,null,{"$f":"SUM(I36:I38)","v":-999999900},null,null,{"$f":"SUM(L36:L38)","v":-999999900},null,null,{"$f":"SUM(O36:O38)","v":-999999900},null,null,{"$f":"SUM(R36:R38)","v":-999999900},null,null,{"$f":"SUM(U36:U38)","v":-999999900},null,null,{"$f":"SUM(X36:X38)","v":-999999900},null,null,{"$f":"SUM(AA36:AA38)","v":-999999900},null,null,{"$f":"SUM(AD36:AD38)","v":-999999900},null,null,{"$f":"SUM(AG36:AG38)","v":-999999900},null,null,{"$f":"SUM(AJ36:AJ38)","v":-999999998},null,null,{"$f":"SUM(AM36:AM38)","v":-999999998},null,null,{"$f":"SUM(AP36:AP38)","v":-999999998},null,null,{"$f":"SUM(AS36:AS38)","v":-999999998},null,null,{"$f":"SUM(AV36:AV38)","v":-999999998},null,null,{"$f":"SUM(AY36:AY38)","v":-999999900},null,null,{"$f":"SUM(BB36:BB38)","v":-9999998},null,null,{"$f":"SUM(BE36:BE38)","v":-9999998}]
[null,null,{"$f":"+D40","v":0},null,null,{"$f":"+G40","v":0},null,null,{"$f":"+J40","v":0},null,null,{"$f":"+M40","v":0},null,null,{"$f":"+P40","v":0},null,null,{"$f":"+S40","v":0},null,null,{"$f":"+V40","v":0},null,null,{"$f":"+Y40","v":0},null,null,{"$f":"+AB40","v":0},null,null,{"$f":"+AE40","v":0},null,null,{"$f":"+AH40","v":0},null,null,{"$f":"+AK40","v":0},null,null,{"$f":"+AN40","v":0},null,null,{"$f":"+AQ40","v":0},null,null,{"$f":"+AT40","v":0},null,null,{"$f":"+AW40","v":0},null,null,{"$f":"+AZ40","v":0},null,null,{"$f":"+BC40","v":0},null,null,{"$f":"+BF40","v":0}]
[null,null,{"$f":"+C41*100","v":100},null,null,{"$f":"+F41*100","v":100},null,null,{"$f":"+I41*100","v":100},null,null,{"$f":"+L41*100","v":100},null,null,{"$f":"+O41*100","v":100},null,null,{"$f":"+R41*100","v":100},null,null,{"$f":"+U41*100","v":100},null,null,{"$f":"+X41*100","v":100},null,null,{"$f":"+AA41*100","v":100},null,null,{"$f":"+AD41*100","v":100},null,null,{"$f":"+AG41*100","v":100},null,null,{"$f":"+AJ41*2","v":2},null,null,{"$f":"+AM41*2","v":2},null,null,{"$f":"+AP41*2","v":2},null,null,{"$f":"+AS41*2","v":2},null,null,{"$f":"+AV41*2","v":2},null,null,{"$f":"+AY41*100","v":100},null,null,{"$f":"+BB41*2","v":2},null,null,{"$f":"+BE41*2","v":2}]
[null,null,{"$f":"IF(D40-$A3/2<0,-1000000000,C40*C39*100000+C40)","v":-1000000000},null,null,{"$f":"IF(G40-$A3/2<0,-1000000000,F40*F39*100000+F40)","v":-1000000000},null,null,{"$f":"IF(J40-$A3/2<0,-1000000000,I40*I39*100000+I40)","v":-1000000000},null,null,{"$f":"IF(M40-$A3/2<0,-1000000000,L40*L39*100000+L40)","v":-1000000000},null,null,{"$f":"IF(P40-$A3/2<0,-1000000000,O40*O39*100000+O40)","v":-1000000000},null,null,{"$f":"IF(S40-$A3/2<0,-1000000000,R40*R39*100000+R40)","v":-1000000000},null,null,{"$f":"IF(V40-$A3/2<0,-1000000000,U40*U39*100000+U40)","v":-1000000000},null,null,{"$f":"IF(Y40-$A3/2<0,-1000000000,X40*X39*100000+X40)","v":-1000000000},null,null,{"$f":"IF(AB40-$A3/2<0,-1000000000,AA40*AA39*100000+AA40)","v":-1000000000},null,null,{"$f":"IF(AE40-$A3/2<0,-1000000000,AD40*AD39*100000+AD40)","v":-1000000000},null,null,{"$f":"IF(AH40-$A3/2<0,-1000000000,AG40*AG39*100000+AG40)","v":-1000000000},null,null,{"$f":"IF(AK40-$A3/2<0,-1000000000,AJ40*AJ39*100000+AJ40)","v":-1000000000},null,null,{"$f":"IF(AN40-$A3/2<0,-1000000000,AM40*AM39*100000+AM40)","v":-1000000000},null,null,{"$f":"IF(AQ40-$A3/2<0,-1000000000,AP40*AP39*100000+AP40)","v":-1000000000},null,null,{"$f":"IF(AT40-$A3/2<0,-1000000000,AS40*AS39*100000+AS40)","v":-1000000000},null,null,{"$f":"IF(AW40-$A3/2<0,-1000000000,AV40*AV39*100000+AV40)","v":-1000000000},null,null,{"$f":"IF(AZ40-$A3/2<0,-1000000000,AY40*AY39*100000+AY40)","v":-1000000000},null,null,{"$f":"IF(BC40-$A3/2<0,-10000000,BB40*BB39*100000+BB40)","v":-10000000},null,null,{"$f":"IF(BF40-$A3/2<0,-10000000,BE40*BE39*100000+BE40)","v":-10000000}]
["Classificats",{"$f":"SUM(C39:BE39)","v":0},{"$f":"IF(D40>=$A3/2,1,0)","v":0},null,null,{"$f":"IF(G40>=$A3/2,1,0)","v":0},null,null,{"$f":"IF(J40>=$A3/2,1,0)","v":0},null,null,{"$f":"IF(M40>=$A3/2,1,0)","v":0},null,null,{"$f":"IF(P40>=$A3/2,1,0)","v":0},null,null,{"$f":"IF(S40>=$A3/2,1,0)","v":0},null,null,{"$f":"IF(V40>=$A3/2,1,0)","v":0},null,null,{"$f":"IF(Y40>=$A3/2,1,0)","v":0},null,null,{"$f":"IF(AB40>=$A3/2,1,0)","v":0},null,null,{"$f":"IF(AE40>=$A3/2,1,0)","v":0},null,null,{"$f":"IF(AH40>=$A3/2,1,0)","v":0},null,null,{"$f":"IF(AK40>=$A3/2,1,0)","v":0},null,null,{"$f":"IF(AN40>=$A3/2,1,0)","v":0},null,null,{"$f":"IF(AQ40>=$A3/2,1,0)","v":0},null,null,{"$f":"IF(AT40>=$A3/2,1,0)","v":0},null,null,{"$f":"IF(AW40>=$A3/2,1,0)","v":0},null,null,{"$f":"IF(AZ40>=$A3/2,1,0)","v":0},null,null,{"$f":"IF(BC40>=$A3/2,1,0)","v":0},null,null,{"$f":"IF(BF40>=$A3/2,1,0)","v":0}]
[null,null,{"$f":"IF(SUM(C45:C240)<-1000,-100000000,SUM(C45:C240))","v":-100000000},{"$f":"COUNT(D45:D240)","v":0},null,{"$f":"IF(SUM(F45:F240)<-1000,-100000000,SUM(F45:F240))","v":-100000000},{"$f":"COUNT(G45:G240)","v":0},null,{"$f":"IF(SUM(I45:I240)<-1000,-100000000,SUM(I45:I240))","v":-100000000},{"$f":"COUNT(J45:J240)","v":0},null,{"$f":"IF(SUM(L45:L240)<-1000,-100000000,SUM(L45:L240))","v":-100000000},{"$f":"COUNT(M45:M240)","v":0},null,{"$f":"IF(SUM(O45:O240)<-1000,-100000000,SUM(O45:O240))","v":-100000000},{"$f":"COUNT(P45:P240)","v":0},null,{"$f":"IF(SUM(R45:R240)<-1000,-100000000,SUM(R45:R240))","v":-100000000},{"$f":"COUNT(S45:S240)","v":0},null,{"$f":"IF(SUM(U45:U240)<-1000,-100000000,SUM(U45:U240))","v":-100000000},{"$f":"COUNT(V45:V240)","v":0},null,{"$f":"IF(SUM(X45:X240)<-1000,-100000000,SUM(X45:X240))","v":-100000000},{"$f":"COUNT(Y45:Y240)","v":0},null,{"$f":"IF(SUM(AA45:AA240)<-1000,-100000000,SUM(AA45:AA240))","v":-100000000},{"$f":"COUNT(AB45:AB240)","v":0},null,{"$f":"IF(SUM(AD45:AD240)<-1000,-100000000,SUM(AD45:AD240))","v":-100000000},{"$f":"COUNT(AE45:AE240)","v":0},null,{"$f":"IF(SUM(AG45:AG240)<-1000,-100000000,SUM(AG45:AG240))","v":-100000000},{"$f":"COUNT(AH45:AH240)","v":0},null,{"$f":"IF(SUM(AJ45:AJ240)<-1000,-100000000,SUM(AJ45:AJ240))","v":-100000000},{"$f":"COUNT(AK45:AK240)","v":0},null,{"$f":"IF(SUM(AM45:AM240)<-1000,-100000000,SUM(AM45:AM240))","v":-100000000},{"$f":"COUNT(AN45:AN240)","v":0},null,{"$f":"IF(SUM(AP45:AP240)<-1000,-100000000,SUM(AP45:AP240))","v":-100000000},{"$f":"COUNT(AQ45:AQ240)","v":0},null,{"$f":"IF(SUM(AS45:AS240)<-1000,-100000000,SUM(AS45:AS240))","v":-100000000},{"$f":"COUNT(AT45:AT240)","v":0},null,{"$f":"IF(SUM(AV45:AV240)<-1000,-100000000,SUM(AV45:AV240))","v":-100000000},{"$f":"COUNT(AW45:AW240)","v":0},null,{"$f":"IF(SUM(AY45:AY240)<-1000,-100000000,SUM(AY45:AY240))","v":-100000000},{"$f":"COUNT(AZ45:AZ240)","v":0},null,{"$f":"IF(SUM(BB45:BB240)<-1000,-100000000,SUM(BB45:BB240))","v":-100000000},{"$f":"COUNT(BC45:BC240)","v":0},null,{"$f":"IF(SUM(BE45:BE240)<-1000,-100000000,SUM(BE45:BE240))","v":-100000000},{"$f":"COUNT(BF45:BF240)","v":0},null,null,"A"]
[null,null,{"$f":"+D41-E41","v":1},{"$f":"SUM(D45:D240)","v":0},{"$f":"SUM(E45:E240)","v":-1},{"$f":"+G41-H41","v":1},{"$f":"SUM(G45:G240)","v":0},{"$f":"SUM(H45:H240)","v":-1},{"$f":"+J41-K41","v":1},{"$f":"SUM(J45:J240)","v":0},{"$f":"SUM(K45:K240)","v":-1},{"$f":"+M41-N41","v":1},{"$f":"SUM(M45:M240)","v":0},{"$f":"SUM(N45:N240)","v":-1},{"$f":"+P41-Q41","v":1},{"$f":"SUM(P45:P240)","v":0},{"$f":"SUM(Q45:Q240)","v":-1},{"$f":"+S41-T41","v":1},{"$f":"SUM(S45:S240)","v":0},{"$f":"SUM(T45:T240)","v":-1},{"$f":"+V41-W41","v":1},{"$f":"SUM(V45:V240)","v":0},{"$f":"SUM(W45:W240)","v":-1},{"$f":"+Y41-Z41","v":1},{"$f":"SUM(Y45:Y240)","v":0},{"$f":"SUM(Z45:Z240)","v":-1},{"$f":"+AB41-AC41","v":1},{"$f":"SUM(AB45:AB240)","v":0},{"$f":"SUM(AC45:AC240)","v":-1},{"$f":"+AE41-AF41","v":1},{"$f":"SUM(AE45:AE240)","v":0},{"$f":"SUM(AF45:AF240)","v":-1},{"$f":"+AH41-AI41","v":1},{"$f":"SUM(AH45:AH240)","v":0},{"$f":"SUM(AI45:AI240)","v":-1},{"$f":"+AK41-AL41","v":1},{"$f":"SUM(AK45:AK240)","v":0},{"$f":"SUM(AL45:AL240)","v":-1},{"$f":"+AN41-AO41","v":1},{"$f":"SUM(AN45:AN240)","v":0},{"$f":"SUM(AO45:AO240)","v":-1},{"$f":"+AQ41-AR41","v":1},{"$f":"SUM(AQ45:AQ240)","v":0},{"$f":"SUM(AR45:AR240)","v":-1},{"$f":"+AT41-AU41","v":1},{"$f":"SUM(AT45:AT240)","v":0},{"$f":"SUM(AU45:AU240)","v":-1},{"$f":"+AW41-AX41","v":1},{"$f":"SUM(AW45:AW240)","v":0},{"$f":"SUM(AX45:AX240)","v":-1},{"$f":"+AZ41-BA41","v":1},{"$f":"SUM(AZ45:AZ240)","v":0},{"$f":"SUM(BA45:BA240)","v":-1},{"$f":"+BC41-BD41","v":1},{"$f":"SUM(BC45:BC240)","v":0},{"$f":"SUM(BD45:BD240)","v":-1},{"$f":"+BF41-BG41","v":1},{"$f":"SUM(BF45:BF240)","v":0},{"$f":"SUM(BG45:BG240)","v":-1},null,"B"]
[null,null,null,null,null,null,null,null,null,null,null,null,null,null,null,null,null,null,null,null,null,null,null,null,null,null,null,null,null,null,null,null,null,null,null,null,null,null,null,null,null,null,null,null,null,null,null,null,null,null,null,null,null,null,null,null,null,null,null,{"$f":"MAX(BI45:BI104)","v":0}]
[null,"Nº partida ","Pablo",null,null,"Pepe",null,null,"Jordi",null,null,"MªJosé",null,null,"Pol",null,null,"Sergi",null,null,"Carles",null,null,"Mariajo",null,null,"Iglesias",null,null,"Martín",null,null,"Xavi",null,null,"Salvadó",null,null,"Alfonso",null,null,"Taberner",null,null,"Goretti",null,null,"Jimmy",null,null,"Mercè",null,null,"Jorge",null,null,"Ester",null,null,{"$f":"COUNT(BH45:BH255)","v":0},"A","B","C"]
[null,"5 copes","Premi","Punts",null,"Premi","Punts",null,"Premi","Punts",null,"Premi","Punts",null,"Premi","Punts",null,"Premi","Punts",null,"Premi","Punts",null,"Premi","Punts",null,"Premi","Punts",null,"Premi","Punts",null,"Premi","Punts",null,"Premi","Punts",null,"Premi","Punts",null,"Premi","Punts",null,"Premi","Punts",null,"Premi","Punts",null,"Premi","Punts",null,"Premi","Punts",null,"Premi","Punts",null,"Data","Timba"]
[1,null,-10000,null,-1,-10000,null,-1,-10000,null,-1,-10000,null,-1,-10000,null,-1,-10000,null,-1,-10000,null,-1,-10000,null,-1,-10000,null,-1,-10000,null,-1,-10000,null,-1,-10000,null,-1,-10000,null,-1,-10000,null,-1,-10000,null,-1,-10000,null,-1,-10000,null,-1,-10000,null,-1,-10000,null,-1,null,null,{"$f":"+BE45+AJ45+AG45+AD45+AA45+X45+U45+R45+O45+L45+I45+F45+C45+AM45+AP45+AS45+AV45+AY45+BB45","v":-190000},0,-19,{"$f":"+BK45-BL45","v":19},{"$f":"COUNT(C45:BG45)/3","v":12.666666666666666},{"$f":"+BJ45/BN45","v":-15000}]
[{"$f":"+A45+1","v":2},null,null,null,null,null,null,null,null,null,null,null,null,null,null,null,null,null,null,null,null,null,null,null,null,null,null,null,null,null,null,null,null,null,null,null,null,null,null,null,null,null,null,null,null,null,null,null,null,null,null,null,null,null,null,null,null,null,null,null,null,0,0,0,{"$f":"+BK46-BL46","v":0},{"$f":"COUNT(C46:BG46)/3","v":0},{"$f":"+BJ46/BN46","v":{"$error":"#DIV/0!"}}]
[{"$f":"+A46+1","v":3},null,null,null,null,null,null,null,null,null,null,null,null,null,null,null,null,null,null,null,null,null,null,null,null,null,null,null,null,null,null,null,null,null,null,null,null,null,null,null,null,null,null,null,null,null,null,null,null,null,null,null,null,null,null,null,null,null,null,null,null,0,0,0,{"$f":"+BK47-BL47","v":0},{"$f":"COUNT(C47:BG47)/3","v":0},{"$f":"+BJ47/BN47","v":{"$error":"#DIV/0!"}}]
[4,null,null,null,null,null,null,null,null,null,null,null,null,null,null,null,null,null,null,null,null,null,null,null,null,null,null,null,null,null,null,null,null,null,null,null,null,null,null,null,null,null,null,null,null,null,null,null,null,null,null,null,null,null,null,null,null,null,null,null,null,0,0,0,{"$f":"+BK48-BL48","v":0},{"$f":"COUNT(C48:BG48)/3","v":0},{"$f":"+BJ48/BN48","v":{"$error":"#DIV/0!"}}]
[5]
[6]
[7]
[8]
[9]
[10]
[11]
[12]
[13]
[14]
[15]
[16]
[17]
[18]
[19]
[20]
[21]
[22]
[23]
[24]
[25]
[26]
[27]
[28]
[29]
[30]
[31]
[32]
[33]
[34]
[35]
[36]
[37]
[38]
[39]
[40]
[41]
[42]
[43]
[44]
[45]
[{"$f":"+A89+1","v":46}]
[47]
[48]
[49]
[50]
[51]
[52]
[53]
[54]
[55]
[56]
[57]
[58]
[59]
[60]
[61]
[62]
[63]
[64]
[65]
[66]
[67]
[68]
[69]
[70]
[71]
[72]
[{"$f":"+A116+1","v":73}]
[74]
[75]
[76]
[77]
[78]
[79]
[80]
[81]
[82]
[83]
[84]
[85]
[86]
[87]
[88]
[89]
[90]
[91]
[92]
[93]
[94]
[95]
[96]
[97]
[98]
[99]
[100]
[101]
[102]
[103]
[104]
[105]
[106]
[107]
[108]
[109]
[110]
[111]
[112]
[113]
[114]
[115]
[116]
[117]
[118]
[119]
[120]
[121]
[122]
[123]
[124]
[125]
[126]
[127]
[128]
[129]
[130]
[131]
[132]
[133]
[134]
[135]
[136]
[{"$f":"+A180+1","v":137}]
[{"$f":"+A181+1","v":138}]
[{"$f":"+A182+1","v":139}]
[{"$f":"+A183+1","v":140}]
[141]
[142]
[143]
[144]
[145]
[146]
[147]
[148]
[149]
[150]
[151]
[152]
[153]
[154]
[155]
[156]
[157]
[158]
[159]
[160]
[161]
[162]
[163]
[164]
[165]
[166]
[167]
[168]
[169]
[170]
[171]
[172]
[173]
[174]
[175]
[176]
[177]
[178]
[179]
[180]
[181]
[182]
[183]
[184]
[185]
[186]
[187]
[188]
[189]
[190]
[191]
[192]
[193]
[194]
[195]
[196]

{"sheet":"Poker D","index":33,"n_rows":128,"n_cols":35,"rows_kept":128,"cut":false,"hidden":false,"merged":[[38,24,38,25],[38,26,38,27],[38,28,38,29],[38,16,38,17],[38,18,38,19],[38,20,38,21],[38,22,38,23],[38,8,38,9],[38,10,38,11],[38,12,38,13],[38,14,38,15],[38,1,39,1],[38,2,38,3],[38,4,38,5],[38,6,38,7]]}
["POKER D"]
["Mes"]
[{"$f":"+GENERAL!B6","v":12},null,{"$f":"SUM(C5:C7)","v":-300000000}]
[null,null,"Premi","Punts","Partides","General"]
[1,"Mercè",{"$f":"+Y$36","v":-100000000},{"$f":"+Z$37","v":1E-4},{"$f":"+Z$36","v":0},{"$f":"+Y$22","v":0},{"$f":"IF(E5<A$3/2,-1,1)*8000+C5*100+D5+E5/100","v":-10000007999.999901}]
[2,"Carles",{"$f":"+O$36","v":-100000000},{"$f":"+P$37","v":1E-4},{"$f":"+P$36","v":0},{"$f":"+O$22","v":0},-10000007999.999901]
[3,"Jordi",{"$f":"+G$36","v":-100000000},{"$f":"+H$37","v":1E-4},{"$f":"+H$36","v":0},{"$f":"+G$22","v":0},-10000007999.999901]
[4,"Iglesias",{"$f":"+S$36","v":-100000000},{"$f":"+T$37","v":1E-4},{"$f":"+T$36","v":0},{"$f":"+S$22","v":0},-10000007999.999901]
[5,"Mariajo",{"$f":"+Q$36","v":-100000000},{"$f":"+R$37","v":1E-4},{"$f":"+R$36","v":0},{"$f":"+Q$22","v":0},-10000007999.999901]
[6,"Sergi",{"$f":"+M$36","v":-100000000},{"$f":"+N$37","v":1E-4},{"$f":"+N$36","v":0},{"$f":"+M$22","v":0},-10000007999.999901]
[7,"Xavi",{"$f":"+W$36","v":-100000000},{"$f":"+X$37","v":1E-4},{"$f":"+X$36","v":0},{"$f":"+W$22","v":0},-10000007999.999901]
[8,"Ester",{"$f":"+K$36","v":-100000000},{"$f":"+L$37","v":1E-4},{"$f":"+L$36","v":0},{"$f":"+K$22","v":0},-10000007999.999901]
[9,"Goretti",{"$f":"+C$36","v":-100000000},{"$f":"+D$37","v":1E-4},{"$f":"+D$36","v":0},{"$f":"+C$22","v":0},-10000007999.999901]
[10,"MªJosé",{"$f":"+I$36","v":-100000000},{"$f":"+J$37","v":1E-4},{"$f":"+J$36","v":0},{"$f":"+I$22","v":0},-10000007999.999901]
[11,"Marga",{"$f":"+AC$36","v":-100000000},{"$f":"+AD$37","v":1E-4},{"$f":"+AD$36","v":0},{"$f":"+AC$22","v":0},-10000007999.999901]
[12,"Pepe",{"$f":"+E$36","v":-100000000},{"$f":"+F$37","v":1E-4},{"$f":"+F$36","v":0},{"$f":"+E$22","v":0},-10000007999.999901]
[13,"Sylvain",{"$f":"+U$36","v":-100000000},{"$f":"+V$37","v":1E-4},{"$f":"+V$36","v":0},{"$f":"+U$22","v":0},-10000007999.999901]
[14,"Taberner",{"$f":"+AA$36","v":-100000000},{"$f":"+AB$37","v":1E-4},{"$f":"+AB$36","v":0},{"$f":"+AA$22","v":0},-10000007999.999901]
[]
[]
[]
[null,"General",{"$f":"+C23*C24","v":0},{"$f":"+D23*D24","v":0},0,0,{"$f":"+G23*G24","v":0},0,0,0,0,0,0,0,0,0,0,0,{"$f":"+S23*S24","v":0},0,0,0,0,0,{"$f":"+Y23*Y24","v":0},0,{"$f":"+AA23*AA24","v":0},{"$f":"+AB23*AB24","v":0},0,0]
[null,null,{"$f":"IF($B35>3,1,0)","v":0},{"$f":"IF($B35>3,1,0)","v":0},0,0,{"$f":"IF($B35>3,1,0)","v":0},0,0,0,0,0,0,0,0,0,0,0,0,0,0,0,0,0,0,0,{"$f":"IF($B35>3,1,0)","v":0},{"$f":"IF($B35>3,1,0)","v":0},0,0]
[null,null,{"$f":"MAX(C25:C29)","v":0},{"$f":"+D36","v":0},{"$f":"MAX(E25:E29)","v":0},{"$f":"+F36","v":0},{"$f":"MAX(G25:G29)","v":0},{"$f":"+H36","v":0},{"$f":"MAX(I25:I29)","v":0},{"$f":"+J36","v":0},{"$f":"MAX(K25:K29)","v":0},{"$f":"+L36","v":0},{"$f":"MAX(M25:M29)","v":0},{"$f":"+N36","v":0},{"$f":"MAX(O25:O29)","v":0},{"$f":"+P36","v":0},{"$f":"MAX(Q25:Q29)","v":0},{"$f":"+R36","v":0},{"$f":"MAX(S25:S29)","v":0},{"$f":"+T36","v":0},{"$f":"MAX(U25:U29)","v":0},{"$f":"+V36","v":0},{"$f":"MAX(W25:W29)","v":0},{"$f":"+X36","v":0},{"$f":"MAX(Y25:Y29)","v":0},{"$f":"+Z36","v":0},{"$f":"MAX(AA25:AA29)","v":0},{"$f":"+AB36","v":0},{"$f":"MAX(AC25:AC29)","v":0},{"$f":"+AD36","v":0}]
[null,null,{"$f":"IF(C$30=5,5,0)","v":0},null,{"$f":"IF(E$30=5,5,0)","v":0},null,{"$f":"IF(G$30=5,5,0)","v":0},null,{"$f":"IF(I$30=5,5,0)","v":0},null,{"$f":"IF(K$30=5,5,0)","v":0},null,{"$f":"IF(M$30=5,5,0)","v":0},null,{"$f":"IF(O$30=5,5,0)","v":0},null,{"$f":"IF(Q$30=5,5,0)","v":0},null,{"$f":"IF(S$30=5,5,0)","v":0},null,{"$f":"IF(U$30=5,5,0)","v":0},null,{"$f":"IF(W$30=5,5,0)","v":0},null,{"$f":"IF(Y$30=5,5,0)","v":0},null,{"$f":"IF(AA$30=5,5,0)","v":0},null,{"$f":"IF(AC$30=5,5,0)","v":0}]
[null,null,{"$f":"IF(C$30=4,10,0)","v":0},null,{"$f":"IF(E$30=4,10,0)","v":0},null,{"$f":"IF(G$30=4,10,0)","v":0},null,{"$f":"IF(I$30=4,10,0)","v":0},null,{"$f":"IF(K$30=4,10,0)","v":0},null,{"$f":"IF(M$30=4,10,0)","v":0},null,{"$f":"IF(O$30=4,10,0)","v":0},null,{"$f":"IF(Q$30=4,10,0)","v":0},null,{"$f":"IF(S$30=4,10,0)","v":0},null,{"$f":"IF(U$30=4,10,0)","v":0},null,{"$f":"IF(W$30=4,10,0)","v":0},null,{"$f":"IF(Y$30=4,10,0)","v":0},null,{"$f":"IF(AA$30=4,10,0)","v":0},null,{"$f":"IF(AC$30=4,10,0)","v":0}]
[null,null,{"$f":"IF(C$30=3,20,0)","v":0},null,{"$f":"IF(E$30=3,20,0)","v":0},null,{"$f":"IF(G$30=3,20,0)","v":0},null,{"$f":"IF(I$30=3,20,0)","v":0},null,{"$f":"IF(K$30=3,20,0)","v":0},null,{"$f":"IF(M$30=3,20,0)","v":0},null,{"$f":"IF(O$30=3,20,0)","v":0},null,{"$f":"IF(Q$30=3,20,0)","v":0},null,{"$f":"IF(S$30=3,20,0)","v":0},null,{"$f":"IF(U$30=3,20,0)","v":0},null,{"$f":"IF(W$30=3,20,0)","v":0},null,{"$f":"IF(Y$30=3,20,0)","v":0},null,{"$f":"IF(AA$30=3,20,0)","v":0},null,{"$f":"IF(AC$30=3,20,0)","v":0}]
[null,null,{"$f":"IF(C$30=2,40,0)","v":0},null,{"$f":"IF(E$30=2,40,0)","v":0},null,{"$f":"IF(G$30=2,40,0)","v":0},null,{"$f":"IF(I$30=2,40,0)","v":0},null,{"$f":"IF(K$30=2,40,0)","v":0},null,{"$f":"IF(M$30=2,40,0)","v":0},null,{"$f":"IF(O$30=2,40,0)","v":0},null,{"$f":"IF(Q$30=2,40,0)","v":0},null,{"$f":"IF(S$30=2,40,0)","v":0},null,{"$f":"IF(U$30=2,40,0)","v":0},null,{"$f":"IF(W$30=2,40,0)","v":0},null,{"$f":"IF(Y$30=2,40,0)","v":0},null,{"$f":"IF(AA$30=2,40,0)","v":0},null,{"$f":"IF(AC$30=2,40,0)","v":0}]
[null,null,{"$f":"IF(C$30=1,80,0)","v":0},null,{"$f":"IF(E$30=1,80,0)","v":0},null,{"$f":"IF(G$30=1,80,0)","v":0},null,{"$f":"IF(I$30=1,80,0)","v":0},null,{"$f":"IF(K$30=1,80,0)","v":0},null,{"$f":"IF(M$30=1,80,0)","v":0},null,{"$f":"IF(O$30=1,80,0)","v":0},null,{"$f":"IF(Q$30=1,80,0)","v":0},null,{"$f":"IF(S$30=1,80,0)","v":0},null,{"$f":"IF(U$30=1,80,0)","v":0},null,{"$f":"IF(W$30=1,80,0)","v":0},null,{"$f":"IF(Y$30=1,80,0)","v":0},null,{"$f":"IF(AA$30=1,80,0)","v":0},null,{"$f":"IF(AC$30=1,80,0)","v":0}]
[null,null,{"$f":"RANK(C31,$C31:$BF31)*C35","v":0},null,{"$f":"RANK(E31,$C31:$BF31)*E35","v":0},null,{"$f":"RANK(G31,$C31:$BF31)*G35","v":0},null,{"$f":"RANK(I31,$C31:$BF31)*I35","v":0},null,{"$f":"RANK(K31,$C31:$BF31)*K35","v":0},null,{"$f":"RANK(M31,$C31:$BF31)*M35","v":0},null,{"$f":"RANK(O31,$C31:$BF31)*O35","v":0},null,{"$f":"RANK(Q31,$C31:$BF31)*Q35","v":0},null,{"$f":"RANK(S31,$C31:$BF31)*S35","v":0},null,{"$f":"RANK(U31,$C31:$BF31)*U35","v":0},null,{"$f":"RANK(W31,$C31:$BF31)*W35","v":0},null,{"$f":"RANK(Y31,$C31:$BF31)*Y35","v":0},null,{"$f":"RANK(AA31,$C31:$BF31)*AA35","v":0},null,{"$f":"RANK(AC31,$C31:$BF31)*AC35","v":0}]
[null,null,{"$f":"SUM(C32:C34)","v":-100999999.98999999},null,{"$f":"SUM(E32:E34)","v":-100999999.98999999},null,{"$f":"SUM(G32:G34)","v":-100999999.98999999},null,{"$f":"SUM(I32:I34)","v":-100999999.98999999},null,{"$f":"SUM(K32:K34)","v":-100999999.98999999},null,{"$f":"SUM(M32:M34)","v":-100999999.98999999},null,{"$f":"SUM(O32:O34)","v":-100999999.98999999},null,{"$f":"SUM(Q32:Q34)","v":-100999999.98999999},null,{"$f":"SUM(S32:S34)","v":-100999999.98999999},null,{"$f":"SUM(U32:U34)","v":-100999999.98999999},null,{"$f":"SUM(W32:W34)","v":-100999999.98999999},null,{"$f":"SUM(Y32:Y34)","v":-100999999.98999999},null,{"$f":"SUM(AA32:AA34)","v":-100999999.98999999},null,{"$f":"SUM(AC32:AC34)","v":-100999999.98999999}]
[null,null,{"$f":"+D36","v":0},null,{"$f":"+F36","v":0},null,{"$f":"+H36","v":0},null,{"$f":"+J36","v":0},null,{"$f":"+L36","v":0},null,{"$f":"+N36","v":0},null,{"$f":"+P36","v":0},null,{"$f":"+R36","v":0},null,{"$f":"+T36","v":0},null,{"$f":"+V36","v":0},null,{"$f":"+X36","v":0},null,{"$f":"+Z36","v":0},null,{"$f":"+AB36","v":0},null,{"$f":"+AD36","v":0}]
[null,null,{"$f":"D37*100","v":0.01},null,{"$f":"F37*100","v":0.01},null,{"$f":"H37*100","v":0.01},null,{"$f":"J37*100","v":0.01},null,{"$f":"L37*100","v":0.01},null,{"$f":"N37*100","v":0.01},null,{"$f":"P37*100","v":0.01},null,{"$f":"R37*100","v":0.01},null,{"$f":"T37*100","v":0.01},null,{"$f":"V37*100","v":0.01},null,{"$f":"X37*100","v":0.01},null,{"$f":"Z37*100","v":0.01},null,{"$f":"AB37*100","v":0.01},null,{"$f":"AD37*100","v":0.01}]
[null,null,{"$f":"IF(C35=1,C36*C35*1000+C36,-1000000+C36)","v":-101000000},null,{"$f":"IF(E35=1,E36*E35*1000+E36,-1000000+E36)","v":-101000000},null,{"$f":"IF(G35=1,G36*G35*1000+G36,-1000000+G36)","v":-101000000},null,{"$f":"IF(I35=1,I36*I35*1000+I36,-1000000+I36)","v":-101000000},null,{"$f":"IF(K35=1,K36*K35*1000+K36,-1000000+K36)","v":-101000000},null,{"$f":"IF(M35=1,M36*M35*1000+M36,-1000000+M36)","v":-101000000},null,{"$f":"IF(O35=1,O36*O35*1000+O36,-1000000+O36)","v":-101000000},null,{"$f":"IF(Q35=1,Q36*Q35*1000+Q36,-1000000+Q36)","v":-101000000},null,{"$f":"IF(S35=1,S36*S35*1000+S36,-1000000+S36)","v":-101000000},null,{"$f":"IF(U35=1,U36*U35*1000+U36,-1000000+U36)","v":-101000000},null,{"$f":"IF(W35=1,W36*W35*1000+W36,-1000000+W36)","v":-101000000},null,{"$f":"IF(Y35=1,Y36*Y35*1000+Y36,-1000000+Y36)","v":-101000000},null,{"$f":"IF(AA35=1,AA36*AA35*1000+AA36,-1000000+AA36)","v":-101000000},null,{"$f":"IF(AC35=1,AC36*AC35*1000+AC36,-1000000+AC36)","v":-101000000}]
["Classificats",{"$f":"SUM(C35:AC35)","v":0},{"$f":"IF(D36>=$A3/2,1,0)","v":0},null,{"$f":"IF(F36>=$A3/2,1,0)","v":0},null,{"$f":"IF(H36>=$A3/2,1,0)","v":0},null,{"$f":"IF(J36>=$A3/2,1,0)","v":0},null,{"$f":"IF(L36>=$A3/2,1,0)","v":0},null,{"$f":"IF(N36>=$A3/2,1,0)","v":0},null,{"$f":"IF(P36>=$A3/2,1,0)","v":0},null,{"$f":"IF(R36>=$A3/2,1,0)","v":0},null,{"$f":"IF(T36>=$A3/2,1,0)","v":0},null,{"$f":"IF(V36>=$A3/2,1,0)","v":0},null,{"$f":"IF(X36>=$A3/2,1,0)","v":0},null,{"$f":"IF(Z36>=$A3/2,1,0)","v":0},null,{"$f":"IF(AB36>=$A3/2,1,0)","v":0},null,{"$f":"IF(AD36>=$A3/2,1,0)","v":0}]
[null,null,{"$f":"IF(SUM(C41:C213)<-1000,-100000000,SUM(C41:C213))","v":-100000000},{"$f":"COUNT(D41:D213)","v":0},{"$f":"IF(SUM(E41:E213)<-1000,-100000000,SUM(E41:E213))","v":-100000000},{"$f":"COUNT(F41:F213)","v":0},{"$f":"IF(SUM(G41:G213)<-1000,-100000000,SUM(G41:G213))","v":-100000000},{"$f":"COUNT(H41:H213)","v":0},{"$f":"IF(SUM(I41:I213)<-1000,-100000000,SUM(I41:I213))","v":-100000000},{"$f":"COUNT(J41:J213)","v":0},{"$f":"IF(SUM(K41:K213)<-1000,-100000000,SUM(K41:K213))","v":-100000000},{"$f":"COUNT(L41:L213)","v":0},{"$f":"IF(SUM(M41:M213)<-1000,-100000000,SUM(M41:M213))","v":-100000000},{"$f":"COUNT(N41:N213)","v":0},{"$f":"IF(SUM(O41:O213)<-1000,-100000000,SUM(O41:O213))","v":-100000000},{"$f":"COUNT(P41:P213)","v":0},{"$f":"IF(SUM(Q41:Q213)<-1000,-100000000,SUM(Q41:Q213))","v":-100000000},{"$f":"COUNT(R41:R213)","v":0},{"$f":"IF(SUM(S41:S213)<-1000,-100000000,SUM(S41:S213))","v":-100000000},{"$f":"COUNT(T41:T213)","v":0},{"$f":"IF(SUM(U41:U213)<-1000,-100000000,SUM(U41:U213))","v":-100000000},{"$f":"COUNT(V41:V213)","v":0},{"$f":"IF(SUM(W41:W213)<-1000,-100000000,SUM(W41:W213))","v":-100000000},{"$f":"COUNT(X41:X213)","v":0},{"$f":"IF(SUM(Y41:Y213)<-1000,-100000000,SUM(Y41:Y213))","v":-100000000},{"$f":"COUNT(Z41:Z213)","v":0},{"$f":"IF(SUM(AA41:AA213)<-1000,-100000000,SUM(AA41:AA213))","v":-100000000},{"$f":"COUNT(AB41:AB213)","v":0},{"$f":"IF(SUM(AC41:AC213)<-1000,-100000000,SUM(AC41:AC213))","v":-100000000},{"$f":"COUNT(AD41:AD213)","v":0}]
[null,null,null,{"$f":"IF(D36=0,0.0001,AVERAGE(D41:D128))","v":1E-4},null,{"$f":"IF(F36=0,0.0001,AVERAGE(F41:F128))","v":1E-4},null,{"$f":"IF(H36=0,0.0001,AVERAGE(H41:H128))","v":1E-4},null,{"$f":"IF(J36=0,0.0001,AVERAGE(J41:J128))","v":1E-4},null,{"$f":"IF(L36=0,0.0001,AVERAGE(L41:L128))","v":1E-4},null,{"$f":"IF(N36=0,0.0001,AVERAGE(N41:N128))","v":1E-4},null,{"$f":"IF(P36=0,0.0001,AVERAGE(P41:P128))","v":1E-4},null,{"$f":"IF(R36=0,0.0001,AVERAGE(R41:R128))","v":1E-4},null,{"$f":"IF(T36=0,0.0001,AVERAGE(T41:T128))","v":1E-4},null,{"$f":"IF(V36=0,0.0001,AVERAGE(V41:V128))","v":1E-4},null,{"$f":"IF(X36=0,0.0001,AVERAGE(X41:X128))","v":1E-4},null,{"$f":"IF(Z36=0,0.0001,AVERAGE(Z41:Z128))","v":1E-4},null,{"$f":"IF(AB36=0,0.0001,AVERAGE(AB41:AB128))","v":1E-4},null,{"$f":"IF(AD36=0,0.0001,AVERAGE(AD41:AD128))","v":1E-4}]
[null,null,null,null,null,null,null,null,null,null,null,null,null,null,null,null,null,null,null,null,null,null,null,null,null,null,null,null,null,null,{"$f":"MAX(AF41:AF100)","v":0}]
[null,"Comentaris","Goretti",null,"Pepe",null,"Jordi",null,"MªJosé",null,"Ester",null,"Sergi",null,"Carles",null,"Mariajo",null,"Iglesias",null,"Martín",null,"Xavi",null,"Mercè",null,"Taberner",null,"Marga",null,{"$f":"COUNT(AE41:AE128)","v":0},"A","B","C"]
[null,null,"Premi","Punts","Premi","Punts","Premi","Punts","Premi","Punts","Premi","Punts","Premi","Punts","Premi","Punts","Premi","Punts","Premi","Punts","Premi","Punts","Premi","Punts","Premi","Punts","Premi","Punts","Premi","Punts","Data","Timba"]
[1,null,-10000,null,-10000,null,-10000,null,-10000,null,-10000,null,-10000,null,-10000,null,-10000,null,-10000,null,-10000,null,-10000,null,-10000,null,-10000,null,-10000,null,null,null,{"$f":"+AC41+Y41+W41+U41+S41+Q41+O41+M41+K41+I41+G41+E41+C41","v":-130000},{"$f":"COUNT(C41:AD41)/2","v":7},{"$f":"+AG41/AH41","v":-18571.428571428572}]
[{"$f":"+A41+1","v":2},null,null,null,null,null,null,null,null,null,null,null,null,null,null,null,null,null,null,null,null,null,null,null,null,null,null,null,null,null,null,null,{"$f":"+AC42+Y42+W42+U42+S42+Q42+O42+M42+K42+I42+G42+E42+C42+AA42","v":0},0,{"$error":"#DIV/0!"}]
[{"$f":"+A42+1","v":3},null,null,null,null,null,null,null,null,null,null,null,null,null,null,null,null,null,null,null,null,null,null,null,null,null,null,null,null,null,null,null,0,0,{"$error":"#DIV/0!"}]
[4,null,null,null,null,null,null,null,null,null,null,null,null,null,null,null,null,null,null,null,null,null,null,null,null,null,null,null,null,null,null,null,0,0,{"$error":"#DIV/0!"}]
[5,null,null,null,null,null,null,null,null,null,null,null,null,null,null,null,null,null,null,null,null,null,null,null,null,null,null,null,null,null,null,null,0,0,{"$error":"#DIV/0!"}]
[6,null,null,null,null,null,null,null,null,null,null,null,null,null,null,null,null,null,null,null,null,null,null,null,null,null,null,null,null,null,null,null,0,0,{"$error":"#DIV/0!"}]
[7,null,null,null,null,null,null,null,null,null,null,null,null,null,null,null,null,null,null,null,null,null,null,null,null,null,null,null,null,null,null,null,0,0,{"$error":"#DIV/0!"}]
[8]
[9]
[{"$f":"+A49+1","v":10}]
[11]
[12]
[13]
[14]
[15]
[16]
[17]
[18]
[19]
[20]
[21]
[22]
[23]
[24]
[25]
[26]
[27]
[28]
[29]
[30]
[31]
[32]
[33]
[34]
[35]
[36]
[37]
[38]
[39]
[40]
[41]
[42]
[43]
[44]
[45]
[{"$f":"+A85+1","v":46}]
[47]
[48]
[49]
[50]
[51]
[52]
[53]
[54]
[55]
[56]
[57]
[58]
[59]
[60]
[61]
[62]
[63]
[64]
[65]
[66]
[67]
[68]
[69]
[70]
[71]
[72]
[{"$f":"+A112+1","v":73}]
[74]
[75]
[76]
[77]
[78]
[79]
[80]
[81]
[82]
[83]
[84]
[85]
[86]
[87]
[88]